Workbook
Name _A: #REF!
Name _aab42: #REF!
Name _hun1: [1]설계조건!#REF!
Name _hun2: [1]설계조건!#REF!
Name _pa1: #REF!
Name _pa2: #REF!
Name _qs1: [1]설계조건!#REF!
Name _qs12: [1]설계조건!#REF!
Name _qs2: [1]설계조건!#REF!
Name _qs22: [1]설계조건!#REF!
Name _Ted1: #REF!
Name _Ts1: #REF!
Name _wd1: [1]설계조건!#REF!
Name _wd2: [1]설계조건!#REF!
Name \a: #N/A
Name \o: #REF!
Name \p: #REF!
Name \P1: #REF!
Name ㄱㄷ: #REF!
Name ㄱㄷㅇ: #REF!
Name 간지2: [16]간지!#REF!
Name 갑: #REF!
Name 갑: #REF!
Name 강_동바리: [17]수량산출!#REF!
Name 강_비계: [17]수량산출!#REF!
Name 강탄성계수: #REF!
Name 강탄성계수: #REF!
Name 거_3: [17]수량산출!#REF!
Name 거_4: [17]수량산출!#REF!
Name 거_44: [17]수량산출!$R$20
Name 거_6: [17]수량산출!#REF!
Name 거푸집: [18]설계기준!#REF!
Name 거푸집: [19]설계기준!#REF!
Name 건축목공: [20]일위대가!#REF!
Name 경비: #REF!
Name 경비: #REF!
Name 경유: [21]기초단가!$B$32
Name 계: #REF!
Name 계: #REF!
Name 고급: [22]변수!$H$100
Name 고급기능사: [20]일위대가!#REF!
Name 고급기술자: #REF!
Name 고급기술자: #REF!
Name 고급기술자_측량: [21]기초단가!$B$11
Name 고급기술자노무비: '[23]용역비내역-진짜'!#REF!
Name 고급단가: [2]변수!$H$43
Name 고급전체: #REF!
Name 곱: [10]DATE!$I$24:$I$85
Name 곱곱: [24]DATE!$I$24:$I$85
Name 공고공람비: [25]직접경비!#REF!
Name 공기_배관물량: #REF!
Name 공기_배관물량: #REF!
Name 공기변실: #REF!
Name 공기변실: #REF!
Name 공사명: #REF!
Name 공사명: #REF!
Name 공사성격: [26]변수!$E$11
Name 공사성격값: [27]입력!$C$16
Name 공사원가: #REF!
Name 공사원가: #REF!

Sheet 겉지 (1)
A3: 2 0 1 5 년
A5: 충화-구룡간 지방도 2차로 확포장공사 건설사업관리용역
A6: 도 급 내 역 서
A12: ㈜수성엔지니어링

Sheet 결재표지 (1)
A1: 설 계 년 월 일 | B1: 2015년 03월 | C1: 설계자 | D1: 검토자 | E1: 팀장 | F1: 과장 | G1: 소장
F2: 전결
E4: 시설2팀장
A5: 2015년도
A6: 충화~구룡간 지방도 2차로 확포장공사 건설사업관리용역
B8: ○ 건설사업관리기간 | D8: ○ 건설사업관리용역금액
B9: 전 체 | D9: 도 급 액: | E9: =내역서!I33 -> 1779470000
B10: =입력변수!N44 -> 49
A13: ㈜수성엔지니어링

Sheet 겉지
A3: 2 0 1 5 년
A5: 충화-구룡간 지방도 2차로 확포장공사 건설사업관리용역
A6: 설 계 예 산 서
A12: 충청남도종합건설사업소

Sheet 결재표지
A1: 설 계 년 월 일 | B1: 2015년 01월 | C1: 설계자 | D1: 검토자 | E1: 팀장 | F1: 과장 | G1: 소장
F2: 전결
E4: 시설2팀장
A5: 2015년도
A6: 충화~구룡간 지방도 2차로 확포장공사 건설사업관리용역
B8: ○ 건설사업관리기간 | D8: ○ 건설사업관리용역금액
B9: 전 체 | D9: 도 급 액: | E9: =내역서!I33 -> 1779470000
B10: =입력변수!N44 -> 49
A13: 충청남도종합건설사업소

Sheet 내역서
A1: 명 칭 | B1: 규 격 | F1: 수 량 | G1: 단 위 | H1: 단 가 | I1: 금 액 | J1: 비 고
A2: =+겉지!A5 -> 충화-구룡간 지방도 2차로 확포장공사 건설사업관리용역
A3: 1. 직 접 인 건 비 | F3: 1 | G3: 식 | I3: =I19 -> 705440184
A4: 2. 제 경 비 | F4: 1 | G4: 식 | I4: =I22 -> 534864747
A5: 3. 기 술 료 | F5: 1 | G5: 식 | I5: =I24 -> 123988873
A6: 4. 직 접 경 비 | F6: 1 | G6: 식 | I6: =I26 -> 236306196
A8: 소 계 | I8: =I27 -> 1600600000
A10: 5. 손해배상보험료 | F10: 1 | G10: 식 | I10: =I29 -> 17100000
A12: 6. 부 가 가 치 세 | F12: 0.1 | I12: =I31 -> 161770000
A14: 합 계 | I14: =I33 -> 1779470000
A18: =A2 -> 충화-구룡간 지방도 2차로 확포장공사 건설사업관리용역
A19: 1. 직 접 인 건 비 | B19: 고 급 기 준 | F19: ='기술자수 산정'!Z68 -> 130.8944 | G19: 인·월 | I19: =SUM(I20,I21) -> 705440184
B20: 상 주 | F20: =ROUND('기술자수 산정'!Z68*입력변수!B21,2) -> 104.72 | G20: 인·월 | H20: =입력변수!D10*22 -> 5389384 | I20: =INT(H20*F20) -> 564376292 | J20: 244,972 ×22
B21: 기 술 지 원 | F21: =F19-F20 -> 26.1744 | G21: 인·월 | H21: =+H20 -> 5389384 | I21: =INT(H21*F21) -> 141063892 | J21: 〃
A22: 2. 제 경 비 | B22: (직접인건비의 75.82%) | F22: 1 | G22: 식 | I22: =INT(I19*D23) -> 534864747
B23: =I19 -> 705440184 | C23: × | D23: 0.7582
A24: 3. 기 술 료 | B24: (직접인건비+제경비)의 10% | F24: 1 | G24: 식 | I24: =+I25+H25 -> 123988873
B25: 1) + 2) | C25: × | D25: 0.1 | G25: 단수조정 : | H25: -41620 | I25: =INT((I19+I22)*D25) -> 124030493
A26: 4. 직 접 경 비 | I26: ='건설사업관리내역 산출근거'!J23 -> 236306196
A27: 소 계 | B27: 1 + 2 + 3 + 4 | I27: =SUM(I19,I22,I24,I26) -> 1600600000
A29: 5. 손해배상보험료 | F29: 1 | G29: 식 | I29: ='건설사업관리내역 산출근거'!K80 -> 17100000 | J29: 산근 #4 참조
A31: 6. 부 가 가 치 세 | F31: 0.1 | I31: =+INT((I27+I29)*0.1) -> 161770000
L32: =I33-I29*1.1-654335/1.1 -> 1760065150
A33: 합 계 | B33: 1+2+3+4+5+6 | I33: =I27+I31+I29 -> 1779470000
I36: =+I33-I31 -> 1617700000

Sheet 건설사업관리내역 산출근거
A9: ■ 산 출 근 거
A22: 1 | B22: 산출근거
A23: ■ 직접경비 산출근거 | J23: =+J24+J25+J26+J27+J28 -> 236306196
A24: 주 재 비 | C24: (상주기술자 인건비의 15%) | F24: 1 | G24: 식 | J24: =INT((내역서!I20*0.15)) -> 84656443
A25: 출 장 비 | C25: (기술지원기술자 인건비의 10%) | F25: 1 | G25: 식 | J25: =INT(내역서!I21*0.1) -> 14106389
A26: 차 량 비 | F26: =입력변수!N44 -> 49 | G26: 월 | H26: =K38 -> 720226 | J26: =INT(H26*F26) -> 35291074 | L26: 산근 #1 참조
A27: 현지사무원급료 | F27: =+F26 -> 49 | G27: 월 | H27: =K40 -> 2038544 | J27: =INT(H27*F27) -> 99888656 | L27: 산근 #2 참조
A28: 도 서 인 쇄 비 | C28: SPRS장비포함 | J28: =SUM(J29:K31) -> 2363634
C29: 월 간 보 고 서 | F29: =F26-1 -> 48 | G29: 회 | H29: =K50 -> 37518 | J29: =INT(H29*F29) -> 1800864 | L29: 산근 #3 참조
C30: 최 종 보 고 서 | F30: 1 | G30: 회 | H30: =K52 -> 375180 | J30: =INT(H30*F30) -> 375180 | L30: 〃
C31: 유지관리지침서 | F31: 1 | G31: 회 | H31: =K53 -> 187590 | J31: =INT(H31*F31) -> 187590 | L31: 〃
B33: ※국토교통부고시 제2014-298호 제9조 관련 기준하여 산출함 - 월간물가자료 2015년 01월호 기준
A34: ■ | B34: 산근 #1) 현지차량 운행비 【엑센트 A/T 적용】
B35: 손 료 | C35: : (14,290,000원 / 1.1) × 1,547 × 10^-7 × (40HR ÷ 5일) × 22일 | J35: = | K35: =INT(((14290000/1.1)*(1547/10000000)*(40/5)*22)) -> 353706
B36: 주 연 료 (휘발유) | C36: : 10ℓ/일 × 22일 × (1,666 / 1.1)원/ℓ | J36: = | K36: =INT(10*22*(1666/1.1)) -> 333200
B37: 잡품(주연료의10%) | C37: : 333,200 × 0.1 | J37: = | K37: =INT(K36*0.1) -> 33320
B38: 계 | K38: =K35+K36+K37 -> 720226 | L38: 원/월
A39: ■ | B39: 산근 #2) 사무원급료 (단순노무종사 : 64,150원 적용 - 22일/월 기준, 상여금 400%·퇴직적립금 100% 적용)
B40: ( 64,150 × 16/12 × 22) + (64,150 × 16/12 × 22 × 1/12) | J40: = | K40: =INT((64150*(16/12)*22)+(( 64150*(16/12)*22)/12)) -> 2038544 | L40: 원/월
A42: ■ | B42: 산근 #3) SPRS 장비구입비(도서인쇄비) | N42: 스케너 | O42: 668000
B43: □ 산 출 방 법 : 건설사업관리업무 보고서 시스템(SPRS)의 운영 환경에 맞는 컴퓨터(모니터 및 CD-WRITE)와 스캐너(A3)의 물가자료 가격과 조달청 고시(제2011-18호, 2011.12.27) 전산장비의 내용연수 등을 검토하여 산출 | N43: 부가세제외 | O43: =+ROUND(O42/1.1,0) -> 607273
B44: □ 산 출 근 거 : | N44: 컴퓨터 | O44: 1010000
B45: - 컴퓨터(모니터 및 CD-Write포함) 구입비 : | E45: =+O47 -> 1193636 | H45: 원 - 내용연수 4년(48회적용) | N45: 모니터 | O45: 303000
B46: * 월간보고서 1회 산출금액 = | D46: =+E45 -> 1193636 | E46: ÷ | F46: 48 | G46: 회 | H46: = | I46: =+D46/F46 -> 24867.417 | J46: 원 | N46: 계 | O46: =+O44+O45 -> 1313000
B47: - 스캐너(A3) 구입비 : | C47: =O43 -> 607273 | D47: 원 - 내용연수 4년 (48회적용) | N47: 부가세제외 | O47: =+ROUND(O46/1.1,0) -> 1193636
B48: * 월간보고서 1회 산출금액 = | D48: =+O43 -> 607273 | E48: ÷ | F48: 48 | G48: 회 | H48: = | I48: =+D48/F48 -> 12651.521 | J48: 원
B49: - 월간보고서 1회비용산출 (구입비 / 적용회수)
B50: =+D46 -> 1193636 | C50: ÷ 48 회 + | D50: =C47 -> 607273 | E50: ÷ 48 회 | J50: = | K50: =INT(I46+I48) -> 37518
B51: ㉮ 월간보고서 : | E51: =+K50 -> 37518 | G51: × | H51: =F29 -> 48 | I51: 회 | J51: = | K51: =+E51*H51 -> 1800864
B52: ㉯ 최종보고서 : 월간보고서 × 10회 기준 = | E52: =+K50 -> 37518 | G52: × | H52: 10 | J52: = | K52: =+E52*H52 -> 375180
B53: ㉰ 유지관리지침서 : 월간보고서 × 5회 기준 = | E53: =+K50 -> 37518 | G53: × | H53: 5 | J53: = | K53: =+E53*H53 -> 187590
C54: 계 | K54: =SUM(K51:K53) -> 2363634 | L54: 원/식
A55: ■ | B55: 산근 #4) 건설사업관리용역 손해배상보험료 산출
B56: 건설기술진흥법 제37조 제1항의 규정에 의거하여 산출 | J56: = | K56: =K78+K69 -> 17140248
B57: 총감리용역비(부가가치세제외) | C57: =+내역서!I27 -> 1600600000 | E57: 공사기간: 4년 | J57: ≒ | K57: =K80 -> 17100000
B59: □ 공사종류 및 기간 : | C59: 터널건설공사 기준적용(표준공사기간 : 4년기준) - 공사기간이 48개월이므로 구간별 기본 및 가산요율 미적용
C60: 도로공사 기준적용(표준공사기간 : 3년기준) - 공사기간이 48개월이므로 구간별 기본 및 초과일수 365일 적용
B61: □ 용역손해배상보험료
B62: 공종(도로) | C62: 0.7 | D62: 적용비용 : | E62: =ROUNDDOWN(C57*C62,0) -> 1120420000 | H62: 원
B63: - 순계약금액 × ［ 기본요율 + 가산요율 × (표준공사기간 초과일수 / 365) ］
...

Sheet 입력변수
B1: 2.0 기술자수 산출
A2: 건설사업관리 대가기준 산정 입력변수
B4: 용역명 : | D4: =겉지!A5 -> 충화-구룡간 지방도 2차로 확포장공사 건설사업관리용역
B6: 직접인건비 | D6: ='기술자수 산정'!AC67 -> 7.1112922e+08 | F6: 원
B8: ■ 건설사업관리기술자 임금 노임단가(2015년)
B9: 특급 | D9: 고급 | F9: 중급
B10: 288548 | D10: 244972 | F10: 196572
B12: ■ 평균건설사업관리기간
B13: 공사비(억원) | C13: 50이하 | D13: 70 | E13: 100 | F13: 150 | G13: 200 | H13: 300 | I13: 400 | J13: 500 | K13: 700 | L13: 1,000이상
B14: 평균건설사업 관리기간(개월) | C14: 17 | D14: 24 | E14: 28 | F14: 30 | G14: 37 | H14: 38 | I14: 38 | J14: 39 | K14: 45 | L14: 54
B16: 공사비 | C16: =G13 -> 200 | D16: 억원 | E16: =G14 -> 37 | F16: 개월
B17: 공사비 | C17: =H13 -> 300 | D17: 억원 | E17: =H14 -> 38 | F17: 개월
B18: 평균건설사업 관리기간 | C18: =+ROUND(E16+((E17-E16)*((N37-C16)/(C17-C16))),2) -> 37.35 | D18: 개월
B20: ■ 상주기술자 비율 | E20: ■ 기술지원기술자 비율(단순:10%, 보통:15%, 복잡:20%)
B21: =1-E21 -> 0.8 | E21: 0.2
B23: 구분 | C23: 단계 | M23: 유 : 1, 무 : 0 | N23: 용역유형 | O23: 대가기준 적용
B24: 용역 유형 | C24: 가_1.공통업무(과업착수준비) | M24: 1 | N24: 모든 용역 공통
C25: 가_2.최종보고서(시공전 단계) | N25: 모든 용역 최소 1개 이상 공통
C26: 가_3.최종보고서(시공 단계) | M26: 1
C27: 가_4 공통업무(공통업무 중 CM업무) 시공단계 CM용역 수행시 포함
C28: 나.설계전단계 | N28: 설계전단계 | O28: 가_1, 가_2, 나
C29: 다.기본설계 | N29: 기본설계건설사업관리 | O29: 가_1, 가_2, 다
C30: 라.실시설계 | N30: 실시설계건설사업관리 | O30: 가_1, 가_2, 라
C31: 마.구매조달
C32: 바.시공 | M32: 1 | N32: 책임건설사업관리 (유지관리업체선정업무없음) | O32: 가_1, 가3, 바
C33: 사_1.시공후단계 | N33: 책임건설사업관리 (유지관리업체선정업무있음) | O33: 가_1, 가3, 사_1
C34: 사_2.유지관리업체선정 업무가 있는경우 포함
B36: 구분 | D36: 세부사항 | M36: 단위 | N36: 입력값
B37: 실비정액 산정정보 (23개) | C37: 공사비 | D37: 총공사비(부가세 제외) | M37: 억원 | N37: =U40/1.1 -> 235.35455 | P37: 1. 감리대상 총 공사비
D38: 구조물공사비 | M38: 억원 | N38: =N37*O38 -> 110.61664 | O38: 0.47
C39: 용역일수 | D39: 기본설계 용역일수 | M39: 일 | P39: 구분 | Q39: 도급 | R39: 관급 | S39: 폐기물 | T39: 전기 | U39: 합계
D40: 실시설계(또는 기본 및 실시) 용역일수 | M40: 일 | P40: 금액 | Q40: 155 | R40: 81.79 | S40: 2.48 | T40: 19.62 | U40: =Q40+R40+S40+T40 -> 258.89
D41: 시공단계 공사일수(년) | M41: 년 | N41: =N42/12 -> 4 | S41: 폐기물, 전기공사는 발주 전으로 지방자치단체 입차 시 낙찰자 결정기준에 의한 낙찰하한율 86.745% 적용
D42: 시공단계 공사일수(개월) | M42: 개월 | N42: 48
D43: 시공단계 공사일수(일)(1개월=22일) | M43: 일(환산일수적용) | N43: =N42*22 -> 1056
D44: 시공단계 용역일수(개월)(공사일수+1개월) | M44: 개월 | N44: =N42+1 -> 49
D45: 시공단계 용역일수(일)(1개월=22일) | M45: 일(환산일수적용) | N45: =N44*22 -> 1078
C46: 공통 | D46: PMIS 운영일수 | M46: 일(환산일수적용) | N46: =N45 -> 1078
C47: 기본설계 | D47: 기본설계 조정 및 연계성 검토 횟수 | M47: 개월
D48: 기본설계의 경제성(VE) 검토 횟수 | M48: 식
...

Sheet 기술자수 산정
A1: ■ 건설사업관리 대가기준 투입인원수 산정 : 토목선형(도로)분야
A3: 업무분류체계 | F3: 단위물량 | H3: 해당 사업 유무 | J3: 입력값 | Q3: 공사 난이도 | S3: 보정계수 | X3: 합계 | Z3: 사업물량(투입인원수) | AC3: 사업물량(비용, 단위:원)
A4: LEVEL 1 | B4: LEVEL 2 | D4: 단위 | F4: 고급 | J4: 식 | K4: 기간 (일) | L4: 기간 (개월) | M4: 기간 (년) | N4: 회 | O4: 소계 | S4: 도로 공급 | T4: 공사 성격 | U4: 지역 특성 | V4: 소계 | Z4: 고급 | AA4: 비중 | AC4: 고급 | AD4: 비중
A5: 공통 업무 | B5: 과업착수준비 | D5: 식 | F5: 7 | H5: =입력변수!$M$24 -> 1 | J5: 1 | O5: =SUM(J5:N5) -> 1 | V5: 1 | X5: =H5*O5*V5 -> 1 | Z5: =ROUND(F5*$X5,1) -> 7 | AA5: =Z5/$Z$67 -> 0.0024113817 | AC5: =Z5*$Z$70 -> 1714804 | AD5: =AC5/$AC$67 -> 0.0024113817
B6: 건설사업관리 업무수행계획서 작성 | D6: 식 | F6: 20.5 | H6: =입력변수!$M$24 -> 1 | J6: 1 | O6: =SUM(J6:N6) -> 1 | V6: 1 | X6: =H6*O6*V6 -> 1 | Z6: =ROUND(F6*$X6,1) -> 20.5 | AA6: =Z6/$Z$67 -> 0.0070619036 | AC6: =Z6*$Z$70 -> 5021926 | AD6: =AC6/$AC$67 -> 0.0070619036
B7: 건설사업관리 절차서 작성ㆍ운영 | D7: 식 | F7: 27.3 | H7: =입력변수!$M$27 -> 0 | J7: 1 | O7: =SUM(J7:N7) -> 1 | V7: 1 | X7: =H7*O7*V7 -> 0 | Z7: =ROUND(F7*$X7,1) -> 0 | AA7: =Z7/$Z$67 -> 0 | AC7: =Z7*$Z$70 -> 0 | AD7: =AC7/$AC$67 -> 0
B8: 작업분류체계 및 사업번호체계 관리, 사업정보축적ㆍ관리 | D8: 식 | F8: 22.3 | H8: =입력변수!$M$27 -> 0 | J8: 1 | O8: =SUM(J8:N8) -> 1 | V8: =Q8 -> 0 | X8: =H8*O8*V8 -> 0 | Z8: =ROUND(F8*$X8,1) -> 0 | AA8: =Z8/$Z$67 -> 0 | AC8: =Z8*$Z$70 -> 0 | AD8: =AC8/$AC$67 -> 0
B9: 사업정보관리시스템의 운영 | D9: 운영일수 | F9: 0.3 | H9: =입력변수!$M$27 -> 0 | K9: =입력변수!N46 -> 1078 | O9: =SUM(J9:N9) -> 1078 | Q9: =입력변수!$O$68 -> 0.34389218 | S9: =입력변수!$N$60 -> 0.8 | V9: =Q9*S9 -> 0.27511374 | X9: =H9*O9*V9 -> 0 | Z9: =ROUND(F9*$X9,1) -> 0 | AA9: =Z9/$Z$67 -> 0 | AC9: =Z9*$Z$70 -> 0 | AD9: =AC9/$AC$67 -> 0
B10: 클레임 사전분석 | D10: 식 | F10: 31 | H10: =입력변수!$M$27 -> 0 | J10: 1 | O10: =SUM(J10:N10) -> 1 | V10: 1 | X10: =H10*O10*V10 -> 0 | Z10: =ROUND(F10*$X10,1) -> 0 | AA10: =Z10/$Z$67 -> 0 | AC10: =Z10*$Z$70 -> 0 | AD10: =AC10/$AC$67 -> 0
B11: 최종 건설사업관리 보고 | C11: 시공전 단계 | D11: 식 | F11: 27.3 | H11: =입력변수!M25 -> 0 | J11: 1 | O11: =SUM(J11:N11) -> 1 | V11: 1 | X11: =H11*O11*V11 -> 0 | Z11: =ROUND(F11*$X11,1) -> 0 | AA11: =Z11/$Z$67 -> 0 | AC11: =Z11*$Z$70 -> 0 | AD11: =AC11/$AC$67 -> 0
C12: 시공이후 단계 | F12: 54.6 | H12: =입력변수!M26 -> 1 | J12: 1 | O12: =SUM(J12:N12) -> 1 | V12: 1 | X12: =H12*O12*V12 -> 1 | Z12: =ROUND(F12*$X12,1) -> 54.6 | AA12: =Z12/$Z$67 -> 0.018808777 | AC12: =Z12*$Z$70 -> 13375471 | AD12: =AC12/$AC$67 -> 0.018808777
F13: =SUM(F5:F12) -> 190.3 | Z13: =SUM(Z5:Z12) -> 82.1 | AA13: =SUM(AA5:AA12) -> 0.028282063 | AC13: =SUM(AC5:AC12) -> 20112201 | AD13: =SUM(AD5:AD12) -> 0.028282063
A14: 설계 전단계 | B14: 건설기술용역업체 선정 | D14: 식 | F14: 43.7 | H14: =입력변수!$M$28 -> 0 | J14: 1 | O14: =SUM(J14:N14) -> 1 | V14: 1 | X14: =H14*O14*V14 -> 0 | Z14: =ROUND(F14*$X14,1) -> 0 | AA14: =Z14/$Z$67 -> 0 | AC14: =Z14*$Z$70 -> 0 | AD14: =AC14/$AC$67 -> 0
B15: 사업타당성조사보고서의 적정성 검토 | D15: 식 | F15: 21.6 | H15: =입력변수!$M$28 -> 0 | J15: 1 | O15: =SUM(J15:N15) -> 1 | Q15: =입력변수!$O$68 -> 0.34389218 | U15: =입력변수!$N$62 -> 1 | V15: =Q15*U15 -> 0.34389218 | X15: =H15*O15*V15 -> 0 | Z15: =ROUND(F15*$X15,1) -> 0 | AA15: =Z15/$Z$67 -> 0 | AC15: =Z15*$Z$70 -> 0 | AD15: =AC15/$AC$67 -> 0
B16: 기본계획보고서의 적정성 검토 | D16: 식 | F16: 21.3 | H16: =입력변수!$M$28 -> 0 | J16: 1 | O16: =SUM(J16:N16) -> 1 | Q16: =입력변수!$O$68 -> 0.34389218 | U16: =입력변수!$N$62 -> 1 | V16: =Q16*U16 -> 0.34389218 | X16: =H16*O16*V16 -> 0 | Z16: =ROUND(F16*$X16,1) -> 0 | AA16: =Z16/$Z$67 -> 0 | AC16: =Z16*$Z$70 -> 0 | AD16: =AC16/$AC$67 -> 0
B17: 발주방식(사업수행방식) 결정 지원 | D17: 식 | F17: 31 | H17: =입력변수!$M$28 -> 0 | J17: 1 | O17: =SUM(J17:N17) -> 1 | V17: 1 | X17: =H17*O17*V17 -> 0 | Z17: =ROUND(F17*$X17,1) -> 0 | AA17: =Z17/$Z$67 -> 0 | AC17: =Z17*$Z$70 -> 0 | AD17: =AC17/$AC$67 -> 0
B18: 관리기준공정계획수립 | D18: 식 | F18: 18 | H18: =입력변수!$M$28 -> 0 | J18: 1 | O18: =SUM(J18:N18) -> 1 | Q18: =입력변수!$O$68 -> 0.34389218 | V18: =Q18 -> 0.34389218 | X18: =H18*O18*V18 -> 0 | Z18: =ROUND(F18*$X18,1) -> 0 | AA18: =Z18/$Z$67 -> 0 | AC18: =Z18*$Z$70 -> 0 | AD18: =AC18/$AC$67 -> 0
B19: 총사업비 집행계획수립지원(종합예산게획서) | D19: 식 | F19: 11.4 | H19: =입력변수!$M$28 -> 0 | J19: 1 | O19: =SUM(J19:N19) -> 1 | V19: 1 | X19: =H19*O19*V19 -> 0 | Z19: =ROUND(F19*$X19,1) -> 0 | AA19: =Z19/$Z$67 -> 0 | AC19: =Z19*$Z$70 -> 0 | AD19: =AC19/$AC$67 -> 0
F20: =SUM(F14:F19) -> 147 | Z20: =SUM(Z14:Z19) -> 0 | AA20: =SUM(AA14:AA19) -> 0 | AC20: =SUM(AC14:AC19) -> 0 | AD20: =SUM(AD14:AD19) -> 0
A21: 기본 설계 단계 | B21: 기본설계 설계자 선정업무 지원 | D21: 식 | F21: 17.1 | H21: =입력변수!$M$29 -> 0 | J21: 1 | O21: =SUM(J21:N21) -> 1 | V21: 1 | X21: =H21*O21*V21 -> 0 | Z21: =ROUND(F21*$X21,1) -> 0 | AA21: =Z21/$Z$67 -> 0 | AC21: =Z21*$Z$70 -> 0 | AD21: =AC21/$AC$67 -> 0
B22: 기본설계 조정 및 연계성 검토 | D22: 용역개월 | F22: 3.2 | H22: =입력변수!$M$29 -> 0 | L22: =입력변수!N47 -> 0 | O22: =SUM(J22:N22) -> 0 | Q22: =입력변수!$O$68 -> 0.34389218 | S22: =입력변수!$N$60 -> 0.8 | T22: =입력변수!$N$61 -> 1 | U22: =입력변수!$N$62 -> 1 | V22: =Q22*S22*T22*U22 -> 0.27511374 | X22: =H22*O22*V22 -> 0 | Z22: =ROUND(F22*$X22,1) -> 0 | AA22: =Z22/$Z$67 -> 0 | AC22: =Z22*$Z$70 -> 0 | AD22: =AC22/$AC$67 -> 0
B23: 기본설계단계의 예산검증 및 조정업무 | D23: 식 | F23: 22.5 | H23: =입력변수!$M$29 -> 0 | J23: 1 | O23: =SUM(J23:N23) -> 1 | Q23: =입력변수!$O$68 -> 0.34389218 | S23: =입력변수!$N$60 -> 0.8 | T23: =입력변수!$N$61 -> 1 | U23: =입력변수!$N$62 -> 1 | V23: =Q23*S23*T23*U23 -> 0.27511374 | X23: =H23*O23*V23 -> 0 | Z23: =ROUND(F23*$X23,1) -> 0 | AA23: =Z23/$Z$67 -> 0 | AC23: =Z23*$Z$70 -> 0 | AD23: =AC23/$AC$67 -> 0
B24: 기본설계의 경제성(VE) 검토 | D24: 식 | F24: 90.6 | H24: =입력변수!$M$29 -> 0 | J24: =입력변수!N48 -> 0 | O24: =SUM(J24:N24) -> 0 | Q24: =입력변수!$O$68 -> 0.34389218 | V24: =Q24 -> 0.34389218 | X24: =H24*O24*V24 -> 0 | Z24: =ROUND(F24*$X24,1) -> 0 | AA24: =Z24/$Z$67 -> 0 | AC24: =Z24*$Z$70 -> 0 | AD24: =AC24/$AC$67 -> 0
B25: 기본설계용역 성과검토 | D25: 용역개월 | F25: 5.7 | H25: =입력변수!$M$29 -> 0 | L25: =입력변수!N49 -> 0 | O25: =SUM(J25:N25) -> 0 | Q25: =입력변수!$O$68 -> 0.34389218 | S25: =입력변수!$N$60 -> 0.8 | T25: =입력변수!$N$61 -> 1 | U25: =입력변수!$N$62 -> 1 | V25: =Q25*S25*T25*U25 -> 0.27511374 | X25: =H25*O25*V25 -> 0 | Z25: =ROUND(F25*$X25,1) -> 0 | AA25: =Z25/$Z$67 -> 0 | AC25: =Z25*$Z$70 -> 0 | AD25: =AC25/$AC$67 -> 0
B26: 기본설계 용역 기성 및 준공검사관리 | D26: 회 | F26: 3.7 | H26: =입력변수!$M$29 -> 0 | N26: =입력변수!$N$50 -> 0 | O26: =SUM(J26:N26) -> 0 | V26: 1 | X26: =H26*O26*V26 -> 0 | Z26: =ROUND(F26*$X26,1) -> 0 | AA26: =Z26/$Z$67 -> 0 | AC26: =Z26*$Z$70 -> 0 | AD26: =AC26/$AC$67 -> 0
B27: 각종 인허가 및 관계기관협의 지원 | D27: 식 | F27: 6.8 | H27: =입력변수!$M$29 -> 0 | J27: 1 | O27: =SUM(J27:N27) -> 1 | T27: =입력변수!$N$61 -> 1 | U27: =입력변수!$N$62 -> 1 | V27: =T27*U27 -> 1 | X27: =H27*O27*V27 -> 0 | Z27: =ROUND(F27*$X27,1) -> 0 | AA27: =Z27/$Z$67 -> 0 | AC27: =Z27*$Z$70 -> 0 | AD27: =AC27/$AC$67 -> 0
B28: 설계자문회의 운영 및 관리 | D28: 회 | F28: 2.5 | H28: =입력변수!$M$29 -> 0 | N28: =입력변수!N51 -> 0 | O28: =SUM(J28:N28) -> 0 | V28: 1 | X28: =H28*O28*V28 -> 0 | Z28: =ROUND(F28*$X28,1) -> 0 | AA28: =Z28/$Z$67 -> 0 | AC28: =Z28*$Z$70 -> 0 | AD28: =AC28/$AC$67 -> 0
F29: =SUM(F21:F28) -> 152.1 | Z29: =SUM(Z21:Z28) -> 0 | AA29: =SUM(AA21:AA28) -> 0 | AC29: =SUM(AC21:AC28) -> 0 | AD29: =SUM(AD21:AD28) -> 0
A30: 실시 설계 단계 | B30: 실시설계 설계자 선정업무 지원 | D30: 식 | F30: 13.9 | H30: =입력변수!$M$30 -> 0 | J30: 1 | O30: =SUM(J30:N30) -> 1 | V30: 1 | X30: =H30*O30*V30 -> 0 | Z30: =ROUND(F30*$X30,1) -> 0 | AA30: =Z30/$Z$67 -> 0 | AC30: =Z30*$Z$70 -> 0 | AD30: =AC30/$AC$67 -> 0
B31: 실시설계 조정 및 연계성 검토 | D31: 용역개월 | F31: 5.9 | H31: =입력변수!$M$30 -> 0 | L31: =입력변수!N52 -> 0 | O31: =SUM(J31:N31) -> 0 | Q31: =입력변수!$O$68 -> 0.34389218 | S31: =입력변수!$N$60 -> 0.8 | T31: =입력변수!$N$61 -> 1 | U31: =입력변수!$N$62 -> 1 | V31: =Q31*S31*T31*U31 -> 0.27511374 | X31: =H31*O31*V31 -> 0 | Z31: =ROUND(F31*$X31,1) -> 0 | AA31: =Z31/$Z$67 -> 0 | AC31: =Z31*$Z$70 -> 0 | AD31: =AC31/$AC$67 -> 0
B32: 실시설계단계의 예산검증 및 조정업무 | D32: 식 | F32: 23.3 | H32: =입력변수!$M$30 -> 0 | J32: 1 | O32: =SUM(J32:N32) -> 1 | Q32: =입력변수!$O$68 -> 0.34389218 | S32: =입력변수!$N$60 -> 0.8 | T32: =입력변수!$N$61 -> 1 | U32: =입력변수!$N$62 -> 1 | V32: =Q32*S32*T32*U32 -> 0.27511374 | X32: =H32*O32*V32 -> 0 | Z32: =ROUND(F32*$X32,1) -> 0 | AA32: =Z32/$Z$67 -> 0 | AC32: =Z32*$Z$70 -> 0 | AD32: =AC32/$AC$67 -> 0
B33: 실시설계의 경제성(VE) 검토 | D33: 식 | F33: 123.3 | H33: =입력변수!$M$30 -> 0 | J33: 1 | O33: =SUM(J33:N33) -> 1 | Q33: =입력변수!$O$68 -> 0.34389218 | V33: =Q33 -> 0.34389218 | X33: =H33*O33*V33 -> 0 | Z33: =ROUND(F33*$X33,1) -> 0 | AA33: =Z33/$Z$67 -> 0 | AC33: =Z33*$Z$70 -> 0 | AD33: =AC33/$AC$67 -> 0
B34: 실시설계용역 성과검토 | D34: 용역개월 | F34: 10.5 | H34: =입력변수!$M$30 -> 0 | L34: =입력변수!N54 -> 0 | O34: =SUM(J34:N34) -> 0 | Q34: =입력변수!$O$68 -> 0.34389218 | S34: =입력변수!$N$60 -> 0.8 | T34: =입력변수!$N$61 -> 1 | U34: =입력변수!$N$62 -> 1 | V34: =Q34*S34*T34*U34 -> 0.27511374 | X34: =H34*O34*V34 -> 0 | Z34: =ROUND(F34*$X34,1) -> 0 | AA34: =Z34/$Z$67 -> 0 | AC34: =Z34*$Z$70 -> 0 | AD34: =AC34/$AC$67 -> 0
B35: 실시설계 용역 기성 및 준공검사관리 | D35: 회 | F35: 8.1 | H35: =입력변수!$M$30 -> 0 | N35: =입력변수!N55 -> 0 | O35: =SUM(J35:N35) -> 0 | V35: 1 | X35: =H35*O35*V35 -> 0 | Z35: =ROUND(F35*$X35,1) -> 0 | AA35: =Z35/$Z$67 -> 0 | AC35: =Z35*$Z$70 -> 0 | AD35: =AC35/$AC$67 -> 0
B36: 지급자재 조달 및 관리계획 수립 | D36: 식 | F36: 10.2 | H36: =입력변수!$M$30 -> 0 | J36: 1 | O36: =SUM(J36:N36) -> 1 | V36: 1 | X36: =H36*O36*V36 -> 0 | Z36: =ROUND(F36*$X36,1) -> 0 | AA36: =Z36/$Z$67 -> 0 | AC36: =Z36*$Z$70 -> 0 | AD36: =AC36/$AC$67 -> 0
B37: 각종 인허가 및 관계기관협의 지원 | D37: 식 | F37: 8.3 | H37: =입력변수!$M$30 -> 0 | J37: 1 | O37: =SUM(J37:N37) -> 1 | T37: =입력변수!$N$61 -> 1 | U37: =입력변수!$N$62 -> 1 | V37: =T37*U37 -> 1 | X37: =H37*O37*V37 -> 0 | Z37: =ROUND(F37*$X37,1) -> 0 | AA37: =Z37/$Z$67 -> 0 | AC37: =Z37*$Z$70 -> 0 | AD37: =AC37/$AC$67 -> 0
B38: 설계자문회의 운영 및 관리 | D38: 회 | F38: 6.4 | H38: =입력변수!$M$30 -> 0 | N38: =입력변수!N56 -> 0 | O38: =SUM(J38:N38) -> 0 | V38: 1 | X38: =H38*O38*V38 -> 0 | Z38: =ROUND(F38*$X38,1) -> 0 | AA38: =Z38/$Z$67 -> 0 | AC38: =Z38*$Z$70 -> 0 | AD38: =AC38/$AC$67 -> 0
B39: 시공자 선정계획수립 | D39: 식 | F39: 16.9 | H39: =입력변수!$M$30 -> 0 | J39: 1 | O39: =SUM(J39:N39) -> 1 | V39: 1 | X39: =H39*O39*V39 -> 0 | Z39: =ROUND(F39*$X39,1) -> 0 | AA39: =Z39/$Z$67 -> 0 | AC39: =Z39*$Z$70 -> 0 | AD39: =AC39/$AC$67 -> 0
F40: =SUM(F30:F39) -> 226.8 | Z40: =SUM(Z30:Z39) -> 0 | AA40: =SUM(AA30:AA39) -> 0 | AC40: =SUM(AC30:AC39) -> 0 | AD40: =SUM(AD30:AD39) -> 0
A41: 구매 조달 단계 | B41: 입찰업무지원 | D41: 식 | F41: 63.3 | H41: =입력변수!$M$31 -> 0 | J41: 1 | O41: =SUM(J41:N41) -> 1 | V41: 1 | X41: =H41*O41*V41 -> 0 | Z41: =ROUND(F41*$X41,1) -> 0 | AA41: =Z41/$Z$67 -> 0 | AC41: =Z41*$Z$70 -> 0 | AD41: =AC41/$AC$67 -> 0
...

Sheet 기술자수 배치계획
A1: 3.0 건설사업관리 기술자수 배치계획 검토 - 본 사업 적용 기술자수 검토
B2: 가. 상주기술자 투입계획 검토 - 3.0 기술자 투입계획서 참조
B3: 책임기술자 (토목) : | I3: 고급 | M3: 1 | N3: 인 | O3: × | P3: =입력변수!N44 -> 49 | R3: 개월 | T3: × | U3: 1 | X3: = | Y3: =ROUNDDOWN((P3*U3),2) -> 49 | AB3: 인·월
B4: 분야별기술자 (토목) : | I4: 고급 | M4: 1 | N4: 인 | O4: × | P4: 19 | R4: 개월 | T4: × | U4: 1 | X4: = | Y4: =ROUNDDOWN((P4*U4),2) -> 19 | AB4: 인·월
B5: 분야별기술자 (토목) : | I5: 중급 | M5: 1 | N5: 인 | O5: × | P5: 49 | R5: 개월 | T5: × | U5: 0.802 | X5: = | Y5: =ROUNDDOWN((P5*U5),2) -> 39.29 | AB5: 인·월
B6: 분야별기술자 (전기/계측) : | I6: 중급 | M6: 1 | N6: 인 | O6: × | P6: 6 | R6: 개월 | T6: × | U6: 0.802 | X6: = | Y6: =ROUNDDOWN((P6*U6),2) -> 4.81 | AB6: 인·월
U7: 계 | X7: = | Y7: =SUM(Y3:AA6) -> 112.1 | AB7: 인·월
U8: 적 용 | X8: = | Y8: =내역서!F20 -> 104.72 | AB8: 인·월
B9: 나. 본 사업 적용 기술자수 산출
B10: 1) 상주기술자수 (상기 가.항 참조) : | M10: =+Y8 -> 104.72 | P10: 인·월
B11: 2) 기술지원기술자 배치계획 및 기술자수 산출
C12: 가) 배치계획 : 도로및공항, 토목구조, 토질및기초
C13: 나) 기술자수산출 (중급이상, 20% 적용)
D14: =+M10 -> 104.72 | G14: × | H14: ( | I14: 20 | K14: ÷ | L14: =100-I14 -> 80 | N14: ) | AD14: = | AE14: =+ROUND(D14*(I14/L14),2) -> 26.18 | AH14: 인·월
B15: 3) 총 기술자수 산출
C16: =+M10 -> 104.72 | F16: 인·월 | H16: + | I16: =+AE14 -> 26.18 | L16: 인·월 | N16: = | O16: =+C16+I16 -> 130.9 | R16: 인·월

Sheet 기술자 투입계획서
A2: 4.0 건설사업관리기술자 투입계획서
A3: 구 분 | D3: 등 급 | E3: 인원 | F3: 담 당 업 무 | G3: 투 입 기 간 (착수후.월) | BD3: 투입 개월 | BE3: 고급 기준
G4: 5 | L4: 10 | Q4: 15 | V4: 20 | AA4: 25 | AF4: 30 | AK4: 35 | AP4: 40 | AU4: 45 | AZ4: 49 | BE4: 환산비 | BF4: 환산 인.월
A5: 상 주 기 술 자 | B5: 책임기술자 (토목) | D5: 고급 | E5: 1 | F5: 건설사업관리 총괄 | BD5: ='기술자수 배치계획'!P3 -> 49 | BE5: ='기술자수 배치계획'!U3 -> 1 | BF5: =ROUNDDOWN(BD5*BE5,2) -> 49
B7: 분야별기술자 (토목) | D7: 고급 | E7: 1 | F7: 토목공사 담당 | BD7: ='기술자수 배치계획'!P4 -> 19 | BE7: ='기술자수 배치계획'!U4 -> 1 | BF7: =ROUNDDOWN(BD7*BE7,2) -> 19
B9: 분야별기술자 (토목) | D9: 중급 | E9: 1 | F9: 토목공사 담당 | BD9: ='기술자수 배치계획'!P5 -> 49 | BE9: ='기술자수 배치계획'!U5 -> 0.802 | BF9: =ROUNDDOWN(BD9*BE9,2) -> 39.29
B11: 분야별기술자 (전기/계측) | D11: 중급 | E11: 1 | F11: 전기/계측공사 담당 | BD11: ='기술자수 배치계획'!P6 -> 6 | BE11: ='기술자수 배치계획'!U6 -> 0.802 | BF11: =ROUNDDOWN(BD11*BE11,2) -> 4.81
B13: 소 계 | E13: =SUM(E5:E12) -> 4 | F13: 상주 건설사업관리 | BD13: =SUM(BD5:BD12) -> 123 | BF13: =SUM(BF5:BF12) -> 112.1
BE14: 적 용 | BF14: ='기술자수 배치계획'!Y8 -> 104.72
A15: 기술지원기술자 (분야별) | D15: 중급 이상 | E15: 3 | F15: 본사업무지원 | BD15: =+BD5 -> 49 | BF15: ='기술자수 배치계획'!AE14 -> 26.18
A17: 합 계 | E17: =E13+E15 -> 7 | F17: 건설사업관리 | BD17: =BD5 -> 49 | BF17: =+BF15+BF14 -> 130.9
A20: 주) | B20: 1. 공사 및 공정추진 상황에 따라 변경될 수 있슴
B21: 2. 예산범위내에서 기술자를 배치 편성하고 추후 추가예산 및 낙찰차액 등 예산확보시 건설사업관리 배치기간 연장하여 편성배치

Sheet 공제율
A1: □엔지니어링공제조합 건설사업관리 공제요율
A2: 1. 공제료 산정방법 : 순용역금액 × 적용요율
A3: 2. 적용요율 = 기본요율 + 적용가산요율
A4: (1) 건설사업관리요율
B5: 용역금액(계약금액) | L5: 표준
A6: 공사종류 | B6: 5억원이하 | D6: 5억원초과10억원이하 | F6: 10억원초과20억원이하 | H6: 20억원초과30억원이하 | J6: 30억원초과50억원이하 | L6: 공사
B7: 기본요율 | C7: 가산요율 | D7: 기본요율 | E7: 가산요율 | F7: 기본요율 | G7: 가산요율 | H7: 기본요율 | I7: 가산요율 | J7: 기본요율 | K7: 가산요율 | L7: 기간
A8: 교량공사 | B8: 0.981 | C8: 0.156 | D8: 0.952 | E8: 0.152 | F8: 0.922 | G8: 0.147 | H8: 0.893 | I8: 0.143 | J8: 0.863 | K8: 0.137 | L8: 3
A9: 공항건설공사 | B9: 1.112 | C9: 0.177 | D9: 1.079 | E9: 0.172 | F9: 1.045 | G9: 0.167 | H9: 1.011 | I9: 0.161 | J9: 0.978 | K9: 0.156 | L9: 5
A10: 댐축조공사 | B10: 1.227 | C10: 0.196 | D10: 1.191 | E10: 0.19 | F10: 1.154 | G10: 0.184 | H10: 1.117 | I10: 0.178 | J10: 1.08 | K10: 0.173 | L10: 5
A11: 도로공사 | B11: 0.883 | C11: 0.141 | D11: 0.857 | E11: 0.137 | F11: 0.83 | G11: 0.132 | H11: 0.803 | I11: 0.128 | J11: 0.776 | K11: 0.124 | L11: 3
A12: 에너지저장시설공사 | B12: 0.883 | C12: 0.141 | D12: 0.857 | E12: 0.137 | F12: 0.83 | G12: 0.132 | H12: 0.803 | I12: 0.128 | J12: 0.776 | K12: 0.124 | L12: 3
A13: 간척공사 | B13: 1.001 | C13: 0.16 | D13: 0.971 | E13: 0.155 | F13: 0.94 | G13: 0.15 | H13: 0.911 | I13: 0.146 | J13: 0.881 | K13: 0.14 | L13: 5
A14: 항만공사 | B14: 1.001 | C14: 0.16 | D14: 0.971 | E14: 0.155 | F14: 0.94 | G14: 0.15 | H14: 0.911 | I14: 0.146 | J14: 0.881 | K14: 0.14 | L14: 5
A15: 철도공사 | B15: 0.785 | C15: 0.125 | D15: 0.761 | E15: 0.122 | F15: 0.737 | G15: 0.118 | H15: 0.714 | I15: 0.114 | J15: 0.691 | K15: 0.11 | L15: 3
A16: 지하철공사 | B16: 1.227 | C16: 0.196 | D16: 1.191 | E16: 0.19 | F16: 1.154 | G16: 0.184 | H16: 1.117 | I16: 0.178 | J16: 1.08 | K16: 0.173 | L16: 4
A17: 터널공사 | B17: 1.227 | C17: 0.196 | D17: 1.191 | E17: 0.19 | F17: 1.154 | G17: 0.184 | H17: 1.117 | I17: 0.178 | J17: 1.08 | K17: 0.173 | L17: 4
A18: 발전소건설공사 | B18: 1.046 | C18: 0.167 | D18: 1.015 | E18: 0.162 | F18: 0.983 | G18: 0.157 | H18: 0.952 | I18: 0.152 | J18: 0.92 | K18: 0.147 | L18: 3
A19: 쓰레기소각로건설공사 | B19: 1.36 | C19: 0.217 | D19: 1.319 | E19: 0.21 | F19: 1.279 | G19: 0.204 | H19: 1.238 | I19: 0.197 | J19: 1.197 | K19: 0.191 | L19: 2
... A29: 공동주택건설공사 | B29: 0.759 | C29: 0.121 | D29: 0.737 | E29: 0.117 | F29: 0.713 | G29: 0.114 | H29: 0.691 | I29: 0.11 | J29: 0.668 | K29: 0.107 | L29: 3
A30: (2) 설계단계만 공제에 가입할 때 : 건설사업관리요율의 70% 적용
