Workbook
Name \P: #REF!
Name \X: #REF!
Name \X: #REF!
Name \X: #REF!
Name \X: #REF!
Name \X: #REF!
Name \X: #REF!
Name \X: #REF!
Name \X: #REF!
Name \X: #REF!
Name \X: #REF!
Name \X: #REF!
Name \X: #REF!
Name \X: #REF!
Name \X: #REF!
Name \X: #REF!
Name \X: #REF!
Name \X: #REF!
Name \X: #REF!
Name \X: #REF!
Name \X: #REF!
Name 계약공기: #REF!
Name 계약공기: #REF!
Name 계약공기: #REF!
Name 계약공기: #REF!
Name 계약공기: #REF!
Name 계약공기: #REF!
Name 계약공기: #REF!
Name 계약공기: #REF!
Name 계약공기: #REF!
Name 계약공기: #REF!
Name 계약공기: #REF!
Name 계약공기: #REF!
Name 계약공기: #REF!
Name 계약공기: #REF!
Name 계약공기: #REF!
Name 계약공기: #REF!
Name 계약공기: #REF!
Name 계약공기: #REF!
Name 계약공기: #REF!
Name 계약공기: #REF!
Name 공기: #REF!
Name 공기: #REF!
Name 공기: #REF!
Name 공기: #REF!
Name 공기: #REF!
Name 공기: #REF!
Name 공기: #REF!
Name 공기: #REF!
Name 공기: #REF!
Name 공기: #REF!
Name 공기: #REF!
Name 공기: #REF!
Name 공기: #REF!
Name 공기: #REF!
Name 공기: #REF!
Name 공기: #REF!
Name 공기: #REF!
Name 공기: #REF!
Name 공기: #REF!

Sheet VXXXX

Sheet 001-잔디
I22: 구 분 | K22: 적용 | M22: 단 가 | P22: 비 고
I23: 성 토 | K23: 줄 떼 | M23: =X83 -> 5069
I24: 절 토 | K24: 평 떼 | M24: =X123 -> 9979
A44: 산 출 근 거 | O44: 재료비 | R44: 노무비 | U44: 경 비 | X44: 합 계
A45: ▣ 줄 떼 (m2)
A47: 1.0 재 료 비
A48: - 잔디(0.3*0.3m) :
B49: 11 | C49: 매 | D49: * ( | E49: 1.1 | F49: / | G49: 3 | H49: ) * | I49: ='8.0자재단가'!I21 -> 220
I50: = | J50: =ROUND(B49*E49/G49*I49,1) -> 887.3 | O50: =J50 -> 887.3 | X50: =SUM(O50:W50) -> 887.3
A52: 2.0 소 운 반
A53: - | B53: 사용장비 : 지게
B54: V (평균왕복속도) | I54: = | J54: 2000 | L54: m/hr
B55: T (1일작업시간:480분-30분) = | J55: =480-30 -> 450 | L55: min
B56: L (운반거리 = | I56: = | J56: 100 | L56: m
B57: t (적재적하소요시간) | I57: = | J57: 2 | L57: min
B58: q (1회운반량) | I58: = | J58: 30 | L58: 매/회(줄떼)
A59: - | B59: N (횟수) = V*T/(120*L+V*t) = | J59: =ROUND(J54*J55/(120*J56+J54*J57),3) -> 56.25 | L59: 회/일
A60: - | B60: Q (1일운반량) = N * q | I60: = | J60: =J59*J58 -> 1687.5 | L60: 매/일
A61: - | B61: 보통인부 : | E61: 1인/Q*11매*1.1 | I61: * | J61: ='11.0시중노임'!F6 -> 68965
I62: = | J62: =ROUND(1/J60*B49*1.1*J61,1) -> 494.5 | R62: =J62 -> 494.5 | X62: =SUM(O62:W62) -> 494.5
A64: 3.0 떼 붙 임
A65: - | B65: 보통인부 : | E65: (5.0 / 100)인* | I65: ='11.0시중노임'!F6 -> 68965
I66: = | J66: =ROUND((5/100)*I65,1) -> 3448.3 | R66: =J66 -> 3448.3 | X66: =SUM(O66:W66) -> 3448.3
A68: 5.0 작업반장(보통인부 25~50인 적용)
A69: - | B69: 보통인부 :
A70: (((0.24+0.19)/2/10)+7.6/100)/((25+50)/2)* | M70: ='11.0시중노임'!F4 -> 92218
I71: = | J71: =ROUND((((0.24+0.19)/2/10)+(7.6/100))/((25+50)/2)*M70,1) -> 239.8 | R71: =J71 -> 239.8 | X71: =SUM(O71:W71) -> 239.8
B83: 계 | O83: =INT(SUM(O47:Q82)) -> 887 | R83: =INT(SUM(R47:T82)) -> 4182 | U83: =SUM(U47:W82) -> 0 | X83: =INT(SUM(X47:Z82)) -> 5069
A84: 산 출 근 거 | O84: 재료비 | R84: 노무비 | U84: 경 비 | X84: 합 계
A85: ▣ 평 떼 (m2)
A87: 1.0 재 료 비
A88: - 잔디(0.3*0.3m) :
A89: 11 | C89: 매 | D89: * | E89: 1.1 | F89: * | G89: ='8.0자재단가'!I21 -> 220 | I89: = | J89: =ROUND(A89*E89*G89,1) -> 2662 | O89: =J89 -> 2662 | X89: =SUM(O89:W89) -> 2662
A91: 2.0 소 운 반
A92: - | B92: 사용장비 : 지게
B93: V (평균왕복속도) | I93: = | J93: 2000 | L93: m/hr
B94: T (1일작업시간:480분-30분) = | J94: =480-30 -> 450 | L94: min
B95: L (운반거리 = | I95: = | J95: 100 | L95: m
B96: t (적재적하소요시간) | I96: = | J96: 2 | L96: min
B97: q (1회운반량) | I97: = | J97: 10 | L97: 매/회(평떼)
...

Sheet 잔디-표지
A7: 잔 디

Sheet 002-줄떼
A1: 단가산출(줄떼)
A2: 산 출 근 거 | O2: 재료비 | R2: 노무비 | U2: 경 비 | X2: 합 계
A3: ▣ 줄 떼 (m2)
A5: 1.0 재 료 비
A6: - 잔디(0.3*0.3m) :
B7: 11 | C7: 매 | D7: * ( | E7: 1.1 | F7: / | G7: 3 | H7: ) * | I7: ='8.0자재단가'!I21 -> 220
I8: = | J8: =ROUND(B7*E7/G7*I7,1) -> 887.3 | O8: =J8 -> 887.3 | X8: =SUM(O8:W8) -> 887.3
A10: 2.0 소 운 반
A11: - | B11: 사용장비 : 지게
B12: V (평균왕복속도) | I12: = | J12: 2000 | L12: m/hr
B13: T (1일작업시간:480분-30분) = | J13: =480-30 -> 450 | L13: min
B14: L (운반거리 = | I14: = | J14: 100 | L14: m
B15: t (적재적하소요시간) | I15: = | J15: 2 | L15: min
B16: q (1회운반량) | I16: = | J16: 30 | L16: 매/회(줄떼)
A17: - | B17: N (횟수) = V*T/(120*L+V*t) = | J17: =ROUND(J12*J13/(120*J14+J12*J15),3) -> 56.25 | L17: 회/일
A18: - | B18: Q (1일운반량) = N * q | I18: = | J18: =J17*J16 -> 1687.5 | L18: 매/일
A19: - | B19: 보통인부 : | E19: 1인/Q*11매*1.1 | I19: * | J19: ='11.0시중노임'!F6 -> 68965
I20: = | J20: =ROUND(1/J18*B7*1.1*J19,1) -> 494.5 | R20: =J20 -> 494.5 | X20: =SUM(O20:W20) -> 494.5
A22: 3.0 떼 붙 임
A23: - | B23: 보통인부 : | E23: (5.0 / 100)인* | I23: ='11.0시중노임'!F6 -> 68965
I24: = | J24: =ROUND((5/100)*I23,1) -> 3448.3 | R24: =J24 -> 3448.3 | X24: =SUM(O24:W24) -> 3448.3
A26: 5.0 작업반장(보통인부 25~50인 적용)
A27: - | B27: 보통인부 :
A28: (((0.24+0.19)/2/10)+7.6/100)/((25+50)/2)* | M28: ='11.0시중노임'!F6 -> 68965
I29: = | J29: =ROUND((((0.24+0.19)/2/10)+(7.6/100))/((25+50)/2)*M28,1) -> 179.3 | R29: =J29 -> 179.3 | X29: =SUM(O29:W29) -> 179.3
B41: 계 | O41: =INT(SUM(O5:Q40)) -> 887 | R41: =INT(SUM(R5:T40)) -> 4122 | U41: =SUM(U5:W40) -> 0 | X41: =INT(SUM(X5:Z40)) -> 5009

Sheet 003-평떼
A1: 단가산출(평떼)
A2: 산 출 근 거 | O2: 재료비 | R2: 노무비 | U2: 경 비 | X2: 합 계
A3: ▣ 평 떼 (m2)
A5: 1.0 재 료 비
A6: - 잔디(0.3*0.3m) :
A7: 11 | C7: 매 | D7: * | E7: 1.1 | F7: * | G7: ='8.0자재단가'!I21 -> 220 | I7: = | J7: =ROUND(A7*E7*G7,1) -> 2662 | O7: =J7 -> 2662 | X7: =SUM(O7:W7) -> 2662
A9: 2.0 소 운 반
A10: - | B10: 사용장비 : 지게
B11: V (평균왕복속도) | I11: = | J11: 2000 | L11: m/hr
B12: T (1일작업시간:480분-30분) = | J12: =480-30 -> 450 | L12: min
B13: L (운반거리 = | I13: = | J13: 100 | L13: m
B14: t (적재적하소요시간) | I14: = | J14: 2 | L14: min
B15: q (1회운반량) | I15: = | J15: 10 | L15: 매/회(평떼)
A16: - | B16: N (횟수) = V*T/(120*L+V*t) = | J16: =ROUND(J11*J12/(120*J13+J11*J14),3) -> 56.25 | L16: 회/일
A17: - | B17: Q (1일운반량) = N * q | I17: = | J17: =J16*J15 -> 562.5 | L17: 매/일
A18: - | B18: 보통인부 : | E18: 1인/Q*11매*1.1 | I18: * | J18: ='11.0시중노임'!F6 -> 68965
I19: = | J19: =ROUND(1/J17*A7*1.1*J18,1) -> 1483.5 | R19: =J19 -> 1483.5 | X19: =SUM(O19:W19) -> 1483.5
A21: 3.0 떼 붙 임
A22: - | B22: 보통인부 : | E22: (6.0 / 100)인* | I22: ='11.0시중노임'!F6 -> 68965
I23: = | J23: =ROUND((6/100)*I22,1) -> 4137.9 | R23: =J23 -> 4137.9 | X23: =SUM(O23:W23) -> 4137.9
A25: 4.0 꼬치 : 1일 1인 1000개제작
A26: - | B26: 보통인부 : | E26: 1인 * (22/1000) * | J26: ='11.0시중노임'!F6 -> 68965
I27: = | J27: =ROUND((22/1000)*J26,1) -> 1517.2 | R27: =J27 -> 1517.2 | X27: =SUM(O27:W27) -> 1517.2
A29: 5.0 작업반장(보통인부 25~50인 적용)
A30: - | B30: 보통인부 :
A31: (((0.24+0.19)/2/10)+7.6/100)/((25+50)/2)* | M31: ='11.0시중노임'!F6 -> 68965
I32: = | J32: =ROUND((((0.24+0.19)/2/10)+(7.6/100))/((25+50)/2)*M31,1) -> 179.3 | R32: =J32 -> 179.3 | X32: =SUM(O32:W32) -> 179.3
B41: 계 | O41: =INT(SUM(O5:Q40)) -> 2662 | R41: =INT(SUM(R5:T40)) -> 7317 | U41: =SUM(U5:W40) -> 0 | X41: =INT(SUM(X5:Z40)) -> 9979

Sheet 이지그린매트-표지
A7: 이 지 그 린 매 트

Sheet 004-이지그린매트
B1: 見 積 書
J2: 동 아 에 스 텍 ㈜
D3: 貴下 | J3: ◈본 사: 전남 화순군 동면 운농리 1039-1
B4: 現場名 : | J4: 전 화: (0 6 1) 3 7 3 - 8 1 9 0 ~ 4
J5: F A X: (0 6 1) 3 7 3 - 8 1 9 5
B6: 工事名 : 이지그린매트 설치공사 | J6: ◈지 사: 경기도 성남시 중원구 상대원동 5442-1
J7: 전 화: (0 3 1) 7 3 7 - 7 8 0 0
J8: F A X : (0 3 1) 7 7 7 - 8 3 2 5
B9: 하기와 같이 견적합니다. | J9: DATE 2010 년 1 월 일
B10: 金 額 : 금 -- 원정. (\ --- )
A12: 기호 | B12: 공 종 | C12: 규 격 | D12: 수량 | E12: 단위 | F12: 총 액 | H12: 재 료 비 | J12: 노 무 비 | L12: 경 비 | N12: 비 고
F13: 단 가 | G13: 금 액 | H13: 단 가 | I13: 금 액 | J13: 단 가 | K13: 금 액 | L13: 단 가 | M13: 금 액
A14: 1 | B14: 이지그린매트 설치공사
A15: 가 | B15: 이지그린매트 | C15: A 형 | D15: 1 | E15: m2 | F15: =H15+J15+L15 -> 5773.084 | G15: =D15*F15 -> 5773.084 | H15: =+'005-이지그린매트(A Type)'!H16 -> 3966 | I15: =D15*H15 -> 3966 | J15: =+'005-이지그린매트(A Type)'!J16 -> 1502.812 | K15: =D15*J15 -> 1502.812 | L15: =+'005-이지그린매트(A Type)'!L16 -> 304.272 | M15: =D15*L15 -> 304.272 | N15: 골프장시공 별도
A16: 나 | B16: 이지그린매트 | C16: B 형 | D16: 1 | E16: m2 | F16: =H16+J16+L16 -> 7973.084 | G16: =D16*F16 -> 7973.084 | H16: ='006-이지그린매트(B Type)'!H16 -> 6166 | I16: =D16*H16 -> 6166 | J16: ='006-이지그린매트(B Type)'!J16 -> 1502.812 | K16: =D16*J16 -> 1502.812 | L16: ='006-이지그린매트(B Type)'!L16 -> 304.272 | M16: =D16*L16 -> 304.272
A17: 다 | B17: 이지그린매트 | C17: C 형 | D17: 1 | E17: m2 | F17: =H17+J17+L17 -> 11273.084 | G17: =D17*F17 -> 11273.084 | H17: =+'007-이지그린매트(C Type)'!H16 -> 9466 | I17: =D17*H17 -> 9466 | J17: =+'007-이지그린매트(C Type)'!J16 -> 1502.812 | K17: =D17*J17 -> 1502.812 | L17: =+'007-이지그린매트(C Type)'!L16 -> 304.272 | M17: =D17*L17 -> 304.272
B20: * 부가세 별도

Sheet 005-이지그린매트(A Type)
A1: 이지그린매트 A형
A2: 공 종 | B2: 규격 | C2: 수량 | D2: 단위 | E2: 합 계 | G2: 재 료 비 | I2: 노 무 비 | K2: 경 비 | M2: 비 고
E3: 단 가 | F3: 금 액 | G3: 단 가 | H3: 금 액 | I3: 단 가 | J3: 금 액 | K3: 단 가 | L3: 금 액
A4: 1. 이지그린매트 설치공사 1m2당 단가
A5: 가. 재 료 비
A6: 이지그린매트 | B6: A 형 | C6: 1.1 | D6: m2 | E6: =+G6+I6+K6 -> 3000 | F6: =+C6*E6 -> 3300 | G6: 3000 | H6: =(G6*C6) -> 3300
A7: 고정핀 | B7: L=20~30cm | C7: 1.42 | D7: EA | E7: =+G7+I7+K7 -> 300 | F7: =+C7*E7 -> 426 | G7: 300 | H7: =(G7*C7) -> 426
A8: 고정끈 | C8: 2.4 | D8: m | E8: =+G8+I8+K8 -> 100 | F8: =+C8*E8 -> 240 | G8: 100 | H8: =(G8*C8) -> 240
A9: 소 계 | F9: =SUM(F6:F8) -> 3966 | H9: =SUM(H6:H8) -> 3966 | J9: =SUM(J6:J8) -> 0 | L9: =SUM(L6:L8) -> 0
A10: 나. 설 치 비
A11: 보통인부 | B11: 천연섬유설치 | C11: 0.012 | D11: 인 | E11: =+G11+I11+K11 -> 68965 | F11: =+C11*E11 -> 827.58 | I11: 68965 | J11: =(I11*C11) -> 827.58
A12: 특별인부 | B12: 천연섬유설치 | C12: 0.008 | D12: 인 | E12: =+G12+I12+K12 -> 84404 | F12: =+C12*E12 -> 675.232 | I12: 84404 | J12: =(I12*C12) -> 675.232
A13: 물 탱 크 | B13: 5000L | C13: 0.008 | D13: hr | E13: =+G13+I13+K13 -> 38034 | F13: =+C13*E13 -> 304.272 | K13: 38034 | L13: =C13*K13 -> 304.272
A14: 소 계 | F14: =SUM(F11:F13) -> 1807.084 | H14: =SUM(H11:H13) -> 0 | J14: =SUM(J11:J13) -> 1502.812 | L14: =SUM(L11:L13) -> 304.272
A15: 합 계 | F15: =+F9+F14 -> 5773.084 | H15: =+H9+H14 -> 3966 | J15: =+J9+J14 -> 1502.812 | L15: =+L9+L14 -> 304.272
A16: * 1 m2 당 단가 | F16: =F15 -> 5773.084 | H16: =H15 -> 3966 | J16: =J15 -> 1502.812 | L16: =L15 -> 304.272
A17: * 부가세 별도
A18: * 종자는 도로비탈면 녹화설계 및 시공지침에 의한 종자배합 설계임

Sheet 006-이지그린매트(B Type)
A1: 이지그린매트 B형
A2: 공 종 | B2: 규격 | C2: 수량 | D2: 단위 | E2: 합 계 | G2: 재 료 비 | I2: 노 무 비 | K2: 경 비 | M2: 비 고
E3: 단 가 | F3: 금 액 | G3: 단 가 | H3: 금 액 | I3: 단 가 | J3: 금 액 | K3: 단 가 | L3: 금 액
A4: 1. 이지그린매트 설치공사 1m2당 단가
A5: 가. 재 료 비
A6: 이지그린매트 | B6: B 형 | C6: 1.1 | D6: m2 | E6: =+G6+I6+K6 -> 5000 | F6: =+C6*E6 -> 5500 | G6: 5000 | H6: =(G6*C6) -> 5500
A7: 고정핀 | B7: L=20~30cm | C7: 1.42 | D7: EA | E7: =+G7+I7+K7 -> 300 | F7: =+C7*E7 -> 426 | G7: 300 | H7: =(G7*C7) -> 426
A8: 고정끈 | C8: 2.4 | D8: m | E8: =+G8+I8+K8 -> 100 | F8: =+C8*E8 -> 240 | G8: 100 | H8: =(G8*C8) -> 240
A9: 소 계 | F9: =SUM(F6:F8) -> 6166 | H9: =SUM(H6:H8) -> 6166 | J9: =SUM(J6:J8) -> 0 | L9: =SUM(L6:L8) -> 0
A10: 나. 설 치 비
A11: 보통인부 | B11: 천연섬유설치 | C11: 0.012 | D11: 인 | E11: =+G11+I11+K11 -> 68965 | F11: =+C11*E11 -> 827.58 | I11: 68965 | J11: =(I11*C11) -> 827.58
A12: 특별인부 | B12: 천연섬유설치 | C12: 0.008 | D12: 인 | E12: =+G12+I12+K12 -> 84404 | F12: =+C12*E12 -> 675.232 | I12: 84404 | J12: =(I12*C12) -> 675.232
A13: 물 탱 크 | B13: 5000L | C13: 0.008 | D13: hr | E13: =+G13+I13+K13 -> 38034 | F13: =+C13*E13 -> 304.272 | K13: 38034 | L13: =C13*K13 -> 304.272
A14: 소 계 | F14: =SUM(F11:F13) -> 1807.084 | H14: =SUM(H11:H13) -> 0 | J14: =SUM(J11:J13) -> 1502.812 | L14: =SUM(L11:L13) -> 304.272
A15: 합 계 | F15: =+F9+F14 -> 7973.084 | H15: =+H9+H14 -> 6166 | J15: =+J9+J14 -> 1502.812 | L15: =+L9+L14 -> 304.272
A16: * 1 m2 당 단가 | F16: =F15 -> 7973.084 | H16: =H15 -> 6166 | J16: =J15 -> 1502.812 | L16: =L15 -> 304.272
A17: * 부가세 별도
A18: * 종자는 도로비탈면 녹화설계 및 시공지침에 의한 종자배합 설계임

Sheet 007-이지그린매트(C Type)
A1: 이지그린매트 C형
A2: 공 종 | B2: 규격 | C2: 수량 | D2: 단위 | E2: 합 계 | G2: 재 료 비 | I2: 노 무 비 | K2: 경 비 | M2: 비 고
E3: 단 가 | F3: 금 액 | G3: 단 가 | H3: 금 액 | I3: 단 가 | J3: 금 액 | K3: 단 가 | L3: 금 액
A4: 1. 이지그린매트 설치공사 1m2당 단가
A5: 가. 재 료 비
A6: 이지그린매트 | B6: C 형 | C6: 1.1 | D6: m2 | E6: =+G6+I6+K6 -> 8000 | F6: =+C6*E6 -> 8800 | G6: 8000 | H6: =(G6*C6) -> 8800
A7: 고정핀 | B7: L=20~30cm | C7: 1.42 | D7: EA | E7: =+G7+I7+K7 -> 300 | F7: =+C7*E7 -> 426 | G7: 300 | H7: =(G7*C7) -> 426
A8: 고정끈 | C8: 2.4 | D8: m | E8: =+G8+I8+K8 -> 100 | F8: =+C8*E8 -> 240 | G8: 100 | H8: =(G8*C8) -> 240
A9: 소 계 | F9: =SUM(F6:F8) -> 9466 | H9: =SUM(H6:H8) -> 9466 | J9: =SUM(J6:J8) -> 0 | L9: =SUM(L6:L8) -> 0
A10: 나. 설 치 비
A11: 보통인부 | B11: 천연섬유설치 | C11: 0.012 | D11: 인 | E11: =+G11+I11+K11 -> 68965 | F11: =+C11*E11 -> 827.58 | I11: 68965 | J11: =(I11*C11) -> 827.58
A12: 특별인부 | B12: 천연섬유설치 | C12: 0.008 | D12: 인 | E12: =+G12+I12+K12 -> 84404 | F12: =+C12*E12 -> 675.232 | I12: 84404 | J12: =(I12*C12) -> 675.232
A13: 물 탱 크 | B13: 5000L | C13: 0.008 | D13: hr | E13: =+G13+I13+K13 -> 38034 | F13: =+C13*E13 -> 304.272 | K13: 38034 | L13: =C13*K13 -> 304.272
A14: 소 계 | F14: =SUM(F11:F13) -> 1807.084 | H14: =SUM(H11:H13) -> 0 | J14: =SUM(J11:J13) -> 1502.812 | L14: =SUM(L11:L13) -> 304.272
A15: 합 계 | F15: =+F9+F14 -> 11273.084 | H15: =+H9+H14 -> 9466 | J15: =+J9+J14 -> 1502.812 | L15: =+L9+L14 -> 304.272
A16: * 1 m2 당 단가 | F16: =F15 -> 11273.084 | H16: =H15 -> 9466 | J16: =J15 -> 1502.812 | L16: =L15 -> 304.272
A17: * 부가세 별도
A18: * 종자는 도로비탈면 녹화설계 및 시공지침에 의한 종자배합 설계임

Sheet 테라토-표지
A7: 테 라 토 공 법

Sheet 테라토5-목록
A1: 품 명 | C1: 규 격 | D1: 수 량 | E1: 단위 | F1: 총 액 | H1: 재 료 비 | J1: 노 무 비 | L1: 경 비 | N1: 비 고
F2: 단 가 | G2: 금 액 | H2: 단 가 | I2: 금 액 | J2: 단 가 | K2: 금 액 | L2: 단 가 | M2: 금 액
A3: ='테라토5-일위대가'!A3 -> 제 1호표 앙카핀 및 착지핀 홀천공
A4: ='테라토5-일위대가'!A9 -> 제 2호표 앙카핀 및 착지핀 설치
A5: ='테라토5-일위대가'!A17 -> 제 3호표 능형망 설치
A6: ='테라토5-일위대가'!A24 -> 제 4호표 취부공 품셈

Sheet 테라토5-일위대가
A1: 품 명 | C1: 규 격 | D1: 수 량 | E1: 단위 | F1: 총 액 | H1: 재 료 비 | J1: 노 무 비 | L1: 경 비 | N1: 비 고
F2: 단 가 | G2: 금 액 | H2: 단 가 | I2: 금 액 | J2: 단 가 | K2: 금 액 | L2: 단 가 | M2: 금 액
A3: 제 1호표 앙카핀 및 착지핀 홀천공 | N3: (1㎡당)
A4: 발 전 기 | C4: 50kw | D4: 0.013 | E4: HR | F4: =H4+J4+L4 -> 38821 | G4: =SUM(I4,K4,M4) -> 503 | H4: ='테라토5-장비'!F7 -> 14606 | I4: =INT(D4*H4) -> 189 | J4: ='테라토5-장비'!F11 -> 20561 | K4: =INT(D4*J4) -> 267 | L4: ='테라토5-장비'!F13 -> 3654 | M4: =INT(D4*L4) -> 47
A5: 착 암 공 | D5: 0.008 | E5: 인 | F5: =H5+J5+L5 -> 79533 | G5: =SUM(I5,K5,M5) -> 636 | H5: 0 | I5: =INT(D5*H5) -> 0 | J5: ='테라토5-단가적용'!J16 -> 79533 | K5: =INT(D5*J5) -> 636 | L5: 0 | M5: =INT(D5*L5) -> 0
A6: 보통인부 | D6: 0.008 | E6: 인 | F6: =H6+J6+L6 -> 68965 | G6: =SUM(I6,K6,M6) -> 551 | H6: 0 | I6: =INT(D6*H6) -> 0 | J6: ='테라토5-단가적용'!J12 -> 68965 | K6: =INT(D6*J6) -> 551 | L6: 0 | M6: =INT(D6*L6) -> 0
A7: 소 계 | G7: =SUM(G4:G6) -> 1690 | I7: =SUM(I4:I6) -> 189 | K7: =SUM(K4:K6) -> 1454 | M7: =SUM(M4:M6) -> 47
A9: 제 2호표 앙카핀 및 착지핀 설치 | N9: (1㎡당)
A10: 앙 카 핀 | C10: Φ16 L=0.5m | D10: 0.23 | E10: EA | F10: =H10+J10+L10 -> 600 | G10: =SUM(I10,K10,M10) -> 138 | H10: ='테라토5-단가적용'!J3 -> 600 | I10: =INT(D10*H10) -> 138 | J10: 0 | K10: =INT(D10*J10) -> 0 | L10: 0 | M10: =INT(D10*L10) -> 0
A11: 착 지 핀 | C11: Φ16 L=0.35m | D11: 0.5 | E11: EA | F11: =H11+J11+L11 -> 400 | G11: =SUM(I11,K11,M11) -> 200 | H11: ='테라토5-단가적용'!J4 -> 400 | I11: =INT(D11*H11) -> 200 | J11: 0 | K11: =INT(D11*J11) -> 0 | L11: 0 | M11: =INT(D11*L11) -> 0
A12: 특별인부 | D12: 0.002 | E12: 인 | F12: =H12+J12+L12 -> 84404 | G12: =SUM(I12,K12,M12) -> 168 | H12: 0 | I12: =INT(D12*H12) -> 0 | J12: ='테라토5-단가적용'!J13 -> 84404 | K12: =INT(D12*J12) -> 168 | L12: 0 | M12: =INT(D12*L12) -> 0
A13: 보통인부 | D13: 0.002 | E13: 인 | F13: =H13+J13+L13 -> 68965 | G13: =SUM(I13,K13,M13) -> 137 | H13: 0 | I13: =INT(D13*H13) -> 0 | J13: ='테라토5-단가적용'!J12 -> 68965 | K13: =INT(D13*J13) -> 137 | L13: 0 | M13: =INT(D13*L13) -> 0
A14: 소 계 | G14: =SUM(G10:G13) -> 643 | I14: =SUM(I10:I13) -> 338 | K14: =SUM(K10:K13) -> 305 | M14: =SUM(M10:M13) -> 0
A17: 제 3호표 능형망 설치 | N17: (1㎡당)
A18: 망(PE)360D | C18: 40합4.5*4.5 | D18: 1.3 | E18: ㎡ | F18: =SUM(H18,J18,L18) -> 2200 | G18: =SUM(I18,K18,M18) -> 2860 | H18: ='테라토5-단가적용'!J7 -> 2200 | I18: =INT(D18*H18) -> 2860 | J18: 0 | K18: =INT(D18*J18) -> 0 | L18: 0 | M18: =INT(D18*L18) -> 0
A19: 작업반장 | D19: 0.005 | E19: 인 | F19: =SUM(H19,J19,L19) -> 92218 | G19: =SUM(I19,K19,M19) -> 461 | H19: 0 | I19: =INT(D19*H19) -> 0 | J19: ='테라토5-단가적용'!J14 -> 92218 | K19: =INT(D19*J19) -> 461 | L19: 0 | M19: =INT(D19*L19) -> 0
A20: 특별인부 | D20: 0.016 | E20: 인 | F20: =SUM(H20,J20,L20) -> 84404 | G20: =SUM(I20,K20,M20) -> 1350 | H20: 0 | I20: =INT(D20*H20) -> 0 | J20: ='테라토5-단가적용'!J13 -> 84404 | K20: =INT(D20*J20) -> 1350 | L20: 0 | M20: =INT(D20*L20) -> 0
A21: 보통인부 | D21: 0.016 | E21: 인 | F21: =SUM(H21,J21,L21) -> 68965 | G21: =SUM(I21,K21,M21) -> 1103 | H21: 0 | I21: =INT(D21*H21) -> 0 | J21: ='테라토5-단가적용'!J12 -> 68965 | K21: =INT(D21*J21) -> 1103 | L21: 0 | M21: =INT(D21*L21) -> 0
A22: 소 계 | G22: =SUM(G18:G21) -> 5774 | I22: =SUM(I18:I21) -> 2860 | K22: =SUM(K18:K21) -> 2914 | M22: =SUM(M18:M21) -> 0
A24: 제 4호표 취부공 품셈 | N24: (1㎡당)
A25: 테라토 | C25: 절토면 | D25: 0.024 | E25: ㎥ | F25: =SUM(H25,J25,L25) -> 185000 | G25: =SUM(I25,K25,M25) -> 4440 | H25: ='테라토5-단가적용'!J9 -> 185000 | I25: =INT(D25*H25) -> 4440 | J25: 0 | K25: =INT(D25*J25) -> 0 | L25: 0 | M25: =INT(D25*L25) -> 0
A26: 종자 | C26: 혼합종자 | D26: 0.06 | E26: kg | F26: =SUM(H26,J26,L26) -> 50000 | G26: =SUM(I26,K26,M26) -> 3000 | H26: ='테라토5-단가적용'!J5 -> 50000 | I26: =INT(D26*H26) -> 3000 | J26: 0 | K26: =INT(D26*J26) -> 0 | L26: 0 | M26: =INT(D26*L26) -> 0
A27: 취 부 기 | C27: 25HP | D27: 0.045 | E27: hr | F27: =SUM(H27,J27,L27) -> 24583.104 | G27: =SUM(I27,K27,M27) -> 1106 | H27: 0 | I27: =INT(D27*H27) -> 0 | J27: 0 | K27: =INT(D27*J27) -> 0 | L27: ='테라토5-장비'!F33 -> 24583.104 | M27: =INT(D27*L27) -> 1106
A28: 공기압축기 | C28: 17㎡/min | D28: 0.045 | E28: hr | F28: =SUM(H28,J28,L28) -> 62115.6 | G28: =SUM(I28,K28,M28) -> 2794 | H28: ='테라토5-장비'!F47 -> 35879 | I28: =INT(D28*H28) -> 1614 | J28: ='테라토5-장비'!F51 -> 20561 | K28: =INT(D28*J28) -> 925 | L28: ='테라토5-장비'!F53 -> 5675.6 | M28: =INT(D28*L28) -> 255
A29: 발 전 기 | C29: 50kw | D29: 0.045 | E29: hr | F29: =SUM(H29,J29,L29) -> 38821 | G29: =SUM(I29,K29,M29) -> 1746 | H29: ='테라토5-장비'!F7 -> 14606 | I29: =INT(D29*H29) -> 657 | J29: ='테라토5-장비'!F11 -> 20561 | K29: =INT(D29*J29) -> 925 | L29: ='테라토5-장비'!F13 -> 3654 | M29: =INT(D29*L29) -> 164
A30: 트럭크레인 | C30: 5ton | D30: 0.052 | E30: hr | F30: =SUM(H30,J30,L30) -> 55058 | G30: =SUM(I30,K30,M30) -> 2861 | H30: ='테라토5-장비'!F107 -> 7132 | I30: =INT(D30*H30) -> 370 | J30: ='테라토5-장비'!F111 -> 24490 | K30: =INT(D30*J30) -> 1273 | L30: ='테라토5-장비'!F113 -> 23436 | M30: =INT(D30*L30) -> 1218
A31: 버블머신 | D31: 0.015 | E31: hr | F31: =SUM(H31,J31,L31) -> 13582.15 | G31: =SUM(I31,K31,M31) -> 202 | H31: ='테라토5-장비'!F167 -> 102.85 | I31: =INT(D31*H31) -> 1 | J31: ='테라토5-장비'!F171 -> 10260 | K31: =INT(D31*J31) -> 153 | L31: ='테라토5-장비'!F173 -> 3219.3 | M31: =INT(D31*L31) -> 48
A32: 테라비아 | C32: 미생물액비 | D32: 0.0009 | E32: L | F32: =SUM(H32,J32,L32) -> 18000 | G32: =SUM(I32,K32,M32) -> 16 | H32: ='테라토5-단가적용'!J8 -> 18000 | I32: =INT(D32*H32) -> 16 | K32: =INT(D32*J32) -> 0 | M32: =INT(D32*L32) -> 0
A33: 덤프트럭 | C33: 6ton | D33: 0.045 | E33: hr | F33: =SUM(H33,J33,L33) -> 41691.919 | G33: =SUM(I33,K33,M33) -> 1875 | H33: ='테라토5-장비'!F147 -> 15017 | I33: =INT(D33*H33) -> 675 | J33: ='테라토5-장비'!F151 -> 20557 | K33: =INT(D33*J33) -> 925 | L33: ='테라토5-장비'!F153 -> 6117.9189 | M33: =INT(D33*L33) -> 275
A34: 작업반장 | D34: 0.005 | E34: 인 | F34: =SUM(H34,J34,L34) -> 92218 | G34: =SUM(I34,K34,M34) -> 461 | H34: 0 | I34: =INT(D34*H34) -> 0 | J34: ='테라토5-단가적용'!J14 -> 92218 | K34: =INT(D34*J34) -> 461 | L34: 0 | M34: =INT(D34*L34) -> 0
A35: 특별인부 | D35: 0.022 | E35: 인 | F35: =SUM(H35,J35,L35) -> 84404 | G35: =SUM(I35,K35,M35) -> 1856 | H35: 0 | I35: =INT(D35*H35) -> 0 | J35: ='테라토5-단가적용'!J13 -> 84404 | K35: =INT(D35*J35) -> 1856 | L35: 0 | M35: =INT(D35*L35) -> 0
A36: 기 계 공 | D36: 0.005 | E36: 인 | F36: =SUM(H36,J36,L36) -> 86521 | G36: =SUM(I36,K36,M36) -> 432 | H36: 0 | I36: =INT(D36*H36) -> 0 | J36: ='테라토5-단가적용'!J15 -> 86521 | K36: =INT(D36*J36) -> 432 | L36: 0 | M36: =INT(D36*L36) -> 0
A37: 보통인부 | D37: 0.0038 | E37: 인 | F37: =SUM(H37,J37,L37) -> 68965 | G37: =SUM(I37,K37,M37) -> 262 | H37: 0 | I37: =INT(D37*H37) -> 0 | J37: ='테라토5-단가적용'!J12 -> 68965 | K37: =INT(D37*J37) -> 262 | L37: 0 | M37: =INT(D37*L37) -> 0
A38: 소 계 | G38: =SUM(G25:G37) -> 21051 | I38: =SUM(I25:I37) -> 10773 | K38: =SUM(K25:K37) -> 7212 | M38: =SUM(M25:M37) -> 3066
A40: 잡재료비 | C40: 재료비의3% | G40: =SUM(I40,K40,M40) -> 323 | I40: =INT(I38*3%) -> 323
A41: 기구손료 | C41: 노무비의2% | G41: =SUM(I41,K41,M41) -> 144 | K41: =INT(K38*2%) -> 144
A43: 합 계 | G43: =SUM(I43,K43,M43) -> 29625 | I43: =I38+I22+I14+I7+I40+I41 -> 14483 | K43: =K38+K22+K14+K7+K40+K41 -> 12029 | M43: =M38+M22+M14+M7+M40+M41 -> 3113

Sheet 테라토5-장비
A1: 중 기 명 : 발 전 기(50KW)
A3: 중기가격 : 16,360천원
A4: 항 목 | B4: 구 분 | C4: 수 량 | D4: 단 위 | E4: 단 가 | F4: 금 액 | G4: 비 고
A5: 재 료 비 | B5: 경 유 | C5: 8.7 | D5: ℓ | E5: ='테라토5-단가적용'!J10 -> 1322 | F5: =ROUNDDOWN(C5*E5,0) -> 11501
B6: 잡 품 | C6: 24 | D6: % | F6: =ROUNDDOWN(F5*27%,0) -> 3105
B7: 소 계 | F7: =SUM(F5:F6) -> 14606
A8: 노 무 비 | B8: 중기운전기사 | C8: 1 | D8: 인 | E8: ='테라토5-장비기준'!S11 -> 20561 | F8: =ROUNDDOWN(C8*E8,0) -> 20561
B9: 중기운전조수 | C9: 0 | D9: 인 | E9: ='테라토5-장비기준'!S12 -> 11517 | F9: =ROUNDDOWN(C9*E9,0) -> 0
B10: 중기조장 | C10: 0 | D10: 인 | E10: ='테라토5-장비기준'!S13 -> 19656 | F10: =ROUNDDOWN(C10*E10,0) -> 0
B11: 소 계 | F11: =SUM(F8:F10) -> 20561
A12: 경 비 | B12: 기계손료 | C12: 0.2234 | E12: 16360 | F12: =ROUNDDOWN(C12*E12,0) -> 3654
B13: 소 계 | F13: =SUM(F12) -> 3654
A20: 합 계 | F20: =F7+F11+F13 -> 38821
A21: 중 기 명 : 취 부 기 (16L)
A23: 중기가격 : 37,246천원
A24: 항 목 | B24: 구 분 | C24: 수 량 | D24: 단 위 | E24: 단 가 | F24: 금 액 | G24: 비 고
A25: 재 료 비 | B25: 경 유 | C25: 0 | D25: ℓ | E25: ='테라토5-단가적용'!J10 -> 1322 | F25: =ROUNDDOWN(C25*E25,0) -> 0
B26: 잡 품 | C26: 0 | D26: % | F26: =ROUNDDOWN(F25*25%,0) -> 0
B27: 소 계 | F27: =SUM(F25:F26) -> 0
A28: 노 무 비 | B28: 중기운전기사 | C28: 1 | D28: 인 | E28: ='테라토5-장비기준'!S31 -> 0 | F28: =ROUNDDOWN(C28*E28,0) -> 0
B29: 중기운전조수 | C29: 0 | D29: 인 | E29: ='테라토5-장비기준'!S32 -> 0 | F29: =ROUNDDOWN(C29*E29,0) -> 0
B30: 중기조장 | C30: 0 | D30: 인 | E30: ='테라토5-장비기준'!S33 -> 0 | F30: =ROUNDDOWN(C30*E30,0) -> 0
B31: 소 계 | F31: =SUM(F28:F30) -> 0
A32: 경 비 | B32: 기계손료 | C32: 0.4221 | E32: 58240 | F32: =E32*C32 -> 24583.104
B33: 소 계 | F33: =SUM(F32) -> 24583.104
A40: 합 계 | F40: =F27+F31+F33 -> 24583.104
A41: 중 기 명 : 공기압축기 (17㎥/min)
A43: 중기가격 : 28,000천원
A44: 항 목 | B44: 구 분 | C44: 수 량 | D44: 단 위 | E44: 단 가 | F44: 금 액 | G44: 비 고
A45: 재 료 비 | B45: 경 유 | C45: 23 | D45: ℓ | E45: ='테라토5-단가적용'!J10 -> 1322 | F45: =ROUNDDOWN(C45*E45,0) -> 30406
B46: 잡 품 | C46: 16 | D46: % | F46: =ROUNDDOWN(F45*18%,0) -> 5473
B47: 소 계 | F47: =SUM(F45:F46) -> 35879
A48: 노 무 비 | B48: 중기운전기사 | C48: 1 | D48: 인 | E48: ='테라토5-장비기준'!S11 -> 20561 | F48: =ROUNDDOWN(C48*E48,0) -> 20561
B49: 중기운전조수 | C49: 0 | D49: 인 | E49: ='테라토5-장비기준'!S12 -> 11517 | F49: =ROUNDDOWN(C49*E49,0) -> 0
B50: 중기조장 | C50: 0 | D50: 인 | E50: ='테라토5-장비기준'!S13 -> 19656 | F50: =ROUNDDOWN(C50*E50,0) -> 0
B51: 소 계 | F51: =SUM(F48:F50) -> 20561
A52: 경 비 | B52: 기계손료 | C52: 0.2027 | E52: 28000 | F52: =E52*C52 -> 5675.6
B53: 소 계 | F53: =SUM(F52) -> 5675.6
A60: 합 계 | F60: =F47+F51+F53 -> 62115.6
A61: 중 기 명 : 굴삭기(유압식백호우 0.4㎥)
...

Sheet 테라토5-장비기준
A2: 적 용 기 준
B4: * 환 율
C5: 1달라($) | D5: : | E5: 1380
B7: * 유 류 대
C8: 경 유 | D8: : | E8: ='테라토5-단가적용'!J10 -> 1322 | F8: 원
B10: * 노 무 비
C11: 중기운전기사 | D11: : | E11: ='테라토5-단가적용'!J17 -> 98693 | F11: * | G11: 16 | H11: / | I11: 12 | J11: * | K11: 1 | L11: / | M11: 8 | N11: * | O11: 25 | P11: / | Q11: 20 | R11: = | S11: =ROUNDDOWN(E11*G11/I11*1/8*25/20,0) -> 20561
C12: 중기운전조수 | D12: : | E12: ='테라토5-단가적용'!J19 -> 55282 | F12: * | G12: 16 | H12: / | I12: 12 | J12: * | K12: 1 | L12: / | M12: 8 | N12: * | O12: 25 | P12: / | Q12: 20 | R12: = | S12: =ROUNDDOWN(E12*G12/I12*1/8*25/20,0) -> 11517
C13: 중기조장 | D13: : | E13: ='테라토5-단가적용'!J18 -> 94350 | F13: * | G13: 16 | H13: / | I13: 12 | J13: * | K13: 1 | L13: / | M13: 8 | N13: * | O13: 25 | P13: / | Q13: 20 | R13: = | S13: =ROUNDDOWN(E13*G13/I13*1/8*25/20,0) -> 19656
C14: 운전사(기계) | D14: : | E14: ='테라토5-단가적용'!J20 -> 84942 | F14: * | G14: 16 | H14: / | I14: 12 | J14: * | K14: 1 | L14: / | M14: 8 | N14: * | O14: 25 | P14: / | Q14: 20 | R14: = | S14: =ROUNDDOWN(E14*G14/I14*1/8*25/20,0) -> 17696

Sheet 테라토5-단가적용
A1: 종 별 | B1: 규 격 | C1: 단위 | D1: 적산정보 | F1: 견적서 | H1: 물가정보(04월) | J1: 적용단가
D2: PAGE | E2: 금 액 | F2: PAGE | G2: 금 액 | H2: PAGE | I2: 금 액
A3: 앵커핀 | B3: 이형철근 Φ16 L=0.5M | C3: 개 | H3: 287 | I3: 600 | J3: =I3 -> 600
A4: 착지핀 | B4: 이형철근 Φ16 L=0.35M | C4: 개 | H4: 287 | I4: 400 | J4: =I4 -> 400
A5: 종자 | B5: 혼합종자 | C5: KG | G5: 50000 | J5: =G5 -> 50000
A6: 철선 | B6: 아연도 #8 | C6: M | H6: 287 | I6: 240 | J6: =I6 -> 240
A7: 망(PE)360D | B7: 40합4.5*4.5 | C7: M2 | G7: 2200 | J7: =G7 -> 2200
A8: 테라비아 | B8: 미생물액비 | C8: L | H8: 302 | I8: 18000 | J8: =I8 -> 18000
A9: 테라토 | B9: 사면보호용 | C9: M3 | H9: 302 | I9: 185000 | J9: =I9 -> 185000
A10: 경유 | C10: ℓ | H10: 1255 | I10: 1322 | J10: =I10 -> 1322
A12: 보통인부 | C12: 인 | J12: 68965
A13: 특별인부 | C13: 인 | J13: 84404
A14: 작업반장 | C14: 인 | J14: 92218
A15: 기계공 | C15: 인 | J15: 86521
A16: 착암공 | C16: 인 | J16: 79533
A17: 건설기계운전기사 | C17: 인 | J17: 98693
A18: 건설기계조장 | C18: 인 | J18: 94350
A19: 건설기계운전조수 | C19: 인 | J19: 55282
A20: 운전사(운반차) | C20: 인 | J20: 84942
A24: * 참고사항 :

Sheet 테라토7-목록
A1: 품 명 | C1: 규 격 | D1: 수 량 | E1: 단위 | F1: 총 액 | H1: 재 료 비 | J1: 노 무 비 | L1: 경 비 | N1: 비 고
F2: 단 가 | G2: 금 액 | H2: 단 가 | I2: 금 액 | J2: 단 가 | K2: 금 액 | L2: 단 가 | M2: 금 액
A3: ='테라토7-일위대가'!A3 -> 제 1호표 앙카핀 및 착지핀 홀천공
A4: ='테라토7-일위대가'!A9 -> 제 2호표 앙카핀 및 착지핀 설치
A5: ='테라토7-일위대가'!A17 -> 제 3호표 능형망 설치
A6: ='테라토7-일위대가'!A24 -> 제 4호표 취부공 품셈

Sheet 테라토7-일위대가
A1: 품 명 | C1: 규 격 | D1: 수 량 | E1: 단위 | F1: 총 액 | H1: 재 료 비 | J1: 노 무 비 | L1: 경 비 | N1: 비 고
F2: 단 가 | G2: 금 액 | H2: 단 가 | I2: 금 액 | J2: 단 가 | K2: 금 액 | L2: 단 가 | M2: 금 액
A3: 제 1호표 앙카핀 및 착지핀 홀천공 | N3: (1㎡당)
A4: 발 전 기 | C4: 50kw | D4: 0.016 | E4: HR | F4: =H4+J4+L4 -> 38821 | G4: =SUM(I4,K4,M4) -> 619 | H4: ='테라토7-장비'!F7 -> 14606 | I4: =INT(D4*H4) -> 233 | J4: ='테라토7-장비'!F11 -> 20561 | K4: =INT(D4*J4) -> 328 | L4: ='테라토7-장비'!F13 -> 3654 | M4: =INT(D4*L4) -> 58
A5: 착 암 공 | D5: 0.01 | E5: 인 | F5: =H5+J5+L5 -> 79533 | G5: =SUM(I5,K5,M5) -> 795 | H5: 0 | I5: =INT(D5*H5) -> 0 | J5: ='테라토7-단가적용'!J16 -> 79533 | K5: =INT(D5*J5) -> 795 | L5: 0 | M5: =INT(D5*L5) -> 0
A6: 보통인부 | D6: 0.01 | E6: 인 | F6: =H6+J6+L6 -> 68965 | G6: =SUM(I6,K6,M6) -> 689 | H6: 0 | I6: =INT(D6*H6) -> 0 | J6: ='테라토7-단가적용'!J12 -> 68965 | K6: =INT(D6*J6) -> 689 | L6: 0 | M6: =INT(D6*L6) -> 0
A7: 소 계 | G7: =SUM(G4:G6) -> 2103 | I7: =SUM(I4:I6) -> 233 | K7: =SUM(K4:K6) -> 1812 | M7: =SUM(M4:M6) -> 58
A9: 제 2호표 앙카핀 및 착지핀 설치 | N9: (1㎡당)
A10: 앙 카 핀 | C10: Φ16 L=0.5m | D10: 0.23 | E10: EA | F10: =H10+J10+L10 -> 600 | G10: =SUM(I10,K10,M10) -> 138 | H10: ='테라토7-단가적용'!J3 -> 600 | I10: =INT(D10*H10) -> 138 | J10: 0 | K10: =INT(D10*J10) -> 0 | L10: 0 | M10: =INT(D10*L10) -> 0
A11: 착 지 핀 | C11: Φ16 L=0.35m | D11: 0.5 | E11: EA | F11: =H11+J11+L11 -> 400 | G11: =SUM(I11,K11,M11) -> 200 | H11: ='테라토7-단가적용'!J4 -> 400 | I11: =INT(D11*H11) -> 200 | J11: 0 | K11: =INT(D11*J11) -> 0 | L11: 0 | M11: =INT(D11*L11) -> 0
A12: 특별인부 | D12: 0.004 | E12: 인 | F12: =H12+J12+L12 -> 84404 | G12: =SUM(I12,K12,M12) -> 337 | H12: 0 | I12: =INT(D12*H12) -> 0 | J12: ='테라토7-단가적용'!J13 -> 84404 | K12: =INT(D12*J12) -> 337 | L12: 0 | M12: =INT(D12*L12) -> 0
A13: 보통인부 | D13: 0.004 | E13: 인 | F13: =H13+J13+L13 -> 68965 | G13: =SUM(I13,K13,M13) -> 275 | H13: 0 | I13: =INT(D13*H13) -> 0 | J13: ='테라토7-단가적용'!J12 -> 68965 | K13: =INT(D13*J13) -> 275 | L13: 0 | M13: =INT(D13*L13) -> 0
A14: 소 계 | G14: =SUM(G10:G13) -> 950 | I14: =SUM(I10:I13) -> 338 | K14: =SUM(K10:K13) -> 612 | M14: =SUM(M10:M13) -> 0
A17: 제 3호표 능형망 설치 | N17: (1㎡당)
A18: 능 형 망 | C18: #10 58*58 | D18: 1.3 | E18: ㎡ | F18: =SUM(H18,J18,L18) -> 3260 | G18: =SUM(I18,K18,M18) -> 4238 | H18: ='테라토7-단가적용'!J7 -> 3260 | I18: =INT(D18*H18) -> 4238 | J18: 0 | K18: =INT(D18*J18) -> 0 | L18: 0 | M18: =INT(D18*L18) -> 0
A19: 철 선 | C19: #8 pvc 코팅 | D19: 1.3 | E19: m | F19: =SUM(H19,J19,L19) -> 240 | G19: =SUM(I19,K19,M19) -> 312 | H19: ='테라토7-단가적용'!J6 -> 240 | I19: =INT(D19*H19) -> 312 | J19: 0 | K19: =INT(D19*J19) -> 0 | L19: 0 | M19: =INT(D19*L19) -> 0
A20: 작업반장 | D20: 0.004 | E20: 인 | F20: =SUM(H20,J20,L20) -> 92218 | G20: =SUM(I20,K20,M20) -> 368 | H20: 0 | I20: =INT(D20*H20) -> 0 | J20: ='테라토7-단가적용'!J14 -> 92218 | K20: =INT(D20*J20) -> 368 | L20: 0 | M20: =INT(D20*L20) -> 0
A21: 특별인부 | D21: 0.018 | E21: 인 | F21: =SUM(H21,J21,L21) -> 84404 | G21: =SUM(I21,K21,M21) -> 1519 | H21: 0 | I21: =INT(D21*H21) -> 0 | J21: ='테라토7-단가적용'!J13 -> 84404 | K21: =INT(D21*J21) -> 1519 | L21: 0 | M21: =INT(D21*L21) -> 0
A22: 보통인부 | D22: 0.018 | E22: 인 | F22: =SUM(H22,J22,L22) -> 68965 | G22: =SUM(I22,K22,M22) -> 1241 | H22: 0 | I22: =INT(D22*H22) -> 0 | J22: ='테라토7-단가적용'!J12 -> 68965 | K22: =INT(D22*J22) -> 1241 | L22: 0 | M22: =INT(D22*L22) -> 0
A23: 소 계 | G23: =SUM(G18:G22) -> 7678 | I23: =SUM(I18:I22) -> 4550 | K23: =SUM(K18:K22) -> 3128 | M23: =SUM(M18:M22) -> 0
A24: 제 4호표 취부공 품셈 | N24: (1㎡당)
A25: 테라토 | C25: 절토면 | D25: 0.033 | E25: ㎥ | F25: =SUM(H25,J25,L25) -> 185000 | G25: =SUM(I25,K25,M25) -> 6105 | H25: ='테라토7-단가적용'!J9 -> 185000 | I25: =INT(D25*H25) -> 6105 | J25: 0 | K25: =INT(D25*J25) -> 0 | L25: 0 | M25: =INT(D25*L25) -> 0
A26: 종자 | C26: 혼합종자 | D26: 0.08 | E26: kg | F26: =SUM(H26,J26,L26) -> 50000 | G26: =SUM(I26,K26,M26) -> 4000 | H26: ='테라토7-단가적용'!J5 -> 50000 | I26: =INT(D26*H26) -> 4000 | J26: 0 | K26: =INT(D26*J26) -> 0 | L26: 0 | M26: =INT(D26*L26) -> 0
A27: 취 부 기 | C27: 25HP | D27: 0.06 | E27: hr | F27: =SUM(H27,J27,L27) -> 24583.104 | G27: =SUM(I27,K27,M27) -> 1474 | H27: 0 | I27: =INT(D27*H27) -> 0 | J27: 0 | K27: =INT(D27*J27) -> 0 | L27: ='테라토7-장비'!F33 -> 24583.104 | M27: =INT(D27*L27) -> 1474
A28: 공기압축기 | C28: 17㎡/min | D28: 0.06 | E28: hr | F28: =SUM(H28,J28,L28) -> 62115.6 | G28: =SUM(I28,K28,M28) -> 3725 | H28: ='테라토7-장비'!F47 -> 35879 | I28: =INT(D28*H28) -> 2152 | J28: ='테라토7-장비'!F51 -> 20561 | K28: =INT(D28*J28) -> 1233 | L28: ='테라토7-장비'!F53 -> 5675.6 | M28: =INT(D28*L28) -> 340
A29: 발 전 기 | C29: 50kw | D29: 0.06 | E29: hr | F29: =SUM(H29,J29,L29) -> 38821 | G29: =SUM(I29,K29,M29) -> 2328 | H29: ='테라토7-장비'!F7 -> 14606 | I29: =INT(D29*H29) -> 876 | J29: ='테라토7-장비'!F11 -> 20561 | K29: =INT(D29*J29) -> 1233 | L29: ='테라토7-장비'!F13 -> 3654 | M29: =INT(D29*L29) -> 219
A30: 트럭크레인 | C30: 5ton | D30: 0.06 | E30: hr | F30: =SUM(H30,J30,L30) -> 55058 | G30: =SUM(I30,K30,M30) -> 3302 | H30: ='테라토7-장비'!F107 -> 7132 | I30: =INT(D30*H30) -> 427 | J30: ='테라토7-장비'!F111 -> 24490 | K30: =INT(D30*J30) -> 1469 | L30: ='테라토7-장비'!F113 -> 23436 | M30: =INT(D30*L30) -> 1406
A31: 버블머신 | D31: 0.019 | E31: hr | F31: =SUM(H31,J31,L31) -> 13582.15 | G31: =SUM(I31,K31,M31) -> 256 | H31: ='테라토7-장비'!F167 -> 102.85 | I31: =INT(D31*H31) -> 1 | J31: ='테라토7-장비'!F171 -> 10260 | K31: =INT(D31*J31) -> 194 | L31: ='테라토7-장비'!F173 -> 3219.3 | M31: =INT(D31*L31) -> 61
A32: 테라비아 | C32: 미생물액비 | D32: 0.0015 | E32: L | F32: =SUM(H32,J32,L32) -> 18000 | G32: =SUM(I32,K32,M32) -> 27 | H32: ='테라토7-단가적용'!J8 -> 18000 | I32: =INT(D32*H32) -> 27 | K32: =INT(D32*J32) -> 0 | M32: =INT(D32*L32) -> 0
A33: 덤프트럭 | C33: 6ton | D33: 0.06 | E33: hr | F33: =SUM(H33,J33,L33) -> 41691.919 | G33: =SUM(I33,K33,M33) -> 2501 | H33: ='테라토7-장비'!F147 -> 15017 | I33: =INT(D33*H33) -> 901 | J33: ='테라토7-장비'!F151 -> 20557 | K33: =INT(D33*J33) -> 1233 | L33: ='테라토7-장비'!F153 -> 6117.9189 | M33: =INT(D33*L33) -> 367
A34: 작업반장 | D34: 0.006 | E34: 인 | F34: =SUM(H34,J34,L34) -> 92218 | G34: =SUM(I34,K34,M34) -> 553 | H34: 0 | I34: =INT(D34*H34) -> 0 | J34: ='테라토7-단가적용'!J14 -> 92218 | K34: =INT(D34*J34) -> 553 | L34: 0 | M34: =INT(D34*L34) -> 0
A35: 특별인부 | D35: 0.027 | E35: 인 | F35: =SUM(H35,J35,L35) -> 84404 | G35: =SUM(I35,K35,M35) -> 2278 | H35: 0 | I35: =INT(D35*H35) -> 0 | J35: ='테라토7-단가적용'!J13 -> 84404 | K35: =INT(D35*J35) -> 2278 | L35: 0 | M35: =INT(D35*L35) -> 0
A36: 기 계 공 | D36: 0.006 | E36: 인 | F36: =SUM(H36,J36,L36) -> 86521 | G36: =SUM(I36,K36,M36) -> 519 | H36: 0 | I36: =INT(D36*H36) -> 0 | J36: ='테라토7-단가적용'!J15 -> 86521 | K36: =INT(D36*J36) -> 519 | L36: 0 | M36: =INT(D36*L36) -> 0
A37: 보통인부 | D37: 0.052 | E37: 인 | F37: =SUM(H37,J37,L37) -> 68965 | G37: =SUM(I37,K37,M37) -> 3586 | H37: 0 | I37: =INT(D37*H37) -> 0 | J37: ='테라토7-단가적용'!J12 -> 68965 | K37: =INT(D37*J37) -> 3586 | L37: 0 | M37: =INT(D37*L37) -> 0
A38: 소 계 | G38: =SUM(G25:G37) -> 30654 | I38: =SUM(I25:I37) -> 14489 | K38: =SUM(K25:K37) -> 12298 | M38: =SUM(M25:M37) -> 3867
A40: 잡재료비 | C40: 재료비의3% | G40: =SUM(I40,K40,M40) -> 434 | I40: =INT(I38*3%) -> 434
A41: 기구손료 | C41: 노무비의2% | G41: =SUM(I41,K41,M41) -> 245 | K41: =INT(K38*2%) -> 245
A43: 합 계 | G43: =SUM(I43,K43,M43) -> 42064 | I43: =I41+I40+I38+I23+I14+I7 -> 20044 | K43: =K41+K40+K38+K23+K14+K7 -> 18095 | M43: =M41+M40+M38+M23+M14+M7 -> 3925

Sheet 테라토7-장비
A1: 중 기 명 : 발 전 기(50KW)
A3: 중기가격 : 16,360천원
A4: 항 목 | B4: 구 분 | C4: 수 량 | D4: 단 위 | E4: 단 가 | F4: 금 액 | G4: 비 고
A5: 재 료 비 | B5: 경 유 | C5: 8.7 | D5: ℓ | E5: ='테라토7-단가적용'!J10 -> 1322 | F5: =ROUNDDOWN(C5*E5,0) -> 11501
B6: 잡 품 | C6: 24 | D6: % | F6: =ROUNDDOWN(F5*27%,0) -> 3105
B7: 소 계 | F7: =SUM(F5:F6) -> 14606
A8: 노 무 비 | B8: 중기운전기사 | C8: 1 | D8: 인 | E8: ='테라토7-장비기준'!S11 -> 20561 | F8: =ROUNDDOWN(C8*E8,0) -> 20561
B9: 중기운전조수 | C9: 0 | D9: 인 | E9: ='테라토7-장비기준'!S12 -> 11517 | F9: =ROUNDDOWN(C9*E9,0) -> 0
B10: 중기조장 | C10: 0 | D10: 인 | E10: ='테라토7-장비기준'!S13 -> 19656 | F10: =ROUNDDOWN(C10*E10,0) -> 0
B11: 소 계 | F11: =SUM(F8:F10) -> 20561
A12: 경 비 | B12: 기계손료 | C12: 0.2234 | E12: 16360 | F12: =ROUNDDOWN(C12*E12,0) -> 3654
B13: 소 계 | F13: =SUM(F12) -> 3654
A20: 합 계 | F20: =F7+F11+F13 -> 38821
A21: 중 기 명 : 취 부 기 (16L)
A23: 중기가격 : 37,246천원
A24: 항 목 | B24: 구 분 | C24: 수 량 | D24: 단 위 | E24: 단 가 | F24: 금 액 | G24: 비 고
A25: 재 료 비 | B25: 경 유 | C25: 0 | D25: ℓ | E25: ='테라토7-단가적용'!J10 -> 1322 | F25: =ROUNDDOWN(C25*E25,0) -> 0
B26: 잡 품 | C26: 0 | D26: % | F26: =ROUNDDOWN(F25*25%,0) -> 0
B27: 소 계 | F27: =SUM(F25:F26) -> 0
A28: 노 무 비 | B28: 중기운전기사 | C28: 1 | D28: 인 | E28: ='테라토7-장비기준'!S31 -> 0 | F28: =ROUNDDOWN(C28*E28,0) -> 0
B29: 중기운전조수 | C29: 0 | D29: 인 | E29: ='테라토7-장비기준'!S32 -> 0 | F29: =ROUNDDOWN(C29*E29,0) -> 0
B30: 중기조장 | C30: 0 | D30: 인 | E30: ='테라토7-장비기준'!S33 -> 0 | F30: =ROUNDDOWN(C30*E30,0) -> 0
B31: 소 계 | F31: =SUM(F28:F30) -> 0
A32: 경 비 | B32: 기계손료 | C32: 0.4221 | E32: 58240 | F32: =E32*C32 -> 24583.104
B33: 소 계 | F33: =SUM(F32) -> 24583.104
A40: 합 계 | F40: =F27+F31+F33 -> 24583.104
A41: 중 기 명 : 공기압축기 (17㎥/min)
A43: 중기가격 : 28,000천원
A44: 항 목 | B44: 구 분 | C44: 수 량 | D44: 단 위 | E44: 단 가 | F44: 금 액 | G44: 비 고
A45: 재 료 비 | B45: 경 유 | C45: 23 | D45: ℓ | E45: ='테라토7-단가적용'!J10 -> 1322 | F45: =ROUNDDOWN(C45*E45,0) -> 30406
B46: 잡 품 | C46: 16 | D46: % | F46: =ROUNDDOWN(F45*18%,0) -> 5473
B47: 소 계 | F47: =SUM(F45:F46) -> 35879
A48: 노 무 비 | B48: 중기운전기사 | C48: 1 | D48: 인 | E48: ='테라토7-장비기준'!S11 -> 20561 | F48: =ROUNDDOWN(C48*E48,0) -> 20561
B49: 중기운전조수 | C49: 0 | D49: 인 | E49: ='테라토7-장비기준'!S12 -> 11517 | F49: =ROUNDDOWN(C49*E49,0) -> 0
B50: 중기조장 | C50: 0 | D50: 인 | E50: ='테라토7-장비기준'!S13 -> 19656 | F50: =ROUNDDOWN(C50*E50,0) -> 0
B51: 소 계 | F51: =SUM(F48:F50) -> 20561
A52: 경 비 | B52: 기계손료 | C52: 0.2027 | E52: 28000 | F52: =E52*C52 -> 5675.6
B53: 소 계 | F53: =SUM(F52) -> 5675.6
A60: 합 계 | F60: =F47+F51+F53 -> 62115.6
A61: 중 기 명 : 굴삭기(유압식백호우 0.4㎥)
...

Sheet 테라토7-장비기준
A2: 적 용 기 준
B4: * 환 율
C5: 1달라($) | D5: : | E5: 1380
B7: * 유 류 대
C8: 경 유 | D8: : | E8: ='테라토7-단가적용'!J10 -> 1322 | F8: 원
B10: * 노 무 비
C11: 중기운전기사 | D11: : | E11: ='테라토7-단가적용'!J17 -> 98693 | F11: * | G11: 16 | H11: / | I11: 12 | J11: * | K11: 1 | L11: / | M11: 8 | N11: * | O11: 25 | P11: / | Q11: 20 | R11: = | S11: =ROUNDDOWN(E11*G11/I11*1/8*25/20,0) -> 20561
C12: 중기운전조수 | D12: : | E12: ='테라토7-단가적용'!J19 -> 55282 | F12: * | G12: 16 | H12: / | I12: 12 | J12: * | K12: 1 | L12: / | M12: 8 | N12: * | O12: 25 | P12: / | Q12: 20 | R12: = | S12: =ROUNDDOWN(E12*G12/I12*1/8*25/20,0) -> 11517
C13: 중기조장 | D13: : | E13: ='테라토7-단가적용'!J18 -> 94350 | F13: * | G13: 16 | H13: / | I13: 12 | J13: * | K13: 1 | L13: / | M13: 8 | N13: * | O13: 25 | P13: / | Q13: 20 | R13: = | S13: =ROUNDDOWN(E13*G13/I13*1/8*25/20,0) -> 19656
C14: 운전사(기계) | D14: : | E14: ='테라토7-단가적용'!J20 -> 84942 | F14: * | G14: 16 | H14: / | I14: 12 | J14: * | K14: 1 | L14: / | M14: 8 | N14: * | O14: 25 | P14: / | Q14: 20 | R14: = | S14: =ROUNDDOWN(E14*G14/I14*1/8*25/20,0) -> 17696

Sheet 테라토7-단가적용
A1: 종 별 | B1: 규 격 | C1: 단위 | D1: 적산정보 | F1: 견적서 | H1: 물가정보(04월) | J1: 적용단가
D2: PAGE | E2: 금 액 | F2: PAGE | G2: 금 액 | H2: PAGE | I2: 금 액
A3: 앵커핀 | B3: 이형철근 Φ16 L=0.5M | C3: 개 | H3: 287 | I3: 600 | J3: =I3 -> 600
A4: 착지핀 | B4: 이형철근 Φ16 L=0.35M | C4: 개 | H4: 287 | I4: 400 | J4: =I4 -> 400
A5: 종자 | B5: 혼합종자 | C5: KG | G5: 50000 | J5: =G5 -> 50000
A6: 철선 | B6: 아연도 #8 | C6: M | H6: 287 | I6: 240 | J6: =I6 -> 240
A7: 부착망(능형망) | B7: #10 58*58 | C7: M2 | H7: 287 | I7: 3260 | J7: =I7 -> 3260
A8: 테라비아 | B8: 미생물액비 | C8: L | H8: 302 | I8: 18000 | J8: =I8 -> 18000
A9: 테라토 | B9: 사면보호용 | C9: M3 | H9: 302 | I9: 185000 | J9: =I9 -> 185000
A10: 경유 | C10: ℓ | H10: 1255 | I10: 1322 | J10: =I10 -> 1322
A12: 보통인부 | C12: 인 | J12: 68965
A13: 특별인부 | C13: 인 | J13: 84404
A14: 작업반장 | C14: 인 | J14: 92218
A15: 기계공 | C15: 인 | J15: 86521
A16: 착암공 | C16: 인 | J16: 79533
A17: 건설기계운전기사 | C17: 인 | J17: 98693
A18: 건설기계조장 | C18: 인 | J18: 94350
A19: 건설기계운전조수 | C19: 인 | J19: 55282
A20: 운전사(운반차) | C20: 인 | J20: 84942
A24: * 참고사항 :

Sheet 테라토10-목록
A1: 품 명 | C1: 규 격 | D1: 수 량 | E1: 단위 | F1: 총 액 | H1: 재 료 비 | J1: 노 무 비 | L1: 경 비 | N1: 비 고
F2: 단 가 | G2: 금 액 | H2: 단 가 | I2: 금 액 | J2: 단 가 | K2: 금 액 | L2: 단 가 | M2: 금 액
A3: ='테라토10-일위대가'!A3 -> 제 1호표 앙카핀 및 착지핀 홀천공
A4: ='테라토10-일위대가'!A9 -> 제 2호표 앙카핀 및 착지핀 설치
A5: ='테라토10-일위대가'!A17 -> 제 3호표 능형망 설치
A6: ='테라토10-일위대가'!A24 -> 제 4호표 취부공 품셈

Sheet 테라토10-일위대가
A1: 품 명 | C1: 규 격 | D1: 수 량 | E1: 단위 | F1: 총 액 | H1: 재 료 비 | J1: 노 무 비 | L1: 경 비 | N1: 비 고
F2: 단 가 | G2: 금 액 | H2: 단 가 | I2: 금 액 | J2: 단 가 | K2: 금 액 | L2: 단 가 | M2: 금 액
A3: 제 1호표 앙카핀 및 착지핀 홀천공 | N3: (1㎡당)
A4: 발 전 기 | C4: 50kw | D4: 0.019 | E4: HR | F4: =H4+J4+L4 -> 38821 | G4: =SUM(I4,K4,M4) -> 736 | H4: ='테라토10-장비'!F7 -> 14606 | I4: =INT(D4*H4) -> 277 | J4: ='테라토10-장비'!F11 -> 20561 | K4: =INT(D4*J4) -> 390 | L4: ='테라토10-장비'!F13 -> 3654 | M4: =INT(D4*L4) -> 69
A5: 착 암 공 | D5: 0.012 | E5: 인 | F5: =H5+J5+L5 -> 79533 | G5: =SUM(I5,K5,M5) -> 954 | H5: 0 | I5: =INT(D5*H5) -> 0 | J5: ='테라토10-단가적용'!J16 -> 79533 | K5: =INT(D5*J5) -> 954 | L5: 0 | M5: =INT(D5*L5) -> 0
A6: 보통인부 | D6: 0.012 | E6: 인 | F6: =H6+J6+L6 -> 68965 | G6: =SUM(I6,K6,M6) -> 827 | H6: 0 | I6: =INT(D6*H6) -> 0 | J6: ='테라토10-단가적용'!J12 -> 68965 | K6: =INT(D6*J6) -> 827 | L6: 0 | M6: =INT(D6*L6) -> 0
A7: 소 계 | G7: =SUM(G4:G6) -> 2517 | I7: =SUM(I4:I6) -> 277 | K7: =SUM(K4:K6) -> 2171 | M7: =SUM(M4:M6) -> 69
A9: 제 2호표 앙카핀 및 착지핀 설치 | N9: (1㎡당)
A10: 앙 카 핀 | C10: Φ16 L=0.5m | D10: 0.23 | E10: EA | F10: =H10+J10+L10 -> 600 | G10: =SUM(I10,K10,M10) -> 138 | H10: ='테라토10-단가적용'!J3 -> 600 | I10: =INT(D10*H10) -> 138 | J10: 0 | K10: =INT(D10*J10) -> 0 | L10: 0 | M10: =INT(D10*L10) -> 0
A11: 착 지 핀 | C11: Φ16 L=0.35m | D11: 0.5 | E11: EA | F11: =H11+J11+L11 -> 400 | G11: =SUM(I11,K11,M11) -> 200 | H11: ='테라토10-단가적용'!J4 -> 400 | I11: =INT(D11*H11) -> 200 | J11: 0 | K11: =INT(D11*J11) -> 0 | L11: 0 | M11: =INT(D11*L11) -> 0
A12: 특별인부 | D12: 0.006 | E12: 인 | F12: =H12+J12+L12 -> 84404 | G12: =SUM(I12,K12,M12) -> 506 | H12: 0 | I12: =INT(D12*H12) -> 0 | J12: ='테라토10-단가적용'!J13 -> 84404 | K12: =INT(D12*J12) -> 506 | L12: 0 | M12: =INT(D12*L12) -> 0
A13: 보통인부 | D13: 0.006 | E13: 인 | F13: =H13+J13+L13 -> 68965 | G13: =SUM(I13,K13,M13) -> 413 | H13: 0 | I13: =INT(D13*H13) -> 0 | J13: ='테라토10-단가적용'!J12 -> 68965 | K13: =INT(D13*J13) -> 413 | L13: 0 | M13: =INT(D13*L13) -> 0
A14: 소 계 | G14: =SUM(G10:G13) -> 1257 | I14: =SUM(I10:I13) -> 338 | K14: =SUM(K10:K13) -> 919 | M14: =SUM(M10:M13) -> 0
A17: 제 3호표 능형망 설치 | N17: (1㎡당)
A18: 능 형 망 | C18: #10 58*58 | D18: 1.3 | E18: ㎡ | F18: =SUM(H18,J18,L18) -> 3260 | G18: =SUM(I18,K18,M18) -> 4238 | H18: ='테라토10-단가적용'!J7 -> 3260 | I18: =INT(D18*H18) -> 4238 | J18: 0 | K18: =INT(D18*J18) -> 0 | L18: 0 | M18: =INT(D18*L18) -> 0
A19: 철 선 | C19: #8 pvc 코팅 | D19: 1.3 | E19: m | F19: =SUM(H19,J19,L19) -> 240 | G19: =SUM(I19,K19,M19) -> 312 | H19: ='테라토10-단가적용'!J6 -> 240 | I19: =INT(D19*H19) -> 312 | J19: 0 | K19: =INT(D19*J19) -> 0 | L19: 0 | M19: =INT(D19*L19) -> 0
A20: 작업반장 | D20: 0.005 | E20: 인 | F20: =SUM(H20,J20,L20) -> 92218 | G20: =SUM(I20,K20,M20) -> 461 | H20: 0 | I20: =INT(D20*H20) -> 0 | J20: ='테라토10-단가적용'!J14 -> 92218 | K20: =INT(D20*J20) -> 461 | L20: 0 | M20: =INT(D20*L20) -> 0
A21: 특별인부 | D21: 0.02 | E21: 인 | F21: =SUM(H21,J21,L21) -> 84404 | G21: =SUM(I21,K21,M21) -> 1688 | H21: 0 | I21: =INT(D21*H21) -> 0 | J21: ='테라토10-단가적용'!J13 -> 84404 | K21: =INT(D21*J21) -> 1688 | L21: 0 | M21: =INT(D21*L21) -> 0
A22: 보통인부 | D22: 0.02 | E22: 인 | F22: =SUM(H22,J22,L22) -> 68965 | G22: =SUM(I22,K22,M22) -> 1379 | H22: 0 | I22: =INT(D22*H22) -> 0 | J22: ='테라토10-단가적용'!J12 -> 68965 | K22: =INT(D22*J22) -> 1379 | L22: 0 | M22: =INT(D22*L22) -> 0
A23: 소 계 | G23: =SUM(G18:G22) -> 8078 | I23: =SUM(I18:I22) -> 4550 | K23: =SUM(K18:K22) -> 3528 | M23: =SUM(M18:M22) -> 0
A24: 제 4호표 취부공 품셈 | N24: (1㎡당)
A25: 테라토 | C25: 절토면 | D25: 0.044 | E25: ㎥ | F25: =SUM(H25,J25,L25) -> 185000 | G25: =SUM(I25,K25,M25) -> 8140 | H25: ='테라토10-단가적용'!J9 -> 185000 | I25: =INT(D25*H25) -> 8140 | J25: 0 | K25: =INT(D25*J25) -> 0 | L25: 0 | M25: =INT(D25*L25) -> 0
A26: 종자 | C26: 혼합종자 | D26: 0.12 | E26: kg | F26: =SUM(H26,J26,L26) -> 50000 | G26: =SUM(I26,K26,M26) -> 6000 | H26: ='테라토10-단가적용'!J5 -> 50000 | I26: =INT(D26*H26) -> 6000 | J26: 0 | K26: =INT(D26*J26) -> 0 | L26: 0 | M26: =INT(D26*L26) -> 0
A27: 취 부 기 | C27: 25HP | D27: 0.08 | E27: hr | F27: =SUM(H27,J27,L27) -> 24583.104 | G27: =SUM(I27,K27,M27) -> 1966 | H27: 0 | I27: =INT(D27*H27) -> 0 | J27: 0 | K27: =INT(D27*J27) -> 0 | L27: ='테라토10-장비'!F33 -> 24583.104 | M27: =INT(D27*L27) -> 1966
A28: 공기압축기 | C28: 17㎡/min | D28: 0.08 | E28: hr | F28: =SUM(H28,J28,L28) -> 62115.6 | G28: =SUM(I28,K28,M28) -> 4968 | H28: ='테라토10-장비'!F47 -> 35879 | I28: =INT(D28*H28) -> 2870 | J28: ='테라토10-장비'!F51 -> 20561 | K28: =INT(D28*J28) -> 1644 | L28: ='테라토10-장비'!F53 -> 5675.6 | M28: =INT(D28*L28) -> 454
A29: 발 전 기 | C29: 50kw | D29: 0.08 | E29: hr | F29: =SUM(H29,J29,L29) -> 38821 | G29: =SUM(I29,K29,M29) -> 3104 | H29: ='테라토10-장비'!F7 -> 14606 | I29: =INT(D29*H29) -> 1168 | J29: ='테라토10-장비'!F11 -> 20561 | K29: =INT(D29*J29) -> 1644 | L29: ='테라토10-장비'!F13 -> 3654 | M29: =INT(D29*L29) -> 292
A30: 트럭크레인 | C30: 5ton | D30: 0.09 | E30: hr | F30: =SUM(H30,J30,L30) -> 55058 | G30: =SUM(I30,K30,M30) -> 4954 | H30: ='테라토10-장비'!F107 -> 7132 | I30: =INT(D30*H30) -> 641 | J30: ='테라토10-장비'!F111 -> 24490 | K30: =INT(D30*J30) -> 2204 | L30: ='테라토10-장비'!F113 -> 23436 | M30: =INT(D30*L30) -> 2109
A31: 버블머신 | D31: 0.025 | E31: hr | F31: =SUM(H31,J31,L31) -> 13582.15 | G31: =SUM(I31,K31,M31) -> 338 | H31: ='테라토10-장비'!F167 -> 102.85 | I31: =INT(D31*H31) -> 2 | J31: ='테라토10-장비'!F171 -> 10260 | K31: =INT(D31*J31) -> 256 | L31: ='테라토10-장비'!F173 -> 3219.3 | M31: =INT(D31*L31) -> 80
A32: 테라비아 | C32: 미생물액비 | D32: 0.0023 | E32: L | F32: =SUM(H32,J32,L32) -> 18000 | G32: =SUM(I32,K32,M32) -> 41 | H32: ='테라토10-단가적용'!J8 -> 18000 | I32: =INT(D32*H32) -> 41 | K32: =INT(D32*J32) -> 0 | M32: =INT(D32*L32) -> 0
A33: 덤프트럭 | C33: 6ton | D33: 0.08 | E33: hr | F33: =SUM(H33,J33,L33) -> 41691.919 | G33: =SUM(I33,K33,M33) -> 3334 | H33: ='테라토10-장비'!F147 -> 15017 | I33: =INT(D33*H33) -> 1201 | J33: ='테라토10-장비'!F151 -> 20557 | K33: =INT(D33*J33) -> 1644 | L33: ='테라토10-장비'!F153 -> 6117.9189 | M33: =INT(D33*L33) -> 489
A34: 작업반장 | D34: 0.007 | E34: 인 | F34: =SUM(H34,J34,L34) -> 92218 | G34: =SUM(I34,K34,M34) -> 645 | H34: 0 | I34: =INT(D34*H34) -> 0 | J34: ='테라토10-단가적용'!J14 -> 92218 | K34: =INT(D34*J34) -> 645 | L34: 0 | M34: =INT(D34*L34) -> 0
A35: 특별인부 | D35: 0.033 | E35: 인 | F35: =SUM(H35,J35,L35) -> 84404 | G35: =SUM(I35,K35,M35) -> 2785 | H35: 0 | I35: =INT(D35*H35) -> 0 | J35: ='테라토10-단가적용'!J13 -> 84404 | K35: =INT(D35*J35) -> 2785 | L35: 0 | M35: =INT(D35*L35) -> 0
A36: 기 계 공 | D36: 0.007 | E36: 인 | F36: =SUM(H36,J36,L36) -> 86521 | G36: =SUM(I36,K36,M36) -> 605 | H36: 0 | I36: =INT(D36*H36) -> 0 | J36: ='테라토10-단가적용'!J15 -> 86521 | K36: =INT(D36*J36) -> 605 | L36: 0 | M36: =INT(D36*L36) -> 0
A37: 보통인부 | D37: 0.068 | E37: 인 | F37: =SUM(H37,J37,L37) -> 68965 | G37: =SUM(I37,K37,M37) -> 4689 | H37: 0 | I37: =INT(D37*H37) -> 0 | J37: ='테라토10-단가적용'!J12 -> 68965 | K37: =INT(D37*J37) -> 4689 | L37: 0 | M37: =INT(D37*L37) -> 0
A38: 소 계 | G38: =SUM(G25:G37) -> 41569 | I38: =SUM(I25:I37) -> 20063 | K38: =SUM(K25:K37) -> 16116 | M38: =SUM(M25:M37) -> 5390
A40: 잡재료비 | C40: 재료비의3% | G40: =SUM(I40,K40,M40) -> 601 | I40: =INT(I38*3%) -> 601
A41: 기구손료 | C41: 노무비의2% | G41: =SUM(I41,K41,M41) -> 322 | K41: =INT(K38*2%) -> 322
A43: 합 계 | G43: =SUM(I43,K43,M43) -> 54344 | I43: =I41+I40+I38+I23+I14+I7 -> 25829 | K43: =K41+K40+K38+K23+K14+K7 -> 23056 | M43: =M41+M40+M38+M23+M14+M7 -> 5459

Sheet 테라토10-장비
A1: 중 기 명 : 발 전 기(50KW)
A3: 중기가격 : 16,360천원
A4: 항 목 | B4: 구 분 | C4: 수 량 | D4: 단 위 | E4: 단 가 | F4: 금 액 | G4: 비 고
A5: 재 료 비 | B5: 경 유 | C5: 8.7 | D5: ℓ | E5: ='테라토10-단가적용'!J10 -> 1322 | F5: =ROUNDDOWN(C5*E5,0) -> 11501
B6: 잡 품 | C6: 24 | D6: % | F6: =ROUNDDOWN(F5*27%,0) -> 3105
B7: 소 계 | F7: =SUM(F5:F6) -> 14606
A8: 노 무 비 | B8: 중기운전기사 | C8: 1 | D8: 인 | E8: ='테라토10-장비기준'!S11 -> 20561 | F8: =ROUNDDOWN(C8*E8,0) -> 20561
B9: 중기운전조수 | C9: 0 | D9: 인 | E9: ='테라토10-장비기준'!S12 -> 11517 | F9: =ROUNDDOWN(C9*E9,0) -> 0
B10: 중기조장 | C10: 0 | D10: 인 | E10: ='테라토10-장비기준'!S13 -> 19656 | F10: =ROUNDDOWN(C10*E10,0) -> 0
B11: 소 계 | F11: =SUM(F8:F10) -> 20561
A12: 경 비 | B12: 기계손료 | C12: 0.2234 | E12: 16360 | F12: =ROUNDDOWN(C12*E12,0) -> 3654
B13: 소 계 | F13: =SUM(F12) -> 3654
A20: 합 계 | F20: =F7+F11+F13 -> 38821
A21: 중 기 명 : 취 부 기 (16L)
A23: 중기가격 : 37,246천원
A24: 항 목 | B24: 구 분 | C24: 수 량 | D24: 단 위 | E24: 단 가 | F24: 금 액 | G24: 비 고
A25: 재 료 비 | B25: 경 유 | C25: 0 | D25: ℓ | E25: ='테라토10-단가적용'!J10 -> 1322 | F25: =ROUNDDOWN(C25*E25,0) -> 0
B26: 잡 품 | C26: 0 | D26: % | F26: =ROUNDDOWN(F25*25%,0) -> 0
B27: 소 계 | F27: =SUM(F25:F26) -> 0
A28: 노 무 비 | B28: 중기운전기사 | C28: 1 | D28: 인 | E28: ='테라토10-장비기준'!S31 -> 0 | F28: =ROUNDDOWN(C28*E28,0) -> 0
B29: 중기운전조수 | C29: 0 | D29: 인 | E29: ='테라토10-장비기준'!S32 -> 0 | F29: =ROUNDDOWN(C29*E29,0) -> 0
B30: 중기조장 | C30: 0 | D30: 인 | E30: ='테라토10-장비기준'!S33 -> 0 | F30: =ROUNDDOWN(C30*E30,0) -> 0
B31: 소 계 | F31: =SUM(F28:F30) -> 0
A32: 경 비 | B32: 기계손료 | C32: 0.4221 | E32: 58240 | F32: =E32*C32 -> 24583.104
B33: 소 계 | F33: =SUM(F32) -> 24583.104
A40: 합 계 | F40: =F27+F31+F33 -> 24583.104
A41: 중 기 명 : 공기압축기 (17㎥/min)
A43: 중기가격 : 28,000천원
A44: 항 목 | B44: 구 분 | C44: 수 량 | D44: 단 위 | E44: 단 가 | F44: 금 액 | G44: 비 고
A45: 재 료 비 | B45: 경 유 | C45: 23 | D45: ℓ | E45: ='테라토10-단가적용'!J10 -> 1322 | F45: =ROUNDDOWN(C45*E45,0) -> 30406
B46: 잡 품 | C46: 16 | D46: % | F46: =ROUNDDOWN(F45*18%,0) -> 5473
B47: 소 계 | F47: =SUM(F45:F46) -> 35879
A48: 노 무 비 | B48: 중기운전기사 | C48: 1 | D48: 인 | E48: ='테라토10-장비기준'!S11 -> 20561 | F48: =ROUNDDOWN(C48*E48,0) -> 20561
B49: 중기운전조수 | C49: 0 | D49: 인 | E49: ='테라토10-장비기준'!S12 -> 11517 | F49: =ROUNDDOWN(C49*E49,0) -> 0
B50: 중기조장 | C50: 0 | D50: 인 | E50: ='테라토10-장비기준'!S13 -> 19656 | F50: =ROUNDDOWN(C50*E50,0) -> 0
B51: 소 계 | F51: =SUM(F48:F50) -> 20561
A52: 경 비 | B52: 기계손료 | C52: 0.2027 | E52: 28000 | F52: =E52*C52 -> 5675.6
B53: 소 계 | F53: =SUM(F52) -> 5675.6
A60: 합 계 | F60: =F47+F51+F53 -> 62115.6
A61: 중 기 명 : 굴삭기(유압식백호우 0.4㎥)
...

Sheet 테라토10-장비기준
A2: 적 용 기 준
B4: * 환 율
C5: 1달라($) | D5: : | E5: 1380
B7: * 유 류 대
C8: 경 유 | D8: : | E8: ='테라토10-단가적용'!J10 -> 1322 | F8: 원
B10: * 노 무 비
C11: 중기운전기사 | D11: : | E11: ='테라토10-단가적용'!J17 -> 98693 | F11: * | G11: 16 | H11: / | I11: 12 | J11: * | K11: 1 | L11: / | M11: 8 | N11: * | O11: 25 | P11: / | Q11: 20 | R11: = | S11: =ROUNDDOWN(E11*G11/I11*1/8*25/20,0) -> 20561
C12: 중기운전조수 | D12: : | E12: ='테라토10-단가적용'!J19 -> 55282 | F12: * | G12: 16 | H12: / | I12: 12 | J12: * | K12: 1 | L12: / | M12: 8 | N12: * | O12: 25 | P12: / | Q12: 20 | R12: = | S12: =ROUNDDOWN(E12*G12/I12*1/8*25/20,0) -> 11517
C13: 중기조장 | D13: : | E13: ='테라토10-단가적용'!J18 -> 94350 | F13: * | G13: 16 | H13: / | I13: 12 | J13: * | K13: 1 | L13: / | M13: 8 | N13: * | O13: 25 | P13: / | Q13: 20 | R13: = | S13: =ROUNDDOWN(E13*G13/I13*1/8*25/20,0) -> 19656
C14: 운전사(기계) | D14: : | E14: ='테라토10-단가적용'!J20 -> 84942 | F14: * | G14: 16 | H14: / | I14: 12 | J14: * | K14: 1 | L14: / | M14: 8 | N14: * | O14: 25 | P14: / | Q14: 20 | R14: = | S14: =ROUNDDOWN(E14*G14/I14*1/8*25/20,0) -> 17696

Sheet 테라토10-단가적용
A1: 종 별 | B1: 규 격 | C1: 단위 | D1: 적산정보 | F1: 견적서 | H1: 물가정보(04월) | J1: 적용단가
D2: PAGE | E2: 금 액 | F2: PAGE | G2: 금 액 | H2: PAGE | I2: 금 액
A3: 앵커핀 | B3: 이형철근 Φ16 L=0.5M | C3: 개 | H3: 287 | I3: 600 | J3: =I3 -> 600
A4: 착지핀 | B4: 이형철근 Φ16 L=0.35M | C4: 개 | H4: 287 | I4: 400 | J4: =I4 -> 400
A5: 종자 | B5: 혼합종자 | C5: KG | G5: 50000 | J5: =G5 -> 50000
A6: 철선 | B6: 아연도 #8 | C6: M | H6: 287 | I6: 240 | J6: =I6 -> 240
A7: 부착망(능형망) | B7: #10 58*58 | C7: M2 | H7: 287 | I7: 3260 | J7: =I7 -> 3260
A8: 테라비아 | B8: 미생물액비 | C8: L | H8: 302 | I8: 18000 | J8: =I8 -> 18000
A9: 테라토 | B9: 사면보호용 | C9: M3 | H9: 302 | I9: 185000 | J9: =I9 -> 185000
A10: 경유 | C10: ℓ | H10: 1255 | I10: 1322 | J10: =I10 -> 1322
A12: 보통인부 | C12: 인 | J12: 68965
A13: 특별인부 | C13: 인 | J13: 84404
A14: 작업반장 | C14: 인 | J14: 92218
A15: 기계공 | C15: 인 | J15: 86521
A16: 착암공 | C16: 인 | J16: 79533
A17: 건설기계운전기사 | C17: 인 | J17: 98693
A18: 건설기계조장 | C18: 인 | J18: 94350
A19: 건설기계운전조수 | C19: 인 | J19: 55282
A20: 운전사(운반차) | C20: 인 | J20: 84942
A24: * 참고사항 :

Sheet JSB-표지
A7: 자연생태복원공법(JSB)

Sheet 008-JSB무망-Seed형
A1: 자연생태복원(JSB)공[SEED형]
K2: [단위 : m2 당]
A3: 명칭 | B3: 규격 | C3: 수량 | D3: 단위 | E3: 합계 | F3: 재료비 | H3: 노무비 | J3: 경비
F4: 단가 | G4: 금액 | H4: 단가 | I4: 금액 | J4: 단가 | K4: 금액
A5: 녹화기반제 | B5: 유기질토양 | C5: ='3.0수량표'!D28 -> 3.6 | D5: L | E5: =G5+I5+K5 -> 540 | F5: ='8.0자재단가'!$I$8 -> 150 | G5: =INT(C5*F5) -> 540
A6: 양생제 | B6: 섬유소 | C6: ='3.0수량표'!D29 -> 0.88 | D6: L | E6: =G6+I6+K6 -> 149 | F6: ='8.0자재단가'!$I$9 -> 170 | G6: =INT(C6*F6) -> 149
A7: 안정제 | B7: 침식방지제 | C7: ='3.0수량표'!D30 -> 0.16 | D7: KG | E7: =G7+I7+K7 -> 32 | F7: ='8.0자재단가'!$I$10 -> 200 | G7: =INT(C7*F7) -> 32
A8: 단립제 | B8: 구조형성 | C8: ='3.0수량표'!D31 -> 0.04 | D8: KG | E8: =G8+I8+K8 -> 40 | F8: ='8.0자재단가'!$I$11 -> 1000 | G8: =INT(C8*F8) -> 40
A9: 종 자 | B9: 6종혼합 | C9: ='3.0수량표'!D32 -> 30 | D9: G | E9: =G9+I9+K9 -> 2400 | F9: ='8.0자재단가'!$I$14 -> 80 | G9: =INT(C9*F9) -> 2400
A10: 잡재료비 | B10: 재료비의 | C10: ='3.0수량표'!D33 -> 2 | D10: % | E10: =G10+I10+K10 -> 63 | F10: =SUM(G5:G9) -> 3161 | G10: =INT(C10*F10/100) -> 63
A11: 취부기 | B11: 25 L | C11: ='3.0수량표'!D34 -> 0.01 | D11: HR | E11: =G11+I11+K11 -> 249 | F11: ='9.0중기목록'!$F$6 -> 0 | G11: =INT(C11*F11) -> 0 | H11: ='9.0중기목록'!$E$6 -> 0 | I11: =INT(C11*H11) -> 0 | J11: ='9.0중기목록'!$G$6 -> 24973 | K11: =INT(C11*J11) -> 249
A12: 공기압축기 | B12: 17M3/MIN | C12: ='3.0수량표'!D35 -> 0.01 | D12: HR | E12: =G12+I12+K12 -> 546 | F12: ='9.0중기목록'!$F$8 -> 29577 | G12: =INT(C12*F12) -> 295 | H12: ='9.0중기목록'!$E$8 -> 20561 | I12: =INT(C12*H12) -> 205 | J12: ='9.0중기목록'!$G$8 -> 4656 | K12: =INT(C12*J12) -> 46
A13: 발 전 기 | B13: 100KW | C13: ='3.0수량표'!D36 -> 0.01 | D13: HR | E13: =G13+I13+K13 -> 428 | F13: ='9.0중기목록'!$F$10 -> 23409 | G13: =INT(C13*F13) -> 234 | H13: ='9.0중기목록'!$E$10 -> 14915 | I13: =INT(C13*H13) -> 149 | J13: ='9.0중기목록'!$G$10 -> 4533 | K13: =INT(C13*J13) -> 45
A14: 트러탑재크레인 | B14: 5.0 TON | C14: ='3.0수량표'!D37 -> 0.011 | D14: HR | E14: =G14+I14+K14 -> 380 | F14: ='9.0중기목록'!$F$12 -> 6640 | G14: =INT(C14*F14) -> 73 | H14: ='9.0중기목록'!$E$12 -> 17696 | I14: =INT(C14*H14) -> 194 | J14: ='9.0중기목록'!$G$12 -> 10362 | K14: =INT(C14*J14) -> 113
A15: 물 탱 크 | B15: 5,500L | C15: ='3.0수량표'!D38 -> 0.01 | D15: HR | E15: =G15+I15+K15 -> 385 | F15: ='9.0중기목록'!$F$14 -> 13117 | G15: =INT(C15*F15) -> 131 | H15: ='9.0중기목록'!$E$14 -> 17696 | I15: =INT(C15*H15) -> 176 | J15: ='9.0중기목록'!$G$14 -> 7823 | K15: =INT(C15*J15) -> 78
A16: 덤프트럭 | B16: 6.0 TON | C16: ='3.0수량표'!D39 -> 0.01 | D16: HR | E16: =G16+I16+K16 -> 356 | F16: ='9.0중기목록'!$F$16 -> 11978 | G16: =INT(C16*F16) -> 119 | H16: ='9.0중기목록'!$E$16 -> 17696 | I16: =INT(C16*H16) -> 176 | J16: ='9.0중기목록'!$G$16 -> 6117 | K16: =INT(C16*J16) -> 61
A17: 작업반장 | C17: ='3.0수량표'!D40 -> 0.001 | D17: 인 | E17: =G17+I17+K17 -> 92 | H17: ='11.0시중노임'!$F$4 -> 92218 | I17: =INT(C17*H17) -> 92
A18: 특별인부 | C18: ='3.0수량표'!D41 -> 0.003 | D18: 인 | E18: =G18+I18+K18 -> 253 | H18: ='11.0시중노임'!$F$5 -> 84404 | I18: =INT(C18*H18) -> 253
A19: 기 계 공 | C19: ='3.0수량표'!D42 -> 0.001 | D19: 인 | E19: =G19+I19+K19 -> 86 | H19: ='11.0시중노임'!$F$12 -> 86521 | I19: =INT(C19*H19) -> 86
A20: 보통인부 | C20: ='3.0수량표'!D43 -> 0.01 | D20: 인 | E20: =G20+I20+K20 -> 689 | H20: ='11.0시중노임'!$F$6 -> 68965 | I20: =INT(C20*H20) -> 689
A21: 기구손료 | B21: 노무비의 | C21: ='3.0수량표'!D44 -> 2 | D21: % | E21: =G21+I21+K21 -> 22 | J21: =SUM(I17:I20) -> 1120 | K21: =INT(C21*J21/100) -> 22
A23: 소 계 | E23: =G23+I23+K23 -> 6710 | G23: =SUM(G5:G22) -> 4076 | I23: =SUM(I5:I22) -> 2020 | K23: =SUM(K5:K22) -> 614
B28: * 수직고 20M 이하, 면적1000m2 이상 기준임.
A29: 총 계 | E29: =E23 -> 6710 | G29: =G23 -> 4076 | I29: =I23 -> 2020 | K29: =K23 -> 614

Sheet 009-JSB무망-2CM
A1: 자연생태복원(JSB)공[무망 2Cm]
K2: [단위 : m2 당]
A3: 명칭 | B3: 규격 | C3: 수량 | D3: 단위 | E3: 합계 | F3: 재료비 | H3: 노무비 | J3: 경비
F4: 단가 | G4: 금액 | H4: 단가 | I4: 금액 | J4: 단가 | K4: 금액
A5: 녹화기반제 | B5: 유기질토양 | C5: ='3.0수량표'!F28 -> 18 | D5: L | E5: =G5+I5+K5 -> 2700 | F5: ='8.0자재단가'!$I$8 -> 150 | G5: =INT(C5*F5) -> 2700
A6: 양생제 | B6: 섬유소 | C6: ='3.0수량표'!F29 -> 4.4 | D6: L | E6: =G6+I6+K6 -> 748 | F6: ='8.0자재단가'!$I$9 -> 170 | G6: =INT(C6*F6) -> 748
A7: 안정제 | B7: 침식방지제 | C7: ='3.0수량표'!F30 -> 0.8 | D7: KG | E7: =G7+I7+K7 -> 160 | F7: ='8.0자재단가'!$I$10 -> 200 | G7: =INT(C7*F7) -> 160
A8: 단립제 | B8: 구조형성 | C8: ='3.0수량표'!F31 -> 0.2 | D8: KG | E8: =G8+I8+K8 -> 200 | F8: ='8.0자재단가'!$I$11 -> 1000 | G8: =INT(C8*F8) -> 200
A9: 종 자 | B9: 6종혼합 | C9: ='3.0수량표'!F32 -> 30 | D9: G | E9: =G9+I9+K9 -> 2400 | F9: ='8.0자재단가'!$I$14 -> 80 | G9: =INT(C9*F9) -> 2400
A10: 잡재료비 | B10: 재료비의 | C10: ='3.0수량표'!F33 -> 2 | D10: % | E10: =G10+I10+K10 -> 124 | F10: =SUM(G5:G9) -> 6208 | G10: =INT(C10*F10/100) -> 124
A11: 취부기 | B11: 25 L | C11: ='3.0수량표'!F34 -> 0.015 | D11: HR | E11: =G11+I11+K11 -> 374 | F11: ='9.0중기목록'!$F$6 -> 0 | G11: =INT(C11*F11) -> 0 | H11: ='9.0중기목록'!$E$6 -> 0 | I11: =INT(C11*H11) -> 0 | J11: ='9.0중기목록'!$G$6 -> 24973 | K11: =INT(C11*J11) -> 374
A12: 공기압축기 | B12: 17M3/MIN | C12: ='3.0수량표'!F35 -> 0.015 | D12: HR | E12: =G12+I12+K12 -> 820 | F12: ='9.0중기목록'!$F$8 -> 29577 | G12: =INT(C12*F12) -> 443 | H12: ='9.0중기목록'!$E$8 -> 20561 | I12: =INT(C12*H12) -> 308 | J12: ='9.0중기목록'!$G$8 -> 4656 | K12: =INT(C12*J12) -> 69
A13: 발 전 기 | B13: 100KW | C13: ='3.0수량표'!F36 -> 0.015 | D13: HR | E13: =G13+I13+K13 -> 641 | F13: ='9.0중기목록'!$F$10 -> 23409 | G13: =INT(C13*F13) -> 351 | H13: ='9.0중기목록'!$E$10 -> 14915 | I13: =INT(C13*H13) -> 223 | J13: ='9.0중기목록'!$G$10 -> 4533 | K13: =INT(C13*J13) -> 67
A14: 트러탑재크레인 | B14: 5.0 TON | C14: ='3.0수량표'!F37 -> 0.02 | D14: HR | E14: =G14+I14+K14 -> 692 | F14: ='9.0중기목록'!$F$12 -> 6640 | G14: =INT(C14*F14) -> 132 | H14: ='9.0중기목록'!$E$12 -> 17696 | I14: =INT(C14*H14) -> 353 | J14: ='9.0중기목록'!$G$12 -> 10362 | K14: =INT(C14*J14) -> 207
A15: 물 탱 크 | B15: 5,500L | C15: ='3.0수량표'!F38 -> 0.015 | D15: HR | E15: =G15+I15+K15 -> 578 | F15: ='9.0중기목록'!$F$14 -> 13117 | G15: =INT(C15*F15) -> 196 | H15: ='9.0중기목록'!$E$14 -> 17696 | I15: =INT(C15*H15) -> 265 | J15: ='9.0중기목록'!$G$14 -> 7823 | K15: =INT(C15*J15) -> 117
A16: 덤프트럭 | B16: 6.0 TON | C16: ='3.0수량표'!F39 -> 0.015 | D16: HR | E16: =G16+I16+K16 -> 535 | F16: ='9.0중기목록'!$F$16 -> 11978 | G16: =INT(C16*F16) -> 179 | H16: ='9.0중기목록'!$E$16 -> 17696 | I16: =INT(C16*H16) -> 265 | J16: ='9.0중기목록'!$G$16 -> 6117 | K16: =INT(C16*J16) -> 91
A17: 작업반장 | C17: ='3.0수량표'!F40 -> 0.002 | D17: 인 | E17: =G17+I17+K17 -> 184 | H17: ='11.0시중노임'!$F$4 -> 92218 | I17: =INT(C17*H17) -> 184
A18: 특별인부 | C18: ='3.0수량표'!F41 -> 0.011 | D18: 인 | E18: =G18+I18+K18 -> 928 | H18: ='11.0시중노임'!$F$5 -> 84404 | I18: =INT(C18*H18) -> 928
A19: 기 계 공 | C19: ='3.0수량표'!F42 -> 0.002 | D19: 인 | E19: =G19+I19+K19 -> 173 | H19: ='11.0시중노임'!$F$12 -> 86521 | I19: =INT(C19*H19) -> 173
A20: 보통인부 | C20: ='3.0수량표'!F43 -> 0.022 | D20: 인 | E20: =G20+I20+K20 -> 1517 | H20: ='11.0시중노임'!$F$6 -> 68965 | I20: =INT(C20*H20) -> 1517
A21: 기구손료 | B21: 노무비의 | C21: ='3.0수량표'!D44 -> 2 | D21: % | E21: =G21+I21+K21 -> 56 | J21: =SUM(I17:I20) -> 2802 | K21: =INT(C21*J21/100) -> 56
A23: 소 계 | E23: =G23+I23+K23 -> 12830 | G23: =SUM(G5:G22) -> 7633 | I23: =SUM(I5:I22) -> 4216 | K23: =SUM(K5:K22) -> 981
B29: * 수직고 20M 이하, 면적1000m2 이상 기준임.
A30: 총 계 | E30: =E23 -> 12830 | G30: =G23 -> 7633 | I30: =I23 -> 4216 | K30: =K23 -> 981

Sheet 010-JSB섬유망3CM
A1: 자연생태복원(JSB)공[섬유망 3Cm]
K2: [단위 : m2 당]
A3: 명칭 | B3: 규격 | C3: 수량 | D3: 단위 | E3: 합계 | F3: 재료비 | H3: 노무비 | J3: 경비
F4: 단가 | G4: 금액 | H4: 단가 | I4: 금액 | J4: 단가 | K4: 금액
A5: 1.천연섬유망설치
A6: 천연섬유망 | B6: D3~5,10~100 | C6: ='3.0수량표'!D16 -> 1.2 | D6: M2 | E6: =G6+I6+K6 -> 1800 | F6: ='8.0자재단가'!$I$18 -> 1500 | G6: =INT(C6*F6) -> 1800
A7: 착지핀 | B7: D10~16-250mm | C7: ='3.0수량표'!D17 -> 0.5 | D7: M2 | E7: =G7+I7+K7 -> 250 | F7: ='8.0자재단가'!$I$16 -> 500 | G7: =INT(C7*F7) -> 250
A8: 작업반장 | C8: ='3.0수량표'!D18 -> 0.001 | D8: 인 | E8: =G8+I8+K8 -> 92 | H8: ='11.0시중노임'!$F$4 -> 92218 | I8: =INT(C8*H8) -> 92
A9: 특별인부 | C9: ='3.0수량표'!D19 -> 0.01 | D9: 인 | E9: =G9+I9+K9 -> 844 | H9: ='11.0시중노임'!$F$5 -> 84404 | I9: =INT(C9*H9) -> 844
A10: 보통인부 | C10: ='3.0수량표'!D20 -> 0.02 | D10: 인 | E10: =G10+I10+K10 -> 1379 | H10: ='11.0시중노임'!$F$6 -> 68965 | I10: =INT(C10*H10) -> 1379
A11: 소 계 | E11: =SUM(E6:E10) -> 4365 | G11: =SUM(G6:G10) -> 2050 | I11: =SUM(I6:I10) -> 2315
A13: 2. 취 부 공
A14: 녹화기반제 | B14: 유기질토양 | C14: ='3.0수량표'!G28 -> 27 | D14: L | E14: =G14+I14+K14 -> 4050 | F14: ='8.0자재단가'!$I$8 -> 150 | G14: =INT(C14*F14) -> 4050
A15: 양생제 | B15: 섬유소 | C15: ='3.0수량표'!G29 -> 6.6 | D15: L | E15: =G15+I15+K15 -> 1122 | F15: ='8.0자재단가'!$I$9 -> 170 | G15: =INT(C15*F15) -> 1122
A16: 안정제 | B16: 침식방지제 | C16: ='3.0수량표'!G30 -> 1.2 | D16: KG | E16: =G16+I16+K16 -> 240 | F16: ='8.0자재단가'!$I$10 -> 200 | G16: =INT(C16*F16) -> 240
A17: 단립제 | B17: 구조형성 | C17: ='3.0수량표'!G31 -> 0.3 | D17: KG | E17: =G17+I17+K17 -> 300 | F17: ='8.0자재단가'!$I$11 -> 1000 | G17: =INT(C17*F17) -> 300
A18: 종 자 | B18: 6종혼합 | C18: ='3.0수량표'!G32 -> 30 | D18: G | E18: =G18+I18+K18 -> 2400 | F18: ='8.0자재단가'!$I$14 -> 80 | G18: =INT(C18*F18) -> 2400
A19: 잡재료비 | B19: 재료비의 | C19: ='3.0수량표'!G33 -> 2 | D19: % | E19: =G19+I19+K19 -> 162 | F19: =SUM(G14:G18) -> 8112 | G19: =INT(C19*F19/100) -> 162
A20: 취부기 | B20: 25 L | C20: ='3.0수량표'!G34 -> 0.02 | D20: HR | E20: =G20+I20+K20 -> 499 | F20: ='9.0중기목록'!$F$6 -> 0 | G20: =INT(C20*F20) -> 0 | H20: ='9.0중기목록'!$E$6 -> 0 | I20: =INT(C20*H20) -> 0 | J20: ='9.0중기목록'!$G$6 -> 24973 | K20: =INT(C20*J20) -> 499
A21: 공기압축기 | B21: 17M3/MIN | C21: ='3.0수량표'!G35 -> 0.02 | D21: HR | E21: =G21+I21+K21 -> 1095 | F21: ='9.0중기목록'!$F$8 -> 29577 | G21: =INT(C21*F21) -> 591 | H21: ='9.0중기목록'!$E$8 -> 20561 | I21: =INT(C21*H21) -> 411 | J21: ='9.0중기목록'!$G$8 -> 4656 | K21: =INT(C21*J21) -> 93
A22: 발 전 기 | B22: 100KW | C22: ='3.0수량표'!G36 -> 0.02 | D22: HR | E22: =G22+I22+K22 -> 856 | F22: ='9.0중기목록'!$F$10 -> 23409 | G22: =INT(C22*F22) -> 468 | H22: ='9.0중기목록'!$E$10 -> 14915 | I22: =INT(C22*H22) -> 298 | J22: ='9.0중기목록'!$G$10 -> 4533 | K22: =INT(C22*J22) -> 90
A23: 트러탑재크레인 | B23: 5.0 TON | C23: ='3.0수량표'!G37 -> 0.025 | D23: HR | E23: =G23+I23+K23 -> 867 | F23: ='9.0중기목록'!$F$12 -> 6640 | G23: =INT(C23*F23) -> 166 | H23: ='9.0중기목록'!$E$12 -> 17696 | I23: =INT(C23*H23) -> 442 | J23: ='9.0중기목록'!$G$12 -> 10362 | K23: =INT(C23*J23) -> 259
A24: 물 탱 크 | B24: 5,500L | C24: ='3.0수량표'!G38 -> 0.02 | D24: HR | E24: =G24+I24+K24 -> 771 | F24: ='9.0중기목록'!$F$14 -> 13117 | G24: =INT(C24*F24) -> 262 | H24: ='9.0중기목록'!$E$14 -> 17696 | I24: =INT(C24*H24) -> 353 | J24: ='9.0중기목록'!$G$14 -> 7823 | K24: =INT(C24*J24) -> 156
A25: 덤프트럭 | B25: 6.0 TON | C25: ='3.0수량표'!G39 -> 0.02 | D25: HR | E25: =G25+I25+K25 -> 714 | F25: ='9.0중기목록'!$F$16 -> 11978 | G25: =INT(C25*F25) -> 239 | H25: ='9.0중기목록'!$E$16 -> 17696 | I25: =INT(C25*H25) -> 353 | J25: ='9.0중기목록'!$G$16 -> 6117 | K25: =INT(C25*J25) -> 122
A26: 작업반장 | C26: ='3.0수량표'!G40 -> 0.003 | D26: 인 | E26: =G26+I26+K26 -> 276 | H26: ='11.0시중노임'!$F$4 -> 92218 | I26: =INT(C26*H26) -> 276
A27: 특별인부 | C27: ='3.0수량표'!G41 -> 0.016 | D27: 인 | E27: =G27+I27+K27 -> 1350 | H27: ='11.0시중노임'!$F$5 -> 84404 | I27: =INT(C27*H27) -> 1350
