Workbook
Name \P: #REF!
Name \X: #REF!
Name \X: #REF!
Name \X: #REF!
Name \X: #REF!
Name \X: #REF!
Name \X: #REF!
Name \X: #REF!
Name \X: #REF!
Name \X: #REF!
Name \X: #REF!
Name \X: #REF!
Name \X: #REF!
Name \X: #REF!
Name \X: #REF!
Name \X: #REF!
Name \X: #REF!
Name \X: #REF!
Name \X: #REF!
Name \X: #REF!
Name \X: #REF!
Name 계약공기: #REF!
Name 계약공기: #REF!
Name 계약공기: #REF!
Name 계약공기: #REF!
Name 계약공기: #REF!
Name 계약공기: #REF!
Name 계약공기: #REF!
Name 계약공기: #REF!
Name 계약공기: #REF!
Name 계약공기: #REF!
Name 계약공기: #REF!
Name 계약공기: #REF!
Name 계약공기: #REF!
Name 계약공기: #REF!
Name 계약공기: #REF!
Name 계약공기: #REF!
Name 계약공기: #REF!
Name 계약공기: #REF!
Name 계약공기: #REF!
Name 계약공기: #REF!
Name 공기: #REF!
Name 공기: #REF!
Name 공기: #REF!
Name 공기: #REF!
Name 공기: #REF!
Name 공기: #REF!
Name 공기: #REF!
Name 공기: #REF!
Name 공기: #REF!
Name 공기: #REF!
Name 공기: #REF!
Name 공기: #REF!
Name 공기: #REF!
Name 공기: #REF!
Name 공기: #REF!
Name 공기: #REF!
Name 공기: #REF!
Name 공기: #REF!
Name 공기: #REF!

Sheet VXXXX

Sheet 001-잔디
I22: 구 분 | K22: 적용 | M22: 단 가 | P22: 비 고
I23: 성 토 | K23: 줄 떼 | M23: =X83 -> 5069
I24: 절 토 | K24: 평 떼 | M24: =X123 -> 9979
A44: 산 출 근 거 | O44: 재료비 | R44: 노무비 | U44: 경 비 | X44: 합 계
A45: ▣ 줄 떼 (m2)
A47: 1.0 재 료 비
A48: - 잔디(0.3*0.3m) :
B49: 11 | C49: 매 | D49: * ( | E49: 1.1 | F49: / | G49: 3 | H49: ) * | I49: ='8.0자재단가'!I21 -> 220
I50: = | J50: =ROUND(B49*E49/G49*I49,1) -> 887.3 | O50: =J50 -> 887.3 | X50: =SUM(O50:W50) -> 887.3
A52: 2.0 소 운 반
A53: - | B53: 사용장비 : 지게
B54: V (평균왕복속도) | I54: = | J54: 2000 | L54: m/hr
B55: T (1일작업시간:480분-30분) = | J55: =480-30 -> 450 | L55: min
B56: L (운반거리 = | I56: = | J56: 100 | L56: m
B57: t (적재적하소요시간) | I57: = | J57: 2 | L57: min
B58: q (1회운반량) | I58: = | J58: 30 | L58: 매/회(줄떼)
A59: - | B59: N (횟수) = V*T/(120*L+V*t) = | J59: =ROUND(J54*J55/(120*J56+J54*J57),3) -> 56.25 | L59: 회/일
A60: - | B60: Q (1일운반량) = N * q | I60: = | J60: =J59*J58 -> 1687.5 | L60: 매/일
A61: - | B61: 보통인부 : | E61: 1인/Q*11매*1.1 | I61: * | J61: ='11.0시중노임'!F6 -> 68965
I62: = | J62: =ROUND(1/J60*B49*1.1*J61,1) -> 494.5 | R62: =J62 -> 494.5 | X62: =SUM(O62:W62) -> 494.5
A64: 3.0 떼 붙 임
A65: - | B65: 보통인부 : | E65: (5.0 / 100)인* | I65: ='11.0시중노임'!F6 -> 68965
I66: = | J66: =ROUND((5/100)*I65,1) -> 3448.3 | R66: =J66 -> 3448.3 | X66: =SUM(O66:W66) -> 3448.3
A68: 5.0 작업반장(보통인부 25~50인 적용)
A69: - | B69: 보통인부 :
A70: (((0.24+0.19)/2/10)+7.6/100)/((25+50)/2)* | M70: ='11.0시중노임'!F4 -> 92218
I71: = | J71: =ROUND((((0.24+0.19)/2/10)+(7.6/100))/((25+50)/2)*M70,1) -> 239.8 | R71: =J71 -> 239.8 | X71: =SUM(O71:W71) -> 239.8
B83: 계 | O83: =INT(SUM(O47:Q82)) -> 887 | R83: =INT(SUM(R47:T82)) -> 4182 | U83: =SUM(U47:W82) -> 0 | X83: =INT(SUM(X47:Z82)) -> 5069
A84: 산 출 근 거 | O84: 재료비 | R84: 노무비 | U84: 경 비 | X84: 합 계
A85: ▣ 평 떼 (m2)
A87: 1.0 재 료 비
A88: - 잔디(0.3*0.3m) :
A89: 11 | C89: 매 | D89: * | E89: 1.1 | F89: * | G89: ='8.0자재단가'!I21 -> 220 | I89: = | J89: =ROUND(A89*E89*G89,1) -> 2662 | O89: =J89 -> 2662 | X89: =SUM(O89:W89) -> 2662
A91: 2.0 소 운 반
A92: - | B92: 사용장비 : 지게
B93: V (평균왕복속도) | I93: = | J93: 2000 | L93: m/hr
B94: T (1일작업시간:480분-30분) = | J94: =480-30 -> 450 | L94: min
B95: L (운반거리 = | I95: = | J95: 100 | L95: m
B96: t (적재적하소요시간) | I96: = | J96: 2 | L96: min
B97: q (1회운반량) | I97: = | J97: 10 | L97: 매/회(평떼)
A98: - | B98: N (횟수) = V*T/(120*L+V*t) = | J98: =ROUND(J93*J94/(120*J95+J93*J96),3) -> 56.25 | L98: 회/일
A99: - | B99: Q (1일운반량) = N * q | I99: = | J99: =J98*J97 -> 562.5 | L99: 매/일
A100: - | B100: 보통인부 : | E100: 1인/Q*11매*1.1 | I100: * | J100: ='11.0시중노임'!F6 -> 68965
I101: = | J101: =ROUND(1/J99*A89*1.1*J100,1) -> 1483.5 | R101: =J101 -> 1483.5 | X101: =SUM(O101:W101) -> 1483.5
A103: 3.0 떼 붙 임
A104: - | B104: 보통인부 : | E104: (6.0 / 100)인* | I104: ='11.0시중노임'!F6 -> 68965
I105: = | J105: =ROUND((6/100)*I104,1) -> 4137.9 | R105: =J105 -> 4137.9 | X105: =SUM(O105:W105) -> 4137.9
A107: 4.0 꼬치 : 1일 1인 1000개제작
A108: - | B108: 보통인부 : | E108: 1인 * (22/1000) * | J108: ='11.0시중노임'!F6 -> 68965
I109: = | J109: =ROUND((22/1000)*J108,1) -> 1517.2 | R109: =J109 -> 1517.2 | X109: =SUM(O109:W109) -> 1517.2
A111: 5.0 작업반장(보통인부 25~50인 적용)
A112: - | B112: 보통인부 :
A113: (((0.24+0.19)/2/10)+7.6/100)/((25+50)/2)* | M113: ='11.0시중노임'!F6 -> 68965
I114: = | J114: =ROUND((((0.24+0.19)/2/10)+(7.6/100))/((25+50)/2)*M113,1) -> 179.3 | R114: =J114 -> 179.3 | X114: =SUM(O114:W114) -> 179.3
B123: 계 | O123: =INT(SUM(O87:Q122)) -> 2662 | R123: =INT(SUM(R87:T122)) -> 7317 | U123: =SUM(U87:W122) -> 0 | X123: =INT(SUM(X87:Z122)) -> 9979

Sheet 잔디-표지
A7: 잔 디

Sheet 002-줄떼
A1: 단가산출(줄떼)
A2: 산 출 근 거 | O2: 재료비 | R2: 노무비 | U2: 경 비 | X2: 합 계
A3: ▣ 줄 떼 (m2)
A5: 1.0 재 료 비
A6: - 잔디(0.3*0.3m) :
B7: 11 | C7: 매 | D7: * ( | E7: 1.1 | F7: / | G7: 3 | H7: ) * | I7: ='8.0자재단가'!I21 -> 220
I8: = | J8: =ROUND(B7*E7/G7*I7,1) -> 887.3 | O8: =J8 -> 887.3 | X8: =SUM(O8:W8) -> 887.3
A10: 2.0 소 운 반
A11: - | B11: 사용장비 : 지게
B12: V (평균왕복속도) | I12: = | J12: 2000 | L12: m/hr
B13: T (1일작업시간:480분-30분) = | J13: =480-30 -> 450 | L13: min
B14: L (운반거리 = | I14: = | J14: 100 | L14: m
B15: t (적재적하소요시간) | I15: = | J15: 2 | L15: min
B16: q (1회운반량) | I16: = | J16: 30 | L16: 매/회(줄떼)
A17: - | B17: N (횟수) = V*T/(120*L+V*t) = | J17: =ROUND(J12*J13/(120*J14+J12*J15),3) -> 56.25 | L17: 회/일
A18: - | B18: Q (1일운반량) = N * q | I18: = | J18: =J17*J16 -> 1687.5 | L18: 매/일
A19: - | B19: 보통인부 : | E19: 1인/Q*11매*1.1 | I19: * | J19: ='11.0시중노임'!F6 -> 68965
I20: = | J20: =ROUND(1/J18*B7*1.1*J19,1) -> 494.5 | R20: =J20 -> 494.5 | X20: =SUM(O20:W20) -> 494.5
A22: 3.0 떼 붙 임
A23: - | B23: 보통인부 : | E23: (5.0 / 100)인* | I23: ='11.0시중노임'!F6 -> 68965
I24: = | J24: =ROUND((5/100)*I23,1) -> 3448.3 | R24: =J24 -> 3448.3 | X24: =SUM(O24:W24) -> 3448.3
A26: 5.0 작업반장(보통인부 25~50인 적용)
A27: - | B27: 보통인부 :
A28: (((0.24+0.19)/2/10)+7.6/100)/((25+50)/2)* | M28: ='11.0시중노임'!F6 -> 68965
I29: = | J29: =ROUND((((0.24+0.19)/2/10)+(7.6/100))/((25+50)/2)*M28,1) -> 179.3 | R29: =J29 -> 179.3 | X29: =SUM(O29:W29) -> 179.3
B41: 계 | O41: =INT(SUM(O5:Q40)) -> 887 | R41: =INT(SUM(R5:T40)) -> 4122 | U41: =SUM(U5:W40) -> 0 | X41: =INT(SUM(X5:Z40)) -> 5009

Sheet 003-평떼
A1: 단가산출(평떼)
A2: 산 출 근 거 | O2: 재료비 | R2: 노무비 | U2: 경 비 | X2: 합 계
A3: ▣ 평 떼 (m2)
A5: 1.0 재 료 비
A6: - 잔디(0.3*0.3m) :
A7: 11 | C7: 매 | D7: * | E7: 1.1 | F7: * | G7: ='8.0자재단가'!I21 -> 220 | I7: = | J7: =ROUND(A7*E7*G7,1) -> 2662 | O7: =J7 -> 2662 | X7: =SUM(O7:W7) -> 2662
A9: 2.0 소 운 반
A10: - | B10: 사용장비 : 지게
B11: V (평균왕복속도) | I11: = | J11: 2000 | L11: m/hr
B12: T (1일작업시간:480분-30분) = | J12: =480-30 -> 450 | L12: min
B13: L (운반거리 = | I13: = | J13: 100 | L13: m
B14: t (적재적하소요시간) | I14: = | J14: 2 | L14: min
B15: q (1회운반량) | I15: = | J15: 10 | L15: 매/회(평떼)
A16: - | B16: N (횟수) = V*T/(120*L+V*t) = | J16: =ROUND(J11*J12/(120*J13+J11*J14),3) -> 56.25 | L16: 회/일
A17: - | B17: Q (1일운반량) = N * q | I17: = | J17: =J16*J15 -> 562.5 | L17: 매/일
A18: - | B18: 보통인부 : | E18: 1인/Q*11매*1.1 | I18: * | J18: ='11.0시중노임'!F6 -> 68965
I19: = | J19: =ROUND(1/J17*A7*1.1*J18,1) -> 1483.5 | R19: =J19 -> 1483.5 | X19: =SUM(O19:W19) -> 1483.5
A21: 3.0 떼 붙 임
A22: - | B22: 보통인부 : | E22: (6.0 / 100)인* | I22: ='11.0시중노임'!F6 -> 68965
I23: = | J23: =ROUND((6/100)*I22,1) -> 4137.9 | R23: =J23 -> 4137.9 | X23: =SUM(O23:W23) -> 4137.9
A25: 4.0 꼬치 : 1일 1인 1000개제작
A26: - | B26: 보통인부 : | E26: 1인 * (22/1000) * | J26: ='11.0시중노임'!F6 -> 68965
I27: = | J27: =ROUND((22/1000)*J26,1) -> 1517.2 | R27: =J27 -> 1517.2 | X27: =SUM(O27:W27) -> 1517.2
A29: 5.0 작업반장(보통인부 25~50인 적용)
A30: - | B30: 보통인부 :
A31: (((0.24+0.19)/2/10)+7.6/100)/((25+50)/2)* | M31: ='11.0시중노임'!F6 -> 68965
I32: = | J32: =ROUND((((0.24+0.19)/2/10)+(7.6/100))/((25+50)/2)*M31,1) -> 179.3 | R32: =J32 -> 179.3 | X32: =SUM(O32:W32) -> 179.3
B41: 계 | O41: =INT(SUM(O5:Q40)) -> 2662 | R41: =INT(SUM(R5:T40)) -> 7317 | U41: =SUM(U5:W40) -> 0 | X41: =INT(SUM(X5:Z40)) -> 9979

Sheet 이지그린매트-표지
A7: 이 지 그 린 매 트

Sheet 004-이지그린매트
B1: 見 積 書
J2: 동 아 에 스 텍 ㈜
D3: 貴下 | J3: ◈본 사: 전남 화순군 동면 운농리 1039-1
B4: 現場名 : | J4: 전 화: (0 6 1) 3 7 3 - 8 1 9 0 ~ 4
J5: F A X: (0 6 1) 3 7 3 - 8 1 9 5
B6: 工事名 : 이지그린매트 설치공사 | J6: ◈지 사: 경기도 성남시 중원구 상대원동 5442-1
J7: 전 화: (0 3 1) 7 3 7 - 7 8 0 0
J8: F A X : (0 3 1) 7 7 7 - 8 3 2 5
B9: 하기와 같이 견적합니다. | J9: DATE 2010 년 1 월 일
B10: 金 額 : 금 -- 원정. (\ --- )
A12: 기호 | B12: 공 종 | C12: 규 격 | D12: 수량 | E12: 단위 | F12: 총 액 | H12: 재 료 비 | J12: 노 무 비 | L12: 경 비 | N12: 비 고
F13: 단 가 | G13: 금 액 | H13: 단 가 | I13: 금 액 | J13: 단 가 | K13: 금 액 | L13: 단 가 | M13: 금 액
A14: 1 | B14: 이지그린매트 설치공사
A15: 가 | B15: 이지그린매트 | C15: A 형 | D15: 1 | E15: m2 | F15: =H15+J15+L15 -> 5773.084 | G15: =D15*F15 -> 5773.084 | H15: =+'005-이지그린매트(A Type)'!H16 -> 3966 | I15: =D15*H15 -> 3966 | J15: =+'005-이지그린매트(A Type)'!J16 -> 1502.812 | K15: =D15*J15 -> 1502.812 | L15: =+'005-이지그린매트(A Type)'!L16 -> 304.272 | M15: =D15*L15 -> 304.272 | N15: 골프장시공 별도
A16: 나 | B16: 이지그린매트 | C16: B 형 | D16: 1 | E16: m2 | F16: =H16+J16+L16 -> 7973.084 | G16: =D16*F16 -> 7973.084 | H16: ='006-이지그린매트(B Type)'!H16 -> 6166 | I16: =D16*H16 -> 6166 | J16: ='006-이지그린매트(B Type)'!J16 -> 1502.812 | K16: =D16*J16 -> 1502.812 | L16: ='006-이지그린매트(B Type)'!L16 -> 304.272 | M16: =D16*L16 -> 304.272
A17: 다 | B17: 이지그린매트 | C17: C 형 | D17: 1 | E17: m2 | F17: =H17+J17+L17 -> 11273.084 | G17: =D17*F17 -> 11273.084 | H17: =+'007-이지그린매트(C Type)'!H16 -> 9466 | I17: =D17*H17 -> 9466 | J17: =+'007-이지그린매트(C Type)'!J16 -> 1502.812 | K17: =D17*J17 -> 1502.812 | L17: =+'007-이지그린매트(C Type)'!L16 -> 304.272 | M17: =D17*L17 -> 304.272
B20: * 부가세 별도

Sheet 005-이지그린매트(A Type)
A1: 이지그린매트 A형
A2: 공 종 | B2: 규격 | C2: 수량 | D2: 단위 | E2: 합 계 | G2: 재 료 비 | I2: 노 무 비 | K2: 경 비 | M2: 비 고
E3: 단 가 | F3: 금 액 | G3: 단 가 | H3: 금 액 | I3: 단 가 | J3: 금 액 | K3: 단 가 | L3: 금 액
A4: 1. 이지그린매트 설치공사 1m2당 단가
A5: 가. 재 료 비
A6: 이지그린매트 | B6: A 형 | C6: 1.1 | D6: m2 | E6: =+G6+I6+K6 -> 3000 | F6: =+C6*E6 -> 3300 | G6: 3000 | H6: =(G6*C6) -> 3300
A7: 고정핀 | B7: L=20~30cm | C7: 1.42 | D7: EA | E7: =+G7+I7+K7 -> 300 | F7: =+C7*E7 -> 426 | G7: 300 | H7: =(G7*C7) -> 426
A8: 고정끈 | C8: 2.4 | D8: m | E8: =+G8+I8+K8 -> 100 | F8: =+C8*E8 -> 240 | G8: 100 | H8: =(G8*C8) -> 240
A9: 소 계 | F9: =SUM(F6:F8) -> 3966 | H9: =SUM(H6:H8) -> 3966 | J9: =SUM(J6:J8) -> 0 | L9: =SUM(L6:L8) -> 0
A10: 나. 설 치 비
A11: 보통인부 | B11: 천연섬유설치 | C11: 0.012 | D11: 인 | E11: =+G11+I11+K11 -> 68965 | F11: =+C11*E11 -> 827.58 | I11: 68965 | J11: =(I11*C11) -> 827.58
A12: 특별인부 | B12: 천연섬유설치 | C12: 0.008 | D12: 인 | E12: =+G12+I12+K12 -> 84404 | F12: =+C12*E12 -> 675.232 | I12: 84404 | J12: =(I12*C12) -> 675.232
A13: 물 탱 크 | B13: 5000L | C13: 0.008 | D13: hr | E13: =+G13+I13+K13 -> 38034 | F13: =+C13*E13 -> 304.272 | K13: 38034 | L13: =C13*K13 -> 304.272
A14: 소 계 | F14: =SUM(F11:F13) -> 1807.084 | H14: =SUM(H11:H13) -> 0 | J14: =SUM(J11:J13) -> 1502.812 | L14: =SUM(L11:L13) -> 304.272
A15: 합 계 | F15: =+F9+F14 -> 5773.084 | H15: =+H9+H14 -> 3966 | J15: =+J9+J14 -> 1502.812 | L15: =+L9+L14 -> 304.272
A16: * 1 m2 당 단가 | F16: =F15 -> 5773.084 | H16: =H15 -> 3966 | J16: =J15 -> 1502.812 | L16: =L15 -> 304.272
A17: * 부가세 별도
A18: * 종자는 도로비탈면 녹화설계 및 시공지침에 의한 종자배합 설계임

Sheet 006-이지그린매트(B Type)
A1: 이지그린매트 B형
A2: 공 종 | B2: 규격 | C2: 수량 | D2: 단위 | E2: 합 계 | G2: 재 료 비 | I2: 노 무 비 | K2: 경 비 | M2: 비 고
E3: 단 가 | F3: 금 액 | G3: 단 가 | H3: 금 액 | I3: 단 가 | J3: 금 액 | K3: 단 가 | L3: 금 액
A4: 1. 이지그린매트 설치공사 1m2당 단가
A5: 가. 재 료 비
A6: 이지그린매트 | B6: B 형 | C6: 1.1 | D6: m2 | E6: =+G6+I6+K6 -> 5000 | F6: =+C6*E6 -> 5500 | G6: 5000 | H6: =(G6*C6) -> 5500
A7: 고정핀 | B7: L=20~30cm | C7: 1.42 | D7: EA | E7: =+G7+I7+K7 -> 300 | F7: =+C7*E7 -> 426 | G7: 300 | H7: =(G7*C7) -> 426
A8: 고정끈 | C8: 2.4 | D8: m | E8: =+G8+I8+K8 -> 100 | F8: =+C8*E8 -> 240 | G8: 100 | H8: =(G8*C8) -> 240
A9: 소 계 | F9: =SUM(F6:F8) -> 6166 | H9: =SUM(H6:H8) -> 6166 | J9: =SUM(J6:J8) -> 0 | L9: =SUM(L6:L8) -> 0
A10: 나. 설 치 비
A11: 보통인부 | B11: 천연섬유설치 | C11: 0.012 | D11: 인 | E11: =+G11+I11+K11 -> 68965 | F11: =+C11*E11 -> 827.58 | I11: 68965 | J11: =(I11*C11) -> 827.58
A12: 특별인부 | B12: 천연섬유설치 | C12: 0.008 | D12: 인 | E12: =+G12+I12+K12 -> 84404 | F12: =+C12*E12 -> 675.232 | I12: 84404 | J12: =(I12*C12) -> 675.232
A13: 물 탱 크 | B13: 5000L | C13: 0.008 | D13: hr | E13: =+G13+I13+K13 -> 38034 | F13: =+C13*E13 -> 304.272 | K13: 38034 | L13: =C13*K13 -> 304.272
A14: 소 계 | F14: =SUM(F11:F13) -> 1807.084 | H14: =SUM(H11:H13) -> 0 | J14: =SUM(J11:J13) -> 1502.812 | L14: =SUM(L11:L13) -> 304.272
A15: 합 계 | F15: =+F9+F14 -> 7973.084 | H15: =+H9+H14 -> 6166 | J15: =+J9+J14 -> 1502.812 | L15: =+L9+L14 -> 304.272
A16: * 1 m2 당 단가 | F16: =F15 -> 7973.084 | H16: =H15 -> 6166 | J16: =J15 -> 1502.812 | L16: =L15 -> 304.272
A17: * 부가세 별도
A18: * 종자는 도로비탈면 녹화설계 및 시공지침에 의한 종자배합 설계임

Sheet 007-이지그린매트(C Type)
A1: 이지그린매트 C형
A2: 공 종 | B2: 규격 | C2: 수량 | D2: 단위 | E2: 합 계 | G2: 재 료 비 | I2: 노 무 비 | K2: 경 비 | M2: 비 고
E3: 단 가 | F3: 금 액 | G3: 단 가 | H3: 금 액 | I3: 단 가 | J3: 금 액 | K3: 단 가 | L3: 금 액
A4: 1. 이지그린매트 설치공사 1m2당 단가
A5: 가. 재 료 비
A6: 이지그린매트 | B6: C 형 | C6: 1.1 | D6: m2 | E6: =+G6+I6+K6 -> 8000 | F6: =+C6*E6 -> 8800 | G6: 8000 | H6: =(G6*C6) -> 8800
A7: 고정핀 | B7: L=20~30cm | C7: 1.42 | D7: EA | E7: =+G7+I7+K7 -> 300 | F7: =+C7*E7 -> 426 | G7: 300 | H7: =(G7*C7) -> 426
A8: 고정끈 | C8: 2.4 | D8: m | E8: =+G8+I8+K8 -> 100 | F8: =+C8*E8 -> 240 | G8: 100 | H8: =(G8*C8) -> 240
A9: 소 계 | F9: =SUM(F6:F8) -> 9466 | H9: =SUM(H6:H8) -> 9466 | J9: =SUM(J6:J8) -> 0 | L9: =SUM(L6:L8) -> 0
A10: 나. 설 치 비
A11: 보통인부 | B11: 천연섬유설치 | C11: 0.012 | D11: 인 | E11: =+G11+I11+K11 -> 68965 | F11: =+C11*E11 -> 827.58 | I11: 68965 | J11: =(I11*C11) -> 827.58
A12: 특별인부 | B12: 천연섬유설치 | C12: 0.008 | D12: 인 | E12: =+G12+I12+K12 -> 84404 | F12: =+C12*E12 -> 675.232 | I12: 84404 | J12: =(I12*C12) -> 675.232
A13: 물 탱 크 | B13: 5000L | C13: 0.008 | D13: hr | E13: =+G13+I13+K13 -> 38034 | F13: =+C13*E13 -> 304.272 | K13: 38034 | L13: =C13*K13 -> 304.272
A14: 소 계 | F14: =SUM(F11:F13) -> 1807.084 | H14: =SUM(H11:H13) -> 0 | J14: =SUM(J11:J13) -> 1502.812 | L14: =SUM(L11:L13) -> 304.272
A15: 합 계 | F15: =+F9+F14 -> 11273.084 | H15: =+H9+H14 -> 9466 | J15: =+J9+J14 -> 1502.812 | L15: =+L9+L14 -> 304.272
A16: * 1 m2 당 단가 | F16: =F15 -> 11273.084 | H16: =H15 -> 9466 | J16: =J15 -> 1502.812 | L16: =L15 -> 304.272
A17: * 부가세 별도
A18: * 종자는 도로비탈면 녹화설계 및 시공지침에 의한 종자배합 설계임

Sheet 테라토-표지
A7: 테 라 토 공 법

Sheet 테라토5-목록
A1: 품 명 | C1: 규 격 | D1: 수 량 | E1: 단위 | F1: 총 액 | H1: 재 료 비 | J1: 노 무 비 | L1: 경 비 | N1: 비 고
F2: 단 가 | G2: 금 액 | H2: 단 가 | I2: 금 액 | J2: 단 가 | K2: 금 액 | L2: 단 가 | M2: 금 액
A3: ='테라토5-일위대가'!A3 -> 제 1호표 앙카핀 및 착지핀 홀천공
A4: ='테라토5-일위대가'!A9 -> 제 2호표 앙카핀 및 착지핀 설치
A5: ='테라토5-일위대가'!A17 -> 제 3호표 능형망 설치
A6: ='테라토5-일위대가'!A24 -> 제 4호표 취부공 품셈

Sheet 테라토5-일위대가
A1: 품 명 | C1: 규 격 | D1: 수 량 | E1: 단위 | F1: 총 액 | H1: 재 료 비 | J1: 노 무 비 | L1: 경 비 | N1: 비 고
F2: 단 가 | G2: 금 액 | H2: 단 가 | I2: 금 액 | J2: 단 가 | K2: 금 액 | L2: 단 가 | M2: 금 액
A3: 제 1호표 앙카핀 및 착지핀 홀천공 | N3: (1㎡당)
A4: 발 전 기 | C4: 50kw | D4: 0.013 | E4: HR | F4: =H4+J4+L4 -> 38821 | G4: =SUM(I4,K4,M4) -> 503 | H4: ='테라토5-장비'!F7 -> 14606 | I4: =INT(D4*H4) -> 189 | J4: ='테라토5-장비'!F11 -> 20561 | K4: =INT(D4*J4) -> 267 | L4: ='테라토5-장비'!F13 -> 3654 | M4: =INT(D4*L4) -> 47
A5: 착 암 공 | D5: 0.008 | E5: 인 | F5: =H5+J5+L5 -> 79533 | G5: =SUM(I5,K5,M5) -> 636 | H5: 0 | I5: =INT(D5*H5) -> 0 | J5: ='테라토5-단가적용'!J16 -> 79533 | K5: =INT(D5*J5) -> 636 | L5: 0 | M5: =INT(D5*L5) -> 0
A6: 보통인부 | D6: 0.008 | E6: 인 | F6: =H6+J6+L6 -> 68965 | G6: =SUM(I6,K6,M6) -> 551 | H6: 0 | I6: =INT(D6*H6) -> 0 | J6: ='테라토5-단가적용'!J12 -> 68965 | K6: =INT(D6*J6) -> 551 | L6: 0 | M6: =INT(D6*L6) -> 0
A7: 소 계 | G7: =SUM(G4:G6) -> 1690 | I7: =SUM(I4:I6) -> 189 | K7: =SUM(K4:K6) -> 1454 | M7: =SUM(M4:M6) -> 47
A9: 제 2호표 앙카핀 및 착지핀 설치 | N9: (1㎡당)
A10: 앙 카 핀 | C10: Φ16 L=0.5m | D10: 0.23 | E10: EA | F10: =H10+J10+L10 -> 600 | G10: =SUM(I10,K10,M10) -> 138 | H10: ='테라토5-단가적용'!J3 -> 600 | I10: =INT(D10*H10) -> 138 | J10: 0 | K10: =INT(D10*J10) -> 0 | L10: 0 | M10: =INT(D10*L10) -> 0
A11: 착 지 핀 | C11: Φ16 L=0.35m | D11: 0.5 | E11: EA | F11: =H11+J11+L11 -> 400 | G11: =SUM(I11,K11,M11) -> 200 | H11: ='테라토5-단가적용'!J4 -> 400 | I11: =INT(D11*H11) -> 200 | J11: 0 | K11: =INT(D11*J11) -> 0 | L11: 0 | M11: =INT(D11*L11) -> 0
A12: 특별인부 | D12: 0.002 | E12: 인 | F12: =H12+J12+L12 -> 84404 | G12: =SUM(I12,K12,M12) -> 168 | H12: 0 | I12: =INT(D12*H12) -> 0 | J12: ='테라토5-단가적용'!J13 -> 84404 | K12: =INT(D12*J12) -> 168 | L12: 0 | M12: =INT(D12*L12) -> 0
A13: 보통인부 | D13: 0.002 | E13: 인 | F13: =H13+J13+L13 -> 68965 | G13: =SUM(I13,K13,M13) -> 137 | H13: 0 | I13: =INT(D13*H13) -> 0 | J13: ='테라토5-단가적용'!J12 -> 68965 | K13: =INT(D13*J13) -> 137 | L13: 0 | M13: =INT(D13*L13) -> 0
A14: 소 계 | G14: =SUM(G10:G13) -> 643 | I14: =SUM(I10:I13) -> 338 | K14: =SUM(K10:K13) -> 305 | M14: =SUM(M10:M13) -> 0
A17: 제 3호표 능형망 설치 | N17: (1㎡당)
A18: 망(PE)360D | C18: 40합4.5*4.5 | D18: 1.3 | E18: ㎡ | F18: =SUM(H18,J18,L18) -> 2200 | G18: =SUM(I18,K18,M18) -> 2860 | H18: ='테라토5-단가적용'!J7 -> 2200 | I18: =INT(D18*H18) -> 2860 | J18: 0 | K18: =INT(D18*J18) -> 0 | L18: 0 | M18: =INT(D18*L18) -> 0
A19: 작업반장 | D19: 0.005 | E19: 인 | F19: =SUM(H19,J19,L19) -> 92218 | G19: =SUM(I19,K19,M19) -> 461 | H19: 0 | I19: =INT(D19*H19) -> 0 | J19: ='테라토5-단가적용'!J14 -> 92218 | K19: =INT(D19*J19) -> 461 | L19: 0 | M19: =INT(D19*L19) -> 0
A20: 특별인부 | D20: 0.016 | E20: 인 | F20: =SUM(H20,J20,L20) -> 84404 | G20: =SUM(I20,K20,M20) -> 1350 | H20: 0 | I20: =INT(D20*H20) -> 0 | J20: ='테라토5-단가적용'!J13 -> 84404 | K20: =INT(D20*J20) -> 1350 | L20: 0 | M20: =INT(D20*L20) -> 0
A21: 보통인부 | D21: 0.016 | E21: 인 | F21: =SUM(H21,J21,L21) -> 68965 | G21: =SUM(I21,K21,M21) -> 1103 | H21: 0 | I21: =INT(D21*H21) -> 0 | J21: ='테라토5-단가적용'!J12 -> 68965 | K21: =INT(D21*J21) -> 1103 | L21: 0 | M21: =INT(D21*L21) -> 0
A22: 소 계 | G22: =SUM(G18:G21) -> 5774 | I22: =SUM(I18:I21) -> 2860 | K22: =SUM(K18:K21) -> 2914 | M22: =SUM(M18:M21) -> 0
A24: 제 4호표 취부공 품셈 | N24: (1㎡당)
A25: 테라토 | C25: 절토면 | D25: 0.024 | E25: ㎥ | F25: =SUM(H25,J25,L25) -> 185000 | G25: =SUM(I25,K25,M25) -> 4440 | H25: ='테라토5-단가적용'!J9 -> 185000 | I25: =INT(D25*H25) -> 4440 | J25: 0 | K25: =INT(D25*J25) -> 0 | L25: 0 | M25: =INT(D25*L25) -> 0
A26: 종자 | C26: 혼합종자 | D26: 0.06 | E26: kg | F26: =SUM(H26,J26,L26) -> 50000 | G26: =SUM(I26,K26,M26) -> 3000 | H26: ='테라토5-단가적용'!J5 -> 50000 | I26: =INT(D26*H26) -> 3000 | J26: 0 | K26: =INT(D26*J26) -> 0 | L26: 0 | M26: =INT(D26*L26) -> 0
A27: 취 부 기 | C27: 25HP | D27: 0.045 | E27: hr | F27: =SUM(H27,J27,L27) -> 24583.104 | G27: =SUM(I27,K27,M27) -> 1106 | H27: 0 | I27: =INT(D27*H27) -> 0 | J27: 0 | K27: =INT(D27*J27) -> 0 | L27: ='테라토5-장비'!F33 -> 24583.104 | M27: =INT(D27*L27) -> 1106
A28: 공기압축기 | C28: 17㎡/min | D28: 0.045 | E28: hr | F28: =SUM(H28,J28,L28) -> 62115.6 | G28: =SUM(I28,K28,M28) -> 2794 | H28: ='테라토5-장비'!F47 -> 35879 | I28: =INT(D28*H28) -> 1614 | J28: ='테라토5-장비'!F51 -> 20561 | K28: =INT(D28*J28) -> 925 | L28: ='테라토5-장비'!F53 -> 5675.6 | M28: =INT(D28*L28) -> 255
A29: 발 전 기 | C29: 50kw | D29: 0.045 | E29: hr | F29: =SUM(H29,J29,L29) -> 38821 | G29: =SUM(I29,K29,M29) -> 1746 | H29: ='테라토5-장비'!F7 -> 14606 | I29: =INT(D29*H29) -> 657 | J29: ='테라토5-장비'!F11 -> 20561 | K29: =INT(D29*J29) -> 925 | L29: ='테라토5-장비'!F13 -> 3654 | M29: =INT(D29*L29) -> 164
A30: 트럭크레인 | C30: 5ton | D30: 0.052 | E30: hr | F30: =SUM(H30,J30,L30) -> 55058 | G30: =SUM(I30,K30,M30) -> 2861 | H30: ='테라토5-장비'!F107 -> 7132 | I30: =INT(D30*H30) -> 370 | J30: ='테라토5-장비'!F111 -> 24490 | K30: =INT(D30*J30) -> 1273 | L30: ='테라토5-장비'!F113 -> 23436 | M30: =INT(D30*L30) -> 1218
A31: 버블머신 | D31: 0.015 | E31: hr | F31: =SUM(H31,J31,L31) -> 13582.15 | G31: =SUM(I31,K31,M31) -> 202 | H31: ='테라토5-장비'!F167 -> 102.85 | I31: =INT(D31*H31) -> 1 | J31: ='테라토5-장비'!F171 -> 10260 | K31: =INT(D31*J31) -> 153 | L31: ='테라토5-장비'!F173 -> 3219.3 | M31: =INT(D31*L31) -> 48
A32: 테라비아 | C32: 미생물액비 | D32: 0.0009 | E32: L | F32: =SUM(H32,J32,L32) -> 18000 | G32: =SUM(I32,K32,M32) -> 16 | H32: ='테라토5-단가적용'!J8 -> 18000 | I32: =INT(D32*H32) -> 16 | K32: =INT(D32*J32) -> 0 | M32: =INT(D32*L32) -> 0
A33: 덤프트럭 | C33: 6ton | D33: 0.045 | E33: hr | F33: =SUM(H33,J33,L33) -> 41691.919 | G33: =SUM(I33,K33,M33) -> 1875 | H33: ='테라토5-장비'!F147 -> 15017 | I33: =INT(D33*H33) -> 675 | J33: ='테라토5-장비'!F151 -> 20557 | K33: =INT(D33*J33) -> 925 | L33: ='테라토5-장비'!F153 -> 6117.9189 | M33: =INT(D33*L33) -> 275
A34: 작업반장 | D34: 0.005 | E34: 인 | F34: =SUM(H34,J34,L34) -> 92218 | G34: =SUM(I34,K34,M34) -> 461 | H34: 0 | I34: =INT(D34*H34) -> 0 | J34: ='테라토5-단가적용'!J14 -> 92218 | K34: =INT(D34*J34) -> 461 | L34: 0 | M34: =INT(D34*L34) -> 0
A35: 특별인부 | D35: 0.022 | E35: 인 | F35: =SUM(H35,J35,L35) -> 84404 | G35: =SUM(I35,K35,M35) -> 1856 | H35: 0 | I35: =INT(D35*H35) -> 0 | J35: ='테라토5-단가적용'!J13 -> 84404 | K35: =INT(D35*J35) -> 1856 | L35: 0 | M35: =INT(D35*L35) -> 0
A36: 기 계 공 | D36: 0.005 | E36: 인 | F36: =SUM(H36,J36,L36) -> 86521 | G36: =SUM(I36,K36,M36) -> 432 | H36: 0 | I36: =INT(D36*H36) -> 0 | J36: ='테라토5-단가적용'!J15 -> 86521 | K36: =INT(D36*J36) -> 432 | L36: 0 | M36: =INT(D36*L36) -> 0
A37: 보통인부 | D37: 0.0038 | E37: 인 | F37: =SUM(H37,J37,L37) -> 68965 | G37: =SUM(I37,K37,M37) -> 262 | H37: 0 | I37: =INT(D37*H37) -> 0 | J37: ='테라토5-단가적용'!J12 -> 68965 | K37: =INT(D37*J37) -> 262 | L37: 0 | M37: =INT(D37*L37) -> 0
A38: 소 계 | G38: =SUM(G25:G37) -> 21051 | I38: =SUM(I25:I37) -> 10773 | K38: =SUM(K25:K37) -> 7212 | M38: =SUM(M25:M37) -> 3066
A40: 잡재료비 | C40: 재료비의3% | G40: =SUM(I40,K40,M40) -> 323 | I40: =INT(I38*3%) -> 323
A41: 기구손료 | C41: 노무비의2% | G41: =SUM(I41,K41,M41) -> 144 | K41: =INT(K38*2%) -> 144
A43: 합 계 | G43: =SUM(I43,K43,M43) -> 29625 | I43: =I38+I22+I14+I7+I40+I41 -> 14483 | K43: =K38+K22+K14+K7+K40+K41 -> 12029 | M43: =M38+M22+M14+M7+M40+M41 -> 3113

Sheet 테라토5-장비
A1: 중 기 명 : 발 전 기(50KW)
A3: 중기가격 : 16,360천원
A4: 항 목 | B4: 구 분 | C4: 수 량 | D4: 단 위 | E4: 단 가 | F4: 금 액 | G4: 비 고
A5: 재 료 비 | B5: 경 유 | C5: 8.7 | D5: ℓ | E5: ='테라토5-단가적용'!J10 -> 1322 | F5: =ROUNDDOWN(C5*E5,0) -> 11501
B6: 잡 품 | C6: 24 | D6: % | F6: =ROUNDDOWN(F5*27%,0) -> 3105
B7: 소 계 | F7: =SUM(F5:F6) -> 14606
A8: 노 무 비 | B8: 중기운전기사 | C8: 1 | D8: 인 | E8: ='테라토5-장비기준'!S11 -> 20561 | F8: =ROUNDDOWN(C8*E8,0) -> 20561
B9: 중기운전조수 | C9: 0 | D9: 인 | E9: ='테라토5-장비기준'!S12 -> 11517 | F9: =ROUNDDOWN(C9*E9,0) -> 0
B10: 중기조장 | C10: 0 | D10: 인 | E10: ='테라토5-장비기준'!S13 -> 19656 | F10: =ROUNDDOWN(C10*E10,0) -> 0
B11: 소 계 | F11: =SUM(F8:F10) -> 20561
A12: 경 비 | B12: 기계손료 | C12: 0.2234 | E12: 16360 | F12: =ROUNDDOWN(C12*E12,0) -> 3654
B13: 소 계 | F13: =SUM(F12) -> 3654
A20: 합 계 | F20: =F7+F11+F13 -> 38821
A21: 중 기 명 : 취 부 기 (16L)
A23: 중기가격 : 37,246천원
A24: 항 목 | B24: 구 분 | C24: 수 량 | D24: 단 위 | E24: 단 가 | F24: 금 액 | G24: 비 고
A25: 재 료 비 | B25: 경 유 | C25: 0 | D25: ℓ | E25: ='테라토5-단가적용'!J10 -> 1322 | F25: =ROUNDDOWN(C25*E25,0) -> 0
B26: 잡 품 | C26: 0 | D26: % | F26: =ROUNDDOWN(F25*25%,0) -> 0
B27: 소 계 | F27: =SUM(F25:F26) -> 0
A28: 노 무 비 | B28: 중기운전기사 | C28: 1 | D28: 인 | E28: ='테라토5-장비기준'!S31 -> 0 | F28: =ROUNDDOWN(C28*E28,0) -> 0
B29: 중기운전조수 | C29: 0 | D29: 인 | E29: ='테라토5-장비기준'!S32 -> 0 | F29: =ROUNDDOWN(C29*E29,0) -> 0
B30: 중기조장 | C30: 0 | D30: 인 | E30: ='테라토5-장비기준'!S33 -> 0 | F30: =ROUNDDOWN(C30*E30,0) -> 0
B31: 소 계 | F31: =SUM(F28:F30) -> 0
A32: 경 비 | B32: 기계손료 | C32: 0.4221 | E32: 58240 | F32: =E32*C32 -> 24583.104
B33: 소 계 | F33: =SUM(F32) -> 24583.104
A40: 합 계 | F40: =F27+F31+F33 -> 24583.104
A41: 중 기 명 : 공기압축기 (17㎥/min)
A43: 중기가격 : 28,000천원
A44: 항 목 | B44: 구 분 | C44: 수 량 | D44: 단 위 | E44: 단 가 | F44: 금 액 | G44: 비 고
A45: 재 료 비 | B45: 경 유 | C45: 23 | D45: ℓ | E45: ='테라토5-단가적용'!J10 -> 1322 | F45: =ROUNDDOWN(C45*E45,0) -> 30406
B46: 잡 품 | C46: 16 | D46: % | F46: =ROUNDDOWN(F45*18%,0) -> 5473
B47: 소 계 | F47: =SUM(F45:F46) -> 35879
A48: 노 무 비 | B48: 중기운전기사 | C48: 1 | D48: 인 | E48: ='테라토5-장비기준'!S11 -> 20561 | F48: =ROUNDDOWN(C48*E48,0) -> 20561
B49: 중기운전조수 | C49: 0 | D49: 인 | E49: ='테라토5-장비기준'!S12 -> 11517 | F49: =ROUNDDOWN(C49*E49,0) -> 0
B50: 중기조장 | C50: 0 | D50: 인 | E50: ='테라토5-장비기준'!S13 -> 19656 | F50: =ROUNDDOWN(C50*E50,0) -> 0
B51: 소 계 | F51: =SUM(F48:F50) -> 20561
A52: 경 비 | B52: 기계손료 | C52: 0.2027 | E52: 28000 | F52: =E52*C52 -> 5675.6
B53: 소 계 | F53: =SUM(F52) -> 5675.6
A60: 합 계 | F60: =F47+F51+F53 -> 62115.6
A61: 중 기 명 : 굴삭기(유압식백호우 0.4㎥)
A63: 중기가격 :61,106천원
A64: 항 목 | B64: 구 분 | C64: 수 량 | D64: 단 위 | E64: 단 가 | F64: 금 액 | G64: 비 고
A65: 재 료 비 | B65: 경 유 | C65: 9.9 | D65: ℓ | E65: ='테라토5-장비기준'!E8 -> 1322 | F65: =ROUNDDOWN(C65*E65,0) -> 13087
B66: 잡 품 | C66: 22 | D66: % | F66: =ROUNDDOWN(F65*25%,0) -> 3271
B67: 소 계 | F67: =SUM(F65:F66) -> 16358
A68: 노 무 비 | B68: 중기운전기사 | C68: 0.20833 | D68: 인 | E68: ='테라토5-장비기준'!E11 -> 98693 | F68: =ROUNDDOWN(C68*E68,0) -> 20560
B69: 중기운전조수 | D69: 인 | F69: =ROUNDDOWN(C69*E69,0) -> 0
B70: 중기조장 | C70: 0.04166 | D70: 인 | E70: ='테라토5-장비기준'!E13 -> 94350 | F70: =ROUNDDOWN(C70*E70,0) -> 3930
B71: 소 계 | F71: =SUM(F68:F70) -> 24490
A72: 경 비 | B72: 기계손료 | C72: 0.2038 | E72: 61106 | F72: =ROUNDDOWN(C72*E72,0) -> 12453
B73: 소 계 | F73: =SUM(F72) -> 12453
A80: 합 계 | F80: =F67+F71+F73 -> 53301
A81: 중 기 명 : 굴삭기(유압식백호우 0.7㎥)
A83: 중기가격 : 93,042천원
A84: 항 목 | B84: 구 분 | C84: 수 량 | D84: 단 위 | E84: 단 가 | F84: 금 액 | G84: 비 고
A85: 재 료 비 | B85: 경 유 | C85: 11.6 | D85: ℓ | E85: ='테라토5-장비기준'!E8 -> 1322 | F85: =ROUNDDOWN(C85*E85,0) -> 15335
B86: 잡 품 | C86: 22 | D86: % | F86: =ROUNDDOWN(F85*25%,0) -> 3833
B87: 소 계 | F87: =SUM(F85:F86) -> 19168
A88: 노 무 비 | B88: 중기운전기사 | C88: 0.20833 | D88: 인 | E88: ='테라토5-장비기준'!E11 -> 98693 | F88: =ROUNDDOWN(C88*E88,0) -> 20560
B89: 중기운전조수 | D89: 인 | F89: =ROUNDDOWN(C89*E89,0) -> 0
B90: 중기조장 | C90: 0.04166 | D90: 인 | E90: ='테라토5-장비기준'!E13 -> 94350 | F90: =ROUNDDOWN(C90*E90,0) -> 3930
B91: 소 계 | F91: =SUM(F88:F90) -> 24490
A92: 경 비 | B92: 기계손료 | C92: =C72 -> 0.2038 | E92: 93042 | F92: =ROUNDDOWN(C92*E92,0) -> 18961
B93: 소 계 | F93: =SUM(F92) -> 18961
A100: 합 계 | F100: =F87+F91+F93 -> 62619
A101: 중 기 명 : 트럭 크레인 ( 10TON )
A103: 중기가격 : 105,000천원
A104: 항 목 | B104: 구 분 | C104: 수 량 | D104: 단 위 | E104: 단 가 | F104: 금 액 | G104: 비 고
A105: 재 료 비 | B105: 경 유 | C105: 3.8 | D105: ℓ | E105: ='테라토5-단가적용'!J10 -> 1322 | F105: =ROUNDDOWN(C105*E105,0) -> 5023
B106: 잡 품 | C106: 39 | D106: % | F106: =ROUNDDOWN(F105*42%,0) -> 2109
B107: 소 계 | F107: =SUM(F105:F106) -> 7132
A108: 노 무 비 | B108: 중기운전기사 | C108: 0.20833 | D108: 인 | E108: ='테라토5-장비기준'!E11 -> 98693 | F108: =ROUNDDOWN(C108*E108,0) -> 20560
B109: 중기운전조수 | D109: 인 | F109: =ROUNDDOWN(C109*E109,0) -> 0
B110: 중기조장 | C110: 0.04166 | D110: 인 | E110: ='테라토5-장비기준'!E13 -> 94350 | F110: =ROUNDDOWN(C110*E110,0) -> 3930
B111: 소 계 | F111: =SUM(F108:F110) -> 24490
A112: 경 비 | B112: 기계손료 | C112: 0.2232 | E112: 105000 | F112: =E112*C112 -> 23436
B113: 소 계 | F113: =SUM(F112) -> 23436
A120: 합 계 | F120: =F107+F111+F113 -> 55058
A121: 중 기 명 : 물 탱 크(5,500L)
A123: 중기가격 : 38,257천원
A124: 항 목 | B124: 구 분 | C124: 수 량 | D124: 단 위 | E124: 단 가 | F124: 금 액 | G124: 비 고
A125: 재 료 비 | B125: 경 유 | C125: 9.3 | D125: ℓ | E125: ='테라토5-단가적용'!J10 -> 1322 | F125: =ROUNDDOWN(C125*E125,0) -> 12294
B126: 잡 품 | C126: 30 | D126: % | F126: =ROUNDDOWN(F125*35%,0) -> 4302
B127: 소 계 | F127: =SUM(F125:F126) -> 16596
A128: 노 무 비 | B128: 중기운전기사 | C128: 0.2083 | D128: 인 | E128: ='테라토5-장비기준'!E11 -> 98693 | F128: =ROUNDDOWN(C128*E128,0) -> 20557
D129: 인 | F129: =ROUNDDOWN(C129*E129,0) -> 0
D130: 인 | F130: =ROUNDDOWN(C130*E130,0) -> 0
B131: 소 계 | F131: =SUM(F128:F130) -> 20557
A132: 경 비 | B132: 기계손료 | C132: 0.2045 | E132: 38257 | F132: =E132*C132 -> 7823.5565
B133: 소 계 | F133: =SUM(F132) -> 7823.5565
A140: 합 계 | F140: =F127+F131+F133 -> 44976.556
A141: 중 기 명 : 덤 프 (6TON)
A143: 중기가격 : 21,089천원
A144: 항 목 | B144: 구 분 | C144: 수 량 | D144: 단 위 | E144: 단 가 | F144: 금 액 | G144: 비 고
A145: 재 료 비 | B145: 경 유 | C145: 8 | D145: ℓ | E145: ='테라토5-단가적용'!J10 -> 1322 | F145: =ROUNDDOWN(C145*E145,0) -> 10576
B146: 잡 품 | C146: 38 | D146: % | F146: =ROUNDDOWN(F145*42%,0) -> 4441
B147: 소 계 | F147: =SUM(F145:F146) -> 15017
A148: 노 무 비 | B148: 중기운전기사 | C148: 0.2083 | D148: 인 | E148: ='테라토5-장비기준'!E11 -> 98693 | F148: =ROUNDDOWN(C148*E148,0) -> 20557
D149: 인 | F149: =ROUNDDOWN(C149*E149,0) -> 0
D150: 인 | F150: =ROUNDDOWN(C150*E150,0) -> 0
...

Sheet 테라토5-장비기준
A2: 적 용 기 준
B4: * 환 율
C5: 1달라($) | D5: : | E5: 1380
B7: * 유 류 대
C8: 경 유 | D8: : | E8: ='테라토5-단가적용'!J10 -> 1322 | F8: 원
B10: * 노 무 비
C11: 중기운전기사 | D11: : | E11: ='테라토5-단가적용'!J17 -> 98693 | F11: * | G11: 16 | H11: / | I11: 12 | J11: * | K11: 1 | L11: / | M11: 8 | N11: * | O11: 25 | P11: / | Q11: 20 | R11: = | S11: =ROUNDDOWN(E11*G11/I11*1/8*25/20,0) -> 20561
C12: 중기운전조수 | D12: : | E12: ='테라토5-단가적용'!J19 -> 55282 | F12: * | G12: 16 | H12: / | I12: 12 | J12: * | K12: 1 | L12: / | M12: 8 | N12: * | O12: 25 | P12: / | Q12: 20 | R12: = | S12: =ROUNDDOWN(E12*G12/I12*1/8*25/20,0) -> 11517
C13: 중기조장 | D13: : | E13: ='테라토5-단가적용'!J18 -> 94350 | F13: * | G13: 16 | H13: / | I13: 12 | J13: * | K13: 1 | L13: / | M13: 8 | N13: * | O13: 25 | P13: / | Q13: 20 | R13: = | S13: =ROUNDDOWN(E13*G13/I13*1/8*25/20,0) -> 19656
C14: 운전사(기계) | D14: : | E14: ='테라토5-단가적용'!J20 -> 84942 | F14: * | G14: 16 | H14: / | I14: 12 | J14: * | K14: 1 | L14: / | M14: 8 | N14: * | O14: 25 | P14: / | Q14: 20 | R14: = | S14: =ROUNDDOWN(E14*G14/I14*1/8*25/20,0) -> 17696

Sheet 테라토5-단가적용
A1: 종 별 | B1: 규 격 | C1: 단위 | D1: 적산정보 | F1: 견적서 | H1: 물가정보(04월) | J1: 적용단가
D2: PAGE | E2: 금 액 | F2: PAGE | G2: 금 액 | H2: PAGE | I2: 금 액
A3: 앵커핀 | B3: 이형철근 Φ16 L=0.5M | C3: 개 | H3: 287 | I3: 600 | J3: =I3 -> 600
A4: 착지핀 | B4: 이형철근 Φ16 L=0.35M | C4: 개 | H4: 287 | I4: 400 | J4: =I4 -> 400
A5: 종자 | B5: 혼합종자 | C5: KG | G5: 50000 | J5: =G5 -> 50000
A6: 철선 | B6: 아연도 #8 | C6: M | H6: 287 | I6: 240 | J6: =I6 -> 240
A7: 망(PE)360D | B7: 40합4.5*4.5 | C7: M2 | G7: 2200 | J7: =G7 -> 2200
A8: 테라비아 | B8: 미생물액비 | C8: L | H8: 302 | I8: 18000 | J8: =I8 -> 18000
A9: 테라토 | B9: 사면보호용 | C9: M3 | H9: 302 | I9: 185000 | J9: =I9 -> 185000
A10: 경유 | C10: ℓ | H10: 1255 | I10: 1322 | J10: =I10 -> 1322
A12: 보통인부 | C12: 인 | J12: 68965
A13: 특별인부 | C13: 인 | J13: 84404
A14: 작업반장 | C14: 인 | J14: 92218
A15: 기계공 | C15: 인 | J15: 86521
A16: 착암공 | C16: 인 | J16: 79533
A17: 건설기계운전기사 | C17: 인 | J17: 98693
A18: 건설기계조장 | C18: 인 | J18: 94350
A19: 건설기계운전조수 | C19: 인 | J19: 55282
A20: 운전사(운반차) | C20: 인 | J20: 84942
A24: * 참고사항 :

Sheet 테라토7-목록
A1: 품 명 | C1: 규 격 | D1: 수 량 | E1: 단위 | F1: 총 액 | H1: 재 료 비 | J1: 노 무 비 | L1: 경 비 | N1: 비 고
F2: 단 가 | G2: 금 액 | H2: 단 가 | I2: 금 액 | J2: 단 가 | K2: 금 액 | L2: 단 가 | M2: 금 액
A3: ='테라토7-일위대가'!A3 -> 제 1호표 앙카핀 및 착지핀 홀천공
A4: ='테라토7-일위대가'!A9 -> 제 2호표 앙카핀 및 착지핀 설치
A5: ='테라토7-일위대가'!A17 -> 제 3호표 능형망 설치
A6: ='테라토7-일위대가'!A24 -> 제 4호표 취부공 품셈

Sheet 테라토7-일위대가
A1: 품 명 | C1: 규 격 | D1: 수 량 | E1: 단위 | F1: 총 액 | H1: 재 료 비 | J1: 노 무 비 | L1: 경 비 | N1: 비 고
F2: 단 가 | G2: 금 액 | H2: 단 가 | I2: 금 액 | J2: 단 가 | K2: 금 액 | L2: 단 가 | M2: 금 액
A3: 제 1호표 앙카핀 및 착지핀 홀천공 | N3: (1㎡당)
A4: 발 전 기 | C4: 50kw | D4: 0.016 | E4: HR | F4: =H4+J4+L4 -> 38821 | G4: =SUM(I4,K4,M4) -> 619 | H4: ='테라토7-장비'!F7 -> 14606 | I4: =INT(D4*H4) -> 233 | J4: ='테라토7-장비'!F11 -> 20561 | K4: =INT(D4*J4) -> 328 | L4: ='테라토7-장비'!F13 -> 3654 | M4: =INT(D4*L4) -> 58
A5: 착 암 공 | D5: 0.01 | E5: 인 | F5: =H5+J5+L5 -> 79533 | G5: =SUM(I5,K5,M5) -> 795 | H5: 0 | I5: =INT(D5*H5) -> 0 | J5: ='테라토7-단가적용'!J16 -> 79533 | K5: =INT(D5*J5) -> 795 | L5: 0 | M5: =INT(D5*L5) -> 0
A6: 보통인부 | D6: 0.01 | E6: 인 | F6: =H6+J6+L6 -> 68965 | G6: =SUM(I6,K6,M6) -> 689 | H6: 0 | I6: =INT(D6*H6) -> 0 | J6: ='테라토7-단가적용'!J12 -> 68965 | K6: =INT(D6*J6) -> 689 | L6: 0 | M6: =INT(D6*L6) -> 0
A7: 소 계 | G7: =SUM(G4:G6) -> 2103 | I7: =SUM(I4:I6) -> 233 | K7: =SUM(K4:K6) -> 1812 | M7: =SUM(M4:M6) -> 58
A9: 제 2호표 앙카핀 및 착지핀 설치 | N9: (1㎡당)
A10: 앙 카 핀 | C10: Φ16 L=0.5m | D10: 0.23 | E10: EA | F10: =H10+J10+L10 -> 600 | G10: =SUM(I10,K10,M10) -> 138 | H10: ='테라토7-단가적용'!J3 -> 600 | I10: =INT(D10*H10) -> 138 | J10: 0 | K10: =INT(D10*J10) -> 0 | L10: 0 | M10: =INT(D10*L10) -> 0
A11: 착 지 핀 | C11: Φ16 L=0.35m | D11: 0.5 | E11: EA | F11: =H11+J11+L11 -> 400 | G11: =SUM(I11,K11,M11) -> 200 | H11: ='테라토7-단가적용'!J4 -> 400 | I11: =INT(D11*H11) -> 200 | J11: 0 | K11: =INT(D11*J11) -> 0 | L11: 0 | M11: =INT(D11*L11) -> 0
A12: 특별인부 | D12: 0.004 | E12: 인 | F12: =H12+J12+L12 -> 84404 | G12: =SUM(I12,K12,M12) -> 337 | H12: 0 | I12: =INT(D12*H12) -> 0 | J12: ='테라토7-단가적용'!J13 -> 84404 | K12: =INT(D12*J12) -> 337 | L12: 0 | M12: =INT(D12*L12) -> 0
A13: 보통인부 | D13: 0.004 | E13: 인 | F13: =H13+J13+L13 -> 68965 | G13: =SUM(I13,K13,M13) -> 275 | H13: 0 | I13: =INT(D13*H13) -> 0 | J13: ='테라토7-단가적용'!J12 -> 68965 | K13: =INT(D13*J13) -> 275 | L13: 0 | M13: =INT(D13*L13) -> 0
A14: 소 계 | G14: =SUM(G10:G13) -> 950 | I14: =SUM(I10:I13) -> 338 | K14: =SUM(K10:K13) -> 612 | M14: =SUM(M10:M13) -> 0
A17: 제 3호표 능형망 설치 | N17: (1㎡당)
A18: 능 형 망 | C18: #10 58*58 | D18: 1.3 | E18: ㎡ | F18: =SUM(H18,J18,L18) -> 3260 | G18: =SUM(I18,K18,M18) -> 4238 | H18: ='테라토7-단가적용'!J7 -> 3260 | I18: =INT(D18*H18) -> 4238 | J18: 0 | K18: =INT(D18*J18) -> 0 | L18: 0 | M18: =INT(D18*L18) -> 0
A19: 철 선 | C19: #8 pvc 코팅 | D19: 1.3 | E19: m | F19: =SUM(H19,J19,L19) -> 240 | G19: =SUM(I19,K19,M19) -> 312 | H19: ='테라토7-단가적용'!J6 -> 240 | I19: =INT(D19*H19) -> 312 | J19: 0 | K19: =INT(D19*J19) -> 0 | L19: 0 | M19: =INT(D19*L19) -> 0
A20: 작업반장 | D20: 0.004 | E20: 인 | F20: =SUM(H20,J20,L20) -> 92218 | G20: =SUM(I20,K20,M20) -> 368 | H20: 0 | I20: =INT(D20*H20) -> 0 | J20: ='테라토7-단가적용'!J14 -> 92218 | K20: =INT(D20*J20) -> 368 | L20: 0 | M20: =INT(D20*L20) -> 0
A21: 특별인부 | D21: 0.018 | E21: 인 | F21: =SUM(H21,J21,L21) -> 84404 | G21: =SUM(I21,K21,M21) -> 1519 | H21: 0 | I21: =INT(D21*H21) -> 0 | J21: ='테라토7-단가적용'!J13 -> 84404 | K21: =INT(D21*J21) -> 1519 | L21: 0 | M21: =INT(D21*L21) -> 0
A22: 보통인부 | D22: 0.018 | E22: 인 | F22: =SUM(H22,J22,L22) -> 68965 | G22: =SUM(I22,K22,M22) -> 1241 | H22: 0 | I22: =INT(D22*H22) -> 0 | J22: ='테라토7-단가적용'!J12 -> 68965 | K22: =INT(D22*J22) -> 1241 | L22: 0 | M22: =INT(D22*L22) -> 0
A23: 소 계 | G23: =SUM(G18:G22) -> 7678 | I23: =SUM(I18:I22) -> 4550 | K23: =SUM(K18:K22) -> 3128 | M23: =SUM(M18:M22) -> 0
A24: 제 4호표 취부공 품셈 | N24: (1㎡당)
A25: 테라토 | C25: 절토면 | D25: 0.033 | E25: ㎥ | F25: =SUM(H25,J25,L25) -> 185000 | G25: =SUM(I25,K25,M25) -> 6105 | H25: ='테라토7-단가적용'!J9 -> 185000 | I25: =INT(D25*H25) -> 6105 | J25: 0 | K25: =INT(D25*J25) -> 0 | L25: 0 | M25: =INT(D25*L25) -> 0
A26: 종자 | C26: 혼합종자 | D26: 0.08 | E26: kg | F26: =SUM(H26,J26,L26) -> 50000 | G26: =SUM(I26,K26,M26) -> 4000 | H26: ='테라토7-단가적용'!J5 -> 50000 | I26: =INT(D26*H26) -> 4000 | J26: 0 | K26: =INT(D26*J26) -> 0 | L26: 0 | M26: =INT(D26*L26) -> 0
A27: 취 부 기 | C27: 25HP | D27: 0.06 | E27: hr | F27: =SUM(H27,J27,L27) -> 24583.104 | G27: =SUM(I27,K27,M27) -> 1474 | H27: 0 | I27: =INT(D27*H27) -> 0 | J27: 0 | K27: =INT(D27*J27) -> 0 | L27: ='테라토7-장비'!F33 -> 24583.104 | M27: =INT(D27*L27) -> 1474
A28: 공기압축기 | C28: 17㎡/min | D28: 0.06 | E28: hr | F28: =SUM(H28,J28,L28) -> 62115.6 | G28: =SUM(I28,K28,M28) -> 3725 | H28: ='테라토7-장비'!F47 -> 35879 | I28: =INT(D28*H28) -> 2152 | J28: ='테라토7-장비'!F51 -> 20561 | K28: =INT(D28*J28) -> 1233 | L28: ='테라토7-장비'!F53 -> 5675.6 | M28: =INT(D28*L28) -> 340
A29: 발 전 기 | C29: 50kw | D29: 0.06 | E29: hr | F29: =SUM(H29,J29,L29) -> 38821 | G29: =SUM(I29,K29,M29) -> 2328 | H29: ='테라토7-장비'!F7 -> 14606 | I29: =INT(D29*H29) -> 876 | J29: ='테라토7-장비'!F11 -> 20561 | K29: =INT(D29*J29) -> 1233 | L29: ='테라토7-장비'!F13 -> 3654 | M29: =INT(D29*L29) -> 219
A30: 트럭크레인 | C30: 5ton | D30: 0.06 | E30: hr | F30: =SUM(H30,J30,L30) -> 55058 | G30: =SUM(I30,K30,M30) -> 3302 | H30: ='테라토7-장비'!F107 -> 7132 | I30: =INT(D30*H30) -> 427 | J30: ='테라토7-장비'!F111 -> 24490 | K30: =INT(D30*J30) -> 1469 | L30: ='테라토7-장비'!F113 -> 23436 | M30: =INT(D30*L30) -> 1406
A31: 버블머신 | D31: 0.019 | E31: hr | F31: =SUM(H31,J31,L31) -> 13582.15 | G31: =SUM(I31,K31,M31) -> 256 | H31: ='테라토7-장비'!F167 -> 102.85 | I31: =INT(D31*H31) -> 1 | J31: ='테라토7-장비'!F171 -> 10260 | K31: =INT(D31*J31) -> 194 | L31: ='테라토7-장비'!F173 -> 3219.3 | M31: =INT(D31*L31) -> 61
A32: 테라비아 | C32: 미생물액비 | D32: 0.0015 | E32: L | F32: =SUM(H32,J32,L32) -> 18000 | G32: =SUM(I32,K32,M32) -> 27 | H32: ='테라토7-단가적용'!J8 -> 18000 | I32: =INT(D32*H32) -> 27 | K32: =INT(D32*J32) -> 0 | M32: =INT(D32*L32) -> 0
A33: 덤프트럭 | C33: 6ton | D33: 0.06 | E33: hr | F33: =SUM(H33,J33,L33) -> 41691.919 | G33: =SUM(I33,K33,M33) -> 2501 | H33: ='테라토7-장비'!F147 -> 15017 | I33: =INT(D33*H33) -> 901 | J33: ='테라토7-장비'!F151 -> 20557 | K33: =INT(D33*J33) -> 1233 | L33: ='테라토7-장비'!F153 -> 6117.9189 | M33: =INT(D33*L33) -> 367
A34: 작업반장 | D34: 0.006 | E34: 인 | F34: =SUM(H34,J34,L34) -> 92218 | G34: =SUM(I34,K34,M34) -> 553 | H34: 0 | I34: =INT(D34*H34) -> 0 | J34: ='테라토7-단가적용'!J14 -> 92218 | K34: =INT(D34*J34) -> 553 | L34: 0 | M34: =INT(D34*L34) -> 0
A35: 특별인부 | D35: 0.027 | E35: 인 | F35: =SUM(H35,J35,L35) -> 84404 | G35: =SUM(I35,K35,M35) -> 2278 | H35: 0 | I35: =INT(D35*H35) -> 0 | J35: ='테라토7-단가적용'!J13 -> 84404 | K35: =INT(D35*J35) -> 2278 | L35: 0 | M35: =INT(D35*L35) -> 0
A36: 기 계 공 | D36: 0.006 | E36: 인 | F36: =SUM(H36,J36,L36) -> 86521 | G36: =SUM(I36,K36,M36) -> 519 | H36: 0 | I36: =INT(D36*H36) -> 0 | J36: ='테라토7-단가적용'!J15 -> 86521 | K36: =INT(D36*J36) -> 519 | L36: 0 | M36: =INT(D36*L36) -> 0
A37: 보통인부 | D37: 0.052 | E37: 인 | F37: =SUM(H37,J37,L37) -> 68965 | G37: =SUM(I37,K37,M37) -> 3586 | H37: 0 | I37: =INT(D37*H37) -> 0 | J37: ='테라토7-단가적용'!J12 -> 68965 | K37: =INT(D37*J37) -> 3586 | L37: 0 | M37: =INT(D37*L37) -> 0
A38: 소 계 | G38: =SUM(G25:G37) -> 30654 | I38: =SUM(I25:I37) -> 14489 | K38: =SUM(K25:K37) -> 12298 | M38: =SUM(M25:M37) -> 3867
A40: 잡재료비 | C40: 재료비의3% | G40: =SUM(I40,K40,M40) -> 434 | I40: =INT(I38*3%) -> 434
A41: 기구손료 | C41: 노무비의2% | G41: =SUM(I41,K41,M41) -> 245 | K41: =INT(K38*2%) -> 245
A43: 합 계 | G43: =SUM(I43,K43,M43) -> 42064 | I43: =I41+I40+I38+I23+I14+I7 -> 20044 | K43: =K41+K40+K38+K23+K14+K7 -> 18095 | M43: =M41+M40+M38+M23+M14+M7 -> 3925

Sheet 테라토7-장비
A1: 중 기 명 : 발 전 기(50KW)
A3: 중기가격 : 16,360천원
A4: 항 목 | B4: 구 분 | C4: 수 량 | D4: 단 위 | E4: 단 가 | F4: 금 액 | G4: 비 고
A5: 재 료 비 | B5: 경 유 | C5: 8.7 | D5: ℓ | E5: ='테라토7-단가적용'!J10 -> 1322 | F5: =ROUNDDOWN(C5*E5,0) -> 11501
B6: 잡 품 | C6: 24 | D6: % | F6: =ROUNDDOWN(F5*27%,0) -> 3105
B7: 소 계 | F7: =SUM(F5:F6) -> 14606
A8: 노 무 비 | B8: 중기운전기사 | C8: 1 | D8: 인 | E8: ='테라토7-장비기준'!S11 -> 20561 | F8: =ROUNDDOWN(C8*E8,0) -> 20561
B9: 중기운전조수 | C9: 0 | D9: 인 | E9: ='테라토7-장비기준'!S12 -> 11517 | F9: =ROUNDDOWN(C9*E9,0) -> 0
B10: 중기조장 | C10: 0 | D10: 인 | E10: ='테라토7-장비기준'!S13 -> 19656 | F10: =ROUNDDOWN(C10*E10,0) -> 0
B11: 소 계 | F11: =SUM(F8:F10) -> 20561
A12: 경 비 | B12: 기계손료 | C12: 0.2234 | E12: 16360 | F12: =ROUNDDOWN(C12*E12,0) -> 3654
B13: 소 계 | F13: =SUM(F12) -> 3654
A20: 합 계 | F20: =F7+F11+F13 -> 38821
A21: 중 기 명 : 취 부 기 (16L)
A23: 중기가격 : 37,246천원
A24: 항 목 | B24: 구 분 | C24: 수 량 | D24: 단 위 | E24: 단 가 | F24: 금 액 | G24: 비 고
A25: 재 료 비 | B25: 경 유 | C25: 0 | D25: ℓ | E25: ='테라토7-단가적용'!J10 -> 1322 | F25: =ROUNDDOWN(C25*E25,0) -> 0
B26: 잡 품 | C26: 0 | D26: % | F26: =ROUNDDOWN(F25*25%,0) -> 0
B27: 소 계 | F27: =SUM(F25:F26) -> 0
A28: 노 무 비 | B28: 중기운전기사 | C28: 1 | D28: 인 | E28: ='테라토7-장비기준'!S31 -> 0 | F28: =ROUNDDOWN(C28*E28,0) -> 0
B29: 중기운전조수 | C29: 0 | D29: 인 | E29: ='테라토7-장비기준'!S32 -> 0 | F29: =ROUNDDOWN(C29*E29,0) -> 0
B30: 중기조장 | C30: 0 | D30: 인 | E30: ='테라토7-장비기준'!S33 -> 0 | F30: =ROUNDDOWN(C30*E30,0) -> 0
B31: 소 계 | F31: =SUM(F28:F30) -> 0
A32: 경 비 | B32: 기계손료 | C32: 0.4221 | E32: 58240 | F32: =E32*C32 -> 24583.104
B33: 소 계 | F33: =SUM(F32) -> 24583.104
A40: 합 계 | F40: =F27+F31+F33 -> 24583.104
A41: 중 기 명 : 공기압축기 (17㎥/min)
A43: 중기가격 : 28,000천원
A44: 항 목 | B44: 구 분 | C44: 수 량 | D44: 단 위 | E44: 단 가 | F44: 금 액 | G44: 비 고
A45: 재 료 비 | B45: 경 유 | C45: 23 | D45: ℓ | E45: ='테라토7-단가적용'!J10 -> 1322 | F45: =ROUNDDOWN(C45*E45,0) -> 30406
B46: 잡 품 | C46: 16 | D46: % | F46: =ROUNDDOWN(F45*18%,0) -> 5473
B47: 소 계 | F47: =SUM(F45:F46) -> 35879
A48: 노 무 비 | B48: 중기운전기사 | C48: 1 | D48: 인 | E48: ='테라토7-장비기준'!S11 -> 20561 | F48: =ROUNDDOWN(C48*E48,0) -> 20561
B49: 중기운전조수 | C49: 0 | D49: 인 | E49: ='테라토7-장비기준'!S12 -> 11517 | F49: =ROUNDDOWN(C49*E49,0) -> 0
B50: 중기조장 | C50: 0 | D50: 인 | E50: ='테라토7-장비기준'!S13 -> 19656 | F50: =ROUNDDOWN(C50*E50,0) -> 0
B51: 소 계 | F51: =SUM(F48:F50) -> 20561
A52: 경 비 | B52: 기계손료 | C52: 0.2027 | E52: 28000 | F52: =E52*C52 -> 5675.6
B53: 소 계 | F53: =SUM(F52) -> 5675.6
A60: 합 계 | F60: =F47+F51+F53 -> 62115.6
A61: 중 기 명 : 굴삭기(유압식백호우 0.4㎥)
A63: 중기가격 :61,106천원
A64: 항 목 | B64: 구 분 | C64: 수 량 | D64: 단 위 | E64: 단 가 | F64: 금 액 | G64: 비 고
A65: 재 료 비 | B65: 경 유 | C65: 9.9 | D65: ℓ | E65: ='테라토7-장비기준'!E8 -> 1322 | F65: =ROUNDDOWN(C65*E65,0) -> 13087
B66: 잡 품 | C66: 22 | D66: % | F66: =ROUNDDOWN(F65*25%,0) -> 3271
B67: 소 계 | F67: =SUM(F65:F66) -> 16358
A68: 노 무 비 | B68: 중기운전기사 | C68: 0.20833 | D68: 인 | E68: ='테라토7-장비기준'!E11 -> 98693 | F68: =ROUNDDOWN(C68*E68,0) -> 20560
B69: 중기운전조수 | D69: 인 | F69: =ROUNDDOWN(C69*E69,0) -> 0
B70: 중기조장 | C70: 0.04166 | D70: 인 | E70: ='테라토7-장비기준'!E13 -> 94350 | F70: =ROUNDDOWN(C70*E70,0) -> 3930
B71: 소 계 | F71: =SUM(F68:F70) -> 24490
A72: 경 비 | B72: 기계손료 | C72: 0.2038 | E72: 61106 | F72: =ROUNDDOWN(C72*E72,0) -> 12453
B73: 소 계 | F73: =SUM(F72) -> 12453
A80: 합 계 | F80: =F67+F71+F73 -> 53301
A81: 중 기 명 : 굴삭기(유압식백호우 0.7㎥)
A83: 중기가격 : 93,042천원
A84: 항 목 | B84: 구 분 | C84: 수 량 | D84: 단 위 | E84: 단 가 | F84: 금 액 | G84: 비 고
A85: 재 료 비 | B85: 경 유 | C85: 11.6 | D85: ℓ | E85: ='테라토7-장비기준'!E8 -> 1322 | F85: =ROUNDDOWN(C85*E85,0) -> 15335
B86: 잡 품 | C86: 22 | D86: % | F86: =ROUNDDOWN(F85*25%,0) -> 3833
B87: 소 계 | F87: =SUM(F85:F86) -> 19168
A88: 노 무 비 | B88: 중기운전기사 | C88: 0.20833 | D88: 인 | E88: ='테라토7-장비기준'!E11 -> 98693 | F88: =ROUNDDOWN(C88*E88,0) -> 20560
B89: 중기운전조수 | D89: 인 | F89: =ROUNDDOWN(C89*E89,0) -> 0
B90: 중기조장 | C90: 0.04166 | D90: 인 | E90: ='테라토7-장비기준'!E13 -> 94350 | F90: =ROUNDDOWN(C90*E90,0) -> 3930
B91: 소 계 | F91: =SUM(F88:F90) -> 24490
A92: 경 비 | B92: 기계손료 | C92: =C72 -> 0.2038 | E92: 93042 | F92: =ROUNDDOWN(C92*E92,0) -> 18961
B93: 소 계 | F93: =SUM(F92) -> 18961
A100: 합 계 | F100: =F87+F91+F93 -> 62619
A101: 중 기 명 : 트럭 크레인 ( 10TON )
A103: 중기가격 : 105,000천원
A104: 항 목 | B104: 구 분 | C104: 수 량 | D104: 단 위 | E104: 단 가 | F104: 금 액 | G104: 비 고
A105: 재 료 비 | B105: 경 유 | C105: 3.8 | D105: ℓ | E105: ='테라토7-단가적용'!J10 -> 1322 | F105: =ROUNDDOWN(C105*E105,0) -> 5023
B106: 잡 품 | C106: 39 | D106: % | F106: =ROUNDDOWN(F105*42%,0) -> 2109
B107: 소 계 | F107: =SUM(F105:F106) -> 7132
A108: 노 무 비 | B108: 중기운전기사 | C108: 0.20833 | D108: 인 | E108: ='테라토7-장비기준'!E11 -> 98693 | F108: =ROUNDDOWN(C108*E108,0) -> 20560
B109: 중기운전조수 | D109: 인 | F109: =ROUNDDOWN(C109*E109,0) -> 0
B110: 중기조장 | C110: 0.04166 | D110: 인 | E110: ='테라토7-장비기준'!E13 -> 94350 | F110: =ROUNDDOWN(C110*E110,0) -> 3930
B111: 소 계 | F111: =SUM(F108:F110) -> 24490
A112: 경 비 | B112: 기계손료 | C112: 0.2232 | E112: 105000 | F112: =E112*C112 -> 23436
B113: 소 계 | F113: =SUM(F112) -> 23436
A120: 합 계 | F120: =F107+F111+F113 -> 55058
A121: 중 기 명 : 물 탱 크(5,500L)
A123: 중기가격 : 38,257천원
A124: 항 목 | B124: 구 분 | C124: 수 량 | D124: 단 위 | E124: 단 가 | F124: 금 액 | G124: 비 고
A125: 재 료 비 | B125: 경 유 | C125: 9.3 | D125: ℓ | E125: ='테라토7-단가적용'!J10 -> 1322 | F125: =ROUNDDOWN(C125*E125,0) -> 12294
B126: 잡 품 | C126: 30 | D126: % | F126: =ROUNDDOWN(F125*35%,0) -> 4302
B127: 소 계 | F127: =SUM(F125:F126) -> 16596
A128: 노 무 비 | B128: 중기운전기사 | C128: 0.2083 | D128: 인 | E128: ='테라토7-장비기준'!E11 -> 98693 | F128: =ROUNDDOWN(C128*E128,0) -> 20557
D129: 인 | F129: =ROUNDDOWN(C129*E129,0) -> 0
D130: 인 | F130: =ROUNDDOWN(C130*E130,0) -> 0
B131: 소 계 | F131: =SUM(F128:F130) -> 20557
A132: 경 비 | B132: 기계손료 | C132: 0.2045 | E132: 38257 | F132: =E132*C132 -> 7823.5565
B133: 소 계 | F133: =SUM(F132) -> 7823.5565
A140: 합 계 | F140: =F127+F131+F133 -> 44976.556
A141: 중 기 명 : 덤 프 (6TON)
A143: 중기가격 : 21,089천원
A144: 항 목 | B144: 구 분 | C144: 수 량 | D144: 단 위 | E144: 단 가 | F144: 금 액 | G144: 비 고
A145: 재 료 비 | B145: 경 유 | C145: 8 | D145: ℓ | E145: ='테라토7-단가적용'!J10 -> 1322 | F145: =ROUNDDOWN(C145*E145,0) -> 10576
B146: 잡 품 | C146: 38 | D146: % | F146: =ROUNDDOWN(F145*42%,0) -> 4441
B147: 소 계 | F147: =SUM(F145:F146) -> 15017
A148: 노 무 비 | B148: 중기운전기사 | C148: 0.2083 | D148: 인 | E148: ='테라토7-장비기준'!E11 -> 98693 | F148: =ROUNDDOWN(C148*E148,0) -> 20557
D149: 인 | F149: =ROUNDDOWN(C149*E149,0) -> 0
D150: 인 | F150: =ROUNDDOWN(C150*E150,0) -> 0
...

Sheet 테라토7-장비기준
A2: 적 용 기 준
B4: * 환 율
C5: 1달라($) | D5: : | E5: 1380
B7: * 유 류 대
C8: 경 유 | D8: : | E8: ='테라토7-단가적용'!J10 -> 1322 | F8: 원
B10: * 노 무 비
C11: 중기운전기사 | D11: : | E11: ='테라토7-단가적용'!J17 -> 98693 | F11: * | G11: 16 | H11: / | I11: 12 | J11: * | K11: 1 | L11: / | M11: 8 | N11: * | O11: 25 | P11: / | Q11: 20 | R11: = | S11: =ROUNDDOWN(E11*G11/I11*1/8*25/20,0) -> 20561
C12: 중기운전조수 | D12: : | E12: ='테라토7-단가적용'!J19 -> 55282 | F12: * | G12: 16 | H12: / | I12: 12 | J12: * | K12: 1 | L12: / | M12: 8 | N12: * | O12: 25 | P12: / | Q12: 20 | R12: = | S12: =ROUNDDOWN(E12*G12/I12*1/8*25/20,0) -> 11517
C13: 중기조장 | D13: : | E13: ='테라토7-단가적용'!J18 -> 94350 | F13: * | G13: 16 | H13: / | I13: 12 | J13: * | K13: 1 | L13: / | M13: 8 | N13: * | O13: 25 | P13: / | Q13: 20 | R13: = | S13: =ROUNDDOWN(E13*G13/I13*1/8*25/20,0) -> 19656
C14: 운전사(기계) | D14: : | E14: ='테라토7-단가적용'!J20 -> 84942 | F14: * | G14: 16 | H14: / | I14: 12 | J14: * | K14: 1 | L14: / | M14: 8 | N14: * | O14: 25 | P14: / | Q14: 20 | R14: = | S14: =ROUNDDOWN(E14*G14/I14*1/8*25/20,0) -> 17696

Sheet 테라토7-단가적용
A1: 종 별 | B1: 규 격 | C1: 단위 | D1: 적산정보 | F1: 견적서 | H1: 물가정보(04월) | J1: 적용단가
D2: PAGE | E2: 금 액 | F2: PAGE | G2: 금 액 | H2: PAGE | I2: 금 액
A3: 앵커핀 | B3: 이형철근 Φ16 L=0.5M | C3: 개 | H3: 287 | I3: 600 | J3: =I3 -> 600
A4: 착지핀 | B4: 이형철근 Φ16 L=0.35M | C4: 개 | H4: 287 | I4: 400 | J4: =I4 -> 400
A5: 종자 | B5: 혼합종자 | C5: KG | G5: 50000 | J5: =G5 -> 50000
A6: 철선 | B6: 아연도 #8 | C6: M | H6: 287 | I6: 240 | J6: =I6 -> 240
A7: 부착망(능형망) | B7: #10 58*58 | C7: M2 | H7: 287 | I7: 3260 | J7: =I7 -> 3260
A8: 테라비아 | B8: 미생물액비 | C8: L | H8: 302 | I8: 18000 | J8: =I8 -> 18000
A9: 테라토 | B9: 사면보호용 | C9: M3 | H9: 302 | I9: 185000 | J9: =I9 -> 185000
A10: 경유 | C10: ℓ | H10: 1255 | I10: 1322 | J10: =I10 -> 1322
A12: 보통인부 | C12: 인 | J12: 68965
A13: 특별인부 | C13: 인 | J13: 84404
A14: 작업반장 | C14: 인 | J14: 92218
A15: 기계공 | C15: 인 | J15: 86521
A16: 착암공 | C16: 인 | J16: 79533
A17: 건설기계운전기사 | C17: 인 | J17: 98693
A18: 건설기계조장 | C18: 인 | J18: 94350
A19: 건설기계운전조수 | C19: 인 | J19: 55282
A20: 운전사(운반차) | C20: 인 | J20: 84942
A24: * 참고사항 :

Sheet 테라토10-목록
A1: 품 명 | C1: 규 격 | D1: 수 량 | E1: 단위 | F1: 총 액 | H1: 재 료 비 | J1: 노 무 비 | L1: 경 비 | N1: 비 고
F2: 단 가 | G2: 금 액 | H2: 단 가 | I2: 금 액 | J2: 단 가 | K2: 금 액 | L2: 단 가 | M2: 금 액
A3: ='테라토10-일위대가'!A3 -> 제 1호표 앙카핀 및 착지핀 홀천공
A4: ='테라토10-일위대가'!A9 -> 제 2호표 앙카핀 및 착지핀 설치
A5: ='테라토10-일위대가'!A17 -> 제 3호표 능형망 설치
A6: ='테라토10-일위대가'!A24 -> 제 4호표 취부공 품셈

Sheet 테라토10-일위대가
A1: 품 명 | C1: 규 격 | D1: 수 량 | E1: 단위 | F1: 총 액 | H1: 재 료 비 | J1: 노 무 비 | L1: 경 비 | N1: 비 고
F2: 단 가 | G2: 금 액 | H2: 단 가 | I2: 금 액 | J2: 단 가 | K2: 금 액 | L2: 단 가 | M2: 금 액
A3: 제 1호표 앙카핀 및 착지핀 홀천공 | N3: (1㎡당)
A4: 발 전 기 | C4: 50kw | D4: 0.019 | E4: HR | F4: =H4+J4+L4 -> 38821 | G4: =SUM(I4,K4,M4) -> 736 | H4: ='테라토10-장비'!F7 -> 14606 | I4: =INT(D4*H4) -> 277 | J4: ='테라토10-장비'!F11 -> 20561 | K4: =INT(D4*J4) -> 390 | L4: ='테라토10-장비'!F13 -> 3654 | M4: =INT(D4*L4) -> 69
A5: 착 암 공 | D5: 0.012 | E5: 인 | F5: =H5+J5+L5 -> 79533 | G5: =SUM(I5,K5,M5) -> 954 | H5: 0 | I5: =INT(D5*H5) -> 0 | J5: ='테라토10-단가적용'!J16 -> 79533 | K5: =INT(D5*J5) -> 954 | L5: 0 | M5: =INT(D5*L5) -> 0
A6: 보통인부 | D6: 0.012 | E6: 인 | F6: =H6+J6+L6 -> 68965 | G6: =SUM(I6,K6,M6) -> 827 | H6: 0 | I6: =INT(D6*H6) -> 0 | J6: ='테라토10-단가적용'!J12 -> 68965 | K6: =INT(D6*J6) -> 827 | L6: 0 | M6: =INT(D6*L6) -> 0
A7: 소 계 | G7: =SUM(G4:G6) -> 2517 | I7: =SUM(I4:I6) -> 277 | K7: =SUM(K4:K6) -> 2171 | M7: =SUM(M4:M6) -> 69
A9: 제 2호표 앙카핀 및 착지핀 설치 | N9: (1㎡당)
A10: 앙 카 핀 | C10: Φ16 L=0.5m | D10: 0.23 | E10: EA | F10: =H10+J10+L10 -> 600 | G10: =SUM(I10,K10,M10) -> 138 | H10: ='테라토10-단가적용'!J3 -> 600 | I10: =INT(D10*H10) -> 138 | J10: 0 | K10: =INT(D10*J10) -> 0 | L10: 0 | M10: =INT(D10*L10) -> 0
A11: 착 지 핀 | C11: Φ16 L=0.35m | D11: 0.5 | E11: EA | F11: =H11+J11+L11 -> 400 | G11: =SUM(I11,K11,M11) -> 200 | H11: ='테라토10-단가적용'!J4 -> 400 | I11: =INT(D11*H11) -> 200 | J11: 0 | K11: =INT(D11*J11) -> 0 | L11: 0 | M11: =INT(D11*L11) -> 0
A12: 특별인부 | D12: 0.006 | E12: 인 | F12: =H12+J12+L12 -> 84404 | G12: =SUM(I12,K12,M12) -> 506 | H12: 0 | I12: =INT(D12*H12) -> 0 | J12: ='테라토10-단가적용'!J13 -> 84404 | K12: =INT(D12*J12) -> 506 | L12: 0 | M12: =INT(D12*L12) -> 0
A13: 보통인부 | D13: 0.006 | E13: 인 | F13: =H13+J13+L13 -> 68965 | G13: =SUM(I13,K13,M13) -> 413 | H13: 0 | I13: =INT(D13*H13) -> 0 | J13: ='테라토10-단가적용'!J12 -> 68965 | K13: =INT(D13*J13) -> 413 | L13: 0 | M13: =INT(D13*L13) -> 0
A14: 소 계 | G14: =SUM(G10:G13) -> 1257 | I14: =SUM(I10:I13) -> 338 | K14: =SUM(K10:K13) -> 919 | M14: =SUM(M10:M13) -> 0
A17: 제 3호표 능형망 설치 | N17: (1㎡당)
A18: 능 형 망 | C18: #10 58*58 | D18: 1.3 | E18: ㎡ | F18: =SUM(H18,J18,L18) -> 3260 | G18: =SUM(I18,K18,M18) -> 4238 | H18: ='테라토10-단가적용'!J7 -> 3260 | I18: =INT(D18*H18) -> 4238 | J18: 0 | K18: =INT(D18*J18) -> 0 | L18: 0 | M18: =INT(D18*L18) -> 0
A19: 철 선 | C19: #8 pvc 코팅 | D19: 1.3 | E19: m | F19: =SUM(H19,J19,L19) -> 240 | G19: =SUM(I19,K19,M19) -> 312 | H19: ='테라토10-단가적용'!J6 -> 240 | I19: =INT(D19*H19) -> 312 | J19: 0 | K19: =INT(D19*J19) -> 0 | L19: 0 | M19: =INT(D19*L19) -> 0
A20: 작업반장 | D20: 0.005 | E20: 인 | F20: =SUM(H20,J20,L20) -> 92218 | G20: =SUM(I20,K20,M20) -> 461 | H20: 0 | I20: =INT(D20*H20) -> 0 | J20: ='테라토10-단가적용'!J14 -> 92218 | K20: =INT(D20*J20) -> 461 | L20: 0 | M20: =INT(D20*L20) -> 0
A21: 특별인부 | D21: 0.02 | E21: 인 | F21: =SUM(H21,J21,L21) -> 84404 | G21: =SUM(I21,K21,M21) -> 1688 | H21: 0 | I21: =INT(D21*H21) -> 0 | J21: ='테라토10-단가적용'!J13 -> 84404 | K21: =INT(D21*J21) -> 1688 | L21: 0 | M21: =INT(D21*L21) -> 0
A22: 보통인부 | D22: 0.02 | E22: 인 | F22: =SUM(H22,J22,L22) -> 68965 | G22: =SUM(I22,K22,M22) -> 1379 | H22: 0 | I22: =INT(D22*H22) -> 0 | J22: ='테라토10-단가적용'!J12 -> 68965 | K22: =INT(D22*J22) -> 1379 | L22: 0 | M22: =INT(D22*L22) -> 0
A23: 소 계 | G23: =SUM(G18:G22) -> 8078 | I23: =SUM(I18:I22) -> 4550 | K23: =SUM(K18:K22) -> 3528 | M23: =SUM(M18:M22) -> 0
A24: 제 4호표 취부공 품셈 | N24: (1㎡당)
A25: 테라토 | C25: 절토면 | D25: 0.044 | E25: ㎥ | F25: =SUM(H25,J25,L25) -> 185000 | G25: =SUM(I25,K25,M25) -> 8140 | H25: ='테라토10-단가적용'!J9 -> 185000 | I25: =INT(D25*H25) -> 8140 | J25: 0 | K25: =INT(D25*J25) -> 0 | L25: 0 | M25: =INT(D25*L25) -> 0
A26: 종자 | C26: 혼합종자 | D26: 0.12 | E26: kg | F26: =SUM(H26,J26,L26) -> 50000 | G26: =SUM(I26,K26,M26) -> 6000 | H26: ='테라토10-단가적용'!J5 -> 50000 | I26: =INT(D26*H26) -> 6000 | J26: 0 | K26: =INT(D26*J26) -> 0 | L26: 0 | M26: =INT(D26*L26) -> 0
A27: 취 부 기 | C27: 25HP | D27: 0.08 | E27: hr | F27: =SUM(H27,J27,L27) -> 24583.104 | G27: =SUM(I27,K27,M27) -> 1966 | H27: 0 | I27: =INT(D27*H27) -> 0 | J27: 0 | K27: =INT(D27*J27) -> 0 | L27: ='테라토10-장비'!F33 -> 24583.104 | M27: =INT(D27*L27) -> 1966
A28: 공기압축기 | C28: 17㎡/min | D28: 0.08 | E28: hr | F28: =SUM(H28,J28,L28) -> 62115.6 | G28: =SUM(I28,K28,M28) -> 4968 | H28: ='테라토10-장비'!F47 -> 35879 | I28: =INT(D28*H28) -> 2870 | J28: ='테라토10-장비'!F51 -> 20561 | K28: =INT(D28*J28) -> 1644 | L28: ='테라토10-장비'!F53 -> 5675.6 | M28: =INT(D28*L28) -> 454
A29: 발 전 기 | C29: 50kw | D29: 0.08 | E29: hr | F29: =SUM(H29,J29,L29) -> 38821 | G29: =SUM(I29,K29,M29) -> 3104 | H29: ='테라토10-장비'!F7 -> 14606 | I29: =INT(D29*H29) -> 1168 | J29: ='테라토10-장비'!F11 -> 20561 | K29: =INT(D29*J29) -> 1644 | L29: ='테라토10-장비'!F13 -> 3654 | M29: =INT(D29*L29) -> 292
A30: 트럭크레인 | C30: 5ton | D30: 0.09 | E30: hr | F30: =SUM(H30,J30,L30) -> 55058 | G30: =SUM(I30,K30,M30) -> 4954 | H30: ='테라토10-장비'!F107 -> 7132 | I30: =INT(D30*H30) -> 641 | J30: ='테라토10-장비'!F111 -> 24490 | K30: =INT(D30*J30) -> 2204 | L30: ='테라토10-장비'!F113 -> 23436 | M30: =INT(D30*L30) -> 2109
A31: 버블머신 | D31: 0.025 | E31: hr | F31: =SUM(H31,J31,L31) -> 13582.15 | G31: =SUM(I31,K31,M31) -> 338 | H31: ='테라토10-장비'!F167 -> 102.85 | I31: =INT(D31*H31) -> 2 | J31: ='테라토10-장비'!F171 -> 10260 | K31: =INT(D31*J31) -> 256 | L31: ='테라토10-장비'!F173 -> 3219.3 | M31: =INT(D31*L31) -> 80
A32: 테라비아 | C32: 미생물액비 | D32: 0.0023 | E32: L | F32: =SUM(H32,J32,L32) -> 18000 | G32: =SUM(I32,K32,M32) -> 41 | H32: ='테라토10-단가적용'!J8 -> 18000 | I32: =INT(D32*H32) -> 41 | K32: =INT(D32*J32) -> 0 | M32: =INT(D32*L32) -> 0
A33: 덤프트럭 | C33: 6ton | D33: 0.08 | E33: hr | F33: =SUM(H33,J33,L33) -> 41691.919 | G33: =SUM(I33,K33,M33) -> 3334 | H33: ='테라토10-장비'!F147 -> 15017 | I33: =INT(D33*H33) -> 1201 | J33: ='테라토10-장비'!F151 -> 20557 | K33: =INT(D33*J33) -> 1644 | L33: ='테라토10-장비'!F153 -> 6117.9189 | M33: =INT(D33*L33) -> 489
A34: 작업반장 | D34: 0.007 | E34: 인 | F34: =SUM(H34,J34,L34) -> 92218 | G34: =SUM(I34,K34,M34) -> 645 | H34: 0 | I34: =INT(D34*H34) -> 0 | J34: ='테라토10-단가적용'!J14 -> 92218 | K34: =INT(D34*J34) -> 645 | L34: 0 | M34: =INT(D34*L34) -> 0
A35: 특별인부 | D35: 0.033 | E35: 인 | F35: =SUM(H35,J35,L35) -> 84404 | G35: =SUM(I35,K35,M35) -> 2785 | H35: 0 | I35: =INT(D35*H35) -> 0 | J35: ='테라토10-단가적용'!J13 -> 84404 | K35: =INT(D35*J35) -> 2785 | L35: 0 | M35: =INT(D35*L35) -> 0
A36: 기 계 공 | D36: 0.007 | E36: 인 | F36: =SUM(H36,J36,L36) -> 86521 | G36: =SUM(I36,K36,M36) -> 605 | H36: 0 | I36: =INT(D36*H36) -> 0 | J36: ='테라토10-단가적용'!J15 -> 86521 | K36: =INT(D36*J36) -> 605 | L36: 0 | M36: =INT(D36*L36) -> 0
A37: 보통인부 | D37: 0.068 | E37: 인 | F37: =SUM(H37,J37,L37) -> 68965 | G37: =SUM(I37,K37,M37) -> 4689 | H37: 0 | I37: =INT(D37*H37) -> 0 | J37: ='테라토10-단가적용'!J12 -> 68965 | K37: =INT(D37*J37) -> 4689 | L37: 0 | M37: =INT(D37*L37) -> 0
A38: 소 계 | G38: =SUM(G25:G37) -> 41569 | I38: =SUM(I25:I37) -> 20063 | K38: =SUM(K25:K37) -> 16116 | M38: =SUM(M25:M37) -> 5390
A40: 잡재료비 | C40: 재료비의3% | G40: =SUM(I40,K40,M40) -> 601 | I40: =INT(I38*3%) -> 601
A41: 기구손료 | C41: 노무비의2% | G41: =SUM(I41,K41,M41) -> 322 | K41: =INT(K38*2%) -> 322
A43: 합 계 | G43: =SUM(I43,K43,M43) -> 54344 | I43: =I41+I40+I38+I23+I14+I7 -> 25829 | K43: =K41+K40+K38+K23+K14+K7 -> 23056 | M43: =M41+M40+M38+M23+M14+M7 -> 5459

Sheet 테라토10-장비
A1: 중 기 명 : 발 전 기(50KW)
A3: 중기가격 : 16,360천원
A4: 항 목 | B4: 구 분 | C4: 수 량 | D4: 단 위 | E4: 단 가 | F4: 금 액 | G4: 비 고
A5: 재 료 비 | B5: 경 유 | C5: 8.7 | D5: ℓ | E5: ='테라토10-단가적용'!J10 -> 1322 | F5: =ROUNDDOWN(C5*E5,0) -> 11501
B6: 잡 품 | C6: 24 | D6: % | F6: =ROUNDDOWN(F5*27%,0) -> 3105
B7: 소 계 | F7: =SUM(F5:F6) -> 14606
A8: 노 무 비 | B8: 중기운전기사 | C8: 1 | D8: 인 | E8: ='테라토10-장비기준'!S11 -> 20561 | F8: =ROUNDDOWN(C8*E8,0) -> 20561
B9: 중기운전조수 | C9: 0 | D9: 인 | E9: ='테라토10-장비기준'!S12 -> 11517 | F9: =ROUNDDOWN(C9*E9,0) -> 0
B10: 중기조장 | C10: 0 | D10: 인 | E10: ='테라토10-장비기준'!S13 -> 19656 | F10: =ROUNDDOWN(C10*E10,0) -> 0
B11: 소 계 | F11: =SUM(F8:F10) -> 20561
A12: 경 비 | B12: 기계손료 | C12: 0.2234 | E12: 16360 | F12: =ROUNDDOWN(C12*E12,0) -> 3654
B13: 소 계 | F13: =SUM(F12) -> 3654
A20: 합 계 | F20: =F7+F11+F13 -> 38821
A21: 중 기 명 : 취 부 기 (16L)
A23: 중기가격 : 37,246천원
A24: 항 목 | B24: 구 분 | C24: 수 량 | D24: 단 위 | E24: 단 가 | F24: 금 액 | G24: 비 고
A25: 재 료 비 | B25: 경 유 | C25: 0 | D25: ℓ | E25: ='테라토10-단가적용'!J10 -> 1322 | F25: =ROUNDDOWN(C25*E25,0) -> 0
B26: 잡 품 | C26: 0 | D26: % | F26: =ROUNDDOWN(F25*25%,0) -> 0
B27: 소 계 | F27: =SUM(F25:F26) -> 0
A28: 노 무 비 | B28: 중기운전기사 | C28: 1 | D28: 인 | E28: ='테라토10-장비기준'!S31 -> 0 | F28: =ROUNDDOWN(C28*E28,0) -> 0
B29: 중기운전조수 | C29: 0 | D29: 인 | E29: ='테라토10-장비기준'!S32 -> 0 | F29: =ROUNDDOWN(C29*E29,0) -> 0
B30: 중기조장 | C30: 0 | D30: 인 | E30: ='테라토10-장비기준'!S33 -> 0 | F30: =ROUNDDOWN(C30*E30,0) -> 0
B31: 소 계 | F31: =SUM(F28:F30) -> 0
A32: 경 비 | B32: 기계손료 | C32: 0.4221 | E32: 58240 | F32: =E32*C32 -> 24583.104
B33: 소 계 | F33: =SUM(F32) -> 24583.104
A40: 합 계 | F40: =F27+F31+F33 -> 24583.104
A41: 중 기 명 : 공기압축기 (17㎥/min)
A43: 중기가격 : 28,000천원
A44: 항 목 | B44: 구 분 | C44: 수 량 | D44: 단 위 | E44: 단 가 | F44: 금 액 | G44: 비 고
A45: 재 료 비 | B45: 경 유 | C45: 23 | D45: ℓ | E45: ='테라토10-단가적용'!J10 -> 1322 | F45: =ROUNDDOWN(C45*E45,0) -> 30406
B46: 잡 품 | C46: 16 | D46: % | F46: =ROUNDDOWN(F45*18%,0) -> 5473
B47: 소 계 | F47: =SUM(F45:F46) -> 35879
A48: 노 무 비 | B48: 중기운전기사 | C48: 1 | D48: 인 | E48: ='테라토10-장비기준'!S11 -> 20561 | F48: =ROUNDDOWN(C48*E48,0) -> 20561
B49: 중기운전조수 | C49: 0 | D49: 인 | E49: ='테라토10-장비기준'!S12 -> 11517 | F49: =ROUNDDOWN(C49*E49,0) -> 0
B50: 중기조장 | C50: 0 | D50: 인 | E50: ='테라토10-장비기준'!S13 -> 19656 | F50: =ROUNDDOWN(C50*E50,0) -> 0
B51: 소 계 | F51: =SUM(F48:F50) -> 20561
A52: 경 비 | B52: 기계손료 | C52: 0.2027 | E52: 28000 | F52: =E52*C52 -> 5675.6
B53: 소 계 | F53: =SUM(F52) -> 5675.6
A60: 합 계 | F60: =F47+F51+F53 -> 62115.6
A61: 중 기 명 : 굴삭기(유압식백호우 0.4㎥)
A63: 중기가격 :61,106천원
A64: 항 목 | B64: 구 분 | C64: 수 량 | D64: 단 위 | E64: 단 가 | F64: 금 액 | G64: 비 고
A65: 재 료 비 | B65: 경 유 | C65: 9.9 | D65: ℓ | E65: ='테라토10-장비기준'!E8 -> 1322 | F65: =ROUNDDOWN(C65*E65,0) -> 13087
B66: 잡 품 | C66: 22 | D66: % | F66: =ROUNDDOWN(F65*25%,0) -> 3271
B67: 소 계 | F67: =SUM(F65:F66) -> 16358
A68: 노 무 비 | B68: 중기운전기사 | C68: 0.20833 | D68: 인 | E68: ='테라토10-장비기준'!E11 -> 98693 | F68: =ROUNDDOWN(C68*E68,0) -> 20560
B69: 중기운전조수 | D69: 인 | F69: =ROUNDDOWN(C69*E69,0) -> 0
B70: 중기조장 | C70: 0.04166 | D70: 인 | E70: ='테라토10-장비기준'!E13 -> 94350 | F70: =ROUNDDOWN(C70*E70,0) -> 3930
B71: 소 계 | F71: =SUM(F68:F70) -> 24490
A72: 경 비 | B72: 기계손료 | C72: 0.2038 | E72: 61106 | F72: =ROUNDDOWN(C72*E72,0) -> 12453
B73: 소 계 | F73: =SUM(F72) -> 12453
A80: 합 계 | F80: =F67+F71+F73 -> 53301
A81: 중 기 명 : 굴삭기(유압식백호우 0.7㎥)
A83: 중기가격 : 93,042천원
A84: 항 목 | B84: 구 분 | C84: 수 량 | D84: 단 위 | E84: 단 가 | F84: 금 액 | G84: 비 고
A85: 재 료 비 | B85: 경 유 | C85: 11.6 | D85: ℓ | E85: ='테라토10-장비기준'!E8 -> 1322 | F85: =ROUNDDOWN(C85*E85,0) -> 15335
B86: 잡 품 | C86: 22 | D86: % | F86: =ROUNDDOWN(F85*25%,0) -> 3833
B87: 소 계 | F87: =SUM(F85:F86) -> 19168
A88: 노 무 비 | B88: 중기운전기사 | C88: 0.20833 | D88: 인 | E88: ='테라토10-장비기준'!E11 -> 98693 | F88: =ROUNDDOWN(C88*E88,0) -> 20560
B89: 중기운전조수 | D89: 인 | F89: =ROUNDDOWN(C89*E89,0) -> 0
B90: 중기조장 | C90: 0.04166 | D90: 인 | E90: ='테라토10-장비기준'!E13 -> 94350 | F90: =ROUNDDOWN(C90*E90,0) -> 3930
B91: 소 계 | F91: =SUM(F88:F90) -> 24490
A92: 경 비 | B92: 기계손료 | C92: =C72 -> 0.2038 | E92: 93042 | F92: =ROUNDDOWN(C92*E92,0) -> 18961
B93: 소 계 | F93: =SUM(F92) -> 18961
A100: 합 계 | F100: =F87+F91+F93 -> 62619
A101: 중 기 명 : 트럭 크레인 ( 10TON )
A103: 중기가격 : 105,000천원
A104: 항 목 | B104: 구 분 | C104: 수 량 | D104: 단 위 | E104: 단 가 | F104: 금 액 | G104: 비 고
A105: 재 료 비 | B105: 경 유 | C105: 3.8 | D105: ℓ | E105: ='테라토10-단가적용'!J10 -> 1322 | F105: =ROUNDDOWN(C105*E105,0) -> 5023
B106: 잡 품 | C106: 39 | D106: % | F106: =ROUNDDOWN(F105*42%,0) -> 2109
B107: 소 계 | F107: =SUM(F105:F106) -> 7132
A108: 노 무 비 | B108: 중기운전기사 | C108: 0.20833 | D108: 인 | E108: ='테라토10-장비기준'!E11 -> 98693 | F108: =ROUNDDOWN(C108*E108,0) -> 20560
B109: 중기운전조수 | D109: 인 | F109: =ROUNDDOWN(C109*E109,0) -> 0
B110: 중기조장 | C110: 0.04166 | D110: 인 | E110: ='테라토10-장비기준'!E13 -> 94350 | F110: =ROUNDDOWN(C110*E110,0) -> 3930
B111: 소 계 | F111: =SUM(F108:F110) -> 24490
A112: 경 비 | B112: 기계손료 | C112: 0.2232 | E112: 105000 | F112: =E112*C112 -> 23436
B113: 소 계 | F113: =SUM(F112) -> 23436
A120: 합 계 | F120: =F107+F111+F113 -> 55058
A121: 중 기 명 : 물 탱 크(5,500L)
A123: 중기가격 : 38,257천원
A124: 항 목 | B124: 구 분 | C124: 수 량 | D124: 단 위 | E124: 단 가 | F124: 금 액 | G124: 비 고
A125: 재 료 비 | B125: 경 유 | C125: 9.3 | D125: ℓ | E125: ='테라토10-단가적용'!J10 -> 1322 | F125: =ROUNDDOWN(C125*E125,0) -> 12294
B126: 잡 품 | C126: 30 | D126: % | F126: =ROUNDDOWN(F125*35%,0) -> 4302
B127: 소 계 | F127: =SUM(F125:F126) -> 16596
A128: 노 무 비 | B128: 중기운전기사 | C128: 0.2083 | D128: 인 | E128: ='테라토10-장비기준'!E11 -> 98693 | F128: =ROUNDDOWN(C128*E128,0) -> 20557
D129: 인 | F129: =ROUNDDOWN(C129*E129,0) -> 0
D130: 인 | F130: =ROUNDDOWN(C130*E130,0) -> 0
B131: 소 계 | F131: =SUM(F128:F130) -> 20557
A132: 경 비 | B132: 기계손료 | C132: 0.2045 | E132: 38257 | F132: =E132*C132 -> 7823.5565
B133: 소 계 | F133: =SUM(F132) -> 7823.5565
A140: 합 계 | F140: =F127+F131+F133 -> 44976.556
A141: 중 기 명 : 덤 프 (6TON)
A143: 중기가격 : 21,089천원
A144: 항 목 | B144: 구 분 | C144: 수 량 | D144: 단 위 | E144: 단 가 | F144: 금 액 | G144: 비 고
A145: 재 료 비 | B145: 경 유 | C145: 8 | D145: ℓ | E145: ='테라토10-단가적용'!J10 -> 1322 | F145: =ROUNDDOWN(C145*E145,0) -> 10576
B146: 잡 품 | C146: 38 | D146: % | F146: =ROUNDDOWN(F145*42%,0) -> 4441
B147: 소 계 | F147: =SUM(F145:F146) -> 15017
A148: 노 무 비 | B148: 중기운전기사 | C148: 0.2083 | D148: 인 | E148: ='테라토10-장비기준'!E11 -> 98693 | F148: =ROUNDDOWN(C148*E148,0) -> 20557
D149: 인 | F149: =ROUNDDOWN(C149*E149,0) -> 0
D150: 인 | F150: =ROUNDDOWN(C150*E150,0) -> 0
...

Sheet 테라토10-장비기준
A2: 적 용 기 준
B4: * 환 율
C5: 1달라($) | D5: : | E5: 1380
B7: * 유 류 대
C8: 경 유 | D8: : | E8: ='테라토10-단가적용'!J10 -> 1322 | F8: 원
B10: * 노 무 비
C11: 중기운전기사 | D11: : | E11: ='테라토10-단가적용'!J17 -> 98693 | F11: * | G11: 16 | H11: / | I11: 12 | J11: * | K11: 1 | L11: / | M11: 8 | N11: * | O11: 25 | P11: / | Q11: 20 | R11: = | S11: =ROUNDDOWN(E11*G11/I11*1/8*25/20,0) -> 20561
C12: 중기운전조수 | D12: : | E12: ='테라토10-단가적용'!J19 -> 55282 | F12: * | G12: 16 | H12: / | I12: 12 | J12: * | K12: 1 | L12: / | M12: 8 | N12: * | O12: 25 | P12: / | Q12: 20 | R12: = | S12: =ROUNDDOWN(E12*G12/I12*1/8*25/20,0) -> 11517
C13: 중기조장 | D13: : | E13: ='테라토10-단가적용'!J18 -> 94350 | F13: * | G13: 16 | H13: / | I13: 12 | J13: * | K13: 1 | L13: / | M13: 8 | N13: * | O13: 25 | P13: / | Q13: 20 | R13: = | S13: =ROUNDDOWN(E13*G13/I13*1/8*25/20,0) -> 19656
C14: 운전사(기계) | D14: : | E14: ='테라토10-단가적용'!J20 -> 84942 | F14: * | G14: 16 | H14: / | I14: 12 | J14: * | K14: 1 | L14: / | M14: 8 | N14: * | O14: 25 | P14: / | Q14: 20 | R14: = | S14: =ROUNDDOWN(E14*G14/I14*1/8*25/20,0) -> 17696

Sheet 테라토10-단가적용
A1: 종 별 | B1: 규 격 | C1: 단위 | D1: 적산정보 | F1: 견적서 | H1: 물가정보(04월) | J1: 적용단가
D2: PAGE | E2: 금 액 | F2: PAGE | G2: 금 액 | H2: PAGE | I2: 금 액
A3: 앵커핀 | B3: 이형철근 Φ16 L=0.5M | C3: 개 | H3: 287 | I3: 600 | J3: =I3 -> 600
A4: 착지핀 | B4: 이형철근 Φ16 L=0.35M | C4: 개 | H4: 287 | I4: 400 | J4: =I4 -> 400
A5: 종자 | B5: 혼합종자 | C5: KG | G5: 50000 | J5: =G5 -> 50000
A6: 철선 | B6: 아연도 #8 | C6: M | H6: 287 | I6: 240 | J6: =I6 -> 240
A7: 부착망(능형망) | B7: #10 58*58 | C7: M2 | H7: 287 | I7: 3260 | J7: =I7 -> 3260
A8: 테라비아 | B8: 미생물액비 | C8: L | H8: 302 | I8: 18000 | J8: =I8 -> 18000
A9: 테라토 | B9: 사면보호용 | C9: M3 | H9: 302 | I9: 185000 | J9: =I9 -> 185000
A10: 경유 | C10: ℓ | H10: 1255 | I10: 1322 | J10: =I10 -> 1322
A12: 보통인부 | C12: 인 | J12: 68965
A13: 특별인부 | C13: 인 | J13: 84404
A14: 작업반장 | C14: 인 | J14: 92218
A15: 기계공 | C15: 인 | J15: 86521
A16: 착암공 | C16: 인 | J16: 79533
A17: 건설기계운전기사 | C17: 인 | J17: 98693
A18: 건설기계조장 | C18: 인 | J18: 94350
A19: 건설기계운전조수 | C19: 인 | J19: 55282
A20: 운전사(운반차) | C20: 인 | J20: 84942
A24: * 참고사항 :

Sheet JSB-표지
A7: 자연생태복원공법(JSB)

Sheet 008-JSB무망-Seed형
A1: 자연생태복원(JSB)공[SEED형]
K2: [단위 : m2 당]
A3: 명칭 | B3: 규격 | C3: 수량 | D3: 단위 | E3: 합계 | F3: 재료비 | H3: 노무비 | J3: 경비
F4: 단가 | G4: 금액 | H4: 단가 | I4: 금액 | J4: 단가 | K4: 금액
A5: 녹화기반제 | B5: 유기질토양 | C5: ='3.0수량표'!D28 -> 3.6 | D5: L | E5: =G5+I5+K5 -> 540 | F5: ='8.0자재단가'!$I$8 -> 150 | G5: =INT(C5*F5) -> 540
A6: 양생제 | B6: 섬유소 | C6: ='3.0수량표'!D29 -> 0.88 | D6: L | E6: =G6+I6+K6 -> 149 | F6: ='8.0자재단가'!$I$9 -> 170 | G6: =INT(C6*F6) -> 149
A7: 안정제 | B7: 침식방지제 | C7: ='3.0수량표'!D30 -> 0.16 | D7: KG | E7: =G7+I7+K7 -> 32 | F7: ='8.0자재단가'!$I$10 -> 200 | G7: =INT(C7*F7) -> 32
A8: 단립제 | B8: 구조형성 | C8: ='3.0수량표'!D31 -> 0.04 | D8: KG | E8: =G8+I8+K8 -> 40 | F8: ='8.0자재단가'!$I$11 -> 1000 | G8: =INT(C8*F8) -> 40
A9: 종 자 | B9: 6종혼합 | C9: ='3.0수량표'!D32 -> 30 | D9: G | E9: =G9+I9+K9 -> 2400 | F9: ='8.0자재단가'!$I$14 -> 80 | G9: =INT(C9*F9) -> 2400
A10: 잡재료비 | B10: 재료비의 | C10: ='3.0수량표'!D33 -> 2 | D10: % | E10: =G10+I10+K10 -> 63 | F10: =SUM(G5:G9) -> 3161 | G10: =INT(C10*F10/100) -> 63
A11: 취부기 | B11: 25 L | C11: ='3.0수량표'!D34 -> 0.01 | D11: HR | E11: =G11+I11+K11 -> 249 | F11: ='9.0중기목록'!$F$6 -> 0 | G11: =INT(C11*F11) -> 0 | H11: ='9.0중기목록'!$E$6 -> 0 | I11: =INT(C11*H11) -> 0 | J11: ='9.0중기목록'!$G$6 -> 24973 | K11: =INT(C11*J11) -> 249
A12: 공기압축기 | B12: 17M3/MIN | C12: ='3.0수량표'!D35 -> 0.01 | D12: HR | E12: =G12+I12+K12 -> 546 | F12: ='9.0중기목록'!$F$8 -> 29577 | G12: =INT(C12*F12) -> 295 | H12: ='9.0중기목록'!$E$8 -> 20561 | I12: =INT(C12*H12) -> 205 | J12: ='9.0중기목록'!$G$8 -> 4656 | K12: =INT(C12*J12) -> 46
A13: 발 전 기 | B13: 100KW | C13: ='3.0수량표'!D36 -> 0.01 | D13: HR | E13: =G13+I13+K13 -> 428 | F13: ='9.0중기목록'!$F$10 -> 23409 | G13: =INT(C13*F13) -> 234 | H13: ='9.0중기목록'!$E$10 -> 14915 | I13: =INT(C13*H13) -> 149 | J13: ='9.0중기목록'!$G$10 -> 4533 | K13: =INT(C13*J13) -> 45
A14: 트러탑재크레인 | B14: 5.0 TON | C14: ='3.0수량표'!D37 -> 0.011 | D14: HR | E14: =G14+I14+K14 -> 380 | F14: ='9.0중기목록'!$F$12 -> 6640 | G14: =INT(C14*F14) -> 73 | H14: ='9.0중기목록'!$E$12 -> 17696 | I14: =INT(C14*H14) -> 194 | J14: ='9.0중기목록'!$G$12 -> 10362 | K14: =INT(C14*J14) -> 113
A15: 물 탱 크 | B15: 5,500L | C15: ='3.0수량표'!D38 -> 0.01 | D15: HR | E15: =G15+I15+K15 -> 385 | F15: ='9.0중기목록'!$F$14 -> 13117 | G15: =INT(C15*F15) -> 131 | H15: ='9.0중기목록'!$E$14 -> 17696 | I15: =INT(C15*H15) -> 176 | J15: ='9.0중기목록'!$G$14 -> 7823 | K15: =INT(C15*J15) -> 78
A16: 덤프트럭 | B16: 6.0 TON | C16: ='3.0수량표'!D39 -> 0.01 | D16: HR | E16: =G16+I16+K16 -> 356 | F16: ='9.0중기목록'!$F$16 -> 11978 | G16: =INT(C16*F16) -> 119 | H16: ='9.0중기목록'!$E$16 -> 17696 | I16: =INT(C16*H16) -> 176 | J16: ='9.0중기목록'!$G$16 -> 6117 | K16: =INT(C16*J16) -> 61
A17: 작업반장 | C17: ='3.0수량표'!D40 -> 0.001 | D17: 인 | E17: =G17+I17+K17 -> 92 | H17: ='11.0시중노임'!$F$4 -> 92218 | I17: =INT(C17*H17) -> 92
A18: 특별인부 | C18: ='3.0수량표'!D41 -> 0.003 | D18: 인 | E18: =G18+I18+K18 -> 253 | H18: ='11.0시중노임'!$F$5 -> 84404 | I18: =INT(C18*H18) -> 253
A19: 기 계 공 | C19: ='3.0수량표'!D42 -> 0.001 | D19: 인 | E19: =G19+I19+K19 -> 86 | H19: ='11.0시중노임'!$F$12 -> 86521 | I19: =INT(C19*H19) -> 86
A20: 보통인부 | C20: ='3.0수량표'!D43 -> 0.01 | D20: 인 | E20: =G20+I20+K20 -> 689 | H20: ='11.0시중노임'!$F$6 -> 68965 | I20: =INT(C20*H20) -> 689
A21: 기구손료 | B21: 노무비의 | C21: ='3.0수량표'!D44 -> 2 | D21: % | E21: =G21+I21+K21 -> 22 | J21: =SUM(I17:I20) -> 1120 | K21: =INT(C21*J21/100) -> 22
A23: 소 계 | E23: =G23+I23+K23 -> 6710 | G23: =SUM(G5:G22) -> 4076 | I23: =SUM(I5:I22) -> 2020 | K23: =SUM(K5:K22) -> 614
B28: * 수직고 20M 이하, 면적1000m2 이상 기준임.
A29: 총 계 | E29: =E23 -> 6710 | G29: =G23 -> 4076 | I29: =I23 -> 2020 | K29: =K23 -> 614

Sheet 009-JSB무망-2CM
A1: 자연생태복원(JSB)공[무망 2Cm]
K2: [단위 : m2 당]
A3: 명칭 | B3: 규격 | C3: 수량 | D3: 단위 | E3: 합계 | F3: 재료비 | H3: 노무비 | J3: 경비
F4: 단가 | G4: 금액 | H4: 단가 | I4: 금액 | J4: 단가 | K4: 금액
A5: 녹화기반제 | B5: 유기질토양 | C5: ='3.0수량표'!F28 -> 18 | D5: L | E5: =G5+I5+K5 -> 2700 | F5: ='8.0자재단가'!$I$8 -> 150 | G5: =INT(C5*F5) -> 2700
A6: 양생제 | B6: 섬유소 | C6: ='3.0수량표'!F29 -> 4.4 | D6: L | E6: =G6+I6+K6 -> 748 | F6: ='8.0자재단가'!$I$9 -> 170 | G6: =INT(C6*F6) -> 748
A7: 안정제 | B7: 침식방지제 | C7: ='3.0수량표'!F30 -> 0.8 | D7: KG | E7: =G7+I7+K7 -> 160 | F7: ='8.0자재단가'!$I$10 -> 200 | G7: =INT(C7*F7) -> 160
A8: 단립제 | B8: 구조형성 | C8: ='3.0수량표'!F31 -> 0.2 | D8: KG | E8: =G8+I8+K8 -> 200 | F8: ='8.0자재단가'!$I$11 -> 1000 | G8: =INT(C8*F8) -> 200
A9: 종 자 | B9: 6종혼합 | C9: ='3.0수량표'!F32 -> 30 | D9: G | E9: =G9+I9+K9 -> 2400 | F9: ='8.0자재단가'!$I$14 -> 80 | G9: =INT(C9*F9) -> 2400
A10: 잡재료비 | B10: 재료비의 | C10: ='3.0수량표'!F33 -> 2 | D10: % | E10: =G10+I10+K10 -> 124 | F10: =SUM(G5:G9) -> 6208 | G10: =INT(C10*F10/100) -> 124
A11: 취부기 | B11: 25 L | C11: ='3.0수량표'!F34 -> 0.015 | D11: HR | E11: =G11+I11+K11 -> 374 | F11: ='9.0중기목록'!$F$6 -> 0 | G11: =INT(C11*F11) -> 0 | H11: ='9.0중기목록'!$E$6 -> 0 | I11: =INT(C11*H11) -> 0 | J11: ='9.0중기목록'!$G$6 -> 24973 | K11: =INT(C11*J11) -> 374
A12: 공기압축기 | B12: 17M3/MIN | C12: ='3.0수량표'!F35 -> 0.015 | D12: HR | E12: =G12+I12+K12 -> 820 | F12: ='9.0중기목록'!$F$8 -> 29577 | G12: =INT(C12*F12) -> 443 | H12: ='9.0중기목록'!$E$8 -> 20561 | I12: =INT(C12*H12) -> 308 | J12: ='9.0중기목록'!$G$8 -> 4656 | K12: =INT(C12*J12) -> 69
A13: 발 전 기 | B13: 100KW | C13: ='3.0수량표'!F36 -> 0.015 | D13: HR | E13: =G13+I13+K13 -> 641 | F13: ='9.0중기목록'!$F$10 -> 23409 | G13: =INT(C13*F13) -> 351 | H13: ='9.0중기목록'!$E$10 -> 14915 | I13: =INT(C13*H13) -> 223 | J13: ='9.0중기목록'!$G$10 -> 4533 | K13: =INT(C13*J13) -> 67
A14: 트러탑재크레인 | B14: 5.0 TON | C14: ='3.0수량표'!F37 -> 0.02 | D14: HR | E14: =G14+I14+K14 -> 692 | F14: ='9.0중기목록'!$F$12 -> 6640 | G14: =INT(C14*F14) -> 132 | H14: ='9.0중기목록'!$E$12 -> 17696 | I14: =INT(C14*H14) -> 353 | J14: ='9.0중기목록'!$G$12 -> 10362 | K14: =INT(C14*J14) -> 207
A15: 물 탱 크 | B15: 5,500L | C15: ='3.0수량표'!F38 -> 0.015 | D15: HR | E15: =G15+I15+K15 -> 578 | F15: ='9.0중기목록'!$F$14 -> 13117 | G15: =INT(C15*F15) -> 196 | H15: ='9.0중기목록'!$E$14 -> 17696 | I15: =INT(C15*H15) -> 265 | J15: ='9.0중기목록'!$G$14 -> 7823 | K15: =INT(C15*J15) -> 117
A16: 덤프트럭 | B16: 6.0 TON | C16: ='3.0수량표'!F39 -> 0.015 | D16: HR | E16: =G16+I16+K16 -> 535 | F16: ='9.0중기목록'!$F$16 -> 11978 | G16: =INT(C16*F16) -> 179 | H16: ='9.0중기목록'!$E$16 -> 17696 | I16: =INT(C16*H16) -> 265 | J16: ='9.0중기목록'!$G$16 -> 6117 | K16: =INT(C16*J16) -> 91
A17: 작업반장 | C17: ='3.0수량표'!F40 -> 0.002 | D17: 인 | E17: =G17+I17+K17 -> 184 | H17: ='11.0시중노임'!$F$4 -> 92218 | I17: =INT(C17*H17) -> 184
A18: 특별인부 | C18: ='3.0수량표'!F41 -> 0.011 | D18: 인 | E18: =G18+I18+K18 -> 928 | H18: ='11.0시중노임'!$F$5 -> 84404 | I18: =INT(C18*H18) -> 928
A19: 기 계 공 | C19: ='3.0수량표'!F42 -> 0.002 | D19: 인 | E19: =G19+I19+K19 -> 173 | H19: ='11.0시중노임'!$F$12 -> 86521 | I19: =INT(C19*H19) -> 173
A20: 보통인부 | C20: ='3.0수량표'!F43 -> 0.022 | D20: 인 | E20: =G20+I20+K20 -> 1517 | H20: ='11.0시중노임'!$F$6 -> 68965 | I20: =INT(C20*H20) -> 1517
A21: 기구손료 | B21: 노무비의 | C21: ='3.0수량표'!D44 -> 2 | D21: % | E21: =G21+I21+K21 -> 56 | J21: =SUM(I17:I20) -> 2802 | K21: =INT(C21*J21/100) -> 56
A23: 소 계 | E23: =G23+I23+K23 -> 12830 | G23: =SUM(G5:G22) -> 7633 | I23: =SUM(I5:I22) -> 4216 | K23: =SUM(K5:K22) -> 981
B29: * 수직고 20M 이하, 면적1000m2 이상 기준임.
A30: 총 계 | E30: =E23 -> 12830 | G30: =G23 -> 7633 | I30: =I23 -> 4216 | K30: =K23 -> 981

Sheet 010-JSB섬유망3CM
A1: 자연생태복원(JSB)공[섬유망 3Cm]
K2: [단위 : m2 당]
A3: 명칭 | B3: 규격 | C3: 수량 | D3: 단위 | E3: 합계 | F3: 재료비 | H3: 노무비 | J3: 경비
F4: 단가 | G4: 금액 | H4: 단가 | I4: 금액 | J4: 단가 | K4: 금액
A5: 1.천연섬유망설치
A6: 천연섬유망 | B6: D3~5,10~100 | C6: ='3.0수량표'!D16 -> 1.2 | D6: M2 | E6: =G6+I6+K6 -> 1800 | F6: ='8.0자재단가'!$I$18 -> 1500 | G6: =INT(C6*F6) -> 1800
A7: 착지핀 | B7: D10~16-250mm | C7: ='3.0수량표'!D17 -> 0.5 | D7: M2 | E7: =G7+I7+K7 -> 250 | F7: ='8.0자재단가'!$I$16 -> 500 | G7: =INT(C7*F7) -> 250
A8: 작업반장 | C8: ='3.0수량표'!D18 -> 0.001 | D8: 인 | E8: =G8+I8+K8 -> 92 | H8: ='11.0시중노임'!$F$4 -> 92218 | I8: =INT(C8*H8) -> 92
A9: 특별인부 | C9: ='3.0수량표'!D19 -> 0.01 | D9: 인 | E9: =G9+I9+K9 -> 844 | H9: ='11.0시중노임'!$F$5 -> 84404 | I9: =INT(C9*H9) -> 844
A10: 보통인부 | C10: ='3.0수량표'!D20 -> 0.02 | D10: 인 | E10: =G10+I10+K10 -> 1379 | H10: ='11.0시중노임'!$F$6 -> 68965 | I10: =INT(C10*H10) -> 1379
A11: 소 계 | E11: =SUM(E6:E10) -> 4365 | G11: =SUM(G6:G10) -> 2050 | I11: =SUM(I6:I10) -> 2315
A13: 2. 취 부 공
A14: 녹화기반제 | B14: 유기질토양 | C14: ='3.0수량표'!G28 -> 27 | D14: L | E14: =G14+I14+K14 -> 4050 | F14: ='8.0자재단가'!$I$8 -> 150 | G14: =INT(C14*F14) -> 4050
A15: 양생제 | B15: 섬유소 | C15: ='3.0수량표'!G29 -> 6.6 | D15: L | E15: =G15+I15+K15 -> 1122 | F15: ='8.0자재단가'!$I$9 -> 170 | G15: =INT(C15*F15) -> 1122
A16: 안정제 | B16: 침식방지제 | C16: ='3.0수량표'!G30 -> 1.2 | D16: KG | E16: =G16+I16+K16 -> 240 | F16: ='8.0자재단가'!$I$10 -> 200 | G16: =INT(C16*F16) -> 240
A17: 단립제 | B17: 구조형성 | C17: ='3.0수량표'!G31 -> 0.3 | D17: KG | E17: =G17+I17+K17 -> 300 | F17: ='8.0자재단가'!$I$11 -> 1000 | G17: =INT(C17*F17) -> 300
A18: 종 자 | B18: 6종혼합 | C18: ='3.0수량표'!G32 -> 30 | D18: G | E18: =G18+I18+K18 -> 2400 | F18: ='8.0자재단가'!$I$14 -> 80 | G18: =INT(C18*F18) -> 2400
A19: 잡재료비 | B19: 재료비의 | C19: ='3.0수량표'!G33 -> 2 | D19: % | E19: =G19+I19+K19 -> 162 | F19: =SUM(G14:G18) -> 8112 | G19: =INT(C19*F19/100) -> 162
A20: 취부기 | B20: 25 L | C20: ='3.0수량표'!G34 -> 0.02 | D20: HR | E20: =G20+I20+K20 -> 499 | F20: ='9.0중기목록'!$F$6 -> 0 | G20: =INT(C20*F20) -> 0 | H20: ='9.0중기목록'!$E$6 -> 0 | I20: =INT(C20*H20) -> 0 | J20: ='9.0중기목록'!$G$6 -> 24973 | K20: =INT(C20*J20) -> 499
A21: 공기압축기 | B21: 17M3/MIN | C21: ='3.0수량표'!G35 -> 0.02 | D21: HR | E21: =G21+I21+K21 -> 1095 | F21: ='9.0중기목록'!$F$8 -> 29577 | G21: =INT(C21*F21) -> 591 | H21: ='9.0중기목록'!$E$8 -> 20561 | I21: =INT(C21*H21) -> 411 | J21: ='9.0중기목록'!$G$8 -> 4656 | K21: =INT(C21*J21) -> 93
A22: 발 전 기 | B22: 100KW | C22: ='3.0수량표'!G36 -> 0.02 | D22: HR | E22: =G22+I22+K22 -> 856 | F22: ='9.0중기목록'!$F$10 -> 23409 | G22: =INT(C22*F22) -> 468 | H22: ='9.0중기목록'!$E$10 -> 14915 | I22: =INT(C22*H22) -> 298 | J22: ='9.0중기목록'!$G$10 -> 4533 | K22: =INT(C22*J22) -> 90
A23: 트러탑재크레인 | B23: 5.0 TON | C23: ='3.0수량표'!G37 -> 0.025 | D23: HR | E23: =G23+I23+K23 -> 867 | F23: ='9.0중기목록'!$F$12 -> 6640 | G23: =INT(C23*F23) -> 166 | H23: ='9.0중기목록'!$E$12 -> 17696 | I23: =INT(C23*H23) -> 442 | J23: ='9.0중기목록'!$G$12 -> 10362 | K23: =INT(C23*J23) -> 259
A24: 물 탱 크 | B24: 5,500L | C24: ='3.0수량표'!G38 -> 0.02 | D24: HR | E24: =G24+I24+K24 -> 771 | F24: ='9.0중기목록'!$F$14 -> 13117 | G24: =INT(C24*F24) -> 262 | H24: ='9.0중기목록'!$E$14 -> 17696 | I24: =INT(C24*H24) -> 353 | J24: ='9.0중기목록'!$G$14 -> 7823 | K24: =INT(C24*J24) -> 156
A25: 덤프트럭 | B25: 6.0 TON | C25: ='3.0수량표'!G39 -> 0.02 | D25: HR | E25: =G25+I25+K25 -> 714 | F25: ='9.0중기목록'!$F$16 -> 11978 | G25: =INT(C25*F25) -> 239 | H25: ='9.0중기목록'!$E$16 -> 17696 | I25: =INT(C25*H25) -> 353 | J25: ='9.0중기목록'!$G$16 -> 6117 | K25: =INT(C25*J25) -> 122
A26: 작업반장 | C26: ='3.0수량표'!G40 -> 0.003 | D26: 인 | E26: =G26+I26+K26 -> 276 | H26: ='11.0시중노임'!$F$4 -> 92218 | I26: =INT(C26*H26) -> 276
A27: 특별인부 | C27: ='3.0수량표'!G41 -> 0.016 | D27: 인 | E27: =G27+I27+K27 -> 1350 | H27: ='11.0시중노임'!$F$5 -> 84404 | I27: =INT(C27*H27) -> 1350
A28: 기 계 공 | C28: ='3.0수량표'!G42 -> 0.003 | D28: 인 | E28: =G28+I28+K28 -> 259 | H28: ='11.0시중노임'!$F$12 -> 86521 | I28: =INT(C28*H28) -> 259
A29: 보통인부 | C29: ='3.0수량표'!G43 -> 0.033 | D29: 인 | E29: =G29+I29+K29 -> 2275 | H29: ='11.0시중노임'!$F$6 -> 68965 | I29: =INT(C29*H29) -> 2275
A30: 기구손료 | B30: 노무비의 | C30: ='3.0수량표'!D44 -> 2 | D30: % | E30: =G30+I30+K30 -> 83 | J30: =SUM(I26:I29) -> 4160 | K30: =INT(C30*J30/100) -> 83
A33: 소 계 | E33: =G33+I33+K33 -> 17319 | G33: =SUM(G14:G32) -> 10000 | I33: =SUM(I14:I32) -> 6017 | K33: =SUM(K14:K32) -> 1302
B34: * 수직고 20M 이하, 면적1000m2 이상 기준임.
A35: 총 계 | E35: =E33+E11 -> 21684 | G35: =G33+G11 -> 12050 | I35: =I33+I11 -> 8332 | K35: =K33+K11 -> 1302

Sheet 011-JSB섬유망5CM
A1: 자연생태복원(JSB)공[섬유망 5Cm]
K2: [단위 : m2 당]
A3: 명칭 | B3: 규격 | C3: 수량 | D3: 단위 | E3: 합계 | F3: 재료비 | H3: 노무비 | J3: 경비
F4: 단가 | G4: 금액 | H4: 단가 | I4: 금액 | J4: 단가 | K4: 금액
A5: 1.천연섬유망설치
A6: 천연섬유망 | B6: D3~5,10~100 | C6: ='3.0수량표'!D16 -> 1.2 | D6: M2 | E6: =G6+I6+K6 -> 1800 | F6: ='8.0자재단가'!$I$18 -> 1500 | G6: =INT(C6*F6) -> 1800
A7: 착지핀 | B7: D10~16-250mm | C7: ='3.0수량표'!D17 -> 0.5 | D7: M2 | E7: =G7+I7+K7 -> 250 | F7: ='8.0자재단가'!$I$16 -> 500 | G7: =INT(C7*F7) -> 250
A8: 작업반장 | C8: ='3.0수량표'!D18 -> 0.001 | D8: 인 | E8: =G8+I8+K8 -> 92 | H8: ='11.0시중노임'!$F$4 -> 92218 | I8: =INT(C8*H8) -> 92
A9: 특별인부 | C9: ='3.0수량표'!D19 -> 0.01 | D9: 인 | E9: =G9+I9+K9 -> 844 | H9: ='11.0시중노임'!$F$5 -> 84404 | I9: =INT(C9*H9) -> 844
A10: 보통인부 | C10: ='3.0수량표'!D20 -> 0.02 | D10: 인 | E10: =G10+I10+K10 -> 1379 | H10: ='11.0시중노임'!$F$6 -> 68965 | I10: =INT(C10*H10) -> 1379
A11: 소 계 | E11: =SUM(E6:E10) -> 4365 | G11: =SUM(G6:G10) -> 2050 | I11: =SUM(I6:I10) -> 2315
A13: 2. 취 부 공
A14: 녹화기반제 | B14: 유기질토양 | C14: ='3.0수량표'!H28 -> 45 | D14: L | E14: =G14+I14+K14 -> 6750 | F14: ='8.0자재단가'!$I$8 -> 150 | G14: =INT(C14*F14) -> 6750
A15: 양생제 | B15: 섬유소 | C15: ='3.0수량표'!H29 -> 11 | D15: L | E15: =G15+I15+K15 -> 1870 | F15: ='8.0자재단가'!$I$9 -> 170 | G15: =INT(C15*F15) -> 1870
A16: 안정제 | B16: 침식방지제 | C16: ='3.0수량표'!H30 -> 2 | D16: KG | E16: =G16+I16+K16 -> 400 | F16: ='8.0자재단가'!$I$10 -> 200 | G16: =INT(C16*F16) -> 400
A17: 단립제 | B17: 구조형성 | C17: ='3.0수량표'!H31 -> 0.5 | D17: KG | E17: =G17+I17+K17 -> 500 | F17: ='8.0자재단가'!$I$11 -> 1000 | G17: =INT(C17*F17) -> 500
A18: 종 자 | B18: 6종혼합 | C18: ='3.0수량표'!H32 -> 30 | D18: G | E18: =G18+I18+K18 -> 2400 | F18: ='8.0자재단가'!$I$14 -> 80 | G18: =INT(C18*F18) -> 2400
A19: 잡재료비 | B19: 재료비의 | C19: ='3.0수량표'!H33 -> 2 | D19: % | E19: =G19+I19+K19 -> 238 | F19: =SUM(G14:G18) -> 11920 | G19: =INT(C19*F19/100) -> 238
A20: 취부기 | B20: 25 L | C20: ='3.0수량표'!H34 -> 0.03 | D20: HR | E20: =G20+I20+K20 -> 749 | F20: ='9.0중기목록'!$F$6 -> 0 | G20: =INT(C20*F20) -> 0 | H20: ='9.0중기목록'!$E$6 -> 0 | I20: =INT(C20*H20) -> 0 | J20: ='9.0중기목록'!$G$6 -> 24973 | K20: =INT(C20*J20) -> 749
A21: 공기압축기 | B21: 17M3/MIN | C21: ='3.0수량표'!H35 -> 0.03 | D21: HR | E21: =G21+I21+K21 -> 1642 | F21: ='9.0중기목록'!$F$8 -> 29577 | G21: =INT(C21*F21) -> 887 | H21: ='9.0중기목록'!$E$8 -> 20561 | I21: =INT(C21*H21) -> 616 | J21: ='9.0중기목록'!$G$8 -> 4656 | K21: =INT(C21*J21) -> 139
A22: 발 전 기 | B22: 100KW | C22: ='3.0수량표'!H36 -> 0.03 | D22: HR | E22: =G22+I22+K22 -> 1284 | F22: ='9.0중기목록'!$F$10 -> 23409 | G22: =INT(C22*F22) -> 702 | H22: ='9.0중기목록'!$E$10 -> 14915 | I22: =INT(C22*H22) -> 447 | J22: ='9.0중기목록'!$G$10 -> 4533 | K22: =INT(C22*J22) -> 135
A23: 트러탑재크레인 | B23: 5.0 TON | C23: ='3.0수량표'!H37 -> 0.035 | D23: HR | E23: =G23+I23+K23 -> 1213 | F23: ='9.0중기목록'!$F$12 -> 6640 | G23: =INT(C23*F23) -> 232 | H23: ='9.0중기목록'!$E$12 -> 17696 | I23: =INT(C23*H23) -> 619 | J23: ='9.0중기목록'!$G$12 -> 10362 | K23: =INT(C23*J23) -> 362
A24: 물 탱 크 | B24: 5,500L | C24: ='3.0수량표'!H38 -> 0.03 | D24: HR | E24: =G24+I24+K24 -> 1157 | F24: ='9.0중기목록'!$F$14 -> 13117 | G24: =INT(C24*F24) -> 393 | H24: ='9.0중기목록'!$E$14 -> 17696 | I24: =INT(C24*H24) -> 530 | J24: ='9.0중기목록'!$G$14 -> 7823 | K24: =INT(C24*J24) -> 234
A25: 덤프트럭 | B25: 6.0 TON | C25: ='3.0수량표'!H39 -> 0.03 | D25: HR | E25: =G25+I25+K25 -> 1072 | F25: ='9.0중기목록'!$F$16 -> 11978 | G25: =INT(C25*F25) -> 359 | H25: ='9.0중기목록'!$E$16 -> 17696 | I25: =INT(C25*H25) -> 530 | J25: ='9.0중기목록'!$G$16 -> 6117 | K25: =INT(C25*J25) -> 183
A26: 작업반장 | C26: ='3.0수량표'!H40 -> 0.005 | D26: 인 | E26: =G26+I26+K26 -> 461 | H26: ='11.0시중노임'!$F$4 -> 92218 | I26: =INT(C26*H26) -> 461
A27: 특별인부 | C27: ='3.0수량표'!H41 -> 0.022 | D27: 인 | E27: =G27+I27+K27 -> 1856 | H27: ='11.0시중노임'!$F$5 -> 84404 | I27: =INT(C27*H27) -> 1856
A28: 기 계 공 | C28: ='3.0수량표'!H42 -> 0.005 | D28: 인 | E28: =G28+I28+K28 -> 432 | H28: ='11.0시중노임'!$F$12 -> 86521 | I28: =INT(C28*H28) -> 432
A29: 보통인부 | C29: ='3.0수량표'!H43 -> 0.038 | D29: 인 | E29: =G29+I29+K29 -> 2620 | H29: ='11.0시중노임'!$F$6 -> 68965 | I29: =INT(C29*H29) -> 2620
A30: 기구손료 | B30: 노무비의 | C30: ='3.0수량표'!D44 -> 2 | D30: % | E30: =G30+I30+K30 -> 107 | J30: =SUM(I26:I29) -> 5369 | K30: =INT(C30*J30/100) -> 107
A33: 소 계 | E33: =G33+I33+K33 -> 24751 | G33: =SUM(G14:G32) -> 14731 | I33: =SUM(I14:I32) -> 8111 | K33: =SUM(K14:K32) -> 1909
B34: * 수직고 20M 이하, 면적1000m2 이상 기준임.
A35: 총 계 | E35: =E33+E11 -> 29116 | G35: =G33+G11 -> 16781 | I35: =I33+I11 -> 10426 | K35: =K33+K11 -> 1909

Sheet 012-JSB섬유망7CM
A1: 자연생태복원(JSB)공[섬유망 7Cm]
K2: [단위 : m2 당]
A3: 명칭 | B3: 규격 | C3: 수량 | D3: 단위 | E3: 합계 | F3: 재료비 | H3: 노무비 | J3: 경비
F4: 단가 | G4: 금액 | H4: 단가 | I4: 금액 | J4: 단가 | K4: 금액
A5: 1.천연섬유망설치
A6: 천연섬유망 | B6: D3~5,10~100 | C6: ='3.0수량표'!D16 -> 1.2 | D6: M2 | E6: =G6+I6+K6 -> 1800 | F6: ='8.0자재단가'!$I$18 -> 1500 | G6: =INT(C6*F6) -> 1800
A7: 착지핀 | B7: D10~16-250mm | C7: ='3.0수량표'!D17 -> 0.5 | D7: M2 | E7: =G7+I7+K7 -> 250 | F7: ='8.0자재단가'!$I$16 -> 500 | G7: =INT(C7*F7) -> 250
A8: 작업반장 | C8: ='3.0수량표'!D18 -> 0.001 | D8: 인 | E8: =G8+I8+K8 -> 92 | H8: ='11.0시중노임'!$F$4 -> 92218 | I8: =INT(C8*H8) -> 92
A9: 특별인부 | C9: ='3.0수량표'!D19 -> 0.01 | D9: 인 | E9: =G9+I9+K9 -> 844 | H9: ='11.0시중노임'!$F$5 -> 84404 | I9: =INT(C9*H9) -> 844
A10: 보통인부 | C10: ='3.0수량표'!D20 -> 0.02 | D10: 인 | E10: =G10+I10+K10 -> 1379 | H10: ='11.0시중노임'!$F$6 -> 68965 | I10: =INT(C10*H10) -> 1379
A11: 소 계 | E11: =SUM(E6:E10) -> 4365 | G11: =SUM(G6:G10) -> 2050 | I11: =SUM(I6:I10) -> 2315
A13: 2. 취 부 공
A14: 녹화기반제 | B14: 유기질토양 | C14: ='3.0수량표'!I28 -> 63 | D14: L | E14: =G14+I14+K14 -> 9450 | F14: ='8.0자재단가'!$I$8 -> 150 | G14: =INT(C14*F14) -> 9450
A15: 양생제 | B15: 섬유소 | C15: ='3.0수량표'!I29 -> 15.4 | D15: L | E15: =G15+I15+K15 -> 2618 | F15: ='8.0자재단가'!$I$9 -> 170 | G15: =INT(C15*F15) -> 2618
A16: 안정제 | B16: 침식방지제 | C16: ='3.0수량표'!I30 -> 2.8 | D16: KG | E16: =G16+I16+K16 -> 560 | F16: ='8.0자재단가'!$I$10 -> 200 | G16: =INT(C16*F16) -> 560
A17: 단립제 | B17: 구조형성 | C17: ='3.0수량표'!I31 -> 0.7 | D17: KG | E17: =G17+I17+K17 -> 700 | F17: ='8.0자재단가'!$I$11 -> 1000 | G17: =INT(C17*F17) -> 700
A18: 종 자 | B18: 6종혼합 | C18: ='3.0수량표'!I32 -> 30 | D18: G | E18: =G18+I18+K18 -> 2400 | F18: ='8.0자재단가'!$I$14 -> 80 | G18: =INT(C18*F18) -> 2400
A19: 잡재료비 | B19: 재료비의 | C19: ='3.0수량표'!I33 -> 2 | D19: % | E19: =G19+I19+K19 -> 314 | F19: =SUM(G14:G18) -> 15728 | G19: =INT(C19*F19/100) -> 314
A20: 취부기 | B20: 25 L | C20: ='3.0수량표'!I34 -> 0.04 | D20: HR | E20: =G20+I20+K20 -> 998 | F20: ='9.0중기목록'!$F$6 -> 0 | G20: =INT(C20*F20) -> 0 | H20: ='9.0중기목록'!$E$6 -> 0 | I20: =INT(C20*H20) -> 0 | J20: ='9.0중기목록'!$G$6 -> 24973 | K20: =INT(C20*J20) -> 998
A21: 공기압축기 | B21: 17M3/MIN | C21: ='3.0수량표'!I35 -> 0.04 | D21: HR | E21: =G21+I21+K21 -> 2191 | F21: ='9.0중기목록'!$F$8 -> 29577 | G21: =INT(C21*F21) -> 1183 | H21: ='9.0중기목록'!$E$8 -> 20561 | I21: =INT(C21*H21) -> 822 | J21: ='9.0중기목록'!$G$8 -> 4656 | K21: =INT(C21*J21) -> 186
A22: 발 전 기 | B22: 100KW | C22: ='3.0수량표'!I36 -> 0.04 | D22: HR | E22: =G22+I22+K22 -> 1713 | F22: ='9.0중기목록'!$F$10 -> 23409 | G22: =INT(C22*F22) -> 936 | H22: ='9.0중기목록'!$E$10 -> 14915 | I22: =INT(C22*H22) -> 596 | J22: ='9.0중기목록'!$G$10 -> 4533 | K22: =INT(C22*J22) -> 181
A23: 트러탑재크레인 | B23: 5.0 TON | C23: ='3.0수량표'!I37 -> 0.05 | D23: HR | E23: =G23+I23+K23 -> 1734 | F23: ='9.0중기목록'!$F$12 -> 6640 | G23: =INT(C23*F23) -> 332 | H23: ='9.0중기목록'!$E$12 -> 17696 | I23: =INT(C23*H23) -> 884 | J23: ='9.0중기목록'!$G$12 -> 10362 | K23: =INT(C23*J23) -> 518
A24: 물 탱 크 | B24: 5,500L | C24: ='3.0수량표'!I38 -> 0.04 | D24: HR | E24: =G24+I24+K24 -> 1543 | F24: ='9.0중기목록'!$F$14 -> 13117 | G24: =INT(C24*F24) -> 524 | H24: ='9.0중기목록'!$E$14 -> 17696 | I24: =INT(C24*H24) -> 707 | J24: ='9.0중기목록'!$G$14 -> 7823 | K24: =INT(C24*J24) -> 312
A25: 덤프트럭 | B25: 6.0 TON | C25: ='3.0수량표'!I39 -> 0.04 | D25: HR | E25: =G25+I25+K25 -> 1430 | F25: ='9.0중기목록'!$F$16 -> 11978 | G25: =INT(C25*F25) -> 479 | H25: ='9.0중기목록'!$E$16 -> 17696 | I25: =INT(C25*H25) -> 707 | J25: ='9.0중기목록'!$G$16 -> 6117 | K25: =INT(C25*J25) -> 244
A26: 작업반장 | C26: ='3.0수량표'!I40 -> 0.006 | D26: 인 | E26: =G26+I26+K26 -> 553 | H26: ='11.0시중노임'!$F$4 -> 92218 | I26: =INT(C26*H26) -> 553
A27: 특별인부 | C27: ='3.0수량표'!I41 -> 0.027 | D27: 인 | E27: =G27+I27+K27 -> 2278 | H27: ='11.0시중노임'!$F$5 -> 84404 | I27: =INT(C27*H27) -> 2278
A28: 기 계 공 | C28: ='3.0수량표'!I42 -> 0.006 | D28: 인 | E28: =G28+I28+K28 -> 519 | H28: ='11.0시중노임'!$F$12 -> 86521 | I28: =INT(C28*H28) -> 519
A29: 보통인부 | C29: ='3.0수량표'!I43 -> 0.052 | D29: 인 | E29: =G29+I29+K29 -> 3586 | H29: ='11.0시중노임'!$F$6 -> 68965 | I29: =INT(C29*H29) -> 3586
A30: 기구손료 | B30: 노무비의 | C30: ='3.0수량표'!D44 -> 2 | D30: % | E30: =G30+I30+K30 -> 138 | J30: =SUM(I26:I29) -> 6936 | K30: =INT(C30*J30/100) -> 138
A33: 소 계 | E33: =G33+I33+K33 -> 32725 | G33: =SUM(G14:G32) -> 19496 | I33: =SUM(I14:I32) -> 10652 | K33: =SUM(K14:K32) -> 2577
B34: * 수직고 20M 이하, 면적1000m2 이상 기준임.
A35: 총 계 | E35: =E33+E11 -> 37090 | G35: =G33+G11 -> 21546 | I35: =I33+I11 -> 12967 | K35: =K33+K11 -> 2577

Sheet 013-JSB철망5CM
A1: 자연생태복원(JSB)공[철망 5Cm]
K2: [단위 : m2 당]
A3: 명칭 | B3: 규격 | C3: 수량 | D3: 단위 | E3: 합계 | F3: 재료비 | H3: 노무비 | J3: 경비
F4: 단가 | G4: 금액 | H4: 단가 | I4: 금액 | J4: 단가 | K4: 금액
A5: 1.고정핀및착지핀 천공
A6: 발전기 | B6: 100KW | C6: ='3.0수량표'!H5 -> 0.019 | D6: HR | E6: =G6+I6+K6 -> 813 | F6: ='9.0중기목록'!$F$10 -> 23409 | G6: =INT(C6*F6) -> 444 | H6: ='9.0중기목록'!$E$10 -> 14915 | I6: =INT(C6*H6) -> 283 | J6: ='9.0중기목록'!$G$10 -> 4533 | K6: =INT(C6*J6) -> 86
A7: 착암공 | C7: ='3.0수량표'!H6 -> 0.012 | D7: 인 | E7: =G7+I7+K7 -> 954 | H7: ='11.0시중노임'!$F$3 -> 79533 | I7: =INT(C7*H7) -> 954
A8: 보통인부 | C8: ='3.0수량표'!H7 -> 0.012 | D8: 인 | E8: =G8+I8+K8 -> 827 | H8: ='11.0시중노임'!$F$6 -> 68965 | I8: =INT(C8*H8) -> 827
A9: 드릴비트및손료 | B9: 노무비의 | C9: ='3.0수량표'!H8 -> 2.5 | D9: % | E9: =G9+I9+K9 -> 51 | J9: =SUM(I6:I8) -> 2064 | K9: =INT(C9*J9/100) -> 51
A10: 소 계 | E10: =G10+I10+K10 -> 2645 | G10: =SUM(G6:G9) -> 444 | I10: =SUM(I6:I9) -> 2064 | K10: =SUM(K6:K9) -> 137
A11: 2.고정핀및착지핀 설치
A12: 고정핀 | B12: D19-350mm | C12: ='3.0수량표'!H10 -> 0.23 | D12: EA | E12: =G12+I12+K12 -> 207 | F12: ='8.0자재단가'!$I$17 -> 900 | G12: =INT(C12*F12) -> 207
A13: 착지핀 | B13: D16-250mm | C13: ='3.0수량표'!H11 -> 0.5 | D13: EA | E13: =G13+I13+K13 -> 250 | F13: ='8.0자재단가'!I16 -> 500 | G13: =INT(C13*F13) -> 250
A14: 특별인부 | C14: ='3.0수량표'!H12 -> 0.006 | D14: 인 | E14: =G14+I14+K14 -> 506 | H14: ='11.0시중노임'!$F$5 -> 84404 | I14: =INT(C14*H14) -> 506
A15: 보통인부 | C15: ='3.0수량표'!H13 -> 0.006 | D15: 인 | E15: =G15+I15+K15 -> 413 | H15: ='11.0시중노임'!$F$6 -> 68965 | I15: =INT(C15*H15) -> 413
A16: 소 계 | E16: =G16+I16+K16 -> 1376 | G16: =SUM(G11:G15) -> 457 | I16: =SUM(I11:I15) -> 919
A17: 3.부착망설치
A18: 특별인부 | C18: ='3.0수량표'!H21 -> 0 | D18: 인 | E18: =G18+I18+K18 -> 0 | H18: ='11.0시중노임'!$F$5 -> 84404 | I18: =INT(C18*H18) -> 0
A19: 부착망 | B19: #10,58*58,PVC | C19: ='3.0수량표'!H22 -> 1.3 | D19: ㎡ | E19: =G19+I19+K19 -> 2873 | F19: ='8.0자재단가'!$I$19 -> 2210 | G19: =INT(C19*F19) -> 2873
A20: 철선 | B20: #8,PVC코팅 | C20: ='3.0수량표'!H23 -> 1.3 | D20: M | E20: =G20+I20+K20 -> 195 | F20: ='8.0자재단가'!$I$20 -> 150 | G20: =INT(C20*F20) -> 195
A21: 작업반장 | C21: ='3.0수량표'!H24 -> 0.005 | D21: 인 | E21: =G21+I21+K21 -> 461 | H21: ='11.0시중노임'!$F$4 -> 92218 | I21: =INT(C21*H21) -> 461
A22: 특별인부 | C22: ='3.0수량표'!H25 -> 0.02 | D22: 인 | E22: =G22+I22+K22 -> 1688 | H22: ='11.0시중노임'!$F$5 -> 84404 | I22: =INT(C22*H22) -> 1688
A23: 보통인부 | C23: ='3.0수량표'!H26 -> 0.02 | D23: 인 | E23: =G23+I23+K23 -> 1379 | H23: ='11.0시중노임'!$F$6 -> 68965 | I23: =INT(C23*H23) -> 1379
A24: 소 계 | E24: =SUM(E19:E23) -> 6596 | G24: =SUM(G19:G23) -> 3068 | I24: =SUM(I19:I23) -> 3528
A25: 4. 취 부 공
A26: 녹화기반제 | B26: 유기질토양 | C26: ='3.0수량표'!H28 -> 45 | D26: L | E26: =G26+I26+K26 -> 6750 | F26: ='8.0자재단가'!$I$8 -> 150 | G26: =INT(C26*F26) -> 6750
A27: 양생제 | B27: 섬유소 | C27: ='3.0수량표'!H29 -> 11 | D27: L | E27: =G27+I27+K27 -> 1870 | F27: ='8.0자재단가'!$I$9 -> 170 | G27: =INT(C27*F27) -> 1870
A28: 안정제 | B28: 침식방지제 | C28: ='3.0수량표'!H30 -> 2 | D28: KG | E28: =G28+I28+K28 -> 400 | F28: ='8.0자재단가'!$I$10 -> 200 | G28: =INT(C28*F28) -> 400
A29: 단립제 | B29: 구조형성 | C29: ='3.0수량표'!H31 -> 0.5 | D29: KG | E29: =G29+I29+K29 -> 500 | F29: ='8.0자재단가'!$I$11 -> 1000 | G29: =INT(C29*F29) -> 500
A30: 종 자 | B30: 6종혼합 | C30: ='3.0수량표'!H32 -> 30 | D30: G | E30: =G30+I30+K30 -> 2400 | F30: ='8.0자재단가'!$I$14 -> 80 | G30: =INT(C30*F30) -> 2400
A31: 잡재료비 | B31: 재료비의 | C31: ='3.0수량표'!H33 -> 2 | D31: % | E31: =G31+I31+K31 -> 238 | F31: =SUM(G26:G30) -> 11920 | G31: =INT(C31*F31/100) -> 238
A32: 취부기 | B32: 25 L | C32: ='3.0수량표'!H34 -> 0.03 | D32: HR | E32: =G32+I32+K32 -> 749 | F32: ='9.0중기목록'!$F$6 -> 0 | G32: =INT(C32*F32) -> 0 | H32: ='9.0중기목록'!$E$6 -> 0 | I32: =INT(C32*H32) -> 0 | J32: ='9.0중기목록'!$G$6 -> 24973 | K32: =INT(C32*J32) -> 749
A33: 공기압축기 | B33: 17M3/MIN | C33: ='3.0수량표'!H35 -> 0.03 | D33: HR | E33: =G33+I33+K33 -> 1642 | F33: ='9.0중기목록'!$F$8 -> 29577 | G33: =INT(C33*F33) -> 887 | H33: ='9.0중기목록'!$E$8 -> 20561 | I33: =INT(C33*H33) -> 616 | J33: ='9.0중기목록'!$G$8 -> 4656 | K33: =INT(C33*J33) -> 139
A34: 발 전 기 | B34: 100KW | C34: ='3.0수량표'!H36 -> 0.03 | D34: HR | E34: =G34+I34+K34 -> 1284 | F34: ='9.0중기목록'!$F$10 -> 23409 | G34: =INT(C34*F34) -> 702 | H34: ='9.0중기목록'!$E$10 -> 14915 | I34: =INT(C34*H34) -> 447 | J34: ='9.0중기목록'!$G$10 -> 4533 | K34: =INT(C34*J34) -> 135
A35: 트러탑재크레인 | B35: 5.0 TON | C35: ='3.0수량표'!H37 -> 0.035 | D35: HR | E35: =G35+I35+K35 -> 1213 | F35: ='9.0중기목록'!$F$12 -> 6640 | G35: =INT(C35*F35) -> 232 | H35: ='9.0중기목록'!$E$12 -> 17696 | I35: =INT(C35*H35) -> 619 | J35: ='9.0중기목록'!$G$12 -> 10362 | K35: =INT(C35*J35) -> 362
A36: 물 탱 크 | B36: 5,500L | C36: ='3.0수량표'!H38 -> 0.03 | D36: HR | E36: =G36+I36+K36 -> 1157 | F36: ='9.0중기목록'!$F$14 -> 13117 | G36: =INT(C36*F36) -> 393 | H36: ='9.0중기목록'!$E$14 -> 17696 | I36: =INT(C36*H36) -> 530 | J36: ='9.0중기목록'!$G$14 -> 7823 | K36: =INT(C36*J36) -> 234
A37: 덤프트럭 | B37: 6.0 TON | C37: ='3.0수량표'!H39 -> 0.03 | D37: HR | E37: =G37+I37+K37 -> 1072 | F37: ='9.0중기목록'!$F$16 -> 11978 | G37: =INT(C37*F37) -> 359 | H37: ='9.0중기목록'!$E$16 -> 17696 | I37: =INT(C37*H37) -> 530 | J37: ='9.0중기목록'!$G$16 -> 6117 | K37: =INT(C37*J37) -> 183
A38: 작업반장 | C38: ='3.0수량표'!H40 -> 0.005 | D38: 인 | E38: =G38+I38+K38 -> 461 | H38: ='11.0시중노임'!$F$4 -> 92218 | I38: =INT(C38*H38) -> 461
A39: 특별인부 | C39: ='3.0수량표'!H41 -> 0.022 | D39: 인 | E39: =G39+I39+K39 -> 1856 | H39: ='11.0시중노임'!$F$5 -> 84404 | I39: =INT(C39*H39) -> 1856
A40: 기 계 공 | C40: ='3.0수량표'!H42 -> 0.005 | D40: 인 | E40: =G40+I40+K40 -> 432 | H40: ='11.0시중노임'!$F$12 -> 86521 | I40: =INT(C40*H40) -> 432
A41: 보통인부 | C41: ='3.0수량표'!H43 -> 0.038 | D41: 인 | E41: =G41+I41+K41 -> 2620 | H41: ='11.0시중노임'!$F$6 -> 68965 | I41: =INT(C41*H41) -> 2620
A42: 기구손료 | B42: 노무비의 | C42: ='3.0수량표'!D44 -> 2 | D42: % | E42: =G42+I42+K42 -> 107 | J42: =SUM(I38:I41) -> 5369 | K42: =INT(C42*J42/100) -> 107
A43: 소 계 | E43: =G43+I43+K43 -> 24751 | G43: =SUM(G26:G42) -> 14731 | I43: =SUM(I26:I42) -> 8111 | K43: =SUM(K26:K42) -> 1909
B45: * 수직고 20M 이하, 면적1000m2 이상 기준임.
A46: 총 계 | E46: =E43+E24+E16+E10 -> 35368 | G46: =G43+G24+G16+G10 -> 18700 | I46: =I43+I24+I16+I10 -> 14622 | K46: =K43+K24+K16+K10 -> 2046

Sheet 014-JSB철망7CM
A1: 자연생태복원(JSB)공[철망 7Cm]
K2: [단위 : m2 당]
A3: 명칭 | B3: 규격 | C3: 수량 | D3: 단위 | E3: 합계 | F3: 재료비 | H3: 노무비 | J3: 경비
F4: 단가 | G4: 금액 | H4: 단가 | I4: 금액 | J4: 단가 | K4: 금액
A5: 1.고정핀및착지핀 천공
A6: 발전기 | B6: 100KW | C6: ='3.0수량표'!H5 -> 0.019 | D6: HR | E6: =G6+I6+K6 -> 813 | F6: ='9.0중기목록'!$F$10 -> 23409 | G6: =INT(C6*F6) -> 444 | H6: ='9.0중기목록'!$E$10 -> 14915 | I6: =INT(C6*H6) -> 283 | J6: ='9.0중기목록'!$G$10 -> 4533 | K6: =INT(C6*J6) -> 86
A7: 착암공 | C7: ='3.0수량표'!H6 -> 0.012 | D7: 인 | E7: =G7+I7+K7 -> 954 | H7: ='11.0시중노임'!$F$3 -> 79533 | I7: =INT(C7*H7) -> 954
A8: 보통인부 | C8: ='3.0수량표'!H7 -> 0.012 | D8: 인 | E8: =G8+I8+K8 -> 827 | H8: ='11.0시중노임'!$F$6 -> 68965 | I8: =INT(C8*H8) -> 827
A9: 드릴비트및손료 | B9: 노무비의 | C9: ='3.0수량표'!H8 -> 2.5 | D9: % | E9: =G9+I9+K9 -> 51 | J9: =SUM(I6:I8) -> 2064 | K9: =INT(C9*J9/100) -> 51
A10: 소 계 | E10: =G10+I10+K10 -> 2645 | G10: =SUM(G6:G9) -> 444 | I10: =SUM(I6:I9) -> 2064 | K10: =SUM(K6:K9) -> 137
A11: 2.고정핀및착지핀 설치
A12: 고정핀 | B12: D16-350mm | C12: ='3.0수량표'!H10 -> 0.23 | D12: EA | E12: =G12+I12+K12 -> 207 | F12: ='8.0자재단가'!$I$17 -> 900 | G12: =INT(C12*F12) -> 207
A13: 착지핀 | B13: D16-250mm | C13: ='3.0수량표'!H11 -> 0.5 | D13: EA | E13: =G13+I13+K13 -> 250 | F13: ='8.0자재단가'!I16 -> 500 | G13: =INT(C13*F13) -> 250
A14: 특별인부 | C14: ='3.0수량표'!H12 -> 0.006 | D14: 인 | E14: =G14+I14+K14 -> 506 | H14: ='11.0시중노임'!$F$5 -> 84404 | I14: =INT(C14*H14) -> 506
A15: 보통인부 | C15: ='3.0수량표'!H13 -> 0.006 | D15: 인 | E15: =G15+I15+K15 -> 413 | H15: ='11.0시중노임'!$F$6 -> 68965 | I15: =INT(C15*H15) -> 413
A16: 소 계 | E16: =G16+I16+K16 -> 1376 | G16: =SUM(G11:G15) -> 457 | I16: =SUM(I11:I15) -> 919
A17: 3.부착망설치
A18: 부착망 | B18: #10,58*58,PVC | C18: ='3.0수량표'!H22 -> 1.3 | D18: ㎡ | E18: =G18+I18+K18 -> 2873 | F18: ='8.0자재단가'!$I$19 -> 2210 | G18: =INT(C18*F18) -> 2873
A19: 철선 | B19: #8,PVC코팅 | C19: ='3.0수량표'!H23 -> 1.3 | D19: M | E19: =G19+I19+K19 -> 195 | F19: ='8.0자재단가'!$I$20 -> 150 | G19: =INT(C19*F19) -> 195
A20: 작업반장 | C20: ='3.0수량표'!H24 -> 0.005 | D20: 인 | E20: =G20+I20+K20 -> 461 | H20: ='11.0시중노임'!$F$4 -> 92218 | I20: =INT(C20*H20) -> 461
A21: 특별인부 | C21: ='3.0수량표'!H25 -> 0.02 | D21: 인 | E21: =G21+I21+K21 -> 1688 | H21: ='11.0시중노임'!$F$5 -> 84404 | I21: =INT(C21*H21) -> 1688
A22: 보통인부 | C22: ='3.0수량표'!H26 -> 0.02 | D22: 인 | E22: =G22+I22+K22 -> 1379 | H22: ='11.0시중노임'!$F$6 -> 68965 | I22: =INT(C22*H22) -> 1379
A23: 소 계 | E23: =SUM(E18:E22) -> 6596 | G23: =SUM(G18:G22) -> 3068 | I23: =SUM(I18:I22) -> 3528
A24: 4. 취 부 공
A25: 녹화기반제 | B25: 유기질토양 | C25: ='3.0수량표'!I28 -> 63 | D25: L | E25: =G25+I25+K25 -> 9450 | F25: ='8.0자재단가'!$I$8 -> 150 | G25: =INT(C25*F25) -> 9450
A26: 양생제 | B26: 섬유소 | C26: ='3.0수량표'!I29 -> 15.4 | D26: L | E26: =G26+I26+K26 -> 2618 | F26: ='8.0자재단가'!$I$9 -> 170 | G26: =INT(C26*F26) -> 2618
A27: 안정제 | B27: 침식방지제 | C27: ='3.0수량표'!I30 -> 2.8 | D27: KG | E27: =G27+I27+K27 -> 560 | F27: ='8.0자재단가'!$I$10 -> 200 | G27: =INT(C27*F27) -> 560
A28: 단립제 | B28: 구조형성 | C28: ='3.0수량표'!I31 -> 0.7 | D28: KG | E28: =G28+I28+K28 -> 700 | F28: ='8.0자재단가'!$I$11 -> 1000 | G28: =INT(C28*F28) -> 700
A29: 종 자 | B29: 6종혼합 | C29: ='3.0수량표'!I32 -> 30 | D29: G | E29: =G29+I29+K29 -> 2400 | F29: ='8.0자재단가'!$I$14 -> 80 | G29: =INT(C29*F29) -> 2400
A30: 잡재료비 | B30: 재료비의 | C30: ='3.0수량표'!I33 -> 2 | D30: % | E30: =G30+I30+K30 -> 314 | F30: =SUM(G25:G29) -> 15728 | G30: =INT(C30*F30/100) -> 314
A31: 취부기 | B31: 25 L | C31: ='3.0수량표'!I34 -> 0.04 | D31: HR | E31: =G31+I31+K31 -> 998 | F31: ='9.0중기목록'!$F$6 -> 0 | G31: =INT(C31*F31) -> 0 | H31: ='9.0중기목록'!$E$6 -> 0 | I31: =INT(C31*H31) -> 0 | J31: ='9.0중기목록'!$G$6 -> 24973 | K31: =INT(C31*J31) -> 998
A32: 공기압축기 | B32: 17M3/MIN | C32: ='3.0수량표'!I35 -> 0.04 | D32: HR | E32: =G32+I32+K32 -> 2191 | F32: ='9.0중기목록'!$F$8 -> 29577 | G32: =INT(C32*F32) -> 1183 | H32: ='9.0중기목록'!$E$8 -> 20561 | I32: =INT(C32*H32) -> 822 | J32: ='9.0중기목록'!$G$8 -> 4656 | K32: =INT(C32*J32) -> 186
A33: 발 전 기 | B33: 100KW | C33: ='3.0수량표'!I36 -> 0.04 | D33: HR | E33: =G33+I33+K33 -> 1713 | F33: ='9.0중기목록'!$F$10 -> 23409 | G33: =INT(C33*F33) -> 936 | H33: ='9.0중기목록'!$E$10 -> 14915 | I33: =INT(C33*H33) -> 596 | J33: ='9.0중기목록'!$G$10 -> 4533 | K33: =INT(C33*J33) -> 181
A34: 트러탑재크레인 | B34: 5.0 TON | C34: ='3.0수량표'!I37 -> 0.05 | D34: HR | E34: =G34+I34+K34 -> 1734 | F34: ='9.0중기목록'!$F$12 -> 6640 | G34: =INT(C34*F34) -> 332 | H34: ='9.0중기목록'!$E$12 -> 17696 | I34: =INT(C34*H34) -> 884 | J34: ='9.0중기목록'!$G$12 -> 10362 | K34: =INT(C34*J34) -> 518
A35: 물 탱 크 | B35: 5,500L | C35: ='3.0수량표'!I38 -> 0.04 | D35: HR | E35: =G35+I35+K35 -> 1543 | F35: ='9.0중기목록'!$F$14 -> 13117 | G35: =INT(C35*F35) -> 524 | H35: ='9.0중기목록'!$E$14 -> 17696 | I35: =INT(C35*H35) -> 707 | J35: ='9.0중기목록'!$G$14 -> 7823 | K35: =INT(C35*J35) -> 312
A36: 덤프트럭 | B36: 6.0 TON | C36: ='3.0수량표'!I39 -> 0.04 | D36: HR | E36: =G36+I36+K36 -> 1430 | F36: ='9.0중기목록'!$F$16 -> 11978 | G36: =INT(C36*F36) -> 479 | H36: ='9.0중기목록'!$E$16 -> 17696 | I36: =INT(C36*H36) -> 707 | J36: ='9.0중기목록'!$G$16 -> 6117 | K36: =INT(C36*J36) -> 244
A37: 작업반장 | C37: ='3.0수량표'!I40 -> 0.006 | D37: 인 | E37: =G37+I37+K37 -> 553 | H37: ='11.0시중노임'!$F$4 -> 92218 | I37: =INT(C37*H37) -> 553
A38: 특별인부 | C38: ='3.0수량표'!I41 -> 0.027 | D38: 인 | E38: =G38+I38+K38 -> 2278 | H38: ='11.0시중노임'!$F$5 -> 84404 | I38: =INT(C38*H38) -> 2278
A39: 기 계 공 | C39: ='3.0수량표'!I42 -> 0.006 | D39: 인 | E39: =G39+I39+K39 -> 519 | H39: ='11.0시중노임'!$F$12 -> 86521 | I39: =INT(C39*H39) -> 519
A40: 보통인부 | C40: ='3.0수량표'!I43 -> 0.052 | D40: 인 | E40: =G40+I40+K40 -> 3586 | H40: ='11.0시중노임'!$F$6 -> 68965 | I40: =INT(C40*H40) -> 3586
A41: 기구손료 | B41: 노무비의 | C41: ='3.0수량표'!D44 -> 2 | D41: % | E41: =G41+I41+K41 -> 138 | J41: =SUM(I37:I40) -> 6936 | K41: =INT(C41*J41/100) -> 138
A42: 소 계 | E42: =G42+I42+K42 -> 32725 | G42: =SUM(G25:G41) -> 19496 | I42: =SUM(I25:I41) -> 10652 | K42: =SUM(K25:K41) -> 2577
B44: * 수직고 20M 이하, 면적1000m2 이상 기준임.
A45: 총 계 | E45: =E42+E23+E16+E10 -> 43342 | G45: =G42+G23+G16+G10 -> 23465 | I45: =I42+I23+I16+I10 -> 17163 | K45: =K42+K23+K16+K10 -> 2714

Sheet 015-JSB철망10CM
A1: 자연생태복원(JSB)공[철망 10Cm]
K2: [단위 : m2 당]
A3: 명칭 | B3: 규격 | C3: 수량 | D3: 단위 | E3: 합계 | F3: 재료비 | H3: 노무비 | J3: 경비
F4: 단가 | G4: 금액 | H4: 단가 | I4: 금액 | J4: 단가 | K4: 금액
A5: 1.고정핀및착지핀 천공
A6: 발전기 | B6: 100KW | C6: ='3.0수량표'!H5 -> 0.019 | D6: HR | E6: =G6+I6+K6 -> 813 | F6: ='9.0중기목록'!$F$10 -> 23409 | G6: =INT(C6*F6) -> 444 | H6: ='9.0중기목록'!$E$10 -> 14915 | I6: =INT(C6*H6) -> 283 | J6: ='9.0중기목록'!$G$10 -> 4533 | K6: =INT(C6*J6) -> 86
A7: 착암공 | C7: ='3.0수량표'!H6 -> 0.012 | D7: 인 | E7: =G7+I7+K7 -> 954 | H7: ='11.0시중노임'!$F$3 -> 79533 | I7: =INT(C7*H7) -> 954
A8: 보통인부 | C8: ='3.0수량표'!H7 -> 0.012 | D8: 인 | E8: =G8+I8+K8 -> 827 | H8: ='11.0시중노임'!$F$6 -> 68965 | I8: =INT(C8*H8) -> 827
A9: 드릴비트및손료 | B9: 노무비의 | C9: ='3.0수량표'!H8 -> 2.5 | D9: % | E9: =G9+I9+K9 -> 51 | J9: =SUM(I6:I8) -> 2064 | K9: =INT(C9*J9/100) -> 51
A10: 소 계 | E10: =G10+I10+K10 -> 2645 | G10: =SUM(G6:G9) -> 444 | I10: =SUM(I6:I9) -> 2064 | K10: =SUM(K6:K9) -> 137
A11: 2.고정핀및착지핀 설치
A12: 고정핀 | B12: D16-350mm | C12: ='3.0수량표'!H10 -> 0.23 | D12: EA | E12: =G12+I12+K12 -> 207 | F12: ='8.0자재단가'!$I$17 -> 900 | G12: =INT(C12*F12) -> 207
A13: 착지핀 | B13: D16-250mm | C13: ='3.0수량표'!H11 -> 0.5 | D13: EA | E13: =G13+I13+K13 -> 250 | F13: ='8.0자재단가'!I16 -> 500 | G13: =INT(C13*F13) -> 250
A14: 특별인부 | C14: ='3.0수량표'!H12 -> 0.006 | D14: 인 | E14: =G14+I14+K14 -> 506 | H14: ='11.0시중노임'!$F$5 -> 84404 | I14: =INT(C14*H14) -> 506
A15: 보통인부 | C15: ='3.0수량표'!H13 -> 0.006 | D15: 인 | E15: =G15+I15+K15 -> 413 | H15: ='11.0시중노임'!$F$6 -> 68965 | I15: =INT(C15*H15) -> 413
A16: 소 계 | E16: =G16+I16+K16 -> 1376 | G16: =SUM(G11:G15) -> 457 | I16: =SUM(I11:I15) -> 919
A17: 3.부착망설치
A18: 부착망 | B18: #10,58*58,PVC | C18: ='3.0수량표'!H22 -> 1.3 | D18: ㎡ | E18: =G18+I18+K18 -> 2873 | F18: ='8.0자재단가'!$I$19 -> 2210 | G18: =INT(C18*F18) -> 2873
A19: 철선 | B19: #8,PVC코팅 | C19: ='3.0수량표'!H23 -> 1.3 | D19: M | E19: =G19+I19+K19 -> 195 | F19: ='8.0자재단가'!$I$20 -> 150 | G19: =INT(C19*F19) -> 195
A20: 작업반장 | C20: ='3.0수량표'!H24 -> 0.005 | D20: 인 | E20: =G20+I20+K20 -> 461 | H20: ='11.0시중노임'!$F$4 -> 92218 | I20: =INT(C20*H20) -> 461
A21: 특별인부 | C21: ='3.0수량표'!H25 -> 0.02 | D21: 인 | E21: =G21+I21+K21 -> 1688 | H21: ='11.0시중노임'!$F$5 -> 84404 | I21: =INT(C21*H21) -> 1688
A22: 보통인부 | C22: ='3.0수량표'!H26 -> 0.02 | D22: 인 | E22: =G22+I22+K22 -> 1379 | H22: ='11.0시중노임'!$F$6 -> 68965 | I22: =INT(C22*H22) -> 1379
A23: 소 계 | E23: =SUM(E18:E22) -> 6596 | G23: =SUM(G18:G22) -> 3068 | I23: =SUM(I18:I22) -> 3528
A24: 4. 취 부 공
A25: 녹화기반제 | B25: 유기질토양 | C25: ='3.0수량표'!J28 -> 90 | D25: L | E25: =G25+I25+K25 -> 13500 | F25: ='8.0자재단가'!$I$8 -> 150 | G25: =INT(C25*F25) -> 13500
A26: 양생제 | B26: 섬유소 | C26: ='3.0수량표'!J29 -> 22 | D26: L | E26: =G26+I26+K26 -> 3740 | F26: ='8.0자재단가'!$I$9 -> 170 | G26: =INT(C26*F26) -> 3740
A27: 안정제 | B27: 침식방지제 | C27: ='3.0수량표'!J30 -> 4 | D27: KG | E27: =G27+I27+K27 -> 800 | F27: ='8.0자재단가'!$I$10 -> 200 | G27: =INT(C27*F27) -> 800
A28: 단립제 | B28: 구조형성 | C28: ='3.0수량표'!J31 -> 1 | D28: KG | E28: =G28+I28+K28 -> 1000 | F28: ='8.0자재단가'!$I$11 -> 1000 | G28: =INT(C28*F28) -> 1000
A29: 종 자 | B29: 6종혼합 | C29: ='3.0수량표'!J32 -> 30 | D29: G | E29: =G29+I29+K29 -> 2400 | F29: ='8.0자재단가'!$I$14 -> 80 | G29: =INT(C29*F29) -> 2400
A30: 잡재료비 | B30: 재료비의 | C30: ='3.0수량표'!J33 -> 2 | D30: % | E30: =G30+I30+K30 -> 428 | F30: =SUM(G25:G29) -> 21440 | G30: =INT(C30*F30/100) -> 428
A31: 취부기 | B31: 25 L | C31: ='3.0수량표'!J34 -> 0.053 | D31: HR | E31: =G31+I31+K31 -> 1323 | F31: ='9.0중기목록'!$F$6 -> 0 | G31: =INT(C31*F31) -> 0 | H31: ='9.0중기목록'!$E$6 -> 0 | I31: =INT(C31*H31) -> 0 | J31: ='9.0중기목록'!$G$6 -> 24973 | K31: =INT(C31*J31) -> 1323
A32: 공기압축기 | B32: 17M3/MIN | C32: ='3.0수량표'!J35 -> 0.053 | D32: HR | E32: =G32+I32+K32 -> 2902 | F32: ='9.0중기목록'!$F$8 -> 29577 | G32: =INT(C32*F32) -> 1567 | H32: ='9.0중기목록'!$E$8 -> 20561 | I32: =INT(C32*H32) -> 1089 | J32: ='9.0중기목록'!$G$8 -> 4656 | K32: =INT(C32*J32) -> 246
A33: 발 전 기 | B33: 100KW | C33: ='3.0수량표'!J36 -> 0.053 | D33: HR | E33: =G33+I33+K33 -> 2270 | F33: ='9.0중기목록'!$F$10 -> 23409 | G33: =INT(C33*F33) -> 1240 | H33: ='9.0중기목록'!$E$10 -> 14915 | I33: =INT(C33*H33) -> 790 | J33: ='9.0중기목록'!$G$10 -> 4533 | K33: =INT(C33*J33) -> 240
A34: 트러탑재크레인 | B34: 5.0 TON | C34: ='3.0수량표'!J37 -> 0.06 | D34: HR | E34: =G34+I34+K34 -> 2080 | F34: ='9.0중기목록'!$F$12 -> 6640 | G34: =INT(C34*F34) -> 398 | H34: ='9.0중기목록'!$E$12 -> 17696 | I34: =INT(C34*H34) -> 1061 | J34: ='9.0중기목록'!$G$12 -> 10362 | K34: =INT(C34*J34) -> 621
A35: 물 탱 크 | B35: 5,500L | C35: ='3.0수량표'!J38 -> 0.053 | D35: HR | E35: =G35+I35+K35 -> 2046 | F35: ='9.0중기목록'!$F$14 -> 13117 | G35: =INT(C35*F35) -> 695 | H35: ='9.0중기목록'!$E$14 -> 17696 | I35: =INT(C35*H35) -> 937 | J35: ='9.0중기목록'!$G$14 -> 7823 | K35: =INT(C35*J35) -> 414
A36: 덤프트럭 | B36: 6.0 TON | C36: ='3.0수량표'!J39 -> 0.053 | D36: HR | E36: =G36+I36+K36 -> 1895 | F36: ='9.0중기목록'!$F$16 -> 11978 | G36: =INT(C36*F36) -> 634 | H36: ='9.0중기목록'!$E$16 -> 17696 | I36: =INT(C36*H36) -> 937 | J36: ='9.0중기목록'!$G$16 -> 6117 | K36: =INT(C36*J36) -> 324
A37: 작업반장 | C37: ='3.0수량표'!J40 -> 0.008 | D37: 인 | E37: =G37+I37+K37 -> 737 | H37: ='11.0시중노임'!$F$4 -> 92218 | I37: =INT(C37*H37) -> 737
A38: 특별인부 | C38: ='3.0수량표'!J41 -> 0.035 | D38: 인 | E38: =G38+I38+K38 -> 2954 | H38: ='11.0시중노임'!$F$5 -> 84404 | I38: =INT(C38*H38) -> 2954
A39: 기 계 공 | C39: ='3.0수량표'!J42 -> 0.008 | D39: 인 | E39: =G39+I39+K39 -> 692 | H39: ='11.0시중노임'!$F$12 -> 86521 | I39: =INT(C39*H39) -> 692
A40: 보통인부 | C40: ='3.0수량표'!J43 -> 0.07 | D40: 인 | E40: =G40+I40+K40 -> 4827 | H40: ='11.0시중노임'!$F$6 -> 68965 | I40: =INT(C40*H40) -> 4827
A41: 기구손료 | B41: 노무비의 | C41: ='3.0수량표'!D44 -> 2 | D41: % | E41: =G41+I41+K41 -> 184 | J41: =SUM(I37:I40) -> 9210 | K41: =INT(C41*J41/100) -> 184
A42: 소 계 | E42: =G42+I42+K42 -> 43778 | G42: =SUM(G25:G41) -> 26402 | I42: =SUM(I25:I41) -> 14024 | K42: =SUM(K25:K41) -> 3352
B44: * 수직고 20M 이하, 면적1000m2 이상 기준임.
A45: 총 계 | E45: =E42+E23+E16+E10 -> 54395 | G45: =G42+G23+G16+G10 -> 30371 | I45: =I42+I23+I16+I10 -> 20535 | K45: =K42+K23+K16+K10 -> 3489

Sheet 016-JSB철망12CM
A1: 자연생태복원(JSB)공[철망 12Cm]
K2: [단위 : m2 당]
A3: 명칭 | B3: 규격 | C3: 수량 | D3: 단위 | E3: 합계 | F3: 재료비 | H3: 노무비 | J3: 경비
F4: 단가 | G4: 금액 | H4: 단가 | I4: 금액 | J4: 단가 | K4: 금액
A5: 1.고정핀및착지핀 천공
A6: 발전기 | B6: 100KW | C6: ='3.0수량표'!K5 -> 0.023 | D6: HR | E6: =G6+I6+K6 -> 985 | F6: ='9.0중기목록'!$F$10 -> 23409 | G6: =INT(C6*F6) -> 538 | H6: ='9.0중기목록'!$E$10 -> 14915 | I6: =INT(C6*H6) -> 343 | J6: ='9.0중기목록'!$G$10 -> 4533 | K6: =INT(C6*J6) -> 104
A7: 착암공 | C7: ='3.0수량표'!K6 -> 0.014 | D7: 인 | E7: =G7+I7+K7 -> 1113 | H7: ='11.0시중노임'!$F$3 -> 79533 | I7: =INT(C7*H7) -> 1113
A8: 보통인부 | C8: ='3.0수량표'!K7 -> 0.014 | D8: 인 | E8: =G8+I8+K8 -> 965 | H8: ='11.0시중노임'!$F$6 -> 68965 | I8: =INT(C8*H8) -> 965
A9: 드릴비트및손료 | B9: 노무비의 | C9: ='3.0수량표'!K8 -> 2.5 | D9: % | E9: =G9+I9+K9 -> 60 | J9: =SUM(I6:I8) -> 2421 | K9: =INT(C9*J9/100) -> 60
A10: 소 계 | E10: =G10+I10+K10 -> 3123 | G10: =SUM(G6:G9) -> 538 | I10: =SUM(I6:I9) -> 2421 | K10: =SUM(K6:K9) -> 164
A11: 2.고정핀및착지핀 설치
A12: 고정핀 | B12: D16-350mm | C12: ='3.0수량표'!K10 -> 0.276 | D12: EA | E12: =G12+I12+K12 -> 248 | F12: ='8.0자재단가'!$I$17 -> 900 | G12: =INT(C12*F12) -> 248
A13: 착지핀 | B13: D16-250mm | C13: ='3.0수량표'!K11 -> 0.6 | D13: EA | E13: =G13+I13+K13 -> 300 | F13: ='8.0자재단가'!I16 -> 500 | G13: =INT(C13*F13) -> 300
A14: 특별인부 | C14: ='3.0수량표'!K12 -> 0.007 | D14: 인 | E14: =G14+I14+K14 -> 590 | H14: ='11.0시중노임'!$F$5 -> 84404 | I14: =INT(C14*H14) -> 590
A15: 보통인부 | C15: ='3.0수량표'!K13 -> 0.007 | D15: 인 | E15: =G15+I15+K15 -> 482 | H15: ='11.0시중노임'!$F$6 -> 68965 | I15: =INT(C15*H15) -> 482
A16: 소 계 | E16: =G16+I16+K16 -> 1620 | G16: =SUM(G11:G15) -> 548 | I16: =SUM(I11:I15) -> 1072
A17: 3.부착망설치
A18: 부착망 | B18: #10,58*58,PVC | C18: ='3.0수량표'!K22 -> 1.56 | D18: ㎡ | E18: =G18+I18+K18 -> 3447 | F18: ='8.0자재단가'!$I$19 -> 2210 | G18: =INT(C18*F18) -> 3447
A19: 철선 | B19: #8,PVC코팅 | C19: ='3.0수량표'!K23 -> 1.56 | D19: M | E19: =G19+I19+K19 -> 234 | F19: ='8.0자재단가'!$I$20 -> 150 | G19: =INT(C19*F19) -> 234
A20: 작업반장 | C20: ='3.0수량표'!K24 -> 0.006 | D20: 인 | E20: =G20+I20+K20 -> 553 | H20: ='11.0시중노임'!$F$4 -> 92218 | I20: =INT(C20*H20) -> 553
A21: 특별인부 | C21: ='3.0수량표'!K25 -> 0.024 | D21: 인 | E21: =G21+I21+K21 -> 2025 | H21: ='11.0시중노임'!$F$5 -> 84404 | I21: =INT(C21*H21) -> 2025
A22: 보통인부 | C22: ='3.0수량표'!K26 -> 0.024 | D22: 인 | E22: =G22+I22+K22 -> 1655 | H22: ='11.0시중노임'!$F$6 -> 68965 | I22: =INT(C22*H22) -> 1655
A23: 소 계 | E23: =SUM(E18:E22) -> 7914 | G23: =SUM(G18:G22) -> 3681 | I23: =SUM(I18:I22) -> 4233
A24: 4. 취 부 공
A25: 녹화기반제 | B25: 유기질토양 | C25: ='3.0수량표'!K28 -> 108 | D25: L | E25: =G25+I25+K25 -> 16200 | F25: ='8.0자재단가'!$I$8 -> 150 | G25: =INT(C25*F25) -> 16200
A26: 양생제 | B26: 섬유소 | C26: ='3.0수량표'!K29 -> 26.4 | D26: L | E26: =G26+I26+K26 -> 4488 | F26: ='8.0자재단가'!$I$9 -> 170 | G26: =INT(C26*F26) -> 4488
A27: 안정제 | B27: 침식방지제 | C27: ='3.0수량표'!K30 -> 4.8 | D27: KG | E27: =G27+I27+K27 -> 960 | F27: ='8.0자재단가'!$I$10 -> 200 | G27: =INT(C27*F27) -> 960
A28: 단립제 | B28: 구조형성 | C28: ='3.0수량표'!K31 -> 1.2 | D28: KG | E28: =G28+I28+K28 -> 1200 | F28: ='8.0자재단가'!$I$11 -> 1000 | G28: =INT(C28*F28) -> 1200
A29: 종 자 | B29: 6종혼합 | C29: ='3.0수량표'!K32 -> 30 | D29: G | E29: =G29+I29+K29 -> 2400 | F29: ='8.0자재단가'!$I$14 -> 80 | G29: =INT(C29*F29) -> 2400
A30: 잡재료비 | B30: 재료비의 | C30: ='3.0수량표'!K33 -> 2 | D30: % | E30: =G30+I30+K30 -> 504 | F30: =SUM(G25:G29) -> 25248 | G30: =INT(C30*F30/100) -> 504
A31: 취부기 | B31: 25 L | C31: ='3.0수량표'!K34 -> 0.064 | D31: HR | E31: =G31+I31+K31 -> 1598 | F31: ='9.0중기목록'!$F$6 -> 0 | G31: =INT(C31*F31) -> 0 | H31: ='9.0중기목록'!$E$6 -> 0 | I31: =INT(C31*H31) -> 0 | J31: ='9.0중기목록'!$G$6 -> 24973 | K31: =INT(C31*J31) -> 1598
A32: 공기압축기 | B32: 17M3/MIN | C32: ='3.0수량표'!K35 -> 0.064 | D32: HR | E32: =G32+I32+K32 -> 3504 | F32: ='9.0중기목록'!$F$8 -> 29577 | G32: =INT(C32*F32) -> 1892 | H32: ='9.0중기목록'!$E$8 -> 20561 | I32: =INT(C32*H32) -> 1315 | J32: ='9.0중기목록'!$G$8 -> 4656 | K32: =INT(C32*J32) -> 297
A33: 발 전 기 | B33: 100KW | C33: ='3.0수량표'!K36 -> 0.064 | D33: HR | E33: =G33+I33+K33 -> 2742 | F33: ='9.0중기목록'!$F$10 -> 23409 | G33: =INT(C33*F33) -> 1498 | H33: ='9.0중기목록'!$E$10 -> 14915 | I33: =INT(C33*H33) -> 954 | J33: ='9.0중기목록'!$G$10 -> 4533 | K33: =INT(C33*J33) -> 290
A34: 트러탑재크레인 | B34: 5.0 TON | C34: ='3.0수량표'!K37 -> 0.072 | D34: HR | E34: =G34+I34+K34 -> 2498 | F34: ='9.0중기목록'!$F$12 -> 6640 | G34: =INT(C34*F34) -> 478 | H34: ='9.0중기목록'!$E$12 -> 17696 | I34: =INT(C34*H34) -> 1274 | J34: ='9.0중기목록'!$G$12 -> 10362 | K34: =INT(C34*J34) -> 746
A35: 물 탱 크 | B35: 5,500L | C35: ='3.0수량표'!K38 -> 0.064 | D35: HR | E35: =G35+I35+K35 -> 2471 | F35: ='9.0중기목록'!$F$14 -> 13117 | G35: =INT(C35*F35) -> 839 | H35: ='9.0중기목록'!$E$14 -> 17696 | I35: =INT(C35*H35) -> 1132 | J35: ='9.0중기목록'!$G$14 -> 7823 | K35: =INT(C35*J35) -> 500
A36: 덤프트럭 | B36: 6.0 TON | C36: ='3.0수량표'!K39 -> 0.064 | D36: HR | E36: =G36+I36+K36 -> 2289 | F36: ='9.0중기목록'!$F$16 -> 11978 | G36: =INT(C36*F36) -> 766 | H36: ='9.0중기목록'!$E$16 -> 17696 | I36: =INT(C36*H36) -> 1132 | J36: ='9.0중기목록'!$G$16 -> 6117 | K36: =INT(C36*J36) -> 391
A37: 작업반장 | C37: ='3.0수량표'!K40 -> 0.01 | D37: 인 | E37: =G37+I37+K37 -> 922 | H37: ='11.0시중노임'!$F$4 -> 92218 | I37: =INT(C37*H37) -> 922
A38: 특별인부 | C38: ='3.0수량표'!K41 -> 0.042 | D38: 인 | E38: =G38+I38+K38 -> 3544 | H38: ='11.0시중노임'!$F$5 -> 84404 | I38: =INT(C38*H38) -> 3544
A39: 기 계 공 | C39: ='3.0수량표'!K42 -> 0.01 | D39: 인 | E39: =G39+I39+K39 -> 865 | H39: ='11.0시중노임'!$F$12 -> 86521 | I39: =INT(C39*H39) -> 865
A40: 보통인부 | C40: ='3.0수량표'!K43 -> 0.084 | D40: 인 | E40: =G40+I40+K40 -> 5793 | H40: ='11.0시중노임'!$F$6 -> 68965 | I40: =INT(C40*H40) -> 5793
A41: 기구손료 | B41: 노무비의 | C41: ='3.0수량표'!D44 -> 2 | D41: % | E41: =G41+I41+K41 -> 222 | J41: =SUM(I37:I40) -> 11124 | K41: =INT(C41*J41/100) -> 222
A42: 소 계 | E42: =G42+I42+K42 -> 52200 | G42: =SUM(G25:G41) -> 31225 | I42: =SUM(I25:I41) -> 16931 | K42: =SUM(K25:K41) -> 4044
B44: * 수직고 20M 이하, 면적1000m2 이상 기준임.
A45: 총 계 | E45: =E42+E23+E16+E10 -> 64857 | G45: =G42+G23+G16+G10 -> 35992 | I45: =I42+I23+I16+I10 -> 24657 | K45: =K42+K23+K16+K10 -> 4208

Sheet ASNA-표지
A7: 법면배토습식공법(ASNA)

Sheet 017-ASNA-일위대가(무망0.5~유망5)
A9: 2009년 배토습식공법 내역서
A35: 목 도 창 조 주 식 회 사
A44: 명 칭 | B44: 품종 및 규격 | C44: 수 량 | D44: 단위 | E44: 재 료 비 | G44: 노 무 비 | I44: 경 비 | K44: 계 | L44: 비 고
E45: 단 가 | F45: 금 액 | G45: 단 가 | H45: 금 액 | I45: 단 가 | J45: 금 액
A46: 2009년 배토습식공법 일위대가총괄표
A47: A S N A | B47: 무 망 5 ㎜ | C47: 10 | D47: ㎡ | F47: =F75 -> 11715 | H47: =H75 -> 22204 | J47: =J75 -> 2758 | K47: =K75 -> 36677
A48: A S N A | B48: 무 망 10 ㎜ | C48: 10 | D48: ㎡ | F48: =F94 -> 21430 | H48: =H94 -> 44409 | J48: =J94 -> 5517 | K48: =K94 -> 71356
A49: A S N A | B49: 무 망 20 ㎜ | C49: 10 | D49: ㎡ | F49: =F113 -> 36376 | H49: =H113 -> 68447 | J49: =J113 -> 8438 | K49: =K113 -> 113261
A50: A S N A | B50: 무 망 30 ㎜ | C50: 10 | D50: ㎡ | F50: =F132 -> 53004 | H50: =H132 -> 107402 | J50: =J132 -> 12333 | K50: =K132 -> 172739
A51: A S N A | B51: 유 망 30 ㎜ | C51: 10 | D51: ㎡ | F51: =F176 -> 144123 | H51: =H176 -> 264444 | J51: =J176 -> 24485 | K51: =K176 -> 433052
A52: A S N A | B52: 유 망 50 ㎜ | C52: 10 | D52: ㎡ | F52: =F214 -> 176257 | H52: =H214 -> 321956 | J52: =J214 -> 31626 | K52: =K214 -> 529839
A65: ASNA 무망 T = 5㎜ (10㎡당)
A66: 인 공 토 | B66: 베저테이티브시멘트 | C66: 0.055 | D66: ㎥ | E66: ='018-ASNA-자재산출근거'!I5 -> 90000 | F66: =TRUNC(C66*E66,1) -> 4950
A67: 종 자 | B67: 목본류 및 잔디류 | C67: 0.25 | D67: ㎏ | E67: ='018-ASNA-자재산출근거'!I6 -> 8000 | F67: =TRUNC(C67*E67,1) -> 2000
A68: 믹 서 | B68: 0.45㎥ | C68: 0.17 | D68: hr | E68: ='021-ASNA-중기목록'!E5 -> 4515 | F68: =TRUNC(C68*E68,1) -> 767.5 | G68: ='021-ASNA-중기목록'!F5 -> 14455 | H68: =TRUNC(G68*C68,1) -> 2457.3 | I68: ='021-ASNA-중기목록'!G5 -> 5226 | J68: =TRUNC(I68*C68,1) -> 888.4
A69: 엔 진 | B69: 70HP | C69: 0.17 | D69: hr | E69: ='021-ASNA-중기목록'!E6 -> 9917 | F69: =TRUNC(C69*E69,1) -> 1685.8 | I69: ='021-ASNA-중기목록'!G6 -> 1051 | J69: =TRUNC(I69*C69,1) -> 178.6
A70: 물 탱 크 | B70: 5,500ℓ | C70: 0.17 | D70: hr | E70: ='021-ASNA-중기목록'!E7 -> 13600 | F70: =TRUNC(C70*E70,1) -> 2312 | G70: ='021-ASNA-중기목록'!F7 -> 16611 | H70: =TRUNC(G70*C70,1) -> 2823.8 | I70: ='021-ASNA-중기목록'!G7 -> 7823 | J70: =TRUNC(I70*C70,1) -> 1329.9
A71: 모 노 펌 프 | B71: 5∼20㎥/hr | C71: 0.17 | D71: hr | I71: ='021-ASNA-중기목록'!G8 -> 2129 | J71: =TRUNC(I71*C71,1) -> 361.9
A72: 특 별 인 부 | C72: 0.085 | D72: 인 | G72: ='019-ASNA-노무비산출근거'!B4 -> 84404 | H72: =TRUNC(G72*C72,1) -> 7174.3
A73: 기 계 공 | C73: 0.025 | D73: 인 | G73: ='019-ASNA-노무비산출근거'!B6 -> 86521 | H73: =TRUNC(G73*C73,1) -> 2163
A74: 보 통 인 부 | C74: 0.11 | D74: 인 | G74: ='019-ASNA-노무비산출근거'!B5 -> 68965 | H74: =TRUNC(G74*C74,1) -> 7586.1
A75: 계 | C75: 10 | D75: ㎡ | F75: =INT(F74+F73+F72+F71+F70+F69+F68+F67+F66) -> 11715 | H75: =INT(H74+H73+H72+H71+H70+H69+H68+H67+H66) -> 22204 | J75: =INT(J74+J73+J72+J71+J70+J69+J68+J67+J66) -> 2758 | K75: =INT(J75+H75+F75) -> 36677
A84: ASNA 무망 T = 10㎜ (10㎡당)
A85: 인 공 토 | B85: 베저테이브시멘트 | C85: 0.11 | D85: ㎥ | E85: ='018-ASNA-자재산출근거'!I5 -> 90000 | F85: =TRUNC(C85*E85,1) -> 9900
A86: 종 자 | B86: 목본류 및 잔디류 | C86: 0.25 | D86: ㎏ | E86: ='018-ASNA-자재산출근거'!I6 -> 8000 | F86: =TRUNC(C86*E86,1) -> 2000
A87: 믹 서 | B87: 0.45㎥ | C87: 0.34 | D87: hr | E87: ='021-ASNA-중기목록'!E5 -> 4515 | F87: =TRUNC(C87*E87,1) -> 1535.1 | G87: ='021-ASNA-중기목록'!F5 -> 14455 | H87: =TRUNC(G87*C87,1) -> 4914.7 | I87: ='021-ASNA-중기목록'!G5 -> 5226 | J87: =TRUNC(I87*C87,1) -> 1776.8
A88: 엔 진 | B88: 70HP | C88: 0.34 | D88: hr | E88: ='021-ASNA-중기목록'!E6 -> 9917 | F88: =TRUNC(C88*E88,1) -> 3371.7 | I88: ='021-ASNA-중기목록'!G6 -> 1051 | J88: =TRUNC(I88*C88,1) -> 357.3
A89: 물 탱 크 | B89: 5,500ℓ | C89: 0.34 | D89: hr | E89: ='021-ASNA-중기목록'!E7 -> 13600 | F89: =TRUNC(C89*E89,1) -> 4624 | G89: ='021-ASNA-중기목록'!F7 -> 16611 | H89: =TRUNC(G89*C89,1) -> 5647.7 | I89: ='021-ASNA-중기목록'!G7 -> 7823 | J89: =TRUNC(I89*C89,1) -> 2659.8
A90: 모 노 펌 프 | B90: 5∼20㎥/hr | C90: 0.34 | D90: hr | I90: ='021-ASNA-중기목록'!G8 -> 2129 | J90: =TRUNC(I90*C90,1) -> 723.8
A91: 특 별 인 부 | C91: 0.17 | D91: 인 | G91: ='019-ASNA-노무비산출근거'!B4 -> 84404 | H91: =TRUNC(G91*C91,1) -> 14348.6
A92: 기 계 공 | C92: 0.05 | D92: 인 | G92: ='019-ASNA-노무비산출근거'!B6 -> 86521 | H92: =TRUNC(G92*C92,1) -> 4326
A93: 보 통 인 부 | C93: 0.22 | D93: 인 | G93: ='019-ASNA-노무비산출근거'!B5 -> 68965 | H93: =TRUNC(G93*C93,1) -> 15172.3
A94: 계 | C94: 10 | D94: ㎡ | F94: =INT(F93+F92+F91+F90+F89+F88+F87+F86+F85) -> 21430 | H94: =INT(H93+H92+H91+H90+H89+H88+H87+H86+H85) -> 44409 | J94: =INT(J93+J92+J91+J90+J89+J88+J87+J86+J85) -> 5517 | K94: =INT(J94+H94+F94) -> 71356
A103: ASNA 무망 T = 20㎜ (10㎡당)
A104: 인 공 토 | B104: 베저테이브시멘트 | C104: 0.22 | D104: ㎥ | E104: ='018-ASNA-자재산출근거'!I5 -> 90000 | F104: =TRUNC(C104*E104,1) -> 19800
A105: 종 자 | B105: 목본류 및 잔디류 | C105: 0.25 | D105: ㎏ | E105: ='018-ASNA-자재산출근거'!I6 -> 8000 | F105: =TRUNC(C105*E105,1) -> 2000
A106: 믹 서 | B106: 0.45㎥ | C106: 0.52 | D106: hr | E106: ='021-ASNA-중기목록'!E5 -> 4515 | F106: =TRUNC(C106*E106,1) -> 2347.8 | G106: ='021-ASNA-중기목록'!F5 -> 14455 | H106: =TRUNC(G106*C106,1) -> 7516.6 | I106: ='021-ASNA-중기목록'!G5 -> 5226 | J106: =TRUNC(I106*C106,1) -> 2717.5
A107: 엔 진 | B107: 70HP | C107: 0.52 | D107: hr | E107: ='021-ASNA-중기목록'!E6 -> 9917 | F107: =TRUNC(C107*E107,1) -> 5156.8 | I107: ='021-ASNA-중기목록'!G6 -> 1051 | J107: =TRUNC(I107*C107,1) -> 546.5
A108: 물 탱 크 | B108: 5,500ℓ | C108: 0.52 | D108: hr | E108: ='021-ASNA-중기목록'!E7 -> 13600 | F108: =TRUNC(C108*E108,1) -> 7072 | G108: ='021-ASNA-중기목록'!F7 -> 16611 | H108: =TRUNC(G108*C108,1) -> 8637.7 | I108: ='021-ASNA-중기목록'!G7 -> 7823 | J108: =TRUNC(I108*C108,1) -> 4067.9
A109: 모 노 펌 프 | B109: 5∼20㎥/hr | C109: 0.52 | D109: hr | I109: ='021-ASNA-중기목록'!G8 -> 2129 | J109: =TRUNC(I109*C109,1) -> 1107
A110: 특 별 인 부 | C110: 0.27 | D110: 인 | G110: ='019-ASNA-노무비산출근거'!B4 -> 84404 | H110: =TRUNC(G110*C110,1) -> 22789
A111: 기 계 공 | C111: 0.07 | D111: 인 | G111: ='019-ASNA-노무비산출근거'!B6 -> 86521 | H111: =TRUNC(G111*C111,1) -> 6056.4
A112: 보 통 인 부 | C112: 0.34 | D112: 인 | G112: ='019-ASNA-노무비산출근거'!B5 -> 68965 | H112: =TRUNC(G112*C112,1) -> 23448.1
A113: 계 | C113: 10 | D113: ㎡ | F113: =INT(F112+F111+F110+F109+F108+F107+F106+F105+F104) -> 36376 | H113: =INT(H112+H111+H110+H109+H108+H107+H106+H105+H104) -> 68447 | J113: =INT(J112+J111+J110+J109+J108+J107+J106+J105+J104) -> 8438 | K113: =INT(J113+H113+F113) -> 113261
A122: ASNA 무망 T = 30㎜ (10㎡당)
A123: 인 공 토 | B123: 베저테이브시멘트 | C123: 0.33 | D123: ㎥ | E123: ='018-ASNA-자재산출근거'!I5 -> 90000 | F123: =TRUNC(C123*E123,1) -> 29700
A124: 종 자 | B124: 목본류 및 잔디류 | C124: 0.25 | D124: ㎏ | E124: ='018-ASNA-자재산출근거'!I6 -> 8000 | F124: =TRUNC(C124*E124,1) -> 2000
A125: 믹 서 | B125: 0.45㎥ | C125: 0.76 | D125: hr | E125: ='021-ASNA-중기목록'!E5 -> 4515 | F125: =TRUNC(C125*E125,1) -> 3431.4 | G125: ='021-ASNA-중기목록'!F5 -> 14455 | H125: =TRUNC(G125*C125,1) -> 10985.8 | I125: ='021-ASNA-중기목록'!G5 -> 5226 | J125: =TRUNC(I125*C125,1) -> 3971.7
A126: 엔 진 | B126: 70HP | C126: 0.76 | D126: hr | E126: ='021-ASNA-중기목록'!E6 -> 9917 | F126: =TRUNC(C126*E126,1) -> 7536.9 | I126: ='021-ASNA-중기목록'!G6 -> 1051 | J126: =TRUNC(I126*C126,1) -> 798.7
A127: 물 탱 크 | B127: 5,500ℓ | C127: 0.76 | D127: hr | E127: ='021-ASNA-중기목록'!E7 -> 13600 | F127: =TRUNC(C127*E127,1) -> 10336 | G127: ='021-ASNA-중기목록'!F7 -> 16611 | H127: =TRUNC(G127*C127,1) -> 12624.3 | I127: ='021-ASNA-중기목록'!G7 -> 7823 | J127: =TRUNC(I127*C127,1) -> 5945.4
A128: 모 노 펌 프 | B128: 5∼20㎥ | C128: 0.76 | D128: hr | I128: ='021-ASNA-중기목록'!G8 -> 2129 | J128: =TRUNC(I128*C128,1) -> 1618
A129: 특 별 인 부 | C129: 0.4 | D129: 인 | G129: ='019-ASNA-노무비산출근거'!B4 -> 84404 | H129: =TRUNC(G129*C129,1) -> 33761.6
A130: 기 계 공 | C130: 0.1 | D130: 인 | G130: ='019-ASNA-노무비산출근거'!B6 -> 86521 | H130: =TRUNC(G130*C130,1) -> 8652.1
A131: 보 통 인 부 | C131: 0.6 | D131: 인 | G131: ='019-ASNA-노무비산출근거'!B5 -> 68965 | H131: =TRUNC(G131*C131,1) -> 41379
A132: 계 | C132: 10 | D132: ㎡ | F132: =INT(F131+F130+F129+F128+F127+F126+F125+F124+F123) -> 53004 | H132: =INT(H131+H130+H129+H128+H127+H126+H125+H124+H123) -> 107402 | J132: =INT(J131+J130+J129+J128+J127+J126+J125+J124+J123) -> 12333 | K132: =INT(J132+H132+F132) -> 172739
A141: ASNA 유망 T = 30㎜ (10㎡당)
A142: 1) 앵커핀 및 착지핀 홀천공
A143: 발 전 기 | B143: 50㎾ | C143: 1.14 | D143: hr | E143: ='021-ASNA-중기목록'!E3 -> 12135 | F143: =TRUNC(C143*E143,1) -> 13833.9 | G143: ='021-ASNA-중기목록'!F3 -> 14455 | H143: =TRUNC(G143*C143,1) -> 16478.7 | I143: ='021-ASNA-중기목록'!G3 -> 3752 | J143: =TRUNC(I143*C143,1) -> 4277.2
A144: 드릴 및 비트손료 | B144: 인건비의 2.5% | C144: 1 | D144: 식 | F144: =ROUNDDOWN((H145+H146)*0.025,1) -> 1682.5
A145: 착 암 공 | C145: 0.43 | D145: 인 | G145: ='019-ASNA-노무비산출근거'!B7 -> 79533 | H145: =TRUNC(G145*C145,1) -> 34199.1
A146: 보 통 인 부 | C146: 0.48 | D146: 인 | G146: ='019-ASNA-노무비산출근거'!B5 -> 68965 | H146: =TRUNC(G146*C146,1) -> 33103.2
A147: 소 계 | F147: =INT(F143+F144) -> 15516 | H147: =INT(H143+H145+H146) -> 83781 | J147: =INT(J143+J144) -> 4277 | K147: =INT(J147+H147+F147) -> 103574
A149: 2) 앵커핀 및 착지핀 설치
A150: 앵 커 핀 | B150: Φ19, L=0.6 | C150: 1.2 | D150: 개 | E150: ='018-ASNA-자재산출근거'!I7 -> 1200 | F150: =TRUNC(C150*E150,1) -> 1440
A151: 착 지 핀 | B151: Φ16, L=0.4 | C151: 11 | D151: 개 | E151: ='018-ASNA-자재산출근거'!I8 -> 900 | F151: =TRUNC(C151*E151,1) -> 9900
A152: 특 별 인 부 | C152: 0.14 | D152: 인 | G152: ='019-ASNA-노무비산출근거'!B4 -> 84404 | H152: =TRUNC(G152*C152,1) -> 11816.5
A153: 보 통 인 부 | C153: 0.48 | D153: 인 | G153: ='019-ASNA-노무비산출근거'!B5 -> 68965 | H153: =TRUNC(G153*C153,1) -> 33103.2
A154: 소 계 | F154: =INT(F150+F151) -> 11340 | H154: =INT(H150+H152+H153) -> 44919 | K154: =INT(J154+H154+F154) -> 56259
A156: 3) 부 착 망 설 치
A157: 부 착 망 | B157: Φ3.2, 58×58 | C157: 13 | D157: ㎡ | E157: ='018-ASNA-자재산출근거'!I9 -> 4200 | F157: =TRUNC(C157*E157,1) -> 54600
A158: 와 이 어 로 프 | B158: Φ9 | C158: 4 | D158: m | E158: ='018-ASNA-자재산출근거'!I10 -> 943 | F158: =TRUNC(C158*E158,1) -> 3772
A159: 와 이 어 클 립 | B159: 3 / 8" | C159: 1.1 | D159: 개 | E159: ='018-ASNA-자재산출근거'!I11 -> 600 | F159: =TRUNC(C159*E159,1) -> 660
A160: 트럭탑재형 크레인 | B160: 5톤 | C160: 0.76 | D160: hr | E160: ='021-ASNA-중기목록'!E4 -> 6884 | F160: =TRUNC(C160*E160,1) -> 5231.8 | G160: ='021-ASNA-중기목록'!F4 -> 16611 | H160: =TRUNC(G160*C160,1) -> 12624.3 | I160: ='021-ASNA-중기목록'!G4 -> 10362 | J160: =TRUNC(I160*C160,1) -> 7875.1
A161: 특 별 인 부 | C161: 0.08 | D161: 인 | G161: ='019-ASNA-노무비산출근거'!B4 -> 84404 | H161: =TRUNC(G161*C161,1) -> 6752.3
A162: 보 통 인 부 | C162: 0.13 | D162: 인 | G162: ='019-ASNA-노무비산출근거'!B5 -> 68965 | H162: =TRUNC(G162*C162,1) -> 8965.4
A163: 소 계 | F163: =INT(F157+F158+F159+F160) -> 64263 | H163: =INT(H160+H161+H162) -> 28342 | J163: =INT(J160+J161) -> 7875 | K163: =SUM(F163:J163) -> 100480
A165: 4) 취 부 공
A166: 인 공 토 | B166: 베저테이브시멘트 | C166: 0.33 | D166: ㎥ | E166: ='018-ASNA-자재산출근거'!I5 -> 90000 | F166: =TRUNC(C166*E166,1) -> 29700
A167: 종 자 | B167: 목본류 및 잔디류 | C167: 0.25 | D167: ㎏ | E167: ='018-ASNA-자재산출근거'!I6 -> 8000 | F167: =TRUNC(C167*E167,1) -> 2000
A168: 믹 서 | B168: 0.45㎥ | C168: 0.76 | D168: hr | E168: ='021-ASNA-중기목록'!E5 -> 4515 | F168: =TRUNC(C168*E168,1) -> 3431.4 | G168: ='021-ASNA-중기목록'!F5 -> 14455 | H168: =TRUNC(G168*C168,1) -> 10985.8 | I168: ='021-ASNA-중기목록'!G5 -> 5226 | J168: =TRUNC(I168*C168,1) -> 3971.7
A169: 엔 진 | B169: 70HP | C169: 0.76 | D169: hr | E169: ='021-ASNA-중기목록'!E6 -> 9917 | F169: =TRUNC(C169*E169,1) -> 7536.9 | I169: ='021-ASNA-중기목록'!G6 -> 1051 | J169: =TRUNC(I169*C169,1) -> 798.7
A170: 물 탱 크 | B170: 5,500ℓ | C170: 0.76 | D170: hr | E170: ='021-ASNA-중기목록'!E7 -> 13600 | F170: =TRUNC(C170*E170,1) -> 10336 | G170: ='021-ASNA-중기목록'!F7 -> 16611 | H170: =TRUNC(G170*C170,1) -> 12624.3 | I170: ='021-ASNA-중기목록'!G7 -> 7823 | J170: =TRUNC(I170*C170,1) -> 5945.4
A171: 모 노 펌 프 | B171: 5∼20㎥ | C171: 0.76 | D171: hr | I171: ='021-ASNA-중기목록'!G8 -> 2129 | J171: =TRUNC(I171*C171,1) -> 1618
A172: 특 별 인 부 | C172: 0.4 | D172: 인 | G172: ='019-ASNA-노무비산출근거'!B4 -> 84404 | H172: =TRUNC(G172*C172,1) -> 33761.6
A173: 기 계 공 | C173: 0.1 | D173: 인 | G173: ='019-ASNA-노무비산출근거'!B6 -> 86521 | H173: =TRUNC(G173*C173,1) -> 8652.1
A174: 보 통 인 부 | C174: 0.6 | D174: 인 | G174: ='019-ASNA-노무비산출근거'!B5 -> 68965 | H174: =TRUNC(G174*C174,1) -> 41379
A175: 소 계 | F175: =INT(F166+F167+F168+F169+F170) -> 53004 | H175: =INT(H168+H170+H172+H173+H174) -> 107402 | J175: =INT(J168+J169+J170+J171) -> 12333 | K175: =SUM(F175:J175) -> 172739
A176: 계 | C176: 10 | D176: ㎡ | F176: =INT(F175+F163+F154+F147) -> 144123 | H176: =INT(H175+H163+H154+H147) -> 264444 | J176: =INT(J175+J163+J154+J147) -> 24485 | K176: =SUM(F176:J176) -> 433052
A179: ASNA 유망 T = 50㎜ (10㎡당)
A180: 1) 앵커핀 및 착지핀 홀천공
A181: 발 전 기 | B181: 50㎾ | C181: 1.14 | D181: hr | E181: ='021-ASNA-중기목록'!E3 -> 12135 | F181: =TRUNC(C181*E181,1) -> 13833.9 | G181: ='021-ASNA-중기목록'!F3 -> 14455 | H181: =TRUNC(G181*C181,1) -> 16478.7 | I181: ='021-ASNA-중기목록'!G3 -> 3752 | J181: =TRUNC(I181*C181,1) -> 4277.2
A182: 드릴 및 비트손료 | B182: 인건비의 2.5% | C182: 1 | D182: 식 | F182: =ROUNDDOWN((H183+H184)*0.025,1) -> 1682.5
A183: 착 암 공 | C183: 0.43 | D183: 인 | G183: ='019-ASNA-노무비산출근거'!B7 -> 79533 | H183: =TRUNC(G183*C183,1) -> 34199.1
A184: 보 통 인 부 | C184: 0.48 | D184: 인 | G184: ='019-ASNA-노무비산출근거'!B5 -> 68965 | H184: =TRUNC(G184*C184,1) -> 33103.2
A185: 소 계 | F185: =INT(F181+F182) -> 15516 | H185: =INT(H181+H183+H184) -> 83781 | J185: =INT(J181+J182) -> 4277 | K185: =INT(J185+H185+F185) -> 103574
A187: 2) 앵커핀 및 착지핀 설치
A188: 앵 커 핀 | B188: Φ19, L=0.6 | C188: 1.2 | D188: 개 | E188: ='018-ASNA-자재산출근거'!I7 -> 1200 | F188: =TRUNC(C188*E188,1) -> 1440
A189: 착 지 핀 | B189: Φ16, L=0.4 | C189: 11 | D189: 개 | E189: ='018-ASNA-자재산출근거'!I8 -> 900 | F189: =TRUNC(C189*E189,1) -> 9900
A190: 특 별 인 부 | C190: 0.14 | D190: 인 | G190: ='019-ASNA-노무비산출근거'!B4 -> 84404 | H190: =TRUNC(G190*C190,1) -> 11816.5
A191: 보 통 인 부 | C191: 0.48 | D191: 인 | G191: ='019-ASNA-노무비산출근거'!B5 -> 68965 | H191: =TRUNC(G191*C191,1) -> 33103.2
...

Sheet 018-ASNA-자재산출근거
A1: 자재단가 산출근거
A3: 품 명 | B3: 규 격 | C3: 물가자료(2009년 1월) | I3: 적 용 단 가
C4: 단 가 | D4: PAGE
A5: 인 공 토 | C5: 90000 | D5: 289 | I5: =C5 -> 90000
A6: 종 자 | B6: 목본류및잔디류 | C6: 8000 | D6: 289 | I6: =C6 -> 8000
A7: 앙 카 핀 | B7: φ19 × L600 | C7: 1200 | D7: 289 | I7: =C7 -> 1200
A8: 착 지 핀 | B8: φ16 × L400 | C8: 900 | D8: 289 | I8: =C8 -> 900
A9: 부 착 망 | B9: #10×58×58 | C9: 4200 | D9: 99 | I9: =C9 -> 4200
A10: 와이어 로프 | B10: φ9㎜ | C10: 943 | D10: 66 | I10: =C10 -> 943
A11: 와이어로프클립 | B11: 3/8" | C11: 600 | D11: 289 | I11: =C11 -> 600

Sheet 019-ASNA-노무비산출근거
A1: 2008년 노무비 산출근거
A3: 품 명 | B3: 2010 상반기 | C3: 2009 상반기 | D3: 2008 하반기 | E3: 적 용 가
A4: 특별인부 | B4: 84404 | C4: 84686 | D4: 81596 | E4: =B4 -> 84404
A5: 보통인부 | B5: 68965 | C5: 66622 | D5: 63530 | E5: =B5 -> 68965
A6: 기 계 공 | B6: 86521 | C6: 81094 | D6: 79128 | E6: =B6 -> 86521
A7: 착 암 공 | B7: 79533 | C7: 77924 | D7: 77435 | E7: =B7 -> 79533

Sheet 020-ASNA-중기산출근거
A4: 적 용 기 준
A10: ◇ 환 율
A11: 1달러 ($) : | B11: 938.2 | C11: 원
A13: ◇ 유 류 대
A14: 휘 발 유 : | B14: 1135.22 | C14: ℓ/원
A15: 경 유 : | B15: 1124.95 | C15: ℓ/원
A17: ◇ 노 무 비
A19: 건설기계운전기사 | B19: : 95,508 ×16/12 ×1/8 ×25/20 = | E19: =ROUNDDOWN(95508*0.20833,0) -> 19897 | F19: 원
A20: 운전사(운반차) | B20: : 79,737 ×16/12 ×1/8 ×25/20 = | E20: =ROUNDDOWN(79737*0.20833,1) -> 16611.6 | F20: 원
A21: 운전사(기 계) | B21: : 69,388 ×16/12 ×1/8 ×25/20 = | E21: =ROUNDDOWN(69388*0.20833,1) -> 14455.6 | F21: 원
A22: 건설기계운전조수 | B22: : 53,053 ×16/12 ×1/8 ×25/20 = | E22: =ROUNDDOWN(53053*0.20833,1) -> 11052.5 | F22: 원
A23: 건설기계조장 | B23: : 92,297 ×16/12 ×1/8 ×25/20 = | E23: =ROUNDDOWN(92297*0.20833,1) -> 19228.2 | F23: 원
A35: 중 기 명 : 발전기(50㎾)
A36: 중 기 가 격 : 16,360천원
A37: 항 목 | B37: 구 분 | C37: 수 량 | D37: 단 위 | E37: 단 가 | F37: 금 액 | G37: 비 고
A38: 재 료 비 | B38: 경 유 | C38: 8.7 | D38: ℓ | E38: =B15 -> 1124.95 | F38: =ROUNDDOWN(C38*E38,1) -> 9787
B39: 잡 품 | C39: 24 | D39: % | F39: =ROUNDDOWN(F38*0.24,1) -> 2348.8
B40: 소 계 | F40: =INT(F38+F39) -> 12135
A41: 노 무 비 | B41: 운전사(기 계)) | C41: 1 | D41: 인 | E41: =E21 -> 14455.6 | F41: =ROUNDDOWN(C41*E41,0) -> 14455
F42: =C42*E42 -> 0
F43: =C43*E43 -> 0
B44: 소 계 | F44: =INT(F43+F42+F41) -> 14455
A45: 경 비 | B45: 기 계 손 료 | C45: 0.2294 | E45: 16360 | F45: =ROUNDDOWN(C45*E45,1) -> 3752.9
B46: 소 계 | F46: =INT(F45) -> 3752
A49: 합 계 | F49: =INT(F46+F44+F40) -> 30342
A53: 중 기 명 : 트럭탑재형크레인(5TON)
A54: 중 기 가 격 : 41,399천원
A55: 항 목 | B55: 구 분 | C55: 수 량 | D55: 단 위 | E55: 단 가 | F55: 금 액 | G55: 비 고
A56: 재 료 비 | B56: 경 유 | C56: 5.1 | D56: ℓ | E56: =B15 -> 1124.95 | F56: =ROUNDDOWN(C56*E56,1) -> 5737.2
B57: 잡 품 | C57: 20 | D57: % | F57: =ROUNDDOWN(F56*0.2,1) -> 1147.4
B58: 소 계 | F58: =INT(F56+F57) -> 6884
A59: 노 무 비 | B59: 운전사(운반차) | C59: 1 | D59: 인 | E59: =E20 -> 16611.6 | F59: =ROUNDDOWN(C59*E59,1) -> 16611.6
F60: =C60*E60 -> 0
F61: =C61*E61 -> 0
B62: 소 계 | F62: =INT(F61+F60+F59) -> 16611
A63: 경 비 | B63: 기 계 손 료 | C63: 0.2503 | E63: 41399 | F63: =ROUNDDOWN(C63*E63,1) -> 10362.1
B64: 소 계 | F64: =INT(F63) -> 10362
A67: 합 계 | F67: =INT(F64+F62+F58) -> 33857
A69: 중 기 명 : 믹 서 (0.45㎥)
A70: 중 기 가 격 : 17,592천원 (13,990$)
A71: 항 목 | B71: 구 분 | C71: 수 량 | D71: 단 위 | E71: 단 가 | F71: 금 액 | G71: 비 고
A72: 재 료 비 | B72: 휘 발 유 | C72: 3.9 | D72: ℓ | E72: =B14 -> 1135.22 | F72: =ROUNDDOWN(C72*E72,1) -> 4427.3
B73: 잡 품 | C73: 2 | D73: % | F73: =ROUNDDOWN(F72*0.02,1) -> 88.5
B74: 소 계 | F74: =INT(F72+F73) -> 4515
A75: 노 무 비 | B75: 운전사(기 계)) | C75: 1 | D75: 인 | E75: =E21 -> 14455.6 | F75: =ROUNDDOWN(C75*E75,1) -> 14455.6
F76: =C76*E76 -> 0
F77: =C77*E77 -> 0
B78: 소 계 | F78: =INT(F77+F76+F75) -> 14455
A79: 경 비 | B79: 기 계 손 료 | C79: 0.2971 | E79: 17592 | F79: =ROUNDDOWN(C79*E79,1) -> 5226.5
B80: 소 계 | F80: =INT(F79) -> 5226
A83: 합 계 | F83: =INT(F80+F78+F74) -> 24196
A87: 중 기 명 : 디젤엔진 (52.22KW)
A88: 중 기 가 격 : 3,852천원
A89: 항 목 | B89: 구 분 | C89: 수 량 | D89: 단 위 | E89: 단 가 | F89: 금 액 | G89: 비 고
A90: 재 료 비 | B90: 경 유 | C90: 7.6 | D90: ℓ | E90: =B15 -> 1124.95 | F90: =ROUNDDOWN(C90*E90,1) -> 8549.6
B91: 잡 품 | C91: 16 | D91: % | F91: =ROUNDDOWN(F90*0.16,1) -> 1367.9
B92: 소 계 | F92: =INT(F90+F91) -> 9917
A93: 노 무 비 | F93: =ROUNDDOWN(C93*E93,1) -> 0
F94: =C94*E94 -> 0
F95: =C95*E95 -> 0
B96: 소 계 | F96: =INT(F95+F94+F93) -> 0
A97: 경 비 | B97: 기 계 손 료 | C97: 0.2731 | E97: 3852 | F97: =ROUNDDOWN(C97*E97,1) -> 1051.9
B98: 소 계 | F98: =INT(F97) -> 1051
A101: 합 계 | F101: =INT(F98+F96+F92) -> 10968
A103: 중 기 명 : 물탱크(5,500ℓ)
A104: 중 기 가 격 : 38,257천원
A105: 항 목 | B105: 구 분 | C105: 수 량 | D105: 단 위 | E105: 단 가 | F105: 금 액 | G105: 비 고
A106: 재 료 비 | B106: 경 유 | C106: 9.3 | D106: ℓ | E106: =B15 -> 1124.95 | F106: =ROUNDDOWN(C106*E106,1) -> 10462
B107: 잡 품 | C107: 30 | D107: % | F107: =ROUNDDOWN(F106*0.3,1) -> 3138.6
B108: 소 계 | F108: =INT(F106+F107) -> 13600
A109: 노 무 비 | B109: 운전사(운반차) | C109: 1 | D109: 인 | E109: =E20 -> 16611.6 | F109: =ROUNDDOWN(C109*E109,1) -> 16611.6
F110: =C110*E110 -> 0
F111: =C111*E111 -> 0
B112: 소 계 | F112: =INT(F111+F110+F109) -> 16611
A113: 경 비 | B113: 기 계 손 료 | C113: 0.2045 | E113: 38257 | F113: =ROUNDDOWN(C113*E113,1) -> 7823.5
B114: 소 계 | F114: =INT(F113) -> 7823
A117: 합 계 | F117: =INT(F114+F112+F108) -> 38034
A121: 중 기 명 : 모노펌프(5∼20㎥)
A122: 중 기 가 격 : 4,900천원
A123: 항 목 | B123: 구 분 | C123: 수 량 | D123: 단 위 | E123: 단 가 | F123: 금 액 | G123: 비 고
A124: 재 료 비 | F124: =ROUNDDOWN(C124*E124,1) -> 0
F125: =ROUNDDOWN(F124*0.2,1) -> 0
B126: 소 계 | F126: =INT(F124+F125) -> 0
A127: 노 무 비 | F127: =ROUNDDOWN(C127*E127,1) -> 0
F128: =C128*E128 -> 0
F129: =C129*E129 -> 0
B130: 소 계 | F130: =INT(F129+F128+F127) -> 0
A131: 경 비 | B131: 기 계 손 료 | C131: 0.4346 | E131: 4900 | F131: =ROUNDDOWN(C131*E131,1) -> 2129.5
B132: 소 계 | F132: =INT(F131) -> 2129
A135: 합 계 | F135: =INT(F132+F130+F126) -> 2129

Sheet 021-ASNA-중기목록
A1: 중 기 목 록
A2: 중 기 명 | B2: 규 격 | C2: 단 위 | D2: 수 량 | E2: 재 료 비 | F2: 노 무 비 | G2: 경 비 | H2: 합 계 | I2: 비 고
A3: 발 전 기 | B3: 50㎾ | C3: HR | D3: 1 | E3: ='020-ASNA-중기산출근거'!F40 -> 12135 | F3: ='020-ASNA-중기산출근거'!F44 -> 14455 | G3: ='020-ASNA-중기산출근거'!F46 -> 3752 | H3: =INT(E3+F3+G3) -> 30342
A4: 트 럭 탑 재 형 크 레 인 | B4: 5TON | C4: HR | D4: 1 | E4: ='020-ASNA-중기산출근거'!F58 -> 6884 | F4: ='020-ASNA-중기산출근거'!F62 -> 16611 | G4: ='020-ASNA-중기산출근거'!F64 -> 10362 | H4: =INT(E4+F4+G4) -> 33857
A5: 믹 서 | B5: 4.5㎥ | C5: HR | D5: 1 | E5: ='020-ASNA-중기산출근거'!F74 -> 4515 | F5: ='020-ASNA-중기산출근거'!F78 -> 14455 | G5: ='020-ASNA-중기산출근거'!F80 -> 5226 | H5: =INT(E5+F5+G5) -> 24196
A6: 디 젤 엔 진 | B6: 70HP | C6: HR | D6: 1 | E6: ='020-ASNA-중기산출근거'!F92 -> 9917 | G6: ='020-ASNA-중기산출근거'!F98 -> 1051 | H6: =INT(E6+F6+G6) -> 10968
A7: 물 탱 크 | B7: 5,500ℓ | C7: HR | D7: 1 | E7: ='020-ASNA-중기산출근거'!F108 -> 13600 | F7: ='020-ASNA-중기산출근거'!F112 -> 16611 | G7: ='020-ASNA-중기산출근거'!F114 -> 7823 | H7: =INT(E7+F7+G7) -> 38034
A8: 모 노 펌 프 | B8: 5∼20㎥ | C8: HR | D8: 1 | G8: ='020-ASNA-중기산출근거'!F132 -> 2129 | H8: =INT(E8+F8+G8) -> 2129

Sheet SF-표지
A7: 자연표토복원공법(SF)

Sheet 022-SF-SEED~철망5CM
A1: 공 종 | B1: 규 격 | C1: 수 량 | D1: 단위 | E1: 재 료 비 | G1: 노 무 비 | I1: 경 비 | K1: 합 계
E2: 단 가 | F2: 금 액 | G2: 단 가 | H2: 금 액 | I2: 단 가 | J2: 금 액 | K2: 금 액
A3: 생태숲복원공 ( SEED형 ) - 10 M2 당 -
A4: 녹화기반토양 | B4: 생태숲복원용 | C4: 55 | D4: L | E4: ='8.0자재단가'!I62 -> 840 | F4: =INT(E4*C4) -> 46200 | H4: =INT(G4*C4) -> 0 | J4: =INT(I4*C4) -> 0 | K4: =+J4+H4+F4 -> 46200
A5: 입단형성제 | B5: 표토구조형성 | C5: 10 | D5: G | E5: ='8.0자재단가'!I63 -> 40 | F5: =INT(E5*C5) -> 400 | H5: =INT(G5*C5) -> 0 | J5: =INT(I5*C5) -> 0 | K5: =+J5+H5+F5 -> 400
A6: 종자(표준형) | B6: 생태복원용 | C6: 0.2 | D6: KG | E6: ='8.0자재단가'!I64 -> 170000 | F6: =INT(E6*C6) -> 34000 | H6: =INT(G6*C6) -> 0 | J6: =INT(I6*C6) -> 0 | K6: =+J6+H6+F6 -> 34000
A7: 작업반장 | C7: 0.019 | D7: 인 | F7: =INT(E7*C7) -> 0 | G7: ='11.0시중노임'!F4 -> 92218 | H7: =INT(G7*C7) -> 1752 | J7: =INT(I7*C7) -> 0 | K7: =+J7+H7+F7 -> 1752
A8: 특별인부 | C8: 0.037 | D8: 인 | F8: =INT(E8*C8) -> 0 | G8: ='11.0시중노임'!F5 -> 84404 | H8: =INT(G8*C8) -> 3122 | J8: =INT(I8*C8) -> 0 | K8: =+J8+H8+F8 -> 3122
A9: 보통인부 | C9: 0.123 | D9: 인 | F9: =INT(E9*C9) -> 0 | G9: ='11.0시중노임'!F6 -> 68965 | H9: =INT(G9*C9) -> 8482 | J9: =INT(I9*C9) -> 0 | K9: =+J9+H9+F9 -> 8482
A10: 취부기 | B10: 4.3 M3 | C10: 0.072 | D10: HR | E10: ='9.0중기목록'!F50 -> 8332 | F10: =INT(E10*C10) -> 599 | G10: ='9.0중기목록'!E50 -> 14915 | H10: =INT(G10*C10) -> 1073 | I10: ='9.0중기목록'!G50 -> 63069 | J10: =INT(I10*C10) -> 4540 | K10: =+J10+H10+F10 -> 6212
A11: 트럭크레인 | B11: 5 TON | C11: 0.072 | D11: HR | E11: ='9.0중기목록'!F12 -> 6640 | F11: =INT(E11*C11) -> 478 | G11: ='9.0중기목록'!E12 -> 17696 | H11: =INT(G11*C11) -> 1274 | I11: ='9.0중기목록'!G12 -> 10362 | J11: =INT(I11*C11) -> 746 | K11: =+J11+H11+F11 -> 2498
A12: 덤프트럭 | B12: 6 TON | C12: 0.072 | D12: HR | E12: ='9.0중기목록'!F16 -> 11978 | F12: =INT(E12*C12) -> 862 | G12: ='9.0중기목록'!E16 -> 17696 | H12: =INT(G12*C12) -> 1274 | I12: ='9.0중기목록'!G16 -> 6117 | J12: =INT(I12*C12) -> 440 | K12: =+J12+H12+F12 -> 2576
A13: 물탱크 | B13: 5,500 L | C13: 0.362 | D13: HR | E13: ='9.0중기목록'!F14 -> 13117 | F13: =INT(E13*C13) -> 4748 | G13: ='9.0중기목록'!E14 -> 17696 | H13: =INT(G13*C13) -> 6405 | I13: ='9.0중기목록'!G14 -> 7823 | J13: =INT(I13*C13) -> 2831 | K13: =+J13+H13+F13 -> 13984
A14: 자흡식 펌프 | B14: 100 MM | C14: 0.072 | D14: HR | F14: =INT(E14*C14) -> 0 | H14: =INT(G14*C14) -> 0 | I14: ='9.0중기목록'!G52 -> 77 | J14: =INT(I14*C14) -> 5 | K14: =+J14+H14+F14 -> 5
A15: 잡재료비 | B15: 재료비의 3% | C15: 1 | D15: 식 | F15: =INT(SUM(F4:F14)*0.03) -> 2618 | K15: =+J15+H15+F15 -> 2618
A16: 기구손료 | B16: 노무비의 2% | C16: 1 | D16: 식 | F16: =INT(H7+H8+H9+H10+H11+H12+H13+H14)*0.02 -> 467.64 | K16: =+J16+H16+F16 -> 467.64
A17: 소계 | F17: =SUM(F4:F16) -> 90372.64 | H17: =SUM(H4:H16) -> 23382 | J17: =SUM(J4:J16) -> 8562 | K17: =SUM(K4:K16) -> 122316.64
A18: =INT(K17/10) -> 12231
A20: 생태숲복원공 (THK - 1 CM + 천연섬유망설치) - 10 M2 당 -
A21: 녹화기반토양 | B21: 생태숲복원용 | C21: 110 | D21: L | E21: ='8.0자재단가'!I62 -> 840 | F21: =INT(E21*C21) -> 92400 | H21: =INT(G21*C21) -> 0 | J21: =INT(I21*C21) -> 0 | K21: =+J21+H21+F21 -> 92400
A22: 입단형성제 | B22: 표토구조형성 | C22: 20 | D22: G | E22: ='8.0자재단가'!I63 -> 40 | F22: =INT(E22*C22) -> 800 | H22: =INT(G22*C22) -> 0 | J22: =INT(I22*C22) -> 0 | K22: =+J22+H22+F22 -> 800
A23: 종자(표준형) | B23: 생태복원용 | C23: 0.2 | D23: KG | E23: ='8.0자재단가'!I64 -> 170000 | F23: =INT(E23*C23) -> 34000 | H23: =INT(G23*C23) -> 0 | J23: =INT(I23*C23) -> 0 | K23: =+J23+H23+F23 -> 34000
A24: 작업반장 | C24: 0.025 | D24: 인 | F24: =INT(E24*C24) -> 0 | G24: =G7 -> 92218 | H24: =INT(G24*C24) -> 2305 | J24: =INT(I24*C24) -> 0 | K24: =+J24+H24+F24 -> 2305
A25: 특별인부 | C25: 0.049 | D25: 인 | F25: =INT(E25*C25) -> 0 | G25: =G8 -> 84404 | H25: =INT(G25*C25) -> 4135 | J25: =INT(I25*C25) -> 0 | K25: =+J25+H25+F25 -> 4135
A26: 보통인부 | C26: 0.145 | D26: 인 | F26: =INT(E26*C26) -> 0 | G26: =G9 -> 68965 | H26: =INT(G26*C26) -> 9999 | J26: =INT(I26*C26) -> 0 | K26: =+J26+H26+F26 -> 9999
A27: 취부기 | B27: 4.3 M3 | C27: 0.147 | D27: HR | E27: =E10 -> 8332 | F27: =INT(E27*C27) -> 1224 | G27: =G10 -> 14915 | H27: =INT(G27*C27) -> 2192 | I27: =I10 -> 63069 | J27: =INT(I27*C27) -> 9271 | K27: =+J27+H27+F27 -> 12687
A28: 트럭크레인 | B28: 5 TON | C28: 0.147 | D28: HR | E28: =E11 -> 6640 | F28: =INT(E28*C28) -> 976 | G28: =G11 -> 17696 | H28: =INT(G28*C28) -> 2601 | I28: =I11 -> 10362 | J28: =INT(I28*C28) -> 1523 | K28: =+J28+H28+F28 -> 5100
A29: 덤프트럭 | B29: 6 TON | C29: 0.147 | D29: HR | E29: =E12 -> 11978 | F29: =INT(E29*C29) -> 1760 | G29: =G12 -> 17696 | H29: =INT(G29*C29) -> 2601 | I29: =I12 -> 6117 | J29: =INT(I29*C29) -> 899 | K29: =+J29+H29+F29 -> 5260
A30: 물탱크 | B30: 5,500 L | C30: 0.432 | D30: HR | E30: =E13 -> 13117 | F30: =INT(E30*C30) -> 5666 | G30: =G13 -> 17696 | H30: =INT(G30*C30) -> 7644 | I30: =I13 -> 7823 | J30: =INT(I30*C30) -> 3379 | K30: =+J30+H30+F30 -> 16689
A31: 자흡식 펌프 | B31: 100 MM | C31: 0.147 | D31: HR | F31: =INT(E31*C31) -> 0 | H31: =INT(G31*C31) -> 0 | I31: =I14 -> 77 | J31: =INT(I31*C31) -> 11 | K31: =+J31+H31+F31 -> 11
A32: 잡재료비 | B32: 재료비의 3% | C32: 1 | D32: 식 | F32: =INT(SUM(F21:F31)*0.03) -> 4104 | K32: =$F$32 -> 4104
A33: 기구손료 | B33: 노무비의 2% | C33: 1 | D33: 식 | F33: 481 | K33: =F33+H33+J33 -> 481
A34: 섬유망설치 | B34: φ1X100X100 | C34: 1 | D34: 식 | F34: 10918 | H34: 17079 | J34: 0 | K34: =+J34+H34+F34 -> 27997
A35: 소계 | F35: =SUM(F21:F34) -> 152329 | H35: =SUM(H21:H34) -> 48556 | J35: =SUM(J21:J34) -> 15083 | K35: =SUM(K21:K34) -> 215968
A36: =INT(K35/10) -> 21596
A38: 생태숲복원공 (THK - 2 CM + 천연섬유망설치) - 10 M2 당 -
A39: 녹화기반토양 | B39: 생태숲복원용 | C39: 220 | D39: L | E39: ='8.0자재단가'!I62 -> 840 | F39: =INT(E39*C39) -> 184800 | H39: =INT(G39*C39) -> 0 | J39: =INT(I39*C39) -> 0 | K39: =+J39+H39+F39 -> 184800
A40: 입단형성제 | B40: 표토구조형성 | C40: 40 | D40: G | E40: ='8.0자재단가'!I63 -> 40 | F40: =INT(E40*C40) -> 1600 | H40: =INT(G40*C40) -> 0 | J40: =INT(I40*C40) -> 0 | K40: =+J40+H40+F40 -> 1600
A41: 종자(표준형) | B41: 생태복원용 | C41: 0.2 | D41: KG | E41: ='8.0자재단가'!I64 -> 170000 | F41: =INT(E41*C41) -> 34000 | H41: =INT(G41*C41) -> 0 | J41: =INT(I41*C41) -> 0 | K41: =+J41+H41+F41 -> 34000
A42: 작업반장 | C42: 0.034 | D42: 인 | F42: =INT(E42*C42) -> 0 | G42: =G24 -> 92218 | H42: =INT(G42*C42) -> 3135 | J42: =INT(I42*C42) -> 0 | K42: =+J42+H42+F42 -> 3135
A43: 특별인부 | C43: 0.067 | D43: 인 | F43: =INT(E43*C43) -> 0 | G43: =G25 -> 84404 | H43: =INT(G43*C43) -> 5655 | J43: =INT(I43*C43) -> 0 | K43: =+J43+H43+F43 -> 5655
A44: 보통인부 | C44: 0.178 | D44: 인 | F44: =INT(E44*C44) -> 0 | G44: =G26 -> 68965 | H44: =INT(G44*C44) -> 12275 | J44: =INT(I44*C44) -> 0 | K44: =+J44+H44+F44 -> 12275
A45: 취부기 | B45: 4.3 M3 | C45: 0.203 | D45: HR | E45: =E27 -> 8332 | F45: =INT(E45*C45) -> 1691 | G45: =G27 -> 14915 | H45: =INT(G45*C45) -> 3027 | I45: =I27 -> 63069 | J45: =INT(I45*C45) -> 12803 | K45: =+J45+H45+F45 -> 17521
A46: 트럭크레인 | B46: 5 TON | C46: 0.203 | D46: HR | E46: =E28 -> 6640 | F46: =INT(E46*C46) -> 1347 | G46: =G28 -> 17696 | H46: =INT(G46*C46) -> 3592 | I46: =I28 -> 10362 | J46: =INT(I46*C46) -> 2103 | K46: =+J46+H46+F46 -> 7042
A47: 덤프트럭 | B47: 6 TON | C47: 0.203 | D47: HR | E47: =E29 -> 11978 | F47: =INT(E47*C47) -> 2431 | G47: =G29 -> 17696 | H47: =INT(G47*C47) -> 3592 | I47: =I29 -> 6117 | J47: =INT(I47*C47) -> 1241 | K47: =+J47+H47+F47 -> 7264
A48: 물탱크 | B48: 5,500 L | C48: 0.485 | D48: HR | E48: =E30 -> 13117 | F48: =INT(E48*C48) -> 6361 | G48: =G30 -> 17696 | H48: =INT(G48*C48) -> 8582 | I48: =I30 -> 7823 | J48: =INT(I48*C48) -> 3794 | K48: =+J48+H48+F48 -> 18737
A49: 자흡식 펌프 | B49: 100 MM | C49: 0.203 | D49: HR | F49: =INT(E49*C49) -> 0 | H49: =INT(G49*C49) -> 0 | I49: =I31 -> 77 | J49: =INT(I49*C49) -> 15 | K49: =+J49+H49+F49 -> 15
A50: 잡재료비 | B50: 재료비의 3% | C50: 1 | D50: 식 | F50: =INT(SUM(F39:F49)*0.03) -> 6966 | K50: =+J50+H50+F50 -> 6966
A51: 기구손료 | B51: 노무비의 2% | C51: 1 | D51: 식 | F51: 609 | K51: =+J51+H51+F51 -> 609
A52: 섬유망설치 | B52: φ1X100X100 | C52: 1 | D52: 식 | F52: 10918 | H52: 17079 | J52: 0 | K52: =+J52+H52+F52 -> 27997
A53: 소계 | F53: =SUM(F39:F52) -> 250723 | H53: =SUM(H39:H52) -> 56937 | J53: =SUM(J39:J52) -> 19956 | K53: =+J53+H53+F53 -> 327616
A54: =INT(K53/10) -> 32761
A56: 생태숲복원공 (THK - 3 CM + 철망설치) - 10 M2 당 -
A57: 녹화기반토양 | B57: 생태숲복원용 | C57: 330 | D57: L | E57: ='8.0자재단가'!I62 -> 840 | F57: =INT(E57*C57) -> 277200 | H57: =INT(G57*C57) -> 0 | J57: =INT(I57*C57) -> 0 | K57: =+J57+H57+F57 -> 277200
A58: 입단형성제 | B58: 표토구조형성 | C58: 60 | D58: G | E58: ='8.0자재단가'!I63 -> 40 | F58: =INT(E58*C58) -> 2400 | H58: =INT(G58*C58) -> 0 | J58: =INT(I58*C58) -> 0 | K58: =+J58+H58+F58 -> 2400
A59: 종자(표준형) | B59: 생태복원용 | C59: 0.2 | D59: KG | E59: ='8.0자재단가'!I64 -> 170000 | F59: =INT(E59*C59) -> 34000 | H59: =INT(G59*C59) -> 0 | J59: =INT(I59*C59) -> 0 | K59: =+J59+H59+F59 -> 34000
A60: 작업반장 | C60: 0.046 | D60: 인 | F60: =INT(E60*C60) -> 0 | G60: =G42 -> 92218 | H60: =INT(G60*C60) -> 4242 | J60: =INT(I60*C60) -> 0 | K60: =+J60+H60+F60 -> 4242
A61: 특별인부 | C61: 0.091 | D61: 인 | F61: =INT(E61*C61) -> 0 | G61: =G43 -> 84404 | H61: =INT(G61*C61) -> 7680 | J61: =INT(I61*C61) -> 0 | K61: =+J61+H61+F61 -> 7680
A62: 보통인부 | C62: 0.223 | D62: 인 | F62: =INT(E62*C62) -> 0 | G62: =G44 -> 68965 | H62: =INT(G62*C62) -> 15379 | J62: =INT(I62*C62) -> 0 | K62: =+J62+H62+F62 -> 15379
A63: 취부기 | B63: 4.3 M3 | C63: 0.277 | D63: HR | E63: =E45 -> 8332 | F63: =INT(E63*C63) -> 2307 | G63: =G45 -> 14915 | H63: =INT(G63*C63) -> 4131 | I63: =I45 -> 63069 | J63: =INT(I63*C63) -> 17470 | K63: =+J63+H63+F63 -> 23908
A64: 트럭크레인 | B64: 5 TON | C64: 0.277 | D64: HR | E64: =E46 -> 6640 | F64: =INT(E64*C64) -> 1839 | G64: =G46 -> 17696 | H64: =INT(G64*C64) -> 4901 | I64: =I46 -> 10362 | J64: =INT(I64*C64) -> 2870 | K64: =+J64+H64+F64 -> 9610
A65: 덤프트럭 | B65: 6 TON | C65: 0.277 | D65: HR | E65: =E47 -> 11978 | F65: =INT(E65*C65) -> 3317 | G65: =G47 -> 17696 | H65: =INT(G65*C65) -> 4901 | I65: =I47 -> 6117 | J65: =INT(I65*C65) -> 1694 | K65: =+J65+H65+F65 -> 9912
A66: 물탱크 | B66: 5,500 L | C66: 0.554 | D66: HR | E66: =E48 -> 13117 | F66: =INT(E66*C66) -> 7266 | G66: =G48 -> 17696 | H66: =INT(G66*C66) -> 9803 | I66: =I48 -> 7823 | J66: =INT(I66*C66) -> 4333 | K66: =+J66+H66+F66 -> 21402
A67: 자흡식 펌프 | B67: 100 MM | C67: 0.277 | D67: HR | F67: =INT(E67*C67) -> 0 | H67: =INT(G67*C67) -> 0 | I67: 77 | J67: =INT(I67*C67) -> 21 | K67: =+J67+H67+F67 -> 21
A68: 잡재료비 | B68: 재료비의 3% | C68: 1 | D68: 식 | F68: =INT(SUM(F57:F67)*0.03) -> 9849 | K68: =+J68+H68+F68 -> 9849
A69: 기구손료 | B69: 노무비의 2% | C69: 1 | D69: 식 | F69: 781 | K69: =+J69+H69+F69 -> 781
A70: 철망설치 | B70: #10-58x58 | C70: 1 | D70: 식 | F70: 36754 | H70: 52230 | J70: 888 | K70: =+J70+H70+F70 -> 89872
A71: 소계 | F71: =SUM(F57:F70) -> 375713 | H71: =SUM(H57:H70) -> 103267 | J71: =SUM(J57:J70) -> 27276 | K71: =+J71+H71+F71 -> 506256
A72: =INT(K71/10) -> 50625
A74: 생태숲복원공 (THK - 5 CM + 철망설치) - 10 M2 당 -
A75: 녹화기반토양 | B75: 생태숲복원용 | C75: 550 | D75: L | E75: ='8.0자재단가'!I62 -> 840 | F75: =INT(E75*C75) -> 462000 | H75: =INT(G75*C75) -> 0 | J75: =INT(I75*C75) -> 0 | K75: =+J75+H75+F75 -> 462000
A76: 입단형성제 | B76: 표토구조형성 | C76: 100 | D76: G | E76: ='8.0자재단가'!I63 -> 40 | F76: =INT(E76*C76) -> 4000 | H76: =INT(G76*C76) -> 0 | J76: =INT(I76*C76) -> 0 | K76: =+J76+H76+F76 -> 4000
A77: 종자(표준형) | B77: 생태복원용 | C77: 0.2 | D77: KG | E77: ='8.0자재단가'!I64 -> 170000 | F77: =INT(E77*C77) -> 34000 | H77: =INT(G77*C77) -> 0 | J77: =INT(I77*C77) -> 0 | K77: =+J77+H77+F77 -> 34000
A78: 작업반장 | C78: 0.076 | D78: 인 | F78: =INT(E78*C78) -> 0 | G78: =G60 -> 92218 | H78: =INT(G78*C78) -> 7008 | J78: =INT(I78*C78) -> 0 | K78: =+J78+H78+F78 -> 7008
A79: 특별인부 | C79: 0.151 | D79: 인 | F79: =INT(E79*C79) -> 0 | G79: =G61 -> 84404 | H79: =INT(G79*C79) -> 12745 | J79: =INT(I79*C79) -> 0 | K79: =+J79+H79+F79 -> 12745
A80: 보통인부 | C80: 0.335 | D80: 인 | F80: =INT(E80*C80) -> 0 | G80: =G62 -> 68965 | H80: =INT(G80*C80) -> 23103 | J80: =INT(I80*C80) -> 0 | K80: =+J80+H80+F80 -> 23103
A81: 취부기 | B81: 4.3 M3 | C81: 0.461 | D81: HR | E81: =E63 -> 8332 | F81: =INT(E81*C81) -> 3841 | G81: =G63 -> 14915 | H81: =INT(G81*C81) -> 6875 | I81: =I63 -> 63069 | J81: =INT(I81*C81) -> 29074 | K81: =+J81+H81+F81 -> 39790
A82: 트럭크레인 | B82: 5 TON | C82: 0.461 | D82: HR | E82: =E64 -> 6640 | F82: =INT(E82*C82) -> 3061 | G82: =G64 -> 17696 | H82: =INT(G82*C82) -> 8157 | I82: =I64 -> 10362 | J82: =INT(I82*C82) -> 4776 | K82: =+J82+H82+F82 -> 15994
A83: 덤프트럭 | B83: 6 TON | C83: 0.461 | D83: HR | E83: =E65 -> 11978 | F83: =INT(E83*C83) -> 5521 | G83: =G65 -> 17696 | H83: =INT(G83*C83) -> 8157 | I83: =I65 -> 6117 | J83: =INT(I83*C83) -> 2819 | K83: =+J83+H83+F83 -> 16497
A84: 물탱크 | B84: 5,500 L | C84: 0.728 | D84: HR | E84: =E66 -> 13117 | F84: =INT(E84*C84) -> 9549 | G84: =G66 -> 17696 | H84: =INT(G84*C84) -> 12882 | I84: =I66 -> 7823 | J84: =INT(I84*C84) -> 5695 | K84: =+J84+H84+F84 -> 28126
A85: 자흡식 펌프 | B85: 100 MM | C85: 0.461 | D85: HR | F85: =INT(E85*C85) -> 0 | H85: =INT(G85*C85) -> 0 | I85: =I67 -> 77 | J85: =INT(I85*C85) -> 35 | K85: =+J85+H85+F85 -> 35
A86: 잡재료비 | B86: 재료비의 3% | C86: 1 | D86: 식 | F86: =INT(SUM(F75:F85)*0.03) -> 15659 | K86: =+J86+H86+F86 -> 15659
A87: 기구손료 | B87: 노무비의 2% | C87: 1 | D87: 식 | F87: 1210 | K87: =+J87+H87+F87 -> 1210
A88: 철망설치 | B88: #10-58x58 | C88: 1 | D88: 식 | F88: 36754 | H88: 52230 | J88: 888 | K88: =+J88+H88+F88 -> 89872
A89: 소계 | F89: =SUM(F75:F88) -> 575595 | H89: =SUM(H75:H88) -> 131157 | J89: =SUM(J75:J88) -> 43287 | K89: =+J89+H89+F89 -> 750039
A90: =INT(K89/10) -> 75003

Sheet NGR-표지
A7: 자생식물녹화공법(NGR)

Sheet 027-NGR-코아네트SEED형
A1: NGR 코아네트 Seed
K2: [단위 : m2 당]
A3: 명칭 | B3: 규격 | C3: 수량 | D3: 단위 | E3: 합계 | F3: 재료비 | H3: 노무비 | J3: 경비
F4: 단가 | G4: 금액 | H4: 단가 | I4: 금액 | J4: 단가 | K4: 금액
A5: 1.코아네트망설치
A6: 코아네트 | B6: 코아넷(20x20) | C6: 1.2 | D6: M2 | E6: =G6+I6+K6 -> 1560 | F6: ='8.0자재단가'!$I$60 -> 1300 | G6: =INT(C6*F6) -> 1560
A7: 고정핀 | B7: L-200 | C7: 0.5 | D7: EA | E7: =G7+I7+K7 -> 150 | F7: ='8.0자재단가'!$I$61 -> 300 | G7: =INT(C7*F7) -> 150
A8: 작업반장 | C8: 0.002 | D8: 인 | E8: =G8+I8+K8 -> 184 | H8: ='11.0시중노임'!$F$4 -> 92218 | I8: =INT(C8*H8) -> 184
A9: 특별인부 | C9: 0.01 | D9: 인 | E9: =G9+I9+K9 -> 844 | H9: ='11.0시중노임'!$F$5 -> 84404 | I9: =INT(C9*H9) -> 844
A10: 보통인부 | C10: 0.02 | D10: 인 | E10: =G10+I10+K10 -> 1379 | H10: ='11.0시중노임'!$F$6 -> 68965 | I10: =INT(C10*H10) -> 1379
A11: 잡재료비 | B11: 제료비의 % | C11: 3 | D11: % | E11: =G11+I11+K11 -> 51.3 | F11: =SUM(G6:G7) -> 1710 | G11: =F11*C11/100 -> 51.3
A12: 소 계 | E12: =SUM(E6:E11) -> 4168.3 | G12: =SUM(G6:G11) -> 1761.3 | I12: =SUM(I6:I11) -> 2407
A13: 4. 취 부 공
A14: NGR Seed | B14: 10종이상 | C14: 0.025 | D14: KG | E14: =G14+I14+K14 -> 3000 | F14: ='8.0자재단가'!I48 -> 120000 | G14: =INT(C14*F14) -> 3000
A15: NGR Spring | B15: Seed대체 | C15: 0.25 | D15: KG | E15: =G15+I15+K15 -> 0 | F15: ='8.0자재단가'!I49 -> 12000 | G15: 0
A16: 식생기반재 | B16: NGR soil-20 | C16: 1 | D16: L | E16: =G16+I16+K16 -> 740 | F16: ='8.0자재단가'!I56 -> 740 | G16: =INT(C16*F16) -> 740
A17: 식생보조재 | B17: NGR soilplus | C17: 0.02 | D17: L | E17: =G17+I17+K17 -> 320 | F17: ='8.0자재단가'!$I$58 -> 16000 | G17: =INT(C17*F17) -> 320
A18: 물 탱 크 | B18: 5,500L | C18: 0.003 | D18: HR | E18: =G18+I18+K18 -> 115 | F18: ='9.0중기목록'!$F$14 -> 13117 | G18: =INT(C18*F18) -> 39 | H18: ='9.0중기목록'!$E$14 -> 17696 | I18: =INT(C18*H18) -> 53 | J18: ='9.0중기목록'!$G$14 -> 7823 | K18: =INT(C18*J18) -> 23
A19: 믹스및취부기 | B19: MnS2 | C19: 0.003 | D19: HR | E19: =G19+I19+K19 -> 126 | F19: ='9.0중기목록'!F48 -> 10217 | G19: =INT(C19*F19) -> 30 | H19: ='9.0중기목록'!E48 -> 16611 | I19: =INT(C19*H19) -> 49 | J19: ='9.0중기목록'!G48 -> 15971 | K19: =INT(C19*J19) -> 47
A20: 작업반장 | C20: 0.001 | D20: 인 | E20: =G20+I20+K20 -> 92 | H20: ='11.0시중노임'!$F$4 -> 92218 | I20: =INT(C20*H20) -> 92
A21: 특별인부 | C21: 0.002 | D21: 인 | E21: =G21+I21+K21 -> 168 | H21: ='11.0시중노임'!$F$5 -> 84404 | I21: =INT(C21*H21) -> 168
A22: 기 계 공 | C22: 0.001 | D22: 인 | E22: =G22+I22+K22 -> 86 | H22: ='11.0시중노임'!$F$12 -> 86521 | I22: =INT(C22*H22) -> 86
A23: 보통인부 | C23: 0.004 | D23: 인 | E23: =G23+I23+K23 -> 275 | H23: ='11.0시중노임'!$F$6 -> 68965 | I23: =INT(C23*H23) -> 275
A24: 계 | E24: =G24+I24+K24 -> 4922 | G24: =SUM(G14:G23) -> 4129 | I24: =SUM(I14:I23) -> 723 | K24: =SUM(K14:K23) -> 70
A39: 총 계 | E39: =E24+E12 -> 9090.3 | G39: =G24+G12 -> 5890.3 | I39: =I24+I12 -> 3130 | K39: =K24+K12 -> 70
A40: NGR 천연섬유망 1T
K41: [단위 : m2 당]
A42: 명칭 | B42: 규격 | C42: 수량 | D42: 단위 | E42: 합계 | F42: 재료비 | H42: 노무비 | J42: 경비
F43: 단가 | G43: 금액 | H43: 단가 | I43: 금액 | J43: 단가 | K43: 금액
A44: 1.천연섬유망설치
A45: 식생네트 | B45: 천연넷(20x20) | C45: 1.2 | D45: M2 | E45: =G45+I45+K45 -> 600 | F45: ='8.0자재단가'!$I$59 -> 500 | G45: =INT(C45*F45) -> 600
A46: 고정핀 | B46: L-200 | C46: 0.5 | D46: EA | E46: =G46+I46+K46 -> 150 | F46: ='8.0자재단가'!$I$61 -> 300 | G46: =INT(C46*F46) -> 150
A47: 작업반장 | C47: 0.002 | D47: 인 | E47: =G47+I47+K47 -> 184 | H47: ='11.0시중노임'!$F$4 -> 92218 | I47: =INT(C47*H47) -> 184
A48: 특별인부 | C48: 0.01 | D48: 인 | E48: =G48+I48+K48 -> 844 | H48: ='11.0시중노임'!$F$5 -> 84404 | I48: =INT(C48*H48) -> 844
A49: 보통인부 | C49: 0.02 | D49: 인 | E49: =G49+I49+K49 -> 1379 | H49: ='11.0시중노임'!$F$6 -> 68965 | I49: =INT(C49*H49) -> 1379
A50: 잡재료비 | B50: 제료비의 % | C50: 3 | D50: % | E50: =G50+I50+K50 -> 22.5 | F50: =SUM(G45:G46) -> 750 | G50: =F50*C50/100 -> 22.5
A51: 소 계 | E51: =SUM(E45:E50) -> 3179.5 | G51: =SUM(G45:G50) -> 772.5 | I51: =SUM(I45:I50) -> 2407
A52: 4. 취 부 공
A53: NGR Seed | B53: 10종이상 | C53: 0.03 | D53: KG | E53: =G53+I53+K53 -> 3600 | F53: ='8.0자재단가'!I48 -> 120000 | G53: =INT(C53*F53) -> 3600
A54: NGR Spring | B54: Seed대체 | C54: 0.3 | D54: KG | E54: =G54+I54+K54 -> 0 | F54: ='8.0자재단가'!I49 -> 12000 | G54: 0
A55: NGR Pot | B55: 선택사양 | D55: 본 | E55: =G55+I55+K55 -> 0 | F55: ='8.0자재단가'!$I$50 -> 1500 | G55: 0
A56: 식생기반재 | B56: NGR soil-20 | C56: 10 | D56: L | E56: =G56+I56+K56 -> 7400 | F56: ='8.0자재단가'!I55 -> 740 | G56: =INT(C56*F56) -> 7400
A57: 식생보조재 | B57: NGR soilplus | C57: 0.2 | D57: L | E57: =G57+I57+K57 -> 3200 | F57: ='8.0자재단가'!$I$57 -> 16000 | G57: =INT(C57*F57) -> 3200
A58: 물 탱 크 | B58: 5,500L | C58: 0.008 | D58: HR | E58: =G58+I58+K58 -> 307 | F58: ='9.0중기목록'!$F$14 -> 13117 | G58: =INT(C58*F58) -> 104 | H58: ='9.0중기목록'!$E$14 -> 17696 | I58: =INT(C58*H58) -> 141 | J58: ='9.0중기목록'!$G$14 -> 7823 | K58: =INT(C58*J58) -> 62
A59: 덤프트럭 | B59: 8.0 TON | C59: =C58 -> 0.008 | D59: HR | E59: =G59+I59+K59 -> 371 | F59: ='9.0중기목록'!$F$38 -> 19373 | G59: =INT(C59*F59) -> 154 | H59: ='9.0중기목록'!$E$38 -> 17696 | I59: =INT(C59*H59) -> 141 | J59: ='9.0중기목록'!$G$38 -> 9529 | K59: =INT(C59*J59) -> 76
A60: 트러탑재크레인 | B60: 5.0 TON | C60: =C59 -> 0.008 | D60: HR | E60: =G60+I60+K60 -> 276 | F60: ='9.0중기목록'!$F$12 -> 6640 | G60: =INT(C60*F60) -> 53 | H60: ='9.0중기목록'!$E$12 -> 17696 | I60: =INT(C60*H60) -> 141 | J60: ='9.0중기목록'!$G$12 -> 10362 | K60: =INT(C60*J60) -> 82
A61: 믹스및취부기 | B61: MnS2 | C61: =C60 -> 0.008 | D61: HR | E61: =G61+I61+K61 -> 340 | F61: =F19 -> 10217 | G61: =INT(C61*F61) -> 81 | H61: =H19 -> 16611 | I61: =INT(C61*H61) -> 132 | J61: =J19 -> 15971 | K61: =INT(C61*J61) -> 127
A62: 작업반장 | C62: 0.003 | D62: 인 | E62: =G62+I62+K62 -> 276 | H62: ='11.0시중노임'!$F$4 -> 92218 | I62: =INT(C62*H62) -> 276
A63: 특별인부 | C63: 0.006 | D63: 인 | E63: =G63+I63+K63 -> 506 | H63: ='11.0시중노임'!$F$5 -> 84404 | I63: =INT(C63*H63) -> 506
A64: 기 계 공 | C64: 0.003 | D64: 인 | E64: =G64+I64+K64 -> 259 | H64: ='11.0시중노임'!$F$12 -> 86521 | I64: =INT(C64*H64) -> 259
A65: 보통인부 | C65: 0.012 | D65: 인 | E65: =G65+I65+K65 -> 827 | H65: ='11.0시중노임'!$F$6 -> 68965 | I65: =INT(C65*H65) -> 827
A66: 잡재료비 | B66: 제료비의 % | C66: 3 | D66: % | E66: =G66+I66+K66 -> 437.76 | F66: =SUM(G53:G61) -> 14592 | G66: =F66*C66/100 -> 437.76
A67: 기구손료 | B67: 인건비의 % | C67: 3 | D67: % | E67: =G67+I67+K67 -> 72.69 | H67: =SUM(I58:I65) -> 2423 | I67: =H67*C67/100 -> 72.69
A68: 계 | E68: =G68+I68+K68 -> 17872.45 | G68: =SUM(G53:G67) -> 15029.76 | I68: =SUM(I53:I67) -> 2495.69 | K68: =SUM(K53:K67) -> 347
A82: 총 계 | E82: =E68+E51 -> 21051.95 | G82: =G68+G51 -> 15802.26 | I82: =I68+I51 -> 4902.69 | K82: =K68+K51 -> 347
A83: NGR 천연섬유망 2T
K84: [단위 : m2 당]
A85: 명칭 | B85: 규격 | C85: 수량 | D85: 단위 | E85: 합계 | F85: 재료비 | H85: 노무비 | J85: 경비
F86: 단가 | G86: 금액 | H86: 단가 | I86: 금액 | J86: 단가 | K86: 금액
A87: 1.천연섬유망설치
A88: 식생네트 | B88: 천연면네트(20x20) | C88: 1.2 | D88: M2 | E88: =G88+I88+K88 -> 600 | F88: ='8.0자재단가'!$I$59 -> 500 | G88: =INT(C88*F88) -> 600
A89: 고정핀 | B89: L-200 | C89: 0.5 | D89: EA | E89: =G89+I89+K89 -> 150 | F89: ='8.0자재단가'!$I$61 -> 300 | G89: =INT(C89*F89) -> 150
A90: 작업반장 | C90: 0.002 | D90: 인 | E90: =G90+I90+K90 -> 184 | H90: ='11.0시중노임'!$F$4 -> 92218 | I90: =INT(C90*H90) -> 184
A91: 특별인부 | C91: 0.01 | D91: 인 | E91: =G91+I91+K91 -> 844 | H91: ='11.0시중노임'!$F$5 -> 84404 | I91: =INT(C91*H91) -> 844
A92: 보통인부 | C92: 0.02 | D92: 인 | E92: =G92+I92+K92 -> 1379 | H92: ='11.0시중노임'!$F$6 -> 68965 | I92: =INT(C92*H92) -> 1379
A93: 잡재료비 | B93: 제료비의 % | C93: 3 | D93: % | E93: =G93+I93+K93 -> 22.5 | F93: =SUM(G88:G89) -> 750 | G93: =F93*C93/100 -> 22.5
A94: 소 계 | E94: =SUM(E88:E93) -> 3179.5 | G94: =SUM(G88:G93) -> 772.5 | I94: =SUM(I88:I93) -> 2407
A95: 4. 취 부 공
A96: NGR Seed | B96: 10종이상 | C96: 0.04 | D96: KG | E96: =G96+I96+K96 -> 4800 | F96: ='8.0자재단가'!I48 -> 120000 | G96: =INT(C96*F96) -> 4800
A97: NGR Spring | B97: Seed대체 | C97: 0.4 | D97: KG | E97: =G97+I97+K97 -> 0 | F97: ='8.0자재단가'!I49 -> 12000 | G97: 0
A98: NGR Pot | B98: 선택사양 | D98: 본 | E98: =G98+I98+K98 -> 0 | F98: ='8.0자재단가'!I50 -> 1500 | G98: 0
A99: 식생기반재 | B99: NGR soil-20 | C99: 18.2 | D99: L | E99: =G99+I99+K99 -> 13468 | F99: ='8.0자재단가'!I54 -> 740 | G99: =INT(C99*F99) -> 13468
A100: 식생보조재 | B100: NGR soilplus | C100: 0.27 | D100: L | E100: =G100+I100+K100 -> 4320 | F100: ='8.0자재단가'!$I$57 -> 16000 | G100: =INT(C100*F100) -> 4320
A101: 물 탱 크 | B101: 5,500L | C101: 0.012 | D101: HR | E101: =G101+I101+K101 -> 462 | F101: ='9.0중기목록'!$F$14 -> 13117 | G101: =INT(C101*F101) -> 157 | H101: ='9.0중기목록'!$E$14 -> 17696 | I101: =INT(C101*H101) -> 212 | J101: ='9.0중기목록'!$G$14 -> 7823 | K101: =INT(C101*J101) -> 93
A102: 덤프트럭 | B102: 8.0 TON | C102: 0.012 | D102: HR | E102: =G102+I102+K102 -> 558 | F102: ='9.0중기목록'!$F$38 -> 19373 | G102: =INT(C102*F102) -> 232 | H102: ='9.0중기목록'!$E$38 -> 17696 | I102: =INT(C102*H102) -> 212 | J102: ='9.0중기목록'!$G$38 -> 9529 | K102: =INT(C102*J102) -> 114
A103: 트러탑재크레인 | B103: 5.0 TON | C103: 0.012 | D103: HR | E103: =G103+I103+K103 -> 415 | F103: ='9.0중기목록'!$F$12 -> 6640 | G103: =INT(C103*F103) -> 79 | H103: ='9.0중기목록'!$E$12 -> 17696 | I103: =INT(C103*H103) -> 212 | J103: ='9.0중기목록'!$G$12 -> 10362 | K103: =INT(C103*J103) -> 124
A104: 믹스및취부기 | B104: MnS2 | C104: 0.012 | D104: HR | E104: =G104+I104+K104 -> 512 | F104: =F61 -> 10217 | G104: =INT(C104*F104) -> 122 | H104: =H61 -> 16611 | I104: =INT(C104*H104) -> 199 | J104: =J61 -> 15971 | K104: =INT(C104*J104) -> 191
A105: 작업반장 | C105: 0.005 | D105: 인 | E105: =G105+I105+K105 -> 461 | H105: ='11.0시중노임'!$F$4 -> 92218 | I105: =INT(C105*H105) -> 461
A106: 특별인부 | C106: 0.01 | D106: 인 | E106: =G106+I106+K106 -> 844 | H106: ='11.0시중노임'!$F$5 -> 84404 | I106: =INT(C106*H106) -> 844
A107: 기 계 공 | C107: 0.005 | D107: 인 | E107: =G107+I107+K107 -> 432 | H107: ='11.0시중노임'!$F$12 -> 86521 | I107: =INT(C107*H107) -> 432
A108: 보통인부 | C108: 0.02 | D108: 인 | E108: =G108+I108+K108 -> 1379 | H108: ='11.0시중노임'!$F$6 -> 68965 | I108: =INT(C108*H108) -> 1379
A109: 잡재료비 | B109: 제료비의 % | C109: 3 | D109: % | E109: =G109+I109+K109 -> 695.34 | F109: =SUM(G96:G104) -> 23178 | G109: =F109*C109/100 -> 695.34
A110: 기구손료 | B110: 인건비의 % | C110: 3 | D110: % | E110: =G110+I110+K110 -> 118.53 | H110: =SUM(I101:I108) -> 3951 | I110: =H110*C110/100 -> 118.53
A111: 계 | E111: =G111+I111+K111 -> 28464.87 | G111: =SUM(G96:G110) -> 23873.34 | I111: =SUM(I96:I110) -> 4069.53 | K111: =SUM(K96:K110) -> 522
A125: 총 계 | E125: =E111+E91 -> 29308.87 | G125: =G111+G91 -> 23873.34 | I125: =I111+I91 -> 4913.53 | K125: =K111+K94 -> 522
A126: NGR 천연섬유망 3T
K127: [단위 : m2 당]
A128: 명칭 | B128: 규격 | C128: 수량 | D128: 단위 | E128: 합계 | F128: 재료비 | H128: 노무비 | J128: 경비
F129: 단가 | G129: 금액 | H129: 단가 | I129: 금액 | J129: 단가 | K129: 금액
A130: 1.천연섬유망설치
A131: 식생네트 | B131: 천연면네트(20x20) | C131: 1.2 | D131: M2 | E131: =G131+I131+K131 -> 600 | F131: ='8.0자재단가'!$I$59 -> 500 | G131: =INT(C131*F131) -> 600
A132: 고정핀 | B132: L-200 | C132: 0.5 | D132: EA | E132: =G132+I132+K132 -> 150 | F132: ='8.0자재단가'!$I$61 -> 300 | G132: =INT(C132*F132) -> 150
A133: 작업반장 | C133: 0.002 | D133: 인 | E133: =G133+I133+K133 -> 184 | H133: ='11.0시중노임'!$F$4 -> 92218 | I133: =INT(C133*H133) -> 184
A134: 특별인부 | C134: 0.01 | D134: 인 | E134: =G134+I134+K134 -> 844 | H134: ='11.0시중노임'!$F$5 -> 84404 | I134: =INT(C134*H134) -> 844
A135: 보통인부 | C135: 0.02 | D135: 인 | E135: =G135+I135+K135 -> 1379 | H135: ='11.0시중노임'!$F$6 -> 68965 | I135: =INT(C135*H135) -> 1379
A136: 잡재료비 | B136: 제료비의 % | C136: 3 | D136: % | E136: =G136+I136+K136 -> 22.5 | F136: =SUM(G131:G132) -> 750 | G136: =F136*C136/100 -> 22.5
A137: 소 계 | E137: =SUM(E131:E136) -> 3179.5 | G137: =SUM(G131:G136) -> 772.5 | I137: =SUM(I131:I136) -> 2407
A138: 4. 취 부 공
A139: NGR Seed | B139: 10종이상 | C139: 0.04 | D139: KG | E139: =G139+I139+K139 -> 4800 | F139: ='8.0자재단가'!I48 -> 120000 | G139: =INT(C139*F139) -> 4800
A140: NGR Spring | B140: Seed대체 | C140: 0.4 | D140: KG | E140: =G140+I140+K140 -> 0 | F140: ='8.0자재단가'!I49 -> 12000 | G140: 0
...

Sheet MUDPACK-표지
A7: MUDPACK

Sheet 028-MUDPACK-spray
A1: 일 위 대 가 표
A2: 환경생태복원 MUDPACK SPRAY ㎡ 당 [절·성토비탈면: 도로,경사가완만한 토사지역]
A3: 명 칭 | B3: 규 격 | C3: 단위 | D3: 수 량 | E3: 재 료 비 | G3: 노 무 비 | I3: 경 비 | K3: 합 계 | M3: 비고
E4: 단가 | F4: 금액 | G4: 단가 | H4: 금액 | I4: 단가 | J4: 금액 | K4: 단가 | L4: 금액
A5: MUD토[ I호 ] | B5: 친환경습식토양 | C5: ㎥ | D5: 0.006 | E5: ='033-MUDPACK-단가산출'!J56 -> 80000 | F5: =ROUNDDOWN((E5*D5),1) -> 480 | K5: =E5+G5+I5 -> 80000 | L5: =(F5+H5+J5) -> 480
A6: 토양응집제 | C6: g | D6: 4 | E6: ='033-MUDPACK-단가산출'!J59/1000 -> 25 | F6: =ROUNDDOWN((E6*D6),1) -> 100 | K6: =E6+G6+I6 -> 25 | L6: =F6+H6+J6 -> 100
A7: 볏짚거적 | B7: 100*100 | C7: ㎡ | D7: 1.2 | E7: ='033-MUDPACK-단가산출'!J58 -> 400 | F7: =ROUNDDOWN((E7*D7),1) -> 480 | K7: =E7+G7+I7 -> 400 | L7: =F7+H7+J7 -> 480
A8: 앙 카 핀 | B8: L=20-30 | C8: 개 | D8: 1 | E8: 200 | F8: =ROUNDDOWN((E8*D8),1) -> 200 | K8: =E8+G8+I8 -> 200 | L8: =F8+H8+J8 -> 200
A9: 비 닐 끈 | C9: M | D9: 1 | E9: 30 | F9: =ROUNDDOWN((E9*D9),1) -> 30 | K9: =E9+G9+I9 -> 30 | L9: =F9+H9+J9 -> 30
A10: 종 자 | B10: 양잔디혼합3종 | C10: g | D10: 10 | E10: ='033-MUDPACK-단가산출'!J62/1000 -> 10 | F10: =ROUNDDOWN((E10*D10),1) -> 100 | K10: =E10+G10+I10 -> 10 | L10: =F10+H10+J10 -> 100
B11: 향토초화목본5종 | C11: g | D11: 20 | E11: ='033-MUDPACK-단가산출'!J63/1000 -> 40 | F11: =ROUNDDOWN((E11*D11),1) -> 800 | K11: =E11+G11+I11 -> 40 | L11: =F11+H11+J11 -> 800
A12: 비 료 | B12: 복합비료 | C12: kg | D12: 0.08 | E12: ='033-MUDPACK-단가산출'!J61/20 -> 1350 | F12: =ROUNDDOWN((E12*D12),1) -> 108 | K12: =E12+G12+I12 -> 1350 | L12: =F12+H12+J12 -> 108
A13: 종자살포기 | B13: 리뷰터3000ℓ개량형 | C13: hr | D13: 0.012 | E13: ='033-MUDPACK-단가산출'!J14 -> 12515 | F13: =ROUNDDOWN((E13*D13),1) -> 150.1 | G13: ='033-MUDPACK-단가산출'!K17 -> 20561 | H13: =ROUNDDOWN((G13*D13),1) -> 246.7 | I13: ='033-MUDPACK-단가산출'!L11 -> 9415 | J13: =ROUNDDOWN((I13*D13),1) -> 112.9 | K13: =E13+G13+I13 -> 42491 | L13: =F13+H13+J13 -> 509.7
A14: 물 탱 크 | B14: 5,500L | C14: hr | D14: 0.008 | E14: ='033-MUDPACK-단가산출'!J22 -> 13600.6 | F14: =ROUNDDOWN((E14*D14),1) -> 108.8 | G14: ='033-MUDPACK-단가산출'!K25 -> 17696 | H14: =ROUNDDOWN((G14*D14),1) -> 141.5 | I14: ='033-MUDPACK-단가산출'!L19 -> 7823 | J14: =ROUNDDOWN((I14*D14),1) -> 62.5 | K14: =E14+G14+I14 -> 39119.6 | L14: =F14+H14+J14 -> 312.8
A15: 트럭탑재형크레인 | B15: 5TON | C15: hr | D15: 0.005 | E15: ='033-MUDPACK-단가산출'!J29 -> 6884 | F15: =ROUNDDOWN((E15*D15),1) -> 34.4 | G15: ='033-MUDPACK-단가산출'!K32 -> 17696 | H15: =ROUNDDOWN((G15*D15),1) -> 88.4 | I15: ='033-MUDPACK-단가산출'!L26 -> 10362 | J15: =ROUNDDOWN((I15*D15),1) -> 51.8 | K15: =E15+G15+I15 -> 34942 | L15: =F15+H15+J15 -> 174.6
A16: 덤프트럭 | B16: 6TON | C16: hr | D16: 0.005 | E16: ='033-MUDPACK-단가산출'!J36 -> 12419 | F16: =ROUNDDOWN((E16*D16),1) -> 62 | G16: ='033-MUDPACK-단가산출'!K39 -> 17696 | H16: =ROUNDDOWN((G16*D16),1) -> 88.4 | I16: ='033-MUDPACK-단가산출'!L33 -> 6117 | J16: =ROUNDDOWN((I16*D16),1) -> 30.5 | K16: =E16+G16+I16 -> 36232 | L16: =F16+H16+J16 -> 180.9
A17: 작업반장 | C17: 인 | D17: 0.001 | G17: ='033-MUDPACK-단가산출'!E75 -> 92218 | H17: =ROUNDDOWN((G17*D17),1) -> 92.2 | K17: =E17+G17+I17 -> 92218 | L17: =F17+H17+J17 -> 92.2
A18: 특별인부 | C18: 인 | D18: 0.004 | G18: ='033-MUDPACK-단가산출'!E72 -> 84404 | H18: =ROUNDDOWN((G18*D18),1) -> 337.6 | K18: =E18+G18+I18 -> 84404 | L18: =F18+H18+J18 -> 337.6
A19: 보통인부 | C19: 인 | D19: 0.014 | G19: ='033-MUDPACK-단가산출'!E73 -> 68965 | H19: =ROUNDDOWN((G19*D19),1) -> 965.5 | K19: =E19+G19+I19 -> 68965 | L19: =F19+H19+J19 -> 965.5
A22: 소 계 | F22: =SUM(F5:F21) -> 2653.3 | H22: =INT(SUM(H5:H21)) -> 1960 | J22: =INT(SUM(J5:J21)) -> 257
A23: 잡재료비 | B23: 재료비의3% | D23: 1 | F23: =SUM(F5:F12)*0.03 -> 68.94 | L23: =F23+H23+J23 -> 68.94
A24: 기계손료 | B24: 노무비의2.5% | D24: 1 | F24: =SUM(H17:H19)*0.025 -> 34.8825 | L24: =F24+H24+J24 -> 34.8825
A26: 합 계 | F26: =SUM(F22:F24) -> 2757.1225 | H26: =SUM(H22:H24) -> 1960 | J26: =SUM(J22:J24) -> 257 | L26: =F26+H26+J26 -> 4974.1225

Sheet 029-MUDPACK-T=1cm
A1: 일 위 대 가 표
A2: 환경생태복원 MUDPACK [T=1cm] ㎡ 당 [절토비탈면: 경사가완만한 마사토 및 자갈이 혼합된 토사지역]
A3: 명 칭 | B3: 규 격 | C3: 단위 | D3: 수 량 | E3: 재 료 비 | G3: 노 무 비 | I3: 경 비 | K3: 합 계 | M3: 비고
E4: 단가 | F4: 금액 | G4: 단가 | H4: 금액 | I4: 단가 | J4: 금액 | K4: 단가 | L4: 금액
A5: MUD토[ II호 ] | B5: 친환경습식토양 | C5: ㎥ | D5: 0.012 | E5: ='033-MUDPACK-단가산출'!J56 -> 80000 | F5: =ROUNDDOWN((E5*D5),1) -> 960 | K5: =E5+G5+I5 -> 80000 | L5: =F5+H5+J5 -> 960
A6: 토양응집제 | C6: g | D6: 8 | E6: ='033-MUDPACK-단가산출'!J59/1000 -> 25 | F6: =ROUNDDOWN((E6*D6),1) -> 200 | K6: =E6+G6+I6 -> 25 | L6: =F6+H6+J6 -> 200
A7: 장 섬 유 | C7: g | D7: 30 | E7: ='033-MUDPACK-단가산출'!J60/1000 -> 4 | F7: =ROUNDDOWN((E7*D7),1) -> 120 | K7: =E7+G7+I7 -> 4 | L7: =F7+H7+J7 -> 120
A8: 종 자 | B8: 양잔디혼합3종 | C8: g | D8: 15 | E8: ='033-MUDPACK-단가산출'!J62/1000 -> 10 | F8: =ROUNDDOWN((E8*D8),1) -> 150 | K8: =E8+G8+I8 -> 10 | L8: =F8+H8+J8 -> 150
B9: 향토초화목본5종 | C9: g | D9: 25 | E9: ='033-MUDPACK-단가산출'!J63/1000 -> 40 | F9: =ROUNDDOWN((E9*D9),1) -> 1000 | K9: =E9+G9+I9 -> 40 | L9: =F9+H9+J9 -> 1000
A10: 비 료 | B10: 복합비료 | C10: kg | D10: 0.12 | E10: ='033-MUDPACK-단가산출'!J61/20 -> 1350 | F10: =ROUNDDOWN((E10*D10),1) -> 162 | K10: =E10+G10+I10 -> 1350 | L10: =F10+H10+J10 -> 162
A11: M.P토믹스및살포기 | B11: 리뷰터3000ℓ개량형 | C11: hr | D11: 0.022 | E11: ='033-MUDPACK-단가산출'!J14 -> 12515 | F11: =ROUNDDOWN((E11*D11),1) -> 275.3 | G11: ='033-MUDPACK-단가산출'!K17 -> 20561 | H11: =ROUNDDOWN((G11*D11),1) -> 452.3 | I11: ='033-MUDPACK-단가산출'!L11 -> 9415 | J11: =ROUNDDOWN((I11*D11),1) -> 207.1 | K11: =E11+G11+I11 -> 42491 | L11: =F11+H11+J11 -> 934.7
A12: 실사출기 | C12: hr | D12: 0.012 | I12: ='033-MUDPACK-단가산출'!L18 -> 7417.8112 | J12: =ROUNDDOWN((I12*D12),1) -> 89 | K12: =E12+G12+I12 -> 7417.8112 | L12: =F12+H12+J12 -> 89
A13: 물 탱 크 | B13: 5,500L | C13: hr | D13: 0.015 | E13: ='033-MUDPACK-단가산출'!J22 -> 13600.6 | F13: =ROUNDDOWN((E13*D13),1) -> 204 | G13: ='033-MUDPACK-단가산출'!K25 -> 17696 | H13: =ROUNDDOWN((G13*D13),1) -> 265.4 | I13: ='033-MUDPACK-단가산출'!L19 -> 7823 | J13: =ROUNDDOWN((I13*D13),1) -> 117.3 | K13: =E13+G13+I13 -> 39119.6 | L13: =F13+H13+J13 -> 586.7
A14: 트럭탑재형크레인 | B14: 5TON | C14: hr | D14: 0.008 | E14: ='033-MUDPACK-단가산출'!J29 -> 6884 | F14: =ROUNDDOWN((E14*D14),1) -> 55 | G14: ='033-MUDPACK-단가산출'!K32 -> 17696 | H14: =ROUNDDOWN((G14*D14),1) -> 141.5 | I14: ='033-MUDPACK-단가산출'!L26 -> 10362 | J14: =ROUNDDOWN((I14*D14),1) -> 82.8 | K14: =E14+G14+I14 -> 34942 | L14: =F14+H14+J14 -> 279.3
A15: 덤프트럭 | B15: 6TON | C15: hr | D15: 0.008 | E15: ='033-MUDPACK-단가산출'!J36 -> 12419 | F15: =ROUNDDOWN((E15*D15),1) -> 99.3 | G15: ='033-MUDPACK-단가산출'!K39 -> 17696 | H15: =ROUNDDOWN((G15*D15),1) -> 141.5 | I15: ='033-MUDPACK-단가산출'!L33 -> 6117 | J15: =ROUNDDOWN((I15*D15),1) -> 48.9 | K15: =E15+G15+I15 -> 36232 | L15: =F15+H15+J15 -> 289.7
A16: 작업반장 | C16: 인 | D16: 0.002 | G16: ='033-MUDPACK-단가산출'!E75 -> 92218 | H16: =ROUNDDOWN((G16*D16),1) -> 184.4 | K16: =E16+G16+I16 -> 92218 | L16: =F16+H16+J16 -> 184.4
A17: 특별인부 | C17: 인 | D17: 0.008 | G17: ='033-MUDPACK-단가산출'!E72 -> 84404 | H17: =ROUNDDOWN((G17*D17),1) -> 675.2 | K17: =E17+G17+I17 -> 84404 | L17: =F17+H17+J17 -> 675.2
A18: 보통인부 | C18: 인 | D18: 0.018 | G18: ='033-MUDPACK-단가산출'!E73 -> 68965 | H18: =ROUNDDOWN((G18*D18),1) -> 1241.3 | K18: =E18+G18+I18 -> 68965 | L18: =F18+H18+J18 -> 1241.3
A21: 소 계 | F21: =INT(SUM(F5:F20)) -> 3225 | H21: =INT(SUM(H5:H20)) -> 3101 | J21: =INT(SUM(J5:J20)) -> 545
A22: 잡재료비 | B22: 재료비의3% | D22: 1 | F22: =SUM(F5:F10)*0.03 -> 77.76 | L22: =F22+H22+J22 -> 77.76
A23: 기계손료 | B23: 노무비의2.5% | D23: 1 | F23: =SUM(H16:H18)*0.025 -> 52.5225 | L23: =F23+H23+J23 -> 52.5225
A25: 합 계 | F25: =SUM(F21:F23) -> 3355.2825 | H25: =SUM(H21:H23) -> 3101 | J25: =SUM(J21:J23) -> 545 | L25: =F25+H25+J25 -> 7001.2825

Sheet 030-MUDPACK-T=3cm 
A1: 일 위 대 가 표
A2: 환경생태복원 MUDPACK [T=3cm] ㎡ 당 [절토비탈면: 강마사,풍화암, 토사지역]
A3: 명 칭 | B3: 규 격 | C3: 단위 | D3: 수 량 | E3: 재 료 비 | G3: 노 무 비 | I3: 경 비 | K3: 합 계 | M3: 비고
E4: 단가 | F4: 금액 | G4: 단가 | H4: 금액 | I4: 단가 | J4: 금액 | K4: 단가 | L4: 금액
A5: MUD토[ II호 ] | B5: 친환경습식토양 | C5: ㎥ | D5: 0.036 | E5: ='033-MUDPACK-단가산출'!J56 -> 80000 | F5: =ROUNDDOWN((E5*D5),1) -> 2880 | K5: =E5+G5+I5 -> 80000 | L5: =F5+H5+J5 -> 2880
A6: 토양응집제 | C6: g | D6: 24 | E6: ='033-MUDPACK-단가산출'!J59/1000 -> 25 | F6: =ROUNDDOWN((E6*D6),1) -> 600 | K6: =E6+G6+I6 -> 25 | L6: =F6+H6+J6 -> 600
A7: 장 섬 유 | C7: g | D7: 50 | E7: ='033-MUDPACK-단가산출'!J60/1000 -> 4 | F7: =ROUNDDOWN((E7*D7),1) -> 200 | K7: =E7+G7+I7 -> 4 | L7: =F7+H7+J7 -> 200
A8: 종 자 | B8: 양잔디혼합3종 | C8: g | D8: 15 | E8: ='033-MUDPACK-단가산출'!J62/1000 -> 10 | F8: =ROUNDDOWN((E8*D8),1) -> 150 | K8: =E8+G8+I8 -> 10 | L8: =F8+H8+J8 -> 150
B9: 향토초화목본5종 | C9: g | D9: 30 | E9: ='033-MUDPACK-단가산출'!J63/1000 -> 40 | F9: =ROUNDDOWN((E9*D9),1) -> 1200 | K9: =E9+G9+I9 -> 40 | L9: =F9+H9+J9 -> 1200
A10: 취 부 기 | B10: 25L | C10: hr | D10: 0.036 | I10: ='033-MUDPACK-단가산출'!L3 -> 24973.312 | J10: =ROUNDDOWN((I10*D10),1) -> 899 | K10: =E10+G10+I10 -> 24973.312 | L10: =F10+H10+J10 -> 899
A11: 발 전 기 | B11: 50KW | C11: hr | D11: 0.036 | E11: ='033-MUDPACK-단가산출'!J7 -> 12135.88 | F11: =ROUNDDOWN((E11*D11),1) -> 436.8 | G11: ='033-MUDPACK-단가산출'!K10 -> 14915 | H11: =ROUNDDOWN((G11*D11),1) -> 536.9 | I11: ='033-MUDPACK-단가산출'!L4 -> 3752 | J11: =ROUNDDOWN((I11*D11),1) -> 135 | K11: =E11+G11+I11 -> 30802.88 | L11: =F11+H11+J11 -> 1108.7
A12: 실사출기 | C12: hr | D12: 0.04 | I12: ='033-MUDPACK-단가산출'!L18 -> 7417.8112 | J12: =ROUNDDOWN((I12*D12),1) -> 296.7 | K12: =E12+G12+I12 -> 7417.8112 | L12: =F12+H12+J12 -> 296.7
A13: 물 탱 크 | B13: 5,500L | C13: hr | D13: 0.032 | E13: ='033-MUDPACK-단가산출'!J22 -> 13600.6 | F13: =ROUNDDOWN((E13*D13),1) -> 435.2 | G13: ='033-MUDPACK-단가산출'!K25 -> 17696 | H13: =ROUNDDOWN((G13*D13),1) -> 566.2 | I13: ='033-MUDPACK-단가산출'!L19 -> 7823 | J13: =ROUNDDOWN((I13*D13),1) -> 250.3 | K13: =E13+G13+I13 -> 39119.6 | L13: =F13+H13+J13 -> 1251.7
A14: 트럭탑재형크레인 | B14: 5TON | C14: hr | D14: 0.036 | E14: ='033-MUDPACK-단가산출'!J29 -> 6884 | F14: =ROUNDDOWN((E14*D14),1) -> 247.8 | G14: ='033-MUDPACK-단가산출'!K32 -> 17696 | H14: =ROUNDDOWN((G14*D14),1) -> 637 | I14: ='033-MUDPACK-단가산출'!L26 -> 10362 | J14: =ROUNDDOWN((I14*D14),1) -> 373 | K14: =E14+G14+I14 -> 34942 | L14: =F14+H14+J14 -> 1257.8
A15: 덤프트럭 | B15: 6TON | C15: hr | D15: 0.028 | E15: ='033-MUDPACK-단가산출'!J36 -> 12419 | F15: =ROUNDDOWN((E15*D15),1) -> 347.7 | G15: ='033-MUDPACK-단가산출'!K39 -> 17696 | H15: =ROUNDDOWN((G15*D15),1) -> 495.4 | I15: ='033-MUDPACK-단가산출'!L33 -> 6117 | J15: =ROUNDDOWN((I15*D15),1) -> 171.2 | K15: =E15+G15+I15 -> 36232 | L15: =F15+H15+J15 -> 1014.3
A16: 작업반장 | C16: 인 | D16: 0.003 | G16: ='033-MUDPACK-단가산출'!E75 -> 92218 | H16: =ROUNDDOWN((G16*D16),1) -> 276.6 | K16: =E16+G16+I16 -> 92218 | L16: =F16+H16+J16 -> 276.6
A17: 특별인부 | C17: 인 | D17: 0.022 | G17: ='033-MUDPACK-단가산출'!E72 -> 84404 | H17: =ROUNDDOWN((G17*D17),1) -> 1856.8 | K17: =E17+G17+I17 -> 84404 | L17: =F17+H17+J17 -> 1856.8
A18: 보통인부 | C18: 인 | D18: 0.03 | G18: ='033-MUDPACK-단가산출'!E73 -> 68965 | H18: =ROUNDDOWN((G18*D18),1) -> 2068.9 | K18: =E18+G18+I18 -> 68965 | L18: =F18+H18+J18 -> 2068.9
A22: 소 계 | F22: =INT(SUM(F5:F21)) -> 6497 | H22: =INT(SUM(H5:H21)) -> 6437 | J22: =INT(SUM(J5:J21)) -> 2125
A23: 잡재료비 | B23: 재료비의3% | F23: =SUM(F5:F9)*0.03 -> 150.9 | L23: =F23+H23+J23 -> 150.9
A24: 기계손료 | B24: 노무비의2.5% | F24: =SUM(H16:H18)*0.025 -> 105.0575 | L24: =F24+H24+J24 -> 105.0575
A26: 합 계 | F26: =SUM(F22:F25) -> 6752.9575 | H26: =SUM(H22:H25) -> 6437 | J26: =SUM(J22:J25) -> 2125 | L26: =F26+H26+J26 -> 15314.958

Sheet 031-MUDPACK-T=7cm
A1: 일 위 대 가 표
A2: 환경생태복원 MUDPACK [T=7cm] ㎡ 당 [ 보통암,리핑암,연암 ]
A3: 명 칭 | B3: 규 격 | C3: 단위 | D3: 수 량 | E3: 재 료 비 | G3: 노 무 비 | I3: 경 비 | K3: 합 계 | M3: 비고
E4: 단가 | F4: 금액 | G4: 단가 | H4: 금액 | I4: 단가 | J4: 금액 | K4: 단가 | L4: 금액
A5: 1.앵커핀 및 착지핀 홀천공
A6: 발전기 | B6: 50KW | C6: hr | D6: 0.019 | E6: ='033-MUDPACK-단가산출'!J7 -> 12135.88 | F6: =ROUNDDOWN((E6*D6),1) -> 230.5 | G6: ='033-MUDPACK-단가산출'!K10 -> 14915 | H6: =ROUNDDOWN((G6*D6),1) -> 283.3 | I6: ='033-MUDPACK-단가산출'!L4 -> 3752 | J6: =ROUNDDOWN((I6*D6),1) -> 71.2 | K6: =E6+G6+I6 -> 30802.88 | L6: =F6+H6+J6 -> 585
A7: 착암공 | C7: 인 | D7: 0.012 | G7: ='033-MUDPACK-단가산출'!E74 -> 79533 | H7: =ROUNDDOWN((G7*D7),1) -> 954.3 | K7: =E7+G7+I7 -> 79533 | L7: =F7+H7+J7 -> 954.3
A8: 보 통 인 부 | C8: 인 | D8: 0.012 | G8: ='033-MUDPACK-단가산출'!E73 -> 68965 | H8: =ROUNDDOWN((G8*D8),1) -> 827.5 | K8: =E8+G8+I8 -> 68965 | L8: =F8+H8+J8 -> 827.5
A9: 소 계 | F9: =INT(SUM(F6:F8)) -> 230 | H9: =INT(SUM(H6:H8)) -> 2065 | J9: =INT(SUM(J6:J8)) -> 71 | L9: =F9+H9+J9 -> 2366
A10: 2.앵커핀 및 착지핀 설치
A11: 앵커핀 | B11: ￠16, L=350 | C11: EA | D11: 0.23 | E11: ='033-MUDPACK-단가산출'!J65 -> 700 | F11: =ROUNDDOWN((E11*D11),1) -> 161 | K11: =E11+G11+I11 -> 700 | L11: =F11+H11+J11 -> 161
A12: 착지핀 | B12: ￠16, L=250 | C12: EA | D12: 0.5 | E12: ='033-MUDPACK-단가산출'!J66 -> 600 | F12: =ROUNDDOWN((E12*D12),1) -> 300 | K12: =E12+G12+I12 -> 600 | L12: =F12+H12+J12 -> 300
A13: 특 별 인 부 | C13: 인 | D13: 0.006 | G13: ='033-MUDPACK-단가산출'!E72 -> 84404 | H13: =ROUNDDOWN((G13*D13),1) -> 506.4 | K13: =E13+G13+I13 -> 84404 | L13: =F13+H13+J13 -> 506.4
A14: 보 통 인 부 | C14: 인 | D14: 0.006 | G14: ='033-MUDPACK-단가산출'!E73 -> 68965 | H14: =ROUNDDOWN((G14*D14),1) -> 413.7 | K14: =E14+G14+I14 -> 68965 | L14: =F14+H14+J14 -> 413.7
A15: 소 계 | F15: =INT(SUM(F11:F14)) -> 461 | H15: =INT(SUM(H13:H14)) -> 920 | L15: =F15+H15+J15 -> 1381
A16: 3.부착망 설치
A17: 부착망 | B17: 3.2mm, 58*58 | C17: ㎡ | D17: 1.3 | E17: ='033-MUDPACK-단가산출'!J67 -> 3500 | F17: =ROUNDDOWN((E17*D17),1) -> 4550 | K17: =E17+G17+I17 -> 3500 | L17: =F17+H17+J17 -> 4550
A18: 철선 | B18: ＃8,PVC코팅 | C18: M | D18: 1.3 | E18: ='033-MUDPACK-단가산출'!J68 -> 300 | F18: =ROUNDDOWN((E18*D18),1) -> 390 | K18: =E18+G18+I18 -> 300 | L18: =F18+H18+J18 -> 390
A19: 작 업 반 장 | C19: 인 | D19: 0.005 | G19: ='033-MUDPACK-단가산출'!E75 -> 92218 | H19: =ROUNDDOWN((G19*D19),1) -> 461 | K19: =E19+G19+I19 -> 92218 | L19: =F19+H19+J19 -> 461
A20: 특 별 인 부 | C20: 인 | D20: 0.02 | G20: ='033-MUDPACK-단가산출'!E72 -> 84404 | H20: =ROUNDDOWN((G20*D20),1) -> 1688 | K20: =E20+G20+I20 -> 84404 | L20: =F20+H20+J20 -> 1688
A21: 보 통 인 부 | C21: 인 | D21: 0.02 | G21: ='033-MUDPACK-단가산출'!E73 -> 68965 | H21: =ROUNDDOWN((G21*D21),1) -> 1379.3 | K21: =E21+G21+I21 -> 68965 | L21: =F21+H21+J21 -> 1379.3
A22: 소 계 | F22: =INT(SUM(F17:F21)) -> 4940 | H22: =INT(SUM(H17:H21)) -> 3528 | L22: =F22+H22+J22 -> 8468
A23: 4.취부공
A24: 취부기 | B24: 25ℓ | C24: hr | D24: 0.06 | I24: ='033-MUDPACK-단가산출'!L3 -> 24973.312 | J24: =ROUNDDOWN((I24*D24),1) -> 1498.3 | K24: =E24+G24+I24 -> 24973.312 | L24: =F24+H24+J24 -> 1498.3
A25: MUD토[III호] | B25: MUD식생기반재 | C25: ㎥ | D25: 0.084 | E25: ='033-MUDPACK-단가산출'!J57 -> 60000 | F25: =ROUNDDOWN((E25*D25),1) -> 5040 | K25: =E25+G25+I25 -> 60000 | L25: =F25+H25+J25 -> 5040
A26: 토양응집제 | C26: g | D26: 56 | E26: ='033-MUDPACK-단가산출'!J59/1000 -> 25 | F26: =(E26*D26) -> 1400 | K26: =E26+G26+I26 -> 25 | L26: =F26+H26+J26 -> 1400
A27: 종 자 | B27: 양잔디류3종 | C27: g | D27: 25 | E27: ='033-MUDPACK-단가산출'!J62/1000 -> 10 | F27: =ROUNDDOWN((E27*D27),1) -> 250 | K27: =E27+G27+I27 -> 10 | L27: =F27+H27+J27 -> 250
B28: 향토초화목본5종 | C28: g | D28: 35 | E28: ='033-MUDPACK-단가산출'!J63/1000 -> 40 | F28: =ROUNDDOWN((E28*D28),1) -> 1400 | K28: =E28+G28+I28 -> 40 | L28: =F28+H28+J28 -> 1400
A29: 발전기 | B29: 50KW | C29: hr | D29: 0.06 | E29: ='033-MUDPACK-단가산출'!J7 -> 12135.88 | F29: =ROUNDDOWN((E29*D29),1) -> 728.1 | G29: ='033-MUDPACK-단가산출'!K10 -> 14915 | H29: =ROUNDDOWN((G29*D29),1) -> 894.9 | I29: ='033-MUDPACK-단가산출'!L4 -> 3752 | J29: =ROUNDDOWN((I29*D29),1) -> 225.1 | K29: =E29+G29+I29 -> 30802.88 | L29: =F29+H29+J29 -> 1848.1
A30: 물탱크 | B30: 5,500L | C30: hr | D30: 0.06 | E30: ='033-MUDPACK-단가산출'!J22 -> 13600.6 | F30: =ROUNDDOWN((E30*D30),1) -> 816 | G30: ='033-MUDPACK-단가산출'!K25 -> 17696 | H30: =ROUNDDOWN((G30*D30),1) -> 1061.7 | I30: ='033-MUDPACK-단가산출'!L19 -> 7823 | J30: =ROUNDDOWN((I30*D30),1) -> 469.3 | K30: =E30+G30+I30 -> 39119.6 | L30: =F30+H30+J30 -> 2347
A31: 트럭탑재형크레인 | B31: 5TON | C31: hr | D31: 0.07 | E31: ='033-MUDPACK-단가산출'!J29 -> 6884 | F31: =ROUNDDOWN((E31*D31),1) -> 481.8 | G31: ='033-MUDPACK-단가산출'!K32 -> 17696 | H31: =ROUNDDOWN((G31*D31),1) -> 1238.7 | I31: ='033-MUDPACK-단가산출'!L26 -> 10362 | J31: =ROUNDDOWN((I31*D31),1) -> 725.3 | K31: =E31+G31+I31 -> 34942 | L31: =F31+H31+J31 -> 2445.8
A32: 덤프트럭 | B32: 6TON | C32: hr | D32: 0.06 | E32: ='033-MUDPACK-단가산출'!J36 -> 12419 | F32: =ROUNDDOWN((E32*D32),1) -> 745.1 | G32: ='033-MUDPACK-단가산출'!K39 -> 17696 | H32: =ROUNDDOWN((G32*D32),1) -> 1061.7 | I32: ='033-MUDPACK-단가산출'!L33 -> 6117 | J32: =ROUNDDOWN((I32*D32),1) -> 367 | K32: =E32+G32+I32 -> 36232 | L32: =F32+H32+J32 -> 2173.8
A33: 공기압축기 | B33: 21㎥/min | C33: hr | D33: 0.06 | E33: ='033-MUDPACK-단가산출'!J43 -> 36016.399 | F33: =ROUNDDOWN((E33*D33),1) -> 2160.9 | G33: ='033-MUDPACK-단가산출'!K46 -> 20561 | H33: =ROUNDDOWN((G33*D33),1) -> 1233.6 | I33: ='033-MUDPACK-단가산출'!L40 -> 6485 | J33: =ROUNDDOWN((I33*D33),1) -> 389.1 | K33: =E33+G33+I33 -> 63062.399 | L33: =F33+H33+J33 -> 3783.6
A34: 작 업 반 장 | C34: 인 | D34: 0.006 | G34: ='033-MUDPACK-단가산출'!E75 -> 92218 | H34: =ROUNDDOWN((G34*D34),1) -> 553.3 | K34: =E34+G34+I34 -> 92218 | L34: =F34+H34+J34 -> 553.3
A35: 특 별 인 부 | C35: 인 | D35: 0.027 | G35: ='033-MUDPACK-단가산출'!E72 -> 84404 | H35: =ROUNDDOWN((G35*D35),1) -> 2278.9 | K35: =E35+G35+I35 -> 84404 | L35: =F35+H35+J35 -> 2278.9
A36: 기계공 | C36: 인 | D36: 0.006 | G36: ='033-MUDPACK-단가산출'!E76 -> 81297 | H36: =ROUNDDOWN((G36*D36),1) -> 487.7 | K36: =E36+G36+I36 -> 81297 | L36: =F36+H36+J36 -> 487.7
A37: 보 통 인 부 | C37: 인 | D37: 0.052 | G37: ='033-MUDPACK-단가산출'!E73 -> 68965 | H37: =ROUNDDOWN((G37*D37),1) -> 3586.1 | K37: =E37+G37+I37 -> 68965 | L37: =F37+H37+J37 -> 3586.1
A38: 소 계 | F38: =INT(SUM(F25:F37)) -> 13021 | H38: =INT(SUM(H25:H37)) -> 12396 | J38: =INT(SUM(J23:J37)) -> 3674 | L38: =F38+H38+J38 -> 29091
A39: 잡재료비 | B39: 재료비의3% | F39: =(F11+F12+F17+F18+F25+F26+F27+F28)*0.03 -> 404.73 | L39: =F39+H39+J39 -> 404.73
A40: 기계손료 | B40: 노무비2.5% | F40: =(H7+H8+H13+H14+H19+H20+H21+H34+H35+H36+H37)*0.025 -> 328.405 | L40: =F40+H40+J40 -> 328.405
A41: 합 계 | F41: =F9+F15+F22+F38+F39+F40 -> 19385.135 | H41: =H9+H15+H22+H38+H40 -> 18909 | J41: =J9+J15+J22+J38+J40 -> 3745 | L41: =F41+H41+J41 -> 42039.135

Sheet 032-MUDPACK-T=10cm
A1: 일 위 대 가 표
A2: 환경생태복원 MUDPACK [T=10cm] ㎡ 당 [ 보통암,경암 ]
A3: 명 칭 | B3: 규 격 | C3: 단위 | D3: 수 량 | E3: 재 료 비 | G3: 노 무 비 | I3: 경 비 | K3: 합 계 | M3: 비고
E4: 단가 | F4: 금액 | G4: 단가 | H4: 금액 | I4: 단가 | J4: 금액 | K4: 단가 | L4: 금액
A5: 1.앵커핀 및 착지핀 홀천공
A6: 발전기 | B6: 50KW | C6: hr | D6: 0.019 | E6: ='033-MUDPACK-단가산출'!J7 -> 12135.88 | F6: =ROUNDDOWN((E6*D6),1) -> 230.5 | G6: ='033-MUDPACK-단가산출'!K10 -> 14915 | H6: =ROUNDDOWN((G6*D6),1) -> 283.3 | I6: ='033-MUDPACK-단가산출'!L4 -> 3752 | J6: =ROUNDDOWN((I6*D6),1) -> 71.2 | K6: =E6+G6+I6 -> 30802.88 | L6: =F6+H6+J6 -> 585
A7: 착암공 | C7: 인 | D7: 0.012 | G7: ='033-MUDPACK-단가산출'!E74 -> 79533 | H7: =ROUNDDOWN((G7*D7),1) -> 954.3 | K7: =E7+G7+I7 -> 79533 | L7: =F7+H7+J7 -> 954.3
A8: 보 통 인 부 | C8: 인 | D8: 0.012 | G8: ='033-MUDPACK-단가산출'!E73 -> 68965 | H8: =ROUNDDOWN((G8*D8),1) -> 827.5 | K8: =E8+G8+I8 -> 68965 | L8: =F8+H8+J8 -> 827.5
A9: 소 계 | F9: =INT(SUM(F6:F8)) -> 230 | H9: =INT(SUM(H6:H8)) -> 2065 | J9: =INT(SUM(J6:J8)) -> 71 | L9: =F9+H9+J9 -> 2366
A10: 2.앵커핀 및 착지핀 설치
A11: 앵커핀 | B11: ￠16, L=350 | C11: EA | D11: 0.23 | E11: ='033-MUDPACK-단가산출'!J65 -> 700 | F11: =ROUNDDOWN((E11*D11),1) -> 161 | K11: =E11+G11+I11 -> 700 | L11: =F11+H11+J11 -> 161
A12: 착지핀 | B12: ￠16, L=250 | C12: EA | D12: 0.5 | E12: ='033-MUDPACK-단가산출'!J66 -> 600 | F12: =ROUNDDOWN((E12*D12),1) -> 300 | K12: =E12+G12+I12 -> 600 | L12: =F12+H12+J12 -> 300
A13: 특 별 인 부 | C13: 인 | D13: 0.006 | G13: ='033-MUDPACK-단가산출'!E72 -> 84404 | H13: =ROUNDDOWN((G13*D13),1) -> 506.4 | K13: =E13+G13+I13 -> 84404 | L13: =F13+H13+J13 -> 506.4
A14: 보 통 인 부 | C14: 인 | D14: 0.006 | G14: ='033-MUDPACK-단가산출'!E73 -> 68965 | H14: =ROUNDDOWN((G14*D14),1) -> 413.7 | K14: =E14+G14+I14 -> 68965 | L14: =F14+H14+J14 -> 413.7
A15: 소 계 | F15: =INT(SUM(F11:F14)) -> 461 | H15: =INT(SUM(H13:H14)) -> 920 | L15: =F15+H15+J15 -> 1381
A16: 3.부착망 설치
A17: 부착망 | B17: 3.2mm, 58*58 | C17: ㎡ | D17: 1.3 | E17: ='033-MUDPACK-단가산출'!J67 -> 3500 | F17: =ROUNDDOWN((E17*D17),1) -> 4550 | K17: =E17+G17+I17 -> 3500 | L17: =F17+H17+J17 -> 4550
A18: 철선 | B18: ＃8,PVC코팅 | C18: M | D18: 1.3 | E18: ='033-MUDPACK-단가산출'!J68 -> 300 | F18: =ROUNDDOWN((E18*D18),1) -> 390 | K18: =E18+G18+I18 -> 300 | L18: =F18+H18+J18 -> 390
A19: 작 업 반 장 | C19: 인 | D19: 0.005 | G19: ='033-MUDPACK-단가산출'!E75 -> 92218 | H19: =ROUNDDOWN((G19*D19),1) -> 461 | K19: =E19+G19+I19 -> 92218 | L19: =F19+H19+J19 -> 461
A20: 특 별 인 부 | C20: 인 | D20: 0.02 | G20: ='033-MUDPACK-단가산출'!E72 -> 84404 | H20: =ROUNDDOWN((G20*D20),1) -> 1688 | K20: =E20+G20+I20 -> 84404 | L20: =F20+H20+J20 -> 1688
A21: 보 통 인 부 | C21: 인 | D21: 0.02 | G21: ='033-MUDPACK-단가산출'!E73 -> 68965 | H21: =ROUNDDOWN((G21*D21),1) -> 1379.3 | K21: =E21+G21+I21 -> 68965 | L21: =F21+H21+J21 -> 1379.3
A22: 소 계 | F22: =INT(SUM(F17:F21)) -> 4940 | H22: =INT(SUM(H17:H21)) -> 3528 | L22: =F22+H22+J22 -> 8468
A23: 4.취부공
A24: 취부기 | B24: 25ℓ | C24: hr | D24: 0.08 | I24: ='033-MUDPACK-단가산출'!L3 -> 24973.312 | J24: =ROUNDDOWN((I24*D24),1) -> 1997.8 | K24: =E24+G24+I24 -> 24973.312 | L24: =F24+H24+J24 -> 1997.8
A25: MUD토[III호] | B25: MUD식생기반재 | C25: ㎥ | D25: 0.12 | E25: ='033-MUDPACK-단가산출'!J57 -> 60000 | F25: =ROUNDDOWN((E25*D25),1) -> 7200 | K25: =E25+G25+I25 -> 60000 | L25: =F25+H25+J25 -> 7200
A26: 토양응집제 | C26: g | D26: 70 | E26: ='033-MUDPACK-단가산출'!J59/1000 -> 25 | F26: =ROUNDDOWN((E26*D26),1) -> 1750 | K26: =E26+G26+I26 -> 25 | L26: =F26+H26+J26 -> 1750
A27: 종 자 | B27: 양잔디류3종 | C27: g | D27: 35 | E27: ='033-MUDPACK-단가산출'!J62/1000 -> 10 | F27: =ROUNDDOWN((E27*D27),1) -> 350 | K27: =E27+G27+I27 -> 10 | L27: =F27+H27+J27 -> 350
B28: 향토초화목본5종 | C28: g | D28: 45 | E28: ='033-MUDPACK-단가산출'!J63/1000 -> 40 | F28: =ROUNDDOWN((E28*D28),1) -> 1800 | K28: =E28+G28+I28 -> 40 | L28: =F28+H28+J28 -> 1800
A29: 발전기 | B29: 50KW | C29: hr | D29: 0.08 | E29: ='033-MUDPACK-단가산출'!J7 -> 12135.88 | F29: =ROUNDDOWN((E29*D29),1) -> 970.8 | G29: ='033-MUDPACK-단가산출'!K10 -> 14915 | H29: =ROUNDDOWN((G29*D29),1) -> 1193.2 | I29: ='033-MUDPACK-단가산출'!L4 -> 3752 | J29: =ROUNDDOWN((I29*D29),1) -> 300.1 | K29: =E29+G29+I29 -> 30802.88 | L29: =F29+H29+J29 -> 2464.1
A30: 물탱크 | B30: 5,500L | C30: hr | D30: 0.08 | E30: ='033-MUDPACK-단가산출'!J22 -> 13600.6 | F30: =ROUNDDOWN((E30*D30),1) -> 1088 | G30: ='033-MUDPACK-단가산출'!K25 -> 17696 | H30: =ROUNDDOWN((G30*D30),1) -> 1415.6 | I30: ='033-MUDPACK-단가산출'!L19 -> 7823 | J30: =ROUNDDOWN((I30*D30),1) -> 625.8 | K30: =E30+G30+I30 -> 39119.6 | L30: =F30+H30+J30 -> 3129.4
A31: 트럭탑재형크레인 | B31: 5TON | C31: hr | D31: 0.09 | E31: ='033-MUDPACK-단가산출'!J29 -> 6884 | F31: =ROUNDDOWN((E31*D31),1) -> 619.5 | G31: ='033-MUDPACK-단가산출'!K32 -> 17696 | H31: =ROUNDDOWN((G31*D31),1) -> 1592.6 | I31: ='033-MUDPACK-단가산출'!L26 -> 10362 | J31: =ROUNDDOWN((I31*D31),1) -> 932.5 | K31: =E31+G31+I31 -> 34942 | L31: =F31+H31+J31 -> 3144.6
A32: 덤프트럭 | B32: 6TON | C32: hr | D32: 0.08 | E32: ='033-MUDPACK-단가산출'!J36 -> 12419 | F32: =ROUNDDOWN((E32*D32),1) -> 993.5 | G32: ='033-MUDPACK-단가산출'!K39 -> 17696 | H32: =ROUNDDOWN((G32*D32),1) -> 1415.6 | I32: ='033-MUDPACK-단가산출'!L33 -> 6117 | J32: =ROUNDDOWN((I32*D32),1) -> 489.3 | K32: =E32+G32+I32 -> 36232 | L32: =F32+H32+J32 -> 2898.4
A33: 공기압축기 | B33: 21㎥/min5 | C33: hr | D33: 0.08 | E33: ='033-MUDPACK-단가산출'!J43 -> 36016.399 | F33: =ROUNDDOWN((E33*D33),1) -> 2881.3 | G33: ='033-MUDPACK-단가산출'!K46 -> 20561 | H33: =ROUNDDOWN((G33*D33),1) -> 1644.8 | I33: ='033-MUDPACK-단가산출'!L40 -> 6485 | J33: =ROUNDDOWN((I33*D33),1) -> 518.8 | K33: =E33+G33+I33 -> 63062.399 | L33: =F33+H33+J33 -> 5044.9
A34: 작 업 반 장 | C34: 인 | D34: 0.008 | G34: ='033-MUDPACK-단가산출'!E75 -> 92218 | H34: =ROUNDDOWN((G34*D34),1) -> 737.7 | K34: =E34+G34+I34 -> 92218 | L34: =F34+H34+J34 -> 737.7
A35: 특 별 인 부 | C35: 인 | D35: 0.035 | G35: ='033-MUDPACK-단가산출'!E72 -> 84404 | H35: =ROUNDDOWN((G35*D35),1) -> 2954.1 | K35: =E35+G35+I35 -> 84404 | L35: =F35+H35+J35 -> 2954.1
A36: 기계공 | C36: 인 | D36: 0.008 | G36: ='033-MUDPACK-단가산출'!E76 -> 81297 | H36: =ROUNDDOWN((G36*D36),1) -> 650.3 | K36: =E36+G36+I36 -> 81297 | L36: =F36+H36+J36 -> 650.3
A37: 보 통 인 부 | C37: 인 | D37: 0.07 | G37: ='033-MUDPACK-단가산출'!E73 -> 68965 | H37: =ROUNDDOWN((G37*D37),1) -> 4827.5 | K37: =E37+G37+I37 -> 68965 | L37: =F37+H37+J37 -> 4827.5
A38: 소 계 | F38: =INT(SUM(F25:F37)) -> 17653 | H38: =INT(SUM(H25:H37)) -> 16431 | J38: =INT(SUM(J23:J37)) -> 4864 | L38: =F38+H38+J38 -> 38948
A39: 잡재료비 | B39: 재료비의3% | F39: =(F11+F12+F17+F18+F25+F26+F27+F28)*0.03 -> 495.03 | L39: =F39+H39+J39 -> 495.03
A40: 기계손료 | B40: 노무비2.5% | F40: =(H7+H8+H13+H14+H19+H20+H21+H34+H35+H36+H37)*0.025 -> 384.995 | L40: =F40+H40+J40 -> 384.995
A41: 합 계 | F41: =F9+F15+F22+F38+F39+F40 -> 24164.025 | H41: =H9+H15+H22+H38+H40 -> 22944 | J41: =J9+J15+J22+J38+J40 -> 4935 | L41: =F41+H41+J41 -> 52043.025

Sheet 033-MUDPACK-단가산출
A1: MUDPACK 단가산출서
A2: 품 목 | B2: 산출내역 | J2: 재료비 | K2: 노무비 | L2: 경비 | M2: 비고
A3: 취부기 (25HP) | B3: 손 료 | C3: 58240000 | D3: * | E3: 4288 | F3: * | G3: 10-7 | H3: = | I3: =C3*E3/10000000 -> 24973.312 | L3: =I3 -> 24973.312 | M3: '09 적산정보 p665
A4: 발전기 (50kw) | B4: 손 료 | C4: 16360000 | D4: * | E4: 2294 | F4: * | G4: 10-7 | H4: = | I4: =INT(C4*E4/10000000) -> 3752 | L4: =I4 -> 3752 | M4: '09 적산정보 p662
B5: 재료비 | C5: 경 유 | D5: : | E5: 8.7ℓ | F5: * | G5: 1124.95 | H5: = | I5: =INT(8.7*G5) -> 9787
C6: 잡유(24%) | D6: : | E6: =I5 -> 9787 | F6: * | G6: 0.24 | H6: = | I6: =E6*G6 -> 2348.88
C7: 소 계 | D7: : | E7: =I5 -> 9787 | F7: + | G7: =I6 -> 2348.88 | H7: = | I7: =G7+E7 -> 12135.88 | J7: =I7 -> 12135.88
B8: 노무비 | C8: 기계운전사 | D8: : | E8: =E69 -> 71594 | F8: 원
E9: 1/8*25/20*16/12 | H9: = | I9: =1/8*25/20*16/12 -> 0.20833333
E10: =E8 -> 71594 | F10: * | G10: =I9 -> 0.20833333 | H10: = | I10: =INT(G10*E10) -> 14915 | K10: =I10 -> 14915
A11: 종자살포기 (아스팔트디스트리뷰터 3000ℓ) | B11: 손 료 | C11: 38056000 | D11: * | E11: 2474 | F11: * | G11: 10-7 | H11: = | I11: =INT(C11*E11/10000000) -> 9415 | L11: =I11 -> 9415 | M11: '09 적산정보 p638
B12: 재료비 | C12: 경 유 | D12: : | E12: 8.9ℓ | F12: * | G12: 1124.95 | H12: = | I12: =INT(8.9*G12) -> 10012
C13: 잡유(23%) | D13: : | E13: =I12 -> 10012 | F13: * | G13: 0.25 | H13: = | I13: =INT(E13*G13) -> 2503
C14: 소 계 | D14: : | E14: =I12 -> 10012 | F14: + | G14: =I13 -> 2503 | H14: = | I14: =G14+E14 -> 12515 | J14: =I14 -> 12515
B15: 노무비 | C15: 건설기계운전사 | D15: : | E15: =E77 -> 98693 | F15: 원
E16: 1/8*25/20*16/12 | H16: = | I16: =1/8*25/20*16/12 -> 0.20833333
E17: =E15 -> 98693 | F17: * | G17: =I16 -> 0.20833333 | H17: = | I17: =INT(G17*E17) -> 20561 | K17: =I17 -> 20561
A18: 실사출기 | B18: 손 료 | C18: 17299000 | D18: * | E18: 4288 | F18: * | G18: 10-7 | H18: = | I18: =C18*E18/10000000 -> 7417.8112 | L18: =I18 -> 7417.8112 | M18: '09 적산정보 p665
A19: 물탱크 (5,500ℓ) | B19: 손 료 | C19: 38257000 | D19: * | E19: 2045 | F19: * | G19: 10-7 | H19: = | I19: =INT(C19*E19/10000000) -> 7823 | L19: =I19 -> 7823 | M19: '09 적산정보 p661
B20: 재료비 | C20: 경 유 | D20: : | E20: 9.3ℓ | F20: * | G20: 1124.95 | H20: = | I20: =INT(9.3*G20) -> 10462
C21: 잡유(30%) | D21: : | E21: =I20 -> 10462 | F21: * | G21: 0.3 | H21: = | I21: =E21*G21 -> 3138.6
C22: 소 계 | D22: : | E22: =I20 -> 10462 | F22: + | G22: =I21 -> 3138.6 | H22: = | I22: =G22+E22 -> 13600.6 | J22: =I22 -> 13600.6
B23: 노무비 | C23: 운반운전사 | D23: : | E23: =E70 -> 84942 | F23: 원
E24: 1/8*25/20*16/12 | H24: = | I24: =1/8*25/20*16/12 -> 0.20833333
E25: =E23 -> 84942 | F25: * | G25: =I24 -> 0.20833333 | H25: = | I25: =INT(G25*E25) -> 17696 | K25: =I25 -> 17696
A26: 트럭탑재형 크레인(5TON) | B26: 손 료 | C26: 41399000 | D26: * | E26: 2503 | F26: * | G26: 10-7 | H26: = | I26: =INT(C26*E26/10000000) -> 10362 | L26: =I26 -> 10362 | M26: '09적산정보 p629
B27: 재료비 | C27: 경 유 | D27: : | E27: 5.1ℓ | F27: * | G27: 1124.95 | H27: = | I27: =INT(5.1*G27) -> 5737
C28: 잡유(20%) | D28: : | E28: =I27 -> 5737 | F28: * | G28: 0.2 | H28: = | I28: =INT(E28*G28) -> 1147
C29: 소 계 | D29: : | E29: =I27 -> 5737 | F29: + | G29: =I28 -> 1147 | H29: = | I29: =G29+E29 -> 6884 | J29: =I29 -> 6884
B30: 노무비 | C30: 운반운전사 | D30: : | E30: =E70 -> 84942 | F30: 원
E31: 1/8*25/20*16/12 | H31: = | I31: =1/8*25/20*16/12 -> 0.20833333
E32: =E30 -> 84942 | F32: * | G32: =I31 -> 0.20833333 | H32: = | I32: =INT(G32*E32) -> 17696 | K32: =I32 -> 17696
A33: 덤프트럭 (6TON) | B33: 손 료 | C33: 21089000 | D33: * | E33: 2901 | F33: * | G33: 10-7 | H33: = | I33: =INT(C33*E33/10000000) -> 6117 | L33: =I33 -> 6117 | M33: '09적산정보 p618
B34: 재료비 | C34: 경 유 | D34: : | E34: 8.0ℓ | F34: * | G34: 1124.95 | H34: = | I34: =8*G34 -> 8999.6
C35: 잡유(38%) | D35: : | E35: =I34 -> 8999.6 | F35: * | G35: 0.38 | H35: = | I35: =E35*G35 -> 3419.848
C36: 소 계 | D36: : | E36: =I34 -> 8999.6 | F36: + | G36: =I35 -> 3419.848 | H36: = | I36: =INT(G36+E36) -> 12419 | J36: =I36 -> 12419
B37: 노무비 | C37: 운반운전사 | D37: : | E37: =E70 -> 84942 | F37: 원
E38: 1/8*25/20*16/12 | H38: = | I38: =1/8*25/20*16/12 -> 0.20833333
E39: =E37 -> 84942 | F39: * | G39: =I38 -> 0.20833333 | H39: = | I39: =INT(G39*E39) -> 17696 | K39: =I39 -> 17696
A40: 공기압축기 (21㎥/min) | B40: 손 료 | C40: 39000000 | D40: * | E40: 1663 | F40: * | G40: 10-7 | H40: = | I40: =INT(C40*E40/10000000) -> 6485 | L40: =I40 -> 6485 | M40: '09적산정보 p652
B41: 재료비 | C41: 경 유 | D41: : | E41: 27.6ℓ | F41: * | G41: 1124.95 | H41: = | I41: =27.6*G41 -> 31048.62
C42: 잡유(16%) | D42: : | E42: =I41 -> 31048.62 | F42: * | G42: 0.16 | H42: = | I42: =E42*G42 -> 4967.7792
C43: 소 계 | D43: : | E43: =I41 -> 31048.62 | F43: + | G43: =I42 -> 4967.7792 | H43: = | I43: =G43+E43 -> 36016.399 | J43: =I43 -> 36016.399
B44: 노무비 | C44: 건설기계운전사 | D44: : | E44: =E77 -> 98693 | F44: 원
E45: 1/8*25/20*16/12 | H45: = | I45: =1/8*25/20*16/12 -> 0.20833333
E46: =E44 -> 98693 | F46: * | G46: =I45 -> 0.20833333 | H46: = | I46: =INT(G46*E46) -> 20561 | K46: =I46 -> 20561
A55: 자재비단가
B56: ▶MUD토 [I],[ II호 ] :80,000원/㎥ | J56: 80000 | M56: 견적단가
B57: ▶MUD토[ III호 ] : 60,000원/㎥ | J57: 60000 | M57: 견적단가
B58: ▶볏짚거적 : 400원/㎡ | J58: 400 | M58: '10/01물가정보 p308
B59: ▶토양응집제 : 25,000원/kg | J59: 25000 | M59: '10/01물가정보 p308
B60: ▶장섬유(폴리프로필렌) : 4,000원/kg | J60: 4000 | M60: 견적단가
B61: ▶비료(복합비료 21-17-17) : 23,000원/20kg포 | J61: 27000 | M61: '09/06물가자료 p1280
B62: ▶혼합종자 : 10,000원/kg | J62: 10000 | M62: 견적단가
B63: ▶향토초화목본5종 : 40,000원/kg | J63: 40000 | M63: 견적단가
B64: ▶앵커핀(Φ16, L=500) : 850원/EA | J64: 850 | M64: '10/01물가정보 p308
B65: ▶앵커핀(Φ16, L=350) : 700원/EA | J65: 700 | M65: '10/01물가정보 p308
B66: ▶착지핀(Φ16, L=250) : 600원/EA | J66: 600 | M66: '10/01물가정보 p308
B67: ▶부착망(＃10, 58*58 PVC코팅) : 3,500원/㎡ | J67: 3500 | M67: '10/01물가정보 p308
B68: ▶철선(#8, PVC코팅) : 300원/m | J68: 300 | M68: '10/01물가정보 p308
A69: 노무비단가 | B69: 기계운전사 | D69: : | E69: 71594 | F69: 원 | K69: =E69 -> 71594 | M69: 10 상반기 노임단가
B70: 운반운전사 | D70: : | E70: 84942 | F70: 원 | K70: =E70 -> 84942 | M70: 10 상반기 노임단가
D71: : | K71: =E71 -> 0 | M71: 10 상반기 노임단가
B72: 특 별 인 부 | D72: : | E72: 84404 | F72: 원 | K72: =E72 -> 84404 | M72: 10 상반기 노임단가
B73: 보 통 인 부 | D73: : | E73: 68965 | F73: 원 | K73: =E73 -> 68965 | M73: 10 상반기 노임단가
B74: 착 암 공 | D74: : | E74: 79533 | F74: 원 | K74: =E74 -> 79533 | M74: 10 상반기 노임단가
B75: 작 업 반 장 | D75: : | E75: 92218 | F75: 원 | K75: =E75 -> 92218 | M75: 10 상반기 노임단가
B76: 기 계 공 | D76: : | E76: 81297 | F76: 원 | K76: =E76 -> 81297 | M76: 09 하반기 노임단가
B77: 건설기계운전사 | D77: : | E77: 98693 | F77: 원 | K77: =E77 -> 98693 | M77: 10 상반기 노임단가

Sheet 텍솔-표지
A7: 연속장섬유보강공법(텍솔)

Sheet 034-텍솔
A1: 텍솔녹화토 암절개면보호 일위대가표 (T=4cm)
A2: 명칭 | B2: 규격 | C2: 수량 | D2: 단위 | E2: 재료비 | G2: 노무비 | I2: 경비 | K2: 합계
E3: 단가 | F3: 금액 | G3: 단가 | H3: 금액 | I3: 단가 | J3: 금액
A4: 1. 앙카핀 및 착지핀 홀천공
A5: 발 전 기 | B5: 50KW | C5: 0.02 | D5: HR | E5: ='9.0중기목록'!F34 -> 11704 | F5: =INT(E5*C5) -> 234 | G5: ='9.0중기목록'!E34 -> 14915 | H5: =INT(C5*G5) -> 298 | I5: ='9.0중기목록'!G34 -> 3752 | J5: =INT(C5*I5) -> 75
A6: 착 암 공 | C6: 0.012 | D6: 인 | G6: ='11.0시중노임'!F3 -> 79533 | H6: =INT(C6*G6) -> 954
A7: 보통인부 | C7: 0.012 | D7: 인 | G7: ='11.0시중노임'!F6 -> 68965 | H7: =INT(C7*G7) -> 827
A8: 드릴및비트손료 | B8: PHD38 | C8: 품2.5% | I8: =(F5+F6+F7+H5+H6+H7+J5+J6+J7) -> 2388 | J8: =INT(I8*2.5%) -> 59
A9: 소 계 | F9: =SUM(F5:F8) -> 234 | H9: =SUM(H5:H8) -> 2079 | J9: =SUM(J5:J8) -> 134 | K9: =INT(SUM(F9:J9)) -> 2447
A10: 2. 앙카핀 및 착지핀 설치
A11: 앙 카 핀 | B11: Ø19,L0.5 | C11: 0.23 | D11: EA | E11: ='8.0자재단가'!I44 -> 830 | F11: =INT(C11*E11) -> 190
A12: 착 지 핀 | B12: Ø16,L0.35 | C12: 0.5 | D12: EA | E12: ='8.0자재단가'!I45 -> 660 | F12: =INT(C12*E12) -> 330
A13: 특별인부 | C13: 0.006 | D13: 인 | G13: ='11.0시중노임'!F5 -> 84404 | H13: =INT(C13*G13) -> 506
A14: 보통인부 | C14: 0.006 | D14: 인 | G14: ='11.0시중노임'!F6 -> 68965 | H14: =INT(C14*G14) -> 413
A15: 잡재료비 | B15: 재료비의 % | C15: 3 | D15: % | E15: =SUM(F11:F14) -> 520 | F15: =INT(E15*C15%) -> 15
A16: 기구손료 | B16: 노무비의 % | C16: 2 | D16: % | I16: =SUM(H11:H16) -> 919 | J16: =INT(I16*C16%) -> 18
A17: 소 계 | F17: =SUM(F11:F16) -> 535 | H17: =SUM(H11:H16) -> 919 | J17: =SUM(J11:J16) -> 18 | K17: =INT(SUM(F17:J17)) -> 1472
A18: 3. 부착망 설치
A19: 부 착 망 | B19: #10- 58*58 | C19: 1.2 | D19: M2 | E19: ='8.0자재단가'!I19 -> 2210 | F19: =INT(C19*E19) -> 2652
A20: 철 선 | B20: #8PVC코팅 | C20: 1.2 | D20: M | E20: ='8.0자재단가'!I20 -> 150 | F20: =INT(C20*E20) -> 180
A21: 작업반장 | C21: 0.005 | D21: 인 | G21: ='11.0시중노임'!F4 -> 92218 | H21: =INT(C21*G21) -> 461
A22: 특별인부 | C22: 0.02 | D22: 인 | G22: ='11.0시중노임'!F5 -> 84404 | H22: =INT(C22*G22) -> 1688
A23: 보통인부 | C23: 0.02 | D23: 인 | G23: ='11.0시중노임'!F6 -> 68965 | H23: =INT(C23*G23) -> 1379
A24: 잡재료비 | B24: 재료비의 % | C24: 3 | D24: % | E24: =SUM(F19:F23) -> 2832 | F24: =INT(E24*C24%) -> 84
A25: 기구손료 | B25: 노무비의 % | C25: 2 | D25: % | I25: =SUM(H19:H24) -> 3528 | J25: =INT(I25*C25%) -> 70
A26: 소 계 | F26: =INT(SUM(F19:F25)) -> 2916 | H26: =INT(SUM(H19:H25)) -> 3528 | J26: =INT(SUM(J19:J25)) -> 70 | K26: =INT(SUM(F26:J26)) -> 6514
A27: 4. 취 부 공
A28: 녹 화 토 | C28: 0.04 | D28: M3 | E28: ='8.0자재단가'!I65 -> 54000 | F28: =INT(C28*E28) -> 2160
A29: 종 자 | B29: 혼합잔디 | C29: =0.06*1000 -> 60 | D29: G | E29: ='8.0자재단가'!I23 -> 5 | F29: =INT(C29*E29) -> 300
A30: 연속장섬유 | B30: P.F.Y | C30: 0.128 | D30: kg | E30: ='8.0자재단가'!I66 -> 4000 | F30: =INT(C30*E30) -> 512
A31: 믹 서 | B31: 0.3 m3 | C31: 0.04 | D31: HR | E31: ='9.0중기목록'!F54 -> 2272 | F31: =INT(C31*E31) -> 90 | G31: ='9.0중기목록'!E54 -> 14915 | H31: =INT(C31*G31) -> 596 | I31: ='9.0중기목록'!G54 -> 4060 | J31: =INT(C31*I31) -> 162
A32: 취 부 기 | B32: 16L | C32: 0.04 | D32: HR | I32: ='9.0중기목록'!G56 -> 15971 | J32: =INT(C32*I32) -> 638
A33: 공기압축기 | B33: 17 m3/min | C33: 0.04 | D33: HR | E33: ='9.0중기목록'!F8 -> 29577 | F33: =INT(C33*E33) -> 1183 | G33: ='9.0중기목록'!E8 -> 20561 | H33: =INT(C33*G33) -> 822 | I33: ='9.0중기목록'!G8 -> 4656 | J33: =INT(C33*I33) -> 186
A34: 발 전 기 | B34: 50KW | C34: 0.04 | D34: HR | E34: ='9.0중기목록'!F34 -> 11704 | F34: =INT(C34*E34) -> 468 | G34: ='9.0중기목록'!F34 -> 11704 | H34: =INT(C34*G34) -> 468 | I34: ='9.0중기목록'!G34 -> 3752 | J34: =INT(C34*I34) -> 150
A35: 크레인 | B35: 3TON | C35: 0.04 | D35: HR | E35: ='9.0중기목록'!F58 -> 4036 | F35: =INT(C35*E35) -> 161 | G35: ='9.0중기목록'!E58 -> 17696 | H35: =INT(C35*G35) -> 707 | I35: ='9.0중기목록'!G58 -> 8036 | J35: =INT(C35*I35) -> 321
A36: 물 탱 크 | B36: 5,500L | C36: 0.04 | D36: HR | E36: ='9.0중기목록'!F14 -> 13117 | F36: =INT(C36*E36) -> 524 | G36: ='9.0중기목록'!E14 -> 17696 | H36: =INT(C36*G36) -> 707 | I36: ='9.0중기목록'!G14 -> 7823 | J36: =INT(C36*I36) -> 312
A37: 고압펌프 | B37: 200 kg/cm2 | C37: 0.04 | D37: HR | I37: ='9.0중기목록'!G60 -> 21808 | J37: =INT(C37*I37) -> 872
A38: 실사출기 | B38: 4 NOZZLE | C38: 0.04 | D38: HR | I38: ='9.0중기목록'!G40 -> 7417 | J38: =INT(C38*I38) -> 296
A39: 작업반장 | C39: 0.005 | D39: 인 | G39: ='11.0시중노임'!F4 -> 92218 | H39: =INT(C39*G39) -> 461
A40: 특별인부 | C40: 0.02 | D40: 인 | G40: ='11.0시중노임'!F5 -> 84404 | H40: =INT(C40*G40) -> 1688
A41: 기 계 공 | C41: 0.005 | D41: 인 | G41: ='11.0시중노임'!F12 -> 86521 | H41: =INT(C41*G41) -> 432
A42: 보통인부 | C42: 0.04 | D42: 인 | G42: ='11.0시중노임'!F6 -> 68965 | H42: =INT(C42*G42) -> 2758
A43: 소 계 | F43: =INT(SUM(F28:F42)) -> 5398 | H43: =INT(SUM(H28:H42)) -> 8639 | J43: =INT(SUM(J28:J42)) -> 2937 | K43: =INT(SUM(F43:J43)) -> 16974
A44: 총 계 | F44: =F43+F26+F17+F9 -> 9083 | H44: =H43+H26+H17+H9 -> 15165 | J44: =J43+J26+J17+J9 -> 3159 | K44: =K43+K26+K17+K9 -> 27407
A46: 텍솔녹화토 암절개면보호 일위대가표 (T=8cm)
A47: 명칭 | B47: 규격 | C47: 수량 | D47: 단위 | E47: 재료비 | G47: 노무비 | I47: 경비 | K47: 합계
E48: 단가 | F48: 금액 | G48: 단가 | H48: 금액 | I48: 단가 | J48: 금액
A49: 1. 앙카핀 및 착지핀 홀천공
A50: 발 전 기 | B50: 50KW | C50: 0.02 | D50: HR | E50: =E5 -> 11704 | F50: =INT(E50*C50) -> 234 | G50: =G5 -> 14915 | H50: =INT(C50*G50) -> 298 | I50: =I5 -> 3752 | J50: =INT(C50*I50) -> 75
A51: 착 암 공 | C51: 0.012 | D51: 인 | G51: ='11.0시중노임'!F3 -> 79533 | H51: =INT(C51*G51) -> 954
A52: 보통인부 | C52: 0.012 | D52: 인 | G52: ='11.0시중노임'!F6 -> 68965 | H52: =INT(C52*G52) -> 827
A53: 드릴및비트손료 | B53: PHD38 | C53: 품2.5% | I53: =(F50+F51+F52+H50+H51+H52+J50+J51+J52) -> 2388 | J53: =INT(I53*2.5%) -> 59
A54: 소 계 | F54: =SUM(F50:F53) -> 234 | H54: =SUM(H50:H53) -> 2079 | J54: =SUM(J50:J53) -> 134 | K54: =INT(SUM(F54:J54)) -> 2447
A55: 2. 앙카핀 및 착지핀 설치
A56: 앙 카 핀 | B56: Ø19,L0.5 | C56: 0.23 | D56: EA | E56: =E11 -> 830 | F56: =INT(C56*E56) -> 190
A57: 착 지 핀 | B57: Ø16,L0.35 | C57: 0.5 | D57: EA | E57: =E12 -> 660 | F57: =INT(C57*E57) -> 330
A58: 특별인부 | C58: 0.006 | D58: 인 | G58: ='11.0시중노임'!F5 -> 84404 | H58: =INT(C58*G58) -> 506
A59: 보통인부 | C59: 0.006 | D59: 인 | G59: ='11.0시중노임'!F6 -> 68965 | H59: =INT(C59*G59) -> 413
A60: 잡재료비 | B60: 재료비의 % | C60: 3 | D60: % | E60: =SUM(F56:F59) -> 520 | F60: =INT(E60*C60%) -> 15
A61: 기구손료 | B61: 노무비의 % | C61: 2 | D61: % | I61: =SUM(H56:H61) -> 919 | J61: =INT(I61*C61%) -> 18
A62: 소 계 | F62: =SUM(F56:F61) -> 535 | H62: =SUM(H56:H61) -> 919 | J62: =SUM(J56:J61) -> 18 | K62: =INT(SUM(F62:J62)) -> 1472
A63: 3. 부착망 설치
A64: 부 착 망 | B64: #10- 58*58 | C64: 1.2 | D64: M2 | E64: =E19 -> 2210 | F64: =INT(C64*E64) -> 2652
A65: 철 선 | B65: #8PVC코팅 | C65: 1.2 | D65: M | E65: =E20 -> 150 | F65: =INT(C65*E65) -> 180
A66: 작업반장 | C66: 0.005 | D66: 인 | G66: ='11.0시중노임'!F4 -> 92218 | H66: =INT(C66*G66) -> 461
A67: 특별인부 | C67: 0.02 | D67: 인 | G67: ='11.0시중노임'!F5 -> 84404 | H67: =INT(C67*G67) -> 1688
A68: 보통인부 | C68: 0.02 | D68: 인 | G68: ='11.0시중노임'!F6 -> 68965 | H68: =INT(C68*G68) -> 1379
A69: 잡재료비 | B69: 재료비의 % | C69: 3 | D69: % | E69: =SUM(F64:F68) -> 2832 | F69: =INT(E69*C69%) -> 84
A70: 기구손료 | B70: 노무비의 % | C70: 2 | D70: % | I70: =SUM(H64:H69) -> 3528 | J70: =INT(I70*C70%) -> 70
A71: 소 계 | F71: =INT(SUM(F64:F70)) -> 2916 | H71: =INT(SUM(H64:H70)) -> 3528 | J71: =INT(SUM(J64:J70)) -> 70 | K71: =INT(SUM(F71:J71)) -> 6514
A72: 4. 취 부 공
A73: 녹 화 토 | C73: 0.08 | D73: M3 | E73: =E28 -> 54000 | F73: =INT(C73*E73) -> 4320
A74: 종 자 | B74: 혼합잔디 | C74: =0.12*1000 -> 120 | D74: G | E74: =E29 -> 5 | F74: =INT(C74*E74) -> 600
A75: 연속장섬유 | B75: P.F.Y | C75: 0.256 | D75: kg | E75: =E30 -> 4000 | F75: =INT(C75*E75) -> 1024
A76: 믹 서 | B76: 0.3 m3 | C76: 0.08 | D76: HR | E76: =E31 -> 2272 | F76: =INT(C76*E76) -> 181 | G76: =G31 -> 14915 | H76: =INT(C76*G76) -> 1193 | I76: =I31 -> 4060 | J76: =INT(C76*I76) -> 324
A77: 취 부 기 | B77: 16L | C77: 0.08 | D77: HR | I77: =I32 -> 15971 | J77: =INT(C77*I77) -> 1277
A78: 공기압축기 | B78: 17 m3/min | C78: 0.08 | D78: HR | E78: =E33 -> 29577 | F78: =INT(C78*E78) -> 2366 | G78: =G33 -> 20561 | H78: =INT(C78*G78) -> 1644 | I78: =I33 -> 4656 | J78: =INT(C78*I78) -> 372
A79: 발 전 기 | B79: 50KW | C79: 0.08 | D79: HR | E79: =E34 -> 11704 | F79: =INT(C79*E79) -> 936 | G79: =G34 -> 11704 | H79: =INT(C79*G79) -> 936 | I79: =I34 -> 3752 | J79: =INT(C79*I79) -> 300
A80: 크레인 | B80: 5TON | C80: 0.08 | D80: HR | E80: =E35 -> 4036 | F80: =INT(C80*E80) -> 322 | G80: =G35 -> 17696 | H80: =INT(C80*G80) -> 1415 | I80: =I35 -> 8036 | J80: =INT(C80*I80) -> 642
A81: 물 탱 크 | B81: 5,500L | C81: 0.08 | D81: HR | E81: =E36 -> 13117 | F81: =INT(C81*E81) -> 1049 | G81: =G36 -> 17696 | H81: =INT(C81*G81) -> 1415 | I81: =I36 -> 7823 | J81: =INT(C81*I81) -> 625
A82: 고압펌프 | B82: 200 kg/cm2 | C82: 0.08 | D82: HR | I82: =I37 -> 21808 | J82: =INT(C82*I82) -> 1744
A83: 실사출기 | B83: 4 NOZZLE | C83: 0.08 | D83: HR | I83: =I38 -> 7417 | J83: =INT(C83*I83) -> 593
A84: 작업반장 | C84: 0.01 | D84: 인 | G84: ='11.0시중노임'!F4 -> 92218 | H84: =INT(C84*G84) -> 922
A85: 특별인부 | C85: 0.04 | D85: 인 | G85: ='11.0시중노임'!F5 -> 84404 | H85: =INT(C85*G85) -> 3376
A86: 기 계 공 | C86: 0.01 | D86: 인 | G86: ='11.0시중노임'!F12 -> 86521 | H86: =INT(C86*G86) -> 865
A87: 보통인부 | C87: 0.08 | D87: 인 | G87: ='11.0시중노임'!F6 -> 68965 | H87: =INT(C87*G87) -> 5517
A88: 소 계 | F88: =INT(SUM(F73:F87)) -> 10798 | H88: =INT(SUM(H73:H87)) -> 17283 | J88: =INT(SUM(J73:J87)) -> 5877 | K88: =INT(SUM(F88:J88)) -> 33958
A89: 총 계 | F89: =F88+F71+F62+F54 -> 14483 | H89: =H88+H71+H62+H54 -> 23809 | J89: =J88+J71+J62+J54 -> 6099 | K89: =K88+K71+K62+K54 -> 44391
A91: 텍솔녹화토 암절개면보호 일위대가표 (T=12cm)
A92: 명칭 | B92: 규격 | C92: 수량 | D92: 단위 | E92: 재료비 | G92: 노무비 | I92: 경비 | K92: 합계
E93: 단가 | F93: 금액 | G93: 단가 | H93: 금액 | I93: 단가 | J93: 금액
A94: 1. 앙카핀 및 착지핀 홀천공
A95: 발 전 기 | B95: 50KW | C95: 0.02 | D95: HR | E95: =E50 -> 11704 | F95: =INT(E95*C95) -> 234 | G95: =G50 -> 14915 | H95: =INT(C95*G95) -> 298 | I95: =I50 -> 3752 | J95: =INT(C95*I95) -> 75
A96: 착 암 공 | C96: 0.012 | D96: 인 | G96: ='11.0시중노임'!F3 -> 79533 | H96: =INT(C96*G96) -> 954
A97: 보통인부 | C97: 0.012 | D97: 인 | G97: ='11.0시중노임'!F6 -> 68965 | H97: =INT(C97*G97) -> 827
A98: 드릴및비트손료 | B98: PHD38 | C98: 품2.5% | I98: =(F95+F96+F97+H95+H96+H97+J95+J96+J97) -> 2388 | J98: =INT(I98*2.5%) -> 59
A99: 소 계 | F99: =SUM(F95:F98) -> 234 | H99: =SUM(H95:H98) -> 2079 | J99: =SUM(J95:J98) -> 134 | K99: =INT(SUM(F99:J99)) -> 2447
A100: 2. 앙카핀 및 착지핀 설치
A101: 앙 카 핀 | B101: Ø19,L0.5 | C101: 0.23 | D101: EA | E101: =E56 -> 830 | F101: =INT(C101*E101) -> 190
A102: 착 지 핀 | B102: Ø16,L0.35 | C102: 0.5 | D102: EA | E102: =E57 -> 660 | F102: =INT(C102*E102) -> 330
...

Sheet 1-잔디
I22: 구 분 | K22: 적용 | M22: 단 가 | P22: 비 고
I23: 성 토 | K23: 줄 떼 | M23: =X83 -> 5069
I24: 절 토 | K24: 평 떼 | M24: =X123 -> 9979
A44: 산 출 근 거 | O44: 재료비 | R44: 노무비 | U44: 경 비 | X44: 합 계
A45: ▣ 줄 떼 (m2)
A47: 1.0 재 료 비
A48: - 잔디(0.3*0.3m) :
B49: 11 | C49: 매 | D49: * ( | E49: 1.1 | F49: / | G49: 3 | H49: ) * | I49: ='8.0자재단가'!I21 -> 220
I50: = | J50: =ROUND(B49*E49/G49*I49,1) -> 887.3 | O50: =J50 -> 887.3 | X50: =SUM(O50:W50) -> 887.3
A52: 2.0 소 운 반
A53: - | B53: 사용장비 : 지게
B54: V (평균왕복속도) | I54: = | J54: 2000 | L54: m/hr
B55: T (1일작업시간:480분-30분) = | J55: =480-30 -> 450 | L55: min
B56: L (운반거리 = | I56: = | J56: 100 | L56: m
B57: t (적재적하소요시간) | I57: = | J57: 2 | L57: min
B58: q (1회운반량) | I58: = | J58: 30 | L58: 매/회(줄떼)
A59: - | B59: N (횟수) = V*T/(120*L+V*t) = | J59: =ROUND(J54*J55/(120*J56+J54*J57),3) -> 56.25 | L59: 회/일
A60: - | B60: Q (1일운반량) = N * q | I60: = | J60: =J59*J58 -> 1687.5 | L60: 매/일
A61: - | B61: 보통인부 : | E61: 1인/Q*11매*1.1 | I61: * | J61: ='11.0시중노임'!F6 -> 68965
I62: = | J62: =ROUND(1/J60*B49*1.1*J61,1) -> 494.5 | R62: =J62 -> 494.5 | X62: =SUM(O62:W62) -> 494.5
A64: 3.0 떼 붙 임
A65: - | B65: 보통인부 : | E65: (5.0 / 100)인* | I65: ='11.0시중노임'!F6 -> 68965
I66: = | J66: =ROUND((5/100)*I65,1) -> 3448.3 | R66: =J66 -> 3448.3 | X66: =SUM(O66:W66) -> 3448.3
A68: 5.0 작업반장(보통인부 25~50인 적용)
A69: - | B69: 보통인부 :
A70: (((0.24+0.19)/2/10)+7.6/100)/((25+50)/2)* | M70: ='11.0시중노임'!F4 -> 92218
I71: = | J71: =ROUND((((0.24+0.19)/2/10)+(7.6/100))/((25+50)/2)*M70,1) -> 239.8 | R71: =J71 -> 239.8 | X71: =SUM(O71:W71) -> 239.8
B83: 계 | O83: =INT(SUM(O47:Q82)) -> 887 | R83: =INT(SUM(R47:T82)) -> 4182 | U83: =SUM(U47:W82) -> 0 | X83: =INT(SUM(X47:Z82)) -> 5069
A84: 산 출 근 거 | O84: 재료비 | R84: 노무비 | U84: 경 비 | X84: 합 계
A85: ▣ 평 떼 (m2)
A87: 1.0 재 료 비
A88: - 잔디(0.3*0.3m) :
A89: 11 | C89: 매 | D89: * | E89: 1.1 | F89: * | G89: ='8.0자재단가'!I21 -> 220 | I89: = | J89: =ROUND(A89*E89*G89,1) -> 2662 | O89: =J89 -> 2662 | X89: =SUM(O89:W89) -> 2662
A91: 2.0 소 운 반
A92: - | B92: 사용장비 : 지게
B93: V (평균왕복속도) | I93: = | J93: 2000 | L93: m/hr
B94: T (1일작업시간:480분-30분) = | J94: =480-30 -> 450 | L94: min
B95: L (운반거리 = | I95: = | J95: 100 | L95: m
B96: t (적재적하소요시간) | I96: = | J96: 2 | L96: min
B97: q (1회운반량) | I97: = | J97: 10 | L97: 매/회(평떼)
A98: - | B98: N (횟수) = V*T/(120*L+V*t) = | J98: =ROUND(J93*J94/(120*J95+J93*J96),3) -> 56.25 | L98: 회/일
A99: - | B99: Q (1일운반량) = N * q | I99: = | J99: =J98*J97 -> 562.5 | L99: 매/일
A100: - | B100: 보통인부 : | E100: 1인/Q*11매*1.1 | I100: * | J100: ='11.0시중노임'!F6 -> 68965
I101: = | J101: =ROUND(1/J99*A89*1.1*J100,1) -> 1483.5 | R101: =J101 -> 1483.5 | X101: =SUM(O101:W101) -> 1483.5
A103: 3.0 떼 붙 임
A104: - | B104: 보통인부 : | E104: (6.0 / 100)인* | I104: ='11.0시중노임'!F6 -> 68965
I105: = | J105: =ROUND((6/100)*I104,1) -> 4137.9 | R105: =J105 -> 4137.9 | X105: =SUM(O105:W105) -> 4137.9
A107: 4.0 꼬치 : 1일 1인 1000개제작
A108: - | B108: 보통인부 : | E108: 1인 * (22/1000) * | J108: ='11.0시중노임'!F6 -> 68965
I109: = | J109: =ROUND((22/1000)*J108,1) -> 1517.2 | R109: =J109 -> 1517.2 | X109: =SUM(O109:W109) -> 1517.2
A111: 5.0 작업반장(보통인부 25~50인 적용)
A112: - | B112: 보통인부 :
A113: (((0.24+0.19)/2/10)+7.6/100)/((25+50)/2)* | M113: ='11.0시중노임'!F6 -> 68965
I114: = | J114: =ROUND((((0.24+0.19)/2/10)+(7.6/100))/((25+50)/2)*M113,1) -> 179.3 | R114: =J114 -> 179.3 | X114: =SUM(O114:W114) -> 179.3
B123: 계 | O123: =INT(SUM(O87:Q122)) -> 2662 | R123: =INT(SUM(R87:T122)) -> 7317 | U123: =SUM(U87:W122) -> 0 | X123: =INT(SUM(X87:Z122)) -> 9979

Sheet 2-거적
C21: 구 분 | F21: 단 가(\/m2) | H21: 비 고
C22: 성토 | F22: =L74 -> 4513
C23: 절토 | F23: =L100 -> 4720
B51: 볏짚(거적) 녹화공사 M2당 단가 내역서(성토)
A52: 명칭 | B52: 규격 | C52: 단위 | D52: 수량 | E52: 재료비 | G52: 노무비 | I52: 경비 | K52: 계
E53: 단가 | F53: 금액 | G53: 단가 | H53: 금액 | I53: 단가 | J53: 금액 | K53: 단가 | L53: 금액
A54: 1. 볏짚(거적) 시공
A55: 볏 짚 | B55: 100*100 | C55: M2 | D55: 1.2 | E55: ='8.0자재단가'!I28 -> 300 | F55: =INT(D55*E55) -> 360
A56: 앙 카 핀 | B56: L=20-30 | C56: 개 | D56: 0.7 | E56: ='8.0자재단가'!I35 -> 280 | F56: =INT(D56*E56) -> 196
A57: 비 닐 끈 | C57: M | D57: 0.7 | E57: ='8.0자재단가'!I37 -> 30 | F57: =INT(D57*E57) -> 21
A58: 설 치 비 | B58: 작업반장 | C58: 인 | D58: 0.001 | G58: ='11.0시중노임'!F4 -> 92218 | H58: =D58*G58 -> 92.218
A59: 설 치 비 | B59: 특별인부 | C59: 인 | D59: 0.006 | G59: ='11.0시중노임'!F5 -> 84404 | H59: =D59*G59 -> 506.424
A60: 설 치 비 | B60: 보통인부 | C60: 인 | D60: 0.012 | G60: ='11.0시중노임'!F6 -> 68965 | H60: =D60*G60 -> 827.58
A61: 소 계 | F61: =INT(SUM(F55:F60)) -> 577 | H61: =INT(SUM(H55:H60)) -> 1426 | L61: =INT(F61+H61+J61) -> 2003
A62: 2. 종자기계파종(SEED SPRAY)
A63: 종 자 | B63: 양잔디혼합 | C63: G | D63: 25 | E63: ='8.0자재단가'!I23 -> 5 | F63: =INT(D63*E63) -> 125
A64: 피 복 양 생 제 | B64: 제지펄프 | C64: G | D64: 250 | E64: ='8.0자재단가'!I25 -> 0.7 | F64: =INT(D64*E64) -> 175
A65: 침식방지안정제 | B65: CMC접착제 | C65: G | D65: 100 | E65: ='8.0자재단가'!I26 -> 2 | F65: =INT(D65*E65) -> 200
A66: 비 료 | B66: 복 합 | C66: G | D66: 100 | E66: ='8.0자재단가'!I24 -> 1.05 | F66: =INT(D66*E66) -> 105
A67: 색 소 | B67: M-GREEN | C67: G | D67: 2 | E67: ='8.0자재단가'!I27 -> 14 | F67: =INT(D67*E67) -> 28
A68: 살 포 공 | B68: 특별인부 | C68: 인 | D68: 0.002 | G68: ='11.0시중노임'!F5 -> 84404 | H68: =D68*G68 -> 168.808
A69: 살 포 공 | B69: 보통인부 | C69: 인 | D69: 0.018 | G69: ='11.0시중노임'!F6 -> 68965 | H69: =D69*G69 -> 1241.37
A70: 종 자 살 포 기 | C70: HR | D70: 0.0064 | E70: 8451 | F70: =INT(D70*E70) -> 54 | G70: 16925 | H70: =D70*G70 -> 108.32 | I70: 8159 | J70: =I70*D70 -> 52.2176
A71: 물 탱 크 펌 프 | B71: 5,500 L | C71: HR | D71: 0.008 | E71: 9139 | F71: =INT(D71*E71) -> 73 | G71: 12886 | H71: =D71*G71 -> 103.088 | I71: 9690 | J71: =D71*I71 -> 77.52
A72: 소 계 | F72: =INT(SUM(F63:F71)) -> 760 | H72: =INT(SUM(H68:H71)) -> 1621 | J72: =INT(SUM(J68:J71)) -> 129 | L72: =INT(F72+H72+J72) -> 2510
B73: * 정부부서에 따라 설계내용이 다를수 있으며 물가변동으로 단가에 차이가 있을수 있음.
A74: 합 계 | B74: (제세공과잡비 별도) | F74: =INT(F72+F61) -> 1337 | H74: =INT(H72+H61) -> 3047 | J74: =INT(J72+J61) -> 129 | L74: =INT(L72+L61) -> 4513
L75: 풍 록 원
B77: 볏짚(거적) 녹화공사 M2당 단가 내역서(절토)
A78: 명칭 | B78: 규격 | C78: 단위 | D78: 수량 | E78: 재료비 | G78: 노무비 | I78: 경비 | K78: 계
E79: 단가 | F79: 금액 | G79: 단가 | H79: 금액 | I79: 단가 | J79: 금액 | K79: 단가 | L79: 금액
A80: 1. 볏짚(거적) 시공
A81: 볏 짚 | B81: 100*100 | C81: M2 | D81: 1.2 | E81: ='8.0자재단가'!I28 -> 300 | F81: =INT(D81*E81) -> 360
A82: 앙 카 핀 | B82: L=20-30 | C82: 개 | D82: 0.7 | E82: ='8.0자재단가'!I35 -> 280 | F82: =INT(D82*E82) -> 196
A83: 비 닐 끈 | C83: M | D83: 0.7 | E83: ='8.0자재단가'!I37 -> 30 | F83: =INT(D83*E83) -> 21
A84: 설 치 비 | B84: 작업반장 | C84: 인 | D84: 0.001 | G84: ='11.0시중노임'!F4 -> 92218 | H84: =D84*G84 -> 92.218
A85: 설 치 비 | B85: 특별인부 | C85: 인 | D85: 0.006 | G85: ='11.0시중노임'!F5 -> 84404 | H85: =D85*G85 -> 506.424
A86: 설 치 비 | B86: 보통인부 | C86: 인 | D86: 0.015 | G86: ='11.0시중노임'!F6 -> 68965 | H86: =D86*G86 -> 1034.475
