Workbook

Sheet 시공상세도작성비
A1: 시 공 상 세 도 작 성 비
B3: 1. 시공상세도작성요율(요율산정참고) | F3: ='금회금액 작성요율'!H7 -> 35 | H3: 억원
F4: ='금회금액 작성요율'!H4 -> 38.81338 | H4: 억원 | I4: (VAT)
B5: - 단 순 : | G5: ='금회금액 작성요율'!F21 -> 0.644 | H5: %
B6: - 보 통 : | G6: ='금회금액 작성요율'!F31 -> 0.717 | H6: %
B7: - 복 잡 : | G7: ='금회금액 작성요율'!F41 -> 0.79 | H7: %
B9: 2. 시공상세도작성비 산출
B11: 시공상세도작성비 = ∑(시설물난이도별 공사비 ×시설물난이도별 요율)
B13: 난이도별 공사비율은 다음과 같이 가정 하고 사후 정산한다. | F13: (단순: | G13: 0.5 | H13: ,보통: | I13: 0.3 | J13: ,복잡: | K13: 0.2 | L13: )
B16: - 단 순 = 공사비 ×요율 = | E16: =INT($F$3*G13*100) -> 1750 | F16: 백만원 × | G16: =G5 -> 0.644 | H16: % | K16: = | L16: =INT(E16*G16/100*100)*10000 -> 11270000 | M16: 원
B19: - 보 통 = 공사비 ×요율 = | E19: =INT($F$3*I13*100) -> 1050 | F19: 백만원 × | G19: =G6 -> 0.717 | H19: % | K19: = | L19: =INT(E19*G19/100*100)*10000 -> 7520000 | M19: 원
B22: - 복 잡 = 공사비 ×요율 = | E22: =INT($F$3*K13*100) -> 700 | F22: 백만원 × | G22: =G7 -> 0.79 | H22: % | K22: = | L22: =INT(E22*G22/100*100)*10000 -> 5530000 | M22: 원
B26: - 계 | E26: =SUM(E16:E22) -> 3500 | F26: 백만원 | K26: = | L26: =INT((L16+L19+L22)) -> 24320000 | M26: 원
B28: 3. 시공상세도 매수산정
B30: - 단 순 = 작성비 ÷ 매당 단가 =
E31: =L16 -> 11270000 | F31: 원 ÷ | G31: ='1장당산출근거'!O16 -> 157603 | I31: 원 | K31: = | L31: =INT(E31/G31) -> 71 | M31: 매
B33: - 보 통 = 작성비 ÷ 매당 단가 =
E34: =L19 -> 7520000 | F34: 원 ÷ | G34: ='1장당산출근거'!O18 -> 243560 | I34: 원 | K34: = | L34: =INT(E34/G34) -> 30 | M34: 매
B36: - 복 잡 = 작성비 ÷ 매당 단가 =
E37: =L22 -> 5530000 | F37: 원 ÷ | G37: ='1장당산출근거'!O21 -> 372614 | I37: 원 | K37: = | L37: =INT(E37/G37) -> 14 | M37: 매
B39: - 계 | K39: = | L39: =INT((L31+L34+L37)) -> 115 | M39: 매

Sheet 금회금액 작성요율
A1: 시공상세도 작성요율 산출 | K1: 도급액 | L1: 관급자재대
K2: 115750000 | L2: 3765588000
A3: 1 . 공사비 | H3: (도급액+자재비(관급))
B4: ◎ 00000 정비사업 : | G4: = | H4: =(K2+L2)/100000000 -> 38.81338 | I4: 억원
A6: 2 . 적용대상 공사비 : 추정공사비 ÷ 부가가치세
D7: =H4 -> 38.81338 | E7: 백만원 ÷ | F7: 1.1 | G7: = | H7: =ROUND(D7/F7,0) -> 35 | I7: 억원
A8: 3. 시공상세도 적용요율
B9: 요율 공사비 | C9: 업 무 별 요 율(%)
C10: 단순 | D10: 보통 | E10: 복잡 | F10: 계
B11: =시공상세도작성요율표!A11 -> 30억원 이하 | C11: =시공상세도작성요율표!B11 -> 0.68 | D11: =시공상세도작성요율표!C11 -> 0.76 | E11: =시공상세도작성요율표!D11 -> 0.84
B12: =시공상세도작성요율표!A12 -> 50억원 이하 | C12: =시공상세도작성요율표!B12 -> 0.62 | D12: =시공상세도작성요율표!C12 -> 0.69 | E12: =시공상세도작성요율표!D12 -> 0.76
B14: ㅇ 직선보간법 | C14: (단순)
B15: 구 분 | C15: 공사비(억원) | E15: 적용요율(%) | G15: 비 고
B16: 실시설계 | C16: x2 | D16: 50 | E16: y1 | F16: 0.62
C17: x1 | D17: 100 | E17: y2 | F17: 0.54
C18: x | D18: =$H$7 -> 35 | E18: Y | F18: =F21 -> 0.644
B19: ※ x : 당해금액, x1 : 큰금액, x2 : 작은금액, y : 당해공사비요율, y1 : 작은금액요율 y2 : 큰금액요율
B21: Y = y1- | C21: {(x-x2)×(y1-y2)} | E21: = | F21: =ROUND(F16 - ((D18-D16)*(F16-F17)) / (D17-D16),3) -> 0.644 | G21: %
C22: (x1-x2)
B24: ㅇ 직선보간법 | C24: (보통)
B25: 구 분 | C25: 공사비(억원) | E25: 적용요율(%) | G25: 비 고
B26: 실시설계 | C26: x2 | D26: 50 | E26: y1 | F26: 0.69
C27: x1 | D27: 100 | E27: y2 | F27: 0.6
C28: x | D28: =$H$7 -> 35 | E28: Y | F28: =F31 -> 0.717
B29: ※ x : 당해금액, x1 : 큰금액, x2 : 작은금액, y : 당해공사비요율, y1 : 작은금액요율 y2 : 큰금액요율
B31: Y = y1- | C31: {(x-x2)×(y1-y2)} | E31: = | F31: =ROUND(F26 - ((D28-D26)*(F26-F27)) / (D27-D26),3) -> 0.717 | G31: %
C32: (x1-x2)
B34: ㅇ 직선보간법 | C34: (복잡)
B35: 구 분 | C35: 공사비(억원) | E35: 적용요율(%) | G35: 비 고
B36: 실시설계 | C36: x2 | D36: 50 | E36: y1 | F36: 0.76
C37: x1 | D37: 100 | E37: y2 | F37: 0.66
C38: x | D38: =$H$7 -> 35 | E38: Y | F38: =F41 -> 0.79
B39: ※ x : 당해금액, x1 : 큰금액, x2 : 작은금액, y : 당해공사비요율, y1 : 작은금액요율 y2 : 큰금액요율
B41: Y = y1- | C41: {(x-x2)×(y1-y2)} | E41: = | F41: =ROUND(F36 - ((D38-D36)*(F36-F37)) / (D37-D36),3) -> 0.79 | G41: %
C42: (x1-x2)

Sheet 1장당산출근거
A2: 시공상세도 1장당 단가 산출근거
A4: 작성 난이도 | B4: 1장당 단가 산출근거
A5: 단 순 | B5: {(0.24 × 초급기술자 노임단가) + (0.49 × 중급기능사 노임단가)}
A6: 보 통 | B6: {(0.34 × 중급기술자 노임단가) + (0.70 × 중급기능사 노임단가)}
A7: 복 잡 | B7: {(0.20 × 고급기술자 노임단가) + (0.44 × 중급기술자 노임단가) + (0.91 × 중급기능사 노임단가)}
A9: 노 임 단 가
A10: 분 야 | B10: 등급 및 종목 | F10: 노임단가 | K10: 기준 | O10: 비고
A11: 건설기술자 | B11: 고급기술자 | F11: 282545 | K11: 2018
B12: 중급기술자 | F12: 261571 | K12: 2018
B13: 초급기술자 | F13: 205686 | K13: 2018
B14: 중급기능사 | F14: 220894 | K14: 2018
O15: 1장당단가
A16: 단순 | B16: = | C16: {( | D16: 0.24 | E16: × | F16: =F13 -> 205686 | H16: )+ | I16: ( | J16: 0.49 | K16: × | L16: =F14 -> 220894 | N16: )}= | O16: =ROUND((D16*F16)+(J16*L16),0) -> 157603 | Q16: 원
A18: 보통 | B18: = | C18: {( | D18: 0.34 | E18: × | F18: =F12 -> 261571 | H18: )+ | I18: ( | J18: 0.7 | K18: × | L18: =F14 -> 220894 | N18: )}= | O18: =ROUND((D18*F18)+(J18*L18),0) -> 243560 | Q18: 원
A20: 복잡 | B20: = | C20: {( | D20: 0.2 | E20: × | F20: =F11 -> 282545 | H20: )+ | I20: ( | J20: 0.44 | K20: × | L20: =F12 -> 261571 | N20: )+
C21: ( | D21: 0.91 | E21: × | F21: =F14 -> 220894 | H21: )} | N21: = | O21: =ROUND((D20*F20)+(J20*L20)+(D21*F21),0) -> 372614 | Q21: 원

Sheet 시공상세도작성요율표
A1: 시공상세도작성비의 요율
B3: 시설물 난이도별 요율(%)
B4: 단순 | C4: 보통 | D4: 복잡
A5: 1억원 이하 | B5: 1.31 | C5: 1.46 | D5: 1.61
A6: 2억원 이하 | B6: 1.15 | C6: 1.28 | D6: 1.41
A7: 3억원 이하 | B7: 1.06 | C7: 1.18 | D7: 1.3
A8: 5억원 이하 | B8: 0.96 | C8: 1.07 | D8: 1.18
A9: 10억원 이하 | B9: 0.85 | C9: 0.94 | D9: 1.03
A10: 20억원 이하 | B10: 0.74 | C10: 0.82 | D10: 0.9
A11: 30억원 이하 | B11: 0.68 | C11: 0.76 | D11: 0.84
A12: 50억원 이하 | B12: 0.62 | C12: 0.69 | D12: 0.76
A13: 100억원 이하 | B13: 0.54 | C13: 0.6 | D13: 0.66
A14: 200억원 이하 | B14: 0.48 | C14: 0.53 | D14: 0.58
A15: 300억원 이하 | B15: 0.44 | C15: 0.49 | D15: 0.54
A16: 500억원 이하 | B16: 0.4 | C16: 0.44 | D16: 0.48
... A20: 5,000억원 이하 | B20: 0.25 | C20: 0.28 | D20: 0.31
A21: 5,000억원 초과 | B21: 단순공종요율
B22: = 45.5535 × (공사비)-0.1924
B24: 보통공종요율
B25: = 50.6135 × (공사비)-0.1924
B27: 복잡공종요율
B28: = 55.6734 × (공사비)-0.1924
A30: 비고. 5,000억원 초과의 경우 공식에 의해 산출된 요율은 소수점 셋째자리에서 반올림한다.
