Workbook
Name \a: [1]입력!#REF!
Name \b: [1]입력!#REF!
Name \c: #N/A
Name A: #REF!
Name ASB: #REF!
Name ASL: #REF!
Name AST: #REF!
Name B.1: #REF!
Name B.2: #REF!
Name B.3: #REF!
Name B.4: #REF!
Name BB: #REF!
Name CH: #REF!
Name D.1: #REF!
Name D.2: #REF!
Name DEA: #REF!
Name dia_mm: [2]말뚝지지력산정!$J$19
Name EA: #REF!
Name FB: #REF!
Name GO: #REF!
Name H.1: #REF!
Name H.10: #REF!
Name H.2: #REF!
Name H.3: #REF!
Name H.4: #REF!
Name H.5: #REF!
Name H.6: #REF!
Name H.7: #REF!
Name H.8: #REF!
Name H.9: #REF!
Name h_water: '[3]3BL공동구 수량'!#REF!
Name IL: #REF!
Name KB: '[4]3련 BOX'!#REF!
Name KH.1: '[4]3련 BOX'!#REF!
Name KL: '[4]3련 BOX'!#REF!
Name LB: [2]말뚝지지력산정!$L$22
Name LH: #REF!
Name LH.4: #REF!
Name LH.7: #REF!
Name LL: #REF!
Name MB.1: #REF!
Name MB.2: #REF!
Name MCB: #REF!
Name MCH: #REF!
Name MH: #REF!
Name MYB.1: #REF!
Name MYB.2: #REF!
Name MYH: #REF!
Name PA: #REF!
Name PB: #REF!
Name PBB: #REF!
Name PC: #REF!
Name PD: #REF!
Name PE: #REF!
Name PEA: #REF!
Name PEAK: #N/A
Name PF: #REF!
Name PG: #REF!
Name PH: #REF!
Name PI: #REF!

Sheet 표지
A4: 오목도로 구조개선사업
A7: 편입용지조서
A29: 2014. 4.
A47: 충청남도종합건설사업소홍성지소

Sheet 집계표(소유자별)-1공구
A1: 편 입 용 지 집 계 표 (1공구)
A3: 구 분 | B3: 지적면적 (M2) | C3: 편 입 용 지 집 계 표 | K3: 비 고
C4: 국·공유지 | I4: 사유지 | J4: 계
C5: 건설교통부 | D5: 농림수산부 | E5: 충청남도 | H5: 소계
A6: 전 | B6: ='토지조서(배수로)-1공구'!F17+'토지조서(배수로)-1공구'!F19+'토지조서(배수로)-1공구'!F23 -> 514 | E6: ='토지조서(배수로)-1공구'!G17+'토지조서(배수로)-1공구'!G19+'토지조서(배수로)-1공구'!G23 -> 273 | H6: =SUM(C6:G6) -> 273 | J6: =H6+I6 -> 273
A7: 구 | B7: ='토지조서(배수로)-1공구'!F10+'토지조서(배수로)-1공구'!F25 -> 3289 | D7: ='토지조서(배수로)-1공구'!G10+'토지조서(배수로)-1공구'!G25 -> 25 | H7: =SUM(C7:G7) -> 25 | J7: =H7+I7 -> 25
A8: 도 | B8: ='토지조서(배수로)-1공구'!F5+'토지조서(배수로)-1공구'!F6+'토지조서(배수로)-1공구'!F9+'토지조서(배수로)-1공구'!F11+'토지조서(배수로)-1공구'!F12+'토지조서(배수로)-1공구'!F13+'토지조서(배수로)-1공구'!F14+'토지조서(배수로)-1공구'!F15+'토지조서(배수로)-1공구'!F18+'토지조서(배수로)-1공구'!F21+'토지조서(배수로)-1공구'!F24 -> 11193 | C8: ='토지조서(배수로)-1공구'!G5+'토지조서(배수로)-1공구'!G12+'토지조서(배수로)-1공구'!G13+'토지조서(배수로)-1공구'!G14+'토지조서(배수로)-1공구'!G15+'토지조서(배수로)-1공구'!G18+'토지조서(배수로)-1공구'!G21+'토지조서(배수로)-1공구'!G24 -> 1019 | E8: ='토지조서(배수로)-1공구'!G9+'토지조서(배수로)-1공구'!G11 -> 178 | H8: =SUM(C8:G8) -> 1197 | I8: ='토지조서(배수로)-1공구'!G6 -> 13 | J8: =H8+I8 -> 1210
A9: 답 | B9: ='토지조서(배수로)-1공구'!F7+'토지조서(배수로)-1공구'!F8+'토지조서(배수로)-1공구'!F16+'토지조서(배수로)-1공구'!F20+'토지조서(배수로)-1공구'!F22 -> 263 | E9: ='토지조서(배수로)-1공구'!G7+'토지조서(배수로)-1공구'!G8+'토지조서(배수로)-1공구'!G16+'토지조서(배수로)-1공구'!G20+'토지조서(배수로)-1공구'!G22 -> 159 | H9: =SUM(C9:G9) -> 159 | J9: =H9+I9 -> 159
A10: 계 | B10: =SUM(B6:B9) -> 15259 | C10: =SUM(C6:C9) -> 1019 | D10: =SUM(D6:D9) -> 25 | E10: =SUM(E6:E9) -> 610 | F10: =SUM(F6:F9) -> 0 | G10: =SUM(G6:G9) -> 0 | H10: =SUM(H6:H9) -> 1654 | I10: =SUM(I6:I9) -> 13 | J10: =SUM(J6:J9) -> 1667
J11: =J10+'집계표(소유자별)-3공구'!K13 -> 5447
B12: =B10+'집계표(소유자별)-3공구'!B13 -> 34891
A45: 중로 1-62 호선 편입 토지조서 (3)
A74: 중로 1-62 호선 편입 토지조서 (4)

Sheet 토지조서(배수로)-1공구
A1: 편 입 용 지 조 서(1공구)
A3: 번호 | B3: 소 재 지 | E3: 지목 | F3: 지적면적 | G3: 편입면적 | H3: 소 유 자 | J3: 관 계 자 | L3: 비 고
B4: 면 | C4: 동 리 | D4: 지 번 | H4: 성 명 | I4: 주 소 | J4: 성 명 | K4: 주 소
A5: 1 | B5: 신창 | C5: 읍내 | D5: 703 | E5: 도 | F5: 7963 | G5: =380+23 -> 403 | H5: 건설부 | I5: 국
A6: 2 | B6: " | C6: " | D6: 268-4 | E6: 도 | F6: 13 | G6: 13 | H6: 이성기 | I6: 온양시 온천동 37-47 | L6: 전필
A7: 3 | B7: " | C7: " | D7: 268-7 | E7: 답 | F7: 58 | G7: 43 | H7: 충청남도 | I7: 국
A8: 4 | B8: " | C8: " | D8: 269-5 | E8: 답 | F8: 9 | G8: 2 | H8: 충청남도 | I8: 국
A9: 5 | B9: " | C9: " | D9: 269-2 | E9: 도 | F9: 208 | G9: 155 | H9: 충청남도(교육감) | I9: 국
A10: 6 | B10: " | C10: " | D10: 707-2 | E10: 구 | F10: 889 | G10: 16 | H10: 농림부산부 | I10: 국
A11: 7 | B11: " | C11: " | D11: 276-2 | E11: 도 | F11: 179 | G11: 23 | H11: 충청남도 | I11: 국
A12: 8 | B12: " | C12: " | D12: 272-3 | E12: 도 | F12: 502 | G12: =17+108 -> 125 | H12: 건설부 | I12: 국
A13: 9 | B13: " | C13: " | D13: 266-2 | E13: 도 | F13: 248 | G13: 15 | H13: 건설부 | I13: 국
A14: 10 | B14: " | C14: " | D14: 267-2 | E14: 도 | F14: 23 | G14: 23 | H14: 건설부 | I14: 국 | L14: 전필
A15: 11 | B15: " | C15: " | D15: 267-4 | E15: 도 | F15: 10 | G15: 10 | H15: 건설부 | I15: 국 | L15: 전필
A16: 12 | B16: " | C16: " | D16: 267-5 | E16: 답 | F16: 45 | G16: 45 | H16: 충청남도 | I16: 국 | L16: 전필
A17: 13 | B17: " | C17: " | D17: 268-6 | E17: 전 | F17: 4 | G17: 4 | H17: 충청남도 | I17: 국 | L17: 전필
A18: 14 | B18: " | C18: " | D18: 268-2 | E18: 도 | F18: 149 | G18: 149 | H18: 건설부 | I18: 국 | L18: 전필
A19: 15 | B19: " | C19: " | D19: 268-5 | E19: 전 | F19: 2 | G19: 2 | H19: 충청남도 | I19: 국 | L19: 전필
A20: 16 | B20: " | C20: " | D20: 269-4 | E20: 답 | F20: 36 | G20: 16 | H20: 충청남도 | I20: 국
A21: 17 | B21: " | C21: " | D21: 703-1 | E21: 도 | F21: 110 | G21: 13 | H21: 건설교통부 | I21: 국
A22: 18 | B22: " | C22: " | D22: 271-1 | E22: 답 | F22: 115 | G22: 53 | H22: 충청남도 | I22: 국
A23: 19 | B23: " | C23: " | D23: 272-4 | E23: 전 | F23: 508 | G23: 267 | H23: 충청남도 | I23: 국
A24: 20 | B24: " | C24: " | D24: 702 | E24: 도 | F24: 1788 | G24: 281 | H24: 건설교통부 | I24: 국
A25: 21 | B25: " | C25: " | D25: 700 | E25: 구 | F25: 2400 | G25: 9 | H25: 농림부산부 | I25: 국
A26: 계 | F26: =SUM(F5:F25) -> 15259 | G26: =SUM(G5:G25) -> 1667
G27: 1734
G28: =G26-G27 -> -67

Sheet 집계표(소유자별)-3공구
A1: 편 입 용 지 집 계 표 (3공구)
A3: 구 분 | B3: 지적면적 (M2) | C3: 편 입 용 지 집 계 표 | L3: 비 고
C4: 국·공유지 | J4: 사유지 | K4: 계
C5: 건설교통부 | D5: 농림수산부 | E5: 한국농어촌공사 | F5: 충청남도 | G5: 아산시 | H5: 가지번 | I5: 소계
A6: 가 | H6: ='토지조서(3공구)'!G21 -> 212 | I6: =SUM(C6:H6) -> 212 | K6: =I6+J6 -> 212
A7: 잡 | B7: ='토지조서(3공구)'!F5 -> 15 | J7: ='토지조서(3공구)'!G5 -> 15 | K7: =I7+J7 -> 15
A8: 구 | B8: ='토지조서(3공구)'!F6+'토지조서(3공구)'!F7+'토지조서(3공구)'!F10+'토지조서(3공구)'!F15+'토지조서(3공구)'!F26 -> 4234 | D8: ='토지조서(3공구)'!G6+'토지조서(3공구)'!G7+'토지조서(3공구)'!G10+'토지조서(3공구)'!G15+'토지조서(3공구)'!G26 -> 295 | I8: =SUM(C8:H8) -> 295 | K8: =I8+J8 -> 295
A9: 도 | B9: ='토지조서(3공구)'!F8+'토지조서(3공구)'!F9+'토지조서(3공구)'!F11+'토지조서(3공구)'!F13+'토지조서(3공구)'!F14+'토지조서(3공구)'!F17+'토지조서(3공구)'!F19+'토지조서(3공구)'!F23+'토지조서(3공구)'!F24+'토지조서(3공구)'!F25+'토지조서(3공구)'!F27+'토지조서(3공구)'!F29+'토지조서(3공구)'!F30+'토지조서(3공구)'!F31+'토지조서(3공구)'!F32+'토지조서(3공구)'!F33+'토지조서(3공구)'!F34 -> 13803 | C9: ='토지조서(3공구)'!G11+'토지조서(3공구)'!G25+'토지조서(3공구)'!G32+'토지조서(3공구)'!G33+'토지조서(3공구)'!G34 -> 2224 | D9: ='토지조서(3공구)'!G9+'토지조서(3공구)'!G14+'토지조서(3공구)'!G29+'토지조서(3공구)'!G30+'토지조서(3공구)'!G31 -> 373 | G9: ='토지조서(3공구)'!G23+'토지조서(3공구)'!G24+'토지조서(3공구)'!G27 -> 47 | I9: =SUM(C9:H9) -> 2644 | J9: ='토지조서(3공구)'!G8+'토지조서(3공구)'!G13+'토지조서(3공구)'!G17+'토지조서(3공구)'!G19 -> 320 | K9: =I9+J9 -> 2964
A10: 답 | B10: ='토지조서(3공구)'!F12+'토지조서(3공구)'!F16+'토지조서(3공구)'!F28 -> 397 | F10: ='토지조서(3공구)'!G12+'토지조서(3공구)'!G28 -> 180 | I10: =SUM(C10:H10) -> 180 | J10: ='토지조서(3공구)'!G16 -> 29 | K10: =I10+J10 -> 209
A11: 전 | B11: ='토지조서(3공구)'!F18+'토지조서(3공구)'!F22 -> 417 | F11: ='토지조서(3공구)'!G22 -> 60 | I11: =SUM(C11:H11) -> 60 | J11: ='토지조서(3공구)'!G18 -> 5 | K11: =I11+J11 -> 65
A12: 임 | B12: ='토지조서(3공구)'!F20 -> 766 | E12: ='토지조서(3공구)'!G20 -> 20 | I12: =SUM(C12:H12) -> 20 | K12: =I12+J12 -> 20
A13: 계 | B13: =SUM(B6:B12) -> 19632 | C13: =SUM(C6:C12) -> 2224 | D13: =SUM(D6:D12) -> 668 | E13: =SUM(E6:E12) -> 20 | F13: =SUM(F6:F12) -> 240 | G13: =SUM(G6:G12) -> 47 | H13: =SUM(H6:H12) -> 212 | I13: =SUM(I6:I12) -> 3411 | ... K13: =SUM(K6:K12) -> 3780
A48: 중로 1-62 호선 편입 토지조서 (3)
A77: 중로 1-62 호선 편입 토지조서 (4)

Sheet 토지조서(3공구)
A1: 수용 또는 사용할 토지세목 조서
A3: 번호 | B3: 소 재 지 | E3: 지목 | F3: 지적면적 | G3: 편입면적 | H3: 소 유 자 | J3: 관 계 자 | L3: 비 고
B4: 면 | C4: 동 리 | D4: 지 번 | H4: 성 명 | I4: 주 소 | J4: 성 명 | K4: 주 소
A5: 1 | B5: 신창 | C5: 오목 | D5: 177-11 | E5: 잡 | F5: 15 | G5: 15 | H5: 오목리2구 마을회 | I5: 오목리 168
A6: 2 | B6: " | C6: " | D6: 671-2 | E6: 구 | F6: 75 | G6: 48 | H6: 농림부 | I6: 국
A7: 3 | B7: " | C7: " | D7: 962 | E7: 구 | F7: 477 | G7: 33 | H7: 농림수산부 | I7: 국
A8: 4 | B8: " | C8: " | D8: 172-1 | E8: 도 | F8: 30 | G8: 30 | H8: 신영옥 | I8: 오목리 172-1 | L8: 전필
A9: 5 | B9: " | C9: " | D9: 961 | E9: 도 | F9: 647 | G9: 30 | H9: 농림수산부 | I9: 국
A10: 6 | B10: " | C10: " | D10: 661 | E10: 구 | F10: 28 | G10: 28 | H10: 농림부 | I10: 국 | L10: 전필
A11: 7 | B11: " | C11: " | D11: 173-1 | E11: 도 | F11: 30 | G11: 30 | H11: 건설교통부 | I11: 국
A12: 8 | B12: " | C12: " | D12: 922-1 | E12: 답 | F12: 275 | G12: 112 | H12: 충청남도
A13: 9 | B13: " | C13: " | D13: 195-1 | E13: 도 | F13: 175 | G13: 175 | H13: 조돈형 | I13: 오목리 205 | L13: 전필
A14: 10 | B14: " | C14: " | D14: 197-2 | E14: 도 | F14: 10 | G14: 10 | H14: 농수산부 | I14: 국 | L14: 전필
A15: 11 | B15: " | C15: " | D15: 960 | E15: 구 | F15: 1483 | G15: 4 | H15: 농림수산부 | I15: 국
A16: 12 | B16: " | C16: " | D16: 930-1 | E16: 답 | F16: 29 | G16: 29 | H16: 조병직외 10인 | I16: 경기도 용인군 수기면 상현리 487
A17: 13 | B17: " | C17: " | D17: 192-1 | E17: 도 | F17: 46 | G17: 46 | H17: 조병직외 10인 | I17: 경기도 용인군 수기면 상현리 487 | L17: 전필
A18: 14 | B18: " | C18: " | D18: 192-10 | E18: 전 | F18: 5 | G18: 5 | H18: 조병직외 10인 | I18: 경기도 용인군 수기면 상현리 487
A19: 15 | B19: " | C19: " | D19: 192-3 | E19: 도 | F19: 69 | G19: 69 | H19: 조병직외 10인 | I19: 경기도 용인군 수기면 상현리 487 | L19: 전필
A20: 17 | B20: " | C20: " | D20: 산138-10 | E20: 임 | F20: 766 | G20: 20 | H20: 한국농어촌공사 | I20: 국
A21: 18 | B21: " | C21: " | D21: 0-5 | E21: 가 | G21: 212 | L21: 가지번
A22: 19 | B22: " | C22: " | D22: 177-8 | E22: 전 | F22: 412 | G22: 60 | H22: 충청남도 | I22: 국
A23: 20 | B23: " | C23: " | D23: 204-41 | E23: 도 | F23: 99 | G23: 6 | H23: 아산시 | I23: 국
A24: 21 | B24: " | C24: " | D24: 202-3 | E24: 도 | F24: 668 | G24: 15 | H24: 아산시 | I24: 국
A25: 22 | B25: " | C25: " | D25: 204-42 | E25: 도 | F25: 297 | G25: 226 | H25: 건설부 | I25: 국
A26: 23 | B26: " | C26: " | D26: 955-5 | E26: 구 | F26: 2171 | G26: 182 | H26: 농림수산부 | I26: 국
A27: 24 | B27: " | C27: " | D27: 921-3 | E27: 도 | F27: 84 | G27: 26 | H27: 아산시 | I27: 국
A28: 25 | B28: " | C28: " | D28: 921-4 | E28: 답 | F28: 93 | G28: 68 | H28: 충청남도 | I28: 국
A29: 26 | B29: " | C29: " | D29: 958-1 | E29: 도 | F29: 134 | G29: 134 | H29: 농림수산부 | I29: 국 | L29: 전필
A30: 27 | B30: " | C30: " | D30: 958 | E30: 도 | F30: 1800 | G30: 60 | H30: 농림수산부 | I30: 국
A31: 28 | B31: " | C31: " | D31: 195-4 | E31: 도 | F31: 139 | G31: 139 | H31: 농수산부 | I31: 국 | L31: 전필
A32: 29 | B32: " | C32: " | D32: 668-6 | E32: 도 | F32: 1137 | G32: 940 | H32: 건설부 | I32: 국
A33: 30 | B33: " | C33: " | D33: 197-3 | E33: 도 | F33: 69 | G33: 4 | H33: 건설교통부 | I33: 국
A34: 31 | B34: " | C34: " | D34: 668 | E34: 도 | F34: 8369 | G34: 1024 | H34: 건설부 | I34: 국 | N34: =G11+G25+G32+G33+G34 -> 2224
A35: 계 | F35: =SUM(F5:F34) -> 19632 | G35: =SUM(G5:G34) -> 3780
G36: 3871
G37: =G35-G36 -> -91
