Workbook

Sheet (당초)전체
A1: (당초) 전체 편입용지 집계표
B3: 계 | E3: 서 산 시 | AI3: 비 고
E4: 부 석 면
A5: 구분 | E5: 대두리 | H5: 봉락리 | K5: 칠전리 | N5: 마룡리 | Q5: 창 리 | T5: 6 | W5: 7 | Z5: 8 | AC5: 9 | AF5: 10
B6: 필지 | C6: / | D6: 면적(㎡) | E6: 필지 | F6: / | G6: 면적(㎡) | H6: 필지 | I6: / | J6: 면적(㎡) | K6: 필지 | L6: / | M6: 면적(㎡) | N6: 필지 | O6: / | P6: 면적(㎡) | Q6: 필지 | R6: / | S6: 면적(㎡) | T6: 필지 | U6: / | V6: 면적(㎡) | W6: 필지 | X6: / | Y6: 면적(㎡) | Z6: 필지 | AA6: / | AB6: 면적(㎡) | AC6: 필지 | AD6: / | AE6: 면적(㎡) | AF6: 필지 | AG6: / | AH6: 면적(㎡)
A7: 계 | B7: =SUM(B8:B32) -> 742 | C7: / | D7: =SUM(D8:D32) -> 399461.9 | E7: 95 | F7: / | G7: =SUM(G8:G32) -> 29928.6 | H7: =SUM(H8:H32) -> 150 | I7: / | J7: =SUM(J8:J32) -> 57542.4 | K7: =SUM(K8:K32) -> 227 | L7: / | M7: =SUM(M8:M32) -> 90907.5 | N7: =SUM(N8:N32) -> 122 | O7: / | P7: =SUM(P8:P32) -> 124461.4 | Q7: =SUM(Q8:Q32) -> 148 | R7: / | S7: =SUM(S8:S32) -> 96622 | T7: =SUM(T8:T32) -> 0 | U7: / | V7: =SUM(V8:V32) -> 0 | W7: =SUM(W8:W32) -> 0 | X7: / | Y7: =SUM(Y8:Y32) -> 0 | Z7: =SUM(Z8:Z32) -> 0 | AA7: / | AB7: =SUM(AB8:AB32) -> 0 | AC7: =SUM(AC8:AC32) -> 0 | AD7: / | AE7: =SUM(AE8:AE32) -> 0 | AF7: =SUM(AF8:AF32) -> 0 | AG7: / | AH7: =SUM(AH8:AH32) -> 0
A8: 전 | B8: =SUM(E8,H8,K8,N8,Q8,T8,W8,Z8,AC8,AF8) -> 110 | C8: / | D8: =SUM(G8,J8,M8,P8,S8,V8,Y8,AB8,AE8,AH8) -> 38247 | E8: 6 | F8: / | G8: 3537 | H8: 30 | I8: / | J8: 10337 | K8: 43 | L8: / | M8: 13676 | N8: 7 | O8: / | P8: 3505 | Q8: 24 | R8: / | S8: 7192 | T8: ='(변경)집계표'!B157 -> 0 | U8: / | V8: ='(변경)집계표'!D157 -> 0 | W8: ='(변경)집계표'!B187 -> 0 | X8: / | Y8: ='(변경)집계표'!D187 -> 0 | Z8: ='(변경)집계표'!B217 -> 0 | AA8: / | AB8: ='(변경)집계표'!D217 -> 0 | AC8: ='(변경)집계표'!B247 -> 0 | AD8: / | AE8: ='(변경)집계표'!D247 -> 0 | AF8: ='(변경)집계표'!B277 -> 0 | AG8: / | AH8: ='(변경)집계표'!D277 -> 0 | AK8: 전 | AL8: 전 | AM8: 전 | AN8: 전 | AO8: 전
A9: 답 | B9: =SUM(E9,H9,K9,N9,Q9,T9,W9,Z9,AC9,AF9) -> 144 | C9: / | D9: =SUM(G9,J9,M9,P9,S9,V9,Y9,AB9,AE9,AH9) -> 106247.8 | E9: 29 | F9: / | G9: 13294.9 | H9: 17 | I9: / | J9: 16153.9 | K9: 32 | L9: / | M9: 18410.4 | N9: 44 | O9: / | P9: 46694.6 | Q9: 22 | R9: / | S9: 11694 | T9: ='(변경)집계표'!B158 -> 0 | U9: / | V9: ='(변경)집계표'!D158 -> 0 | W9: ='(변경)집계표'!B188 -> 0 | X9: / | Y9: ='(변경)집계표'!D188 -> 0 | Z9: ='(변경)집계표'!B218 -> 0 | AA9: / | AB9: ='(변경)집계표'!D218 -> 0 | AC9: ='(변경)집계표'!B248 -> 0 | AD9: / | AE9: ='(변경)집계표'!D248 -> 0 | AF9: ='(변경)집계표'!B278 -> 0 | AG9: / | AH9: ='(변경)집계표'!D278 -> 0 | AK9: 답 | AL9: 답 | AM9: 답 | AN9: 답 | AO9: 답
A10: 임야 | B10: =SUM(E10,H10,K10,N10,Q10,T10,W10,Z10,AC10,AF10) -> 150 | C10: / | D10: =SUM(G10,J10,M10,P10,S10,V10,Y10,AB10,AE10,AH10) -> 158030 | E10: 4 | F10: / | G10: 2642 | H10: 17 | I10: / | J10: 13367 | K10: 46 | L10: / | M10: 30473 | N10: 41 | O10: / | P10: 49066 | Q10: 42 | R10: / | S10: 62482 | T10: ='(변경)집계표'!B159 -> 0 | U10: / | V10: ='(변경)집계표'!D159 -> 0 | W10: ='(변경)집계표'!B189 -> 0 | X10: / | Y10: ='(변경)집계표'!D189 -> 0 | Z10: ='(변경)집계표'!B219 -> 0 | AA10: / | AB10: ='(변경)집계표'!D219 -> 0 | AC10: ='(변경)집계표'!B249 -> 0 | AD10: / | AE10: ='(변경)집계표'!D249 -> 0 | AF10: ='(변경)집계표'!B279 -> 0 | AG10: / | AH10: ='(변경)집계표'!D279 -> 0 | AK10: 임야 | AL10: 임야 | AM10: 임야 | AN10: 임야 | AO10: 임야
A11: 대지 | B11: =SUM(E11,H11,K11,N11,Q11,T11,W11,Z11,AC11,AF11) -> 27 | C11: / | D11: =SUM(G11,J11,M11,P11,S11,V11,Y11,AB11,AE11,AH11) -> 3178 | E11: 2 | F11: / | G11: 267 | H11: 8 | I11: / | J11: 664 | K11: 9 | L11: / | M11: 1449 | N11: 0 | O11: / | P11: 0 | Q11: 8 | R11: / | S11: 798 | T11: ='(변경)집계표'!B160 -> 0 | U11: / | V11: ='(변경)집계표'!D160 -> 0 | W11: ='(변경)집계표'!B190 -> 0 | X11: / | Y11: ='(변경)집계표'!D190 -> 0 | Z11: ='(변경)집계표'!B220 -> 0 | AA11: / | AB11: ='(변경)집계표'!D220 -> 0 | AC11: ='(변경)집계표'!B250 -> 0 | AD11: / | AE11: ='(변경)집계표'!D250 -> 0 | AF11: ='(변경)집계표'!B280 -> 0 | AG11: / | AH11: ='(변경)집계표'!D280 -> 0 | AK11: 대지 | AL11: 대지 | AM11: 대지 | AN11: 대지 | AO11: 대지
A12: 도로 | B12: =SUM(E12,H12,K12,N12,Q12,T12,W12,Z12,AC12,AF12) -> 239 | C12: / | D12: =SUM(G12,J12,M12,P12,S12,V12,Y12,AB12,AE12,AH12) -> 70666.7 | E12: 43 | F12: / | G12: 7211.2 | H12: 58 | I12: / | J12: 12290.7 | K12: 80 | L12: / | M12: 21920.9 | N12: 20 | O12: / | P12: 21816.9 | Q12: 38 | R12: / | S12: 7427 | T12: ='(변경)집계표'!B161 -> 0 | U12: / | V12: ='(변경)집계표'!D161 -> 0 | W12: ='(변경)집계표'!B191 -> 0 | X12: / | Y12: ='(변경)집계표'!D191 -> 0 | Z12: ='(변경)집계표'!B221 -> 0 | AA12: / | AB12: ='(변경)집계표'!D221 -> 0 | AC12: ='(변경)집계표'!B251 -> 0 | AD12: / | AE12: ='(변경)집계표'!D251 -> 0 | AF12: ='(변경)집계표'!B281 -> 0 | AG12: / | AH12: ='(변경)집계표'!D281 -> 0 | AK12: 도로 | AL12: 도로 | AM12: 도로 | AN12: 도로 | AO12: 도로
A13: 구거 | B13: =SUM(E13,H13,K13,N13,Q13,T13,W13,Z13,AC13,AF13) -> 39 | C13: / | D13: =SUM(G13,J13,M13,P13,S13,V13,Y13,AB13,AE13,AH13) -> 10916.5 | E13: 7 | F13: / | G13: 1182.5 | H13: 13 | I13: / | J13: 2402.8 | K13: 12 | L13: / | M13: 4652.2 | N13: 7 | O13: / | P13: 2679 | Q13: 0 | R13: / | S13: 0 | T13: ='(변경)집계표'!B162 -> 0 | U13: / | V13: ='(변경)집계표'!D162 -> 0 | W13: ='(변경)집계표'!B192 -> 0 | X13: / | Y13: ='(변경)집계표'!D192 -> 0 | Z13: ='(변경)집계표'!B222 -> 0 | AA13: / | AB13: ='(변경)집계표'!D222 -> 0 | AC13: ='(변경)집계표'!B252 -> 0 | AD13: / | AE13: ='(변경)집계표'!D252 -> 0 | AF13: ='(변경)집계표'!B282 -> 0 | AG13: / | AH13: ='(변경)집계표'!D282 -> 0 | AK13: 구거 | AL13: 구거 | AM13: 구거 | AN13: 구거 | AO13: 구거
A14: 하천 | B14: =SUM(E14,H14,K14,N14,Q14,T14,W14,Z14,AC14,AF14) -> 1 | C14: / | D14: =SUM(G14,J14,M14,P14,S14,V14,Y14,AB14,AE14,AH14) -> 597.9 | E14: 0 | F14: / | G14: 0 | H14: 0 | I14: / | J14: 0 | K14: 0 | L14: / | M14: 0 | N14: 1 | O14: / | P14: 597.9 | Q14: 0 | R14: / | S14: 0 | T14: ='(변경)집계표'!B163 -> 0 | U14: / | V14: ='(변경)집계표'!D163 -> 0 | W14: ='(변경)집계표'!B193 -> 0 | X14: / | Y14: ='(변경)집계표'!D193 -> 0 | Z14: ='(변경)집계표'!B223 -> 0 | AA14: / | AB14: ='(변경)집계표'!D223 -> 0 | AC14: ='(변경)집계표'!B253 -> 0 | AD14: / | AE14: ='(변경)집계표'!D253 -> 0 | AF14: ='(변경)집계표'!B283 -> 0 | AG14: / | AH14: ='(변경)집계표'!D283 -> 0 | AK14: 하천 | AL14: 하천 | AM14: 하천 | AN14: 하천 | AO14: 하천
A15: 유지 | B15: =SUM(E15,H15,K15,N15,Q15,T15,W15,Z15,AC15,AF15) -> 6 | C15: / | D15: =SUM(G15,J15,M15,P15,S15,V15,Y15,AB15,AE15,AH15) -> 2046 | E15: 4 | F15: / | G15: 1794 | H15: 0 | I15: / | J15: 0 | K15: 2 | L15: / | M15: 252 | N15: 0 | O15: / | P15: 0 | Q15: 0 | R15: / | S15: 0 | T15: ='(변경)집계표'!B164 -> 0 | U15: / | V15: ='(변경)집계표'!D164 -> 0 | W15: ='(변경)집계표'!B194 -> 0 | X15: / | Y15: ='(변경)집계표'!D194 -> 0 | Z15: ='(변경)집계표'!B224 -> 0 | AA15: / | AB15: ='(변경)집계표'!D224 -> 0 | AC15: ='(변경)집계표'!B254 -> 0 | AD15: / | AE15: ='(변경)집계표'!D254 -> 0 | AF15: ='(변경)집계표'!B284 -> 0 | AG15: / | AH15: ='(변경)집계표'!D284 -> 0 | AK15: 유지 | AL15: 유지 | AM15: 유지 | AN15: 유지 | AO15: 유지
A16: 제방 | B16: =SUM(E16,H16,K16,N16,Q16,T16,W16,Z16,AC16,AF16) -> 3 | C16: / | D16: =SUM(G16,J16,M16,P16,S16,V16,Y16,AB16,AE16,AH16) -> 604 | F16: / | H16: 0 | I16: / | J16: 0 | K16: 2 | L16: / | M16: 58 | N16: 0 | O16: / | P16: 0 | Q16: 1 | R16: / | S16: 546 | T16: ='(변경)집계표'!B165 -> 0 | U16: / | V16: ='(변경)집계표'!D165 -> 0 | W16: ='(변경)집계표'!B195 -> 0 | X16: / | Y16: ='(변경)집계표'!D195 -> 0 | Z16: ='(변경)집계표'!B225 -> 0 | AA16: / | AB16: ='(변경)집계표'!D225 -> 0 | AC16: ='(변경)집계표'!B255 -> 0 | AD16: / | AE16: ='(변경)집계표'!D255 -> 0 | AF16: ='(변경)집계표'!B285 -> 0 | AG16: / | AH16: ='(변경)집계표'!D285 -> 0 | AK16: 제방 | AL16: 제방 | AM16: 제방 | AN16: 제방 | AO16: 제방
A17: 과수원 | B17: =SUM(E17,H17,K17,N17,Q17,T17,W17,Z17,AC17,AF17) -> 0 | C17: / | D17: =SUM(G17,J17,M17,P17,S17,V17,Y17,AB17,AE17,AH17) -> 0 | F17: / | H17: 0 | I17: / | J17: 0 | K17: 0 | L17: / | M17: 0 | N17: 0 | O17: / | P17: 0 | Q17: 0 | R17: / | S17: 0 | T17: ='(변경)집계표'!B166 -> 0 | U17: / | V17: ='(변경)집계표'!D166 -> 0 | W17: ='(변경)집계표'!B196 -> 0 | X17: / | Y17: ='(변경)집계표'!D196 -> 0 | Z17: ='(변경)집계표'!B226 -> 0 | AA17: / | AB17: ='(변경)집계표'!D226 -> 0 | AC17: ='(변경)집계표'!B256 -> 0 | AD17: / | AE17: ='(변경)집계표'!D256 -> 0 | AF17: ='(변경)집계표'!B286 -> 0 | AG17: / | AH17: ='(변경)집계표'!D286 -> 0 | AK17: 과수원 | AL17: 과수원 | AM17: 과수원 | AN17: 과수원 | AO17: 과수원
A18: 공장 | B18: =SUM(E18,H18,K18,N18,Q18,T18,W18,Z18,AC18,AF18) -> 0 | C18: / | D18: =SUM(G18,J18,M18,P18,S18,V18,Y18,AB18,AE18,AH18) -> 0 | F18: / | H18: 0 | I18: / | J18: 0 | K18: 0 | L18: / | M18: 0 | N18: 0 | O18: / | P18: 0 | Q18: 0 | R18: / | S18: 0 | T18: ='(변경)집계표'!B167 -> 0 | U18: / | V18: ='(변경)집계표'!D167 -> 0 | W18: ='(변경)집계표'!B197 -> 0 | X18: / | Y18: ='(변경)집계표'!D197 -> 0 | Z18: ='(변경)집계표'!B227 -> 0 | AA18: / | AB18: ='(변경)집계표'!D227 -> 0 | AC18: ='(변경)집계표'!B257 -> 0 | AD18: / | AE18: ='(변경)집계표'!D257 -> 0 | AF18: ='(변경)집계표'!B287 -> 0 | AG18: / | AH18: ='(변경)집계표'!D287 -> 0 | AK18: 공장 | AL18: 공장 | AM18: 공장 | AN18: 공장 | AO18: 공장
A19: 목장 | B19: =SUM(E19,H19,K19,N19,Q19,T19,W19,Z19,AC19,AF19) -> 0 | C19: / | D19: =SUM(G19,J19,M19,P19,S19,V19,Y19,AB19,AE19,AH19) -> 0 | F19: / | H19: 0 | I19: / | J19: 0 | K19: 0 | L19: / | M19: 0 | N19: 0 | O19: / | P19: 0 | Q19: 0 | R19: / | S19: 0 | T19: ='(변경)집계표'!B168 -> 0 | U19: / | V19: ='(변경)집계표'!D168 -> 0 | W19: ='(변경)집계표'!B198 -> 0 | X19: / | Y19: ='(변경)집계표'!D198 -> 0 | Z19: ='(변경)집계표'!B228 -> 0 | AA19: / | AB19: ='(변경)집계표'!D228 -> 0 | AC19: ='(변경)집계표'!B258 -> 0 | AD19: / | AE19: ='(변경)집계표'!D258 -> 0 | AF19: ='(변경)집계표'!B288 -> 0 | AG19: / | AH19: ='(변경)집계표'!D288 -> 0 | AK19: 목장 | AL19: 목장 | AM19: 목장 | AN19: 목장 | AO19: 목장
A20: 학교용지 | B20: =SUM(E20,H20,K20,N20,Q20,T20,W20,Z20,AC20,AF20) -> 0 | C20: / | D20: =SUM(G20,J20,M20,P20,S20,V20,Y20,AB20,AE20,AH20) -> 0 | F20: / | H20: 0 | I20: / | J20: 0 | K20: 0 | L20: / | M20: 0 | N20: 0 | O20: / | P20: 0 | Q20: 0 | R20: / | S20: 0 | T20: ='(변경)집계표'!B169 -> 0 | U20: / | V20: ='(변경)집계표'!D169 -> 0 | W20: ='(변경)집계표'!B199 -> 0 | X20: / | Y20: ='(변경)집계표'!D199 -> 0 | Z20: ='(변경)집계표'!B229 -> 0 | AA20: / | AB20: ='(변경)집계표'!D229 -> 0 | AC20: ='(변경)집계표'!B259 -> 0 | AD20: / | AE20: ='(변경)집계표'!D259 -> 0 | AF20: ='(변경)집계표'!B289 -> 0 | AG20: / | AH20: ='(변경)집계표'!D289 -> 0 | AK20: 학교용지 | AL20: 학교용지 | AM20: 학교용지 | AN20: 학교용지 | AO20: 학교용지
A21: 철도 | B21: =SUM(E21,H21,K21,N21,Q21,T21,W21,Z21,AC21,AF21) -> 0 | C21: / | D21: =SUM(G21,J21,M21,P21,S21,V21,Y21,AB21,AE21,AH21) -> 0 | F21: / | H21: 0 | I21: / | J21: 0 | K21: 0 | L21: / | M21: 0 | N21: 0 | O21: / | P21: 0 | Q21: 0 | R21: / | S21: 0 | T21: ='(변경)집계표'!B170 -> 0 | U21: / | V21: ='(변경)집계표'!D170 -> 0 | W21: ='(변경)집계표'!B200 -> 0 | X21: / | Y21: ='(변경)집계표'!D200 -> 0 | Z21: ='(변경)집계표'!B230 -> 0 | AA21: / | AB21: ='(변경)집계표'!D230 -> 0 | AC21: ='(변경)집계표'!B260 -> 0 | AD21: / | AE21: ='(변경)집계표'!D260 -> 0 | AF21: ='(변경)집계표'!B290 -> 0 | AG21: / | AH21: ='(변경)집계표'!D290 -> 0 | AK21: 철도 | AL21: 철도 | AM21: 철도 | AN21: 철도 | AO21: 철도
A22: 묘지 | B22: =SUM(E22,H22,K22,N22,Q22,T22,W22,Z22,AC22,AF22) -> 0 | C22: / | D22: =SUM(G22,J22,M22,P22,S22,V22,Y22,AB22,AE22,AH22) -> 0 | F22: / | H22: 0 | I22: / | J22: 0 | K22: 0 | L22: / | M22: 0 | N22: 0 | O22: / | P22: 0 | Q22: 0 | R22: / | S22: 0 | T22: ='(변경)집계표'!B171 -> 0 | U22: / | V22: ='(변경)집계표'!D171 -> 0 | W22: ='(변경)집계표'!B201 -> 0 | X22: / | Y22: ='(변경)집계표'!D201 -> 0 | Z22: ='(변경)집계표'!B231 -> 0 | AA22: / | AB22: ='(변경)집계표'!D231 -> 0 | AC22: ='(변경)집계표'!B261 -> 0 | AD22: / | AE22: ='(변경)집계표'!D261 -> 0 | AF22: ='(변경)집계표'!B291 -> 0 | AG22: / | AH22: ='(변경)집계표'!D291 -> 0 | AK22: 묘지 | AL22: 묘지 | AM22: 묘지 | AN22: 묘지 | AO22: 묘지
A23: 수도 | B23: =SUM(E23,H23,K23,N23,Q23,T23,W23,Z23,AC23,AF23) -> 0 | C23: / | D23: =SUM(G23,J23,M23,P23,S23,V23,Y23,AB23,AE23,AH23) -> 0 | F23: / | H23: 0 | I23: / | J23: 0 | K23: 0 | L23: / | M23: 0 | N23: 0 | O23: / | P23: 0 | Q23: 0 | R23: / | S23: 0 | T23: ='(변경)집계표'!B172 -> 0 | U23: / | V23: ='(변경)집계표'!D172 -> 0 | W23: ='(변경)집계표'!B202 -> 0 | X23: / | Y23: ='(변경)집계표'!D202 -> 0 | Z23: ='(변경)집계표'!B232 -> 0 | AA23: / | AB23: ='(변경)집계표'!D232 -> 0 | AC23: ='(변경)집계표'!B262 -> 0 | AD23: / | AE23: ='(변경)집계표'!D262 -> 0 | AF23: ='(변경)집계표'!B292 -> 0 | AG23: / | AH23: ='(변경)집계표'!D292 -> 0 | AK23: 수도 | AL23: 수도 | AM23: 수도 | AN23: 수도 | AO23: 수도
A24: 잡종지 | B24: =SUM(E24,H24,K24,N24,Q24,T24,W24,Z24,AC24,AF24) -> 16 | C24: / | D24: =SUM(G24,J24,M24,P24,S24,V24,Y24,AB24,AE24,AH24) -> 6966 | F24: / | H24: 3 | I24: / | J24: 483 | K24: 0 | L24: / | M24: 0 | N24: 0 | O24: / | P24: 0 | Q24: 13 | R24: / | S24: 6483 | T24: ='(변경)집계표'!B173 -> 0 | U24: / | V24: ='(변경)집계표'!D173 -> 0 | W24: ='(변경)집계표'!B203 -> 0 | X24: / | Y24: ='(변경)집계표'!D203 -> 0 | Z24: ='(변경)집계표'!B233 -> 0 | AA24: / | AB24: ='(변경)집계표'!D233 -> 0 | AC24: ='(변경)집계표'!B263 -> 0 | AD24: / | AE24: ='(변경)집계표'!D263 -> 0 | AF24: ='(변경)집계표'!B293 -> 0 | AG24: / | AH24: ='(변경)집계표'!D293 -> 0 | AK24: 잡종지 | AL24: 잡종지 | AM24: 잡종지 | AN24: 잡종지 | AO24: 잡종지
A25: 종교 | B25: =SUM(E25,H25,K25,N25,Q25,T25,W25,Z25,AC25,AF25) -> 0 | C25: / | D25: =SUM(G25,J25,M25,P25,S25,V25,Y25,AB25,AE25,AH25) -> 0 | F25: / | H25: 0 | I25: / | J25: 0 | K25: 0 | L25: / | M25: 0 | N25: 0 | O25: / | P25: 0 | Q25: 0 | R25: / | S25: 0 | T25: ='(변경)집계표'!B174 -> 0 | U25: / | V25: ='(변경)집계표'!D174 -> 0 | W25: ='(변경)집계표'!B204 -> 0 | X25: / | Y25: ='(변경)집계표'!D204 -> 0 | Z25: ='(변경)집계표'!B234 -> 0 | AA25: / | AB25: ='(변경)집계표'!D234 -> 0 | AC25: ='(변경)집계표'!B264 -> 0 | AD25: / | AE25: ='(변경)집계표'!D264 -> 0 | AF25: ='(변경)집계표'!B294 -> 0 | AG25: / | AH25: ='(변경)집계표'!D294 -> 0 | AK25: 종교 | AL25: 종교 | AM25: 종교 | AN25: 종교 | AO25: 종교
A26: 염전 | B26: =SUM(E26,H26,K26,N26,Q26,T26,W26,Z26,AC26,AF26) -> 0 | C26: / | D26: =SUM(G26,J26,M26,P26,S26,V26,Y26,AB26,AE26,AH26) -> 0 | F26: / | H26: 0 | I26: / | J26: 0 | K26: 0 | L26: / | M26: 0 | N26: 0 | O26: / | P26: 0 | Q26: 0 | R26: / | S26: 0 | T26: ='(변경)집계표'!B175 -> 0 | U26: / | V26: ='(변경)집계표'!D175 -> 0 | W26: ='(변경)집계표'!B205 -> 0 | X26: / | Y26: ='(변경)집계표'!D205 -> 0 | Z26: ='(변경)집계표'!B235 -> 0 | AA26: / | AB26: ='(변경)집계표'!D235 -> 0 | AC26: ='(변경)집계표'!B265 -> 0 | AD26: / | AE26: ='(변경)집계표'!D265 -> 0 | AF26: ='(변경)집계표'!B295 -> 0 | AG26: / | AH26: ='(변경)집계표'!D295 -> 0 | AK26: 염전 | AL26: 염전 | AM26: 염전 | AN26: 염전 | AO26: 염전
A27: 공원 | B27: =SUM(E27,H27,K27,N27,Q27,T27,W27,Z27,AC27,AF27) -> 0 | C27: / | D27: =SUM(G27,J27,M27,P27,S27,V27,Y27,AB27,AE27,AH27) -> 0 | F27: / | H27: 0 | I27: / | J27: 0 | K27: 0 | L27: / | M27: 0 | N27: 0 | O27: / | P27: 0 | Q27: 0 | R27: / | S27: 0 | T27: ='(변경)집계표'!B176 -> 0 | U27: / | V27: ='(변경)집계표'!D176 -> 0 | W27: ='(변경)집계표'!B206 -> 0 | X27: / | Y27: ='(변경)집계표'!D206 -> 0 | Z27: ='(변경)집계표'!B236 -> 0 | AA27: / | AB27: ='(변경)집계표'!D236 -> 0 | AC27: ='(변경)집계표'!B266 -> 0 | AD27: / | AE27: ='(변경)집계표'!D266 -> 0 | AF27: ='(변경)집계표'!B296 -> 0 | AG27: / | AH27: ='(변경)집계표'!D296 -> 0 | AK27: 공원 | AL27: 공원 | AM27: 공원 | AN27: 공원 | AO27: 공원
... A32: 미지번 | B32: =SUM(E32,H32,K32,N32,Q32,T32,W32,Z32,AC32,AF32) -> 5 | C32: / | D32: =SUM(G32,J32,M32,P32,S32,V32,Y32,AB32,AE32,AH32) -> 1510 | F32: / | H32: 3 | I32: / | J32: 1408 | K32: 0 | L32: / | M32: 0 | N32: 2 | O32: / | P32: 102 | Q32: 0 | R32: / | S32: 0 | T32: ='(변경)집계표'!B181 -> 0 | U32: / | V32: ='(변경)집계표'!D181 -> 0 | W32: ='(변경)집계표'!B211 -> 0 | X32: / | Y32: ='(변경)집계표'!D211 -> 0 | Z32: ='(변경)집계표'!B241 -> 0 | AA32: / | AB32: ='(변경)집계표'!D241 -> 0 | AC32: ='(변경)집계표'!B271 -> 0 | AD32: / | AE32: ='(변경)집계표'!D271 -> 0 | AF32: ='(변경)집계표'!B301 -> 0 | AG32: / | AH32: ='(변경)집계표'!D301 -> 0 | AK32: 미지번 | AL32: 미지번 | AM32: 미지번 | AN32: 미지번 | AO32: 미지번
A33: 국유지 편입용지 집계표
B35: 계 | E35: 서 산 시 | AI35: 비 고
E36: 부 석 면
A37: 구분 | E37: 대두리 | H37: 봉락리 | K37: 칠전리 | N37: 마룡리 | Q37: 창 리 | T37: 6 | W37: 7 | Z37: 8 | AC37: 9 | AF37: 10
B38: 필지 | C38: / | D38: 면적(㎡) | E38: 필지 | F38: / | G38: 면적(㎡) | H38: 필지 | I38: / | J38: 면적(㎡) | K38: 필지 | L38: / | M38: 면적(㎡) | N38: 필지 | O38: / | P38: 면적(㎡) | Q38: 필지 | R38: / | S38: 면적(㎡) | T38: 필지 | U38: / | V38: 면적(㎡) | W38: 필지 | X38: / | Y38: 면적(㎡) | Z38: 필지 | AA38: / | AB38: 면적(㎡) | AC38: 필지 | AD38: / | AE38: 면적(㎡) | AF38: 필지 | AG38: / | AH38: 면적(㎡)
A39: 계 | B39: =SUM(B40:B64) -> 132 | C39: / | D39: =SUM(D40:D64) -> 42494.1 | E39: =SUM(E40:E64) -> 24 | F39: / | G39: =SUM(G40:G64) -> 4574.7 | H39: =SUM(H40:H64) -> 34 | I39: / | J39: =SUM(J40:J64) -> 9205.5 | K39: =SUM(K40:K64) -> 43 | L39: / | M39: =SUM(M40:M64) -> 13662.1 | N39: =SUM(N40:N64) -> 15 | O39: / | P39: =SUM(P40:P64) -> 9891.8 | Q39: =SUM(Q40:Q64) -> 16 | R39: / | S39: =SUM(S40:S64) -> 5160 | T39: =SUM(T40:T64) -> 0 | U39: / | V39: =SUM(V40:V64) -> 0 | W39: =SUM(W40:W64) -> 0 | X39: / | Y39: =SUM(Y40:Y64) -> 0 | Z39: =SUM(Z40:Z64) -> 0 | AA39: / | AB39: =SUM(AB40:AB64) -> 0 | AC39: =SUM(AC40:AC64) -> 0 | AD39: / | AE39: =SUM(AE40:AE64) -> 0 | AF39: =SUM(AF40:AF64) -> 0 | AG39: / | AH39: =SUM(AH40:AH64) -> 0
A40: 전 | B40: =SUM(E40,H40,K40,N40,Q40,T40,W40,Z40,AC40,AF40) -> 0 | C40: / | D40: =SUM(G40,J40,M40,P40,S40,V40,Y40,AB40,AE40,AH40) -> 0 | E40: 0 | F40: / | G40: 0 | H40: 0 | I40: / | J40: 0 | K40: 0 | L40: / | M40: 0 | N40: 0 | O40: / | P40: 0 | Q40: 0 | R40: / | S40: 0 | T40: ='(변경)집계표'!E157 -> 0 | U40: / | V40: ='(변경)집계표'!G157 -> 0 | W40: ='(변경)집계표'!E187 -> 0 | X40: / | Y40: ='(변경)집계표'!G187 -> 0 | Z40: ='(변경)집계표'!E217 -> 0 | AA40: / | AB40: ='(변경)집계표'!G217 -> 0 | AC40: ='(변경)집계표'!E247 -> 0 | AD40: / | AE40: ='(변경)집계표'!G247 -> 0 | AF40: ='(변경)집계표'!E277 -> 0 | AG40: / | AH40: ='(변경)집계표'!G277 -> 0
A41: 답 | B41: =SUM(E41,H41,K41,N41,Q41,T41,W41,Z41,AC41,AF41) -> 0 | C41: / | D41: =SUM(G41,J41,M41,P41,S41,V41,Y41,AB41,AE41,AH41) -> 0 | E41: 0 | F41: / | G41: 0 | H41: 0 | I41: / | J41: 0 | K41: 0 | L41: / | M41: 0 | N41: 0 | O41: / | P41: 0 | Q41: 0 | R41: / | S41: 0 | T41: ='(변경)집계표'!E158 -> 0 | U41: / | V41: ='(변경)집계표'!G158 -> 0 | W41: ='(변경)집계표'!E188 -> 0 | X41: / | Y41: ='(변경)집계표'!G188 -> 0 | Z41: ='(변경)집계표'!E218 -> 0 | AA41: / | AB41: ='(변경)집계표'!G218 -> 0 | AC41: ='(변경)집계표'!E248 -> 0 | AD41: / | AE41: ='(변경)집계표'!G248 -> 0 | AF41: ='(변경)집계표'!E278 -> 0 | AG41: / | AH41: ='(변경)집계표'!G278 -> 0
A42: 임야 | B42: =SUM(E42,H42,K42,N42,Q42,T42,W42,Z42,AC42,AF42) -> 3 | C42: / | D42: =SUM(G42,J42,M42,P42,S42,V42,Y42,AB42,AE42,AH42) -> 3195 | E42: 0 | F42: / | G42: 0 | H42: 0 | I42: / | J42: 0 | K42: 0 | L42: / | M42: 0 | N42: 0 | O42: / | P42: 0 | Q42: 3 | R42: / | S42: 3195 | T42: ='(변경)집계표'!E159 -> 0 | U42: / | V42: ='(변경)집계표'!G159 -> 0 | W42: ='(변경)집계표'!E189 -> 0 | X42: / | Y42: ='(변경)집계표'!G189 -> 0 | Z42: ='(변경)집계표'!E219 -> 0 | AA42: / | AB42: ='(변경)집계표'!G219 -> 0 | AC42: ='(변경)집계표'!E249 -> 0 | AD42: / | AE42: ='(변경)집계표'!G249 -> 0 | AF42: ='(변경)집계표'!E279 -> 0 | AG42: / | AH42: ='(변경)집계표'!G279 -> 0
A43: 대지 | B43: =SUM(E43,H43,K43,N43,Q43,T43,W43,Z43,AC43,AF43) -> 1 | C43: / | D43: =SUM(G43,J43,M43,P43,S43,V43,Y43,AB43,AE43,AH43) -> 95 | E43: 0 | F43: / | G43: 0 | H43: 1 | I43: / | J43: 95 | K43: 0 | L43: / | M43: 0 | N43: 0 | O43: / | P43: 0 | Q43: 0 | R43: / | S43: 0 | T43: ='(변경)집계표'!E160 -> 0 | U43: / | V43: ='(변경)집계표'!G160 -> 0 | W43: ='(변경)집계표'!E190 -> 0 | X43: / | Y43: ='(변경)집계표'!G190 -> 0 | Z43: ='(변경)집계표'!E220 -> 0 | AA43: / | AB43: ='(변경)집계표'!G220 -> 0 | AC43: ='(변경)집계표'!E250 -> 0 | AD43: / | AE43: ='(변경)집계표'!G250 -> 0 | AF43: ='(변경)집계표'!E280 -> 0 | AG43: / | AH43: ='(변경)집계표'!G280 -> 0
A44: 도로 | B44: =SUM(E44,H44,K44,N44,Q44,T44,W44,Z44,AC44,AF44) -> 80 | C44: / | D44: =SUM(G44,J44,M44,P44,S44,V44,Y44,AB44,AE44,AH44) -> 25534.7 | E44: 17 | F44: / | G44: 3392.2 | H44: 17 | I44: / | J44: 5299.7 | K44: 28 | L44: / | M44: 8739.9 | N44: 6 | O44: / | P44: 6683.9 | Q44: 12 | R44: / | S44: 1419 | T44: ='(변경)집계표'!E161 -> 0 | U44: / | V44: ='(변경)집계표'!G161 -> 0 | W44: ='(변경)집계표'!E191 -> 0 | X44: / | Y44: ='(변경)집계표'!G191 -> 0 | Z44: ='(변경)집계표'!E221 -> 0 | AA44: / | AB44: ='(변경)집계표'!G221 -> 0 | AC44: ='(변경)집계표'!E251 -> 0 | AD44: / | AE44: ='(변경)집계표'!G251 -> 0 | AF44: ='(변경)집계표'!E281 -> 0 | AG44: / | AH44: ='(변경)집계표'!G281 -> 0
A45: 구거 | B45: =SUM(E45,H45,K45,N45,Q45,T45,W45,Z45,AC45,AF45) -> 38 | C45: / | D45: =SUM(G45,J45,M45,P45,S45,V45,Y45,AB45,AE45,AH45) -> 10745.5 | E45: 7 | F45: / | G45: 1182.5 | H45: 13 | I45: / | J45: 2402.8 | K45: 12 | L45: / | M45: 4652.2 | N45: 6 | O45: / | P45: 2508 | Q45: 0 | R45: / | S45: 0 | T45: ='(변경)집계표'!E162 -> 0 | U45: / | V45: ='(변경)집계표'!G162 -> 0 | W45: ='(변경)집계표'!E192 -> 0 | X45: / | Y45: ='(변경)집계표'!G192 -> 0 | Z45: ='(변경)집계표'!E222 -> 0 | AA45: / | AB45: ='(변경)집계표'!G222 -> 0 | AC45: ='(변경)집계표'!E252 -> 0 | AD45: / | AE45: ='(변경)집계표'!G252 -> 0 | AF45: ='(변경)집계표'!E282 -> 0 | AG45: / | AH45: ='(변경)집계표'!G282 -> 0
A46: 하천 | B46: =SUM(E46,H46,K46,N46,Q46,T46,W46,Z46,AC46,AF46) -> 1 | C46: / | D46: =SUM(G46,J46,M46,P46,S46,V46,Y46,AB46,AE46,AH46) -> 597.9 | E46: 0 | F46: / | G46: 0 | H46: 0 | I46: / | J46: 0 | K46: 0 | L46: / | M46: 0 | N46: 1 | O46: / | P46: 597.9 | Q46: 0 | R46: / | S46: 0 | T46: ='(변경)집계표'!E163 -> 0 | U46: / | V46: ='(변경)집계표'!G163 -> 0 | W46: ='(변경)집계표'!E193 -> 0 | X46: / | Y46: ='(변경)집계표'!G193 -> 0 | Z46: ='(변경)집계표'!E223 -> 0 | AA46: / | AB46: ='(변경)집계표'!G223 -> 0 | AC46: ='(변경)집계표'!E253 -> 0 | AD46: / | AE46: ='(변경)집계표'!G253 -> 0 | AF46: ='(변경)집계표'!E283 -> 0 | AG46: / | AH46: ='(변경)집계표'!G283 -> 0
...

Sheet (변경)전체
A1: (변경) 전체 편입용지 집계표
B3: 계 | E3: 서 산 시 | AI3: 비 고
E4: 부 석 면
A5: 구분 | E5: 대두리 | H5: 봉락리 | K5: 칠전리 | N5: 마룡리 | Q5: 창 리 | T5: 6 | W5: 7 | Z5: 8 | AC5: 9 | AF5: 10
B6: 필지 | C6: / | D6: 면적(㎡) | E6: 필지 | F6: / | G6: 면적(㎡) | H6: 필지 | I6: / | J6: 면적(㎡) | K6: 필지 | L6: / | M6: 면적(㎡) | N6: 필지 | O6: / | P6: 면적(㎡) | Q6: 필지 | R6: / | S6: 면적(㎡) | T6: 필지 | U6: / | V6: 면적(㎡) | W6: 필지 | X6: / | Y6: 면적(㎡) | Z6: 필지 | AA6: / | AB6: 면적(㎡) | AC6: 필지 | AD6: / | AE6: 면적(㎡) | AF6: 필지 | AG6: / | AH6: 면적(㎡)
A7: 계 | B7: =SUM(B8:B32) -> #REF! | C7: / | D7: =SUM(D8:D32) -> #REF! | E7: =SUM(E8:E32) -> 650 | F7: / | G7: =SUM(G8:G32) -> 315781.7 | H7: =SUM(H8:H32) -> #REF! | I7: / | J7: =SUM(J8:J32) -> #REF! | K7: =SUM(K8:K32) -> #REF! | L7: / | M7: =SUM(M8:M32) -> #REF! | N7: =SUM(N8:N32) -> #REF! | O7: / | P7: =SUM(P8:P32) -> #REF! | Q7: =SUM(Q8:Q32) -> #REF! | R7: / | S7: =SUM(S8:S32) -> #REF! | T7: =SUM(T8:T32) -> 0 | U7: / | V7: =SUM(V8:V32) -> 0 | W7: =SUM(W8:W32) -> 0 | X7: / | Y7: =SUM(Y8:Y32) -> 0 | Z7: =SUM(Z8:Z32) -> 0 | AA7: / | AB7: =SUM(AB8:AB32) -> 0 | AC7: =SUM(AC8:AC32) -> 0 | AD7: / | AE7: =SUM(AE8:AE32) -> 0 | AF7: =SUM(AF8:AF32) -> 0 | AG7: / | AH7: =SUM(AH8:AH32) -> 0
A8: 전 | B8: =SUM(E8,H8,K8,N8,Q8,T8,W8,Z8,AC8,AF8) -> #REF! | C8: / | D8: =SUM(G8,J8,M8,P8,S8,V8,Y8,AB8,AE8,AH8) -> #REF! | E8: ='(변경)집계표'!B7 -> 92 | F8: / | G8: ='(변경)집계표'!D7 -> 31389 | H8: ='(변경)집계표'!B37 -> #REF! | I8: / | J8: ='(변경)집계표'!D37 -> #REF! | K8: ='(변경)집계표'!B67 -> #REF! | L8: / | M8: ='(변경)집계표'!D67 -> #REF! | N8: ='(변경)집계표'!B97 -> #REF! | O8: / | P8: ='(변경)집계표'!D97 -> #REF! | Q8: ='(변경)집계표'!B127 -> #REF! | R8: / | S8: ='(변경)집계표'!D127 -> #REF! | T8: ='(변경)집계표'!B157 -> 0 | U8: / | V8: ='(변경)집계표'!D157 -> 0 | W8: ='(변경)집계표'!B187 -> 0 | X8: / | Y8: ='(변경)집계표'!D187 -> 0 | Z8: ='(변경)집계표'!B217 -> 0 | AA8: / | AB8: ='(변경)집계표'!D217 -> 0 | AC8: ='(변경)집계표'!B247 -> 0 | AD8: / | AE8: ='(변경)집계표'!D247 -> 0 | AF8: ='(변경)집계표'!B277 -> 0 | AG8: / | AH8: ='(변경)집계표'!D277 -> 0
A9: 답 | B9: =SUM(E9,H9,K9,N9,Q9,T9,W9,Z9,AC9,AF9) -> #REF! | C9: / | D9: =SUM(G9,J9,M9,P9,S9,V9,Y9,AB9,AE9,AH9) -> #REF! | E9: ='(변경)집계표'!B8 -> 142 | F9: / | G9: ='(변경)집계표'!D8 -> 98608 | H9: ='(변경)집계표'!B38 -> #REF! | I9: / | J9: ='(변경)집계표'!D38 -> #REF! | K9: ='(변경)집계표'!B68 -> #REF! | L9: / | M9: ='(변경)집계표'!D68 -> #REF! | N9: ='(변경)집계표'!B98 -> #REF! | O9: / | P9: ='(변경)집계표'!D98 -> #REF! | Q9: ='(변경)집계표'!B128 -> #REF! | R9: / | S9: ='(변경)집계표'!D128 -> #REF! | T9: ='(변경)집계표'!B158 -> 0 | U9: / | V9: ='(변경)집계표'!D158 -> 0 | W9: ='(변경)집계표'!B188 -> 0 | X9: / | Y9: ='(변경)집계표'!D188 -> 0 | Z9: ='(변경)집계표'!B218 -> 0 | AA9: / | AB9: ='(변경)집계표'!D218 -> 0 | AC9: ='(변경)집계표'!B248 -> 0 | AD9: / | AE9: ='(변경)집계표'!D248 -> 0 | AF9: ='(변경)집계표'!B278 -> 0 | AG9: / | AH9: ='(변경)집계표'!D278 -> 0
A10: 임야 | B10: =SUM(E10,H10,K10,N10,Q10,T10,W10,Z10,AC10,AF10) -> #REF! | C10: / | D10: =SUM(G10,J10,M10,P10,S10,V10,Y10,AB10,AE10,AH10) -> #REF! | E10: ='(변경)집계표'!B9 -> 114 | F10: / | G10: ='(변경)집계표'!D9 -> 98855 | H10: ='(변경)집계표'!B39 -> #REF! | I10: / | J10: ='(변경)집계표'!D39 -> #REF! | K10: ='(변경)집계표'!B69 -> #REF! | L10: / | M10: ='(변경)집계표'!D69 -> #REF! | N10: ='(변경)집계표'!B99 -> #REF! | O10: / | P10: ='(변경)집계표'!D99 -> #REF! | Q10: ='(변경)집계표'!B129 -> #REF! | R10: / | S10: ='(변경)집계표'!D129 -> #REF! | T10: ='(변경)집계표'!B159 -> 0 | U10: / | V10: ='(변경)집계표'!D159 -> 0 | W10: ='(변경)집계표'!B189 -> 0 | X10: / | Y10: ='(변경)집계표'!D189 -> 0 | Z10: ='(변경)집계표'!B219 -> 0 | AA10: / | AB10: ='(변경)집계표'!D219 -> 0 | AC10: ='(변경)집계표'!B249 -> 0 | AD10: / | AE10: ='(변경)집계표'!D249 -> 0 | AF10: ='(변경)집계표'!B279 -> 0 | AG10: / | AH10: ='(변경)집계표'!D279 -> 0
A11: 대지 | B11: =SUM(E11,H11,K11,N11,Q11,T11,W11,Z11,AC11,AF11) -> #REF! | C11: / | D11: =SUM(G11,J11,M11,P11,S11,V11,Y11,AB11,AE11,AH11) -> #REF! | E11: ='(변경)집계표'!B10 -> 26 | F11: / | G11: ='(변경)집계표'!D10 -> 2982 | H11: ='(변경)집계표'!B40 -> #REF! | I11: / | J11: ='(변경)집계표'!D40 -> #REF! | K11: ='(변경)집계표'!B70 -> #REF! | L11: / | M11: ='(변경)집계표'!D70 -> #REF! | N11: ='(변경)집계표'!B100 -> #REF! | O11: / | P11: ='(변경)집계표'!D100 -> #REF! | Q11: ='(변경)집계표'!B130 -> #REF! | R11: / | S11: ='(변경)집계표'!D130 -> #REF! | T11: ='(변경)집계표'!B160 -> 0 | U11: / | V11: ='(변경)집계표'!D160 -> 0 | W11: ='(변경)집계표'!B190 -> 0 | X11: / | Y11: ='(변경)집계표'!D190 -> 0 | Z11: ='(변경)집계표'!B220 -> 0 | AA11: / | AB11: ='(변경)집계표'!D220 -> 0 | AC11: ='(변경)집계표'!B250 -> 0 | AD11: / | AE11: ='(변경)집계표'!D250 -> 0 | AF11: ='(변경)집계표'!B280 -> 0 | AG11: / | AH11: ='(변경)집계표'!D280 -> 0
A12: 도로 | B12: =SUM(E12,H12,K12,N12,Q12,T12,W12,Z12,AC12,AF12) -> #REF! | C12: / | D12: =SUM(G12,J12,M12,P12,S12,V12,Y12,AB12,AE12,AH12) -> #REF! | E12: ='(변경)집계표'!B11 -> 212 | F12: / | G12: ='(변경)집계표'!D11 -> 67484.3 | H12: ='(변경)집계표'!B41 -> #REF! | I12: / | J12: ='(변경)집계표'!D41 -> #REF! | K12: ='(변경)집계표'!B71 -> #REF! | L12: / | M12: ='(변경)집계표'!D71 -> #REF! | N12: ='(변경)집계표'!B101 -> #REF! | O12: / | P12: ='(변경)집계표'!D101 -> #REF! | Q12: ='(변경)집계표'!B131 -> #REF! | R12: / | S12: ='(변경)집계표'!D131 -> #REF! | T12: ='(변경)집계표'!B161 -> 0 | U12: / | V12: ='(변경)집계표'!D161 -> 0 | W12: ='(변경)집계표'!B191 -> 0 | X12: / | Y12: ='(변경)집계표'!D191 -> 0 | Z12: ='(변경)집계표'!B221 -> 0 | AA12: / | AB12: ='(변경)집계표'!D221 -> 0 | AC12: ='(변경)집계표'!B251 -> 0 | AD12: / | AE12: ='(변경)집계표'!D251 -> 0 | AF12: ='(변경)집계표'!B281 -> 0 | AG12: / | AH12: ='(변경)집계표'!D281 -> 0
A13: 구거 | B13: =SUM(E13,H13,K13,N13,Q13,T13,W13,Z13,AC13,AF13) -> #REF! | C13: / | D13: =SUM(G13,J13,M13,P13,S13,V13,Y13,AB13,AE13,AH13) -> #REF! | E13: ='(변경)집계표'!B12 -> 45 | F13: / | G13: ='(변경)집계표'!D12 -> 11349.5 | H13: ='(변경)집계표'!B42 -> #REF! | I13: / | J13: ='(변경)집계표'!D42 -> #REF! | K13: ='(변경)집계표'!B72 -> #REF! | L13: / | M13: ='(변경)집계표'!D72 -> #REF! | N13: ='(변경)집계표'!B102 -> #REF! | O13: / | P13: ='(변경)집계표'!D102 -> #REF! | Q13: ='(변경)집계표'!B132 -> #REF! | R13: / | S13: ='(변경)집계표'!D132 -> #REF! | T13: ='(변경)집계표'!B162 -> 0 | U13: / | V13: ='(변경)집계표'!D162 -> 0 | W13: ='(변경)집계표'!B192 -> 0 | X13: / | Y13: ='(변경)집계표'!D192 -> 0 | Z13: ='(변경)집계표'!B222 -> 0 | AA13: / | AB13: ='(변경)집계표'!D222 -> 0 | AC13: ='(변경)집계표'!B252 -> 0 | AD13: / | AE13: ='(변경)집계표'!D252 -> 0 | AF13: ='(변경)집계표'!B282 -> 0 | AG13: / | AH13: ='(변경)집계표'!D282 -> 0
A14: 하천 | B14: =SUM(E14,H14,K14,N14,Q14,T14,W14,Z14,AC14,AF14) -> #REF! | C14: / | D14: =SUM(G14,J14,M14,P14,S14,V14,Y14,AB14,AE14,AH14) -> #REF! | E14: ='(변경)집계표'!B13 -> 1 | F14: / | G14: ='(변경)집계표'!D13 -> 597.9 | H14: ='(변경)집계표'!B43 -> #REF! | I14: / | J14: ='(변경)집계표'!D43 -> #REF! | K14: ='(변경)집계표'!B73 -> #REF! | L14: / | M14: ='(변경)집계표'!D73 -> #REF! | N14: ='(변경)집계표'!B103 -> #REF! | O14: / | P14: ='(변경)집계표'!D103 -> #REF! | Q14: ='(변경)집계표'!B133 -> #REF! | R14: / | S14: ='(변경)집계표'!D133 -> #REF! | T14: ='(변경)집계표'!B163 -> 0 | U14: / | V14: ='(변경)집계표'!D163 -> 0 | W14: ='(변경)집계표'!B193 -> 0 | X14: / | Y14: ='(변경)집계표'!D193 -> 0 | Z14: ='(변경)집계표'!B223 -> 0 | AA14: / | AB14: ='(변경)집계표'!D223 -> 0 | AC14: ='(변경)집계표'!B253 -> 0 | AD14: / | AE14: ='(변경)집계표'!D253 -> 0 | AF14: ='(변경)집계표'!B283 -> 0 | AG14: / | AH14: ='(변경)집계표'!D283 -> 0
A15: 유지 | B15: =SUM(E15,H15,K15,N15,Q15,T15,W15,Z15,AC15,AF15) -> #REF! | C15: / | D15: =SUM(G15,J15,M15,P15,S15,V15,Y15,AB15,AE15,AH15) -> #REF! | E15: ='(변경)집계표'!B14 -> 8 | F15: / | G15: ='(변경)집계표'!D14 -> 2406 | H15: ='(변경)집계표'!B44 -> #REF! | I15: / | J15: ='(변경)집계표'!D44 -> #REF! | K15: ='(변경)집계표'!B74 -> #REF! | L15: / | M15: ='(변경)집계표'!D74 -> #REF! | N15: ='(변경)집계표'!B104 -> #REF! | O15: / | P15: ='(변경)집계표'!D104 -> #REF! | Q15: ='(변경)집계표'!B134 -> #REF! | R15: / | S15: ='(변경)집계표'!D134 -> #REF! | T15: ='(변경)집계표'!B164 -> 0 | U15: / | V15: ='(변경)집계표'!D164 -> 0 | W15: ='(변경)집계표'!B194 -> 0 | X15: / | Y15: ='(변경)집계표'!D194 -> 0 | Z15: ='(변경)집계표'!B224 -> 0 | AA15: / | AB15: ='(변경)집계표'!D224 -> 0 | AC15: ='(변경)집계표'!B254 -> 0 | AD15: / | AE15: ='(변경)집계표'!D254 -> 0 | AF15: ='(변경)집계표'!B284 -> 0 | AG15: / | AH15: ='(변경)집계표'!D284 -> 0
A16: 제방 | B16: =SUM(E16,H16,K16,N16,Q16,T16,W16,Z16,AC16,AF16) -> #REF! | C16: / | D16: =SUM(G16,J16,M16,P16,S16,V16,Y16,AB16,AE16,AH16) -> #REF! | E16: ='(변경)집계표'!B15 -> 2 | F16: / | G16: ='(변경)집계표'!D15 -> 117 | H16: ='(변경)집계표'!B45 -> #REF! | I16: / | J16: ='(변경)집계표'!D45 -> #REF! | K16: ='(변경)집계표'!B75 -> #REF! | L16: / | M16: ='(변경)집계표'!D75 -> #REF! | N16: ='(변경)집계표'!B105 -> #REF! | O16: / | P16: ='(변경)집계표'!D105 -> #REF! | Q16: ='(변경)집계표'!B135 -> #REF! | R16: / | S16: ='(변경)집계표'!D135 -> #REF! | T16: ='(변경)집계표'!B165 -> 0 | U16: / | V16: ='(변경)집계표'!D165 -> 0 | W16: ='(변경)집계표'!B195 -> 0 | X16: / | Y16: ='(변경)집계표'!D195 -> 0 | Z16: ='(변경)집계표'!B225 -> 0 | AA16: / | AB16: ='(변경)집계표'!D225 -> 0 | AC16: ='(변경)집계표'!B255 -> 0 | AD16: / | AE16: ='(변경)집계표'!D255 -> 0 | AF16: ='(변경)집계표'!B285 -> 0 | AG16: / | AH16: ='(변경)집계표'!D285 -> 0
A17: 과수원 | B17: =SUM(E17,H17,K17,N17,Q17,T17,W17,Z17,AC17,AF17) -> #REF! | C17: / | D17: =SUM(G17,J17,M17,P17,S17,V17,Y17,AB17,AE17,AH17) -> #REF! | E17: ='(변경)집계표'!B16 -> 0 | F17: / | G17: ='(변경)집계표'!D16 -> 0 | H17: ='(변경)집계표'!B46 -> #REF! | I17: / | J17: ='(변경)집계표'!D46 -> #REF! | K17: ='(변경)집계표'!B76 -> #REF! | L17: / | M17: ='(변경)집계표'!D76 -> #REF! | N17: ='(변경)집계표'!B106 -> #REF! | O17: / | P17: ='(변경)집계표'!D106 -> #REF! | Q17: ='(변경)집계표'!B136 -> #REF! | R17: / | S17: ='(변경)집계표'!D136 -> #REF! | T17: ='(변경)집계표'!B166 -> 0 | U17: / | V17: ='(변경)집계표'!D166 -> 0 | W17: ='(변경)집계표'!B196 -> 0 | X17: / | Y17: ='(변경)집계표'!D196 -> 0 | Z17: ='(변경)집계표'!B226 -> 0 | AA17: / | AB17: ='(변경)집계표'!D226 -> 0 | AC17: ='(변경)집계표'!B256 -> 0 | AD17: / | AE17: ='(변경)집계표'!D256 -> 0 | AF17: ='(변경)집계표'!B286 -> 0 | AG17: / | AH17: ='(변경)집계표'!D286 -> 0
A18: 공장 | B18: =SUM(E18,H18,K18,N18,Q18,T18,W18,Z18,AC18,AF18) -> #REF! | C18: / | D18: =SUM(G18,J18,M18,P18,S18,V18,Y18,AB18,AE18,AH18) -> #REF! | E18: ='(변경)집계표'!B17 -> 0 | F18: / | G18: ='(변경)집계표'!D17 -> 0 | H18: ='(변경)집계표'!B47 -> #REF! | I18: / | J18: ='(변경)집계표'!D47 -> #REF! | K18: ='(변경)집계표'!B77 -> #REF! | L18: / | M18: ='(변경)집계표'!D77 -> #REF! | N18: ='(변경)집계표'!B107 -> #REF! | O18: / | P18: ='(변경)집계표'!D107 -> #REF! | Q18: ='(변경)집계표'!B137 -> #REF! | R18: / | S18: ='(변경)집계표'!D137 -> #REF! | T18: ='(변경)집계표'!B167 -> 0 | U18: / | V18: ='(변경)집계표'!D167 -> 0 | W18: ='(변경)집계표'!B197 -> 0 | X18: / | Y18: ='(변경)집계표'!D197 -> 0 | Z18: ='(변경)집계표'!B227 -> 0 | AA18: / | AB18: ='(변경)집계표'!D227 -> 0 | AC18: ='(변경)집계표'!B257 -> 0 | AD18: / | AE18: ='(변경)집계표'!D257 -> 0 | AF18: ='(변경)집계표'!B287 -> 0 | AG18: / | AH18: ='(변경)집계표'!D287 -> 0
A19: 목장 | B19: =SUM(E19,H19,K19,N19,Q19,T19,W19,Z19,AC19,AF19) -> #REF! | C19: / | D19: =SUM(G19,J19,M19,P19,S19,V19,Y19,AB19,AE19,AH19) -> #REF! | E19: ='(변경)집계표'!B18 -> 0 | F19: / | G19: ='(변경)집계표'!D18 -> 0 | H19: ='(변경)집계표'!B48 -> #REF! | I19: / | J19: ='(변경)집계표'!D48 -> #REF! | K19: ='(변경)집계표'!B78 -> #REF! | L19: / | M19: ='(변경)집계표'!D78 -> #REF! | N19: ='(변경)집계표'!B108 -> #REF! | O19: / | P19: ='(변경)집계표'!D108 -> #REF! | Q19: ='(변경)집계표'!B138 -> #REF! | R19: / | S19: ='(변경)집계표'!D138 -> #REF! | T19: ='(변경)집계표'!B168 -> 0 | U19: / | V19: ='(변경)집계표'!D168 -> 0 | W19: ='(변경)집계표'!B198 -> 0 | X19: / | Y19: ='(변경)집계표'!D198 -> 0 | Z19: ='(변경)집계표'!B228 -> 0 | AA19: / | AB19: ='(변경)집계표'!D228 -> 0 | AC19: ='(변경)집계표'!B258 -> 0 | AD19: / | AE19: ='(변경)집계표'!D258 -> 0 | AF19: ='(변경)집계표'!B288 -> 0 | AG19: / | AH19: ='(변경)집계표'!D288 -> 0
... A32: 미지번 | B32: =SUM(E32,H32,K32,N32,Q32,T32,W32,Z32,AC32,AF32) -> #REF! | C32: / | D32: =SUM(G32,J32,M32,P32,S32,V32,Y32,AB32,AE32,AH32) -> #REF! | E32: ='(변경)집계표'!B31 -> 5 | F32: / | G32: ='(변경)집계표'!D31 -> 1510 | H32: ='(변경)집계표'!B61 -> #REF! | I32: / | J32: ='(변경)집계표'!D61 -> #REF! | K32: ='(변경)집계표'!B91 -> #REF! | L32: / | M32: ='(변경)집계표'!D91 -> #REF! | N32: ='(변경)집계표'!B121 -> #REF! | O32: / | P32: ='(변경)집계표'!D121 -> #REF! | Q32: ='(변경)집계표'!B151 -> #REF! | R32: / | S32: ='(변경)집계표'!D151 -> #REF! | T32: ='(변경)집계표'!B181 -> 0 | U32: / | V32: ='(변경)집계표'!D181 -> 0 | W32: ='(변경)집계표'!B211 -> 0 | X32: / | Y32: ='(변경)집계표'!D211 -> 0 | Z32: ='(변경)집계표'!B241 -> 0 | AA32: / | AB32: ='(변경)집계표'!D241 -> 0 | AC32: ='(변경)집계표'!B271 -> 0 | AD32: / | AE32: ='(변경)집계표'!D271 -> 0 | AF32: ='(변경)집계표'!B301 -> 0 | AG32: / | AH32: ='(변경)집계표'!D301 -> 0
A33: 국유지 편입용지 집계표
B35: 계 | E35: 서 산 시 | AI35: 비 고
E36: 부 석 면
A37: 구분 | E37: 대두리 | H37: 봉락리 | K37: 칠전리 | N37: 마룡리 | Q37: 창 리 | T37: 6 | W37: 7 | Z37: 8 | AC37: 9 | AF37: 10
B38: 필지 | C38: / | D38: 면적(㎡) | E38: 필지 | F38: / | G38: 면적(㎡) | H38: 필지 | I38: / | J38: 면적(㎡) | K38: 필지 | L38: / | M38: 면적(㎡) | N38: 필지 | O38: / | P38: 면적(㎡) | Q38: 필지 | R38: / | S38: 면적(㎡) | T38: 필지 | U38: / | V38: 면적(㎡) | W38: 필지 | X38: / | Y38: 면적(㎡) | Z38: 필지 | AA38: / | AB38: 면적(㎡) | AC38: 필지 | AD38: / | AE38: 면적(㎡) | AF38: 필지 | AG38: / | AH38: 면적(㎡)
A39: 계 | B39: =SUM(B40:B64) -> #REF! | C39: / | D39: =SUM(D40:D64) -> #REF! | E39: =SUM(E40:E64) -> #REF! | F39: / | G39: =SUM(G40:G64) -> #REF! | H39: =SUM(H40:H64) -> #REF! | I39: / | J39: =SUM(J40:J64) -> #REF! | K39: =SUM(K40:K64) -> #REF! | L39: / | M39: =SUM(M40:M64) -> #REF! | N39: =SUM(N40:N64) -> #REF! | O39: / | P39: =SUM(P40:P64) -> #REF! | Q39: =SUM(Q40:Q64) -> #REF! | R39: / | S39: =SUM(S40:S64) -> #REF! | T39: =SUM(T40:T64) -> 0 | U39: / | V39: =SUM(V40:V64) -> 0 | W39: =SUM(W40:W64) -> 0 | X39: / | Y39: =SUM(Y40:Y64) -> 0 | Z39: =SUM(Z40:Z64) -> 0 | AA39: / | AB39: =SUM(AB40:AB64) -> 0 | AC39: =SUM(AC40:AC64) -> 0 | AD39: / | AE39: =SUM(AE40:AE64) -> 0 | AF39: =SUM(AF40:AF64) -> 0 | AG39: / | AH39: =SUM(AH40:AH64) -> 0
A40: 전 | B40: =SUM(E40,H40,K40,N40,Q40,T40,W40,Z40,AC40,AF40) -> #REF! | C40: / | D40: =SUM(G40,J40,M40,P40,S40,V40,Y40,AB40,AE40,AH40) -> #REF! | E40: ='(변경)집계표'!E7 -> #REF! | F40: / | G40: ='(변경)집계표'!G7 -> #REF! | H40: ='(변경)집계표'!E37 -> #REF! | I40: / | J40: ='(변경)집계표'!G37 -> #REF! | K40: ='(변경)집계표'!E67 -> #REF! | L40: / | M40: ='(변경)집계표'!G67 -> #REF! | N40: ='(변경)집계표'!E97 -> #REF! | O40: / | P40: ='(변경)집계표'!G97 -> #REF! | Q40: ='(변경)집계표'!E127 -> #REF! | R40: / | S40: ='(변경)집계표'!G127 -> #REF! | T40: ='(변경)집계표'!E157 -> 0 | U40: / | V40: ='(변경)집계표'!G157 -> 0 | W40: ='(변경)집계표'!E187 -> 0 | X40: / | Y40: ='(변경)집계표'!G187 -> 0 | Z40: ='(변경)집계표'!E217 -> 0 | AA40: / | AB40: ='(변경)집계표'!G217 -> 0 | AC40: ='(변경)집계표'!E247 -> 0 | AD40: / | AE40: ='(변경)집계표'!G247 -> 0 | AF40: ='(변경)집계표'!E277 -> 0 | AG40: / | AH40: ='(변경)집계표'!G277 -> 0
A41: 답 | B41: =SUM(E41,H41,K41,N41,Q41,T41,W41,Z41,AC41,AF41) -> #REF! | C41: / | D41: =SUM(G41,J41,M41,P41,S41,V41,Y41,AB41,AE41,AH41) -> #REF! | E41: ='(변경)집계표'!E8 -> #REF! | F41: / | G41: ='(변경)집계표'!G8 -> #REF! | H41: ='(변경)집계표'!E38 -> #REF! | I41: / | J41: ='(변경)집계표'!G38 -> #REF! | K41: ='(변경)집계표'!E68 -> #REF! | L41: / | M41: ='(변경)집계표'!G68 -> #REF! | N41: ='(변경)집계표'!E98 -> #REF! | O41: / | P41: ='(변경)집계표'!G98 -> #REF! | Q41: ='(변경)집계표'!E128 -> #REF! | R41: / | S41: ='(변경)집계표'!G128 -> #REF! | T41: ='(변경)집계표'!E158 -> 0 | U41: / | V41: ='(변경)집계표'!G158 -> 0 | W41: ='(변경)집계표'!E188 -> 0 | X41: / | Y41: ='(변경)집계표'!G188 -> 0 | Z41: ='(변경)집계표'!E218 -> 0 | AA41: / | AB41: ='(변경)집계표'!G218 -> 0 | AC41: ='(변경)집계표'!E248 -> 0 | AD41: / | AE41: ='(변경)집계표'!G248 -> 0 | AF41: ='(변경)집계표'!E278 -> 0 | AG41: / | AH41: ='(변경)집계표'!G278 -> 0
A42: 임야 | B42: =SUM(E42,H42,K42,N42,Q42,T42,W42,Z42,AC42,AF42) -> #REF! | C42: / | D42: =SUM(G42,J42,M42,P42,S42,V42,Y42,AB42,AE42,AH42) -> #REF! | E42: ='(변경)집계표'!E9 -> #REF! | F42: / | G42: ='(변경)집계표'!G9 -> #REF! | H42: ='(변경)집계표'!E39 -> #REF! | I42: / | J42: ='(변경)집계표'!G39 -> #REF! | K42: ='(변경)집계표'!E69 -> #REF! | L42: / | M42: ='(변경)집계표'!G69 -> #REF! | N42: ='(변경)집계표'!E99 -> #REF! | O42: / | P42: ='(변경)집계표'!G99 -> #REF! | Q42: ='(변경)집계표'!E129 -> #REF! | R42: / | S42: ='(변경)집계표'!G129 -> #REF! | T42: ='(변경)집계표'!E159 -> 0 | U42: / | V42: ='(변경)집계표'!G159 -> 0 | W42: ='(변경)집계표'!E189 -> 0 | X42: / | Y42: ='(변경)집계표'!G189 -> 0 | Z42: ='(변경)집계표'!E219 -> 0 | AA42: / | AB42: ='(변경)집계표'!G219 -> 0 | AC42: ='(변경)집계표'!E249 -> 0 | AD42: / | AE42: ='(변경)집계표'!G249 -> 0 | AF42: ='(변경)집계표'!E279 -> 0 | AG42: / | AH42: ='(변경)집계표'!G279 -> 0
A43: 대지 | B43: =SUM(E43,H43,K43,N43,Q43,T43,W43,Z43,AC43,AF43) -> #REF! | C43: / | D43: =SUM(G43,J43,M43,P43,S43,V43,Y43,AB43,AE43,AH43) -> #REF! | E43: ='(변경)집계표'!E10 -> #REF! | F43: / | G43: ='(변경)집계표'!G10 -> #REF! | H43: ='(변경)집계표'!E40 -> #REF! | I43: / | J43: ='(변경)집계표'!G40 -> #REF! | K43: ='(변경)집계표'!E70 -> #REF! | L43: / | M43: ='(변경)집계표'!G70 -> #REF! | N43: ='(변경)집계표'!E100 -> #REF! | O43: / | P43: ='(변경)집계표'!G100 -> #REF! | Q43: ='(변경)집계표'!E130 -> #REF! | R43: / | S43: ='(변경)집계표'!G130 -> #REF! | T43: ='(변경)집계표'!E160 -> 0 | U43: / | V43: ='(변경)집계표'!G160 -> 0 | W43: ='(변경)집계표'!E190 -> 0 | X43: / | Y43: ='(변경)집계표'!G190 -> 0 | Z43: ='(변경)집계표'!E220 -> 0 | AA43: / | AB43: ='(변경)집계표'!G220 -> 0 | AC43: ='(변경)집계표'!E250 -> 0 | AD43: / | AE43: ='(변경)집계표'!G250 -> 0 | AF43: ='(변경)집계표'!E280 -> 0 | AG43: / | AH43: ='(변경)집계표'!G280 -> 0
A44: 도로 | B44: =SUM(E44,H44,K44,N44,Q44,T44,W44,Z44,AC44,AF44) -> #REF! | C44: / | D44: =SUM(G44,J44,M44,P44,S44,V44,Y44,AB44,AE44,AH44) -> #REF! | E44: ='(변경)집계표'!E11 -> #REF! | F44: / | G44: ='(변경)집계표'!G11 -> #REF! | H44: ='(변경)집계표'!E41 -> #REF! | I44: / | J44: ='(변경)집계표'!G41 -> #REF! | K44: ='(변경)집계표'!E71 -> #REF! | L44: / | M44: ='(변경)집계표'!G71 -> #REF! | N44: ='(변경)집계표'!E101 -> #REF! | O44: / | P44: ='(변경)집계표'!G101 -> #REF! | Q44: ='(변경)집계표'!E131 -> #REF! | R44: / | S44: ='(변경)집계표'!G131 -> #REF! | T44: ='(변경)집계표'!E161 -> 0 | U44: / | V44: ='(변경)집계표'!G161 -> 0 | W44: ='(변경)집계표'!E191 -> 0 | X44: / | Y44: ='(변경)집계표'!G191 -> 0 | Z44: ='(변경)집계표'!E221 -> 0 | AA44: / | AB44: ='(변경)집계표'!G221 -> 0 | AC44: ='(변경)집계표'!E251 -> 0 | AD44: / | AE44: ='(변경)집계표'!G251 -> 0 | AF44: ='(변경)집계표'!E281 -> 0 | AG44: / | AH44: ='(변경)집계표'!G281 -> 0
A45: 구거 | B45: =SUM(E45,H45,K45,N45,Q45,T45,W45,Z45,AC45,AF45) -> #REF! | C45: / | D45: =SUM(G45,J45,M45,P45,S45,V45,Y45,AB45,AE45,AH45) -> #REF! | E45: ='(변경)집계표'!E12 -> #REF! | F45: / | G45: ='(변경)집계표'!G12 -> #REF! | H45: ='(변경)집계표'!E42 -> #REF! | I45: / | J45: ='(변경)집계표'!G42 -> #REF! | K45: ='(변경)집계표'!E72 -> #REF! | L45: / | M45: ='(변경)집계표'!G72 -> #REF! | N45: ='(변경)집계표'!E102 -> #REF! | O45: / | P45: ='(변경)집계표'!G102 -> #REF! | Q45: ='(변경)집계표'!E132 -> #REF! | R45: / | S45: ='(변경)집계표'!G132 -> #REF! | T45: ='(변경)집계표'!E162 -> 0 | U45: / | V45: ='(변경)집계표'!G162 -> 0 | W45: ='(변경)집계표'!E192 -> 0 | X45: / | Y45: ='(변경)집계표'!G192 -> 0 | Z45: ='(변경)집계표'!E222 -> 0 | AA45: / | AB45: ='(변경)집계표'!G222 -> 0 | AC45: ='(변경)집계표'!E252 -> 0 | AD45: / | AE45: ='(변경)집계표'!G252 -> 0 | AF45: ='(변경)집계표'!E282 -> 0 | AG45: / | AH45: ='(변경)집계표'!G282 -> 0
A46: 하천 | B46: =SUM(E46,H46,K46,N46,Q46,T46,W46,Z46,AC46,AF46) -> #REF! | C46: / | D46: =SUM(G46,J46,M46,P46,S46,V46,Y46,AB46,AE46,AH46) -> #REF! | E46: ='(변경)집계표'!E13 -> #REF! | F46: / | G46: ='(변경)집계표'!G13 -> #REF! | H46: ='(변경)집계표'!E43 -> #REF! | I46: / | J46: ='(변경)집계표'!G43 -> #REF! | K46: ='(변경)집계표'!E73 -> #REF! | L46: / | M46: ='(변경)집계표'!G73 -> #REF! | N46: ='(변경)집계표'!E103 -> #REF! | O46: / | P46: ='(변경)집계표'!G103 -> #REF! | Q46: ='(변경)집계표'!E133 -> #REF! | R46: / | S46: ='(변경)집계표'!G133 -> #REF! | T46: ='(변경)집계표'!E163 -> 0 | U46: / | V46: ='(변경)집계표'!G163 -> 0 | W46: ='(변경)집계표'!E193 -> 0 | X46: / | Y46: ='(변경)집계표'!G193 -> 0 | Z46: ='(변경)집계표'!E223 -> 0 | AA46: / | AB46: ='(변경)집계표'!G223 -> 0 | AC46: ='(변경)집계표'!E253 -> 0 | AD46: / | AE46: ='(변경)집계표'!G253 -> 0 | AF46: ='(변경)집계표'!E283 -> 0 | AG46: / | AH46: ='(변경)집계표'!G283 -> 0
A47: 유지 | B47: =SUM(E47,H47,K47,N47,Q47,T47,W47,Z47,AC47,AF47) -> #REF! | C47: / | D47: =SUM(G47,J47,M47,P47,S47,V47,Y47,AB47,AE47,AH47) -> #REF! | E47: ='(변경)집계표'!E14 -> #REF! | F47: / | G47: ='(변경)집계표'!G14 -> #REF! | H47: ='(변경)집계표'!E44 -> #REF! | I47: / | J47: ='(변경)집계표'!G44 -> #REF! | K47: ='(변경)집계표'!E74 -> #REF! | L47: / | M47: ='(변경)집계표'!G74 -> #REF! | N47: ='(변경)집계표'!E104 -> #REF! | O47: / | P47: ='(변경)집계표'!G104 -> #REF! | Q47: ='(변경)집계표'!E134 -> #REF! | R47: / | S47: ='(변경)집계표'!G134 -> #REF! | T47: ='(변경)집계표'!E164 -> 0 | U47: / | V47: ='(변경)집계표'!G164 -> 0 | W47: ='(변경)집계표'!E194 -> 0 | X47: / | Y47: ='(변경)집계표'!G194 -> 0 | Z47: ='(변경)집계표'!E224 -> 0 | AA47: / | AB47: ='(변경)집계표'!G224 -> 0 | AC47: ='(변경)집계표'!E254 -> 0 | AD47: / | AE47: ='(변경)집계표'!G254 -> 0 | AF47: ='(변경)집계표'!E284 -> 0 | AG47: / | AH47: ='(변경)집계표'!G284 -> 0
A48: 제방 | B48: =SUM(E48,H48,K48,N48,Q48,T48,W48,Z48,AC48,AF48) -> #REF! | C48: / | D48: =SUM(G48,J48,M48,P48,S48,V48,Y48,AB48,AE48,AH48) -> #REF! | E48: ='(변경)집계표'!E15 -> #REF! | F48: / | G48: ='(변경)집계표'!G15 -> #REF! | H48: ='(변경)집계표'!E45 -> #REF! | I48: / | J48: ='(변경)집계표'!G45 -> #REF! | K48: ='(변경)집계표'!E75 -> #REF! | L48: / | M48: ='(변경)집계표'!G75 -> #REF! | N48: ='(변경)집계표'!E105 -> #REF! | O48: / | P48: ='(변경)집계표'!G105 -> #REF! | Q48: ='(변경)집계표'!E135 -> #REF! | R48: / | S48: ='(변경)집계표'!G135 -> #REF! | T48: ='(변경)집계표'!E165 -> 0 | U48: / | V48: ='(변경)집계표'!G165 -> 0 | W48: ='(변경)집계표'!E195 -> 0 | X48: / | Y48: ='(변경)집계표'!G195 -> 0 | Z48: ='(변경)집계표'!E225 -> 0 | AA48: / | AB48: ='(변경)집계표'!G225 -> 0 | AC48: ='(변경)집계표'!E255 -> 0 | AD48: / | AE48: ='(변경)집계표'!G255 -> 0 | AF48: ='(변경)집계표'!E285 -> 0 | AG48: / | AH48: ='(변경)집계표'!G285 -> 0
A49: 과수원 | B49: =SUM(E49,H49,K49,N49,Q49,T49,W49,Z49,AC49,AF49) -> #REF! | C49: / | D49: =SUM(G49,J49,M49,P49,S49,V49,Y49,AB49,AE49,AH49) -> #REF! | E49: ='(변경)집계표'!E16 -> #REF! | F49: / | G49: ='(변경)집계표'!G16 -> #REF! | H49: ='(변경)집계표'!E46 -> #REF! | I49: / | J49: ='(변경)집계표'!G46 -> #REF! | K49: ='(변경)집계표'!E76 -> #REF! | L49: / | M49: ='(변경)집계표'!G76 -> #REF! | N49: ='(변경)집계표'!E106 -> #REF! | O49: / | P49: ='(변경)집계표'!G106 -> #REF! | Q49: ='(변경)집계표'!E136 -> #REF! | R49: / | S49: ='(변경)집계표'!G136 -> #REF! | T49: ='(변경)집계표'!E166 -> 0 | U49: / | V49: ='(변경)집계표'!G166 -> 0 | W49: ='(변경)집계표'!E196 -> 0 | X49: / | Y49: ='(변경)집계표'!G196 -> 0 | Z49: ='(변경)집계표'!E226 -> 0 | AA49: / | AB49: ='(변경)집계표'!G226 -> 0 | AC49: ='(변경)집계표'!E256 -> 0 | AD49: / | AE49: ='(변경)집계표'!G256 -> 0 | AF49: ='(변경)집계표'!E286 -> 0 | AG49: / | AH49: ='(변경)집계표'!G286 -> 0
A50: 공장 | B50: =SUM(E50,H50,K50,N50,Q50,T50,W50,Z50,AC50,AF50) -> #REF! | C50: / | D50: =SUM(G50,J50,M50,P50,S50,V50,Y50,AB50,AE50,AH50) -> #REF! | E50: ='(변경)집계표'!E17 -> #REF! | F50: / | G50: ='(변경)집계표'!G17 -> #REF! | H50: ='(변경)집계표'!E47 -> #REF! | I50: / | J50: ='(변경)집계표'!G47 -> #REF! | K50: ='(변경)집계표'!E77 -> #REF! | L50: / | M50: ='(변경)집계표'!G77 -> #REF! | N50: ='(변경)집계표'!E107 -> #REF! | O50: / | P50: ='(변경)집계표'!G107 -> #REF! | Q50: ='(변경)집계표'!E137 -> #REF! | R50: / | S50: ='(변경)집계표'!G137 -> #REF! | T50: ='(변경)집계표'!E167 -> 0 | U50: / | V50: ='(변경)집계표'!G167 -> 0 | W50: ='(변경)집계표'!E197 -> 0 | X50: / | Y50: ='(변경)집계표'!G197 -> 0 | Z50: ='(변경)집계표'!E227 -> 0 | AA50: / | AB50: ='(변경)집계표'!G227 -> 0 | AC50: ='(변경)집계표'!E257 -> 0 | AD50: / | AE50: ='(변경)집계표'!G257 -> 0 | AF50: ='(변경)집계표'!E287 -> 0 | AG50: / | AH50: ='(변경)집계표'!G287 -> 0
A51: 목장 | B51: =SUM(E51,H51,K51,N51,Q51,T51,W51,Z51,AC51,AF51) -> #REF! | C51: / | D51: =SUM(G51,J51,M51,P51,S51,V51,Y51,AB51,AE51,AH51) -> #REF! | E51: ='(변경)집계표'!E18 -> #REF! | F51: / | G51: ='(변경)집계표'!G18 -> #REF! | H51: ='(변경)집계표'!E48 -> #REF! | I51: / | J51: ='(변경)집계표'!G48 -> #REF! | K51: ='(변경)집계표'!E78 -> #REF! | L51: / | M51: ='(변경)집계표'!G78 -> #REF! | N51: ='(변경)집계표'!E108 -> #REF! | O51: / | P51: ='(변경)집계표'!G108 -> #REF! | Q51: ='(변경)집계표'!E138 -> #REF! | R51: / | S51: ='(변경)집계표'!G138 -> #REF! | T51: ='(변경)집계표'!E168 -> 0 | U51: / | V51: ='(변경)집계표'!G168 -> 0 | W51: ='(변경)집계표'!E198 -> 0 | X51: / | Y51: ='(변경)집계표'!G198 -> 0 | Z51: ='(변경)집계표'!E228 -> 0 | AA51: / | AB51: ='(변경)집계표'!G228 -> 0 | AC51: ='(변경)집계표'!E258 -> 0 | AD51: / | AE51: ='(변경)집계표'!G258 -> 0 | AF51: ='(변경)집계표'!E288 -> 0 | AG51: / | AH51: ='(변경)집계표'!G288 -> 0
... A64: 미지번 | B64: =SUM(E64,H64,K64,N64,Q64,T64,W64,Z64,AC64,AF64) -> #REF! | C64: / | D64: =SUM(G64,J64,M64,P64,S64,V64,Y64,AB64,AE64,AH64) -> #REF! | E64: ='(변경)집계표'!E31 -> #REF! | F64: / | G64: ='(변경)집계표'!G31 -> #REF! | H64: ='(변경)집계표'!E61 -> #REF! | I64: / | J64: ='(변경)집계표'!G61 -> #REF! | K64: ='(변경)집계표'!E91 -> #REF! | L64: / | M64: ='(변경)집계표'!G91 -> #REF! | N64: ='(변경)집계표'!E121 -> #REF! | O64: / | P64: ='(변경)집계표'!G121 -> #REF! | Q64: ='(변경)집계표'!E151 -> #REF! | R64: / | S64: ='(변경)집계표'!G151 -> #REF! | T64: ='(변경)집계표'!E181 -> 0 | U64: / | V64: ='(변경)집계표'!G181 -> 0 | W64: ='(변경)집계표'!E211 -> 0 | X64: / | Y64: ='(변경)집계표'!G211 -> 0 | Z64: ='(변경)집계표'!E241 -> 0 | AA64: / | AB64: ='(변경)집계표'!G241 -> 0 | AC64: ='(변경)집계표'!E271 -> 0 | AD64: / | AE64: ='(변경)집계표'!G271 -> 0 | AF64: ='(변경)집계표'!E301 -> 0 | AG64: / | AH64: ='(변경)집계표'!G301 -> 0
A65: 사유지 편입용지 집계표
B67: 계 | E67: 서 산 시 | AI67: 비 고
...

Sheet (당초)집계표
A1: (당초) 편 입 용 지 집 계 표
A2: =IF(EXACT(O6,O7),,"검산확인요!!!") -> 0 | K2: =IF(ISBLANK(토지세목조서!N2),,토지세목조서!N2) -> 0
A4: 구분 | B4: 계 | E4: 국 유 지 | H4: 공 유 지 | K4: 사 유 지 | N4: 비고
B5: 필지 | C5: / | D5: 면 적 (㎡) | E5: 필지 | F5: / | G5: 면 적 (㎡) | H5: 필지 | I5: / | J5: 면 적 (㎡) | K5: 필지 | L5: / | M5: 면 적 (㎡) | Q5: 총계 | R5: 국유지 | S5: 사유지 | T5: 국유지+사유지
A6: 계 | B6: =SUM(B7:B31) -> 95 | C6: / | D6: =SUM(D7:D31) -> 29928.6 | E6: =SUM(E7:E31) -> 24 | F6: / | G6: =SUM(G7:G31) -> 4574.7 | H6: =SUM(H7:H31) -> 43 | I6: / | J6: =SUM(J7:J31) -> 12974 | K6: =SUM(K7:K31) -> 28 | L6: / | M6: =SUM(M7:M31) -> 12379.9 | O6: =IF(EXACT(Q6,T6),"맞음","틀림") -> 틀림 | P6: 필지 | Q6: =SUM(B7:B31) -> 95 | R6: =SUM(E7:E31) -> 24 | S6: =SUM(K7:K31) -> 28 | T6: =K6+E6 -> 52
A7: 전 | B7: =COUNTIF('(당초)대두리'!$D$6:$D$102,'(당초)집계표'!U7) -> 6 | C7: / | D7: =SUMIF('(당초)대두리'!$D$6:$D$156,'(당초)집계표'!U7,'(당초)대두리'!$F$6:$F$100) -> 3537 | E7: =COUNTIF('(당초)대두리'!$M$6:$M$100,'(당초)집계표'!V7) -> 0 | F7: / | G7: =SUMIF('(당초)대두리'!$M$6:$M$100,'(당초)집계표'!V7,'(당초)대두리'!$F$6:$F$100) -> 0 | H7: =COUNTIF('(당초)대두리'!$M$6:$M$100,'(당초)집계표'!W7) -> 4 | I7: / | J7: =SUMIF('(당초)대두리'!$M$6:$M$100,'(당초)집계표'!W7,'(당초)대두리'!$F$6:$F$100) -> 3245 | K7: =SUM(B7-E7-H7) -> 2 | L7: / | M7: =SUM(D7-G7-J7) -> 292 | O7: =IF(EXACT(Q7,T7),"맞음","틀림") -> 틀림 | P7: 면적 | Q7: =SUM(D7:D31) -> 29928.6 | R7: =SUM(G7:G31) -> 4574.7 | S7: =SUM(M7:M31) -> 12379.9 | T7: =G6+M6 -> 16954.6 | U7: 전 | V7: 전국 | W7: 전공
A8: 답 | B8: =COUNTIF('(당초)대두리'!$D$6:$D$102,'(당초)집계표'!U8) -> 29 | C8: / | D8: =SUMIF('(당초)대두리'!$D$6:$D$156,'(당초)집계표'!U8,'(당초)대두리'!$F$6:$F$100) -> 13294.9 | E8: =COUNTIF('(당초)대두리'!$M$6:$M$100,'(당초)집계표'!V8) -> 0 | F8: / | G8: =SUMIF('(당초)대두리'!$M$6:$M$100,'(당초)집계표'!V8,'(당초)대두리'!$F$6:$F$100) -> 0 | H8: =COUNTIF('(당초)대두리'!$M$6:$M$100,'(당초)집계표'!W8) -> 12 | I8: / | J8: =SUMIF('(당초)대두리'!$M$6:$M$100,'(당초)집계표'!W8,'(당초)대두리'!$F$6:$F$100) -> 3342 | K8: =SUM(B8-E8-H8) -> 17 | L8: / | M8: =SUM(D8-G8-J8) -> 9952.9 | U8: 답 | V8: 답국 | W8: 답공
A9: 임야 | B9: =COUNTIF('(당초)대두리'!$D$6:$D$102,'(당초)집계표'!U9) -> 4 | C9: / | D9: =SUMIF('(당초)대두리'!$D$6:$D$156,'(당초)집계표'!U9,'(당초)대두리'!$F$6:$F$100) -> 2642 | E9: =COUNTIF('(당초)대두리'!$M$6:$M$100,'(당초)집계표'!V9) -> 0 | F9: / | G9: =SUMIF('(당초)대두리'!$M$6:$M$100,'(당초)집계표'!V9,'(당초)대두리'!$F$6:$F$100) -> 0 | H9: =COUNTIF('(당초)대두리'!$M$6:$M$100,'(당초)집계표'!W9) -> 2 | I9: / | J9: =SUMIF('(당초)대두리'!$M$6:$M$100,'(당초)집계표'!W9,'(당초)대두리'!$F$6:$F$100) -> 1744 | K9: =SUM(B9-E9-H9) -> 2 | L9: / | M9: =SUM(D9-G9-J9) -> 898 | U9: 임 | V9: 임국 | W9: 임공
A10: 대지 | B10: =COUNTIF('(당초)대두리'!$D$6:$D$102,'(당초)집계표'!U10) -> 2 | C10: / | D10: =SUMIF('(당초)대두리'!$D$6:$D$156,'(당초)집계표'!U10,'(당초)대두리'!$F$6:$F$100) -> 267 | E10: =COUNTIF('(당초)대두리'!$M$6:$M$100,'(당초)집계표'!V10) -> 0 | F10: / | G10: =SUMIF('(당초)대두리'!$M$6:$M$100,'(당초)집계표'!V10,'(당초)대두리'!$F$6:$F$100) -> 0 | H10: =COUNTIF('(당초)대두리'!$M$6:$M$100,'(당초)집계표'!W10) -> 0 | I10: / | J10: =SUMIF('(당초)대두리'!$M$6:$M$100,'(당초)집계표'!W10,'(당초)대두리'!$F$6:$F$100) -> 0 | K10: =SUM(B10-E10-H10) -> 2 | L10: / | M10: =SUM(D10-G10-J10) -> 267 | U10: 대 | V10: 대국 | W10: 대공
A11: 도로 | B11: =COUNTIF('(당초)대두리'!$D$6:$D$102,'(당초)집계표'!U11) -> 43 | C11: / | D11: =SUMIF('(당초)대두리'!$D$6:$D$156,'(당초)집계표'!U11,'(당초)대두리'!$F$6:$F$100) -> 7211.2 | E11: =COUNTIF('(당초)대두리'!$M$6:$M$100,'(당초)집계표'!V11) -> 17 | F11: / | G11: =SUMIF('(당초)대두리'!$M$6:$M$100,'(당초)집계표'!V11,'(당초)대두리'!$F$6:$F$100) -> 3392.2 | H11: =COUNTIF('(당초)대두리'!$M$6:$M$100,'(당초)집계표'!W11) -> 23 | I11: / | J11: =SUMIF('(당초)대두리'!$M$6:$M$100,'(당초)집계표'!W11,'(당초)대두리'!$F$6:$F$100) -> 3042 | K11: =SUM(B11-E11-H11) -> 3 | L11: / | M11: =SUM(D11-G11-J11) -> 777 | U11: 도 | V11: 도국 | W11: 도공
A12: 구거 | B12: =COUNTIF('(당초)대두리'!$D$6:$D$102,'(당초)집계표'!U12) -> 7 | C12: / | D12: =SUMIF('(당초)대두리'!$D$6:$D$156,'(당초)집계표'!U12,'(당초)대두리'!$F$6:$F$100) -> 1182.5 | E12: =COUNTIF('(당초)대두리'!$M$6:$M$100,'(당초)집계표'!V12) -> 7 | F12: / | G12: =SUMIF('(당초)대두리'!$M$6:$M$100,'(당초)집계표'!V12,'(당초)대두리'!$F$6:$F$100) -> 1182.5 | H12: =COUNTIF('(당초)대두리'!$M$6:$M$100,'(당초)집계표'!W12) -> 0 | I12: / | J12: =SUMIF('(당초)대두리'!$M$6:$M$100,'(당초)집계표'!W12,'(당초)대두리'!$F$6:$F$100) -> 0 | K12: =SUM(B12-E12-H12) -> 0 | L12: / | M12: =SUM(D12-G12-J12) -> 0 | U12: 구 | V12: 구국 | W12: 구공
A13: 하천 | B13: =COUNTIF('(당초)대두리'!$D$6:$D$102,'(당초)집계표'!U13) -> 0 | C13: / | D13: =SUMIF('(당초)대두리'!$D$6:$D$156,'(당초)집계표'!U13,'(당초)대두리'!$F$6:$F$100) -> 0 | E13: =COUNTIF('(당초)대두리'!$M$6:$M$100,'(당초)집계표'!V13) -> 0 | F13: / | G13: =SUMIF('(당초)대두리'!$M$6:$M$100,'(당초)집계표'!V13,'(당초)대두리'!$F$6:$F$100) -> 0 | H13: =COUNTIF('(당초)대두리'!$M$6:$M$100,'(당초)집계표'!W13) -> 0 | I13: / | J13: =SUMIF('(당초)대두리'!$M$6:$M$100,'(당초)집계표'!W13,'(당초)대두리'!$F$6:$F$100) -> 0 | K13: =SUM(B13-E13-H13) -> 0 | L13: / | M13: =SUM(D13-G13-J13) -> 0 | U13: 하 | V13: 하국 | W13: 하공
A14: 유지 | B14: =COUNTIF('(당초)대두리'!$D$6:$D$102,'(당초)집계표'!U14) -> 4 | C14: / | D14: =SUMIF('(당초)대두리'!$D$6:$D$156,'(당초)집계표'!U14,'(당초)대두리'!$F$6:$F$100) -> 1794 | E14: =COUNTIF('(당초)대두리'!$M$6:$M$100,'(당초)집계표'!V14) -> 0 | F14: / | G14: =SUMIF('(당초)대두리'!$M$6:$M$100,'(당초)집계표'!V14,'(당초)대두리'!$F$6:$F$100) -> 0 | H14: =COUNTIF('(당초)대두리'!$M$6:$M$100,'(당초)집계표'!W14) -> 2 | I14: / | J14: =SUMIF('(당초)대두리'!$M$6:$M$100,'(당초)집계표'!W14,'(당초)대두리'!$F$6:$F$100) -> 1601 | K14: =SUM(B14-E14-H14) -> 2 | L14: / | M14: =SUM(D14-G14-J14) -> 193 | U14: 유 | V14: 유국 | W14: 유공
A15: 제방 | B15: =COUNTIF('(당초)대두리'!$D$6:$D$102,'(당초)집계표'!U15) -> 0 | C15: / | D15: =SUMIF('(당초)대두리'!$D$6:$D$156,'(당초)집계표'!U15,'(당초)대두리'!$F$6:$F$100) -> 0 | E15: =COUNTIF('(당초)대두리'!$M$6:$M$100,'(당초)집계표'!V15) -> 0 | F15: / | G15: =SUMIF('(당초)대두리'!$M$6:$M$100,'(당초)집계표'!V15,'(당초)대두리'!$F$6:$F$100) -> 0 | H15: =COUNTIF('(당초)대두리'!$M$6:$M$100,'(당초)집계표'!W15) -> 0 | I15: / | J15: =SUMIF('(당초)대두리'!$M$6:$M$100,'(당초)집계표'!W15,'(당초)대두리'!$F$6:$F$100) -> 0 | K15: =SUM(B15-E15-H15) -> 0 | L15: / | M15: =SUM(D15-G15-J15) -> 0 | U15: 제 | V15: 제국 | W15: 제공
A16: 과수원 | B16: =COUNTIF('(당초)대두리'!$D$6:$D$102,'(당초)집계표'!U16) -> 0 | C16: / | D16: =SUMIF('(당초)대두리'!$D$6:$D$156,'(당초)집계표'!U16,'(당초)대두리'!$F$6:$F$100) -> 0 | E16: =COUNTIF('(당초)대두리'!$M$6:$M$100,'(당초)집계표'!V16) -> 0 | F16: / | G16: =SUMIF('(당초)대두리'!$M$6:$M$100,'(당초)집계표'!V16,'(당초)대두리'!$F$6:$F$100) -> 0 | H16: =COUNTIF('(당초)대두리'!$M$6:$M$100,'(당초)집계표'!W16) -> 0 | I16: / | J16: =SUMIF('(당초)대두리'!$M$6:$M$100,'(당초)집계표'!W16,'(당초)대두리'!$F$6:$F$100) -> 0 | K16: =SUM(B16-E16-H16) -> 0 | L16: / | M16: =SUM(D16-G16-J16) -> 0 | U16: 과 | V16: 과국 | W16: 과공
A17: 공장 | B17: =COUNTIF('(당초)대두리'!$D$6:$D$102,'(당초)집계표'!U17) -> 0 | C17: / | D17: =SUMIF('(당초)대두리'!$D$6:$D$156,'(당초)집계표'!U17,'(당초)대두리'!$F$6:$F$100) -> 0 | E17: =COUNTIF('(당초)대두리'!$M$6:$M$100,'(당초)집계표'!V17) -> 0 | F17: / | G17: =SUMIF('(당초)대두리'!$M$6:$M$100,'(당초)집계표'!V17,'(당초)대두리'!$F$6:$F$100) -> 0 | H17: =COUNTIF('(당초)대두리'!$M$6:$M$100,'(당초)집계표'!W17) -> 0 | I17: / | J17: =SUMIF('(당초)대두리'!$M$6:$M$100,'(당초)집계표'!W17,'(당초)대두리'!$F$6:$F$100) -> 0 | K17: =SUM(B17-E17-H17) -> 0 | L17: / | M17: =SUM(D17-G17-J17) -> 0 | U17: 공 | V17: 공국 | W17: 공공
A18: 목장 | B18: =COUNTIF('(당초)대두리'!$D$6:$D$102,'(당초)집계표'!U18) -> 0 | C18: / | D18: =SUMIF('(당초)대두리'!$D$6:$D$156,'(당초)집계표'!U18,'(당초)대두리'!$F$6:$F$100) -> 0 | E18: =COUNTIF('(당초)대두리'!$M$6:$M$100,'(당초)집계표'!V18) -> 0 | F18: / | G18: =SUMIF('(당초)대두리'!$M$6:$M$100,'(당초)집계표'!V18,'(당초)대두리'!$F$6:$F$100) -> 0 | H18: =COUNTIF('(당초)대두리'!$M$6:$M$100,'(당초)집계표'!W18) -> 0 | I18: / | J18: =SUMIF('(당초)대두리'!$M$6:$M$100,'(당초)집계표'!W18,'(당초)대두리'!$F$6:$F$100) -> 0 | K18: =SUM(B18-E18-H18) -> 0 | L18: / | M18: =SUM(D18-G18-J18) -> 0 | U18: 목 | V18: 목국 | W18: 목공
A19: 학교용지 | B19: =COUNTIF('(당초)대두리'!$D$6:$D$102,'(당초)집계표'!U19) -> 0 | C19: / | D19: =SUMIF('(당초)대두리'!$D$6:$D$156,'(당초)집계표'!U19,'(당초)대두리'!$F$6:$F$100) -> 0 | E19: =COUNTIF('(당초)대두리'!$M$6:$M$100,'(당초)집계표'!V19) -> 0 | F19: / | G19: =SUMIF('(당초)대두리'!$M$6:$M$100,'(당초)집계표'!V19,'(당초)대두리'!$F$6:$F$100) -> 0 | H19: =COUNTIF('(당초)대두리'!$M$6:$M$100,'(당초)집계표'!W19) -> 0 | I19: / | J19: =SUMIF('(당초)대두리'!$M$6:$M$100,'(당초)집계표'!W19,'(당초)대두리'!$F$6:$F$100) -> 0 | K19: =SUM(B19-E19-H19) -> 0 | L19: / | M19: =SUM(D19-G19-J19) -> 0 | U19: 학 | V19: 학국 | W19: 학공
... A31: 미지번 | B31: =COUNTIF('(당초)대두리'!$D$6:$D$102,'(당초)집계표'!U31) -> 0 | C31: / | D31: =SUMIF('(당초)대두리'!$D$6:$D$156,'(당초)집계표'!U31,'(당초)대두리'!$F$6:$F$100) -> 0 | E31: =COUNTIF('(당초)대두리'!$M$6:$M$100,'(당초)집계표'!V31) -> 0 | F31: / | G31: =SUMIF('(당초)대두리'!$M$6:$M$100,'(당초)집계표'!V31,'(당초)대두리'!$F$6:$F$100) -> 0 | H31: =COUNTIF('(당초)대두리'!$M$6:$M$100,'(당초)집계표'!W31) -> 0 | I31: / | J31: =SUMIF('(당초)대두리'!$M$6:$M$100,'(당초)집계표'!W31,'(당초)대두리'!$F$6:$F$100) -> 0 | K31: =SUM(B31-E31-H31) -> 0 | L31: / | M31: =SUM(D31-G31-J31) -> 0 | U31: 가 | V31: 가국 | W31: 가공
A32: =IF(EXACT(O36,O37),,"검산확인요!!!") -> 0 | K32: =IF(ISBLANK(#REF!),,#REF!) -> #REF!
A34: 구분 | B34: 계 | E34: 국 유 지 | H34: 공 유 지 | K34: 사 유 지 | N34: 비고
B35: 필지 | C35: / | D35: 면 적 (㎡) | E35: 필지 | F35: / | G35: 면 적 (㎡) | H35: 필지 | I35: / | J35: 면 적 (㎡) | K35: 필지 | L35: / | M35: 면 적 (㎡) | Q35: 총계 | R35: 국유지 | S35: 사유지 | T35: 국유지+사유지
A36: 계 | B36: =SUM(B37:B61) -> 150 | C36: / | D36: =SUM(D37:D61) -> 57542.4 | E36: =SUM(E37:E61) -> 34 | F36: / | G36: =SUM(G37:G61) -> 9205.5 | H36: =SUM(H37:H61) -> 101 | I36: / | J36: =SUM(J37:J61) -> 43698 | K36: =SUM(K37:K61) -> 15 | L36: / | M36: =SUM(M37:M61) -> 4638.9 | O36: =IF(EXACT(Q36,T36),"맞음","틀림") -> 틀림 | P36: 필지 | Q36: =SUM(B37:B61) -> 150 | R36: =SUM(E37:E61) -> 34 | S36: =SUM(K37:K61) -> 15 | T36: =K36+E36 -> 49
A37: 전 | B37: =COUNTIF('(당초)봉락리'!$D$6:$D$155,'(당초)집계표'!U37) -> 30 | C37: / | D37: =SUMIF('(당초)봉락리'!$D$6:$D$155,'(당초)집계표'!U37,'(당초)봉락리'!$F$6:$F$155) -> 10337 | E37: =COUNTIF('(당초)봉락리'!$J$6:$J$155,'(당초)집계표'!V37) -> 0 | F37: / | G37: =SUMIF('(당초)봉락리'!$J$6:$J$155,'(당초)집계표'!V37,'(당초)봉락리'!$F$6:$F$155) -> 0 | H37: =COUNTIF('(당초)봉락리'!$J$6:$J$155,'(당초)집계표'!W37) -> 27 | I37: / | J37: =SUMIF('(당초)봉락리'!$J$6:$J$155,'(당초)집계표'!W37,'(당초)봉락리'!$F$6:$F$155) -> 10150 | K37: =SUM(B37-E37-H37) -> 3 | L37: / | M37: =SUM(D37-G37-J37) -> 187 | O37: =IF(EXACT(Q37,T37),"맞음","틀림") -> 틀림 | P37: 면적 | Q37: =SUM(D37:D61) -> 57542.4 | R37: =SUM(G37:G61) -> 9205.5 | S37: =SUM(M37:M61) -> 4638.9 | T37: =G36+M36 -> 13844.4 | U37: 전 | V37: 전국 | W37: 전공
A38: 답 | B38: =COUNTIF('(당초)봉락리'!$D$6:$D$155,'(당초)집계표'!U38) -> 17 | C38: / | D38: =SUMIF('(당초)봉락리'!$D$6:$D$155,'(당초)집계표'!U38,'(당초)봉락리'!$F$6:$F$155) -> 16153.9 | E38: =COUNTIF('(당초)봉락리'!$J$6:$J$155,'(당초)집계표'!V38) -> 0 | F38: / | G38: =SUMIF('(당초)봉락리'!$J$6:$J$155,'(당초)집계표'!V38,'(당초)봉락리'!$F$6:$F$155) -> 0 | H38: =COUNTIF('(당초)봉락리'!$J$6:$J$155,'(당초)집계표'!W38) -> 16 | I38: / | J38: =SUMIF('(당초)봉락리'!$J$6:$J$155,'(당초)집계표'!W38,'(당초)봉락리'!$F$6:$F$155) -> 14044 | K38: =SUM(B38-E38-H38) -> 1 | L38: / | M38: =SUM(D38-G38-J38) -> 2109.9 | U38: 답 | V38: 답국 | W38: 답공
A39: 임야 | B39: =COUNTIF('(당초)봉락리'!$D$6:$D$155,'(당초)집계표'!U39) -> 17 | C39: / | D39: =SUMIF('(당초)봉락리'!$D$6:$D$155,'(당초)집계표'!U39,'(당초)봉락리'!$F$6:$F$155) -> 13367 | E39: =COUNTIF('(당초)봉락리'!$J$6:$J$155,'(당초)집계표'!V39) -> 0 | F39: / | G39: =SUMIF('(당초)봉락리'!$J$6:$J$155,'(당초)집계표'!V39,'(당초)봉락리'!$F$6:$F$155) -> 0 | H39: =COUNTIF('(당초)봉락리'!$J$6:$J$155,'(당초)집계표'!W39) -> 16 | I39: / | J39: =SUMIF('(당초)봉락리'!$J$6:$J$155,'(당초)집계표'!W39,'(당초)봉락리'!$F$6:$F$155) -> 12383 | K39: =SUM(B39-E39-H39) -> 1 | L39: / | M39: =SUM(D39-G39-J39) -> 984 | U39: 임 | V39: 임국 | W39: 임공
A40: 대지 | B40: =COUNTIF('(당초)봉락리'!$D$6:$D$155,'(당초)집계표'!U40) -> 8 | C40: / | D40: =SUMIF('(당초)봉락리'!$D$6:$D$155,'(당초)집계표'!U40,'(당초)봉락리'!$F$6:$F$155) -> 664 | E40: =COUNTIF('(당초)봉락리'!$J$6:$J$155,'(당초)집계표'!V40) -> 1 | F40: / | G40: =SUMIF('(당초)봉락리'!$J$6:$J$155,'(당초)집계표'!V40,'(당초)봉락리'!$F$6:$F$155) -> 95 | H40: =COUNTIF('(당초)봉락리'!$J$6:$J$155,'(당초)집계표'!W40) -> 7 | I40: / | J40: =SUMIF('(당초)봉락리'!$J$6:$J$155,'(당초)집계표'!W40,'(당초)봉락리'!$F$6:$F$155) -> 569 | K40: =SUM(B40-E40-H40) -> 0 | L40: / | M40: =SUM(D40-G40-J40) -> 0 | U40: 대 | V40: 대국 | W40: 대공
A41: 도로 | B41: =COUNTIF('(당초)봉락리'!$D$6:$D$155,'(당초)집계표'!U41) -> 58 | C41: / | D41: =SUMIF('(당초)봉락리'!$D$6:$D$155,'(당초)집계표'!U41,'(당초)봉락리'!$F$6:$F$155) -> 12290.7 | E41: =COUNTIF('(당초)봉락리'!$J$6:$J$155,'(당초)집계표'!V41) -> 17 | F41: / | G41: =SUMIF('(당초)봉락리'!$J$6:$J$155,'(당초)집계표'!V41,'(당초)봉락리'!$F$6:$F$155) -> 5299.7 | H41: =COUNTIF('(당초)봉락리'!$J$6:$J$155,'(당초)집계표'!W41) -> 31 | I41: / | J41: =SUMIF('(당초)봉락리'!$J$6:$J$155,'(당초)집계표'!W41,'(당초)봉락리'!$F$6:$F$155) -> 5633 | K41: =SUM(B41-E41-H41) -> 10 | L41: / | M41: =SUM(D41-G41-J41) -> 1358 | U41: 도 | V41: 도국 | W41: 도공
A42: 구거 | B42: =COUNTIF('(당초)봉락리'!$D$6:$D$155,'(당초)집계표'!U42) -> 13 | C42: / | D42: =SUMIF('(당초)봉락리'!$D$6:$D$155,'(당초)집계표'!U42,'(당초)봉락리'!$F$6:$F$155) -> 2402.8 | E42: =COUNTIF('(당초)봉락리'!$J$6:$J$155,'(당초)집계표'!V42) -> 13 | F42: / | G42: =SUMIF('(당초)봉락리'!$J$6:$J$155,'(당초)집계표'!V42,'(당초)봉락리'!$F$6:$F$155) -> 2402.8 | H42: =COUNTIF('(당초)봉락리'!$J$6:$J$155,'(당초)집계표'!W42) -> 0 | I42: / | J42: =SUMIF('(당초)봉락리'!$J$6:$J$155,'(당초)집계표'!W42,'(당초)봉락리'!$F$6:$F$155) -> 0 | K42: =SUM(B42-E42-H42) -> 0 | L42: / | M42: =SUM(D42-G42-J42) -> 0 | U42: 구 | V42: 구국 | W42: 구공
A43: 하천 | B43: =COUNTIF('(당초)봉락리'!$D$6:$D$155,'(당초)집계표'!U43) -> 0 | C43: / | D43: =SUMIF('(당초)봉락리'!$D$6:$D$155,'(당초)집계표'!U43,'(당초)봉락리'!$F$6:$F$155) -> 0 | E43: =COUNTIF('(당초)봉락리'!$J$6:$J$155,'(당초)집계표'!V43) -> 0 | F43: / | G43: =SUMIF('(당초)봉락리'!$J$6:$J$155,'(당초)집계표'!V43,'(당초)봉락리'!$F$6:$F$155) -> 0 | H43: =COUNTIF('(당초)봉락리'!$J$6:$J$155,'(당초)집계표'!W43) -> 0 | I43: / | J43: =SUMIF('(당초)봉락리'!$J$6:$J$155,'(당초)집계표'!W43,'(당초)봉락리'!$F$6:$F$155) -> 0 | K43: =SUM(B43-E43-H43) -> 0 | L43: / | M43: =SUM(D43-G43-J43) -> 0 | U43: 하 | V43: 하국 | W43: 하공
A44: 유지 | B44: =COUNTIF('(당초)봉락리'!$D$6:$D$155,'(당초)집계표'!U44) -> 0 | C44: / | D44: =SUMIF('(당초)봉락리'!$D$6:$D$155,'(당초)집계표'!U44,'(당초)봉락리'!$F$6:$F$155) -> 0 | E44: =COUNTIF('(당초)봉락리'!$J$6:$J$155,'(당초)집계표'!V44) -> 0 | F44: / | G44: =SUMIF('(당초)봉락리'!$J$6:$J$155,'(당초)집계표'!V44,'(당초)봉락리'!$F$6:$F$155) -> 0 | H44: =COUNTIF('(당초)봉락리'!$J$6:$J$155,'(당초)집계표'!W44) -> 0 | I44: / | J44: =SUMIF('(당초)봉락리'!$J$6:$J$155,'(당초)집계표'!W44,'(당초)봉락리'!$F$6:$F$155) -> 0 | K44: =SUM(B44-E44-H44) -> 0 | L44: / | M44: =SUM(D44-G44-J44) -> 0 | U44: 유 | V44: 유국 | W44: 유공
A45: 제방 | B45: =COUNTIF('(당초)봉락리'!$D$6:$D$155,'(당초)집계표'!U45) -> 0 | C45: / | D45: =SUMIF('(당초)봉락리'!$D$6:$D$155,'(당초)집계표'!U45,'(당초)봉락리'!$F$6:$F$155) -> 0 | E45: =COUNTIF('(당초)봉락리'!$J$6:$J$155,'(당초)집계표'!V45) -> 0 | F45: / | G45: =SUMIF('(당초)봉락리'!$J$6:$J$155,'(당초)집계표'!V45,'(당초)봉락리'!$F$6:$F$155) -> 0 | H45: =COUNTIF('(당초)봉락리'!$J$6:$J$155,'(당초)집계표'!W45) -> 0 | I45: / | J45: =SUMIF('(당초)봉락리'!$J$6:$J$155,'(당초)집계표'!W45,'(당초)봉락리'!$F$6:$F$155) -> 0 | K45: =SUM(B45-E45-H45) -> 0 | L45: / | M45: =SUM(D45-G45-J45) -> 0 | U45: 제 | V45: 제국 | W45: 제공
A46: 과수원 | B46: =COUNTIF('(당초)봉락리'!$D$6:$D$155,'(당초)집계표'!U46) -> 0 | C46: / | D46: =SUMIF('(당초)봉락리'!$D$6:$D$155,'(당초)집계표'!U46,'(당초)봉락리'!$F$6:$F$155) -> 0 | E46: =COUNTIF('(당초)봉락리'!$J$6:$J$155,'(당초)집계표'!V46) -> 0 | F46: / | G46: =SUMIF('(당초)봉락리'!$J$6:$J$155,'(당초)집계표'!V46,'(당초)봉락리'!$F$6:$F$155) -> 0 | H46: =COUNTIF('(당초)봉락리'!$J$6:$J$155,'(당초)집계표'!W46) -> 0 | I46: / | J46: =SUMIF('(당초)봉락리'!$J$6:$J$155,'(당초)집계표'!W46,'(당초)봉락리'!$F$6:$F$155) -> 0 | K46: =SUM(B46-E46-H46) -> 0 | L46: / | M46: =SUM(D46-G46-J46) -> 0 | U46: 과 | V46: 과국 | W46: 과공
