Workbook

Sheet (당초)전체
A1: (당초) 전체 편입용지 집계표
B3: 계 | E3: 서 산 시 | AI3: 비 고
E4: 부 석 면
A5: 구분 | E5: 대두리 | H5: 봉락리 | K5: 칠전리 | N5: 마룡리 | Q5: 창 리 | T5: 6 | W5: 7 | Z5: 8 | AC5: 9 | AF5: 10
B6: 필지 | C6: / | D6: 면적(㎡) | E6: 필지 | F6: / | G6: 면적(㎡) | H6: 필지 | I6: / | J6: 면적(㎡) | K6: 필지 | L6: / | M6: 면적(㎡) | N6: 필지 | O6: / | P6: 면적(㎡) | Q6: 필지 | R6: / | S6: 면적(㎡) | T6: 필지 | U6: / | V6: 면적(㎡) | W6: 필지 | X6: / | Y6: 면적(㎡) | Z6: 필지 | AA6: / | AB6: 면적(㎡) | AC6: 필지 | AD6: / | AE6: 면적(㎡) | AF6: 필지 | AG6: / | AH6: 면적(㎡)
A7: 계 | B7: =SUM(B8:B32) -> 742 | C7: / | D7: =SUM(D8:D32) -> 399461.9 | E7: 95 | F7: / | G7: =SUM(G8:G32) -> 29928.6 | H7: =SUM(H8:H32) -> 150 | I7: / | J7: =SUM(J8:J32) -> 57542.4 | K7: =SUM(K8:K32) -> 227 | L7: / | M7: =SUM(M8:M32) -> 90907.5 | N7: =SUM(N8:N32) -> 122 | O7: / | P7: =SUM(P8:P32) -> 124461.4 | Q7: =SUM(Q8:Q32) -> 148 | R7: / | S7: =SUM(S8:S32) -> 96622 | T7: =SUM(T8:T32) -> 0 | U7: / | V7: =SUM(V8:V32) -> 0 | W7: =SUM(W8:W32) -> 0 | X7: / | Y7: =SUM(Y8:Y32) -> 0 | Z7: =SUM(Z8:Z32) -> 0 | AA7: / | AB7: =SUM(AB8:AB32) -> 0 | AC7: =SUM(AC8:AC32) -> 0 | AD7: / | AE7: =SUM(AE8:AE32) -> 0 | AF7: =SUM(AF8:AF32) -> 0 | AG7: / | AH7: =SUM(AH8:AH32) -> 0
A8: 전 | B8: =SUM(E8,H8,K8,N8,Q8,T8,W8,Z8,AC8,AF8) -> 110 | C8: / | D8: =SUM(G8,J8,M8,P8,S8,V8,Y8,AB8,AE8,AH8) -> 38247 | E8: 6 | F8: / | G8: 3537 | H8: 30 | I8: / | J8: 10337 | K8: 43 | L8: / | M8: 13676 | N8: 7 | O8: / | P8: 3505 | Q8: 24 | R8: / | S8: 7192 | T8: ='(변경)집계표'!B157 -> 0 | U8: / | V8: ='(변경)집계표'!D157 -> 0 | W8: ='(변경)집계표'!B187 -> 0 | X8: / | Y8: ='(변경)집계표'!D187 -> 0 | Z8: ='(변경)집계표'!B217 -> 0 | AA8: / | AB8: ='(변경)집계표'!D217 -> 0 | AC8: ='(변경)집계표'!B247 -> 0 | AD8: / | AE8: ='(변경)집계표'!D247 -> 0 | AF8: ='(변경)집계표'!B277 -> 0 | AG8: / | AH8: ='(변경)집계표'!D277 -> 0 | AK8: 전 | AL8: 전 | AM8: 전 | AN8: 전 | AO8: 전
A9: 답 | B9: =SUM(E9,H9,K9,N9,Q9,T9,W9,Z9,AC9,AF9) -> 144 | C9: / | D9: =SUM(G9,J9,M9,P9,S9,V9,Y9,AB9,AE9,AH9) -> 106247.8 | E9: 29 | F9: / | G9: 13294.9 | H9: 17 | I9: / | J9: 16153.9 | K9: 32 | L9: / | M9: 18410.4 | N9: 44 | O9: / | P9: 46694.6 | Q9: 22 | R9: / | S9: 11694 | T9: ='(변경)집계표'!B158 -> 0 | U9: / | V9: ='(변경)집계표'!D158 -> 0 | W9: ='(변경)집계표'!B188 -> 0 | X9: / | Y9: ='(변경)집계표'!D188 -> 0 | Z9: ='(변경)집계표'!B218 -> 0 | AA9: / | AB9: ='(변경)집계표'!D218 -> 0 | AC9: ='(변경)집계표'!B248 -> 0 | AD9: / | AE9: ='(변경)집계표'!D248 -> 0 | AF9: ='(변경)집계표'!B278 -> 0 | AG9: / | AH9: ='(변경)집계표'!D278 -> 0 | AK9: 답 | AL9: 답 | AM9: 답 | AN9: 답 | AO9: 답
A10: 임야 | B10: =SUM(E10,H10,K10,N10,Q10,T10,W10,Z10,AC10,AF10) -> 150 | C10: / | D10: =SUM(G10,J10,M10,P10,S10,V10,Y10,AB10,AE10,AH10) -> 158030 | E10: 4 | F10: / | G10: 2642 | H10: 17 | I10: / | J10: 13367 | K10: 46 | L10: / | M10: 30473 | N10: 41 | O10: / | P10: 49066 | Q10: 42 | R10: / | S10: 62482 | T10: ='(변경)집계표'!B159 -> 0 | U10: / | V10: ='(변경)집계표'!D159 -> 0 | W10: ='(변경)집계표'!B189 -> 0 | X10: / | Y10: ='(변경)집계표'!D189 -> 0 | Z10: ='(변경)집계표'!B219 -> 0 | AA10: / | AB10: ='(변경)집계표'!D219 -> 0 | AC10: ='(변경)집계표'!B249 -> 0 | AD10: / | AE10: ='(변경)집계표'!D249 -> 0 | AF10: ='(변경)집계표'!B279 -> 0 | AG10: / | AH10: ='(변경)집계표'!D279 -> 0 | AK10: 임야 | AL10: 임야 | AM10: 임야 | AN10: 임야 | AO10: 임야
A11: 대지 | B11: =SUM(E11,H11,K11,N11,Q11,T11,W11,Z11,AC11,AF11) -> 27 | C11: / | D11: =SUM(G11,J11,M11,P11,S11,V11,Y11,AB11,AE11,AH11) -> 3178 | E11: 2 | F11: / | G11: 267 | H11: 8 | I11: / | J11: 664 | K11: 9 | L11: / | M11: 1449 | N11: 0 | O11: / | P11: 0 | Q11: 8 | R11: / | S11: 798 | T11: ='(변경)집계표'!B160 -> 0 | U11: / | V11: ='(변경)집계표'!D160 -> 0 | W11: ='(변경)집계표'!B190 -> 0 | X11: / | Y11: ='(변경)집계표'!D190 -> 0 | Z11: ='(변경)집계표'!B220 -> 0 | AA11: / | AB11: ='(변경)집계표'!D220 -> 0 | AC11: ='(변경)집계표'!B250 -> 0 | AD11: / | AE11: ='(변경)집계표'!D250 -> 0 | AF11: ='(변경)집계표'!B280 -> 0 | AG11: / | AH11: ='(변경)집계표'!D280 -> 0 | AK11: 대지 | AL11: 대지 | AM11: 대지 | AN11: 대지 | AO11: 대지
A12: 도로 | B12: =SUM(E12,H12,K12,N12,Q12,T12,W12,Z12,AC12,AF12) -> 239 | C12: / | D12: =SUM(G12,J12,M12,P12,S12,V12,Y12,AB12,AE12,AH12) -> 70666.7 | E12: 43 | F12: / | G12: 7211.2 | H12: 58 | I12: / | J12: 12290.7 | K12: 80 | L12: / | M12: 21920.9 | N12: 20 | O12: / | P12: 21816.9 | Q12: 38 | R12: / | S12: 7427 | T12: ='(변경)집계표'!B161 -> 0 | U12: / | V12: ='(변경)집계표'!D161 -> 0 | W12: ='(변경)집계표'!B191 -> 0 | X12: / | Y12: ='(변경)집계표'!D191 -> 0 | Z12: ='(변경)집계표'!B221 -> 0 | AA12: / | AB12: ='(변경)집계표'!D221 -> 0 | AC12: ='(변경)집계표'!B251 -> 0 | AD12: / | AE12: ='(변경)집계표'!D251 -> 0 | AF12: ='(변경)집계표'!B281 -> 0 | AG12: / | AH12: ='(변경)집계표'!D281 -> 0 | AK12: 도로 | AL12: 도로 | AM12: 도로 | AN12: 도로 | AO12: 도로
A13: 구거 | B13: =SUM(E13,H13,K13,N13,Q13,T13,W13,Z13,AC13,AF13) -> 39 | C13: / | D13: =SUM(G13,J13,M13,P13,S13,V13,Y13,AB13,AE13,AH13) -> 10916.5 | E13: 7 | F13: / | G13: 1182.5 | H13: 13 | I13: / | J13: 2402.8 | K13: 12 | L13: / | M13: 4652.2 | N13: 7 | O13: / | P13: 2679 | Q13: 0 | R13: / | S13: 0 | T13: ='(변경)집계표'!B162 -> 0 | U13: / | V13: ='(변경)집계표'!D162 -> 0 | W13: ='(변경)집계표'!B192 -> 0 | X13: / | Y13: ='(변경)집계표'!D192 -> 0 | Z13: ='(변경)집계표'!B222 -> 0 | AA13: / | AB13: ='(변경)집계표'!D222 -> 0 | AC13: ='(변경)집계표'!B252 -> 0 | AD13: / | AE13: ='(변경)집계표'!D252 -> 0 | AF13: ='(변경)집계표'!B282 -> 0 | AG13: / | AH13: ='(변경)집계표'!D282 -> 0 | AK13: 구거 | AL13: 구거 | AM13: 구거 | AN13: 구거 | AO13: 구거
A14: 하천 | B14: =SUM(E14,H14,K14,N14,Q14,T14,W14,Z14,AC14,AF14) -> 1 | C14: / | D14: =SUM(G14,J14,M14,P14,S14,V14,Y14,AB14,AE14,AH14) -> 597.9 | E14: 0 | F14: / | G14: 0 | H14: 0 | I14: / | J14: 0 | K14: 0 | L14: / | M14: 0 | N14: 1 | O14: / | P14: 597.9 | Q14: 0 | R14: / | S14: 0 | T14: ='(변경)집계표'!B163 -> 0 | U14: / | V14: ='(변경)집계표'!D163 -> 0 | W14: ='(변경)집계표'!B193 -> 0 | X14: / | Y14: ='(변경)집계표'!D193 -> 0 | Z14: ='(변경)집계표'!B223 -> 0 | AA14: / | AB14: ='(변경)집계표'!D223 -> 0 | AC14: ='(변경)집계표'!B253 -> 0 | AD14: / | AE14: ='(변경)집계표'!D253 -> 0 | AF14: ='(변경)집계표'!B283 -> 0 | AG14: / | AH14: ='(변경)집계표'!D283 -> 0 | AK14: 하천 | AL14: 하천 | AM14: 하천 | AN14: 하천 | AO14: 하천
A15: 유지 | B15: =SUM(E15,H15,K15,N15,Q15,T15,W15,Z15,AC15,AF15) -> 6 | C15: / | D15: =SUM(G15,J15,M15,P15,S15,V15,Y15,AB15,AE15,AH15) -> 2046 | E15: 4 | F15: / | G15: 1794 | H15: 0 | I15: / | J15: 0 | K15: 2 | L15: / | M15: 252 | N15: 0 | O15: / | P15: 0 | Q15: 0 | R15: / | S15: 0 | T15: ='(변경)집계표'!B164 -> 0 | U15: / | V15: ='(변경)집계표'!D164 -> 0 | W15: ='(변경)집계표'!B194 -> 0 | X15: / | Y15: ='(변경)집계표'!D194 -> 0 | Z15: ='(변경)집계표'!B224 -> 0 | AA15: / | AB15: ='(변경)집계표'!D224 -> 0 | AC15: ='(변경)집계표'!B254 -> 0 | AD15: / | AE15: ='(변경)집계표'!D254 -> 0 | AF15: ='(변경)집계표'!B284 -> 0 | AG15: / | AH15: ='(변경)집계표'!D284 -> 0 | AK15: 유지 | AL15: 유지 | AM15: 유지 | AN15: 유지 | AO15: 유지
A16: 제방 | B16: =SUM(E16,H16,K16,N16,Q16,T16,W16,Z16,AC16,AF16) -> 3 | C16: / | D16: =SUM(G16,J16,M16,P16,S16,V16,Y16,AB16,AE16,AH16) -> 604 | F16: / | H16: 0 | I16: / | J16: 0 | K16: 2 | L16: / | M16: 58 | N16: 0 | O16: / | P16: 0 | Q16: 1 | R16: / | S16: 546 | T16: ='(변경)집계표'!B165 -> 0 | U16: / | V16: ='(변경)집계표'!D165 -> 0 | W16: ='(변경)집계표'!B195 -> 0 | X16: / | Y16: ='(변경)집계표'!D195 -> 0 | Z16: ='(변경)집계표'!B225 -> 0 | AA16: / | AB16: ='(변경)집계표'!D225 -> 0 | AC16: ='(변경)집계표'!B255 -> 0 | AD16: / | AE16: ='(변경)집계표'!D255 -> 0 | AF16: ='(변경)집계표'!B285 -> 0 | AG16: / | AH16: ='(변경)집계표'!D285 -> 0 | AK16: 제방 | AL16: 제방 | AM16: 제방 | AN16: 제방 | AO16: 제방
A17: 과수원 | B17: =SUM(E17,H17,K17,N17,Q17,T17,W17,Z17,AC17,AF17) -> 0 | C17: / | D17: =SUM(G17,J17,M17,P17,S17,V17,Y17,AB17,AE17,AH17) -> 0 | F17: / | H17: 0 | I17: / | J17: 0 | K17: 0 | L17: / | M17: 0 | N17: 0 | O17: / | P17: 0 | Q17: 0 | R17: / | S17: 0 | T17: ='(변경)집계표'!B166 -> 0 | U17: / | V17: ='(변경)집계표'!D166 -> 0 | W17: ='(변경)집계표'!B196 -> 0 | X17: / | Y17: ='(변경)집계표'!D196 -> 0 | Z17: ='(변경)집계표'!B226 -> 0 | AA17: / | AB17: ='(변경)집계표'!D226 -> 0 | AC17: ='(변경)집계표'!B256 -> 0 | AD17: / | AE17: ='(변경)집계표'!D256 -> 0 | AF17: ='(변경)집계표'!B286 -> 0 | AG17: / | AH17: ='(변경)집계표'!D286 -> 0 | AK17: 과수원 | AL17: 과수원 | AM17: 과수원 | AN17: 과수원 | AO17: 과수원
A18: 공장 | B18: =SUM(E18,H18,K18,N18,Q18,T18,W18,Z18,AC18,AF18) -> 0 | C18: / | D18: =SUM(G18,J18,M18,P18,S18,V18,Y18,AB18,AE18,AH18) -> 0 | F18: / | H18: 0 | I18: / | J18: 0 | K18: 0 | L18: / | M18: 0 | N18: 0 | O18: / | P18: 0 | Q18: 0 | R18: / | S18: 0 | T18: ='(변경)집계표'!B167 -> 0 | U18: / | V18: ='(변경)집계표'!D167 -> 0 | W18: ='(변경)집계표'!B197 -> 0 | X18: / | Y18: ='(변경)집계표'!D197 -> 0 | Z18: ='(변경)집계표'!B227 -> 0 | AA18: / | AB18: ='(변경)집계표'!D227 -> 0 | AC18: ='(변경)집계표'!B257 -> 0 | AD18: / | AE18: ='(변경)집계표'!D257 -> 0 | AF18: ='(변경)집계표'!B287 -> 0 | AG18: / | AH18: ='(변경)집계표'!D287 -> 0 | AK18: 공장 | AL18: 공장 | AM18: 공장 | AN18: 공장 | AO18: 공장
A19: 목장 | B19: =SUM(E19,H19,K19,N19,Q19,T19,W19,Z19,AC19,AF19) -> 0 | C19: / | D19: =SUM(G19,J19,M19,P19,S19,V19,Y19,AB19,AE19,AH19) -> 0 | F19: / | H19: 0 | I19: / | J19: 0 | K19: 0 | L19: / | M19: 0 | N19: 0 | O19: / | P19: 0 | Q19: 0 | R19: / | S19: 0 | T19: ='(변경)집계표'!B168 -> 0 | U19: / | V19: ='(변경)집계표'!D168 -> 0 | W19: ='(변경)집계표'!B198 -> 0 | X19: / | Y19: ='(변경)집계표'!D198 -> 0 | Z19: ='(변경)집계표'!B228 -> 0 | AA19: / | AB19: ='(변경)집계표'!D228 -> 0 | AC19: ='(변경)집계표'!B258 -> 0 | AD19: / | AE19: ='(변경)집계표'!D258 -> 0 | AF19: ='(변경)집계표'!B288 -> 0 | AG19: / | AH19: ='(변경)집계표'!D288 -> 0 | AK19: 목장 | AL19: 목장 | AM19: 목장 | AN19: 목장 | AO19: 목장
A20: 학교용지 | B20: =SUM(E20,H20,K20,N20,Q20,T20,W20,Z20,AC20,AF20) -> 0 | C20: / | D20: =SUM(G20,J20,M20,P20,S20,V20,Y20,AB20,AE20,AH20) -> 0 | F20: / | H20: 0 | I20: / | J20: 0 | K20: 0 | L20: / | M20: 0 | N20: 0 | O20: / | P20: 0 | Q20: 0 | R20: / | S20: 0 | T20: ='(변경)집계표'!B169 -> 0 | U20: / | V20: ='(변경)집계표'!D169 -> 0 | W20: ='(변경)집계표'!B199 -> 0 | X20: / | Y20: ='(변경)집계표'!D199 -> 0 | Z20: ='(변경)집계표'!B229 -> 0 | AA20: / | AB20: ='(변경)집계표'!D229 -> 0 | AC20: ='(변경)집계표'!B259 -> 0 | AD20: / | AE20: ='(변경)집계표'!D259 -> 0 | AF20: ='(변경)집계표'!B289 -> 0 | AG20: / | AH20: ='(변경)집계표'!D289 -> 0 | AK20: 학교용지 | AL20: 학교용지 | AM20: 학교용지 | AN20: 학교용지 | AO20: 학교용지
A21: 철도 | B21: =SUM(E21,H21,K21,N21,Q21,T21,W21,Z21,AC21,AF21) -> 0 | C21: / | D21: =SUM(G21,J21,M21,P21,S21,V21,Y21,AB21,AE21,AH21) -> 0 | F21: / | H21: 0 | I21: / | J21: 0 | K21: 0 | L21: / | M21: 0 | N21: 0 | O21: / | P21: 0 | Q21: 0 | R21: / | S21: 0 | T21: ='(변경)집계표'!B170 -> 0 | U21: / | V21: ='(변경)집계표'!D170 -> 0 | W21: ='(변경)집계표'!B200 -> 0 | X21: / | Y21: ='(변경)집계표'!D200 -> 0 | Z21: ='(변경)집계표'!B230 -> 0 | AA21: / | AB21: ='(변경)집계표'!D230 -> 0 | AC21: ='(변경)집계표'!B260 -> 0 | AD21: / | AE21: ='(변경)집계표'!D260 -> 0 | AF21: ='(변경)집계표'!B290 -> 0 | AG21: / | AH21: ='(변경)집계표'!D290 -> 0 | AK21: 철도 | AL21: 철도 | AM21: 철도 | AN21: 철도 | AO21: 철도
A22: 묘지 | B22: =SUM(E22,H22,K22,N22,Q22,T22,W22,Z22,AC22,AF22) -> 0 | C22: / | D22: =SUM(G22,J22,M22,P22,S22,V22,Y22,AB22,AE22,AH22) -> 0 | F22: / | H22: 0 | I22: / | J22: 0 | K22: 0 | L22: / | M22: 0 | N22: 0 | O22: / | P22: 0 | Q22: 0 | R22: / | S22: 0 | T22: ='(변경)집계표'!B171 -> 0 | U22: / | V22: ='(변경)집계표'!D171 -> 0 | W22: ='(변경)집계표'!B201 -> 0 | X22: / | Y22: ='(변경)집계표'!D201 -> 0 | Z22: ='(변경)집계표'!B231 -> 0 | AA22: / | AB22: ='(변경)집계표'!D231 -> 0 | AC22: ='(변경)집계표'!B261 -> 0 | AD22: / | AE22: ='(변경)집계표'!D261 -> 0 | AF22: ='(변경)집계표'!B291 -> 0 | AG22: / | AH22: ='(변경)집계표'!D291 -> 0 | AK22: 묘지 | AL22: 묘지 | AM22: 묘지 | AN22: 묘지 | AO22: 묘지
A23: 수도 | B23: =SUM(E23,H23,K23,N23,Q23,T23,W23,Z23,AC23,AF23) -> 0 | C23: / | D23: =SUM(G23,J23,M23,P23,S23,V23,Y23,AB23,AE23,AH23) -> 0 | F23: / | H23: 0 | I23: / | J23: 0 | K23: 0 | L23: / | M23: 0 | N23: 0 | O23: / | P23: 0 | Q23: 0 | R23: / | S23: 0 | T23: ='(변경)집계표'!B172 -> 0 | U23: / | V23: ='(변경)집계표'!D172 -> 0 | W23: ='(변경)집계표'!B202 -> 0 | X23: / | Y23: ='(변경)집계표'!D202 -> 0 | Z23: ='(변경)집계표'!B232 -> 0 | AA23: / | AB23: ='(변경)집계표'!D232 -> 0 | AC23: ='(변경)집계표'!B262 -> 0 | AD23: / | AE23: ='(변경)집계표'!D262 -> 0 | AF23: ='(변경)집계표'!B292 -> 0 | AG23: / | AH23: ='(변경)집계표'!D292 -> 0 | AK23: 수도 | AL23: 수도 | AM23: 수도 | AN23: 수도 | AO23: 수도
A24: 잡종지 | B24: =SUM(E24,H24,K24,N24,Q24,T24,W24,Z24,AC24,AF24) -> 16 | C24: / | D24: =SUM(G24,J24,M24,P24,S24,V24,Y24,AB24,AE24,AH24) -> 6966 | F24: / | H24: 3 | I24: / | J24: 483 | K24: 0 | L24: / | M24: 0 | N24: 0 | O24: / | P24: 0 | Q24: 13 | R24: / | S24: 6483 | T24: ='(변경)집계표'!B173 -> 0 | U24: / | V24: ='(변경)집계표'!D173 -> 0 | W24: ='(변경)집계표'!B203 -> 0 | X24: / | Y24: ='(변경)집계표'!D203 -> 0 | Z24: ='(변경)집계표'!B233 -> 0 | AA24: / | AB24: ='(변경)집계표'!D233 -> 0 | AC24: ='(변경)집계표'!B263 -> 0 | AD24: / | AE24: ='(변경)집계표'!D263 -> 0 | AF24: ='(변경)집계표'!B293 -> 0 | AG24: / | AH24: ='(변경)집계표'!D293 -> 0 | AK24: 잡종지 | AL24: 잡종지 | AM24: 잡종지 | AN24: 잡종지 | AO24: 잡종지
A25: 종교 | B25: =SUM(E25,H25,K25,N25,Q25,T25,W25,Z25,AC25,AF25) -> 0 | C25: / | D25: =SUM(G25,J25,M25,P25,S25,V25,Y25,AB25,AE25,AH25) -> 0 | F25: / | H25: 0 | I25: / | J25: 0 | K25: 0 | L25: / | M25: 0 | N25: 0 | O25: / | P25: 0 | Q25: 0 | R25: / | S25: 0 | T25: ='(변경)집계표'!B174 -> 0 | U25: / | V25: ='(변경)집계표'!D174 -> 0 | W25: ='(변경)집계표'!B204 -> 0 | X25: / | Y25: ='(변경)집계표'!D204 -> 0 | Z25: ='(변경)집계표'!B234 -> 0 | AA25: / | AB25: ='(변경)집계표'!D234 -> 0 | AC25: ='(변경)집계표'!B264 -> 0 | AD25: / | AE25: ='(변경)집계표'!D264 -> 0 | AF25: ='(변경)집계표'!B294 -> 0 | AG25: / | AH25: ='(변경)집계표'!D294 -> 0 | AK25: 종교 | AL25: 종교 | AM25: 종교 | AN25: 종교 | AO25: 종교
A26: 염전 | B26: =SUM(E26,H26,K26,N26,Q26,T26,W26,Z26,AC26,AF26) -> 0 | C26: / | D26: =SUM(G26,J26,M26,P26,S26,V26,Y26,AB26,AE26,AH26) -> 0 | F26: / | H26: 0 | I26: / | J26: 0 | K26: 0 | L26: / | M26: 0 | N26: 0 | O26: / | P26: 0 | Q26: 0 | R26: / | S26: 0 | T26: ='(변경)집계표'!B175 -> 0 | U26: / | V26: ='(변경)집계표'!D175 -> 0 | W26: ='(변경)집계표'!B205 -> 0 | X26: / | Y26: ='(변경)집계표'!D205 -> 0 | Z26: ='(변경)집계표'!B235 -> 0 | AA26: / | AB26: ='(변경)집계표'!D235 -> 0 | AC26: ='(변경)집계표'!B265 -> 0 | AD26: / | AE26: ='(변경)집계표'!D265 -> 0 | AF26: ='(변경)집계표'!B295 -> 0 | AG26: / | AH26: ='(변경)집계표'!D295 -> 0 | AK26: 염전 | AL26: 염전 | AM26: 염전 | AN26: 염전 | AO26: 염전
A27: 공원 | B27: =SUM(E27,H27,K27,N27,Q27,T27,W27,Z27,AC27,AF27) -> 0 | C27: / | D27: =SUM(G27,J27,M27,P27,S27,V27,Y27,AB27,AE27,AH27) -> 0 | F27: / | H27: 0 | I27: / | J27: 0 | K27: 0 | L27: / | M27: 0 | N27: 0 | O27: / | P27: 0 | Q27: 0 | R27: / | S27: 0 | T27: ='(변경)집계표'!B176 -> 0 | U27: / | V27: ='(변경)집계표'!D176 -> 0 | W27: ='(변경)집계표'!B206 -> 0 | X27: / | Y27: ='(변경)집계표'!D206 -> 0 | Z27: ='(변경)집계표'!B236 -> 0 | AA27: / | AB27: ='(변경)집계표'!D236 -> 0 | AC27: ='(변경)집계표'!B266 -> 0 | AD27: / | AE27: ='(변경)집계표'!D266 -> 0 | AF27: ='(변경)집계표'!B296 -> 0 | AG27: / | AH27: ='(변경)집계표'!D296 -> 0 | AK27: 공원 | AL27: 공원 | AM27: 공원 | AN27: 공원 | AO27: 공원
... A32: 미지번 | B32: =SUM(E32,H32,K32,N32,Q32,T32,W32,Z32,AC32,AF32) -> 5 | C32: / | D32: =SUM(G32,J32,M32,P32,S32,V32,Y32,AB32,AE32,AH32) -> 1510 | F32: / | H32: 3 | I32: / | J32: 1408 | K32: 0 | L32: / | M32: 0 | N32: 2 | O32: / | P32: 102 | Q32: 0 | R32: / | S32: 0 | T32: ='(변경)집계표'!B181 -> 0 | U32: / | V32: ='(변경)집계표'!D181 -> 0 | W32: ='(변경)집계표'!B211 -> 0 | X32: / | Y32: ='(변경)집계표'!D211 -> 0 | Z32: ='(변경)집계표'!B241 -> 0 | AA32: / | AB32: ='(변경)집계표'!D241 -> 0 | AC32: ='(변경)집계표'!B271 -> 0 | AD32: / | AE32: ='(변경)집계표'!D271 -> 0 | AF32: ='(변경)집계표'!B301 -> 0 | AG32: / | AH32: ='(변경)집계표'!D301 -> 0 | AK32: 미지번 | AL32: 미지번 | AM32: 미지번 | AN32: 미지번 | AO32: 미지번
A33: 국유지 편입용지 집계표
B35: 계 | E35: 서 산 시 | AI35: 비 고
E36: 부 석 면
A37: 구분 | E37: 대두리 | H37: 봉락리 | K37: 칠전리 | N37: 마룡리 | Q37: 창 리 | T37: 6 | W37: 7 | Z37: 8 | AC37: 9 | AF37: 10
B38: 필지 | C38: / | D38: 면적(㎡) | E38: 필지 | F38: / | G38: 면적(㎡) | H38: 필지 | I38: / | J38: 면적(㎡) | K38: 필지 | L38: / | M38: 면적(㎡) | N38: 필지 | O38: / | P38: 면적(㎡) | Q38: 필지 | R38: / | S38: 면적(㎡) | T38: 필지 | U38: / | V38: 면적(㎡) | W38: 필지 | X38: / | Y38: 면적(㎡) | Z38: 필지 | AA38: / | AB38: 면적(㎡) | AC38: 필지 | AD38: / | AE38: 면적(㎡) | AF38: 필지 | AG38: / | AH38: 면적(㎡)
A39: 계 | B39: =SUM(B40:B64) -> 132 | C39: / | D39: =SUM(D40:D64) -> 42494.1 | E39: =SUM(E40:E64) -> 24 | F39: / | G39: =SUM(G40:G64) -> 4574.7 | H39: =SUM(H40:H64) -> 34 | I39: / | J39: =SUM(J40:J64) -> 9205.5 | K39: =SUM(K40:K64) -> 43 | L39: / | M39: =SUM(M40:M64) -> 13662.1 | N39: =SUM(N40:N64) -> 15 | O39: / | P39: =SUM(P40:P64) -> 9891.8 | Q39: =SUM(Q40:Q64) -> 16 | R39: / | S39: =SUM(S40:S64) -> 5160 | T39: =SUM(T40:T64) -> 0 | U39: / | V39: =SUM(V40:V64) -> 0 | W39: =SUM(W40:W64) -> 0 | X39: / | Y39: =SUM(Y40:Y64) -> 0 | Z39: =SUM(Z40:Z64) -> 0 | AA39: / | AB39: =SUM(AB40:AB64) -> 0 | AC39: =SUM(AC40:AC64) -> 0 | AD39: / | AE39: =SUM(AE40:AE64) -> 0 | AF39: =SUM(AF40:AF64) -> 0 | AG39: / | AH39: =SUM(AH40:AH64) -> 0
A40: 전 | B40: =SUM(E40,H40,K40,N40,Q40,T40,W40,Z40,AC40,AF40) -> 0 | C40: / | D40: =SUM(G40,J40,M40,P40,S40,V40,Y40,AB40,AE40,AH40) -> 0 | E40: 0 | F40: / | G40: 0 | H40: 0 | I40: / | J40: 0 | K40: 0 | L40: / | M40: 0 | N40: 0 | O40: / | P40: 0 | Q40: 0 | R40: / | S40: 0 | T40: ='(변경)집계표'!E157 -> 0 | U40: / | V40: ='(변경)집계표'!G157 -> 0 | W40: ='(변경)집계표'!E187 -> 0 | X40: / | Y40: ='(변경)집계표'!G187 -> 0 | Z40: ='(변경)집계표'!E217 -> 0 | AA40: / | AB40: ='(변경)집계표'!G217 -> 0 | AC40: ='(변경)집계표'!E247 -> 0 | AD40: / | AE40: ='(변경)집계표'!G247 -> 0 | AF40: ='(변경)집계표'!E277 -> 0 | AG40: / | AH40: ='(변경)집계표'!G277 -> 0
A41: 답 | B41: =SUM(E41,H41,K41,N41,Q41,T41,W41,Z41,AC41,AF41) -> 0 | C41: / | D41: =SUM(G41,J41,M41,P41,S41,V41,Y41,AB41,AE41,AH41) -> 0 | E41: 0 | F41: / | G41: 0 | H41: 0 | I41: / | J41: 0 | K41: 0 | L41: / | M41: 0 | N41: 0 | O41: / | P41: 0 | Q41: 0 | R41: / | S41: 0 | T41: ='(변경)집계표'!E158 -> 0 | U41: / | V41: ='(변경)집계표'!G158 -> 0 | W41: ='(변경)집계표'!E188 -> 0 | X41: / | Y41: ='(변경)집계표'!G188 -> 0 | Z41: ='(변경)집계표'!E218 -> 0 | AA41: / | AB41: ='(변경)집계표'!G218 -> 0 | AC41: ='(변경)집계표'!E248 -> 0 | AD41: / | AE41: ='(변경)집계표'!G248 -> 0 | AF41: ='(변경)집계표'!E278 -> 0 | AG41: / | AH41: ='(변경)집계표'!G278 -> 0
A42: 임야 | B42: =SUM(E42,H42,K42,N42,Q42,T42,W42,Z42,AC42,AF42) -> 3 | C42: / | D42: =SUM(G42,J42,M42,P42,S42,V42,Y42,AB42,AE42,AH42) -> 3195 | E42: 0 | F42: / | G42: 0 | H42: 0 | I42: / | J42: 0 | K42: 0 | L42: / | M42: 0 | N42: 0 | O42: / | P42: 0 | Q42: 3 | R42: / | S42: 3195 | T42: ='(변경)집계표'!E159 -> 0 | U42: / | V42: ='(변경)집계표'!G159 -> 0 | W42: ='(변경)집계표'!E189 -> 0 | X42: / | Y42: ='(변경)집계표'!G189 -> 0 | Z42: ='(변경)집계표'!E219 -> 0 | AA42: / | AB42: ='(변경)집계표'!G219 -> 0 | AC42: ='(변경)집계표'!E249 -> 0 | AD42: / | AE42: ='(변경)집계표'!G249 -> 0 | AF42: ='(변경)집계표'!E279 -> 0 | AG42: / | AH42: ='(변경)집계표'!G279 -> 0
A43: 대지 | B43: =SUM(E43,H43,K43,N43,Q43,T43,W43,Z43,AC43,AF43) -> 1 | C43: / | D43: =SUM(G43,J43,M43,P43,S43,V43,Y43,AB43,AE43,AH43) -> 95 | E43: 0 | F43: / | G43: 0 | H43: 1 | I43: / | J43: 95 | K43: 0 | L43: / | M43: 0 | N43: 0 | O43: / | P43: 0 | Q43: 0 | R43: / | S43: 0 | T43: ='(변경)집계표'!E160 -> 0 | U43: / | V43: ='(변경)집계표'!G160 -> 0 | W43: ='(변경)집계표'!E190 -> 0 | X43: / | Y43: ='(변경)집계표'!G190 -> 0 | Z43: ='(변경)집계표'!E220 -> 0 | AA43: / | AB43: ='(변경)집계표'!G220 -> 0 | AC43: ='(변경)집계표'!E250 -> 0 | AD43: / | AE43: ='(변경)집계표'!G250 -> 0 | AF43: ='(변경)집계표'!E280 -> 0 | AG43: / | AH43: ='(변경)집계표'!G280 -> 0
A44: 도로 | B44: =SUM(E44,H44,K44,N44,Q44,T44,W44,Z44,AC44,AF44) -> 80 | C44: / | D44: =SUM(G44,J44,M44,P44,S44,V44,Y44,AB44,AE44,AH44) -> 25534.7 | E44: 17 | F44: / | G44: 3392.2 | H44: 17 | I44: / | J44: 5299.7 | K44: 28 | L44: / | M44: 8739.9 | N44: 6 | O44: / | P44: 6683.9 | Q44: 12 | R44: / | S44: 1419 | T44: ='(변경)집계표'!E161 -> 0 | U44: / | V44: ='(변경)집계표'!G161 -> 0 | W44: ='(변경)집계표'!E191 -> 0 | X44: / | Y44: ='(변경)집계표'!G191 -> 0 | Z44: ='(변경)집계표'!E221 -> 0 | AA44: / | AB44: ='(변경)집계표'!G221 -> 0 | AC44: ='(변경)집계표'!E251 -> 0 | AD44: / | AE44: ='(변경)집계표'!G251 -> 0 | AF44: ='(변경)집계표'!E281 -> 0 | AG44: / | AH44: ='(변경)집계표'!G281 -> 0
A45: 구거 | B45: =SUM(E45,H45,K45,N45,Q45,T45,W45,Z45,AC45,AF45) -> 38 | C45: / | D45: =SUM(G45,J45,M45,P45,S45,V45,Y45,AB45,AE45,AH45) -> 10745.5 | E45: 7 | F45: / | G45: 1182.5 | H45: 13 | I45: / | J45: 2402.8 | K45: 12 | L45: / | M45: 4652.2 | N45: 6 | O45: / | P45: 2508 | Q45: 0 | R45: / | S45: 0 | T45: ='(변경)집계표'!E162 -> 0 | U45: / | V45: ='(변경)집계표'!G162 -> 0 | W45: ='(변경)집계표'!E192 -> 0 | X45: / | Y45: ='(변경)집계표'!G192 -> 0 | Z45: ='(변경)집계표'!E222 -> 0 | AA45: / | AB45: ='(변경)집계표'!G222 -> 0 | AC45: ='(변경)집계표'!E252 -> 0 | AD45: / | AE45: ='(변경)집계표'!G252 -> 0 | AF45: ='(변경)집계표'!E282 -> 0 | AG45: / | AH45: ='(변경)집계표'!G282 -> 0
A46: 하천 | B46: =SUM(E46,H46,K46,N46,Q46,T46,W46,Z46,AC46,AF46) -> 1 | C46: / | D46: =SUM(G46,J46,M46,P46,S46,V46,Y46,AB46,AE46,AH46) -> 597.9 | E46: 0 | F46: / | G46: 0 | H46: 0 | I46: / | J46: 0 | K46: 0 | L46: / | M46: 0 | N46: 1 | O46: / | P46: 597.9 | Q46: 0 | R46: / | S46: 0 | T46: ='(변경)집계표'!E163 -> 0 | U46: / | V46: ='(변경)집계표'!G163 -> 0 | W46: ='(변경)집계표'!E193 -> 0 | X46: / | Y46: ='(변경)집계표'!G193 -> 0 | Z46: ='(변경)집계표'!E223 -> 0 | AA46: / | AB46: ='(변경)집계표'!G223 -> 0 | AC46: ='(변경)집계표'!E253 -> 0 | AD46: / | AE46: ='(변경)집계표'!G253 -> 0 | AF46: ='(변경)집계표'!E283 -> 0 | AG46: / | AH46: ='(변경)집계표'!G283 -> 0
A47: 유지 | B47: =SUM(E47,H47,K47,N47,Q47,T47,W47,Z47,AC47,AF47) -> 2 | C47: / | D47: =SUM(G47,J47,M47,P47,S47,V47,Y47,AB47,AE47,AH47) -> 252 | E47: 0 | F47: / | G47: 0 | H47: 0 | I47: / | J47: 0 | K47: 2 | L47: / | M47: 252 | N47: 0 | O47: / | P47: 0 | Q47: 0 | R47: / | S47: 0 | T47: ='(변경)집계표'!E164 -> 0 | U47: / | V47: ='(변경)집계표'!G164 -> 0 | W47: ='(변경)집계표'!E194 -> 0 | X47: / | Y47: ='(변경)집계표'!G194 -> 0 | Z47: ='(변경)집계표'!E224 -> 0 | AA47: / | AB47: ='(변경)집계표'!G224 -> 0 | AC47: ='(변경)집계표'!E254 -> 0 | AD47: / | AE47: ='(변경)집계표'!G254 -> 0 | AF47: ='(변경)집계표'!E284 -> 0 | AG47: / | AH47: ='(변경)집계표'!G284 -> 0
A48: 제방 | B48: =SUM(E48,H48,K48,N48,Q48,T48,W48,Z48,AC48,AF48) -> 2 | C48: / | D48: =SUM(G48,J48,M48,P48,S48,V48,Y48,AB48,AE48,AH48) -> 564 | E48: 0 | F48: / | G48: 0 | H48: 0 | I48: / | J48: 0 | K48: 1 | L48: / | M48: 18 | N48: 0 | O48: / | P48: 0 | Q48: 1 | R48: / | S48: 546 | T48: ='(변경)집계표'!E165 -> 0 | U48: / | V48: ='(변경)집계표'!G165 -> 0 | W48: ='(변경)집계표'!E195 -> 0 | X48: / | Y48: ='(변경)집계표'!G195 -> 0 | Z48: ='(변경)집계표'!E225 -> 0 | AA48: / | AB48: ='(변경)집계표'!G225 -> 0 | AC48: ='(변경)집계표'!E255 -> 0 | AD48: / | AE48: ='(변경)집계표'!G255 -> 0 | AF48: ='(변경)집계표'!E285 -> 0 | AG48: / | AH48: ='(변경)집계표'!G285 -> 0
A49: 과수원 | B49: =SUM(E49,H49,K49,N49,Q49,T49,W49,Z49,AC49,AF49) -> 0 | C49: / | D49: =SUM(G49,J49,M49,P49,S49,V49,Y49,AB49,AE49,AH49) -> 0 | E49: 0 | F49: / | G49: 0 | H49: 0 | I49: / | J49: 0 | K49: 0 | L49: / | M49: 0 | N49: 0 | O49: / | P49: 0 | Q49: 0 | R49: / | S49: 0 | T49: ='(변경)집계표'!E166 -> 0 | U49: / | V49: ='(변경)집계표'!G166 -> 0 | W49: ='(변경)집계표'!E196 -> 0 | X49: / | Y49: ='(변경)집계표'!G196 -> 0 | Z49: ='(변경)집계표'!E226 -> 0 | AA49: / | AB49: ='(변경)집계표'!G226 -> 0 | AC49: ='(변경)집계표'!E256 -> 0 | AD49: / | AE49: ='(변경)집계표'!G256 -> 0 | AF49: ='(변경)집계표'!E286 -> 0 | AG49: / | AH49: ='(변경)집계표'!G286 -> 0
A50: 공장 | B50: =SUM(E50,H50,K50,N50,Q50,T50,W50,Z50,AC50,AF50) -> 0 | C50: / | D50: =SUM(G50,J50,M50,P50,S50,V50,Y50,AB50,AE50,AH50) -> 0 | E50: 0 | F50: / | G50: 0 | H50: 0 | I50: / | J50: 0 | K50: 0 | L50: / | M50: 0 | N50: 0 | O50: / | P50: 0 | Q50: 0 | R50: / | S50: 0 | T50: ='(변경)집계표'!E167 -> 0 | U50: / | V50: ='(변경)집계표'!G167 -> 0 | W50: ='(변경)집계표'!E197 -> 0 | X50: / | Y50: ='(변경)집계표'!G197 -> 0 | Z50: ='(변경)집계표'!E227 -> 0 | AA50: / | AB50: ='(변경)집계표'!G227 -> 0 | AC50: ='(변경)집계표'!E257 -> 0 | AD50: / | AE50: ='(변경)집계표'!G257 -> 0 | AF50: ='(변경)집계표'!E287 -> 0 | AG50: / | AH50: ='(변경)집계표'!G287 -> 0
A51: 목장 | B51: =SUM(E51,H51,K51,N51,Q51,T51,W51,Z51,AC51,AF51) -> 0 | C51: / | D51: =SUM(G51,J51,M51,P51,S51,V51,Y51,AB51,AE51,AH51) -> 0 | E51: 0 | F51: / | G51: 0 | H51: 0 | I51: / | J51: 0 | K51: 0 | L51: / | M51: 0 | N51: 0 | O51: / | P51: 0 | Q51: 0 | R51: / | S51: 0 | T51: ='(변경)집계표'!E168 -> 0 | U51: / | V51: ='(변경)집계표'!G168 -> 0 | W51: ='(변경)집계표'!E198 -> 0 | X51: / | Y51: ='(변경)집계표'!G198 -> 0 | Z51: ='(변경)집계표'!E228 -> 0 | AA51: / | AB51: ='(변경)집계표'!G228 -> 0 | AC51: ='(변경)집계표'!E258 -> 0 | AD51: / | AE51: ='(변경)집계표'!G258 -> 0 | AF51: ='(변경)집계표'!E288 -> 0 | AG51: / | AH51: ='(변경)집계표'!G288 -> 0
... A64: 미지번 | B64: =SUM(E64,H64,K64,N64,Q64,T64,W64,Z64,AC64,AF64) -> 5 | C64: / | D64: =SUM(G64,J64,M64,P64,S64,V64,Y64,AB64,AE64,AH64) -> 1510 | E64: 0 | F64: / | G64: 0 | H64: 3 | I64: / | J64: 1408 | K64: 0 | L64: / | M64: 0 | N64: 2 | O64: / | P64: 102 | Q64: 0 | R64: / | S64: 0 | T64: ='(변경)집계표'!E181 -> 0 | U64: / | V64: ='(변경)집계표'!G181 -> 0 | W64: ='(변경)집계표'!E211 -> 0 | X64: / | Y64: ='(변경)집계표'!G211 -> 0 | Z64: ='(변경)집계표'!E241 -> 0 | AA64: / | AB64: ='(변경)집계표'!G241 -> 0 | AC64: ='(변경)집계표'!E271 -> 0 | AD64: / | AE64: ='(변경)집계표'!G271 -> 0 | AF64: ='(변경)집계표'!E301 -> 0 | AG64: / | AH64: ='(변경)집계표'!G301 -> 0
A65: 공유지 편입용지 집계표
B67: 계 | E67: 서 산 시 | AI67: 비 고
E68: 부 석 면
A69: 구분 | E69: 대두리 | H69: 봉락리 | K69: 칠전리 | N69: 마룡리 | Q69: 창 리 | T69: 6 | W69: 7 | Z69: 8 | AC69: 9 | AF69: 10
B70: 필지 | C70: / | D70: 면적(㎡) | E70: 필지 | F70: / | G70: 면적(㎡) | H70: 필지 | I70: / | J70: 면적(㎡) | K70: 필지 | L70: / | M70: 면적(㎡) | N70: 필지 | O70: / | P70: 면적(㎡) | Q70: 필지 | R70: / | S70: 면적(㎡) | T70: 필지 | U70: / | V70: 면적(㎡) | W70: 필지 | X70: / | Y70: 면적(㎡) | Z70: 필지 | AA70: / | AB70: 면적(㎡) | AC70: 필지 | AD70: / | AE70: 면적(㎡) | AF70: 필지 | AG70: / | AH70: 면적(㎡)
A71: 계 | B71: =SUM(B72:B96) -> 536 | C71: / | D71: =SUM(D72:D96) -> 327023 | E71: =SUM(E72:E96) -> 42 | F71: / | G71: =SUM(G72:G96) -> 12822 | H71: =SUM(H72:H96) -> 101 | I71: / | J71: =SUM(J72:J96) -> 43698 | K71: =SUM(K72:K96) -> 165 | L71: / | M71: =SUM(M72:M96) -> 70278.4 | N71: =SUM(N72:N96) -> 102 | O71: / | P71: =SUM(P72:P96) -> 113971.6 | Q71: =SUM(Q72:Q96) -> 126 | R71: / | S71: =SUM(S72:S96) -> 86253 | T71: =SUM(T72:T96) -> 0 | U71: / | V71: =SUM(V72:V96) -> 0 | W71: =SUM(W72:W96) -> 0 | X71: / | Y71: =SUM(Y72:Y96) -> 0 | Z71: =SUM(Z72:Z96) -> 0 | AA71: / | AB71: =SUM(AB72:AB96) -> 0 | AC71: =SUM(AC72:AC96) -> 0 | AD71: / | AE71: =SUM(AE72:AE96) -> 0 | AF71: =SUM(AF72:AF96) -> 0 | AG71: / | AH71: =SUM(AH72:AH96) -> 0
A72: 전 | B72: =SUM(E72,H72,K72,N72,Q72,T72,W72,Z72,AC72,AF72) -> 101 | C72: / | D72: =SUM(G72,J72,M72,P72,S72,V72,Y72,AB72,AE72,AH72) -> 36086 | E72: 3 | F72: / | G72: 3093 | H72: 27 | I72: / | J72: 10150 | K72: 42 | L72: / | M72: 12202 | N72: 6 | O72: / | P72: 3462 | Q72: 23 | R72: / | S72: 7179 | T72: ='(변경)집계표'!K157 -> 0 | U72: / | V72: ='(변경)집계표'!M157 -> 0 | W72: ='(변경)집계표'!K187 -> 0 | X72: / | Y72: ='(변경)집계표'!M187 -> 0 | Z72: ='(변경)집계표'!K217 -> 0 | AA72: / | AB72: ='(변경)집계표'!M217 -> 0 | AC72: ='(변경)집계표'!K247 -> 0 | AD72: / | AE72: ='(변경)집계표'!M247 -> 0 | AF72: ='(변경)집계표'!K277 -> 0 | AG72: / | AH72: ='(변경)집계표'!M277 -> 0
A73: 답 | B73: =SUM(E73,H73,K73,N73,Q73,T73,W73,Z73,AC73,AF73) -> 124 | C73: / | D73: =SUM(G73,J73,M73,P73,S73,V73,Y73,AB73,AE73,AH73) -> 94165 | E73: 12 | F73: / | G73: 3342 | H73: 16 | I73: / | J73: 14044 | K73: 30 | L73: / | M73: 18390.4 | N73: 44 | O73: / | P73: 46694.6 | Q73: 22 | R73: / | S73: 11694 | T73: ='(변경)집계표'!K158 -> 0 | U73: / | V73: ='(변경)집계표'!M158 -> 0 | W73: ='(변경)집계표'!K188 -> 0 | X73: / | Y73: ='(변경)집계표'!M188 -> 0 | Z73: ='(변경)집계표'!K218 -> 0 | AA73: / | AB73: ='(변경)집계표'!M218 -> 0 | AC73: ='(변경)집계표'!K248 -> 0 | AD73: / | AE73: ='(변경)집계표'!M248 -> 0 | AF73: ='(변경)집계표'!K278 -> 0 | AG73: / | AH73: ='(변경)집계표'!M278 -> 0
A74: 임야 | B74: =SUM(E74,H74,K74,N74,Q74,T74,W74,Z74,AC74,AF74) -> 130 | C74: / | D74: =SUM(G74,J74,M74,P74,S74,V74,Y74,AB74,AE74,AH74) -> 143087 | E74: 2 | F74: / | G74: 1744 | H74: 16 | I74: / | J74: 12383 | K74: 38 | L74: / | M74: 26140 | N74: 38 | O74: / | P74: 48534 | Q74: 36 | R74: / | S74: 54286 | T74: ='(변경)집계표'!K159 -> 0 | U74: / | V74: ='(변경)집계표'!M159 -> 0 | W74: ='(변경)집계표'!K189 -> 0 | X74: / | Y74: ='(변경)집계표'!M189 -> 0 | Z74: ='(변경)집계표'!K219 -> 0 | AA74: / | AB74: ='(변경)집계표'!M219 -> 0 | AC74: ='(변경)집계표'!K249 -> 0 | AD74: / | AE74: ='(변경)집계표'!M249 -> 0 | AF74: ='(변경)집계표'!K279 -> 0 | AG74: / | AH74: ='(변경)집계표'!M279 -> 0
A75: 대지 | B75: =SUM(E75,H75,K75,N75,Q75,T75,W75,Z75,AC75,AF75) -> 24 | C75: / | D75: =SUM(G75,J75,M75,P75,S75,V75,Y75,AB75,AE75,AH75) -> 2816 | E75: 0 | F75: / | G75: 0 | H75: 7 | I75: / | J75: 569 | K75: 9 | L75: / | M75: 1449 | N75: 0 | O75: / | P75: 0 | Q75: 8 | R75: / | S75: 798 | T75: ='(변경)집계표'!K160 -> 0 | U75: / | V75: ='(변경)집계표'!M160 -> 0 | W75: ='(변경)집계표'!K190 -> 0 | X75: / | Y75: ='(변경)집계표'!M190 -> 0 | Z75: ='(변경)집계표'!K220 -> 0 | AA75: / | AB75: ='(변경)집계표'!M220 -> 0 | AC75: ='(변경)집계표'!K250 -> 0 | AD75: / | AE75: ='(변경)집계표'!M250 -> 0 | AF75: ='(변경)집계표'!K280 -> 0 | AG75: / | AH75: ='(변경)집계표'!M280 -> 0
A76: 도로 | B76: =SUM(E76,H76,K76,N76,Q76,T76,W76,Z76,AC76,AF76) -> 137 | C76: / | D76: =SUM(G76,J76,M76,P76,S76,V76,Y76,AB76,AE76,AH76) -> 41702 | E76: 23 | F76: / | G76: 3042 | H76: 31 | I76: / | J76: 5633 | K76: 45 | L76: / | M76: 12081 | N76: 13 | O76: / | P76: 15110 | Q76: 25 | R76: / | S76: 5836 | T76: ='(변경)집계표'!K161 -> 0 | U76: / | V76: ='(변경)집계표'!M161 -> 0 | W76: ='(변경)집계표'!K191 -> 0 | X76: / | Y76: ='(변경)집계표'!M191 -> 0 | Z76: ='(변경)집계표'!K221 -> 0 | AA76: / | AB76: ='(변경)집계표'!M221 -> 0 | AC76: ='(변경)집계표'!K251 -> 0 | AD76: / | AE76: ='(변경)집계표'!M251 -> 0 | AF76: ='(변경)집계표'!K281 -> 0 | AG76: / | AH76: ='(변경)집계표'!M281 -> 0
A77: 구거 | B77: =SUM(E77,H77,K77,N77,Q77,T77,W77,Z77,AC77,AF77) -> 1 | C77: / | D77: =SUM(G77,J77,M77,P77,S77,V77,Y77,AB77,AE77,AH77) -> 171 | E77: 0 | F77: / | G77: 0 | H77: 0 | I77: / | J77: 0 | K77: 0 | L77: / | M77: 0 | N77: 1 | O77: / | P77: 171 | Q77: 0 | R77: / | S77: 0 | T77: ='(변경)집계표'!K162 -> 0 | U77: / | V77: ='(변경)집계표'!M162 -> 0 | W77: ='(변경)집계표'!K192 -> 0 | X77: / | Y77: ='(변경)집계표'!M192 -> 0 | Z77: ='(변경)집계표'!K222 -> 0 | AA77: / | AB77: ='(변경)집계표'!M222 -> 0 | AC77: ='(변경)집계표'!K252 -> 0 | AD77: / | AE77: ='(변경)집계표'!M252 -> 0 | AF77: ='(변경)집계표'!K282 -> 0 | AG77: / | AH77: ='(변경)집계표'!M282 -> 0
A78: 하천 | B78: =SUM(E78,H78,K78,N78,Q78,T78,W78,Z78,AC78,AF78) -> 0 | C78: / | D78: =SUM(G78,J78,M78,P78,S78,V78,Y78,AB78,AE78,AH78) -> 0 | E78: 0 | F78: / | G78: 0 | H78: 0 | I78: / | J78: 0 | K78: 0 | L78: / | M78: 0 | N78: 0 | O78: / | P78: 0 | Q78: 0 | R78: / | S78: 0 | T78: ='(변경)집계표'!K163 -> 0 | U78: / | V78: ='(변경)집계표'!M163 -> 0 | W78: ='(변경)집계표'!K193 -> 0 | X78: / | Y78: ='(변경)집계표'!M193 -> 0 | Z78: ='(변경)집계표'!K223 -> 0 | AA78: / | AB78: ='(변경)집계표'!M223 -> 0 | AC78: ='(변경)집계표'!K253 -> 0 | AD78: / | AE78: ='(변경)집계표'!M253 -> 0 | AF78: ='(변경)집계표'!K283 -> 0 | AG78: / | AH78: ='(변경)집계표'!M283 -> 0
A79: 유지 | B79: =SUM(E79,H79,K79,N79,Q79,T79,W79,Z79,AC79,AF79) -> 2 | C79: / | D79: =SUM(G79,J79,M79,P79,S79,V79,Y79,AB79,AE79,AH79) -> 1601 | E79: 2 | F79: / | G79: 1601 | H79: 0 | I79: / | J79: 0 | K79: 0 | L79: / | M79: 0 | N79: 0 | O79: / | P79: 0 | Q79: 0 | R79: / | S79: 0 | T79: ='(변경)집계표'!K164 -> 0 | U79: / | V79: ='(변경)집계표'!M164 -> 0 | W79: ='(변경)집계표'!K194 -> 0 | X79: / | Y79: ='(변경)집계표'!M194 -> 0 | Z79: ='(변경)집계표'!K224 -> 0 | AA79: / | AB79: ='(변경)집계표'!M224 -> 0 | AC79: ='(변경)집계표'!K254 -> 0 | AD79: / | AE79: ='(변경)집계표'!M254 -> 0 | AF79: ='(변경)집계표'!K284 -> 0 | AG79: / | AH79: ='(변경)집계표'!M284 -> 0
A80: 제방 | B80: =SUM(E80,H80,K80,N80,Q80,T80,W80,Z80,AC80,AF80) -> 0 | C80: / | D80: =SUM(G80,J80,M80,P80,S80,V80,Y80,AB80,AE80,AH80) -> 0 | E80: 0 | F80: / | G80: 0 | H80: 0 | I80: / | J80: 0 | K80: 0 | L80: / | M80: 0 | N80: 0 | O80: / | P80: 0 | Q80: 0 | R80: / | S80: 0 | T80: ='(변경)집계표'!K165 -> 0 | U80: / | V80: ='(변경)집계표'!M165 -> 0 | W80: ='(변경)집계표'!K195 -> 0 | X80: / | Y80: ='(변경)집계표'!M195 -> 0 | Z80: ='(변경)집계표'!K225 -> 0 | AA80: / | AB80: ='(변경)집계표'!M225 -> 0 | AC80: ='(변경)집계표'!K255 -> 0 | AD80: / | AE80: ='(변경)집계표'!M255 -> 0 | AF80: ='(변경)집계표'!K285 -> 0 | AG80: / | AH80: ='(변경)집계표'!M285 -> 0
A81: 과수원 | B81: =SUM(E81,H81,K81,N81,Q81,T81,W81,Z81,AC81,AF81) -> 0 | C81: / | D81: =SUM(G81,J81,M81,P81,S81,V81,Y81,AB81,AE81,AH81) -> 0 | E81: 0 | F81: / | G81: 0 | H81: 0 | I81: / | J81: 0 | K81: 0 | L81: / | M81: 0 | N81: 0 | O81: / | P81: 0 | Q81: 0 | R81: / | S81: 0 | T81: ='(변경)집계표'!K166 -> 0 | U81: / | V81: ='(변경)집계표'!M166 -> 0 | W81: ='(변경)집계표'!K196 -> 0 | X81: / | Y81: ='(변경)집계표'!M196 -> 0 | Z81: ='(변경)집계표'!K226 -> 0 | AA81: / | AB81: ='(변경)집계표'!M226 -> 0 | AC81: ='(변경)집계표'!K256 -> 0 | AD81: / | AE81: ='(변경)집계표'!M256 -> 0 | AF81: ='(변경)집계표'!K286 -> 0 | AG81: / | AH81: ='(변경)집계표'!M286 -> 0
A82: 공장 | B82: =SUM(E82,H82,K82,N82,Q82,T82,W82,Z82,AC82,AF82) -> 0 | C82: / | D82: =SUM(G82,J82,M82,P82,S82,V82,Y82,AB82,AE82,AH82) -> 0 | E82: 0 | F82: / | G82: 0 | H82: 0 | I82: / | J82: 0 | K82: 0 | L82: / | M82: 0 | N82: 0 | O82: / | P82: 0 | Q82: 0 | R82: / | S82: 0 | T82: ='(변경)집계표'!K167 -> 0 | U82: / | V82: ='(변경)집계표'!M167 -> 0 | W82: ='(변경)집계표'!K197 -> 0 | X82: / | Y82: ='(변경)집계표'!M197 -> 0 | Z82: ='(변경)집계표'!K227 -> 0 | AA82: / | AB82: ='(변경)집계표'!M227 -> 0 | AC82: ='(변경)집계표'!K257 -> 0 | AD82: / | AE82: ='(변경)집계표'!M257 -> 0 | AF82: ='(변경)집계표'!K287 -> 0 | AG82: / | AH82: ='(변경)집계표'!M287 -> 0
A83: 목장 | B83: =SUM(E83,H83,K83,N83,Q83,T83,W83,Z83,AC83,AF83) -> 0 | C83: / | D83: =SUM(G83,J83,M83,P83,S83,V83,Y83,AB83,AE83,AH83) -> 0 | E83: 0 | F83: / | G83: 0 | H83: 0 | I83: / | J83: 0 | K83: 0 | L83: / | M83: 0 | N83: 0 | O83: / | P83: 0 | Q83: 0 | R83: / | S83: 0 | T83: ='(변경)집계표'!K168 -> 0 | U83: / | V83: ='(변경)집계표'!M168 -> 0 | W83: ='(변경)집계표'!K198 -> 0 | X83: / | Y83: ='(변경)집계표'!M198 -> 0 | Z83: ='(변경)집계표'!K228 -> 0 | AA83: / | AB83: ='(변경)집계표'!M228 -> 0 | AC83: ='(변경)집계표'!K258 -> 0 | AD83: / | AE83: ='(변경)집계표'!M258 -> 0 | AF83: ='(변경)집계표'!K288 -> 0 | AG83: / | AH83: ='(변경)집계표'!M288 -> 0
... A96: 미지번 | B96: =SUM(E96,H96,K96,N96,Q96,T96,W96,Z96,AC96,AF96) -> 0 | C96: / | D96: =SUM(G96,J96,M96,P96,S96,V96,Y96,AB96,AE96,AH96) -> 0 | E96: 0 | F96: / | G96: 0 | H96: 0 | I96: / | J96: 0 | K96: 0 | L96: / | M96: 0 | N96: 0 | O96: / | P96: 0 | Q96: 0 | R96: / | S96: 0 | T96: ='(변경)집계표'!K181 -> 0 | U96: / | V96: ='(변경)집계표'!M181 -> 0 | W96: ='(변경)집계표'!K211 -> 0 | X96: / | Y96: ='(변경)집계표'!M211 -> 0 | Z96: ='(변경)집계표'!K241 -> 0 | AA96: / | AB96: ='(변경)집계표'!M241 -> 0 | AC96: ='(변경)집계표'!K271 -> 0 | AD96: / | AE96: ='(변경)집계표'!M271 -> 0 | AF96: ='(변경)집계표'!K301 -> 0 | AG96: / | AH96: ='(변경)집계표'!M301 -> 0
A97: 사유지 편입용지 집계표
B99: 계 | E99: 서 산 시 | AI99: 비 고
E100: 부 석 면
A101: 구분 | E101: 대두리 | H101: 봉락리 | K101: 칠전리 | N101: 마룡리 | Q101: 창 리 | T101: 6 | W101: 7 | Z101: 8 | AC101: 9 | AF101: 10
B102: 필지 | C102: / | D102: 면적(㎡) | E102: 필지 | F102: / | G102: 면적(㎡) | H102: 필지 | I102: / | J102: 면적(㎡) | K102: 필지 | L102: / | M102: 면적(㎡) | N102: 필지 | O102: / | P102: 면적(㎡) | Q102: 필지 | R102: / | S102: 면적(㎡) | T102: 필지 | U102: / | V102: 면적(㎡) | W102: 필지 | X102: / | Y102: 면적(㎡) | Z102: 필지 | AA102: / | AB102: 면적(㎡) | AC102: 필지 | AD102: / | AE102: 면적(㎡) | AF102: 필지 | AG102: / | AH102: 면적(㎡)
A103: 계 | B103: =SUM(B104:B128) -> 73 | C103: / | D103: =SUM(D104:D128) -> 29944.8 | E103: =SUM(E104:E128) -> 28 | F103: / | G103: =SUM(G104:G128) -> 12531.9 | H103: =SUM(H104:H128) -> 15 | I103: / | J103: =SUM(J104:J128) -> 4638.9 | K103: =SUM(K104:K128) -> 19 | L103: / | M103: =SUM(M104:M128) -> 6967 | N103: =SUM(N104:N128) -> 5 | O103: / | P103: =SUM(P104:P128) -> 598 | Q103: =SUM(Q104:Q128) -> 6 | R103: / | S103: =SUM(S104:S128) -> 5209 | T103: =SUM(T104:T128) -> 0 | U103: / | V103: =SUM(V104:V128) -> 0 | W103: =SUM(W104:W128) -> 0 | X103: / | Y103: =SUM(Y104:Y128) -> 0 | Z103: =SUM(Z104:Z128) -> 0 | AA103: / | AB103: =SUM(AB104:AB128) -> 0 | AC103: =SUM(AC104:AC128) -> 0 | AD103: / | AE103: =SUM(AE104:AE128) -> 0 | AF103: =SUM(AF104:AF128) -> 0 | AG103: / | AH103: =SUM(AH104:AH128) -> 0
A104: 전 | B104: =SUM(E104,H104,K104,N104,Q104,T104,W104,Z104,AC104,AF104) -> 8 | C104: / | D104: =SUM(G104,J104,M104,P104,S104,V104,Y104,AB104,AE104,AH104) -> 2161 | E104: 2 | F104: / | G104: 444 | H104: 3 | I104: / | J104: 187 | K104: 1 | L104: / | M104: 1474 | N104: 1 | O104: / | P104: 43 | Q104: 1 | R104: / | S104: 13 | T104: ='(변경)집계표'!H157 -> 0 | U104: / | V104: ='(변경)집계표'!J157 -> 0 | W104: ='(변경)집계표'!H187 -> 0 | X104: / | Y104: ='(변경)집계표'!J187 -> 0 | Z104: ='(변경)집계표'!H217 -> 0 | AA104: / | AB104: ='(변경)집계표'!J217 -> 0 | AC104: ='(변경)집계표'!H247 -> 0 | AD104: / | AE104: ='(변경)집계표'!J247 -> 0 | AF104: ='(변경)집계표'!H277 -> 0 | AG104: / | AH104: ='(변경)집계표'!J277 -> 0
A105: 답 | B105: =SUM(E105,H105,K105,N105,Q105,T105,W105,Z105,AC105,AF105) -> 20 | C105: / | D105: =SUM(G105,J105,M105,P105,S105,V105,Y105,AB105,AE105,AH105) -> 12082.8 | E105: 17 | F105: / | G105: 9952.9 | H105: 1 | I105: / | J105: 2109.9 | K105: 2 | L105: / | M105: 20 | N105: 0 | O105: / | P105: 0 | Q105: 0 | R105: / | S105: 0 | T105: ='(변경)집계표'!H158 -> 0 | U105: / | V105: ='(변경)집계표'!J158 -> 0 | W105: ='(변경)집계표'!H188 -> 0 | X105: / | Y105: ='(변경)집계표'!J188 -> 0 | Z105: ='(변경)집계표'!H218 -> 0 | AA105: / | AB105: ='(변경)집계표'!J218 -> 0 | AC105: ='(변경)집계표'!H248 -> 0 | AD105: / | AE105: ='(변경)집계표'!J248 -> 0 | AF105: ='(변경)집계표'!H278 -> 0 | AG105: / | AH105: ='(변경)집계표'!J278 -> 0
A106: 임야 | B106: =SUM(E106,H106,K106,N106,Q106,T106,W106,Z106,AC106,AF106) -> 17 | C106: / | D106: =SUM(G106,J106,M106,P106,S106,V106,Y106,AB106,AE106,AH106) -> 11748 | E106: 2 | F106: / | G106: 898 | H106: 1 | I106: / | J106: 984 | K106: 8 | L106: / | M106: 4333 | N106: 3 | O106: / | P106: 532 | Q106: 3 | R106: / | S106: 5001 | T106: ='(변경)집계표'!H159 -> 0 | U106: / | V106: ='(변경)집계표'!J159 -> 0 | W106: ='(변경)집계표'!H189 -> 0 | X106: / | Y106: ='(변경)집계표'!J189 -> 0 | Z106: ='(변경)집계표'!H219 -> 0 | AA106: / | AB106: ='(변경)집계표'!J219 -> 0 | AC106: ='(변경)집계표'!H249 -> 0 | AD106: / | AE106: ='(변경)집계표'!J249 -> 0 | AF106: ='(변경)집계표'!H279 -> 0 | AG106: / | AH106: ='(변경)집계표'!J279 -> 0
A107: 대지 | B107: =SUM(E107,H107,K107,N107,Q107,T107,W107,Z107,AC107,AF107) -> 2 | C107: / | D107: =SUM(G107,J107,M107,P107,S107,V107,Y107,AB107,AE107,AH107) -> 267 | E107: 2 | F107: / | G107: 267 | H107: 0 | I107: / | J107: 0 | K107: 0 | L107: / | M107: 0 | N107: 0 | O107: / | P107: 0 | Q107: 0 | R107: / | S107: 0 | T107: ='(변경)집계표'!H160 -> 0 | U107: / | V107: ='(변경)집계표'!J160 -> 0 | W107: ='(변경)집계표'!H190 -> 0 | X107: / | Y107: ='(변경)집계표'!J190 -> 0 | Z107: ='(변경)집계표'!H220 -> 0 | AA107: / | AB107: ='(변경)집계표'!J220 -> 0 | AC107: ='(변경)집계표'!H250 -> 0 | AD107: / | AE107: ='(변경)집계표'!J250 -> 0 | AF107: ='(변경)집계표'!H280 -> 0 | AG107: / | AH107: ='(변경)집계표'!J280 -> 0
A108: 도로 | B108: =SUM(E108,H108,K108,N108,Q108,T108,W108,Z108,AC108,AF108) -> 22 | C108: / | D108: =SUM(G108,J108,M108,P108,S108,V108,Y108,AB108,AE108,AH108) -> 3430 | E108: 3 | F108: / | G108: 777 | H108: 10 | I108: / | J108: 1358 | K108: 7 | L108: / | M108: 1100 | N108: 1 | O108: / | P108: 23 | Q108: 1 | R108: / | S108: 172 | T108: ='(변경)집계표'!H161 -> 0 | U108: / | V108: ='(변경)집계표'!J161 -> 0 | W108: ='(변경)집계표'!H191 -> 0 | X108: / | Y108: ='(변경)집계표'!J191 -> 0 | Z108: ='(변경)집계표'!H221 -> 0 | AA108: / | AB108: ='(변경)집계표'!J221 -> 0 | AC108: ='(변경)집계표'!H251 -> 0 | AD108: / | AE108: ='(변경)집계표'!J251 -> 0 | AF108: ='(변경)집계표'!H281 -> 0 | AG108: / | AH108: ='(변경)집계표'!J281 -> 0
A109: 구거 | B109: =SUM(E109,H109,K109,N109,Q109,T109,W109,Z109,AC109,AF109) -> 0 | C109: / | D109: =SUM(G109,J109,M109,P109,S109,V109,Y109,AB109,AE109,AH109) -> 0 | E109: 0 | F109: / | G109: 0 | H109: 0 | I109: / | J109: 0 | K109: 0 | L109: / | M109: 0 | N109: 0 | O109: / | P109: 0 | Q109: 0 | R109: / | S109: 0 | T109: ='(변경)집계표'!H162 -> 0 | U109: / | V109: ='(변경)집계표'!J162 -> 0 | W109: ='(변경)집계표'!H192 -> 0 | X109: / | Y109: ='(변경)집계표'!J192 -> 0 | Z109: ='(변경)집계표'!H222 -> 0 | AA109: / | AB109: ='(변경)집계표'!J222 -> 0 | AC109: ='(변경)집계표'!H252 -> 0 | AD109: / | AE109: ='(변경)집계표'!J252 -> 0 | AF109: ='(변경)집계표'!H282 -> 0 | AG109: / | AH109: ='(변경)집계표'!J282 -> 0
A110: 하천 | B110: =SUM(E110,H110,K110,N110,Q110,T110,W110,Z110,AC110,AF110) -> 0 | C110: / | D110: =SUM(G110,J110,M110,P110,S110,V110,Y110,AB110,AE110,AH110) -> 0 | E110: 0 | F110: / | G110: 0 | H110: 0 | I110: / | J110: 0 | K110: 0 | L110: / | M110: 0 | N110: 0 | O110: / | P110: 0 | Q110: 0 | R110: / | S110: 0 | T110: ='(변경)집계표'!H163 -> 0 | U110: / | V110: ='(변경)집계표'!J163 -> 0 | W110: ='(변경)집계표'!H193 -> 0 | X110: / | Y110: ='(변경)집계표'!J193 -> 0 | Z110: ='(변경)집계표'!H223 -> 0 | AA110: / | AB110: ='(변경)집계표'!J223 -> 0 | AC110: ='(변경)집계표'!H253 -> 0 | AD110: / | AE110: ='(변경)집계표'!J253 -> 0 | AF110: ='(변경)집계표'!H283 -> 0 | AG110: / | AH110: ='(변경)집계표'!J283 -> 0
A111: 유지 | B111: =SUM(E111,H111,K111,N111,Q111,T111,W111,Z111,AC111,AF111) -> 2 | C111: / | D111: =SUM(G111,J111,M111,P111,S111,V111,Y111,AB111,AE111,AH111) -> 193 | E111: 2 | F111: / | G111: 193 | H111: 0 | I111: / | J111: 0 | K111: 0 | L111: / | M111: 0 | N111: 0 | O111: / | P111: 0 | Q111: 0 | R111: / | S111: 0 | T111: ='(변경)집계표'!H164 -> 0 | U111: / | V111: ='(변경)집계표'!J164 -> 0 | W111: ='(변경)집계표'!H194 -> 0 | X111: / | Y111: ='(변경)집계표'!J194 -> 0 | Z111: ='(변경)집계표'!H224 -> 0 | AA111: / | AB111: ='(변경)집계표'!J224 -> 0 | AC111: ='(변경)집계표'!H254 -> 0 | AD111: / | AE111: ='(변경)집계표'!J254 -> 0 | AF111: ='(변경)집계표'!H284 -> 0 | AG111: / | AH111: ='(변경)집계표'!J284 -> 0
A112: 제방 | B112: =SUM(E112,H112,K112,N112,Q112,T112,W112,Z112,AC112,AF112) -> 1 | C112: / | D112: =SUM(G112,J112,M112,P112,S112,V112,Y112,AB112,AE112,AH112) -> 40 | E112: 0 | F112: / | G112: 0 | H112: 0 | I112: / | J112: 0 | K112: 1 | L112: / | M112: 40 | N112: 0 | O112: / | P112: 0 | Q112: 0 | R112: / | S112: 0 | T112: ='(변경)집계표'!H165 -> 0 | U112: / | V112: ='(변경)집계표'!J165 -> 0 | W112: ='(변경)집계표'!H195 -> 0 | X112: / | Y112: ='(변경)집계표'!J195 -> 0 | Z112: ='(변경)집계표'!H225 -> 0 | AA112: / | AB112: ='(변경)집계표'!J225 -> 0 | AC112: ='(변경)집계표'!H255 -> 0 | AD112: / | AE112: ='(변경)집계표'!J255 -> 0 | AF112: ='(변경)집계표'!H285 -> 0 | AG112: / | AH112: ='(변경)집계표'!J285 -> 0
A113: 과수원 | B113: =SUM(E113,H113,K113,N113,Q113,T113,W113,Z113,AC113,AF113) -> 0 | C113: / | D113: =SUM(G113,J113,M113,P113,S113,V113,Y113,AB113,AE113,AH113) -> 0 | E113: 0 | F113: / | G113: 0 | H113: 0 | I113: / | J113: 0 | K113: 0 | L113: / | M113: 0 | N113: 0 | O113: / | P113: 0 | Q113: 0 | R113: / | S113: 0 | T113: ='(변경)집계표'!H166 -> 0 | U113: / | V113: ='(변경)집계표'!J166 -> 0 | W113: ='(변경)집계표'!H196 -> 0 | X113: / | Y113: ='(변경)집계표'!J196 -> 0 | Z113: ='(변경)집계표'!H226 -> 0 | AA113: / | AB113: ='(변경)집계표'!J226 -> 0 | AC113: ='(변경)집계표'!H256 -> 0 | AD113: / | AE113: ='(변경)집계표'!J256 -> 0 | AF113: ='(변경)집계표'!H286 -> 0 | AG113: / | AH113: ='(변경)집계표'!J286 -> 0
A114: 공장 | B114: =SUM(E114,H114,K114,N114,Q114,T114,W114,Z114,AC114,AF114) -> 0 | C114: / | D114: =SUM(G114,J114,M114,P114,S114,V114,Y114,AB114,AE114,AH114) -> 0 | E114: 0 | F114: / | G114: 0 | H114: 0 | I114: / | J114: 0 | K114: 0 | L114: / | M114: 0 | N114: 0 | O114: / | P114: 0 | Q114: 0 | R114: / | S114: 0 | T114: ='(변경)집계표'!H167 -> 0 | U114: / | V114: ='(변경)집계표'!J167 -> 0 | W114: ='(변경)집계표'!H197 -> 0 | X114: / | Y114: ='(변경)집계표'!J197 -> 0 | Z114: ='(변경)집계표'!H227 -> 0 | AA114: / | AB114: ='(변경)집계표'!J227 -> 0 | AC114: ='(변경)집계표'!H257 -> 0 | AD114: / | AE114: ='(변경)집계표'!J257 -> 0 | AF114: ='(변경)집계표'!H287 -> 0 | AG114: / | AH114: ='(변경)집계표'!J287 -> 0
A115: 목장 | B115: =SUM(E115,H115,K115,N115,Q115,T115,W115,Z115,AC115,AF115) -> 0 | C115: / | D115: =SUM(G115,J115,M115,P115,S115,V115,Y115,AB115,AE115,AH115) -> 0 | E115: 0 | F115: / | G115: 0 | H115: 0 | I115: / | J115: 0 | K115: 0 | L115: / | M115: 0 | N115: 0 | O115: / | P115: 0 | Q115: 0 | R115: / | S115: 0 | T115: ='(변경)집계표'!H168 -> 0 | U115: / | V115: ='(변경)집계표'!J168 -> 0 | W115: ='(변경)집계표'!H198 -> 0 | X115: / | Y115: ='(변경)집계표'!J198 -> 0 | Z115: ='(변경)집계표'!H228 -> 0 | AA115: / | AB115: ='(변경)집계표'!J228 -> 0 | AC115: ='(변경)집계표'!H258 -> 0 | AD115: / | AE115: ='(변경)집계표'!J258 -> 0 | AF115: ='(변경)집계표'!H288 -> 0 | AG115: / | AH115: ='(변경)집계표'!J288 -> 0
... A128: 미지번 | B128: =SUM(E128,H128,K128,N128,Q128,T128,W128,Z128,AC128,AF128) -> 0 | C128: / | D128: =SUM(G128,J128,M128,P128,S128,V128,Y128,AB128,AE128,AH128) -> 0 | E128: 0 | F128: / | G128: 0 | H128: 0 | I128: / | J128: 0 | K128: 0 | L128: / | M128: 0 | N128: 0 | O128: / | P128: 0 | Q128: 0 | R128: / | S128: 0 | T128: ='(변경)집계표'!H181 -> 0 | U128: / | V128: ='(변경)집계표'!J181 -> 0 | W128: ='(변경)집계표'!H211 -> 0 | X128: / | Y128: ='(변경)집계표'!J211 -> 0 | Z128: ='(변경)집계표'!H241 -> 0 | AA128: / | AB128: ='(변경)집계표'!J241 -> 0 | AC128: ='(변경)집계표'!H271 -> 0 | AD128: / | AE128: ='(변경)집계표'!J271 -> 0 | AF128: ='(변경)집계표'!H301 -> 0 | AG128: / | AH128: ='(변경)집계표'!J301 -> 0

Sheet (변경)전체
A1: (변경) 전체 편입용지 집계표
B3: 계 | E3: 서 산 시 | AI3: 비 고
E4: 부 석 면
A5: 구분 | E5: 대두리 | H5: 봉락리 | K5: 칠전리 | N5: 마룡리 | Q5: 창 리 | T5: 6 | W5: 7 | Z5: 8 | AC5: 9 | AF5: 10
B6: 필지 | C6: / | D6: 면적(㎡) | E6: 필지 | F6: / | G6: 면적(㎡) | H6: 필지 | I6: / | J6: 면적(㎡) | K6: 필지 | L6: / | M6: 면적(㎡) | N6: 필지 | O6: / | P6: 면적(㎡) | Q6: 필지 | R6: / | S6: 면적(㎡) | T6: 필지 | U6: / | V6: 면적(㎡) | W6: 필지 | X6: / | Y6: 면적(㎡) | Z6: 필지 | AA6: / | AB6: 면적(㎡) | AC6: 필지 | AD6: / | AE6: 면적(㎡) | AF6: 필지 | AG6: / | AH6: 면적(㎡)
A7: 계 | B7: =SUM(B8:B32) -> #REF! | C7: / | D7: =SUM(D8:D32) -> #REF! | E7: =SUM(E8:E32) -> 650 | F7: / | G7: =SUM(G8:G32) -> 315781.7 | H7: =SUM(H8:H32) -> #REF! | I7: / | J7: =SUM(J8:J32) -> #REF! | K7: =SUM(K8:K32) -> #REF! | L7: / | M7: =SUM(M8:M32) -> #REF! | N7: =SUM(N8:N32) -> #REF! | O7: / | P7: =SUM(P8:P32) -> #REF! | Q7: =SUM(Q8:Q32) -> #REF! | R7: / | S7: =SUM(S8:S32) -> #REF! | T7: =SUM(T8:T32) -> 0 | U7: / | V7: =SUM(V8:V32) -> 0 | W7: =SUM(W8:W32) -> 0 | X7: / | Y7: =SUM(Y8:Y32) -> 0 | Z7: =SUM(Z8:Z32) -> 0 | AA7: / | AB7: =SUM(AB8:AB32) -> 0 | AC7: =SUM(AC8:AC32) -> 0 | AD7: / | AE7: =SUM(AE8:AE32) -> 0 | AF7: =SUM(AF8:AF32) -> 0 | AG7: / | AH7: =SUM(AH8:AH32) -> 0
A8: 전 | B8: =SUM(E8,H8,K8,N8,Q8,T8,W8,Z8,AC8,AF8) -> #REF! | C8: / | D8: =SUM(G8,J8,M8,P8,S8,V8,Y8,AB8,AE8,AH8) -> #REF! | E8: ='(변경)집계표'!B7 -> 92 | F8: / | G8: ='(변경)집계표'!D7 -> 31389 | H8: ='(변경)집계표'!B37 -> #REF! | I8: / | J8: ='(변경)집계표'!D37 -> #REF! | K8: ='(변경)집계표'!B67 -> #REF! | L8: / | M8: ='(변경)집계표'!D67 -> #REF! | N8: ='(변경)집계표'!B97 -> #REF! | O8: / | P8: ='(변경)집계표'!D97 -> #REF! | Q8: ='(변경)집계표'!B127 -> #REF! | R8: / | S8: ='(변경)집계표'!D127 -> #REF! | T8: ='(변경)집계표'!B157 -> 0 | U8: / | V8: ='(변경)집계표'!D157 -> 0 | W8: ='(변경)집계표'!B187 -> 0 | X8: / | Y8: ='(변경)집계표'!D187 -> 0 | Z8: ='(변경)집계표'!B217 -> 0 | AA8: / | AB8: ='(변경)집계표'!D217 -> 0 | AC8: ='(변경)집계표'!B247 -> 0 | AD8: / | AE8: ='(변경)집계표'!D247 -> 0 | AF8: ='(변경)집계표'!B277 -> 0 | AG8: / | AH8: ='(변경)집계표'!D277 -> 0
A9: 답 | B9: =SUM(E9,H9,K9,N9,Q9,T9,W9,Z9,AC9,AF9) -> #REF! | C9: / | D9: =SUM(G9,J9,M9,P9,S9,V9,Y9,AB9,AE9,AH9) -> #REF! | E9: ='(변경)집계표'!B8 -> 142 | F9: / | G9: ='(변경)집계표'!D8 -> 98608 | H9: ='(변경)집계표'!B38 -> #REF! | I9: / | J9: ='(변경)집계표'!D38 -> #REF! | K9: ='(변경)집계표'!B68 -> #REF! | L9: / | M9: ='(변경)집계표'!D68 -> #REF! | N9: ='(변경)집계표'!B98 -> #REF! | O9: / | P9: ='(변경)집계표'!D98 -> #REF! | Q9: ='(변경)집계표'!B128 -> #REF! | R9: / | S9: ='(변경)집계표'!D128 -> #REF! | T9: ='(변경)집계표'!B158 -> 0 | U9: / | V9: ='(변경)집계표'!D158 -> 0 | W9: ='(변경)집계표'!B188 -> 0 | X9: / | Y9: ='(변경)집계표'!D188 -> 0 | Z9: ='(변경)집계표'!B218 -> 0 | AA9: / | AB9: ='(변경)집계표'!D218 -> 0 | AC9: ='(변경)집계표'!B248 -> 0 | AD9: / | AE9: ='(변경)집계표'!D248 -> 0 | AF9: ='(변경)집계표'!B278 -> 0 | AG9: / | AH9: ='(변경)집계표'!D278 -> 0
A10: 임야 | B10: =SUM(E10,H10,K10,N10,Q10,T10,W10,Z10,AC10,AF10) -> #REF! | C10: / | D10: =SUM(G10,J10,M10,P10,S10,V10,Y10,AB10,AE10,AH10) -> #REF! | E10: ='(변경)집계표'!B9 -> 114 | F10: / | G10: ='(변경)집계표'!D9 -> 98855 | H10: ='(변경)집계표'!B39 -> #REF! | I10: / | J10: ='(변경)집계표'!D39 -> #REF! | K10: ='(변경)집계표'!B69 -> #REF! | L10: / | M10: ='(변경)집계표'!D69 -> #REF! | N10: ='(변경)집계표'!B99 -> #REF! | O10: / | P10: ='(변경)집계표'!D99 -> #REF! | Q10: ='(변경)집계표'!B129 -> #REF! | R10: / | S10: ='(변경)집계표'!D129 -> #REF! | T10: ='(변경)집계표'!B159 -> 0 | U10: / | V10: ='(변경)집계표'!D159 -> 0 | W10: ='(변경)집계표'!B189 -> 0 | X10: / | Y10: ='(변경)집계표'!D189 -> 0 | Z10: ='(변경)집계표'!B219 -> 0 | AA10: / | AB10: ='(변경)집계표'!D219 -> 0 | AC10: ='(변경)집계표'!B249 -> 0 | AD10: / | AE10: ='(변경)집계표'!D249 -> 0 | AF10: ='(변경)집계표'!B279 -> 0 | AG10: / | AH10: ='(변경)집계표'!D279 -> 0
A11: 대지 | B11: =SUM(E11,H11,K11,N11,Q11,T11,W11,Z11,AC11,AF11) -> #REF! | C11: / | D11: =SUM(G11,J11,M11,P11,S11,V11,Y11,AB11,AE11,AH11) -> #REF! | E11: ='(변경)집계표'!B10 -> 26 | F11: / | G11: ='(변경)집계표'!D10 -> 2982 | H11: ='(변경)집계표'!B40 -> #REF! | I11: / | J11: ='(변경)집계표'!D40 -> #REF! | K11: ='(변경)집계표'!B70 -> #REF! | L11: / | M11: ='(변경)집계표'!D70 -> #REF! | N11: ='(변경)집계표'!B100 -> #REF! | O11: / | P11: ='(변경)집계표'!D100 -> #REF! | Q11: ='(변경)집계표'!B130 -> #REF! | R11: / | S11: ='(변경)집계표'!D130 -> #REF! | T11: ='(변경)집계표'!B160 -> 0 | U11: / | V11: ='(변경)집계표'!D160 -> 0 | W11: ='(변경)집계표'!B190 -> 0 | X11: / | Y11: ='(변경)집계표'!D190 -> 0 | Z11: ='(변경)집계표'!B220 -> 0 | AA11: / | AB11: ='(변경)집계표'!D220 -> 0 | AC11: ='(변경)집계표'!B250 -> 0 | AD11: / | AE11: ='(변경)집계표'!D250 -> 0 | AF11: ='(변경)집계표'!B280 -> 0 | AG11: / | AH11: ='(변경)집계표'!D280 -> 0
A12: 도로 | B12: =SUM(E12,H12,K12,N12,Q12,T12,W12,Z12,AC12,AF12) -> #REF! | C12: / | D12: =SUM(G12,J12,M12,P12,S12,V12,Y12,AB12,AE12,AH12) -> #REF! | E12: ='(변경)집계표'!B11 -> 212 | F12: / | G12: ='(변경)집계표'!D11 -> 67484.3 | H12: ='(변경)집계표'!B41 -> #REF! | I12: / | J12: ='(변경)집계표'!D41 -> #REF! | K12: ='(변경)집계표'!B71 -> #REF! | L12: / | M12: ='(변경)집계표'!D71 -> #REF! | N12: ='(변경)집계표'!B101 -> #REF! | O12: / | P12: ='(변경)집계표'!D101 -> #REF! | Q12: ='(변경)집계표'!B131 -> #REF! | R12: / | S12: ='(변경)집계표'!D131 -> #REF! | T12: ='(변경)집계표'!B161 -> 0 | U12: / | V12: ='(변경)집계표'!D161 -> 0 | W12: ='(변경)집계표'!B191 -> 0 | X12: / | Y12: ='(변경)집계표'!D191 -> 0 | Z12: ='(변경)집계표'!B221 -> 0 | AA12: / | AB12: ='(변경)집계표'!D221 -> 0 | AC12: ='(변경)집계표'!B251 -> 0 | AD12: / | AE12: ='(변경)집계표'!D251 -> 0 | AF12: ='(변경)집계표'!B281 -> 0 | AG12: / | AH12: ='(변경)집계표'!D281 -> 0
A13: 구거 | B13: =SUM(E13,H13,K13,N13,Q13,T13,W13,Z13,AC13,AF13) -> #REF! | C13: / | D13: =SUM(G13,J13,M13,P13,S13,V13,Y13,AB13,AE13,AH13) -> #REF! | E13: ='(변경)집계표'!B12 -> 45 | F13: / | G13: ='(변경)집계표'!D12 -> 11349.5 | H13: ='(변경)집계표'!B42 -> #REF! | I13: / | J13: ='(변경)집계표'!D42 -> #REF! | K13: ='(변경)집계표'!B72 -> #REF! | L13: / | M13: ='(변경)집계표'!D72 -> #REF! | N13: ='(변경)집계표'!B102 -> #REF! | O13: / | P13: ='(변경)집계표'!D102 -> #REF! | Q13: ='(변경)집계표'!B132 -> #REF! | R13: / | S13: ='(변경)집계표'!D132 -> #REF! | T13: ='(변경)집계표'!B162 -> 0 | U13: / | V13: ='(변경)집계표'!D162 -> 0 | W13: ='(변경)집계표'!B192 -> 0 | X13: / | Y13: ='(변경)집계표'!D192 -> 0 | Z13: ='(변경)집계표'!B222 -> 0 | AA13: / | AB13: ='(변경)집계표'!D222 -> 0 | AC13: ='(변경)집계표'!B252 -> 0 | AD13: / | AE13: ='(변경)집계표'!D252 -> 0 | AF13: ='(변경)집계표'!B282 -> 0 | AG13: / | AH13: ='(변경)집계표'!D282 -> 0
A14: 하천 | B14: =SUM(E14,H14,K14,N14,Q14,T14,W14,Z14,AC14,AF14) -> #REF! | C14: / | D14: =SUM(G14,J14,M14,P14,S14,V14,Y14,AB14,AE14,AH14) -> #REF! | E14: ='(변경)집계표'!B13 -> 1 | F14: / | G14: ='(변경)집계표'!D13 -> 597.9 | H14: ='(변경)집계표'!B43 -> #REF! | I14: / | J14: ='(변경)집계표'!D43 -> #REF! | K14: ='(변경)집계표'!B73 -> #REF! | L14: / | M14: ='(변경)집계표'!D73 -> #REF! | N14: ='(변경)집계표'!B103 -> #REF! | O14: / | P14: ='(변경)집계표'!D103 -> #REF! | Q14: ='(변경)집계표'!B133 -> #REF! | R14: / | S14: ='(변경)집계표'!D133 -> #REF! | T14: ='(변경)집계표'!B163 -> 0 | U14: / | V14: ='(변경)집계표'!D163 -> 0 | W14: ='(변경)집계표'!B193 -> 0 | X14: / | Y14: ='(변경)집계표'!D193 -> 0 | Z14: ='(변경)집계표'!B223 -> 0 | AA14: / | AB14: ='(변경)집계표'!D223 -> 0 | AC14: ='(변경)집계표'!B253 -> 0 | AD14: / | AE14: ='(변경)집계표'!D253 -> 0 | AF14: ='(변경)집계표'!B283 -> 0 | AG14: / | AH14: ='(변경)집계표'!D283 -> 0
A15: 유지 | B15: =SUM(E15,H15,K15,N15,Q15,T15,W15,Z15,AC15,AF15) -> #REF! | C15: / | D15: =SUM(G15,J15,M15,P15,S15,V15,Y15,AB15,AE15,AH15) -> #REF! | E15: ='(변경)집계표'!B14 -> 8 | F15: / | G15: ='(변경)집계표'!D14 -> 2406 | H15: ='(변경)집계표'!B44 -> #REF! | I15: / | J15: ='(변경)집계표'!D44 -> #REF! | K15: ='(변경)집계표'!B74 -> #REF! | L15: / | M15: ='(변경)집계표'!D74 -> #REF! | N15: ='(변경)집계표'!B104 -> #REF! | O15: / | P15: ='(변경)집계표'!D104 -> #REF! | Q15: ='(변경)집계표'!B134 -> #REF! | R15: / | S15: ='(변경)집계표'!D134 -> #REF! | T15: ='(변경)집계표'!B164 -> 0 | U15: / | V15: ='(변경)집계표'!D164 -> 0 | W15: ='(변경)집계표'!B194 -> 0 | X15: / | Y15: ='(변경)집계표'!D194 -> 0 | Z15: ='(변경)집계표'!B224 -> 0 | AA15: / | AB15: ='(변경)집계표'!D224 -> 0 | AC15: ='(변경)집계표'!B254 -> 0 | AD15: / | AE15: ='(변경)집계표'!D254 -> 0 | AF15: ='(변경)집계표'!B284 -> 0 | AG15: / | AH15: ='(변경)집계표'!D284 -> 0
A16: 제방 | B16: =SUM(E16,H16,K16,N16,Q16,T16,W16,Z16,AC16,AF16) -> #REF! | C16: / | D16: =SUM(G16,J16,M16,P16,S16,V16,Y16,AB16,AE16,AH16) -> #REF! | E16: ='(변경)집계표'!B15 -> 2 | F16: / | G16: ='(변경)집계표'!D15 -> 117 | H16: ='(변경)집계표'!B45 -> #REF! | I16: / | J16: ='(변경)집계표'!D45 -> #REF! | K16: ='(변경)집계표'!B75 -> #REF! | L16: / | M16: ='(변경)집계표'!D75 -> #REF! | N16: ='(변경)집계표'!B105 -> #REF! | O16: / | P16: ='(변경)집계표'!D105 -> #REF! | Q16: ='(변경)집계표'!B135 -> #REF! | R16: / | S16: ='(변경)집계표'!D135 -> #REF! | T16: ='(변경)집계표'!B165 -> 0 | U16: / | V16: ='(변경)집계표'!D165 -> 0 | W16: ='(변경)집계표'!B195 -> 0 | X16: / | Y16: ='(변경)집계표'!D195 -> 0 | Z16: ='(변경)집계표'!B225 -> 0 | AA16: / | AB16: ='(변경)집계표'!D225 -> 0 | AC16: ='(변경)집계표'!B255 -> 0 | AD16: / | AE16: ='(변경)집계표'!D255 -> 0 | AF16: ='(변경)집계표'!B285 -> 0 | AG16: / | AH16: ='(변경)집계표'!D285 -> 0
A17: 과수원 | B17: =SUM(E17,H17,K17,N17,Q17,T17,W17,Z17,AC17,AF17) -> #REF! | C17: / | D17: =SUM(G17,J17,M17,P17,S17,V17,Y17,AB17,AE17,AH17) -> #REF! | E17: ='(변경)집계표'!B16 -> 0 | F17: / | G17: ='(변경)집계표'!D16 -> 0 | H17: ='(변경)집계표'!B46 -> #REF! | I17: / | J17: ='(변경)집계표'!D46 -> #REF! | K17: ='(변경)집계표'!B76 -> #REF! | L17: / | M17: ='(변경)집계표'!D76 -> #REF! | N17: ='(변경)집계표'!B106 -> #REF! | O17: / | P17: ='(변경)집계표'!D106 -> #REF! | Q17: ='(변경)집계표'!B136 -> #REF! | R17: / | S17: ='(변경)집계표'!D136 -> #REF! | T17: ='(변경)집계표'!B166 -> 0 | U17: / | V17: ='(변경)집계표'!D166 -> 0 | W17: ='(변경)집계표'!B196 -> 0 | X17: / | Y17: ='(변경)집계표'!D196 -> 0 | Z17: ='(변경)집계표'!B226 -> 0 | AA17: / | AB17: ='(변경)집계표'!D226 -> 0 | AC17: ='(변경)집계표'!B256 -> 0 | AD17: / | AE17: ='(변경)집계표'!D256 -> 0 | AF17: ='(변경)집계표'!B286 -> 0 | AG17: / | AH17: ='(변경)집계표'!D286 -> 0
A18: 공장 | B18: =SUM(E18,H18,K18,N18,Q18,T18,W18,Z18,AC18,AF18) -> #REF! | C18: / | D18: =SUM(G18,J18,M18,P18,S18,V18,Y18,AB18,AE18,AH18) -> #REF! | E18: ='(변경)집계표'!B17 -> 0 | F18: / | G18: ='(변경)집계표'!D17 -> 0 | H18: ='(변경)집계표'!B47 -> #REF! | I18: / | J18: ='(변경)집계표'!D47 -> #REF! | K18: ='(변경)집계표'!B77 -> #REF! | L18: / | M18: ='(변경)집계표'!D77 -> #REF! | N18: ='(변경)집계표'!B107 -> #REF! | O18: / | P18: ='(변경)집계표'!D107 -> #REF! | Q18: ='(변경)집계표'!B137 -> #REF! | R18: / | S18: ='(변경)집계표'!D137 -> #REF! | T18: ='(변경)집계표'!B167 -> 0 | U18: / | V18: ='(변경)집계표'!D167 -> 0 | W18: ='(변경)집계표'!B197 -> 0 | X18: / | Y18: ='(변경)집계표'!D197 -> 0 | Z18: ='(변경)집계표'!B227 -> 0 | AA18: / | AB18: ='(변경)집계표'!D227 -> 0 | AC18: ='(변경)집계표'!B257 -> 0 | AD18: / | AE18: ='(변경)집계표'!D257 -> 0 | AF18: ='(변경)집계표'!B287 -> 0 | AG18: / | AH18: ='(변경)집계표'!D287 -> 0
A19: 목장 | B19: =SUM(E19,H19,K19,N19,Q19,T19,W19,Z19,AC19,AF19) -> #REF! | C19: / | D19: =SUM(G19,J19,M19,P19,S19,V19,Y19,AB19,AE19,AH19) -> #REF! | E19: ='(변경)집계표'!B18 -> 0 | F19: / | G19: ='(변경)집계표'!D18 -> 0 | H19: ='(변경)집계표'!B48 -> #REF! | I19: / | J19: ='(변경)집계표'!D48 -> #REF! | K19: ='(변경)집계표'!B78 -> #REF! | L19: / | M19: ='(변경)집계표'!D78 -> #REF! | N19: ='(변경)집계표'!B108 -> #REF! | O19: / | P19: ='(변경)집계표'!D108 -> #REF! | Q19: ='(변경)집계표'!B138 -> #REF! | R19: / | S19: ='(변경)집계표'!D138 -> #REF! | T19: ='(변경)집계표'!B168 -> 0 | U19: / | V19: ='(변경)집계표'!D168 -> 0 | W19: ='(변경)집계표'!B198 -> 0 | X19: / | Y19: ='(변경)집계표'!D198 -> 0 | Z19: ='(변경)집계표'!B228 -> 0 | AA19: / | AB19: ='(변경)집계표'!D228 -> 0 | AC19: ='(변경)집계표'!B258 -> 0 | AD19: / | AE19: ='(변경)집계표'!D258 -> 0 | AF19: ='(변경)집계표'!B288 -> 0 | AG19: / | AH19: ='(변경)집계표'!D288 -> 0
... A32: 미지번 | B32: =SUM(E32,H32,K32,N32,Q32,T32,W32,Z32,AC32,AF32) -> #REF! | C32: / | D32: =SUM(G32,J32,M32,P32,S32,V32,Y32,AB32,AE32,AH32) -> #REF! | E32: ='(변경)집계표'!B31 -> 5 | F32: / | G32: ='(변경)집계표'!D31 -> 1510 | H32: ='(변경)집계표'!B61 -> #REF! | I32: / | J32: ='(변경)집계표'!D61 -> #REF! | K32: ='(변경)집계표'!B91 -> #REF! | L32: / | M32: ='(변경)집계표'!D91 -> #REF! | N32: ='(변경)집계표'!B121 -> #REF! | O32: / | P32: ='(변경)집계표'!D121 -> #REF! | Q32: ='(변경)집계표'!B151 -> #REF! | R32: / | S32: ='(변경)집계표'!D151 -> #REF! | T32: ='(변경)집계표'!B181 -> 0 | U32: / | V32: ='(변경)집계표'!D181 -> 0 | W32: ='(변경)집계표'!B211 -> 0 | X32: / | Y32: ='(변경)집계표'!D211 -> 0 | Z32: ='(변경)집계표'!B241 -> 0 | AA32: / | AB32: ='(변경)집계표'!D241 -> 0 | AC32: ='(변경)집계표'!B271 -> 0 | AD32: / | AE32: ='(변경)집계표'!D271 -> 0 | AF32: ='(변경)집계표'!B301 -> 0 | AG32: / | AH32: ='(변경)집계표'!D301 -> 0
A33: 국유지 편입용지 집계표
B35: 계 | E35: 서 산 시 | AI35: 비 고
E36: 부 석 면
A37: 구분 | E37: 대두리 | H37: 봉락리 | K37: 칠전리 | N37: 마룡리 | Q37: 창 리 | T37: 6 | W37: 7 | Z37: 8 | AC37: 9 | AF37: 10
B38: 필지 | C38: / | D38: 면적(㎡) | E38: 필지 | F38: / | G38: 면적(㎡) | H38: 필지 | I38: / | J38: 면적(㎡) | K38: 필지 | L38: / | M38: 면적(㎡) | N38: 필지 | O38: / | P38: 면적(㎡) | Q38: 필지 | R38: / | S38: 면적(㎡) | T38: 필지 | U38: / | V38: 면적(㎡) | W38: 필지 | X38: / | Y38: 면적(㎡) | Z38: 필지 | AA38: / | AB38: 면적(㎡) | AC38: 필지 | AD38: / | AE38: 면적(㎡) | AF38: 필지 | AG38: / | AH38: 면적(㎡)
A39: 계 | B39: =SUM(B40:B64) -> #REF! | C39: / | D39: =SUM(D40:D64) -> #REF! | E39: =SUM(E40:E64) -> #REF! | F39: / | G39: =SUM(G40:G64) -> #REF! | H39: =SUM(H40:H64) -> #REF! | I39: / | J39: =SUM(J40:J64) -> #REF! | K39: =SUM(K40:K64) -> #REF! | L39: / | M39: =SUM(M40:M64) -> #REF! | N39: =SUM(N40:N64) -> #REF! | O39: / | P39: =SUM(P40:P64) -> #REF! | Q39: =SUM(Q40:Q64) -> #REF! | R39: / | S39: =SUM(S40:S64) -> #REF! | T39: =SUM(T40:T64) -> 0 | U39: / | V39: =SUM(V40:V64) -> 0 | W39: =SUM(W40:W64) -> 0 | X39: / | Y39: =SUM(Y40:Y64) -> 0 | Z39: =SUM(Z40:Z64) -> 0 | AA39: / | AB39: =SUM(AB40:AB64) -> 0 | AC39: =SUM(AC40:AC64) -> 0 | AD39: / | AE39: =SUM(AE40:AE64) -> 0 | AF39: =SUM(AF40:AF64) -> 0 | AG39: / | AH39: =SUM(AH40:AH64) -> 0
A40: 전 | B40: =SUM(E40,H40,K40,N40,Q40,T40,W40,Z40,AC40,AF40) -> #REF! | C40: / | D40: =SUM(G40,J40,M40,P40,S40,V40,Y40,AB40,AE40,AH40) -> #REF! | E40: ='(변경)집계표'!E7 -> #REF! | F40: / | G40: ='(변경)집계표'!G7 -> #REF! | H40: ='(변경)집계표'!E37 -> #REF! | I40: / | J40: ='(변경)집계표'!G37 -> #REF! | K40: ='(변경)집계표'!E67 -> #REF! | L40: / | M40: ='(변경)집계표'!G67 -> #REF! | N40: ='(변경)집계표'!E97 -> #REF! | O40: / | P40: ='(변경)집계표'!G97 -> #REF! | Q40: ='(변경)집계표'!E127 -> #REF! | R40: / | S40: ='(변경)집계표'!G127 -> #REF! | T40: ='(변경)집계표'!E157 -> 0 | U40: / | V40: ='(변경)집계표'!G157 -> 0 | W40: ='(변경)집계표'!E187 -> 0 | X40: / | Y40: ='(변경)집계표'!G187 -> 0 | Z40: ='(변경)집계표'!E217 -> 0 | AA40: / | AB40: ='(변경)집계표'!G217 -> 0 | AC40: ='(변경)집계표'!E247 -> 0 | AD40: / | AE40: ='(변경)집계표'!G247 -> 0 | AF40: ='(변경)집계표'!E277 -> 0 | AG40: / | AH40: ='(변경)집계표'!G277 -> 0
A41: 답 | B41: =SUM(E41,H41,K41,N41,Q41,T41,W41,Z41,AC41,AF41) -> #REF! | C41: / | D41: =SUM(G41,J41,M41,P41,S41,V41,Y41,AB41,AE41,AH41) -> #REF! | E41: ='(변경)집계표'!E8 -> #REF! | F41: / | G41: ='(변경)집계표'!G8 -> #REF! | H41: ='(변경)집계표'!E38 -> #REF! | I41: / | J41: ='(변경)집계표'!G38 -> #REF! | K41: ='(변경)집계표'!E68 -> #REF! | L41: / | M41: ='(변경)집계표'!G68 -> #REF! | N41: ='(변경)집계표'!E98 -> #REF! | O41: / | P41: ='(변경)집계표'!G98 -> #REF! | Q41: ='(변경)집계표'!E128 -> #REF! | R41: / | S41: ='(변경)집계표'!G128 -> #REF! | T41: ='(변경)집계표'!E158 -> 0 | U41: / | V41: ='(변경)집계표'!G158 -> 0 | W41: ='(변경)집계표'!E188 -> 0 | X41: / | Y41: ='(변경)집계표'!G188 -> 0 | Z41: ='(변경)집계표'!E218 -> 0 | AA41: / | AB41: ='(변경)집계표'!G218 -> 0 | AC41: ='(변경)집계표'!E248 -> 0 | AD41: / | AE41: ='(변경)집계표'!G248 -> 0 | AF41: ='(변경)집계표'!E278 -> 0 | AG41: / | AH41: ='(변경)집계표'!G278 -> 0
A42: 임야 | B42: =SUM(E42,H42,K42,N42,Q42,T42,W42,Z42,AC42,AF42) -> #REF! | C42: / | D42: =SUM(G42,J42,M42,P42,S42,V42,Y42,AB42,AE42,AH42) -> #REF! | E42: ='(변경)집계표'!E9 -> #REF! | F42: / | G42: ='(변경)집계표'!G9 -> #REF! | H42: ='(변경)집계표'!E39 -> #REF! | I42: / | J42: ='(변경)집계표'!G39 -> #REF! | K42: ='(변경)집계표'!E69 -> #REF! | L42: / | M42: ='(변경)집계표'!G69 -> #REF! | N42: ='(변경)집계표'!E99 -> #REF! | O42: / | P42: ='(변경)집계표'!G99 -> #REF! | Q42: ='(변경)집계표'!E129 -> #REF! | R42: / | S42: ='(변경)집계표'!G129 -> #REF! | T42: ='(변경)집계표'!E159 -> 0 | U42: / | V42: ='(변경)집계표'!G159 -> 0 | W42: ='(변경)집계표'!E189 -> 0 | X42: / | Y42: ='(변경)집계표'!G189 -> 0 | Z42: ='(변경)집계표'!E219 -> 0 | AA42: / | AB42: ='(변경)집계표'!G219 -> 0 | AC42: ='(변경)집계표'!E249 -> 0 | AD42: / | AE42: ='(변경)집계표'!G249 -> 0 | AF42: ='(변경)집계표'!E279 -> 0 | AG42: / | AH42: ='(변경)집계표'!G279 -> 0
A43: 대지 | B43: =SUM(E43,H43,K43,N43,Q43,T43,W43,Z43,AC43,AF43) -> #REF! | C43: / | D43: =SUM(G43,J43,M43,P43,S43,V43,Y43,AB43,AE43,AH43) -> #REF! | E43: ='(변경)집계표'!E10 -> #REF! | F43: / | G43: ='(변경)집계표'!G10 -> #REF! | H43: ='(변경)집계표'!E40 -> #REF! | I43: / | J43: ='(변경)집계표'!G40 -> #REF! | K43: ='(변경)집계표'!E70 -> #REF! | L43: / | M43: ='(변경)집계표'!G70 -> #REF! | N43: ='(변경)집계표'!E100 -> #REF! | O43: / | P43: ='(변경)집계표'!G100 -> #REF! | Q43: ='(변경)집계표'!E130 -> #REF! | R43: / | S43: ='(변경)집계표'!G130 -> #REF! | T43: ='(변경)집계표'!E160 -> 0 | U43: / | V43: ='(변경)집계표'!G160 -> 0 | W43: ='(변경)집계표'!E190 -> 0 | X43: / | Y43: ='(변경)집계표'!G190 -> 0 | Z43: ='(변경)집계표'!E220 -> 0 | AA43: / | AB43: ='(변경)집계표'!G220 -> 0 | AC43: ='(변경)집계표'!E250 -> 0 | AD43: / | AE43: ='(변경)집계표'!G250 -> 0 | AF43: ='(변경)집계표'!E280 -> 0 | AG43: / | AH43: ='(변경)집계표'!G280 -> 0
A44: 도로 | B44: =SUM(E44,H44,K44,N44,Q44,T44,W44,Z44,AC44,AF44) -> #REF! | C44: / | D44: =SUM(G44,J44,M44,P44,S44,V44,Y44,AB44,AE44,AH44) -> #REF! | E44: ='(변경)집계표'!E11 -> #REF! | F44: / | G44: ='(변경)집계표'!G11 -> #REF! | H44: ='(변경)집계표'!E41 -> #REF! | I44: / | J44: ='(변경)집계표'!G41 -> #REF! | K44: ='(변경)집계표'!E71 -> #REF! | L44: / | M44: ='(변경)집계표'!G71 -> #REF! | N44: ='(변경)집계표'!E101 -> #REF! | O44: / | P44: ='(변경)집계표'!G101 -> #REF! | Q44: ='(변경)집계표'!E131 -> #REF! | R44: / | S44: ='(변경)집계표'!G131 -> #REF! | T44: ='(변경)집계표'!E161 -> 0 | U44: / | V44: ='(변경)집계표'!G161 -> 0 | W44: ='(변경)집계표'!E191 -> 0 | X44: / | Y44: ='(변경)집계표'!G191 -> 0 | Z44: ='(변경)집계표'!E221 -> 0 | AA44: / | AB44: ='(변경)집계표'!G221 -> 0 | AC44: ='(변경)집계표'!E251 -> 0 | AD44: / | AE44: ='(변경)집계표'!G251 -> 0 | AF44: ='(변경)집계표'!E281 -> 0 | AG44: / | AH44: ='(변경)집계표'!G281 -> 0
A45: 구거 | B45: =SUM(E45,H45,K45,N45,Q45,T45,W45,Z45,AC45,AF45) -> #REF! | C45: / | D45: =SUM(G45,J45,M45,P45,S45,V45,Y45,AB45,AE45,AH45) -> #REF! | E45: ='(변경)집계표'!E12 -> #REF! | F45: / | G45: ='(변경)집계표'!G12 -> #REF! | H45: ='(변경)집계표'!E42 -> #REF! | I45: / | J45: ='(변경)집계표'!G42 -> #REF! | K45: ='(변경)집계표'!E72 -> #REF! | L45: / | M45: ='(변경)집계표'!G72 -> #REF! | N45: ='(변경)집계표'!E102 -> #REF! | O45: / | P45: ='(변경)집계표'!G102 -> #REF! | Q45: ='(변경)집계표'!E132 -> #REF! | R45: / | S45: ='(변경)집계표'!G132 -> #REF! | T45: ='(변경)집계표'!E162 -> 0 | U45: / | V45: ='(변경)집계표'!G162 -> 0 | W45: ='(변경)집계표'!E192 -> 0 | X45: / | Y45: ='(변경)집계표'!G192 -> 0 | Z45: ='(변경)집계표'!E222 -> 0 | AA45: / | AB45: ='(변경)집계표'!G222 -> 0 | AC45: ='(변경)집계표'!E252 -> 0 | AD45: / | AE45: ='(변경)집계표'!G252 -> 0 | AF45: ='(변경)집계표'!E282 -> 0 | AG45: / | AH45: ='(변경)집계표'!G282 -> 0
A46: 하천 | B46: =SUM(E46,H46,K46,N46,Q46,T46,W46,Z46,AC46,AF46) -> #REF! | C46: / | D46: =SUM(G46,J46,M46,P46,S46,V46,Y46,AB46,AE46,AH46) -> #REF! | E46: ='(변경)집계표'!E13 -> #REF! | F46: / | G46: ='(변경)집계표'!G13 -> #REF! | H46: ='(변경)집계표'!E43 -> #REF! | I46: / | J46: ='(변경)집계표'!G43 -> #REF! | K46: ='(변경)집계표'!E73 -> #REF! | L46: / | M46: ='(변경)집계표'!G73 -> #REF! | N46: ='(변경)집계표'!E103 -> #REF! | O46: / | P46: ='(변경)집계표'!G103 -> #REF! | Q46: ='(변경)집계표'!E133 -> #REF! | R46: / | S46: ='(변경)집계표'!G133 -> #REF! | T46: ='(변경)집계표'!E163 -> 0 | U46: / | V46: ='(변경)집계표'!G163 -> 0 | W46: ='(변경)집계표'!E193 -> 0 | X46: / | Y46: ='(변경)집계표'!G193 -> 0 | Z46: ='(변경)집계표'!E223 -> 0 | AA46: / | AB46: ='(변경)집계표'!G223 -> 0 | AC46: ='(변경)집계표'!E253 -> 0 | AD46: / | AE46: ='(변경)집계표'!G253 -> 0 | AF46: ='(변경)집계표'!E283 -> 0 | AG46: / | AH46: ='(변경)집계표'!G283 -> 0
A47: 유지 | B47: =SUM(E47,H47,K47,N47,Q47,T47,W47,Z47,AC47,AF47) -> #REF! | C47: / | D47: =SUM(G47,J47,M47,P47,S47,V47,Y47,AB47,AE47,AH47) -> #REF! | E47: ='(변경)집계표'!E14 -> #REF! | F47: / | G47: ='(변경)집계표'!G14 -> #REF! | H47: ='(변경)집계표'!E44 -> #REF! | I47: / | J47: ='(변경)집계표'!G44 -> #REF! | K47: ='(변경)집계표'!E74 -> #REF! | L47: / | M47: ='(변경)집계표'!G74 -> #REF! | N47: ='(변경)집계표'!E104 -> #REF! | O47: / | P47: ='(변경)집계표'!G104 -> #REF! | Q47: ='(변경)집계표'!E134 -> #REF! | R47: / | S47: ='(변경)집계표'!G134 -> #REF! | T47: ='(변경)집계표'!E164 -> 0 | U47: / | V47: ='(변경)집계표'!G164 -> 0 | W47: ='(변경)집계표'!E194 -> 0 | X47: / | Y47: ='(변경)집계표'!G194 -> 0 | Z47: ='(변경)집계표'!E224 -> 0 | AA47: / | AB47: ='(변경)집계표'!G224 -> 0 | AC47: ='(변경)집계표'!E254 -> 0 | AD47: / | AE47: ='(변경)집계표'!G254 -> 0 | AF47: ='(변경)집계표'!E284 -> 0 | AG47: / | AH47: ='(변경)집계표'!G284 -> 0
A48: 제방 | B48: =SUM(E48,H48,K48,N48,Q48,T48,W48,Z48,AC48,AF48) -> #REF! | C48: / | D48: =SUM(G48,J48,M48,P48,S48,V48,Y48,AB48,AE48,AH48) -> #REF! | E48: ='(변경)집계표'!E15 -> #REF! | F48: / | G48: ='(변경)집계표'!G15 -> #REF! | H48: ='(변경)집계표'!E45 -> #REF! | I48: / | J48: ='(변경)집계표'!G45 -> #REF! | K48: ='(변경)집계표'!E75 -> #REF! | L48: / | M48: ='(변경)집계표'!G75 -> #REF! | N48: ='(변경)집계표'!E105 -> #REF! | O48: / | P48: ='(변경)집계표'!G105 -> #REF! | Q48: ='(변경)집계표'!E135 -> #REF! | R48: / | S48: ='(변경)집계표'!G135 -> #REF! | T48: ='(변경)집계표'!E165 -> 0 | U48: / | V48: ='(변경)집계표'!G165 -> 0 | W48: ='(변경)집계표'!E195 -> 0 | X48: / | Y48: ='(변경)집계표'!G195 -> 0 | Z48: ='(변경)집계표'!E225 -> 0 | AA48: / | AB48: ='(변경)집계표'!G225 -> 0 | AC48: ='(변경)집계표'!E255 -> 0 | AD48: / | AE48: ='(변경)집계표'!G255 -> 0 | AF48: ='(변경)집계표'!E285 -> 0 | AG48: / | AH48: ='(변경)집계표'!G285 -> 0
A49: 과수원 | B49: =SUM(E49,H49,K49,N49,Q49,T49,W49,Z49,AC49,AF49) -> #REF! | C49: / | D49: =SUM(G49,J49,M49,P49,S49,V49,Y49,AB49,AE49,AH49) -> #REF! | E49: ='(변경)집계표'!E16 -> #REF! | F49: / | G49: ='(변경)집계표'!G16 -> #REF! | H49: ='(변경)집계표'!E46 -> #REF! | I49: / | J49: ='(변경)집계표'!G46 -> #REF! | K49: ='(변경)집계표'!E76 -> #REF! | L49: / | M49: ='(변경)집계표'!G76 -> #REF! | N49: ='(변경)집계표'!E106 -> #REF! | O49: / | P49: ='(변경)집계표'!G106 -> #REF! | Q49: ='(변경)집계표'!E136 -> #REF! | R49: / | S49: ='(변경)집계표'!G136 -> #REF! | T49: ='(변경)집계표'!E166 -> 0 | U49: / | V49: ='(변경)집계표'!G166 -> 0 | W49: ='(변경)집계표'!E196 -> 0 | X49: / | Y49: ='(변경)집계표'!G196 -> 0 | Z49: ='(변경)집계표'!E226 -> 0 | AA49: / | AB49: ='(변경)집계표'!G226 -> 0 | AC49: ='(변경)집계표'!E256 -> 0 | AD49: / | AE49: ='(변경)집계표'!G256 -> 0 | AF49: ='(변경)집계표'!E286 -> 0 | AG49: / | AH49: ='(변경)집계표'!G286 -> 0
A50: 공장 | B50: =SUM(E50,H50,K50,N50,Q50,T50,W50,Z50,AC50,AF50) -> #REF! | C50: / | D50: =SUM(G50,J50,M50,P50,S50,V50,Y50,AB50,AE50,AH50) -> #REF! | E50: ='(변경)집계표'!E17 -> #REF! | F50: / | G50: ='(변경)집계표'!G17 -> #REF! | H50: ='(변경)집계표'!E47 -> #REF! | I50: / | J50: ='(변경)집계표'!G47 -> #REF! | K50: ='(변경)집계표'!E77 -> #REF! | L50: / | M50: ='(변경)집계표'!G77 -> #REF! | N50: ='(변경)집계표'!E107 -> #REF! | O50: / | P50: ='(변경)집계표'!G107 -> #REF! | Q50: ='(변경)집계표'!E137 -> #REF! | R50: / | S50: ='(변경)집계표'!G137 -> #REF! | T50: ='(변경)집계표'!E167 -> 0 | U50: / | V50: ='(변경)집계표'!G167 -> 0 | W50: ='(변경)집계표'!E197 -> 0 | X50: / | Y50: ='(변경)집계표'!G197 -> 0 | Z50: ='(변경)집계표'!E227 -> 0 | AA50: / | AB50: ='(변경)집계표'!G227 -> 0 | AC50: ='(변경)집계표'!E257 -> 0 | AD50: / | AE50: ='(변경)집계표'!G257 -> 0 | AF50: ='(변경)집계표'!E287 -> 0 | AG50: / | AH50: ='(변경)집계표'!G287 -> 0
A51: 목장 | B51: =SUM(E51,H51,K51,N51,Q51,T51,W51,Z51,AC51,AF51) -> #REF! | C51: / | D51: =SUM(G51,J51,M51,P51,S51,V51,Y51,AB51,AE51,AH51) -> #REF! | E51: ='(변경)집계표'!E18 -> #REF! | F51: / | G51: ='(변경)집계표'!G18 -> #REF! | H51: ='(변경)집계표'!E48 -> #REF! | I51: / | J51: ='(변경)집계표'!G48 -> #REF! | K51: ='(변경)집계표'!E78 -> #REF! | L51: / | M51: ='(변경)집계표'!G78 -> #REF! | N51: ='(변경)집계표'!E108 -> #REF! | O51: / | P51: ='(변경)집계표'!G108 -> #REF! | Q51: ='(변경)집계표'!E138 -> #REF! | R51: / | S51: ='(변경)집계표'!G138 -> #REF! | T51: ='(변경)집계표'!E168 -> 0 | U51: / | V51: ='(변경)집계표'!G168 -> 0 | W51: ='(변경)집계표'!E198 -> 0 | X51: / | Y51: ='(변경)집계표'!G198 -> 0 | Z51: ='(변경)집계표'!E228 -> 0 | AA51: / | AB51: ='(변경)집계표'!G228 -> 0 | AC51: ='(변경)집계표'!E258 -> 0 | AD51: / | AE51: ='(변경)집계표'!G258 -> 0 | AF51: ='(변경)집계표'!E288 -> 0 | AG51: / | AH51: ='(변경)집계표'!G288 -> 0
... A64: 미지번 | B64: =SUM(E64,H64,K64,N64,Q64,T64,W64,Z64,AC64,AF64) -> #REF! | C64: / | D64: =SUM(G64,J64,M64,P64,S64,V64,Y64,AB64,AE64,AH64) -> #REF! | E64: ='(변경)집계표'!E31 -> #REF! | F64: / | G64: ='(변경)집계표'!G31 -> #REF! | H64: ='(변경)집계표'!E61 -> #REF! | I64: / | J64: ='(변경)집계표'!G61 -> #REF! | K64: ='(변경)집계표'!E91 -> #REF! | L64: / | M64: ='(변경)집계표'!G91 -> #REF! | N64: ='(변경)집계표'!E121 -> #REF! | O64: / | P64: ='(변경)집계표'!G121 -> #REF! | Q64: ='(변경)집계표'!E151 -> #REF! | R64: / | S64: ='(변경)집계표'!G151 -> #REF! | T64: ='(변경)집계표'!E181 -> 0 | U64: / | V64: ='(변경)집계표'!G181 -> 0 | W64: ='(변경)집계표'!E211 -> 0 | X64: / | Y64: ='(변경)집계표'!G211 -> 0 | Z64: ='(변경)집계표'!E241 -> 0 | AA64: / | AB64: ='(변경)집계표'!G241 -> 0 | AC64: ='(변경)집계표'!E271 -> 0 | AD64: / | AE64: ='(변경)집계표'!G271 -> 0 | AF64: ='(변경)집계표'!E301 -> 0 | AG64: / | AH64: ='(변경)집계표'!G301 -> 0
A65: 사유지 편입용지 집계표
B67: 계 | E67: 서 산 시 | AI67: 비 고
E68: 부 석 면
A69: 구분 | E69: 대두리 | H69: 봉락리 | K69: 칠전리 | N69: 마룡리 | Q69: 창 리 | T69: 6 | W69: 7 | Z69: 8 | AC69: 9 | AF69: 10
B70: 필지 | C70: / | D70: 면적(㎡) | E70: 필지 | F70: / | G70: 면적(㎡) | H70: 필지 | I70: / | J70: 면적(㎡) | K70: 필지 | L70: / | M70: 면적(㎡) | N70: 필지 | O70: / | P70: 면적(㎡) | Q70: 필지 | R70: / | S70: 면적(㎡) | T70: 필지 | U70: / | V70: 면적(㎡) | W70: 필지 | X70: / | Y70: 면적(㎡) | Z70: 필지 | AA70: / | AB70: 면적(㎡) | AC70: 필지 | AD70: / | AE70: 면적(㎡) | AF70: 필지 | AG70: / | AH70: 면적(㎡)
A71: 계 | B71: =SUM(B72:B96) -> #REF! | C71: / | D71: =SUM(D72:D96) -> #REF! | E71: =SUM(E72:E96) -> #REF! | F71: / | G71: =SUM(G72:G96) -> #REF! | H71: =SUM(H72:H96) -> #REF! | I71: / | J71: =SUM(J72:J96) -> #REF! | K71: =SUM(K72:K96) -> #REF! | L71: / | M71: =SUM(M72:M96) -> #REF! | N71: =SUM(N72:N96) -> #REF! | O71: / | P71: =SUM(P72:P96) -> #REF! | Q71: =SUM(Q72:Q96) -> #REF! | R71: / | S71: =SUM(S72:S96) -> #REF! | T71: =SUM(T72:T96) -> 0 | U71: / | V71: =SUM(V72:V96) -> 0 | W71: =SUM(W72:W96) -> 0 | X71: / | Y71: =SUM(Y72:Y96) -> 0 | Z71: =SUM(Z72:Z96) -> 0 | AA71: / | AB71: =SUM(AB72:AB96) -> 0 | AC71: =SUM(AC72:AC96) -> 0 | AD71: / | AE71: =SUM(AE72:AE96) -> 0 | AF71: =SUM(AF72:AF96) -> 0 | AG71: / | AH71: =SUM(AH72:AH96) -> 0
A72: 전 | B72: =SUM(E72,H72,K72,N72,Q72,T72,W72,Z72,AC72,AF72) -> #REF! | C72: / | D72: =SUM(G72,J72,M72,P72,S72,V72,Y72,AB72,AE72,AH72) -> #REF! | E72: ='(변경)집계표'!K7 -> #REF! | F72: / | G72: ='(변경)집계표'!M7 -> #REF! | H72: ='(변경)집계표'!K37 -> #REF! | I72: / | J72: ='(변경)집계표'!M37 -> #REF! | K72: ='(변경)집계표'!K67 -> #REF! | L72: / | M72: ='(변경)집계표'!M67 -> #REF! | N72: ='(변경)집계표'!K97 -> #REF! | O72: / | P72: ='(변경)집계표'!M97 -> #REF! | Q72: ='(변경)집계표'!K127 -> #REF! | R72: / | S72: ='(변경)집계표'!M127 -> #REF! | T72: ='(변경)집계표'!K157 -> 0 | U72: / | V72: ='(변경)집계표'!M157 -> 0 | W72: ='(변경)집계표'!K187 -> 0 | X72: / | Y72: ='(변경)집계표'!M187 -> 0 | Z72: ='(변경)집계표'!K217 -> 0 | AA72: / | AB72: ='(변경)집계표'!M217 -> 0 | AC72: ='(변경)집계표'!K247 -> 0 | AD72: / | AE72: ='(변경)집계표'!M247 -> 0 | AF72: ='(변경)집계표'!K277 -> 0 | AG72: / | AH72: ='(변경)집계표'!M277 -> 0
A73: 답 | B73: =SUM(E73,H73,K73,N73,Q73,T73,W73,Z73,AC73,AF73) -> #REF! | C73: / | D73: =SUM(G73,J73,M73,P73,S73,V73,Y73,AB73,AE73,AH73) -> #REF! | E73: ='(변경)집계표'!K8 -> #REF! | F73: / | G73: ='(변경)집계표'!M8 -> #REF! | H73: ='(변경)집계표'!K38 -> #REF! | I73: / | J73: ='(변경)집계표'!M38 -> #REF! | K73: ='(변경)집계표'!K68 -> #REF! | L73: / | M73: ='(변경)집계표'!M68 -> #REF! | N73: ='(변경)집계표'!K98 -> #REF! | O73: / | P73: ='(변경)집계표'!M98 -> #REF! | Q73: ='(변경)집계표'!K128 -> #REF! | R73: / | S73: ='(변경)집계표'!M128 -> #REF! | T73: ='(변경)집계표'!K158 -> 0 | U73: / | V73: ='(변경)집계표'!M158 -> 0 | W73: ='(변경)집계표'!K188 -> 0 | X73: / | Y73: ='(변경)집계표'!M188 -> 0 | Z73: ='(변경)집계표'!K218 -> 0 | AA73: / | AB73: ='(변경)집계표'!M218 -> 0 | AC73: ='(변경)집계표'!K248 -> 0 | AD73: / | AE73: ='(변경)집계표'!M248 -> 0 | AF73: ='(변경)집계표'!K278 -> 0 | AG73: / | AH73: ='(변경)집계표'!M278 -> 0
A74: 임야 | B74: =SUM(E74,H74,K74,N74,Q74,T74,W74,Z74,AC74,AF74) -> #REF! | C74: / | D74: =SUM(G74,J74,M74,P74,S74,V74,Y74,AB74,AE74,AH74) -> #REF! | E74: ='(변경)집계표'!K9 -> #REF! | F74: / | G74: ='(변경)집계표'!M9 -> #REF! | H74: ='(변경)집계표'!K39 -> #REF! | I74: / | J74: ='(변경)집계표'!M39 -> #REF! | K74: ='(변경)집계표'!K69 -> #REF! | L74: / | M74: ='(변경)집계표'!M69 -> #REF! | N74: ='(변경)집계표'!K99 -> #REF! | O74: / | P74: ='(변경)집계표'!M99 -> #REF! | Q74: ='(변경)집계표'!K129 -> #REF! | R74: / | S74: ='(변경)집계표'!M129 -> #REF! | T74: ='(변경)집계표'!K159 -> 0 | U74: / | V74: ='(변경)집계표'!M159 -> 0 | W74: ='(변경)집계표'!K189 -> 0 | X74: / | Y74: ='(변경)집계표'!M189 -> 0 | Z74: ='(변경)집계표'!K219 -> 0 | AA74: / | AB74: ='(변경)집계표'!M219 -> 0 | AC74: ='(변경)집계표'!K249 -> 0 | AD74: / | AE74: ='(변경)집계표'!M249 -> 0 | AF74: ='(변경)집계표'!K279 -> 0 | AG74: / | AH74: ='(변경)집계표'!M279 -> 0
A75: 대지 | B75: =SUM(E75,H75,K75,N75,Q75,T75,W75,Z75,AC75,AF75) -> #REF! | C75: / | D75: =SUM(G75,J75,M75,P75,S75,V75,Y75,AB75,AE75,AH75) -> #REF! | E75: ='(변경)집계표'!K10 -> #REF! | F75: / | G75: ='(변경)집계표'!M10 -> #REF! | H75: ='(변경)집계표'!K40 -> #REF! | I75: / | J75: ='(변경)집계표'!M40 -> #REF! | K75: ='(변경)집계표'!K70 -> #REF! | L75: / | M75: ='(변경)집계표'!M70 -> #REF! | N75: ='(변경)집계표'!K100 -> #REF! | O75: / | P75: ='(변경)집계표'!M100 -> #REF! | Q75: ='(변경)집계표'!K130 -> #REF! | R75: / | S75: ='(변경)집계표'!M130 -> #REF! | T75: ='(변경)집계표'!K160 -> 0 | U75: / | V75: ='(변경)집계표'!M160 -> 0 | W75: ='(변경)집계표'!K190 -> 0 | X75: / | Y75: ='(변경)집계표'!M190 -> 0 | Z75: ='(변경)집계표'!K220 -> 0 | AA75: / | AB75: ='(변경)집계표'!M220 -> 0 | AC75: ='(변경)집계표'!K250 -> 0 | AD75: / | AE75: ='(변경)집계표'!M250 -> 0 | AF75: ='(변경)집계표'!K280 -> 0 | AG75: / | AH75: ='(변경)집계표'!M280 -> 0
A76: 도로 | B76: =SUM(E76,H76,K76,N76,Q76,T76,W76,Z76,AC76,AF76) -> #REF! | C76: / | D76: =SUM(G76,J76,M76,P76,S76,V76,Y76,AB76,AE76,AH76) -> #REF! | E76: ='(변경)집계표'!K11 -> #REF! | F76: / | G76: ='(변경)집계표'!M11 -> #REF! | H76: ='(변경)집계표'!K41 -> #REF! | I76: / | J76: ='(변경)집계표'!M41 -> #REF! | K76: ='(변경)집계표'!K71 -> #REF! | L76: / | M76: ='(변경)집계표'!M71 -> #REF! | N76: ='(변경)집계표'!K101 -> #REF! | O76: / | P76: ='(변경)집계표'!M101 -> #REF! | Q76: ='(변경)집계표'!K131 -> #REF! | R76: / | S76: ='(변경)집계표'!M131 -> #REF! | T76: ='(변경)집계표'!K161 -> 0 | U76: / | V76: ='(변경)집계표'!M161 -> 0 | W76: ='(변경)집계표'!K191 -> 0 | X76: / | Y76: ='(변경)집계표'!M191 -> 0 | Z76: ='(변경)집계표'!K221 -> 0 | AA76: / | AB76: ='(변경)집계표'!M221 -> 0 | AC76: ='(변경)집계표'!K251 -> 0 | AD76: / | AE76: ='(변경)집계표'!M251 -> 0 | AF76: ='(변경)집계표'!K281 -> 0 | AG76: / | AH76: ='(변경)집계표'!M281 -> 0
A77: 구거 | B77: =SUM(E77,H77,K77,N77,Q77,T77,W77,Z77,AC77,AF77) -> #REF! | C77: / | D77: =SUM(G77,J77,M77,P77,S77,V77,Y77,AB77,AE77,AH77) -> #REF! | E77: ='(변경)집계표'!K12 -> #REF! | F77: / | G77: ='(변경)집계표'!M12 -> #REF! | H77: ='(변경)집계표'!K42 -> #REF! | I77: / | J77: ='(변경)집계표'!M42 -> #REF! | K77: ='(변경)집계표'!K72 -> #REF! | L77: / | M77: ='(변경)집계표'!M72 -> #REF! | N77: ='(변경)집계표'!K102 -> #REF! | O77: / | P77: ='(변경)집계표'!M102 -> #REF! | Q77: ='(변경)집계표'!K132 -> #REF! | R77: / | S77: ='(변경)집계표'!M132 -> #REF! | T77: ='(변경)집계표'!K162 -> 0 | U77: / | V77: ='(변경)집계표'!M162 -> 0 | W77: ='(변경)집계표'!K192 -> 0 | X77: / | Y77: ='(변경)집계표'!M192 -> 0 | Z77: ='(변경)집계표'!K222 -> 0 | AA77: / | AB77: ='(변경)집계표'!M222 -> 0 | AC77: ='(변경)집계표'!K252 -> 0 | AD77: / | AE77: ='(변경)집계표'!M252 -> 0 | AF77: ='(변경)집계표'!K282 -> 0 | AG77: / | AH77: ='(변경)집계표'!M282 -> 0
A78: 하천 | B78: =SUM(E78,H78,K78,N78,Q78,T78,W78,Z78,AC78,AF78) -> #REF! | C78: / | D78: =SUM(G78,J78,M78,P78,S78,V78,Y78,AB78,AE78,AH78) -> #REF! | E78: ='(변경)집계표'!K13 -> #REF! | F78: / | G78: ='(변경)집계표'!M13 -> #REF! | H78: ='(변경)집계표'!K43 -> #REF! | I78: / | J78: ='(변경)집계표'!M43 -> #REF! | K78: ='(변경)집계표'!K73 -> #REF! | L78: / | M78: ='(변경)집계표'!M73 -> #REF! | N78: ='(변경)집계표'!K103 -> #REF! | O78: / | P78: ='(변경)집계표'!M103 -> #REF! | Q78: ='(변경)집계표'!K133 -> #REF! | R78: / | S78: ='(변경)집계표'!M133 -> #REF! | T78: ='(변경)집계표'!K163 -> 0 | U78: / | V78: ='(변경)집계표'!M163 -> 0 | W78: ='(변경)집계표'!K193 -> 0 | X78: / | Y78: ='(변경)집계표'!M193 -> 0 | Z78: ='(변경)집계표'!K223 -> 0 | AA78: / | AB78: ='(변경)집계표'!M223 -> 0 | AC78: ='(변경)집계표'!K253 -> 0 | AD78: / | AE78: ='(변경)집계표'!M253 -> 0 | AF78: ='(변경)집계표'!K283 -> 0 | AG78: / | AH78: ='(변경)집계표'!M283 -> 0
A79: 유지 | B79: =SUM(E79,H79,K79,N79,Q79,T79,W79,Z79,AC79,AF79) -> #REF! | C79: / | D79: =SUM(G79,J79,M79,P79,S79,V79,Y79,AB79,AE79,AH79) -> #REF! | E79: ='(변경)집계표'!K14 -> #REF! | F79: / | G79: ='(변경)집계표'!M14 -> #REF! | H79: ='(변경)집계표'!K44 -> #REF! | I79: / | J79: ='(변경)집계표'!M44 -> #REF! | K79: ='(변경)집계표'!K74 -> #REF! | L79: / | M79: ='(변경)집계표'!M74 -> #REF! | N79: ='(변경)집계표'!K104 -> #REF! | O79: / | P79: ='(변경)집계표'!M104 -> #REF! | Q79: ='(변경)집계표'!K134 -> #REF! | R79: / | S79: ='(변경)집계표'!M134 -> #REF! | T79: ='(변경)집계표'!K164 -> 0 | U79: / | V79: ='(변경)집계표'!M164 -> 0 | W79: ='(변경)집계표'!K194 -> 0 | X79: / | Y79: ='(변경)집계표'!M194 -> 0 | Z79: ='(변경)집계표'!K224 -> 0 | AA79: / | AB79: ='(변경)집계표'!M224 -> 0 | AC79: ='(변경)집계표'!K254 -> 0 | AD79: / | AE79: ='(변경)집계표'!M254 -> 0 | AF79: ='(변경)집계표'!K284 -> 0 | AG79: / | AH79: ='(변경)집계표'!M284 -> 0
A80: 제방 | B80: =SUM(E80,H80,K80,N80,Q80,T80,W80,Z80,AC80,AF80) -> #REF! | C80: / | D80: =SUM(G80,J80,M80,P80,S80,V80,Y80,AB80,AE80,AH80) -> #REF! | E80: ='(변경)집계표'!K15 -> #REF! | F80: / | G80: ='(변경)집계표'!M15 -> #REF! | H80: ='(변경)집계표'!K45 -> #REF! | I80: / | J80: ='(변경)집계표'!M45 -> #REF! | K80: ='(변경)집계표'!K75 -> #REF! | L80: / | M80: ='(변경)집계표'!M75 -> #REF! | N80: ='(변경)집계표'!K105 -> #REF! | O80: / | P80: ='(변경)집계표'!M105 -> #REF! | Q80: ='(변경)집계표'!K135 -> #REF! | R80: / | S80: ='(변경)집계표'!M135 -> #REF! | T80: ='(변경)집계표'!K165 -> 0 | U80: / | V80: ='(변경)집계표'!M165 -> 0 | W80: ='(변경)집계표'!K195 -> 0 | X80: / | Y80: ='(변경)집계표'!M195 -> 0 | Z80: ='(변경)집계표'!K225 -> 0 | AA80: / | AB80: ='(변경)집계표'!M225 -> 0 | AC80: ='(변경)집계표'!K255 -> 0 | AD80: / | AE80: ='(변경)집계표'!M255 -> 0 | AF80: ='(변경)집계표'!K285 -> 0 | AG80: / | AH80: ='(변경)집계표'!M285 -> 0
A81: 과수원 | B81: =SUM(E81,H81,K81,N81,Q81,T81,W81,Z81,AC81,AF81) -> #REF! | C81: / | D81: =SUM(G81,J81,M81,P81,S81,V81,Y81,AB81,AE81,AH81) -> #REF! | E81: ='(변경)집계표'!K16 -> #REF! | F81: / | G81: ='(변경)집계표'!M16 -> #REF! | H81: ='(변경)집계표'!K46 -> #REF! | I81: / | J81: ='(변경)집계표'!M46 -> #REF! | K81: ='(변경)집계표'!K76 -> #REF! | L81: / | M81: ='(변경)집계표'!M76 -> #REF! | N81: ='(변경)집계표'!K106 -> #REF! | O81: / | P81: ='(변경)집계표'!M106 -> #REF! | Q81: ='(변경)집계표'!K136 -> #REF! | R81: / | S81: ='(변경)집계표'!M136 -> #REF! | T81: ='(변경)집계표'!K166 -> 0 | U81: / | V81: ='(변경)집계표'!M166 -> 0 | W81: ='(변경)집계표'!K196 -> 0 | X81: / | Y81: ='(변경)집계표'!M196 -> 0 | Z81: ='(변경)집계표'!K226 -> 0 | AA81: / | AB81: ='(변경)집계표'!M226 -> 0 | AC81: ='(변경)집계표'!K256 -> 0 | AD81: / | AE81: ='(변경)집계표'!M256 -> 0 | AF81: ='(변경)집계표'!K286 -> 0 | AG81: / | AH81: ='(변경)집계표'!M286 -> 0
A82: 공장 | B82: =SUM(E82,H82,K82,N82,Q82,T82,W82,Z82,AC82,AF82) -> #REF! | C82: / | D82: =SUM(G82,J82,M82,P82,S82,V82,Y82,AB82,AE82,AH82) -> #REF! | E82: ='(변경)집계표'!K17 -> #REF! | F82: / | G82: ='(변경)집계표'!M17 -> #REF! | H82: ='(변경)집계표'!K47 -> #REF! | I82: / | J82: ='(변경)집계표'!M47 -> #REF! | K82: ='(변경)집계표'!K77 -> #REF! | L82: / | M82: ='(변경)집계표'!M77 -> #REF! | N82: ='(변경)집계표'!K107 -> #REF! | O82: / | P82: ='(변경)집계표'!M107 -> #REF! | Q82: ='(변경)집계표'!K137 -> #REF! | R82: / | S82: ='(변경)집계표'!M137 -> #REF! | T82: ='(변경)집계표'!K167 -> 0 | U82: / | V82: ='(변경)집계표'!M167 -> 0 | W82: ='(변경)집계표'!K197 -> 0 | X82: / | Y82: ='(변경)집계표'!M197 -> 0 | Z82: ='(변경)집계표'!K227 -> 0 | AA82: / | AB82: ='(변경)집계표'!M227 -> 0 | AC82: ='(변경)집계표'!K257 -> 0 | AD82: / | AE82: ='(변경)집계표'!M257 -> 0 | AF82: ='(변경)집계표'!K287 -> 0 | AG82: / | AH82: ='(변경)집계표'!M287 -> 0
A83: 목장 | B83: =SUM(E83,H83,K83,N83,Q83,T83,W83,Z83,AC83,AF83) -> #REF! | C83: / | D83: =SUM(G83,J83,M83,P83,S83,V83,Y83,AB83,AE83,AH83) -> #REF! | E83: ='(변경)집계표'!K18 -> #REF! | F83: / | G83: ='(변경)집계표'!M18 -> #REF! | H83: ='(변경)집계표'!K48 -> #REF! | I83: / | J83: ='(변경)집계표'!M48 -> #REF! | K83: ='(변경)집계표'!K78 -> #REF! | L83: / | M83: ='(변경)집계표'!M78 -> #REF! | N83: ='(변경)집계표'!K108 -> #REF! | O83: / | P83: ='(변경)집계표'!M108 -> #REF! | Q83: ='(변경)집계표'!K138 -> #REF! | R83: / | S83: ='(변경)집계표'!M138 -> #REF! | T83: ='(변경)집계표'!K168 -> 0 | U83: / | V83: ='(변경)집계표'!M168 -> 0 | W83: ='(변경)집계표'!K198 -> 0 | X83: / | Y83: ='(변경)집계표'!M198 -> 0 | Z83: ='(변경)집계표'!K228 -> 0 | AA83: / | AB83: ='(변경)집계표'!M228 -> 0 | AC83: ='(변경)집계표'!K258 -> 0 | AD83: / | AE83: ='(변경)집계표'!M258 -> 0 | AF83: ='(변경)집계표'!K288 -> 0 | AG83: / | AH83: ='(변경)집계표'!M288 -> 0
... A96: 미지번 | B96: =SUM(E96,H96,K96,N96,Q96,T96,W96,Z96,AC96,AF96) -> #REF! | C96: / | D96: =SUM(G96,J96,M96,P96,S96,V96,Y96,AB96,AE96,AH96) -> #REF! | E96: ='(변경)집계표'!K31 -> #REF! | F96: / | G96: ='(변경)집계표'!M31 -> #REF! | H96: ='(변경)집계표'!K61 -> #REF! | I96: / | J96: ='(변경)집계표'!M61 -> #REF! | K96: ='(변경)집계표'!K91 -> #REF! | L96: / | M96: ='(변경)집계표'!M91 -> #REF! | N96: ='(변경)집계표'!K121 -> #REF! | O96: / | P96: ='(변경)집계표'!M121 -> #REF! | Q96: ='(변경)집계표'!K151 -> #REF! | R96: / | S96: ='(변경)집계표'!M151 -> #REF! | T96: ='(변경)집계표'!K181 -> 0 | U96: / | V96: ='(변경)집계표'!M181 -> 0 | W96: ='(변경)집계표'!K211 -> 0 | X96: / | Y96: ='(변경)집계표'!M211 -> 0 | Z96: ='(변경)집계표'!K241 -> 0 | AA96: / | AB96: ='(변경)집계표'!M241 -> 0 | AC96: ='(변경)집계표'!K271 -> 0 | AD96: / | AE96: ='(변경)집계표'!M271 -> 0 | AF96: ='(변경)집계표'!K301 -> 0 | AG96: / | AH96: ='(변경)집계표'!M301 -> 0
A97: 공유지 편입용지 집계표
B99: 계 | E99: 서 산 시 | AI99: 비 고
E100: 부 석 면
A101: 구분 | E101: 대두리 | H101: 봉락리 | K101: 칠전리 | N101: 마룡리 | Q101: 창 리 | T101: 6 | W101: 7 | Z101: 8 | AC101: 9 | AF101: 10
B102: 필지 | C102: / | D102: 면적(㎡) | E102: 필지 | F102: / | G102: 면적(㎡) | H102: 필지 | I102: / | J102: 면적(㎡) | K102: 필지 | L102: / | M102: 면적(㎡) | N102: 필지 | O102: / | P102: 면적(㎡) | Q102: 필지 | R102: / | S102: 면적(㎡) | T102: 필지 | U102: / | V102: 면적(㎡) | W102: 필지 | X102: / | Y102: 면적(㎡) | Z102: 필지 | AA102: / | AB102: 면적(㎡) | AC102: 필지 | AD102: / | AE102: 면적(㎡) | AF102: 필지 | AG102: / | AH102: 면적(㎡)
A103: 계 | B103: =SUM(B104:B128) -> #REF! | C103: / | D103: =SUM(D104:D128) -> #REF! | E103: =SUM(E104:E128) -> #REF! | F103: / | G103: =SUM(G104:G128) -> #REF! | H103: =SUM(H104:H128) -> #REF! | I103: / | J103: =SUM(J104:J128) -> #REF! | K103: =SUM(K104:K128) -> #REF! | L103: / | M103: =SUM(M104:M128) -> #REF! | N103: =SUM(N104:N128) -> #REF! | O103: / | P103: =SUM(P104:P128) -> #REF! | Q103: =SUM(Q104:Q128) -> #REF! | R103: / | S103: =SUM(S104:S128) -> #REF! | T103: =SUM(T104:T128) -> 0 | U103: / | V103: =SUM(V104:V128) -> 0 | W103: =SUM(W104:W128) -> 0 | X103: / | Y103: =SUM(Y104:Y128) -> 0 | Z103: =SUM(Z104:Z128) -> 0 | AA103: / | AB103: =SUM(AB104:AB128) -> 0 | AC103: =SUM(AC104:AC128) -> 0 | AD103: / | AE103: =SUM(AE104:AE128) -> 0 | AF103: =SUM(AF104:AF128) -> 0 | AG103: / | AH103: =SUM(AH104:AH128) -> 0
A104: 전 | B104: =SUM(E104,H104,K104,N104,Q104,T104,W104,Z104,AC104,AF104) -> #REF! | C104: / | D104: =SUM(G104,J104,M104,P104,S104,V104,Y104,AB104,AE104,AH104) -> #REF! | E104: ='(변경)집계표'!H7 -> #REF! | F104: / | G104: ='(변경)집계표'!J7 -> #REF! | H104: ='(변경)집계표'!H37 -> #REF! | I104: / | J104: ='(변경)집계표'!J37 -> #REF! | K104: ='(변경)집계표'!H67 -> #REF! | L104: / | M104: ='(변경)집계표'!J67 -> #REF! | N104: ='(변경)집계표'!H97 -> #REF! | O104: / | P104: ='(변경)집계표'!J97 -> #REF! | Q104: ='(변경)집계표'!H127 -> #REF! | R104: / | S104: ='(변경)집계표'!J127 -> #REF! | T104: ='(변경)집계표'!H157 -> 0 | U104: / | V104: ='(변경)집계표'!J157 -> 0 | W104: ='(변경)집계표'!H187 -> 0 | X104: / | Y104: ='(변경)집계표'!J187 -> 0 | Z104: ='(변경)집계표'!H217 -> 0 | AA104: / | AB104: ='(변경)집계표'!J217 -> 0 | AC104: ='(변경)집계표'!H247 -> 0 | AD104: / | AE104: ='(변경)집계표'!J247 -> 0 | AF104: ='(변경)집계표'!H277 -> 0 | AG104: / | AH104: ='(변경)집계표'!J277 -> 0
A105: 답 | B105: =SUM(E105,H105,K105,N105,Q105,T105,W105,Z105,AC105,AF105) -> #REF! | C105: / | D105: =SUM(G105,J105,M105,P105,S105,V105,Y105,AB105,AE105,AH105) -> #REF! | E105: ='(변경)집계표'!H8 -> #REF! | F105: / | G105: ='(변경)집계표'!J8 -> #REF! | H105: ='(변경)집계표'!H38 -> #REF! | I105: / | J105: ='(변경)집계표'!J38 -> #REF! | K105: ='(변경)집계표'!H68 -> #REF! | L105: / | M105: ='(변경)집계표'!J68 -> #REF! | N105: ='(변경)집계표'!H98 -> #REF! | O105: / | P105: ='(변경)집계표'!J98 -> #REF! | Q105: ='(변경)집계표'!H128 -> #REF! | R105: / | S105: ='(변경)집계표'!J128 -> #REF! | T105: ='(변경)집계표'!H158 -> 0 | U105: / | V105: ='(변경)집계표'!J158 -> 0 | W105: ='(변경)집계표'!H188 -> 0 | X105: / | Y105: ='(변경)집계표'!J188 -> 0 | Z105: ='(변경)집계표'!H218 -> 0 | AA105: / | AB105: ='(변경)집계표'!J218 -> 0 | AC105: ='(변경)집계표'!H248 -> 0 | AD105: / | AE105: ='(변경)집계표'!J248 -> 0 | AF105: ='(변경)집계표'!H278 -> 0 | AG105: / | AH105: ='(변경)집계표'!J278 -> 0
A106: 임야 | B106: =SUM(E106,H106,K106,N106,Q106,T106,W106,Z106,AC106,AF106) -> #REF! | C106: / | D106: =SUM(G106,J106,M106,P106,S106,V106,Y106,AB106,AE106,AH106) -> #REF! | E106: ='(변경)집계표'!H9 -> #REF! | F106: / | G106: ='(변경)집계표'!J9 -> #REF! | H106: ='(변경)집계표'!H39 -> #REF! | I106: / | J106: ='(변경)집계표'!J39 -> #REF! | K106: ='(변경)집계표'!H69 -> #REF! | L106: / | M106: ='(변경)집계표'!J69 -> #REF! | N106: ='(변경)집계표'!H99 -> #REF! | O106: / | P106: ='(변경)집계표'!J99 -> #REF! | Q106: ='(변경)집계표'!H129 -> #REF! | R106: / | S106: ='(변경)집계표'!J129 -> #REF! | T106: ='(변경)집계표'!H159 -> 0 | U106: / | V106: ='(변경)집계표'!J159 -> 0 | W106: ='(변경)집계표'!H189 -> 0 | X106: / | Y106: ='(변경)집계표'!J189 -> 0 | Z106: ='(변경)집계표'!H219 -> 0 | AA106: / | AB106: ='(변경)집계표'!J219 -> 0 | AC106: ='(변경)집계표'!H249 -> 0 | AD106: / | AE106: ='(변경)집계표'!J249 -> 0 | AF106: ='(변경)집계표'!H279 -> 0 | AG106: / | AH106: ='(변경)집계표'!J279 -> 0
A107: 대지 | B107: =SUM(E107,H107,K107,N107,Q107,T107,W107,Z107,AC107,AF107) -> #REF! | C107: / | D107: =SUM(G107,J107,M107,P107,S107,V107,Y107,AB107,AE107,AH107) -> #REF! | E107: ='(변경)집계표'!H10 -> #REF! | F107: / | G107: ='(변경)집계표'!J10 -> #REF! | H107: ='(변경)집계표'!H40 -> #REF! | I107: / | J107: ='(변경)집계표'!J40 -> #REF! | K107: ='(변경)집계표'!H70 -> #REF! | L107: / | M107: ='(변경)집계표'!J70 -> #REF! | N107: ='(변경)집계표'!H100 -> #REF! | O107: / | P107: ='(변경)집계표'!J100 -> #REF! | Q107: ='(변경)집계표'!H130 -> #REF! | R107: / | S107: ='(변경)집계표'!J130 -> #REF! | T107: ='(변경)집계표'!H160 -> 0 | U107: / | V107: ='(변경)집계표'!J160 -> 0 | W107: ='(변경)집계표'!H190 -> 0 | X107: / | Y107: ='(변경)집계표'!J190 -> 0 | Z107: ='(변경)집계표'!H220 -> 0 | AA107: / | AB107: ='(변경)집계표'!J220 -> 0 | AC107: ='(변경)집계표'!H250 -> 0 | AD107: / | AE107: ='(변경)집계표'!J250 -> 0 | AF107: ='(변경)집계표'!H280 -> 0 | AG107: / | AH107: ='(변경)집계표'!J280 -> 0
A108: 도로 | B108: =SUM(E108,H108,K108,N108,Q108,T108,W108,Z108,AC108,AF108) -> #REF! | C108: / | D108: =SUM(G108,J108,M108,P108,S108,V108,Y108,AB108,AE108,AH108) -> #REF! | E108: ='(변경)집계표'!H11 -> #REF! | F108: / | G108: ='(변경)집계표'!J11 -> #REF! | H108: ='(변경)집계표'!H41 -> #REF! | I108: / | J108: ='(변경)집계표'!J41 -> #REF! | K108: ='(변경)집계표'!H71 -> #REF! | L108: / | M108: ='(변경)집계표'!J71 -> #REF! | N108: ='(변경)집계표'!H101 -> #REF! | O108: / | P108: ='(변경)집계표'!J101 -> #REF! | Q108: ='(변경)집계표'!H131 -> #REF! | R108: / | S108: ='(변경)집계표'!J131 -> #REF! | T108: ='(변경)집계표'!H161 -> 0 | U108: / | V108: ='(변경)집계표'!J161 -> 0 | W108: ='(변경)집계표'!H191 -> 0 | X108: / | Y108: ='(변경)집계표'!J191 -> 0 | Z108: ='(변경)집계표'!H221 -> 0 | AA108: / | AB108: ='(변경)집계표'!J221 -> 0 | AC108: ='(변경)집계표'!H251 -> 0 | AD108: / | AE108: ='(변경)집계표'!J251 -> 0 | AF108: ='(변경)집계표'!H281 -> 0 | AG108: / | AH108: ='(변경)집계표'!J281 -> 0
A109: 구거 | B109: =SUM(E109,H109,K109,N109,Q109,T109,W109,Z109,AC109,AF109) -> #REF! | C109: / | D109: =SUM(G109,J109,M109,P109,S109,V109,Y109,AB109,AE109,AH109) -> #REF! | E109: ='(변경)집계표'!H12 -> #REF! | F109: / | G109: ='(변경)집계표'!J12 -> #REF! | H109: ='(변경)집계표'!H42 -> #REF! | I109: / | J109: ='(변경)집계표'!J42 -> #REF! | K109: ='(변경)집계표'!H72 -> #REF! | L109: / | M109: ='(변경)집계표'!J72 -> #REF! | N109: ='(변경)집계표'!H102 -> #REF! | O109: / | P109: ='(변경)집계표'!J102 -> #REF! | Q109: ='(변경)집계표'!H132 -> #REF! | R109: / | S109: ='(변경)집계표'!J132 -> #REF! | T109: ='(변경)집계표'!H162 -> 0 | U109: / | V109: ='(변경)집계표'!J162 -> 0 | W109: ='(변경)집계표'!H192 -> 0 | X109: / | Y109: ='(변경)집계표'!J192 -> 0 | Z109: ='(변경)집계표'!H222 -> 0 | AA109: / | AB109: ='(변경)집계표'!J222 -> 0 | AC109: ='(변경)집계표'!H252 -> 0 | AD109: / | AE109: ='(변경)집계표'!J252 -> 0 | AF109: ='(변경)집계표'!H282 -> 0 | AG109: / | AH109: ='(변경)집계표'!J282 -> 0
A110: 하천 | B110: =SUM(E110,H110,K110,N110,Q110,T110,W110,Z110,AC110,AF110) -> #REF! | C110: / | D110: =SUM(G110,J110,M110,P110,S110,V110,Y110,AB110,AE110,AH110) -> #REF! | E110: ='(변경)집계표'!H13 -> #REF! | F110: / | G110: ='(변경)집계표'!J13 -> #REF! | H110: ='(변경)집계표'!H43 -> #REF! | I110: / | J110: ='(변경)집계표'!J43 -> #REF! | K110: ='(변경)집계표'!H73 -> #REF! | L110: / | M110: ='(변경)집계표'!J73 -> #REF! | N110: ='(변경)집계표'!H103 -> #REF! | O110: / | P110: ='(변경)집계표'!J103 -> #REF! | Q110: ='(변경)집계표'!H133 -> #REF! | R110: / | S110: ='(변경)집계표'!J133 -> #REF! | T110: ='(변경)집계표'!H163 -> 0 | U110: / | V110: ='(변경)집계표'!J163 -> 0 | W110: ='(변경)집계표'!H193 -> 0 | X110: / | Y110: ='(변경)집계표'!J193 -> 0 | Z110: ='(변경)집계표'!H223 -> 0 | AA110: / | AB110: ='(변경)집계표'!J223 -> 0 | AC110: ='(변경)집계표'!H253 -> 0 | AD110: / | AE110: ='(변경)집계표'!J253 -> 0 | AF110: ='(변경)집계표'!H283 -> 0 | AG110: / | AH110: ='(변경)집계표'!J283 -> 0
A111: 유지 | B111: =SUM(E111,H111,K111,N111,Q111,T111,W111,Z111,AC111,AF111) -> #REF! | C111: / | D111: =SUM(G111,J111,M111,P111,S111,V111,Y111,AB111,AE111,AH111) -> #REF! | E111: ='(변경)집계표'!H14 -> #REF! | F111: / | G111: ='(변경)집계표'!J14 -> #REF! | H111: ='(변경)집계표'!H44 -> #REF! | I111: / | J111: ='(변경)집계표'!J44 -> #REF! | K111: ='(변경)집계표'!H74 -> #REF! | L111: / | M111: ='(변경)집계표'!J74 -> #REF! | N111: ='(변경)집계표'!H104 -> #REF! | O111: / | P111: ='(변경)집계표'!J104 -> #REF! | Q111: ='(변경)집계표'!H134 -> #REF! | R111: / | S111: ='(변경)집계표'!J134 -> #REF! | T111: ='(변경)집계표'!H164 -> 0 | U111: / | V111: ='(변경)집계표'!J164 -> 0 | W111: ='(변경)집계표'!H194 -> 0 | X111: / | Y111: ='(변경)집계표'!J194 -> 0 | Z111: ='(변경)집계표'!H224 -> 0 | AA111: / | AB111: ='(변경)집계표'!J224 -> 0 | AC111: ='(변경)집계표'!H254 -> 0 | AD111: / | AE111: ='(변경)집계표'!J254 -> 0 | AF111: ='(변경)집계표'!H284 -> 0 | AG111: / | AH111: ='(변경)집계표'!J284 -> 0
A112: 제방 | B112: =SUM(E112,H112,K112,N112,Q112,T112,W112,Z112,AC112,AF112) -> #REF! | C112: / | D112: =SUM(G112,J112,M112,P112,S112,V112,Y112,AB112,AE112,AH112) -> #REF! | E112: ='(변경)집계표'!H15 -> #REF! | F112: / | G112: ='(변경)집계표'!J15 -> #REF! | H112: ='(변경)집계표'!H45 -> #REF! | I112: / | J112: ='(변경)집계표'!J45 -> #REF! | K112: ='(변경)집계표'!H75 -> #REF! | L112: / | M112: ='(변경)집계표'!J75 -> #REF! | N112: ='(변경)집계표'!H105 -> #REF! | O112: / | P112: ='(변경)집계표'!J105 -> #REF! | Q112: ='(변경)집계표'!H135 -> #REF! | R112: / | S112: ='(변경)집계표'!J135 -> #REF! | T112: ='(변경)집계표'!H165 -> 0 | U112: / | V112: ='(변경)집계표'!J165 -> 0 | W112: ='(변경)집계표'!H195 -> 0 | X112: / | Y112: ='(변경)집계표'!J195 -> 0 | Z112: ='(변경)집계표'!H225 -> 0 | AA112: / | AB112: ='(변경)집계표'!J225 -> 0 | AC112: ='(변경)집계표'!H255 -> 0 | AD112: / | AE112: ='(변경)집계표'!J255 -> 0 | AF112: ='(변경)집계표'!H285 -> 0 | AG112: / | AH112: ='(변경)집계표'!J285 -> 0
A113: 과수원 | B113: =SUM(E113,H113,K113,N113,Q113,T113,W113,Z113,AC113,AF113) -> #REF! | C113: / | D113: =SUM(G113,J113,M113,P113,S113,V113,Y113,AB113,AE113,AH113) -> #REF! | E113: ='(변경)집계표'!H16 -> #REF! | F113: / | G113: ='(변경)집계표'!J16 -> #REF! | H113: ='(변경)집계표'!H46 -> #REF! | I113: / | J113: ='(변경)집계표'!J46 -> #REF! | K113: ='(변경)집계표'!H76 -> #REF! | L113: / | M113: ='(변경)집계표'!J76 -> #REF! | N113: ='(변경)집계표'!H106 -> #REF! | O113: / | P113: ='(변경)집계표'!J106 -> #REF! | Q113: ='(변경)집계표'!H136 -> #REF! | R113: / | S113: ='(변경)집계표'!J136 -> #REF! | T113: ='(변경)집계표'!H166 -> 0 | U113: / | V113: ='(변경)집계표'!J166 -> 0 | W113: ='(변경)집계표'!H196 -> 0 | X113: / | Y113: ='(변경)집계표'!J196 -> 0 | Z113: ='(변경)집계표'!H226 -> 0 | AA113: / | AB113: ='(변경)집계표'!J226 -> 0 | AC113: ='(변경)집계표'!H256 -> 0 | AD113: / | AE113: ='(변경)집계표'!J256 -> 0 | AF113: ='(변경)집계표'!H286 -> 0 | AG113: / | AH113: ='(변경)집계표'!J286 -> 0
A114: 공장 | B114: =SUM(E114,H114,K114,N114,Q114,T114,W114,Z114,AC114,AF114) -> #REF! | C114: / | D114: =SUM(G114,J114,M114,P114,S114,V114,Y114,AB114,AE114,AH114) -> #REF! | E114: ='(변경)집계표'!H17 -> #REF! | F114: / | G114: ='(변경)집계표'!J17 -> #REF! | H114: ='(변경)집계표'!H47 -> #REF! | I114: / | J114: ='(변경)집계표'!J47 -> #REF! | K114: ='(변경)집계표'!H77 -> #REF! | L114: / | M114: ='(변경)집계표'!J77 -> #REF! | N114: ='(변경)집계표'!H107 -> #REF! | O114: / | P114: ='(변경)집계표'!J107 -> #REF! | Q114: ='(변경)집계표'!H137 -> #REF! | R114: / | S114: ='(변경)집계표'!J137 -> #REF! | T114: ='(변경)집계표'!H167 -> 0 | U114: / | V114: ='(변경)집계표'!J167 -> 0 | W114: ='(변경)집계표'!H197 -> 0 | X114: / | Y114: ='(변경)집계표'!J197 -> 0 | Z114: ='(변경)집계표'!H227 -> 0 | AA114: / | AB114: ='(변경)집계표'!J227 -> 0 | AC114: ='(변경)집계표'!H257 -> 0 | AD114: / | AE114: ='(변경)집계표'!J257 -> 0 | AF114: ='(변경)집계표'!H287 -> 0 | AG114: / | AH114: ='(변경)집계표'!J287 -> 0
A115: 목장 | B115: =SUM(E115,H115,K115,N115,Q115,T115,W115,Z115,AC115,AF115) -> #REF! | C115: / | D115: =SUM(G115,J115,M115,P115,S115,V115,Y115,AB115,AE115,AH115) -> #REF! | E115: ='(변경)집계표'!H18 -> #REF! | F115: / | G115: ='(변경)집계표'!J18 -> #REF! | H115: ='(변경)집계표'!H48 -> #REF! | I115: / | J115: ='(변경)집계표'!J48 -> #REF! | K115: ='(변경)집계표'!H78 -> #REF! | L115: / | M115: ='(변경)집계표'!J78 -> #REF! | N115: ='(변경)집계표'!H108 -> #REF! | O115: / | P115: ='(변경)집계표'!J108 -> #REF! | Q115: ='(변경)집계표'!H138 -> #REF! | R115: / | S115: ='(변경)집계표'!J138 -> #REF! | T115: ='(변경)집계표'!H168 -> 0 | U115: / | V115: ='(변경)집계표'!J168 -> 0 | W115: ='(변경)집계표'!H198 -> 0 | X115: / | Y115: ='(변경)집계표'!J198 -> 0 | Z115: ='(변경)집계표'!H228 -> 0 | AA115: / | AB115: ='(변경)집계표'!J228 -> 0 | AC115: ='(변경)집계표'!H258 -> 0 | AD115: / | AE115: ='(변경)집계표'!J258 -> 0 | AF115: ='(변경)집계표'!H288 -> 0 | AG115: / | AH115: ='(변경)집계표'!J288 -> 0
... A128: 미지번 | B128: =SUM(E128,H128,K128,N128,Q128,T128,W128,Z128,AC128,AF128) -> #REF! | C128: / | D128: =SUM(G128,J128,M128,P128,S128,V128,Y128,AB128,AE128,AH128) -> #REF! | E128: ='(변경)집계표'!H31 -> #REF! | F128: / | G128: ='(변경)집계표'!J31 -> #REF! | H128: ='(변경)집계표'!H61 -> #REF! | I128: / | J128: ='(변경)집계표'!J61 -> #REF! | K128: ='(변경)집계표'!H91 -> #REF! | L128: / | M128: ='(변경)집계표'!J91 -> #REF! | N128: ='(변경)집계표'!H121 -> #REF! | O128: / | P128: ='(변경)집계표'!J121 -> #REF! | Q128: ='(변경)집계표'!H151 -> #REF! | R128: / | S128: ='(변경)집계표'!J151 -> #REF! | T128: ='(변경)집계표'!H181 -> 0 | U128: / | V128: ='(변경)집계표'!J181 -> 0 | W128: ='(변경)집계표'!H211 -> 0 | X128: / | Y128: ='(변경)집계표'!J211 -> 0 | Z128: ='(변경)집계표'!H241 -> 0 | AA128: / | AB128: ='(변경)집계표'!J241 -> 0 | AC128: ='(변경)집계표'!H271 -> 0 | AD128: / | AE128: ='(변경)집계표'!J271 -> 0 | AF128: ='(변경)집계표'!H301 -> 0 | AG128: / | AH128: ='(변경)집계표'!J301 -> 0

Sheet (당초)집계표
A1: (당초) 편 입 용 지 집 계 표
A2: =IF(EXACT(O6,O7),,"검산확인요!!!") -> 0 | K2: =IF(ISBLANK(토지세목조서!N2),,토지세목조서!N2) -> 0
A4: 구분 | B4: 계 | E4: 국 유 지 | H4: 공 유 지 | K4: 사 유 지 | N4: 비고
B5: 필지 | C5: / | D5: 면 적 (㎡) | E5: 필지 | F5: / | G5: 면 적 (㎡) | H5: 필지 | I5: / | J5: 면 적 (㎡) | K5: 필지 | L5: / | M5: 면 적 (㎡) | Q5: 총계 | R5: 국유지 | S5: 사유지 | T5: 국유지+사유지
A6: 계 | B6: =SUM(B7:B31) -> 95 | C6: / | D6: =SUM(D7:D31) -> 29928.6 | E6: =SUM(E7:E31) -> 24 | F6: / | G6: =SUM(G7:G31) -> 4574.7 | H6: =SUM(H7:H31) -> 43 | I6: / | J6: =SUM(J7:J31) -> 12974 | K6: =SUM(K7:K31) -> 28 | L6: / | M6: =SUM(M7:M31) -> 12379.9 | O6: =IF(EXACT(Q6,T6),"맞음","틀림") -> 틀림 | P6: 필지 | Q6: =SUM(B7:B31) -> 95 | R6: =SUM(E7:E31) -> 24 | S6: =SUM(K7:K31) -> 28 | T6: =K6+E6 -> 52
A7: 전 | B7: =COUNTIF('(당초)대두리'!$D$6:$D$102,'(당초)집계표'!U7) -> 6 | C7: / | D7: =SUMIF('(당초)대두리'!$D$6:$D$156,'(당초)집계표'!U7,'(당초)대두리'!$F$6:$F$100) -> 3537 | E7: =COUNTIF('(당초)대두리'!$M$6:$M$100,'(당초)집계표'!V7) -> 0 | F7: / | G7: =SUMIF('(당초)대두리'!$M$6:$M$100,'(당초)집계표'!V7,'(당초)대두리'!$F$6:$F$100) -> 0 | H7: =COUNTIF('(당초)대두리'!$M$6:$M$100,'(당초)집계표'!W7) -> 4 | I7: / | J7: =SUMIF('(당초)대두리'!$M$6:$M$100,'(당초)집계표'!W7,'(당초)대두리'!$F$6:$F$100) -> 3245 | K7: =SUM(B7-E7-H7) -> 2 | L7: / | M7: =SUM(D7-G7-J7) -> 292 | O7: =IF(EXACT(Q7,T7),"맞음","틀림") -> 틀림 | P7: 면적 | Q7: =SUM(D7:D31) -> 29928.6 | R7: =SUM(G7:G31) -> 4574.7 | S7: =SUM(M7:M31) -> 12379.9 | T7: =G6+M6 -> 16954.6 | U7: 전 | V7: 전국 | W7: 전공
A8: 답 | B8: =COUNTIF('(당초)대두리'!$D$6:$D$102,'(당초)집계표'!U8) -> 29 | C8: / | D8: =SUMIF('(당초)대두리'!$D$6:$D$156,'(당초)집계표'!U8,'(당초)대두리'!$F$6:$F$100) -> 13294.9 | E8: =COUNTIF('(당초)대두리'!$M$6:$M$100,'(당초)집계표'!V8) -> 0 | F8: / | G8: =SUMIF('(당초)대두리'!$M$6:$M$100,'(당초)집계표'!V8,'(당초)대두리'!$F$6:$F$100) -> 0 | H8: =COUNTIF('(당초)대두리'!$M$6:$M$100,'(당초)집계표'!W8) -> 12 | I8: / | J8: =SUMIF('(당초)대두리'!$M$6:$M$100,'(당초)집계표'!W8,'(당초)대두리'!$F$6:$F$100) -> 3342 | K8: =SUM(B8-E8-H8) -> 17 | L8: / | M8: =SUM(D8-G8-J8) -> 9952.9 | U8: 답 | V8: 답국 | W8: 답공
A9: 임야 | B9: =COUNTIF('(당초)대두리'!$D$6:$D$102,'(당초)집계표'!U9) -> 4 | C9: / | D9: =SUMIF('(당초)대두리'!$D$6:$D$156,'(당초)집계표'!U9,'(당초)대두리'!$F$6:$F$100) -> 2642 | E9: =COUNTIF('(당초)대두리'!$M$6:$M$100,'(당초)집계표'!V9) -> 0 | F9: / | G9: =SUMIF('(당초)대두리'!$M$6:$M$100,'(당초)집계표'!V9,'(당초)대두리'!$F$6:$F$100) -> 0 | H9: =COUNTIF('(당초)대두리'!$M$6:$M$100,'(당초)집계표'!W9) -> 2 | I9: / | J9: =SUMIF('(당초)대두리'!$M$6:$M$100,'(당초)집계표'!W9,'(당초)대두리'!$F$6:$F$100) -> 1744 | K9: =SUM(B9-E9-H9) -> 2 | L9: / | M9: =SUM(D9-G9-J9) -> 898 | U9: 임 | V9: 임국 | W9: 임공
A10: 대지 | B10: =COUNTIF('(당초)대두리'!$D$6:$D$102,'(당초)집계표'!U10) -> 2 | C10: / | D10: =SUMIF('(당초)대두리'!$D$6:$D$156,'(당초)집계표'!U10,'(당초)대두리'!$F$6:$F$100) -> 267 | E10: =COUNTIF('(당초)대두리'!$M$6:$M$100,'(당초)집계표'!V10) -> 0 | F10: / | G10: =SUMIF('(당초)대두리'!$M$6:$M$100,'(당초)집계표'!V10,'(당초)대두리'!$F$6:$F$100) -> 0 | H10: =COUNTIF('(당초)대두리'!$M$6:$M$100,'(당초)집계표'!W10) -> 0 | I10: / | J10: =SUMIF('(당초)대두리'!$M$6:$M$100,'(당초)집계표'!W10,'(당초)대두리'!$F$6:$F$100) -> 0 | K10: =SUM(B10-E10-H10) -> 2 | L10: / | M10: =SUM(D10-G10-J10) -> 267 | U10: 대 | V10: 대국 | W10: 대공
A11: 도로 | B11: =COUNTIF('(당초)대두리'!$D$6:$D$102,'(당초)집계표'!U11) -> 43 | C11: / | D11: =SUMIF('(당초)대두리'!$D$6:$D$156,'(당초)집계표'!U11,'(당초)대두리'!$F$6:$F$100) -> 7211.2 | E11: =COUNTIF('(당초)대두리'!$M$6:$M$100,'(당초)집계표'!V11) -> 17 | F11: / | G11: =SUMIF('(당초)대두리'!$M$6:$M$100,'(당초)집계표'!V11,'(당초)대두리'!$F$6:$F$100) -> 3392.2 | H11: =COUNTIF('(당초)대두리'!$M$6:$M$100,'(당초)집계표'!W11) -> 23 | I11: / | J11: =SUMIF('(당초)대두리'!$M$6:$M$100,'(당초)집계표'!W11,'(당초)대두리'!$F$6:$F$100) -> 3042 | K11: =SUM(B11-E11-H11) -> 3 | L11: / | M11: =SUM(D11-G11-J11) -> 777 | U11: 도 | V11: 도국 | W11: 도공
A12: 구거 | B12: =COUNTIF('(당초)대두리'!$D$6:$D$102,'(당초)집계표'!U12) -> 7 | C12: / | D12: =SUMIF('(당초)대두리'!$D$6:$D$156,'(당초)집계표'!U12,'(당초)대두리'!$F$6:$F$100) -> 1182.5 | E12: =COUNTIF('(당초)대두리'!$M$6:$M$100,'(당초)집계표'!V12) -> 7 | F12: / | G12: =SUMIF('(당초)대두리'!$M$6:$M$100,'(당초)집계표'!V12,'(당초)대두리'!$F$6:$F$100) -> 1182.5 | H12: =COUNTIF('(당초)대두리'!$M$6:$M$100,'(당초)집계표'!W12) -> 0 | I12: / | J12: =SUMIF('(당초)대두리'!$M$6:$M$100,'(당초)집계표'!W12,'(당초)대두리'!$F$6:$F$100) -> 0 | K12: =SUM(B12-E12-H12) -> 0 | L12: / | M12: =SUM(D12-G12-J12) -> 0 | U12: 구 | V12: 구국 | W12: 구공
A13: 하천 | B13: =COUNTIF('(당초)대두리'!$D$6:$D$102,'(당초)집계표'!U13) -> 0 | C13: / | D13: =SUMIF('(당초)대두리'!$D$6:$D$156,'(당초)집계표'!U13,'(당초)대두리'!$F$6:$F$100) -> 0 | E13: =COUNTIF('(당초)대두리'!$M$6:$M$100,'(당초)집계표'!V13) -> 0 | F13: / | G13: =SUMIF('(당초)대두리'!$M$6:$M$100,'(당초)집계표'!V13,'(당초)대두리'!$F$6:$F$100) -> 0 | H13: =COUNTIF('(당초)대두리'!$M$6:$M$100,'(당초)집계표'!W13) -> 0 | I13: / | J13: =SUMIF('(당초)대두리'!$M$6:$M$100,'(당초)집계표'!W13,'(당초)대두리'!$F$6:$F$100) -> 0 | K13: =SUM(B13-E13-H13) -> 0 | L13: / | M13: =SUM(D13-G13-J13) -> 0 | U13: 하 | V13: 하국 | W13: 하공
A14: 유지 | B14: =COUNTIF('(당초)대두리'!$D$6:$D$102,'(당초)집계표'!U14) -> 4 | C14: / | D14: =SUMIF('(당초)대두리'!$D$6:$D$156,'(당초)집계표'!U14,'(당초)대두리'!$F$6:$F$100) -> 1794 | E14: =COUNTIF('(당초)대두리'!$M$6:$M$100,'(당초)집계표'!V14) -> 0 | F14: / | G14: =SUMIF('(당초)대두리'!$M$6:$M$100,'(당초)집계표'!V14,'(당초)대두리'!$F$6:$F$100) -> 0 | H14: =COUNTIF('(당초)대두리'!$M$6:$M$100,'(당초)집계표'!W14) -> 2 | I14: / | J14: =SUMIF('(당초)대두리'!$M$6:$M$100,'(당초)집계표'!W14,'(당초)대두리'!$F$6:$F$100) -> 1601 | K14: =SUM(B14-E14-H14) -> 2 | L14: / | M14: =SUM(D14-G14-J14) -> 193 | U14: 유 | V14: 유국 | W14: 유공
A15: 제방 | B15: =COUNTIF('(당초)대두리'!$D$6:$D$102,'(당초)집계표'!U15) -> 0 | C15: / | D15: =SUMIF('(당초)대두리'!$D$6:$D$156,'(당초)집계표'!U15,'(당초)대두리'!$F$6:$F$100) -> 0 | E15: =COUNTIF('(당초)대두리'!$M$6:$M$100,'(당초)집계표'!V15) -> 0 | F15: / | G15: =SUMIF('(당초)대두리'!$M$6:$M$100,'(당초)집계표'!V15,'(당초)대두리'!$F$6:$F$100) -> 0 | H15: =COUNTIF('(당초)대두리'!$M$6:$M$100,'(당초)집계표'!W15) -> 0 | I15: / | J15: =SUMIF('(당초)대두리'!$M$6:$M$100,'(당초)집계표'!W15,'(당초)대두리'!$F$6:$F$100) -> 0 | K15: =SUM(B15-E15-H15) -> 0 | L15: / | M15: =SUM(D15-G15-J15) -> 0 | U15: 제 | V15: 제국 | W15: 제공
A16: 과수원 | B16: =COUNTIF('(당초)대두리'!$D$6:$D$102,'(당초)집계표'!U16) -> 0 | C16: / | D16: =SUMIF('(당초)대두리'!$D$6:$D$156,'(당초)집계표'!U16,'(당초)대두리'!$F$6:$F$100) -> 0 | E16: =COUNTIF('(당초)대두리'!$M$6:$M$100,'(당초)집계표'!V16) -> 0 | F16: / | G16: =SUMIF('(당초)대두리'!$M$6:$M$100,'(당초)집계표'!V16,'(당초)대두리'!$F$6:$F$100) -> 0 | H16: =COUNTIF('(당초)대두리'!$M$6:$M$100,'(당초)집계표'!W16) -> 0 | I16: / | J16: =SUMIF('(당초)대두리'!$M$6:$M$100,'(당초)집계표'!W16,'(당초)대두리'!$F$6:$F$100) -> 0 | K16: =SUM(B16-E16-H16) -> 0 | L16: / | M16: =SUM(D16-G16-J16) -> 0 | U16: 과 | V16: 과국 | W16: 과공
A17: 공장 | B17: =COUNTIF('(당초)대두리'!$D$6:$D$102,'(당초)집계표'!U17) -> 0 | C17: / | D17: =SUMIF('(당초)대두리'!$D$6:$D$156,'(당초)집계표'!U17,'(당초)대두리'!$F$6:$F$100) -> 0 | E17: =COUNTIF('(당초)대두리'!$M$6:$M$100,'(당초)집계표'!V17) -> 0 | F17: / | G17: =SUMIF('(당초)대두리'!$M$6:$M$100,'(당초)집계표'!V17,'(당초)대두리'!$F$6:$F$100) -> 0 | H17: =COUNTIF('(당초)대두리'!$M$6:$M$100,'(당초)집계표'!W17) -> 0 | I17: / | J17: =SUMIF('(당초)대두리'!$M$6:$M$100,'(당초)집계표'!W17,'(당초)대두리'!$F$6:$F$100) -> 0 | K17: =SUM(B17-E17-H17) -> 0 | L17: / | M17: =SUM(D17-G17-J17) -> 0 | U17: 공 | V17: 공국 | W17: 공공
A18: 목장 | B18: =COUNTIF('(당초)대두리'!$D$6:$D$102,'(당초)집계표'!U18) -> 0 | C18: / | D18: =SUMIF('(당초)대두리'!$D$6:$D$156,'(당초)집계표'!U18,'(당초)대두리'!$F$6:$F$100) -> 0 | E18: =COUNTIF('(당초)대두리'!$M$6:$M$100,'(당초)집계표'!V18) -> 0 | F18: / | G18: =SUMIF('(당초)대두리'!$M$6:$M$100,'(당초)집계표'!V18,'(당초)대두리'!$F$6:$F$100) -> 0 | H18: =COUNTIF('(당초)대두리'!$M$6:$M$100,'(당초)집계표'!W18) -> 0 | I18: / | J18: =SUMIF('(당초)대두리'!$M$6:$M$100,'(당초)집계표'!W18,'(당초)대두리'!$F$6:$F$100) -> 0 | K18: =SUM(B18-E18-H18) -> 0 | L18: / | M18: =SUM(D18-G18-J18) -> 0 | U18: 목 | V18: 목국 | W18: 목공
A19: 학교용지 | B19: =COUNTIF('(당초)대두리'!$D$6:$D$102,'(당초)집계표'!U19) -> 0 | C19: / | D19: =SUMIF('(당초)대두리'!$D$6:$D$156,'(당초)집계표'!U19,'(당초)대두리'!$F$6:$F$100) -> 0 | E19: =COUNTIF('(당초)대두리'!$M$6:$M$100,'(당초)집계표'!V19) -> 0 | F19: / | G19: =SUMIF('(당초)대두리'!$M$6:$M$100,'(당초)집계표'!V19,'(당초)대두리'!$F$6:$F$100) -> 0 | H19: =COUNTIF('(당초)대두리'!$M$6:$M$100,'(당초)집계표'!W19) -> 0 | I19: / | J19: =SUMIF('(당초)대두리'!$M$6:$M$100,'(당초)집계표'!W19,'(당초)대두리'!$F$6:$F$100) -> 0 | K19: =SUM(B19-E19-H19) -> 0 | L19: / | M19: =SUM(D19-G19-J19) -> 0 | U19: 학 | V19: 학국 | W19: 학공
... A31: 미지번 | B31: =COUNTIF('(당초)대두리'!$D$6:$D$102,'(당초)집계표'!U31) -> 0 | C31: / | D31: =SUMIF('(당초)대두리'!$D$6:$D$156,'(당초)집계표'!U31,'(당초)대두리'!$F$6:$F$100) -> 0 | E31: =COUNTIF('(당초)대두리'!$M$6:$M$100,'(당초)집계표'!V31) -> 0 | F31: / | G31: =SUMIF('(당초)대두리'!$M$6:$M$100,'(당초)집계표'!V31,'(당초)대두리'!$F$6:$F$100) -> 0 | H31: =COUNTIF('(당초)대두리'!$M$6:$M$100,'(당초)집계표'!W31) -> 0 | I31: / | J31: =SUMIF('(당초)대두리'!$M$6:$M$100,'(당초)집계표'!W31,'(당초)대두리'!$F$6:$F$100) -> 0 | K31: =SUM(B31-E31-H31) -> 0 | L31: / | M31: =SUM(D31-G31-J31) -> 0 | U31: 가 | V31: 가국 | W31: 가공
A32: =IF(EXACT(O36,O37),,"검산확인요!!!") -> 0 | K32: =IF(ISBLANK(#REF!),,#REF!) -> #REF!
A34: 구분 | B34: 계 | E34: 국 유 지 | H34: 공 유 지 | K34: 사 유 지 | N34: 비고
B35: 필지 | C35: / | D35: 면 적 (㎡) | E35: 필지 | F35: / | G35: 면 적 (㎡) | H35: 필지 | I35: / | J35: 면 적 (㎡) | K35: 필지 | L35: / | M35: 면 적 (㎡) | Q35: 총계 | R35: 국유지 | S35: 사유지 | T35: 국유지+사유지
A36: 계 | B36: =SUM(B37:B61) -> 150 | C36: / | D36: =SUM(D37:D61) -> 57542.4 | E36: =SUM(E37:E61) -> 34 | F36: / | G36: =SUM(G37:G61) -> 9205.5 | H36: =SUM(H37:H61) -> 101 | I36: / | J36: =SUM(J37:J61) -> 43698 | K36: =SUM(K37:K61) -> 15 | L36: / | M36: =SUM(M37:M61) -> 4638.9 | O36: =IF(EXACT(Q36,T36),"맞음","틀림") -> 틀림 | P36: 필지 | Q36: =SUM(B37:B61) -> 150 | R36: =SUM(E37:E61) -> 34 | S36: =SUM(K37:K61) -> 15 | T36: =K36+E36 -> 49
A37: 전 | B37: =COUNTIF('(당초)봉락리'!$D$6:$D$155,'(당초)집계표'!U37) -> 30 | C37: / | D37: =SUMIF('(당초)봉락리'!$D$6:$D$155,'(당초)집계표'!U37,'(당초)봉락리'!$F$6:$F$155) -> 10337 | E37: =COUNTIF('(당초)봉락리'!$J$6:$J$155,'(당초)집계표'!V37) -> 0 | F37: / | G37: =SUMIF('(당초)봉락리'!$J$6:$J$155,'(당초)집계표'!V37,'(당초)봉락리'!$F$6:$F$155) -> 0 | H37: =COUNTIF('(당초)봉락리'!$J$6:$J$155,'(당초)집계표'!W37) -> 27 | I37: / | J37: =SUMIF('(당초)봉락리'!$J$6:$J$155,'(당초)집계표'!W37,'(당초)봉락리'!$F$6:$F$155) -> 10150 | K37: =SUM(B37-E37-H37) -> 3 | L37: / | M37: =SUM(D37-G37-J37) -> 187 | O37: =IF(EXACT(Q37,T37),"맞음","틀림") -> 틀림 | P37: 면적 | Q37: =SUM(D37:D61) -> 57542.4 | R37: =SUM(G37:G61) -> 9205.5 | S37: =SUM(M37:M61) -> 4638.9 | T37: =G36+M36 -> 13844.4 | U37: 전 | V37: 전국 | W37: 전공
A38: 답 | B38: =COUNTIF('(당초)봉락리'!$D$6:$D$155,'(당초)집계표'!U38) -> 17 | C38: / | D38: =SUMIF('(당초)봉락리'!$D$6:$D$155,'(당초)집계표'!U38,'(당초)봉락리'!$F$6:$F$155) -> 16153.9 | E38: =COUNTIF('(당초)봉락리'!$J$6:$J$155,'(당초)집계표'!V38) -> 0 | F38: / | G38: =SUMIF('(당초)봉락리'!$J$6:$J$155,'(당초)집계표'!V38,'(당초)봉락리'!$F$6:$F$155) -> 0 | H38: =COUNTIF('(당초)봉락리'!$J$6:$J$155,'(당초)집계표'!W38) -> 16 | I38: / | J38: =SUMIF('(당초)봉락리'!$J$6:$J$155,'(당초)집계표'!W38,'(당초)봉락리'!$F$6:$F$155) -> 14044 | K38: =SUM(B38-E38-H38) -> 1 | L38: / | M38: =SUM(D38-G38-J38) -> 2109.9 | U38: 답 | V38: 답국 | W38: 답공
A39: 임야 | B39: =COUNTIF('(당초)봉락리'!$D$6:$D$155,'(당초)집계표'!U39) -> 17 | C39: / | D39: =SUMIF('(당초)봉락리'!$D$6:$D$155,'(당초)집계표'!U39,'(당초)봉락리'!$F$6:$F$155) -> 13367 | E39: =COUNTIF('(당초)봉락리'!$J$6:$J$155,'(당초)집계표'!V39) -> 0 | F39: / | G39: =SUMIF('(당초)봉락리'!$J$6:$J$155,'(당초)집계표'!V39,'(당초)봉락리'!$F$6:$F$155) -> 0 | H39: =COUNTIF('(당초)봉락리'!$J$6:$J$155,'(당초)집계표'!W39) -> 16 | I39: / | J39: =SUMIF('(당초)봉락리'!$J$6:$J$155,'(당초)집계표'!W39,'(당초)봉락리'!$F$6:$F$155) -> 12383 | K39: =SUM(B39-E39-H39) -> 1 | L39: / | M39: =SUM(D39-G39-J39) -> 984 | U39: 임 | V39: 임국 | W39: 임공
A40: 대지 | B40: =COUNTIF('(당초)봉락리'!$D$6:$D$155,'(당초)집계표'!U40) -> 8 | C40: / | D40: =SUMIF('(당초)봉락리'!$D$6:$D$155,'(당초)집계표'!U40,'(당초)봉락리'!$F$6:$F$155) -> 664 | E40: =COUNTIF('(당초)봉락리'!$J$6:$J$155,'(당초)집계표'!V40) -> 1 | F40: / | G40: =SUMIF('(당초)봉락리'!$J$6:$J$155,'(당초)집계표'!V40,'(당초)봉락리'!$F$6:$F$155) -> 95 | H40: =COUNTIF('(당초)봉락리'!$J$6:$J$155,'(당초)집계표'!W40) -> 7 | I40: / | J40: =SUMIF('(당초)봉락리'!$J$6:$J$155,'(당초)집계표'!W40,'(당초)봉락리'!$F$6:$F$155) -> 569 | K40: =SUM(B40-E40-H40) -> 0 | L40: / | M40: =SUM(D40-G40-J40) -> 0 | U40: 대 | V40: 대국 | W40: 대공
A41: 도로 | B41: =COUNTIF('(당초)봉락리'!$D$6:$D$155,'(당초)집계표'!U41) -> 58 | C41: / | D41: =SUMIF('(당초)봉락리'!$D$6:$D$155,'(당초)집계표'!U41,'(당초)봉락리'!$F$6:$F$155) -> 12290.7 | E41: =COUNTIF('(당초)봉락리'!$J$6:$J$155,'(당초)집계표'!V41) -> 17 | F41: / | G41: =SUMIF('(당초)봉락리'!$J$6:$J$155,'(당초)집계표'!V41,'(당초)봉락리'!$F$6:$F$155) -> 5299.7 | H41: =COUNTIF('(당초)봉락리'!$J$6:$J$155,'(당초)집계표'!W41) -> 31 | I41: / | J41: =SUMIF('(당초)봉락리'!$J$6:$J$155,'(당초)집계표'!W41,'(당초)봉락리'!$F$6:$F$155) -> 5633 | K41: =SUM(B41-E41-H41) -> 10 | L41: / | M41: =SUM(D41-G41-J41) -> 1358 | U41: 도 | V41: 도국 | W41: 도공
A42: 구거 | B42: =COUNTIF('(당초)봉락리'!$D$6:$D$155,'(당초)집계표'!U42) -> 13 | C42: / | D42: =SUMIF('(당초)봉락리'!$D$6:$D$155,'(당초)집계표'!U42,'(당초)봉락리'!$F$6:$F$155) -> 2402.8 | E42: =COUNTIF('(당초)봉락리'!$J$6:$J$155,'(당초)집계표'!V42) -> 13 | F42: / | G42: =SUMIF('(당초)봉락리'!$J$6:$J$155,'(당초)집계표'!V42,'(당초)봉락리'!$F$6:$F$155) -> 2402.8 | H42: =COUNTIF('(당초)봉락리'!$J$6:$J$155,'(당초)집계표'!W42) -> 0 | I42: / | J42: =SUMIF('(당초)봉락리'!$J$6:$J$155,'(당초)집계표'!W42,'(당초)봉락리'!$F$6:$F$155) -> 0 | K42: =SUM(B42-E42-H42) -> 0 | L42: / | M42: =SUM(D42-G42-J42) -> 0 | U42: 구 | V42: 구국 | W42: 구공
A43: 하천 | B43: =COUNTIF('(당초)봉락리'!$D$6:$D$155,'(당초)집계표'!U43) -> 0 | C43: / | D43: =SUMIF('(당초)봉락리'!$D$6:$D$155,'(당초)집계표'!U43,'(당초)봉락리'!$F$6:$F$155) -> 0 | E43: =COUNTIF('(당초)봉락리'!$J$6:$J$155,'(당초)집계표'!V43) -> 0 | F43: / | G43: =SUMIF('(당초)봉락리'!$J$6:$J$155,'(당초)집계표'!V43,'(당초)봉락리'!$F$6:$F$155) -> 0 | H43: =COUNTIF('(당초)봉락리'!$J$6:$J$155,'(당초)집계표'!W43) -> 0 | I43: / | J43: =SUMIF('(당초)봉락리'!$J$6:$J$155,'(당초)집계표'!W43,'(당초)봉락리'!$F$6:$F$155) -> 0 | K43: =SUM(B43-E43-H43) -> 0 | L43: / | M43: =SUM(D43-G43-J43) -> 0 | U43: 하 | V43: 하국 | W43: 하공
A44: 유지 | B44: =COUNTIF('(당초)봉락리'!$D$6:$D$155,'(당초)집계표'!U44) -> 0 | C44: / | D44: =SUMIF('(당초)봉락리'!$D$6:$D$155,'(당초)집계표'!U44,'(당초)봉락리'!$F$6:$F$155) -> 0 | E44: =COUNTIF('(당초)봉락리'!$J$6:$J$155,'(당초)집계표'!V44) -> 0 | F44: / | G44: =SUMIF('(당초)봉락리'!$J$6:$J$155,'(당초)집계표'!V44,'(당초)봉락리'!$F$6:$F$155) -> 0 | H44: =COUNTIF('(당초)봉락리'!$J$6:$J$155,'(당초)집계표'!W44) -> 0 | I44: / | J44: =SUMIF('(당초)봉락리'!$J$6:$J$155,'(당초)집계표'!W44,'(당초)봉락리'!$F$6:$F$155) -> 0 | K44: =SUM(B44-E44-H44) -> 0 | L44: / | M44: =SUM(D44-G44-J44) -> 0 | U44: 유 | V44: 유국 | W44: 유공
A45: 제방 | B45: =COUNTIF('(당초)봉락리'!$D$6:$D$155,'(당초)집계표'!U45) -> 0 | C45: / | D45: =SUMIF('(당초)봉락리'!$D$6:$D$155,'(당초)집계표'!U45,'(당초)봉락리'!$F$6:$F$155) -> 0 | E45: =COUNTIF('(당초)봉락리'!$J$6:$J$155,'(당초)집계표'!V45) -> 0 | F45: / | G45: =SUMIF('(당초)봉락리'!$J$6:$J$155,'(당초)집계표'!V45,'(당초)봉락리'!$F$6:$F$155) -> 0 | H45: =COUNTIF('(당초)봉락리'!$J$6:$J$155,'(당초)집계표'!W45) -> 0 | I45: / | J45: =SUMIF('(당초)봉락리'!$J$6:$J$155,'(당초)집계표'!W45,'(당초)봉락리'!$F$6:$F$155) -> 0 | K45: =SUM(B45-E45-H45) -> 0 | L45: / | M45: =SUM(D45-G45-J45) -> 0 | U45: 제 | V45: 제국 | W45: 제공
A46: 과수원 | B46: =COUNTIF('(당초)봉락리'!$D$6:$D$155,'(당초)집계표'!U46) -> 0 | C46: / | D46: =SUMIF('(당초)봉락리'!$D$6:$D$155,'(당초)집계표'!U46,'(당초)봉락리'!$F$6:$F$155) -> 0 | E46: =COUNTIF('(당초)봉락리'!$J$6:$J$155,'(당초)집계표'!V46) -> 0 | F46: / | G46: =SUMIF('(당초)봉락리'!$J$6:$J$155,'(당초)집계표'!V46,'(당초)봉락리'!$F$6:$F$155) -> 0 | H46: =COUNTIF('(당초)봉락리'!$J$6:$J$155,'(당초)집계표'!W46) -> 0 | I46: / | J46: =SUMIF('(당초)봉락리'!$J$6:$J$155,'(당초)집계표'!W46,'(당초)봉락리'!$F$6:$F$155) -> 0 | K46: =SUM(B46-E46-H46) -> 0 | L46: / | M46: =SUM(D46-G46-J46) -> 0 | U46: 과 | V46: 과국 | W46: 과공
A47: 공장 | B47: =COUNTIF('(당초)봉락리'!$D$6:$D$155,'(당초)집계표'!U47) -> 0 | C47: / | D47: =SUMIF('(당초)봉락리'!$D$6:$D$155,'(당초)집계표'!U47,'(당초)봉락리'!$F$6:$F$155) -> 0 | E47: =COUNTIF('(당초)봉락리'!$J$6:$J$155,'(당초)집계표'!V47) -> 0 | F47: / | G47: =SUMIF('(당초)봉락리'!$J$6:$J$155,'(당초)집계표'!V47,'(당초)봉락리'!$F$6:$F$155) -> 0 | H47: =COUNTIF('(당초)봉락리'!$J$6:$J$155,'(당초)집계표'!W47) -> 0 | I47: / | J47: =SUMIF('(당초)봉락리'!$J$6:$J$155,'(당초)집계표'!W47,'(당초)봉락리'!$F$6:$F$155) -> 0 | K47: =SUM(B47-E47-H47) -> 0 | L47: / | M47: =SUM(D47-G47-J47) -> 0 | U47: 공 | V47: 공국 | W47: 공공
A48: 목장 | B48: =COUNTIF('(당초)봉락리'!$D$6:$D$155,'(당초)집계표'!U48) -> 0 | C48: / | D48: =SUMIF('(당초)봉락리'!$D$6:$D$155,'(당초)집계표'!U48,'(당초)봉락리'!$F$6:$F$155) -> 0 | E48: =COUNTIF('(당초)봉락리'!$J$6:$J$155,'(당초)집계표'!V48) -> 0 | F48: / | G48: =SUMIF('(당초)봉락리'!$J$6:$J$155,'(당초)집계표'!V48,'(당초)봉락리'!$F$6:$F$155) -> 0 | H48: =COUNTIF('(당초)봉락리'!$J$6:$J$155,'(당초)집계표'!W48) -> 0 | I48: / | J48: =SUMIF('(당초)봉락리'!$J$6:$J$155,'(당초)집계표'!W48,'(당초)봉락리'!$F$6:$F$155) -> 0 | K48: =SUM(B48-E48-H48) -> 0 | L48: / | M48: =SUM(D48-G48-J48) -> 0 | U48: 목 | V48: 목국 | W48: 목공
A49: 학교용지 | B49: =COUNTIF('(당초)봉락리'!$D$6:$D$155,'(당초)집계표'!U49) -> 0 | C49: / | D49: =SUMIF('(당초)봉락리'!$D$6:$D$155,'(당초)집계표'!U49,'(당초)봉락리'!$F$6:$F$155) -> 0 | E49: =COUNTIF('(당초)봉락리'!$J$6:$J$155,'(당초)집계표'!V49) -> 0 | F49: / | G49: =SUMIF('(당초)봉락리'!$J$6:$J$155,'(당초)집계표'!V49,'(당초)봉락리'!$F$6:$F$155) -> 0 | H49: =COUNTIF('(당초)봉락리'!$J$6:$J$155,'(당초)집계표'!W49) -> 0 | I49: / | J49: =SUMIF('(당초)봉락리'!$J$6:$J$155,'(당초)집계표'!W49,'(당초)봉락리'!$F$6:$F$155) -> 0 | K49: =SUM(B49-E49-H49) -> 0 | L49: / | M49: =SUM(D49-G49-J49) -> 0 | U49: 학 | V49: 학국 | W49: 학공
... A61: 미지번 | B61: =COUNTIF('(당초)봉락리'!$D$6:$D$155,'(당초)집계표'!U61) -> 3 | C61: / | D61: =SUMIF('(당초)봉락리'!$D$6:$D$155,'(당초)집계표'!U61,'(당초)봉락리'!$F$6:$F$155) -> 1408 | E61: =COUNTIF('(당초)봉락리'!$J$6:$J$155,'(당초)집계표'!V61) -> 3 | F61: / | G61: =SUMIF('(당초)봉락리'!$J$6:$J$155,'(당초)집계표'!V61,'(당초)봉락리'!$F$6:$F$155) -> 1408 | H61: =COUNTIF('(당초)봉락리'!$J$6:$J$155,'(당초)집계표'!W61) -> 0 | I61: / | J61: =SUMIF('(당초)봉락리'!$J$6:$J$155,'(당초)집계표'!W61,'(당초)봉락리'!$F$6:$F$155) -> 0 | K61: =SUM(B61-E61-H61) -> 0 | L61: / | M61: =SUM(D61-G61-J61) -> 0 | U61: 가 | V61: 가국 | W61: 가공
A62: =IF(EXACT(O66,O67),,"검산확인요!!!") -> 0 | K62: =IF(ISBLANK(#REF!),,#REF!) -> #REF!
A64: 구분 | B64: 계 | E64: 국 유 지 | H64: 공 유 지 | K64: 사 유 지 | N64: 비고
B65: 필지 | C65: / | D65: 면 적 (㎡) | E65: 필지 | F65: / | G65: 면 적 (㎡) | H65: 필지 | I65: / | J65: 면 적 (㎡) | K65: 필지 | L65: / | M65: 면 적 (㎡) | Q65: 총계 | R65: 국유지 | S65: 사유지 | T65: 국유지+사유지
A66: 계 | B66: =SUM(B67:B91) -> 227 | C66: / | D66: =SUM(D67:D91) -> 90907.5 | E66: =SUM(E67:E91) -> 43 | F66: / | G66: =SUM(G67:G91) -> 13662.1 | H66: =SUM(H67:H91) -> 165 | I66: / | J66: =SUM(J67:J91) -> 70278.4 | K66: =SUM(K67:K91) -> 19 | L66: / | M66: =SUM(M67:M91) -> 6967 | O66: =IF(EXACT(Q66,T66),"맞음","틀림") -> 틀림 | P66: 필지 | Q66: =SUM(B67:B91) -> 227 | R66: =SUM(E67:E91) -> 43 | S66: =SUM(K67:K91) -> 19 | T66: =K66+E66 -> 62
A67: 전 | B67: =COUNTIF('(당초)칠전리'!$D$6:$D$232,'(당초)집계표'!U67) -> 43 | C67: / | D67: =SUMIF('(당초)칠전리'!$D$6:$D$232,'(당초)집계표'!U67,'(당초)칠전리'!$F$6:$F$232) -> 13676 | E67: =COUNTIF('(당초)칠전리'!$J$6:$J$232,'(당초)집계표'!V67) -> 0 | F67: / | G67: =SUMIF('(당초)칠전리'!$J$6:$J$232,'(당초)집계표'!V67,'(당초)칠전리'!$F$6:$F$232) -> 0 | H67: =COUNTIF('(당초)칠전리'!$J$6:$J$232,'(당초)집계표'!W67) -> 42 | I67: / | J67: =SUMIF('(당초)칠전리'!$J$6:$J$232,'(당초)집계표'!W67,'(당초)칠전리'!$F$6:$F$232) -> 12202 | K67: =SUM(B67-E67-H67) -> 1 | L67: / | M67: =SUM(D67-G67-J67) -> 1474 | O67: =IF(EXACT(Q67,T67),"맞음","틀림") -> 틀림 | P67: 면적 | Q67: =SUM(D67:D91) -> 90907.5 | R67: =SUM(G67:G91) -> 13662.1 | S67: =SUM(M67:M91) -> 6967 | T67: =G66+M66 -> 20629.1 | U67: 전 | V67: 전국 | W67: 전공
A68: 답 | B68: =COUNTIF('(당초)칠전리'!$D$6:$D$232,'(당초)집계표'!U68) -> 32 | C68: / | D68: =SUMIF('(당초)칠전리'!$D$6:$D$232,'(당초)집계표'!U68,'(당초)칠전리'!$F$6:$F$232) -> 18410.4 | E68: =COUNTIF('(당초)칠전리'!$J$6:$J$232,'(당초)집계표'!V68) -> 0 | F68: / | G68: =SUMIF('(당초)칠전리'!$J$6:$J$232,'(당초)집계표'!V68,'(당초)칠전리'!$F$6:$F$232) -> 0 | H68: =COUNTIF('(당초)칠전리'!$J$6:$J$232,'(당초)집계표'!W68) -> 30 | I68: / | J68: =SUMIF('(당초)칠전리'!$J$6:$J$232,'(당초)집계표'!W68,'(당초)칠전리'!$F$6:$F$232) -> 18390.4 | K68: =SUM(B68-E68-H68) -> 2 | L68: / | M68: =SUM(D68-G68-J68) -> 20 | U68: 답 | V68: 답국 | W68: 답공
A69: 임야 | B69: =COUNTIF('(당초)칠전리'!$D$6:$D$232,'(당초)집계표'!U69) -> 46 | C69: / | D69: =SUMIF('(당초)칠전리'!$D$6:$D$232,'(당초)집계표'!U69,'(당초)칠전리'!$F$6:$F$232) -> 30473 | E69: =COUNTIF('(당초)칠전리'!$J$6:$J$232,'(당초)집계표'!V69) -> 0 | F69: / | G69: =SUMIF('(당초)칠전리'!$J$6:$J$232,'(당초)집계표'!V69,'(당초)칠전리'!$F$6:$F$232) -> 0 | H69: =COUNTIF('(당초)칠전리'!$J$6:$J$232,'(당초)집계표'!W69) -> 38 | I69: / | J69: =SUMIF('(당초)칠전리'!$J$6:$J$232,'(당초)집계표'!W69,'(당초)칠전리'!$F$6:$F$232) -> 26140 | K69: =SUM(B69-E69-H69) -> 8 | L69: / | M69: =SUM(D69-G69-J69) -> 4333 | U69: 임 | V69: 임국 | W69: 임공
A70: 대지 | B70: =COUNTIF('(당초)칠전리'!$D$6:$D$232,'(당초)집계표'!U70) -> 9 | C70: / | D70: =SUMIF('(당초)칠전리'!$D$6:$D$232,'(당초)집계표'!U70,'(당초)칠전리'!$F$6:$F$232) -> 1449 | E70: =COUNTIF('(당초)칠전리'!$J$6:$J$232,'(당초)집계표'!V70) -> 0 | F70: / | G70: =SUMIF('(당초)칠전리'!$J$6:$J$232,'(당초)집계표'!V70,'(당초)칠전리'!$F$6:$F$232) -> 0 | H70: =COUNTIF('(당초)칠전리'!$J$6:$J$232,'(당초)집계표'!W70) -> 9 | I70: / | J70: =SUMIF('(당초)칠전리'!$J$6:$J$232,'(당초)집계표'!W70,'(당초)칠전리'!$F$6:$F$232) -> 1449 | K70: =SUM(B70-E70-H70) -> 0 | L70: / | M70: =SUM(D70-G70-J70) -> 0 | U70: 대 | V70: 대국 | W70: 대공
A71: 도로 | B71: =COUNTIF('(당초)칠전리'!$D$6:$D$232,'(당초)집계표'!U71) -> 80 | C71: / | D71: =SUMIF('(당초)칠전리'!$D$6:$D$232,'(당초)집계표'!U71,'(당초)칠전리'!$F$6:$F$232) -> 21920.9 | E71: =COUNTIF('(당초)칠전리'!$J$6:$J$232,'(당초)집계표'!V71) -> 28 | F71: / | G71: =SUMIF('(당초)칠전리'!$J$6:$J$232,'(당초)집계표'!V71,'(당초)칠전리'!$F$6:$F$232) -> 8739.9 | H71: =COUNTIF('(당초)칠전리'!$J$6:$J$232,'(당초)집계표'!W71) -> 45 | I71: / | J71: =SUMIF('(당초)칠전리'!$J$6:$J$232,'(당초)집계표'!W71,'(당초)칠전리'!$F$6:$F$232) -> 12081 | K71: =SUM(B71-E71-H71) -> 7 | L71: / | M71: =SUM(D71-G71-J71) -> 1100 | U71: 도 | V71: 도국 | W71: 도공
A72: 구거 | B72: =COUNTIF('(당초)칠전리'!$D$6:$D$232,'(당초)집계표'!U72) -> 12 | C72: / | D72: =SUMIF('(당초)칠전리'!$D$6:$D$232,'(당초)집계표'!U72,'(당초)칠전리'!$F$6:$F$232) -> 4652.2 | E72: =COUNTIF('(당초)칠전리'!$J$6:$J$232,'(당초)집계표'!V72) -> 12 | F72: / | G72: =SUMIF('(당초)칠전리'!$J$6:$J$232,'(당초)집계표'!V72,'(당초)칠전리'!$F$6:$F$232) -> 4652.2 | H72: =COUNTIF('(당초)칠전리'!$J$6:$J$232,'(당초)집계표'!W72) -> 0 | I72: / | J72: =SUMIF('(당초)칠전리'!$J$6:$J$232,'(당초)집계표'!W72,'(당초)칠전리'!$F$6:$F$232) -> 0 | K72: =SUM(B72-E72-H72) -> 0 | L72: / | M72: =SUM(D72-G72-J72) -> 0 | U72: 구 | V72: 구국 | W72: 구공
A73: 하천 | B73: =COUNTIF('(당초)칠전리'!$D$6:$D$232,'(당초)집계표'!U73) -> 0 | C73: / | D73: =SUMIF('(당초)칠전리'!$D$6:$D$232,'(당초)집계표'!U73,'(당초)칠전리'!$F$6:$F$232) -> 0 | E73: =COUNTIF('(당초)칠전리'!$J$6:$J$232,'(당초)집계표'!V73) -> 0 | F73: / | G73: =SUMIF('(당초)칠전리'!$J$6:$J$232,'(당초)집계표'!V73,'(당초)칠전리'!$F$6:$F$232) -> 0 | H73: =COUNTIF('(당초)칠전리'!$J$6:$J$232,'(당초)집계표'!W73) -> 0 | I73: / | J73: =SUMIF('(당초)칠전리'!$J$6:$J$232,'(당초)집계표'!W73,'(당초)칠전리'!$F$6:$F$232) -> 0 | K73: =SUM(B73-E73-H73) -> 0 | L73: / | M73: =SUM(D73-G73-J73) -> 0 | U73: 하 | V73: 하국 | W73: 하공
A74: 유지 | B74: =COUNTIF('(당초)칠전리'!$D$6:$D$232,'(당초)집계표'!U74) -> 2 | C74: / | D74: =SUMIF('(당초)칠전리'!$D$6:$D$232,'(당초)집계표'!U74,'(당초)칠전리'!$F$6:$F$232) -> 252 | E74: =COUNTIF('(당초)칠전리'!$J$6:$J$232,'(당초)집계표'!V74) -> 2 | F74: / | G74: =SUMIF('(당초)칠전리'!$J$6:$J$232,'(당초)집계표'!V74,'(당초)칠전리'!$F$6:$F$232) -> 252 | H74: =COUNTIF('(당초)칠전리'!$J$6:$J$232,'(당초)집계표'!W74) -> 0 | I74: / | J74: =SUMIF('(당초)칠전리'!$J$6:$J$232,'(당초)집계표'!W74,'(당초)칠전리'!$F$6:$F$232) -> 0 | K74: =SUM(B74-E74-H74) -> 0 | L74: / | M74: =SUM(D74-G74-J74) -> 0 | U74: 유 | V74: 유국 | W74: 유공
A75: 제방 | B75: =COUNTIF('(당초)칠전리'!$D$6:$D$232,'(당초)집계표'!U75) -> 2 | C75: / | D75: =SUMIF('(당초)칠전리'!$D$6:$D$232,'(당초)집계표'!U75,'(당초)칠전리'!$F$6:$F$232) -> 58 | E75: =COUNTIF('(당초)칠전리'!$J$6:$J$232,'(당초)집계표'!V75) -> 1 | F75: / | G75: =SUMIF('(당초)칠전리'!$J$6:$J$232,'(당초)집계표'!V75,'(당초)칠전리'!$F$6:$F$232) -> 18 | H75: =COUNTIF('(당초)칠전리'!$J$6:$J$232,'(당초)집계표'!W75) -> 0 | I75: / | J75: =SUMIF('(당초)칠전리'!$J$6:$J$232,'(당초)집계표'!W75,'(당초)칠전리'!$F$6:$F$232) -> 0 | K75: =SUM(B75-E75-H75) -> 1 | L75: / | M75: =SUM(D75-G75-J75) -> 40 | U75: 제 | V75: 제국 | W75: 제공
A76: 과수원 | B76: =COUNTIF('(당초)칠전리'!$D$6:$D$232,'(당초)집계표'!U76) -> 0 | C76: / | D76: =SUMIF('(당초)칠전리'!$D$6:$D$232,'(당초)집계표'!U76,'(당초)칠전리'!$F$6:$F$232) -> 0 | E76: =COUNTIF('(당초)칠전리'!$J$6:$J$232,'(당초)집계표'!V76) -> 0 | F76: / | G76: =SUMIF('(당초)칠전리'!$J$6:$J$232,'(당초)집계표'!V76,'(당초)칠전리'!$F$6:$F$232) -> 0 | H76: =COUNTIF('(당초)칠전리'!$J$6:$J$232,'(당초)집계표'!W76) -> 0 | I76: / | J76: =SUMIF('(당초)칠전리'!$J$6:$J$232,'(당초)집계표'!W76,'(당초)칠전리'!$F$6:$F$232) -> 0 | K76: =SUM(B76-E76-H76) -> 0 | L76: / | M76: =SUM(D76-G76-J76) -> 0 | U76: 과 | V76: 과국 | W76: 과공
A77: 공장 | B77: =COUNTIF('(당초)칠전리'!$D$6:$D$232,'(당초)집계표'!U77) -> 0 | C77: / | D77: =SUMIF('(당초)칠전리'!$D$6:$D$232,'(당초)집계표'!U77,'(당초)칠전리'!$F$6:$F$232) -> 0 | E77: =COUNTIF('(당초)칠전리'!$J$6:$J$232,'(당초)집계표'!V77) -> 0 | F77: / | G77: =SUMIF('(당초)칠전리'!$J$6:$J$232,'(당초)집계표'!V77,'(당초)칠전리'!$F$6:$F$232) -> 0 | H77: =COUNTIF('(당초)칠전리'!$J$6:$J$232,'(당초)집계표'!W77) -> 0 | I77: / | J77: =SUMIF('(당초)칠전리'!$J$6:$J$232,'(당초)집계표'!W77,'(당초)칠전리'!$F$6:$F$232) -> 0 | K77: =SUM(B77-E77-H77) -> 0 | L77: / | M77: =SUM(D77-G77-J77) -> 0 | U77: 공 | V77: 공국 | W77: 공공
A78: 목장 | B78: =COUNTIF('(당초)칠전리'!$D$6:$D$232,'(당초)집계표'!U78) -> 0 | C78: / | D78: =SUMIF('(당초)칠전리'!$D$6:$D$232,'(당초)집계표'!U78,'(당초)칠전리'!$F$6:$F$232) -> 0 | E78: =COUNTIF('(당초)칠전리'!$J$6:$J$232,'(당초)집계표'!V78) -> 0 | F78: / | G78: =SUMIF('(당초)칠전리'!$J$6:$J$232,'(당초)집계표'!V78,'(당초)칠전리'!$F$6:$F$232) -> 0 | H78: =COUNTIF('(당초)칠전리'!$J$6:$J$232,'(당초)집계표'!W78) -> 0 | I78: / | J78: =SUMIF('(당초)칠전리'!$J$6:$J$232,'(당초)집계표'!W78,'(당초)칠전리'!$F$6:$F$232) -> 0 | K78: =SUM(B78-E78-H78) -> 0 | L78: / | M78: =SUM(D78-G78-J78) -> 0 | U78: 목 | V78: 목국 | W78: 목공
A79: 학교용지 | B79: =COUNTIF('(당초)칠전리'!$D$6:$D$232,'(당초)집계표'!U79) -> 0 | C79: / | D79: =SUMIF('(당초)칠전리'!$D$6:$D$232,'(당초)집계표'!U79,'(당초)칠전리'!$F$6:$F$232) -> 0 | E79: =COUNTIF('(당초)칠전리'!$J$6:$J$232,'(당초)집계표'!V79) -> 0 | F79: / | G79: =SUMIF('(당초)칠전리'!$J$6:$J$232,'(당초)집계표'!V79,'(당초)칠전리'!$F$6:$F$232) -> 0 | H79: =COUNTIF('(당초)칠전리'!$J$6:$J$232,'(당초)집계표'!W79) -> 0 | I79: / | J79: =SUMIF('(당초)칠전리'!$J$6:$J$232,'(당초)집계표'!W79,'(당초)칠전리'!$F$6:$F$232) -> 0 | K79: =SUM(B79-E79-H79) -> 0 | L79: / | M79: =SUM(D79-G79-J79) -> 0 | U79: 학 | V79: 학국 | W79: 학공
... A91: 미지번 | B91: =COUNTIF('(당초)칠전리'!$D$6:$D$232,'(당초)집계표'!U91) -> 0 | C91: / | D91: =SUMIF('(당초)칠전리'!$D$6:$D$232,'(당초)집계표'!U91,'(당초)칠전리'!$F$6:$F$232) -> 0 | E91: =COUNTIF('(당초)칠전리'!$J$6:$J$232,'(당초)집계표'!V91) -> 0 | F91: / | G91: =SUMIF('(당초)칠전리'!$J$6:$J$232,'(당초)집계표'!V91,'(당초)칠전리'!$F$6:$F$232) -> 0 | H91: =COUNTIF('(당초)칠전리'!$J$6:$J$232,'(당초)집계표'!W91) -> 0 | I91: / | J91: =SUMIF('(당초)칠전리'!$J$6:$J$232,'(당초)집계표'!W91,'(당초)칠전리'!$F$6:$F$232) -> 0 | K91: =SUM(B91-E91-H91) -> 0 | L91: / | M91: =SUM(D91-G91-J91) -> 0 | U91: 가 | V91: 가국 | W91: 가공
A92: =IF(EXACT(O96,O97),,"검산확인요!!!") -> 0 | K92: =IF(ISBLANK(#REF!),,#REF!) -> #REF!
A94: 구분 | B94: 계 | E94: 국 유 지 | H94: 공 유 지 | K94: 사 유 지 | N94: 비고
B95: 필지 | C95: / | D95: 면 적 (㎡) | E95: 필지 | F95: / | G95: 면 적 (㎡) | H95: 필지 | I95: / | J95: 면 적 (㎡) | K95: 필지 | L95: / | M95: 면 적 (㎡) | Q95: 총계 | R95: 국유지 | S95: 사유지 | T95: 국유지+사유지
A96: 계 | B96: =SUM(B97:B121) -> 122 | C96: / | D96: =SUM(D97:D121) -> 124461.4 | E96: =SUM(E97:E121) -> 15 | F96: / | G96: =SUM(G97:G121) -> 9891.8 | H96: =SUM(H97:H121) -> 102 | I96: / | J96: =SUM(J97:J121) -> 113971.6 | K96: =SUM(K97:K121) -> 5 | L96: / | M96: =SUM(M97:M121) -> 598 | O96: =IF(EXACT(Q96,T96),"맞음","틀림") -> 틀림 | P96: 필지 | Q96: =SUM(B97:B121) -> 122 | R96: =SUM(E97:E121) -> 15 | S96: =SUM(K97:K121) -> 5 | T96: =K96+E96 -> 20
A97: 전 | B97: =COUNTIF('(당초)마룡리'!$D$6:$D$127,'(당초)집계표'!U97) -> 7 | C97: / | D97: =SUMIF('(당초)마룡리'!$D$6:$D$127,'(당초)집계표'!U97,'(당초)마룡리'!$F$6:$F$127) -> 3505 | E97: =COUNTIF('(당초)마룡리'!$J$6:$J$127,'(당초)집계표'!V97) -> 0 | F97: / | G97: =SUMIF('(당초)마룡리'!$J$6:$J$127,'(당초)집계표'!V97,'(당초)마룡리'!$F$6:$F$127) -> 0 | H97: =COUNTIF('(당초)마룡리'!$J$6:$J$127,'(당초)집계표'!W97) -> 6 | I97: / | J97: =SUMIF('(당초)마룡리'!$J$6:$J$127,'(당초)집계표'!W97,'(당초)마룡리'!$F$6:$F$127) -> 3462 | K97: =SUM(B97-E97-H97) -> 1 | L97: / | M97: =SUM(D97-G97-J97) -> 43 | O97: =IF(EXACT(Q97,T97),"맞음","틀림") -> 틀림 | P97: 면적 | Q97: =SUM(D97:D121) -> 124461.4 | R97: =SUM(G97:G121) -> 9891.8 | S97: =SUM(M97:M121) -> 598 | T97: =G96+M96 -> 10489.8 | U97: 전 | V97: 전국 | W97: 전공
A98: 답 | B98: =COUNTIF('(당초)마룡리'!$D$6:$D$127,'(당초)집계표'!U98) -> 44 | C98: / | D98: =SUMIF('(당초)마룡리'!$D$6:$D$127,'(당초)집계표'!U98,'(당초)마룡리'!$F$6:$F$127) -> 46694.6 | E98: =COUNTIF('(당초)마룡리'!$J$6:$J$127,'(당초)집계표'!V98) -> 0 | F98: / | G98: =SUMIF('(당초)마룡리'!$J$6:$J$127,'(당초)집계표'!V98,'(당초)마룡리'!$F$6:$F$127) -> 0 | H98: =COUNTIF('(당초)마룡리'!$J$6:$J$127,'(당초)집계표'!W98) -> 44 | I98: / | J98: =SUMIF('(당초)마룡리'!$J$6:$J$127,'(당초)집계표'!W98,'(당초)마룡리'!$F$6:$F$127) -> 46694.6 | K98: =SUM(B98-E98-H98) -> 0 | L98: / | M98: =SUM(D98-G98-J98) -> 0 | U98: 답 | V98: 답국 | W98: 답공
A99: 임야 | B99: =COUNTIF('(당초)마룡리'!$D$6:$D$127,'(당초)집계표'!U99) -> 41 | C99: / | D99: =SUMIF('(당초)마룡리'!$D$6:$D$127,'(당초)집계표'!U99,'(당초)마룡리'!$F$6:$F$127) -> 49066 | E99: =COUNTIF('(당초)마룡리'!$J$6:$J$127,'(당초)집계표'!V99) -> 0 | F99: / | G99: =SUMIF('(당초)마룡리'!$J$6:$J$127,'(당초)집계표'!V99,'(당초)마룡리'!$F$6:$F$127) -> 0 | H99: =COUNTIF('(당초)마룡리'!$J$6:$J$127,'(당초)집계표'!W99) -> 38 | I99: / | J99: =SUMIF('(당초)마룡리'!$J$6:$J$127,'(당초)집계표'!W99,'(당초)마룡리'!$F$6:$F$127) -> 48534 | K99: =SUM(B99-E99-H99) -> 3 | L99: / | M99: =SUM(D99-G99-J99) -> 532 | U99: 임 | V99: 임국 | W99: 임공
A100: 대지 | B100: =COUNTIF('(당초)마룡리'!$D$6:$D$127,'(당초)집계표'!U100) -> 0 | C100: / | D100: =SUMIF('(당초)마룡리'!$D$6:$D$127,'(당초)집계표'!U100,'(당초)마룡리'!$F$6:$F$127) -> 0 | E100: =COUNTIF('(당초)마룡리'!$J$6:$J$127,'(당초)집계표'!V100) -> 0 | F100: / | G100: =SUMIF('(당초)마룡리'!$J$6:$J$127,'(당초)집계표'!V100,'(당초)마룡리'!$F$6:$F$127) -> 0 | H100: =COUNTIF('(당초)마룡리'!$J$6:$J$127,'(당초)집계표'!W100) -> 0 | I100: / | J100: =SUMIF('(당초)마룡리'!$J$6:$J$127,'(당초)집계표'!W100,'(당초)마룡리'!$F$6:$F$127) -> 0 | K100: =SUM(B100-E100-H100) -> 0 | L100: / | M100: =SUM(D100-G100-J100) -> 0 | U100: 대 | V100: 대국 | W100: 대공
A101: 도로 | B101: =COUNTIF('(당초)마룡리'!$D$6:$D$127,'(당초)집계표'!U101) -> 20 | C101: / | D101: =SUMIF('(당초)마룡리'!$D$6:$D$127,'(당초)집계표'!U101,'(당초)마룡리'!$F$6:$F$127) -> 21816.9 | E101: =COUNTIF('(당초)마룡리'!$J$6:$J$127,'(당초)집계표'!V101) -> 6 | F101: / | G101: =SUMIF('(당초)마룡리'!$J$6:$J$127,'(당초)집계표'!V101,'(당초)마룡리'!$F$6:$F$127) -> 6683.9 | H101: =COUNTIF('(당초)마룡리'!$J$6:$J$127,'(당초)집계표'!W101) -> 13 | I101: / | J101: =SUMIF('(당초)마룡리'!$J$6:$J$127,'(당초)집계표'!W101,'(당초)마룡리'!$F$6:$F$127) -> 15110 | K101: =SUM(B101-E101-H101) -> 1 | L101: / | M101: =SUM(D101-G101-J101) -> 23 | U101: 도 | V101: 도국 | W101: 도공
A102: 구거 | B102: =COUNTIF('(당초)마룡리'!$D$6:$D$127,'(당초)집계표'!U102) -> 7 | C102: / | D102: =SUMIF('(당초)마룡리'!$D$6:$D$127,'(당초)집계표'!U102,'(당초)마룡리'!$F$6:$F$127) -> 2679 | E102: =COUNTIF('(당초)마룡리'!$J$6:$J$127,'(당초)집계표'!V102) -> 6 | F102: / | G102: =SUMIF('(당초)마룡리'!$J$6:$J$127,'(당초)집계표'!V102,'(당초)마룡리'!$F$6:$F$127) -> 2508 | H102: =COUNTIF('(당초)마룡리'!$J$6:$J$127,'(당초)집계표'!W102) -> 1 | I102: / | J102: =SUMIF('(당초)마룡리'!$J$6:$J$127,'(당초)집계표'!W102,'(당초)마룡리'!$F$6:$F$127) -> 171 | K102: =SUM(B102-E102-H102) -> 0 | L102: / | M102: =SUM(D102-G102-J102) -> 0 | U102: 구 | V102: 구국 | W102: 구공
A103: 하천 | B103: =COUNTIF('(당초)마룡리'!$D$6:$D$127,'(당초)집계표'!U103) -> 1 | C103: / | D103: =SUMIF('(당초)마룡리'!$D$6:$D$127,'(당초)집계표'!U103,'(당초)마룡리'!$F$6:$F$127) -> 597.9 | E103: =COUNTIF('(당초)마룡리'!$J$6:$J$127,'(당초)집계표'!V103) -> 1 | F103: / | G103: =SUMIF('(당초)마룡리'!$J$6:$J$127,'(당초)집계표'!V103,'(당초)마룡리'!$F$6:$F$127) -> 597.9 | H103: =COUNTIF('(당초)마룡리'!$J$6:$J$127,'(당초)집계표'!W103) -> 0 | I103: / | J103: =SUMIF('(당초)마룡리'!$J$6:$J$127,'(당초)집계표'!W103,'(당초)마룡리'!$F$6:$F$127) -> 0 | K103: =SUM(B103-E103-H103) -> 0 | L103: / | M103: =SUM(D103-G103-J103) -> 0 | U103: 천 | V103: 천국 | W103: 천공
A104: 유지 | B104: =COUNTIF('(당초)마룡리'!$D$6:$D$127,'(당초)집계표'!U104) -> 0 | C104: / | D104: =SUMIF('(당초)마룡리'!$D$6:$D$127,'(당초)집계표'!U104,'(당초)마룡리'!$F$6:$F$127) -> 0 | E104: =COUNTIF('(당초)마룡리'!$J$6:$J$127,'(당초)집계표'!V104) -> 0 | F104: / | G104: =SUMIF('(당초)마룡리'!$J$6:$J$127,'(당초)집계표'!V104,'(당초)마룡리'!$F$6:$F$127) -> 0 | H104: =COUNTIF('(당초)마룡리'!$J$6:$J$127,'(당초)집계표'!W104) -> 0 | I104: / | J104: =SUMIF('(당초)마룡리'!$J$6:$J$127,'(당초)집계표'!W104,'(당초)마룡리'!$F$6:$F$127) -> 0 | K104: =SUM(B104-E104-H104) -> 0 | L104: / | M104: =SUM(D104-G104-J104) -> 0 | U104: 유 | V104: 유국 | W104: 유공
A105: 제방 | B105: =COUNTIF('(당초)마룡리'!$D$6:$D$127,'(당초)집계표'!U105) -> 0 | C105: / | D105: =SUMIF('(당초)마룡리'!$D$6:$D$127,'(당초)집계표'!U105,'(당초)마룡리'!$F$6:$F$127) -> 0 | E105: =COUNTIF('(당초)마룡리'!$J$6:$J$127,'(당초)집계표'!V105) -> 0 | F105: / | G105: =SUMIF('(당초)마룡리'!$J$6:$J$127,'(당초)집계표'!V105,'(당초)마룡리'!$F$6:$F$127) -> 0 | H105: =COUNTIF('(당초)마룡리'!$J$6:$J$127,'(당초)집계표'!W105) -> 0 | I105: / | J105: =SUMIF('(당초)마룡리'!$J$6:$J$127,'(당초)집계표'!W105,'(당초)마룡리'!$F$6:$F$127) -> 0 | K105: =SUM(B105-E105-H105) -> 0 | L105: / | M105: =SUM(D105-G105-J105) -> 0 | U105: 제 | V105: 제국 | W105: 제공
A106: 과수원 | B106: =COUNTIF('(당초)마룡리'!$D$6:$D$127,'(당초)집계표'!U106) -> 0 | C106: / | D106: =SUMIF('(당초)마룡리'!$D$6:$D$127,'(당초)집계표'!U106,'(당초)마룡리'!$F$6:$F$127) -> 0 | E106: =COUNTIF('(당초)마룡리'!$J$6:$J$127,'(당초)집계표'!V106) -> 0 | F106: / | G106: =SUMIF('(당초)마룡리'!$J$6:$J$127,'(당초)집계표'!V106,'(당초)마룡리'!$F$6:$F$127) -> 0 | H106: =COUNTIF('(당초)마룡리'!$J$6:$J$127,'(당초)집계표'!W106) -> 0 | I106: / | J106: =SUMIF('(당초)마룡리'!$J$6:$J$127,'(당초)집계표'!W106,'(당초)마룡리'!$F$6:$F$127) -> 0 | K106: =SUM(B106-E106-H106) -> 0 | L106: / | M106: =SUM(D106-G106-J106) -> 0 | U106: 과 | V106: 과국 | W106: 과공
A107: 공장 | B107: =COUNTIF('(당초)마룡리'!$D$6:$D$127,'(당초)집계표'!U107) -> 0 | C107: / | D107: =SUMIF('(당초)마룡리'!$D$6:$D$127,'(당초)집계표'!U107,'(당초)마룡리'!$F$6:$F$127) -> 0 | E107: =COUNTIF('(당초)마룡리'!$J$6:$J$127,'(당초)집계표'!V107) -> 0 | F107: / | G107: =SUMIF('(당초)마룡리'!$J$6:$J$127,'(당초)집계표'!V107,'(당초)마룡리'!$F$6:$F$127) -> 0 | H107: =COUNTIF('(당초)마룡리'!$J$6:$J$127,'(당초)집계표'!W107) -> 0 | I107: / | J107: =SUMIF('(당초)마룡리'!$J$6:$J$127,'(당초)집계표'!W107,'(당초)마룡리'!$F$6:$F$127) -> 0 | K107: =SUM(B107-E107-H107) -> 0 | L107: / | M107: =SUM(D107-G107-J107) -> 0 | U107: 공 | V107: 공국 | W107: 공공
A108: 목장 | B108: =COUNTIF('(당초)마룡리'!$D$6:$D$127,'(당초)집계표'!U108) -> 0 | C108: / | D108: =SUMIF('(당초)마룡리'!$D$6:$D$127,'(당초)집계표'!U108,'(당초)마룡리'!$F$6:$F$127) -> 0 | E108: =COUNTIF('(당초)마룡리'!$J$6:$J$127,'(당초)집계표'!V108) -> 0 | F108: / | G108: =SUMIF('(당초)마룡리'!$J$6:$J$127,'(당초)집계표'!V108,'(당초)마룡리'!$F$6:$F$127) -> 0 | H108: =COUNTIF('(당초)마룡리'!$J$6:$J$127,'(당초)집계표'!W108) -> 0 | I108: / | J108: =SUMIF('(당초)마룡리'!$J$6:$J$127,'(당초)집계표'!W108,'(당초)마룡리'!$F$6:$F$127) -> 0 | K108: =SUM(B108-E108-H108) -> 0 | L108: / | M108: =SUM(D108-G108-J108) -> 0 | U108: 목 | V108: 목국 | W108: 목공
A109: 학교용지 | B109: =COUNTIF('(당초)마룡리'!$D$6:$D$127,'(당초)집계표'!U109) -> 0 | C109: / | D109: =SUMIF('(당초)마룡리'!$D$6:$D$127,'(당초)집계표'!U109,'(당초)마룡리'!$F$6:$F$127) -> 0 | E109: =COUNTIF('(당초)마룡리'!$J$6:$J$127,'(당초)집계표'!V109) -> 0 | F109: / | G109: =SUMIF('(당초)마룡리'!$J$6:$J$127,'(당초)집계표'!V109,'(당초)마룡리'!$F$6:$F$127) -> 0 | H109: =COUNTIF('(당초)마룡리'!$J$6:$J$127,'(당초)집계표'!W109) -> 0 | I109: / | J109: =SUMIF('(당초)마룡리'!$J$6:$J$127,'(당초)집계표'!W109,'(당초)마룡리'!$F$6:$F$127) -> 0 | K109: =SUM(B109-E109-H109) -> 0 | L109: / | M109: =SUM(D109-G109-J109) -> 0 | U109: 학 | V109: 학국 | W109: 학공
... A121: 미지번 | B121: =COUNTIF('(당초)마룡리'!$D$6:$D$127,'(당초)집계표'!U121) -> 2 | C121: / | D121: =SUMIF('(당초)마룡리'!$D$6:$D$127,'(당초)집계표'!U121,'(당초)마룡리'!$F$6:$F$127) -> 102 | E121: =COUNTIF('(당초)마룡리'!$J$6:$J$127,'(당초)집계표'!V121) -> 2 | F121: / | G121: =SUMIF('(당초)마룡리'!$J$6:$J$127,'(당초)집계표'!V121,'(당초)마룡리'!$F$6:$F$127) -> 102 | H121: =COUNTIF('(당초)마룡리'!$J$6:$J$127,'(당초)집계표'!W121) -> 0 | I121: / | J121: =SUMIF('(당초)마룡리'!$J$6:$J$127,'(당초)집계표'!W121,'(당초)마룡리'!$F$6:$F$127) -> 0 | K121: =SUM(B121-E121-H121) -> 0 | L121: / | M121: =SUM(D121-G121-J121) -> 0 | U121: 가 | V121: 가국 | W121: 가공
A122: =IF(EXACT(O126,O127),,"검산확인요!!!") -> 0 | K122: =IF(ISBLANK(#REF!),,#REF!) -> #REF!
A124: 구분 | B124: 계 | E124: 국 유 지 | H124: 공 유 지 | K124: 사 유 지 | N124: 비고
B125: 필지 | C125: / | D125: 면 적 (㎡) | E125: 필지 | F125: / | G125: 면 적 (㎡) | H125: 필지 | I125: / | J125: 면 적 (㎡) | K125: 필지 | L125: / | M125: 면 적 (㎡) | Q125: 총계 | R125: 국유지 | S125: 사유지 | T125: 국유지+사유지
A126: 계 | B126: =SUM(B127:B151) -> 148 | C126: / | D126: =SUM(D127:D151) -> 96622 | E126: =SUM(E127:E151) -> 16 | F126: / | G126: =SUM(G127:G151) -> 5160 | H126: =SUM(H127:H151) -> 126 | I126: / | J126: =SUM(J127:J151) -> 86253 | K126: =SUM(K127:K151) -> 6 | L126: / | M126: =SUM(M127:M151) -> 5209 | O126: =IF(EXACT(Q126,T126),"맞음","틀림") -> 틀림 | P126: 필지 | Q126: =SUM(B127:B151) -> 148 | R126: =SUM(E127:E151) -> 16 | S126: =SUM(K127:K151) -> 6 | T126: =K126+E126 -> 22
A127: 전 | B127: =COUNTIF('(당초)창리'!$D$6:$D$153,'(당초)집계표'!U127) -> 24 | C127: / | D127: =SUMIF('(당초)창리'!$D$6:$D$153,'(당초)집계표'!U127,'(당초)창리'!$F$6:$F$153) -> 7192 | E127: =COUNTIF('(당초)창리'!$J$6:$J$153,'(당초)집계표'!V127) -> 0 | F127: / | G127: =SUMIF('(당초)창리'!$J$6:$J$153,'(당초)집계표'!V127,'(당초)창리'!$F$6:$F$153) -> 0 | H127: =COUNTIF('(당초)창리'!$J$6:$J$153,'(당초)집계표'!W127) -> 23 | I127: / | J127: =SUMIF('(당초)창리'!$J$6:$J$153,'(당초)집계표'!W127,'(당초)창리'!$F$6:$F$153) -> 7179 | K127: =SUM(B127-E127-H127) -> 1 | L127: / | M127: =SUM(D127-G127-J127) -> 13 | O127: =IF(EXACT(Q127,T127),"맞음","틀림") -> 틀림 | P127: 면적 | Q127: =SUM(D127:D151) -> 96622 | R127: =SUM(G127:G151) -> 5160 | S127: =SUM(M127:M151) -> 5209 | T127: =G126+M126 -> 10369 | U127: 전 | V127: 전국 | W127: 전공
A128: 답 | B128: =COUNTIF('(당초)창리'!$D$6:$D$153,'(당초)집계표'!U128) -> 22 | C128: / | D128: =SUMIF('(당초)창리'!$D$6:$D$153,'(당초)집계표'!U128,'(당초)창리'!$F$6:$F$153) -> 11694 | E128: =COUNTIF('(당초)창리'!$J$6:$J$153,'(당초)집계표'!V128) -> 0 | F128: / | G128: =SUMIF('(당초)창리'!$J$6:$J$153,'(당초)집계표'!V128,'(당초)창리'!$F$6:$F$153) -> 0 | H128: =COUNTIF('(당초)창리'!$J$6:$J$153,'(당초)집계표'!W128) -> 22 | I128: / | J128: =SUMIF('(당초)창리'!$J$6:$J$153,'(당초)집계표'!W128,'(당초)창리'!$F$6:$F$153) -> 11694 | K128: =SUM(B128-E128-H128) -> 0 | L128: / | M128: =SUM(D128-G128-J128) -> 0 | U128: 답 | V128: 답국 | W128: 답공
A129: 임야 | B129: =COUNTIF('(당초)창리'!$D$6:$D$153,'(당초)집계표'!U129) -> 42 | C129: / | D129: =SUMIF('(당초)창리'!$D$6:$D$153,'(당초)집계표'!U129,'(당초)창리'!$F$6:$F$153) -> 62482 | E129: =COUNTIF('(당초)창리'!$J$6:$J$153,'(당초)집계표'!V129) -> 3 | F129: / | G129: =SUMIF('(당초)창리'!$J$6:$J$153,'(당초)집계표'!V129,'(당초)창리'!$F$6:$F$153) -> 3195 | H129: =COUNTIF('(당초)창리'!$J$6:$J$153,'(당초)집계표'!W129) -> 36 | I129: / | J129: =SUMIF('(당초)창리'!$J$6:$J$153,'(당초)집계표'!W129,'(당초)창리'!$F$6:$F$153) -> 54286 | K129: =SUM(B129-E129-H129) -> 3 | L129: / | M129: =SUM(D129-G129-J129) -> 5001 | U129: 임 | V129: 임국 | W129: 임공
A130: 대지 | B130: =COUNTIF('(당초)창리'!$D$6:$D$153,'(당초)집계표'!U130) -> 8 | C130: / | D130: =SUMIF('(당초)창리'!$D$6:$D$153,'(당초)집계표'!U130,'(당초)창리'!$F$6:$F$153) -> 798 | E130: =COUNTIF('(당초)창리'!$J$6:$J$153,'(당초)집계표'!V130) -> 0 | F130: / | G130: =SUMIF('(당초)창리'!$J$6:$J$153,'(당초)집계표'!V130,'(당초)창리'!$F$6:$F$153) -> 0 | H130: =COUNTIF('(당초)창리'!$J$6:$J$153,'(당초)집계표'!W130) -> 8 | I130: / | J130: =SUMIF('(당초)창리'!$J$6:$J$153,'(당초)집계표'!W130,'(당초)창리'!$F$6:$F$153) -> 798 | K130: =SUM(B130-E130-H130) -> 0 | L130: / | M130: =SUM(D130-G130-J130) -> 0 | U130: 대 | V130: 대국 | W130: 대공
A131: 도로 | B131: =COUNTIF('(당초)창리'!$D$6:$D$153,'(당초)집계표'!U131) -> 38 | C131: / | D131: =SUMIF('(당초)창리'!$D$6:$D$153,'(당초)집계표'!U131,'(당초)창리'!$F$6:$F$153) -> 7427 | E131: =COUNTIF('(당초)창리'!$J$6:$J$153,'(당초)집계표'!V131) -> 12 | F131: / | G131: =SUMIF('(당초)창리'!$J$6:$J$153,'(당초)집계표'!V131,'(당초)창리'!$F$6:$F$153) -> 1419 | H131: =COUNTIF('(당초)창리'!$J$6:$J$153,'(당초)집계표'!W131) -> 25 | I131: / | J131: =SUMIF('(당초)창리'!$J$6:$J$153,'(당초)집계표'!W131,'(당초)창리'!$F$6:$F$153) -> 5836 | K131: =SUM(B131-E131-H131) -> 1 | L131: / | M131: =SUM(D131-G131-J131) -> 172 | U131: 도 | V131: 도국 | W131: 도공
A132: 구거 | B132: =COUNTIF('(당초)창리'!$D$6:$D$153,'(당초)집계표'!U132) -> 0 | C132: / | D132: =SUMIF('(당초)창리'!$D$6:$D$153,'(당초)집계표'!U132,'(당초)창리'!$F$6:$F$153) -> 0 | E132: =COUNTIF('(당초)창리'!$J$6:$J$153,'(당초)집계표'!V132) -> 0 | F132: / | G132: =SUMIF('(당초)창리'!$J$6:$J$153,'(당초)집계표'!V132,'(당초)창리'!$F$6:$F$153) -> 0 | H132: =COUNTIF('(당초)창리'!$J$6:$J$153,'(당초)집계표'!W132) -> 0 | I132: / | J132: =SUMIF('(당초)창리'!$J$6:$J$153,'(당초)집계표'!W132,'(당초)창리'!$F$6:$F$153) -> 0 | K132: =SUM(B132-E132-H132) -> 0 | L132: / | M132: =SUM(D132-G132-J132) -> 0 | U132: 구 | V132: 구국 | W132: 구공
A133: 하천 | B133: =COUNTIF('(당초)창리'!$D$6:$D$153,'(당초)집계표'!U133) -> 0 | C133: / | D133: =SUMIF('(당초)창리'!$D$6:$D$153,'(당초)집계표'!U133,'(당초)창리'!$F$6:$F$153) -> 0 | E133: =COUNTIF('(당초)창리'!$J$6:$J$153,'(당초)집계표'!V133) -> 0 | F133: / | G133: =SUMIF('(당초)창리'!$J$6:$J$153,'(당초)집계표'!V133,'(당초)창리'!$F$6:$F$153) -> 0 | H133: =COUNTIF('(당초)창리'!$J$6:$J$153,'(당초)집계표'!W133) -> 0 | I133: / | J133: =SUMIF('(당초)창리'!$J$6:$J$153,'(당초)집계표'!W133,'(당초)창리'!$F$6:$F$153) -> 0 | K133: =SUM(B133-E133-H133) -> 0 | L133: / | M133: =SUM(D133-G133-J133) -> 0 | U133: 하 | V133: 하국 | W133: 하공
A134: 유지 | B134: =COUNTIF('(당초)창리'!$D$6:$D$153,'(당초)집계표'!U134) -> 0 | C134: / | D134: =SUMIF('(당초)창리'!$D$6:$D$153,'(당초)집계표'!U134,'(당초)창리'!$F$6:$F$153) -> 0 | E134: =COUNTIF('(당초)창리'!$J$6:$J$153,'(당초)집계표'!V134) -> 0 | F134: / | G134: =SUMIF('(당초)창리'!$J$6:$J$153,'(당초)집계표'!V134,'(당초)창리'!$F$6:$F$153) -> 0 | H134: =COUNTIF('(당초)창리'!$J$6:$J$153,'(당초)집계표'!W134) -> 0 | I134: / | J134: =SUMIF('(당초)창리'!$J$6:$J$153,'(당초)집계표'!W134,'(당초)창리'!$F$6:$F$153) -> 0 | K134: =SUM(B134-E134-H134) -> 0 | L134: / | M134: =SUM(D134-G134-J134) -> 0 | U134: 유 | V134: 유국 | W134: 유공
A135: 제방 | B135: =COUNTIF('(당초)창리'!$D$6:$D$153,'(당초)집계표'!U135) -> 1 | C135: / | D135: =SUMIF('(당초)창리'!$D$6:$D$153,'(당초)집계표'!U135,'(당초)창리'!$F$6:$F$153) -> 546 | E135: =COUNTIF('(당초)창리'!$J$6:$J$153,'(당초)집계표'!V135) -> 1 | F135: / | G135: =SUMIF('(당초)창리'!$J$6:$J$153,'(당초)집계표'!V135,'(당초)창리'!$F$6:$F$153) -> 546 | H135: =COUNTIF('(당초)창리'!$J$6:$J$153,'(당초)집계표'!W135) -> 0 | I135: / | J135: =SUMIF('(당초)창리'!$J$6:$J$153,'(당초)집계표'!W135,'(당초)창리'!$F$6:$F$153) -> 0 | K135: =SUM(B135-E135-H135) -> 0 | L135: / | M135: =SUM(D135-G135-J135) -> 0 | U135: 제 | V135: 제국 | W135: 제공
A136: 과수원 | B136: =COUNTIF('(당초)창리'!$D$6:$D$153,'(당초)집계표'!U136) -> 0 | C136: / | D136: =SUMIF('(당초)창리'!$D$6:$D$153,'(당초)집계표'!U136,'(당초)창리'!$F$6:$F$153) -> 0 | E136: =COUNTIF('(당초)창리'!$J$6:$J$153,'(당초)집계표'!V136) -> 0 | F136: / | G136: =SUMIF('(당초)창리'!$J$6:$J$153,'(당초)집계표'!V136,'(당초)창리'!$F$6:$F$153) -> 0 | H136: =COUNTIF('(당초)창리'!$J$6:$J$153,'(당초)집계표'!W136) -> 0 | I136: / | J136: =SUMIF('(당초)창리'!$J$6:$J$153,'(당초)집계표'!W136,'(당초)창리'!$F$6:$F$153) -> 0 | K136: =SUM(B136-E136-H136) -> 0 | L136: / | M136: =SUM(D136-G136-J136) -> 0 | U136: 과 | V136: 과국 | W136: 과공
A137: 공장 | B137: =COUNTIF('(당초)창리'!$D$6:$D$153,'(당초)집계표'!U137) -> 0 | C137: / | D137: =SUMIF('(당초)창리'!$D$6:$D$153,'(당초)집계표'!U137,'(당초)창리'!$F$6:$F$153) -> 0 | E137: =COUNTIF('(당초)창리'!$J$6:$J$153,'(당초)집계표'!V137) -> 0 | F137: / | G137: =SUMIF('(당초)창리'!$J$6:$J$153,'(당초)집계표'!V137,'(당초)창리'!$F$6:$F$153) -> 0 | H137: =COUNTIF('(당초)창리'!$J$6:$J$153,'(당초)집계표'!W137) -> 0 | I137: / | J137: =SUMIF('(당초)창리'!$J$6:$J$153,'(당초)집계표'!W137,'(당초)창리'!$F$6:$F$153) -> 0 | K137: =SUM(B137-E137-H137) -> 0 | L137: / | M137: =SUM(D137-G137-J137) -> 0 | U137: 공 | V137: 공국 | W137: 공공
A138: 목장 | B138: =COUNTIF('(당초)창리'!$D$6:$D$153,'(당초)집계표'!U138) -> 0 | C138: / | D138: =SUMIF('(당초)창리'!$D$6:$D$153,'(당초)집계표'!U138,'(당초)창리'!$F$6:$F$153) -> 0 | E138: =COUNTIF('(당초)창리'!$J$6:$J$153,'(당초)집계표'!V138) -> 0 | F138: / | G138: =SUMIF('(당초)창리'!$J$6:$J$153,'(당초)집계표'!V138,'(당초)창리'!$F$6:$F$153) -> 0 | H138: =COUNTIF('(당초)창리'!$J$6:$J$153,'(당초)집계표'!W138) -> 0 | I138: / | J138: =SUMIF('(당초)창리'!$J$6:$J$153,'(당초)집계표'!W138,'(당초)창리'!$F$6:$F$153) -> 0 | K138: =SUM(B138-E138-H138) -> 0 | L138: / | M138: =SUM(D138-G138-J138) -> 0 | U138: 목 | V138: 목국 | W138: 목공
A139: 학교용지 | B139: =COUNTIF('(당초)창리'!$D$6:$D$153,'(당초)집계표'!U139) -> 0 | C139: / | D139: =SUMIF('(당초)창리'!$D$6:$D$153,'(당초)집계표'!U139,'(당초)창리'!$F$6:$F$153) -> 0 | E139: =COUNTIF('(당초)창리'!$J$6:$J$153,'(당초)집계표'!V139) -> 0 | F139: / | G139: =SUMIF('(당초)창리'!$J$6:$J$153,'(당초)집계표'!V139,'(당초)창리'!$F$6:$F$153) -> 0 | H139: =COUNTIF('(당초)창리'!$J$6:$J$153,'(당초)집계표'!W139) -> 0 | I139: / | J139: =SUMIF('(당초)창리'!$J$6:$J$153,'(당초)집계표'!W139,'(당초)창리'!$F$6:$F$153) -> 0 | K139: =SUM(B139-E139-H139) -> 0 | L139: / | M139: =SUM(D139-G139-J139) -> 0 | U139: 학 | V139: 학국 | W139: 학공
... A151: 미지번 | B151: =COUNTIF('(당초)창리'!$D$6:$D$153,'(당초)집계표'!U151) -> 0 | C151: / | D151: =SUMIF('(당초)창리'!$D$6:$D$153,'(당초)집계표'!U151,'(당초)창리'!$F$6:$F$153) -> 0 | E151: =COUNTIF('(당초)창리'!$J$6:$J$153,'(당초)집계표'!V151) -> 0 | F151: / | G151: =SUMIF('(당초)창리'!$J$6:$J$153,'(당초)집계표'!V151,'(당초)창리'!$F$6:$F$153) -> 0 | H151: =COUNTIF('(당초)창리'!$J$6:$J$153,'(당초)집계표'!W151) -> 0 | I151: / | J151: =SUMIF('(당초)창리'!$J$6:$J$153,'(당초)집계표'!W151,'(당초)창리'!$F$6:$F$153) -> 0 | K151: =SUM(B151-E151-H151) -> 0 | L151: / | M151: =SUM(D151-G151-J151) -> 0 | U151: 가 | V151: 가국 | W151: 가공
A152: =IF(EXACT(O156,O157),,"검산확인요!!!") -> 0 | K152: =IF(ISBLANK('6'!K2),,'6'!K2) -> 3
A154: 구분 | B154: 계 | E154: 국 유 지 | H154: 공 유 지 | K154: 사 유 지 | N154: 비고
B155: 필지 | C155: / | D155: 면 적 (㎡) | E155: 필지 | F155: / | G155: 면 적 (㎡) | H155: 필지 | I155: / | J155: 면 적 (㎡) | K155: 필지 | L155: / | M155: 면 적 (㎡) | Q155: 총계 | R155: 국유지 | S155: 사유지 | T155: 국유지+사유지
A156: 계 | B156: =SUM(B157:B181) -> 0 | C156: / | D156: =SUM(D157:D181) -> 0 | E156: =SUM(E157:E181) -> 0 | F156: / | G156: =SUM(G157:G181) -> 0 | H156: =SUM(H157:H181) -> 0 | I156: / | J156: =SUM(J157:J181) -> 0 | K156: =SUM(K157:K181) -> 0 | L156: / | M156: =SUM(M157:M181) -> 0 | O156: =IF(EXACT(Q156,T156),"맞음","틀림") -> 맞음 | P156: 필지 | Q156: =SUM(B157:B181) -> 0 | R156: =SUM(E157:E181) -> 0 | S156: =SUM(K157:K181) -> 0 | T156: =K156+E156 -> 0
A157: 전 | B157: =COUNTIF('6'!$C$6:$C$529,"전") -> 0 | C157: / | D157: =SUMIF('6'!$C$6:$C$529,"전",'6'!$E$6:$E$529) -> 0 | E157: =COUNTIF('6'!$N$6:$N$529,"전국") -> 0 | F157: / | G157: =SUMIF('6'!$N$6:$N$529,"전국",'6'!$E$6:$E$529) -> 0 | H157: =COUNTIF('6'!$N$6:$N$529,"전공") -> 0 | I157: / | J157: =SUMIF('6'!$N$6:$N$529,"전공",'6'!$E$6:$E$529) -> 0 | K157: =SUM(B157-E157-H157) -> 0 | L157: / | M157: =SUM(D157-G157-J157) -> 0 | O157: =IF(EXACT(Q157,T157),"맞음","틀림") -> 맞음 | P157: 면적 | Q157: =SUM(D157:D181) -> 0 | R157: =SUM(G157:G181) -> 0 | S157: =SUM(M157:M181) -> 0 | T157: =G156+M156 -> 0
A158: 답 | B158: =COUNTIF('6'!$C$6:$C$529,"답") -> 0 | C158: / | D158: =SUMIF('6'!$C$6:$C$529,"답",'6'!$E$6:$E$529) -> 0 | E158: =COUNTIF('6'!$N$6:$N$529,"답국") -> 0 | F158: / | G158: =SUMIF('6'!$N$6:$N$529,"답국",'6'!$E$6:$E$529) -> 0 | H158: =COUNTIF('6'!$N$6:$N$529,"답공") -> 0 | I158: / | J158: =SUMIF('6'!$N$6:$N$529,"답공",'6'!$E$6:$E$529) -> 0 | K158: =SUM(B158-E158-H158) -> 0 | L158: / | M158: =SUM(D158-G158-J158) -> 0
A159: 임야 | B159: =COUNTIF('6'!$C$6:$C$529,"임") -> 0 | C159: / | D159: =SUMIF('6'!$C$6:$C$529,"임",'6'!$E$6:$E$529) -> 0 | E159: =COUNTIF('6'!$N$6:$N$529,"임국") -> 0 | F159: / | G159: =SUMIF('6'!$N$6:$N$529,"임국",'6'!$E$6:$E$529) -> 0 | H159: =COUNTIF('6'!$N$6:$N$529,"임공") -> 0 | I159: / | J159: =SUMIF('6'!$N$6:$N$529,"임공",'6'!$E$6:$E$529) -> 0 | K159: =SUM(B159-E159-H159) -> 0 | L159: / | M159: =SUM(D159-G159-J159) -> 0
A160: 대지 | B160: =COUNTIF('6'!$C$6:$C$529,"대") -> 0 | C160: / | D160: =SUMIF('6'!$C$6:$C$529,"대",'6'!$E$6:$E$529) -> 0 | E160: =COUNTIF('6'!$N$6:$N$529,"대국") -> 0 | F160: / | G160: =SUMIF('6'!$N$6:$N$529,"대국",'6'!$E$6:$E$529) -> 0 | H160: =COUNTIF('6'!$N$6:$N$529,"대공") -> 0 | I160: / | J160: =SUMIF('6'!$N$6:$N$529,"대공",'6'!$E$6:$E$529) -> 0 | K160: =SUM(B160-E160-H160) -> 0 | L160: / | M160: =SUM(D160-G160-J160) -> 0
A161: 도로 | B161: =COUNTIF('6'!$C$6:$C$529,"도") -> 0 | C161: / | D161: =SUMIF('6'!$C$6:$C$529,"도",'6'!$E$6:$E$529) -> 0 | E161: =COUNTIF('6'!$N$6:$N$529,"도국") -> 0 | F161: / | G161: =SUMIF('6'!$N$6:$N$529,"도국",'6'!$E$6:$E$529) -> 0 | H161: =COUNTIF('6'!$N$6:$N$529,"도공") -> 0 | I161: / | J161: =SUMIF('6'!$N$6:$N$529,"도공",'6'!$E$6:$E$529) -> 0 | K161: =SUM(B161-E161-H161) -> 0 | L161: / | M161: =SUM(D161-G161-J161) -> 0
...

Sheet (변경)집계표
A1: (변경) 편 입 용 지 집 계 표
A2: =IF(EXACT(O6,O7),,"검산확인요!!!") -> #REF! | K2: =IF(ISBLANK(토지세목조서!N2),,토지세목조서!N2) -> 0
A4: 구분 | B4: 계 | E4: 국 유 지 | H4: 공 유 지 | K4: 사 유 지 | N4: 비고
B5: 필지 | C5: / | D5: 면 적 (㎡) | E5: 필지 | F5: / | G5: 면 적 (㎡) | H5: 필지 | I5: / | J5: 면 적 (㎡) | K5: 필지 | L5: / | M5: 면 적 (㎡) | Q5: 총계 | R5: 국유지 | S5: 사유지 | T5: 국유지+사유지
A6: 계 | B6: =SUM(B7:B31) -> 650 | C6: / | D6: =SUM(D7:D31) -> 315781.7 | E6: =SUM(E7:E31) -> #REF! | F6: / | G6: =SUM(G7:G31) -> #REF! | H6: =SUM(H7:H31) -> #REF! | I6: / | J6: =SUM(J7:J31) -> #REF! | K6: =SUM(K7:K31) -> #REF! | L6: / | M6: =SUM(M7:M31) -> #REF! | O6: =IF(EXACT(Q6,T6),"맞음","틀림") -> #REF! | P6: 필지 | Q6: =SUM(B7:B31) -> 650 | R6: =SUM(E7:E31) -> #REF! | S6: =SUM(K7:K31) -> #REF! | T6: =K6+E6 -> #REF!
A7: 전 | B7: =COUNTIF(토지세목조서!$E$6:$E$659,"전") -> 92 | C7: / | D7: =SUMIF(토지세목조서!$E$6:$E$659,"전",토지세목조서!$H$6:$H$659) -> 31389 | E7: =COUNTIF(토지세목조서!#REF!,"전국") -> #REF! | F7: / | G7: =SUMIF(토지세목조서!#REF!,"전국",토지세목조서!$H$6:$H$659) -> #REF! | H7: =COUNTIF(토지세목조서!#REF!,"전공") -> #REF! | I7: / | J7: =SUMIF(토지세목조서!#REF!,"전공",토지세목조서!$H$6:$H$659) -> #REF! | K7: =SUM(B7-E7-H7) -> #REF! | L7: / | M7: =SUM(D7-G7-J7) -> #REF! | O7: =IF(EXACT(Q7,T7),"맞음","틀림") -> #REF! | P7: 면적 | Q7: =SUM(D7:D31) -> 315781.7 | R7: =SUM(G7:G31) -> #REF! | S7: =SUM(M7:M31) -> #REF! | T7: =G6+M6 -> #REF! | U7: 전 | V7: 전국 | W7: 전공
A8: 답 | B8: =COUNTIF(토지세목조서!$E$6:$E$659,"답") -> 142 | C8: / | D8: =SUMIF(토지세목조서!$E$6:$E$659,"답",토지세목조서!$H$6:$H$659) -> 98608 | E8: =COUNTIF(토지세목조서!#REF!,"답국") -> #REF! | F8: / | G8: =SUMIF(토지세목조서!#REF!,"답국",토지세목조서!$H$6:$H$659) -> #REF! | H8: =COUNTIF(토지세목조서!#REF!,"답공") -> #REF! | I8: / | J8: =SUMIF(토지세목조서!#REF!,"답공",토지세목조서!$H$6:$H$659) -> #REF! | K8: =SUM(B8-E8-H8) -> #REF! | L8: / | M8: =SUM(D8-G8-J8) -> #REF! | U8: 답 | V8: 답국 | W8: 답공
A9: 임야 | B9: =COUNTIF(토지세목조서!$E$6:$E$659,"임") -> 114 | C9: / | D9: =SUMIF(토지세목조서!$E$6:$E$659,"임",토지세목조서!$H$6:$H$659) -> 98855 | E9: =COUNTIF(토지세목조서!#REF!,"임국") -> #REF! | F9: / | G9: =SUMIF(토지세목조서!#REF!,"임국",토지세목조서!$H$6:$H$659) -> #REF! | H9: =COUNTIF(토지세목조서!#REF!,"임공") -> #REF! | I9: / | J9: =SUMIF(토지세목조서!#REF!,"임공",토지세목조서!$H$6:$H$659) -> #REF! | K9: =SUM(B9-E9-H9) -> #REF! | L9: / | M9: =SUM(D9-G9-J9) -> #REF! | U9: 임 | V9: 임국 | W9: 임공
A10: 대지 | B10: =COUNTIF(토지세목조서!$E$6:$E$659,"대") -> 26 | C10: / | D10: =SUMIF(토지세목조서!$E$6:$E$659,"대",토지세목조서!$H$6:$H$659) -> 2982 | E10: =COUNTIF(토지세목조서!#REF!,"대국") -> #REF! | F10: / | G10: =SUMIF(토지세목조서!#REF!,"대국",토지세목조서!$H$6:$H$659) -> #REF! | H10: =COUNTIF(토지세목조서!#REF!,"대공") -> #REF! | I10: / | J10: =SUMIF(토지세목조서!#REF!,"대공",토지세목조서!$H$6:$H$659) -> #REF! | K10: =SUM(B10-E10-H10) -> #REF! | L10: / | M10: =SUM(D10-G10-J10) -> #REF! | U10: 대 | V10: 대국 | W10: 대공
A11: 도로 | B11: =COUNTIF(토지세목조서!$E$6:$E$659,"도")-1 -> 212 | C11: / | D11: =SUMIF(토지세목조서!$E$6:$E$659,"도",토지세목조서!$H$6:$H$659) -> 67484.3 | E11: =COUNTIF(토지세목조서!#REF!,"도국") -> #REF! | F11: / | G11: =SUMIF(토지세목조서!#REF!,"도국",토지세목조서!$H$6:$H$659) -> #REF! | H11: =COUNTIF(토지세목조서!#REF!,"도공")-1 -> #REF! | I11: / | J11: =SUMIF(토지세목조서!#REF!,"도공",토지세목조서!$H$6:$H$659) -> #REF! | K11: =SUM(B11-E11-H11) -> #REF! | L11: / | M11: =SUM(D11-G11-J11) -> #REF! | U11: 도 | V11: 도국 | W11: 도공
A12: 구거 | B12: =COUNTIF(토지세목조서!$E$6:$E$659,"구") -> 45 | C12: / | D12: =SUMIF(토지세목조서!$E$6:$E$659,"구",토지세목조서!$H$6:$H$659) -> 11349.5 | E12: =COUNTIF(토지세목조서!#REF!,"구국") -> #REF! | F12: / | G12: =SUMIF(토지세목조서!#REF!,"구국",토지세목조서!$H$6:$H$659) -> #REF! | H12: =COUNTIF(토지세목조서!#REF!,"구공") -> #REF! | I12: / | J12: =SUMIF(토지세목조서!#REF!,"구공",토지세목조서!$H$6:$H$659) -> #REF! | K12: =SUM(B12-E12-H12) -> #REF! | L12: / | M12: =SUM(D12-G12-J12) -> #REF! | U12: 구 | V12: 구국 | W12: 구공
A13: 하천 | B13: =COUNTIF(토지세목조서!$E$6:$E$659,"천") -> 1 | C13: / | D13: =SUMIF(토지세목조서!$E$6:$E$659,"천",토지세목조서!$H$6:$H$659) -> 597.9 | E13: =COUNTIF(토지세목조서!#REF!,"천국") -> #REF! | F13: / | G13: =SUMIF(토지세목조서!#REF!,"천국",토지세목조서!$H$6:$H$659) -> #REF! | H13: =COUNTIF(토지세목조서!#REF!,"천공") -> #REF! | I13: / | J13: =SUMIF(토지세목조서!#REF!,"천공",토지세목조서!$H$6:$H$659) -> #REF! | K13: =SUM(B13-E13-H13) -> #REF! | L13: / | M13: =SUM(D13-G13-J13) -> #REF! | U13: 하 | V13: 하국 | W13: 하공
A14: 유지 | B14: =COUNTIF(토지세목조서!$E$6:$E$659,"유")-1 -> 8 | C14: / | D14: =SUMIF(토지세목조서!$E$6:$E$659,"유",토지세목조서!$H$6:$H$659) -> 2406 | E14: =COUNTIF(토지세목조서!#REF!,"유국") -> #REF! | F14: / | G14: =SUMIF(토지세목조서!#REF!,"유국",토지세목조서!$H$6:$H$659) -> #REF! | H14: =COUNTIF(토지세목조서!#REF!,"유공") -> #REF! | I14: / | J14: =SUMIF(토지세목조서!#REF!,"유공",토지세목조서!$H$6:$H$659) -> #REF! | K14: =SUM(B14-E14-H14-1) -> #REF! | L14: / | M14: =SUM(D14-G14-J14) -> #REF! | U14: 유 | V14: 유국 | W14: 유공
A15: 제방 | B15: =COUNTIF(토지세목조서!$E$6:$E$659,"제") -> 2 | C15: / | D15: =SUMIF(토지세목조서!$E$6:$E$659,"제",토지세목조서!$H$6:$H$659) -> 117 | E15: =COUNTIF(토지세목조서!#REF!,"제국") -> #REF! | F15: / | G15: =SUMIF(토지세목조서!#REF!,"제국",토지세목조서!$H$6:$H$659) -> #REF! | H15: =COUNTIF(토지세목조서!#REF!,"제공") -> #REF! | I15: / | J15: =SUMIF(토지세목조서!#REF!,"제공",토지세목조서!$H$6:$H$659) -> #REF! | K15: =SUM(B15-E15-H15) -> #REF! | L15: / | M15: =SUM(D15-G15-J15) -> #REF! | U15: 제 | V15: 제국 | W15: 제공
A16: 과수원 | B16: =COUNTIF(토지세목조서!$E$6:$E$659,"과") -> 0 | C16: / | D16: =SUMIF(토지세목조서!$E$6:$E$659,"과",토지세목조서!$H$6:$H$659) -> 0 | E16: =COUNTIF(토지세목조서!#REF!,"과국") -> #REF! | F16: / | G16: =SUMIF(토지세목조서!#REF!,"과국",토지세목조서!$H$6:$H$659) -> #REF! | H16: =COUNTIF(토지세목조서!#REF!,"과공") -> #REF! | I16: / | J16: =SUMIF(토지세목조서!#REF!,"과공",토지세목조서!$H$6:$H$659) -> #REF! | K16: =SUM(B16-E16-H16) -> #REF! | L16: / | M16: =SUM(D16-G16-J16) -> #REF! | U16: 과 | V16: 과국 | W16: 과공
A17: 공장 | B17: =COUNTIF(토지세목조서!$E$6:$E$659,"장") -> 0 | C17: / | D17: =SUMIF(토지세목조서!$E$6:$E$659,"장",토지세목조서!$H$6:$H$659) -> 0 | E17: =COUNTIF(토지세목조서!#REF!,"장국") -> #REF! | F17: / | G17: =SUMIF(토지세목조서!#REF!,"장국",토지세목조서!$H$6:$H$659) -> #REF! | H17: =COUNTIF(토지세목조서!#REF!,"장공") -> #REF! | I17: / | J17: =SUMIF(토지세목조서!#REF!,"장공",토지세목조서!$H$6:$H$659) -> #REF! | K17: =SUM(B17-E17-H17) -> #REF! | L17: / | M17: =SUM(D17-G17-J17) -> #REF! | U17: 공 | V17: 공국 | W17: 공공
A18: 목장 | B18: =COUNTIF(토지세목조서!$E$6:$E$659,"목") -> 0 | C18: / | D18: =SUMIF(토지세목조서!$E$6:$E$659,"목",토지세목조서!$H$6:$H$659) -> 0 | E18: =COUNTIF(토지세목조서!#REF!,"목국") -> #REF! | F18: / | G18: =SUMIF(토지세목조서!#REF!,"목국",토지세목조서!$H$6:$H$659) -> #REF! | H18: =COUNTIF(토지세목조서!#REF!,"목공") -> #REF! | I18: / | J18: =SUMIF(토지세목조서!#REF!,"목공",토지세목조서!$H$6:$H$659) -> #REF! | K18: =SUM(B18-E18-H18) -> #REF! | L18: / | M18: =SUM(D18-G18-J18) -> #REF! | U18: 목 | V18: 목국 | W18: 목공
A19: 학교용지 | B19: =COUNTIF(토지세목조서!$E$6:$E$659,"학") -> 0 | C19: / | D19: =SUMIF(토지세목조서!$E$6:$E$659,"학",토지세목조서!$H$6:$H$659) -> 0 | E19: =COUNTIF(토지세목조서!#REF!,"학국") -> #REF! | F19: / | G19: =SUMIF(토지세목조서!#REF!,"학국",토지세목조서!$H$6:$H$659) -> #REF! | H19: =COUNTIF(토지세목조서!#REF!,"학공") -> #REF! | I19: / | J19: =SUMIF(토지세목조서!#REF!,"학공",토지세목조서!$H$6:$H$659) -> #REF! | K19: =SUM(B19-E19-H19) -> #REF! | L19: / | M19: =SUM(D19-G19-J19) -> #REF! | U19: 학 | V19: 학국 | W19: 학공
A20: 철도 | B20: =COUNTIF(토지세목조서!$E$6:$E$659,"철") -> 0 | C20: / | D20: =SUMIF(토지세목조서!$E$6:$E$659,"철",토지세목조서!$H$6:$H$659) -> 0 | E20: =COUNTIF(토지세목조서!#REF!,"철국") -> #REF! | F20: / | G20: =SUMIF(토지세목조서!#REF!,"철국",토지세목조서!$H$6:$H$659) -> #REF! | H20: =COUNTIF(토지세목조서!#REF!,"철공") -> #REF! | I20: / | J20: =SUMIF(토지세목조서!#REF!,"철공",토지세목조서!$H$6:$H$659) -> #REF! | K20: =SUM(B20-E20-H20) -> #REF! | L20: / | M20: =SUM(D20-G20-J20) -> #REF! | U20: 철 | V20: 철국 | W20: 철공
A21: 묘지 | B21: =COUNTIF(토지세목조서!$E$6:$E$659,"묘") -> 0 | C21: / | D21: =SUMIF(토지세목조서!$E$6:$E$659,"묘",토지세목조서!$H$6:$H$659) -> 0 | E21: =COUNTIF(토지세목조서!#REF!,"묘국") -> #REF! | F21: / | G21: =SUMIF(토지세목조서!#REF!,"묘국",토지세목조서!$H$6:$H$659) -> #REF! | H21: =COUNTIF(토지세목조서!#REF!,"묘공") -> #REF! | I21: / | J21: =SUMIF(토지세목조서!#REF!,"묘공",토지세목조서!$H$6:$H$659) -> #REF! | K21: =SUM(B21-E21-H21) -> #REF! | L21: / | M21: =SUM(D21-G21-J21) -> #REF! | U21: 묘 | V21: 묘국 | W21: 묘공
A22: 수도 | B22: =COUNTIF(토지세목조서!$E$6:$E$659,"수") -> 0 | C22: / | D22: =SUMIF(토지세목조서!$E$6:$E$659,"수",토지세목조서!$H$6:$H$659) -> 0 | E22: =COUNTIF(토지세목조서!#REF!,"수국") -> #REF! | F22: / | G22: =SUMIF(토지세목조서!#REF!,"수국",토지세목조서!$H$6:$H$659) -> #REF! | H22: =COUNTIF(토지세목조서!#REF!,"수공") -> #REF! | I22: / | J22: =SUMIF(토지세목조서!#REF!,"수공",토지세목조서!$H$6:$H$659) -> #REF! | K22: =SUM(B22-E22-H22) -> #REF! | L22: / | M22: =SUM(D22-G22-J22) -> #REF! | U22: 수 | V22: 수국 | W22: 수공
A23: 잡종지 | B23: =COUNTIF(토지세목조서!$E$6:$E$659,"잡") -> 3 | C23: / | D23: =SUMIF(토지세목조서!$E$6:$E$659,"잡",토지세목조서!$H$6:$H$659) -> 483 | E23: =COUNTIF(토지세목조서!#REF!,"잡국") -> #REF! | F23: / | G23: =SUMIF(토지세목조서!#REF!,"잡국",토지세목조서!$H$6:$H$659) -> #REF! | H23: =COUNTIF(토지세목조서!#REF!,"잡공") -> #REF! | I23: / | J23: =SUMIF(토지세목조서!#REF!,"잡공",토지세목조서!$H$6:$H$659) -> #REF! | K23: =SUM(B23-E23-H23) -> #REF! | L23: / | M23: =SUM(D23-G23-J23) -> #REF! | U23: 잡 | V23: 잡국 | W23: 잡공
A24: 종교 | B24: =COUNTIF(토지세목조서!$E$6:$E$659,"종") -> 0 | C24: / | D24: =SUMIF(토지세목조서!$E$6:$E$659,"종",토지세목조서!$H$6:$H$659) -> 0 | E24: =COUNTIF(토지세목조서!#REF!,"종국") -> #REF! | F24: / | G24: =SUMIF(토지세목조서!#REF!,"종국",토지세목조서!$H$6:$H$659) -> #REF! | H24: =COUNTIF(토지세목조서!#REF!,"종공") -> #REF! | I24: / | J24: =SUMIF(토지세목조서!#REF!,"종공",토지세목조서!$H$6:$H$659) -> #REF! | K24: =SUM(B24-E24-H24) -> #REF! | L24: / | M24: =SUM(D24-G24-J24) -> #REF! | U24: 종 | V24: 종국 | W24: 종공
A25: 염전 | B25: =COUNTIF(토지세목조서!$E$6:$E$659,"염") -> 0 | C25: / | D25: =SUMIF(토지세목조서!$E$6:$E$659,"염",토지세목조서!$H$6:$H$659) -> 0 | E25: =COUNTIF(토지세목조서!#REF!,"염국") -> #REF! | F25: / | G25: =SUMIF(토지세목조서!#REF!,"염국",토지세목조서!$H$6:$H$659) -> #REF! | H25: =COUNTIF(토지세목조서!#REF!,"염공") -> #REF! | I25: / | J25: =SUMIF(토지세목조서!#REF!,"염공",토지세목조서!$H$6:$H$659) -> #REF! | K25: =SUM(B25-E25-H25) -> #REF! | L25: / | M25: =SUM(D25-G25-J25) -> #REF! | U25: 염 | V25: 염국 | W25: 염공
A26: 공원 | B26: =COUNTIF(토지세목조서!$E$6:$E$659,"공") -> 0 | C26: / | D26: =SUMIF(토지세목조서!$E$6:$E$659,"공",토지세목조서!$H$6:$H$659) -> 0 | E26: =COUNTIF(토지세목조서!#REF!,"공국") -> #REF! | F26: / | G26: =SUMIF(토지세목조서!#REF!,"공국",토지세목조서!$H$6:$H$659) -> #REF! | H26: =COUNTIF(토지세목조서!#REF!,"공공") -> #REF! | I26: / | J26: =SUMIF(토지세목조서!#REF!,"공공",토지세목조서!$H$6:$H$659) -> #REF! | K26: =SUM(B26-E26-H26) -> #REF! | L26: / | M26: =SUM(D26-G26-J26) -> #REF! | U26: 공 | V26: 공국 | W26: 공공
A27: 체육 | B27: =COUNTIF(토지세목조서!$E$6:$E$659,"체") -> 0 | C27: / | D27: =SUMIF(토지세목조서!$E$6:$E$659,"체",토지세목조서!$H$6:$H$659) -> 0 | E27: =COUNTIF(토지세목조서!#REF!,"체국") -> #REF! | F27: / | G27: =SUMIF(토지세목조서!#REF!,"체국",토지세목조서!$H$6:$H$659) -> #REF! | H27: =COUNTIF(토지세목조서!#REF!,"체공") -> #REF! | I27: / | J27: =SUMIF(토지세목조서!#REF!,"체공",토지세목조서!$H$6:$H$659) -> #REF! | K27: =SUM(B27-E27-H27) -> #REF! | L27: / | M27: =SUM(D27-G27-J27) -> #REF! | U27: 체 | V27: 체국 | W27: 체공
A28: 유원지 | B28: =COUNTIF(토지세목조서!$E$6:$E$659,"원") -> 0 | C28: / | D28: =SUMIF(토지세목조서!$E$6:$E$659,"원",토지세목조서!$H$6:$H$659) -> 0 | E28: =COUNTIF(토지세목조서!#REF!,"원국") -> #REF! | F28: / | G28: =SUMIF(토지세목조서!#REF!,"원국",토지세목조서!$H$6:$H$659) -> #REF! | H28: =COUNTIF(토지세목조서!#REF!,"원공") -> #REF! | I28: / | J28: =SUMIF(토지세목조서!#REF!,"원공",토지세목조서!$H$6:$H$659) -> #REF! | K28: =SUM(B28-E28-H28) -> #REF! | L28: / | M28: =SUM(D28-G28-J28) -> #REF! | U28: 원 | V28: 원국 | W28: 원공
A29: 주차장 | B29: =COUNTIF(토지세목조서!$E$6:$E$659,"차") -> 0 | C29: / | D29: =SUMIF(토지세목조서!$E$6:$E$659,"차",토지세목조서!$H$6:$H$659) -> 0 | E29: =COUNTIF(토지세목조서!#REF!,"차국") -> #REF! | F29: / | G29: =SUMIF(토지세목조서!#REF!,"차국",토지세목조서!$H$6:$H$659) -> #REF! | H29: =COUNTIF(토지세목조서!#REF!,"차공") -> #REF! | I29: / | J29: =SUMIF(토지세목조서!#REF!,"차공",토지세목조서!$H$6:$H$659) -> #REF! | K29: =SUM(B29-E29-H29) -> #REF! | L29: / | M29: =SUM(D29-G29-J29) -> #REF! | U29: 차 | V29: 차국 | W29: 차공
A30: 창고용지 | B30: =COUNTIF(토지세목조서!$E$6:$E$659,"주") -> 0 | C30: / | D30: =SUMIF(토지세목조서!$E$6:$E$659,"주",토지세목조서!$H$6:$H$659) -> 0 | E30: =COUNTIF(토지세목조서!#REF!,"주국") -> #REF! | F30: / | G30: =SUMIF(토지세목조서!#REF!,"주국",토지세목조서!$H$6:$H$659) -> #REF! | H30: =COUNTIF(토지세목조서!#REF!,"주공") -> #REF! | I30: / | J30: =SUMIF(토지세목조서!#REF!,"주공",토지세목조서!$H$6:$H$659) -> #REF! | K30: =SUM(B30-E30-H30) -> #REF! | L30: / | M30: =SUM(D30-G30-J30) -> #REF! | U30: 주 | V30: 주국 | W30: 주공
A31: 미지번 | B31: =COUNTIF(토지세목조서!$E$6:$E$659,"가") -> 5 | C31: / | D31: =SUMIF(토지세목조서!$E$6:$E$659,"가",토지세목조서!$H$6:$H$659) -> 1510 | E31: =COUNTIF(토지세목조서!#REF!," 국") -> #REF! | F31: / | G31: =SUMIF(토지세목조서!#REF!," 국",토지세목조서!$H$6:$H$659) -> #REF! | H31: =COUNTIF(토지세목조서!#REF!," 공") -> #REF! | I31: / | J31: =SUMIF(토지세목조서!#REF!," 공",토지세목조서!$H$6:$H$659) -> #REF! | K31: =SUM(B31-E31-H31) -> #REF! | L31: / | M31: =SUM(D31-G31-J31) -> #REF! | U31: 국 | V31: 국 | W31: 공
A32: =IF(EXACT(O36,O37),,"검산확인요!!!") -> #REF! | K32: =IF(ISBLANK(#REF!),,#REF!) -> #REF!
A34: 구분 | B34: 계 | E34: 국 유 지 | H34: 공 유 지 | K34: 사 유 지 | N34: 비고
B35: 필지 | C35: / | D35: 면 적 (㎡) | E35: 필지 | F35: / | G35: 면 적 (㎡) | H35: 필지 | I35: / | J35: 면 적 (㎡) | K35: 필지 | L35: / | M35: 면 적 (㎡) | Q35: 총계 | R35: 국유지 | S35: 사유지 | T35: 국유지+사유지
A36: 계 | B36: =SUM(B37:B61) -> #REF! | C36: / | D36: =SUM(D37:D61) -> #REF! | E36: =SUM(E37:E61) -> #REF! | F36: / | G36: =SUM(G37:G61) -> #REF! | H36: =SUM(H37:H61) -> #REF! | I36: / | J36: =SUM(J37:J61) -> #REF! | K36: =SUM(K37:K61) -> #REF! | L36: / | M36: =SUM(M37:M61) -> #REF! | O36: =IF(EXACT(Q36,T36),"맞음","틀림") -> #REF! | P36: 필지 | Q36: =SUM(B37:B61) -> #REF! | R36: =SUM(E37:E61) -> #REF! | S36: =SUM(K37:K61) -> #REF! | T36: =K36+E36 -> #REF!
A37: 전 | B37: =COUNTIF(#REF!,"전") -> #REF! | C37: / | D37: =SUMIF(#REF!,"전",#REF!) -> #REF! | E37: =COUNTIF(#REF!,"전국") -> #REF! | F37: / | G37: =SUMIF(#REF!,"전국",#REF!) -> #REF! | H37: =COUNTIF(#REF!,"전공") -> #REF! | I37: / | J37: =SUMIF(#REF!,"전공",#REF!) -> #REF! | K37: =SUM(B37-E37-H37) -> #REF! | L37: / | M37: =SUM(D37-G37-J37) -> #REF! | O37: =IF(EXACT(Q37,T37),"맞음","틀림") -> #REF! | P37: 면적 | Q37: =SUM(D37:D61) -> #REF! | R37: =SUM(G37:G61) -> #REF! | S37: =SUM(M37:M61) -> #REF! | T37: =G36+M36 -> #REF!
A38: 답 | B38: =COUNTIF(#REF!,"답") -> #REF! | C38: / | D38: =SUMIF(#REF!,"답",#REF!) -> #REF! | E38: =COUNTIF(#REF!,"답국") -> #REF! | F38: / | G38: =SUMIF(#REF!,"답국",#REF!) -> #REF! | H38: =COUNTIF(#REF!,"답공") -> #REF! | I38: / | J38: =SUMIF(#REF!,"답공",#REF!) -> #REF! | K38: =SUM(B38-E38-H38) -> #REF! | L38: / | M38: =SUM(D38-G38-J38) -> #REF!
A39: 임야 | B39: =COUNTIF(#REF!,"임") -> #REF! | C39: / | D39: =SUMIF(#REF!,"임",#REF!) -> #REF! | E39: =COUNTIF(#REF!,"임국") -> #REF! | F39: / | G39: =SUMIF(#REF!,"임국",#REF!) -> #REF! | H39: =COUNTIF(#REF!,"임공") -> #REF! | I39: / | J39: =SUMIF(#REF!,"임공",#REF!) -> #REF! | K39: =SUM(B39-E39-H39) -> #REF! | L39: / | M39: =SUM(D39-G39-J39) -> #REF!
A40: 대지 | B40: =COUNTIF(#REF!,"대") -> #REF! | C40: / | D40: =SUMIF(#REF!,"대",#REF!) -> #REF! | E40: =COUNTIF(#REF!,"대국") -> #REF! | F40: / | G40: =SUMIF(#REF!,"대국",#REF!) -> #REF! | H40: =COUNTIF(#REF!,"대공") -> #REF! | I40: / | J40: =SUMIF(#REF!,"대공",#REF!) -> #REF! | K40: =SUM(B40-E40-H40) -> #REF! | L40: / | M40: =SUM(D40-G40-J40) -> #REF!
A41: 도로 | B41: =COUNTIF(#REF!,"도") -> #REF! | C41: / | D41: =SUMIF(#REF!,"도",#REF!) -> #REF! | E41: =COUNTIF(#REF!,"도국") -> #REF! | F41: / | G41: =SUMIF(#REF!,"도국",#REF!) -> #REF! | H41: =COUNTIF(#REF!,"도공") -> #REF! | I41: / | J41: =SUMIF(#REF!,"도공",#REF!) -> #REF! | K41: =SUM(B41-E41-H41) -> #REF! | L41: / | M41: =SUM(D41-G41-J41) -> #REF!
A42: 구거 | B42: =COUNTIF(#REF!,"구") -> #REF! | C42: / | D42: =SUMIF(#REF!,"구",#REF!) -> #REF! | E42: =COUNTIF(#REF!,"구국") -> #REF! | F42: / | G42: =SUMIF(#REF!,"구국",#REF!) -> #REF! | H42: =COUNTIF(#REF!,"구공") -> #REF! | I42: / | J42: =SUMIF(#REF!,"구공",#REF!) -> #REF! | K42: =SUM(B42-E42-H42) -> #REF! | L42: / | M42: =SUM(D42-G42-J42) -> #REF!
A43: 하천 | B43: =COUNTIF(#REF!,"천") -> #REF! | C43: / | D43: =SUMIF(#REF!,"천",#REF!) -> #REF! | E43: =COUNTIF(#REF!,"천국") -> #REF! | F43: / | G43: =SUMIF(#REF!,"천국",#REF!) -> #REF! | H43: =COUNTIF(#REF!,"천공") -> #REF! | I43: / | J43: =SUMIF(#REF!,"천공",#REF!) -> #REF! | K43: =SUM(B43-E43-H43) -> #REF! | L43: / | M43: =SUM(D43-G43-J43) -> #REF!
A44: 유지 | B44: =COUNTIF(#REF!,"유") -> #REF! | C44: / | D44: =SUMIF(#REF!,"유",#REF!) -> #REF! | E44: =COUNTIF(#REF!,"유국") -> #REF! | F44: / | G44: =SUMIF(#REF!,"유국",#REF!) -> #REF! | H44: =COUNTIF(#REF!,"유공") -> #REF! | I44: / | J44: =SUMIF(#REF!,"유공",#REF!) -> #REF! | K44: =SUM(B44-E44-H44) -> #REF! | L44: / | M44: =SUM(D44-G44-J44) -> #REF!
A45: 제방 | B45: =COUNTIF(#REF!,"제") -> #REF! | C45: / | D45: =SUMIF(#REF!,"제",#REF!) -> #REF! | E45: =COUNTIF(#REF!,"제국") -> #REF! | F45: / | G45: =SUMIF(#REF!,"제국",#REF!) -> #REF! | H45: =COUNTIF(#REF!,"제공") -> #REF! | I45: / | J45: =SUMIF(#REF!,"제공",#REF!) -> #REF! | K45: =SUM(B45-E45-H45) -> #REF! | L45: / | M45: =SUM(D45-G45-J45) -> #REF!
A46: 과수원 | B46: =COUNTIF(#REF!,"과") -> #REF! | C46: / | D46: =SUMIF(#REF!,"과",#REF!) -> #REF! | E46: =COUNTIF(#REF!,"과국") -> #REF! | F46: / | G46: =SUMIF(#REF!,"과국",#REF!) -> #REF! | H46: =COUNTIF(#REF!,"과공") -> #REF! | I46: / | J46: =SUMIF(#REF!,"과공",#REF!) -> #REF! | K46: =SUM(B46-E46-H46) -> #REF! | L46: / | M46: =SUM(D46-G46-J46) -> #REF!
A47: 공장 | B47: =COUNTIF(#REF!,"장") -> #REF! | C47: / | D47: =SUMIF(#REF!,"장",#REF!) -> #REF! | E47: =COUNTIF(#REF!,"장국") -> #REF! | F47: / | G47: =SUMIF(#REF!,"장국",#REF!) -> #REF! | H47: =COUNTIF(#REF!,"장공") -> #REF! | I47: / | J47: =SUMIF(#REF!,"장공",#REF!) -> #REF! | K47: =SUM(B47-E47-H47) -> #REF! | L47: / | M47: =SUM(D47-G47-J47) -> #REF!
A48: 목장 | B48: =COUNTIF(#REF!,"목") -> #REF! | C48: / | D48: =SUMIF(#REF!,"목",#REF!) -> #REF! | E48: =COUNTIF(#REF!,"목국") -> #REF! | F48: / | G48: =SUMIF(#REF!,"목국",#REF!) -> #REF! | H48: =COUNTIF(#REF!,"목공") -> #REF! | I48: / | J48: =SUMIF(#REF!,"목공",#REF!) -> #REF! | K48: =SUM(B48-E48-H48) -> #REF! | L48: / | M48: =SUM(D48-G48-J48) -> #REF!
A49: 학교용지 | B49: =COUNTIF(#REF!,"학") -> #REF! | C49: / | D49: =SUMIF(#REF!,"학",#REF!) -> #REF! | E49: =COUNTIF(#REF!,"학국") -> #REF! | F49: / | G49: =SUMIF(#REF!,"학국",#REF!) -> #REF! | H49: =COUNTIF(#REF!,"학공") -> #REF! | I49: / | J49: =SUMIF(#REF!,"학공",#REF!) -> #REF! | K49: =SUM(B49-E49-H49) -> #REF! | L49: / | M49: =SUM(D49-G49-J49) -> #REF!
A50: 철도 | B50: =COUNTIF(#REF!,"철") -> #REF! | C50: / | D50: =SUMIF(#REF!,"철",#REF!) -> #REF! | E50: =COUNTIF(#REF!,"철국") -> #REF! | F50: / | G50: =SUMIF(#REF!,"철국",#REF!) -> #REF! | H50: =COUNTIF(#REF!,"철공") -> #REF! | I50: / | J50: =SUMIF(#REF!,"철공",#REF!) -> #REF! | K50: =SUM(B50-E50-H50) -> #REF! | L50: / | M50: =SUM(D50-G50-J50) -> #REF!
A51: 묘지 | B51: =COUNTIF(#REF!,"묘") -> #REF! | C51: / | D51: =SUMIF(#REF!,"묘",#REF!) -> #REF! | E51: =COUNTIF(#REF!,"묘국") -> #REF! | F51: / | G51: =SUMIF(#REF!,"묘국",#REF!) -> #REF! | H51: =COUNTIF(#REF!,"묘공") -> #REF! | I51: / | J51: =SUMIF(#REF!,"묘공",#REF!) -> #REF! | K51: =SUM(B51-E51-H51) -> #REF! | L51: / | M51: =SUM(D51-G51-J51) -> #REF!
A52: 수도 | B52: =COUNTIF(#REF!,"수") -> #REF! | C52: / | D52: =SUMIF(#REF!,"수",#REF!) -> #REF! | E52: =COUNTIF(#REF!,"수국") -> #REF! | F52: / | G52: =SUMIF(#REF!,"수국",#REF!) -> #REF! | H52: =COUNTIF(#REF!,"수공") -> #REF! | I52: / | J52: =SUMIF(#REF!,"수공",#REF!) -> #REF! | K52: =SUM(B52-E52-H52) -> #REF! | L52: / | M52: =SUM(D52-G52-J52) -> #REF!
A53: 잡종지 | B53: =COUNTIF(#REF!,"잡") -> #REF! | C53: / | D53: =SUMIF(#REF!,"잡",#REF!) -> #REF! | E53: =COUNTIF(#REF!,"잡국") -> #REF! | F53: / | G53: =SUMIF(#REF!,"잡국",#REF!) -> #REF! | H53: =COUNTIF(#REF!,"잡공") -> #REF! | I53: / | J53: =SUMIF(#REF!,"잡공",#REF!) -> #REF! | K53: =SUM(B53-E53-H53) -> #REF! | L53: / | M53: =SUM(D53-G53-J53) -> #REF!
A54: 종교 | B54: =COUNTIF(#REF!,"종") -> #REF! | C54: / | D54: =SUMIF(#REF!,"종",#REF!) -> #REF! | E54: =COUNTIF(#REF!,"종국") -> #REF! | F54: / | G54: =SUMIF(#REF!,"종국",#REF!) -> #REF! | H54: =COUNTIF(#REF!,"종공") -> #REF! | I54: / | J54: =SUMIF(#REF!,"종공",#REF!) -> #REF! | K54: =SUM(B54-E54-H54) -> #REF! | L54: / | M54: =SUM(D54-G54-J54) -> #REF!
A55: 염전 | B55: =COUNTIF(#REF!,"염") -> #REF! | C55: / | D55: =SUMIF(#REF!,"염",#REF!) -> #REF! | E55: =COUNTIF(#REF!,"염국") -> #REF! | F55: / | G55: =SUMIF(#REF!,"염국",#REF!) -> #REF! | H55: =COUNTIF(#REF!,"염공") -> #REF! | I55: / | J55: =SUMIF(#REF!,"염공",#REF!) -> #REF! | K55: =SUM(B55-E55-H55) -> #REF! | L55: / | M55: =SUM(D55-G55-J55) -> #REF!
A56: 공원 | B56: =COUNTIF(#REF!,"공") -> #REF! | C56: / | D56: =SUMIF(#REF!,"공",#REF!) -> #REF! | E56: =COUNTIF(#REF!,"공국") -> #REF! | F56: / | G56: =SUMIF(#REF!,"공국",#REF!) -> #REF! | H56: =COUNTIF(#REF!,"공공") -> #REF! | I56: / | J56: =SUMIF(#REF!,"공공",#REF!) -> #REF! | K56: =SUM(B56-E56-H56) -> #REF! | L56: / | M56: =SUM(D56-G56-J56) -> #REF!
A57: 체육 | B57: =COUNTIF(#REF!,"체") -> #REF! | C57: / | D57: =SUMIF(#REF!,"체",#REF!) -> #REF! | E57: =COUNTIF(#REF!,"체국") -> #REF! | F57: / | G57: =SUMIF(#REF!,"체국",#REF!) -> #REF! | H57: =COUNTIF(#REF!,"체공") -> #REF! | I57: / | J57: =SUMIF(#REF!,"체공",#REF!) -> #REF! | K57: =SUM(B57-E57-H57) -> #REF! | L57: / | M57: =SUM(D57-G57-J57) -> #REF!
A58: 유원지 | B58: =COUNTIF(#REF!,"원") -> #REF! | C58: / | D58: =SUMIF(#REF!,"원",#REF!) -> #REF! | E58: =COUNTIF(#REF!,"원국") -> #REF! | F58: / | G58: =SUMIF(#REF!,"원국",#REF!) -> #REF! | H58: =COUNTIF(#REF!,"원공") -> #REF! | I58: / | J58: =SUMIF(#REF!,"원공",#REF!) -> #REF! | K58: =SUM(B58-E58-H58) -> #REF! | L58: / | M58: =SUM(D58-G58-J58) -> #REF!
A59: 주차장 | B59: =COUNTIF(#REF!,"차") -> #REF! | C59: / | D59: =SUMIF(#REF!,"차",#REF!) -> #REF! | E59: =COUNTIF(#REF!,"차국") -> #REF! | F59: / | G59: =SUMIF(#REF!,"차국",#REF!) -> #REF! | H59: =COUNTIF(#REF!,"차공") -> #REF! | I59: / | J59: =SUMIF(#REF!,"차공",#REF!) -> #REF! | K59: =SUM(B59-E59-H59) -> #REF! | L59: / | M59: =SUM(D59-G59-J59) -> #REF!
A60: 창고용지 | B60: =COUNTIF(#REF!,"창") -> #REF! | C60: / | D60: =SUMIF(#REF!,"창",#REF!) -> #REF! | E60: =COUNTIF(#REF!,"창국") -> #REF! | F60: / | G60: =SUMIF(#REF!,"창국",#REF!) -> #REF! | H60: =COUNTIF(#REF!,"창공") -> #REF! | I60: / | J60: =SUMIF(#REF!,"창공",#REF!) -> #REF! | K60: =SUM(B60-E60-H60) -> #REF! | L60: / | M60: =SUM(D60-G60-J60) -> #REF!
A61: 미지번 | B61: =COUNTIF(#REF!,"가") -> #REF! | C61: / | D61: =SUMIF(#REF!,"가",#REF!) -> #REF! | E61: =COUNTIF(#REF!," 국") -> #REF! | F61: / | G61: =SUMIF(#REF!," 국",#REF!) -> #REF! | H61: =COUNTIF(#REF!," 공") -> #REF! | I61: / | J61: =SUMIF(#REF!," 공",#REF!) -> #REF! | K61: =SUM(B61-E61-H61) -> #REF! | L61: / | M61: =SUM(D61-G61-J61) -> #REF!
A62: =IF(EXACT(O66,O67),,"검산확인요!!!") -> #REF! | K62: =IF(ISBLANK(#REF!),,#REF!) -> #REF!
A64: 구분 | B64: 계 | E64: 국 유 지 | H64: 공 유 지 | K64: 사 유 지 | N64: 비고
B65: 필지 | C65: / | D65: 면 적 (㎡) | E65: 필지 | F65: / | G65: 면 적 (㎡) | H65: 필지 | I65: / | J65: 면 적 (㎡) | K65: 필지 | L65: / | M65: 면 적 (㎡) | Q65: 총계 | R65: 국유지 | S65: 사유지 | T65: 국유지+사유지
A66: 계 | B66: =SUM(B67:B91) -> #REF! | C66: / | D66: =SUM(D67:D91) -> #REF! | E66: =SUM(E67:E91) -> #REF! | F66: / | G66: =SUM(G67:G91) -> #REF! | H66: =SUM(H67:H91) -> #REF! | I66: / | J66: =SUM(J67:J91) -> #REF! | K66: =SUM(K67:K91) -> #REF! | L66: / | M66: =SUM(M67:M91) -> #REF! | O66: =IF(EXACT(Q66,T66),"맞음","틀림") -> #REF! | P66: 필지 | Q66: =SUM(B67:B91) -> #REF! | R66: =SUM(E67:E91) -> #REF! | S66: =SUM(K67:K91) -> #REF! | T66: =K66+E66 -> #REF!
A67: 전 | B67: =COUNTIF(#REF!,"전") -> #REF! | C67: / | D67: =SUMIF(#REF!,"전",#REF!) -> #REF! | E67: =COUNTIF(#REF!,"전국") -> #REF! | F67: / | G67: =SUMIF(#REF!,"전국",#REF!) -> #REF! | H67: =COUNTIF(#REF!,"전공") -> #REF! | I67: / | J67: =SUMIF(#REF!,"전공",#REF!) -> #REF! | K67: =SUM(B67-E67-H67) -> #REF! | L67: / | M67: =SUM(D67-G67-J67) -> #REF! | O67: =IF(EXACT(Q67,T67),"맞음","틀림") -> #REF! | P67: 면적 | Q67: =SUM(D67:D91) -> #REF! | R67: =SUM(G67:G91) -> #REF! | S67: =SUM(M67:M91) -> #REF! | T67: =G66+M66 -> #REF!
A68: 답 | B68: =COUNTIF(#REF!,"답") -> #REF! | C68: / | D68: =SUMIF(#REF!,"답",#REF!) -> #REF! | E68: =COUNTIF(#REF!,"답국") -> #REF! | F68: / | G68: =SUMIF(#REF!,"답국",#REF!) -> #REF! | H68: =COUNTIF(#REF!,"답공") -> #REF! | I68: / | J68: =SUMIF(#REF!,"답공",#REF!) -> #REF! | K68: =SUM(B68-E68-H68) -> #REF! | L68: / | M68: =SUM(D68-G68-J68) -> #REF!
A69: 임야 | B69: =COUNTIF(#REF!,"임") -> #REF! | C69: / | D69: =SUMIF(#REF!,"임",#REF!) -> #REF! | E69: =COUNTIF(#REF!,"임국") -> #REF! | F69: / | G69: =SUMIF(#REF!,"임국",#REF!) -> #REF! | H69: =COUNTIF(#REF!,"임공") -> #REF! | I69: / | J69: =SUMIF(#REF!,"임공",#REF!) -> #REF! | K69: =SUM(B69-E69-H69) -> #REF! | L69: / | M69: =SUM(D69-G69-J69) -> #REF!
A70: 대지 | B70: =COUNTIF(#REF!,"대") -> #REF! | C70: / | D70: =SUMIF(#REF!,"대",#REF!) -> #REF! | E70: =COUNTIF(#REF!,"대국") -> #REF! | F70: / | G70: =SUMIF(#REF!,"대국",#REF!) -> #REF! | H70: =COUNTIF(#REF!,"대공") -> #REF! | I70: / | J70: =SUMIF(#REF!,"대공",#REF!) -> #REF! | K70: =SUM(B70-E70-H70) -> #REF! | L70: / | M70: =SUM(D70-G70-J70) -> #REF!
A71: 도로 | B71: =COUNTIF(#REF!,"도") -> #REF! | C71: / | D71: =SUMIF(#REF!,"도",#REF!) -> #REF! | E71: =COUNTIF(#REF!,"도국") -> #REF! | F71: / | G71: =SUMIF(#REF!,"도국",#REF!) -> #REF! | H71: =COUNTIF(#REF!,"도공") -> #REF! | I71: / | J71: =SUMIF(#REF!,"도공",#REF!) -> #REF! | K71: =SUM(B71-E71-H71) -> #REF! | L71: / | M71: =SUM(D71-G71-J71) -> #REF!
A72: 구거 | B72: =COUNTIF(#REF!,"구") -> #REF! | C72: / | D72: =SUMIF(#REF!,"구",#REF!) -> #REF! | E72: =COUNTIF(#REF!,"구국") -> #REF! | F72: / | G72: =SUMIF(#REF!,"구국",#REF!) -> #REF! | H72: =COUNTIF(#REF!,"구공") -> #REF! | I72: / | J72: =SUMIF(#REF!,"구공",#REF!) -> #REF! | K72: =SUM(B72-E72-H72) -> #REF! | L72: / | M72: =SUM(D72-G72-J72) -> #REF!
A73: 하천 | B73: =COUNTIF(#REF!,"천") -> #REF! | C73: / | D73: =SUMIF(#REF!,"천",#REF!) -> #REF! | E73: =COUNTIF(#REF!,"천국") -> #REF! | F73: / | G73: =SUMIF(#REF!,"천국",#REF!) -> #REF! | H73: =COUNTIF(#REF!,"천공") -> #REF! | I73: / | J73: =SUMIF(#REF!,"천공",#REF!) -> #REF! | K73: =SUM(B73-E73-H73) -> #REF! | L73: / | M73: =SUM(D73-G73-J73) -> #REF!
A74: 유지 | B74: =COUNTIF(#REF!,"유") -> #REF! | C74: / | D74: =SUMIF(#REF!,"유",#REF!) -> #REF! | E74: =COUNTIF(#REF!,"유국") -> #REF! | F74: / | G74: =SUMIF(#REF!,"유국",#REF!) -> #REF! | H74: =COUNTIF(#REF!,"유공") -> #REF! | I74: / | J74: =SUMIF(#REF!,"유공",#REF!) -> #REF! | K74: =SUM(B74-E74-H74) -> #REF! | L74: / | M74: =SUM(D74-G74-J74) -> #REF!
A75: 제방 | B75: =COUNTIF(#REF!,"제") -> #REF! | C75: / | D75: =SUMIF(#REF!,"제",#REF!) -> #REF! | E75: =COUNTIF(#REF!,"제국") -> #REF! | F75: / | G75: =SUMIF(#REF!,"제국",#REF!) -> #REF! | H75: =COUNTIF(#REF!,"제공") -> #REF! | I75: / | J75: =SUMIF(#REF!,"제공",#REF!) -> #REF! | K75: =SUM(B75-E75-H75) -> #REF! | L75: / | M75: =SUM(D75-G75-J75) -> #REF!
A76: 과수원 | B76: =COUNTIF(#REF!,"과") -> #REF! | C76: / | D76: =SUMIF(#REF!,"과",#REF!) -> #REF! | E76: =COUNTIF(#REF!,"과국") -> #REF! | F76: / | G76: =SUMIF(#REF!,"과국",#REF!) -> #REF! | H76: =COUNTIF(#REF!,"과공") -> #REF! | I76: / | J76: =SUMIF(#REF!,"과공",#REF!) -> #REF! | K76: =SUM(B76-E76-H76) -> #REF! | L76: / | M76: =SUM(D76-G76-J76) -> #REF!
A77: 공장 | B77: =COUNTIF(#REF!,"장") -> #REF! | C77: / | D77: =SUMIF(#REF!,"장",#REF!) -> #REF! | E77: =COUNTIF(#REF!,"장국") -> #REF! | F77: / | G77: =SUMIF(#REF!,"장국",#REF!) -> #REF! | H77: =COUNTIF(#REF!,"장공") -> #REF! | I77: / | J77: =SUMIF(#REF!,"장공",#REF!) -> #REF! | K77: =SUM(B77-E77-H77) -> #REF! | L77: / | M77: =SUM(D77-G77-J77) -> #REF!
A78: 목장 | B78: =COUNTIF(#REF!,"목") -> #REF! | C78: / | D78: =SUMIF(#REF!,"목",#REF!) -> #REF! | E78: =COUNTIF(#REF!,"목국") -> #REF! | F78: / | G78: =SUMIF(#REF!,"목국",#REF!) -> #REF! | H78: =COUNTIF(#REF!,"목공") -> #REF! | I78: / | J78: =SUMIF(#REF!,"목공",#REF!) -> #REF! | K78: =SUM(B78-E78-H78) -> #REF! | L78: / | M78: =SUM(D78-G78-J78) -> #REF!
A79: 학교용지 | B79: =COUNTIF(#REF!,"학") -> #REF! | C79: / | D79: =SUMIF(#REF!,"학",#REF!) -> #REF! | E79: =COUNTIF(#REF!,"학국") -> #REF! | F79: / | G79: =SUMIF(#REF!,"학국",#REF!) -> #REF! | H79: =COUNTIF(#REF!,"학공") -> #REF! | I79: / | J79: =SUMIF(#REF!,"학공",#REF!) -> #REF! | K79: =SUM(B79-E79-H79) -> #REF! | L79: / | M79: =SUM(D79-G79-J79) -> #REF!
A80: 철도 | B80: =COUNTIF(#REF!,"철") -> #REF! | C80: / | D80: =SUMIF(#REF!,"철",#REF!) -> #REF! | E80: =COUNTIF(#REF!,"철국") -> #REF! | F80: / | G80: =SUMIF(#REF!,"철국",#REF!) -> #REF! | H80: =COUNTIF(#REF!,"철공") -> #REF! | I80: / | J80: =SUMIF(#REF!,"철공",#REF!) -> #REF! | K80: =SUM(B80-E80-H80) -> #REF! | L80: / | M80: =SUM(D80-G80-J80) -> #REF!
A81: 묘지 | B81: =COUNTIF(#REF!,"묘") -> #REF! | C81: / | D81: =SUMIF(#REF!,"묘",#REF!) -> #REF! | E81: =COUNTIF(#REF!,"묘국") -> #REF! | F81: / | G81: =SUMIF(#REF!,"묘국",#REF!) -> #REF! | H81: =COUNTIF(#REF!,"묘공") -> #REF! | I81: / | J81: =SUMIF(#REF!,"묘공",#REF!) -> #REF! | K81: =SUM(B81-E81-H81) -> #REF! | L81: / | M81: =SUM(D81-G81-J81) -> #REF!
A82: 수도 | B82: =COUNTIF(#REF!,"수") -> #REF! | C82: / | D82: =SUMIF(#REF!,"수",#REF!) -> #REF! | E82: =COUNTIF(#REF!,"수국") -> #REF! | F82: / | G82: =SUMIF(#REF!,"수국",#REF!) -> #REF! | H82: =COUNTIF(#REF!,"수공") -> #REF! | I82: / | J82: =SUMIF(#REF!,"수공",#REF!) -> #REF! | K82: =SUM(B82-E82-H82) -> #REF! | L82: / | M82: =SUM(D82-G82-J82) -> #REF!
A83: 잡종지 | B83: =COUNTIF(#REF!,"잡") -> #REF! | C83: / | D83: =SUMIF(#REF!,"잡",#REF!) -> #REF! | E83: =COUNTIF(#REF!,"잡국") -> #REF! | F83: / | G83: =SUMIF(#REF!,"잡국",#REF!) -> #REF! | H83: =COUNTIF(#REF!,"잡공") -> #REF! | I83: / | J83: =SUMIF(#REF!,"잡공",#REF!) -> #REF! | K83: =SUM(B83-E83-H83) -> #REF! | L83: / | M83: =SUM(D83-G83-J83) -> #REF!
A84: 종교 | B84: =COUNTIF(#REF!,"종") -> #REF! | C84: / | D84: =SUMIF(#REF!,"종",#REF!) -> #REF! | E84: =COUNTIF(#REF!,"종국") -> #REF! | F84: / | G84: =SUMIF(#REF!,"종국",#REF!) -> #REF! | H84: =COUNTIF(#REF!,"종공") -> #REF! | I84: / | J84: =SUMIF(#REF!,"종공",#REF!) -> #REF! | K84: =SUM(B84-E84-H84) -> #REF! | L84: / | M84: =SUM(D84-G84-J84) -> #REF!
A85: 염전 | B85: =COUNTIF(#REF!,"염") -> #REF! | C85: / | D85: =SUMIF(#REF!,"염",#REF!) -> #REF! | E85: =COUNTIF(#REF!,"염국") -> #REF! | F85: / | G85: =SUMIF(#REF!,"염국",#REF!) -> #REF! | H85: =COUNTIF(#REF!,"염공") -> #REF! | I85: / | J85: =SUMIF(#REF!,"염공",#REF!) -> #REF! | K85: =SUM(B85-E85-H85) -> #REF! | L85: / | M85: =SUM(D85-G85-J85) -> #REF!
A86: 공원 | B86: =COUNTIF(#REF!,"공") -> #REF! | C86: / | D86: =SUMIF(#REF!,"공",#REF!) -> #REF! | E86: =COUNTIF(#REF!,"공국") -> #REF! | F86: / | G86: =SUMIF(#REF!,"공국",#REF!) -> #REF! | H86: =COUNTIF(#REF!,"공공") -> #REF! | I86: / | J86: =SUMIF(#REF!,"공공",#REF!) -> #REF! | K86: =SUM(B86-E86-H86) -> #REF! | L86: / | M86: =SUM(D86-G86-J86) -> #REF!
A87: 체육 | B87: =COUNTIF(#REF!,"체") -> #REF! | C87: / | D87: =SUMIF(#REF!,"체",#REF!) -> #REF! | E87: =COUNTIF(#REF!,"체국") -> #REF! | F87: / | G87: =SUMIF(#REF!,"체국",#REF!) -> #REF! | H87: =COUNTIF(#REF!,"체공") -> #REF! | I87: / | J87: =SUMIF(#REF!,"체공",#REF!) -> #REF! | K87: =SUM(B87-E87-H87) -> #REF! | L87: / | M87: =SUM(D87-G87-J87) -> #REF!
A88: 유원지 | B88: =COUNTIF(#REF!,"원") -> #REF! | C88: / | D88: =SUMIF(#REF!,"원",#REF!) -> #REF! | E88: =COUNTIF(#REF!,"원국") -> #REF! | F88: / | G88: =SUMIF(#REF!,"원국",#REF!) -> #REF! | H88: =COUNTIF(#REF!,"원공") -> #REF! | I88: / | J88: =SUMIF(#REF!,"원공",#REF!) -> #REF! | K88: =SUM(B88-E88-H88) -> #REF! | L88: / | M88: =SUM(D88-G88-J88) -> #REF!
A89: 주차장 | B89: =COUNTIF(#REF!,"차") -> #REF! | C89: / | D89: =SUMIF(#REF!,"차",#REF!) -> #REF! | E89: =COUNTIF(#REF!,"차국") -> #REF! | F89: / | G89: =SUMIF(#REF!,"차국",#REF!) -> #REF! | H89: =COUNTIF(#REF!,"차공") -> #REF! | I89: / | J89: =SUMIF(#REF!,"차공",#REF!) -> #REF! | K89: =SUM(B89-E89-H89) -> #REF! | L89: / | M89: =SUM(D89-G89-J89) -> #REF!
A90: 창고용지 | B90: =COUNTIF(#REF!,"창") -> #REF! | C90: / | D90: =SUMIF(#REF!,"창",#REF!) -> #REF! | E90: =COUNTIF(#REF!,"주국") -> #REF! | F90: / | G90: =SUMIF(#REF!,"주국",#REF!) -> #REF! | H90: =COUNTIF(#REF!,"창공") -> #REF! | I90: / | J90: =SUMIF(#REF!,"창공",#REF!) -> #REF! | K90: =SUM(B90-E90-H90) -> #REF! | L90: / | M90: =SUM(D90-G90-J90) -> #REF!
A91: 미지번 | B91: =COUNTIF(#REF!,"가") -> #REF! | C91: / | D91: =SUMIF(#REF!,"가",#REF!) -> #REF! | E91: =COUNTIF(#REF!," 국") -> #REF! | F91: / | G91: =SUMIF(#REF!," 국",#REF!) -> #REF! | H91: =COUNTIF(#REF!," 공") -> #REF! | I91: / | J91: =SUMIF(#REF!," 공",#REF!) -> #REF! | K91: =SUM(B91-E91-H91) -> #REF! | L91: / | M91: =SUM(D91-G91-J91) -> #REF!
A92: =IF(EXACT(O96,O97),,"검산확인요!!!") -> #REF! | K92: =IF(ISBLANK(#REF!),,#REF!) -> #REF!
A94: 구분 | B94: 계 | E94: 국 유 지 | H94: 공 유 지 | K94: 사 유 지 | N94: 비고
B95: 필지 | C95: / | D95: 면 적 (㎡) | E95: 필지 | F95: / | G95: 면 적 (㎡) | H95: 필지 | I95: / | J95: 면 적 (㎡) | K95: 필지 | L95: / | M95: 면 적 (㎡) | Q95: 총계 | R95: 국유지 | S95: 사유지 | T95: 국유지+사유지
A96: 계 | B96: =SUM(B97:B121) -> #REF! | C96: / | D96: =SUM(D97:D121) -> #REF! | E96: =SUM(E97:E121) -> #REF! | F96: / | G96: =SUM(G97:G121) -> #REF! | H96: =SUM(H97:H121) -> #REF! | I96: / | J96: =SUM(J97:J121) -> #REF! | K96: =SUM(K97:K121) -> #REF! | L96: / | M96: =SUM(M97:M121) -> #REF! | O96: =IF(EXACT(Q96,T96),"맞음","틀림") -> #REF! | P96: 필지 | Q96: =SUM(B97:B121) -> #REF! | R96: =SUM(E97:E121) -> #REF! | S96: =SUM(K97:K121) -> #REF! | T96: =K96+E96 -> #REF!
A97: 전 | B97: =COUNTIF(#REF!,"전") -> #REF! | C97: / | D97: =SUMIF(#REF!,"전",#REF!) -> #REF! | E97: =COUNTIF(#REF!,"전국") -> #REF! | F97: / | G97: =SUMIF(#REF!,"전국",#REF!) -> #REF! | H97: =COUNTIF(#REF!,"전공") -> #REF! | I97: / | J97: =SUMIF(#REF!,"전공",#REF!) -> #REF! | K97: =SUM(B97-E97-H97) -> #REF! | L97: / | M97: =SUM(D97-G97-J97) -> #REF! | O97: =IF(EXACT(Q97,T97),"맞음","틀림") -> #REF! | P97: 면적 | Q97: =SUM(D97:D121) -> #REF! | R97: =SUM(G97:G121) -> #REF! | S97: =SUM(M97:M121) -> #REF! | T97: =G96+M96 -> #REF!
A98: 답 | B98: =COUNTIF(#REF!,"답") -> #REF! | C98: / | D98: =SUMIF(#REF!,"답",#REF!) -> #REF! | E98: =COUNTIF(#REF!,"답국") -> #REF! | F98: / | G98: =SUMIF(#REF!,"답국",#REF!) -> #REF! | H98: =COUNTIF(#REF!,"답공") -> #REF! | I98: / | J98: =SUMIF(#REF!,"답공",#REF!) -> #REF! | K98: =SUM(B98-E98-H98) -> #REF! | L98: / | M98: =SUM(D98-G98-J98) -> #REF!
A99: 임야 | B99: =COUNTIF(#REF!,"임") -> #REF! | C99: / | D99: =SUMIF(#REF!,"임",#REF!) -> #REF! | E99: =COUNTIF(#REF!,"임국") -> #REF! | F99: / | G99: =SUMIF(#REF!,"임국",#REF!) -> #REF! | H99: =COUNTIF(#REF!,"임공") -> #REF! | I99: / | J99: =SUMIF(#REF!,"임공",#REF!) -> #REF! | K99: =SUM(B99-E99-H99) -> #REF! | L99: / | M99: =SUM(D99-G99-J99) -> #REF!
A100: 대지 | B100: =COUNTIF(#REF!,"대") -> #REF! | C100: / | D100: =SUMIF(#REF!,"대",#REF!) -> #REF! | E100: =COUNTIF(#REF!,"대국") -> #REF! | F100: / | G100: =SUMIF(#REF!,"대국",#REF!) -> #REF! | H100: =COUNTIF(#REF!,"대공") -> #REF! | I100: / | J100: =SUMIF(#REF!,"대공",#REF!) -> #REF! | K100: =SUM(B100-E100-H100) -> #REF! | L100: / | M100: =SUM(D100-G100-J100) -> #REF!
A101: 도로 | B101: =COUNTIF(#REF!,"도") -> #REF! | C101: / | D101: =SUMIF(#REF!,"도",#REF!) -> #REF! | E101: =COUNTIF(#REF!,"도국") -> #REF! | F101: / | G101: =SUMIF(#REF!,"도국",#REF!) -> #REF! | H101: =COUNTIF(#REF!,"도공") -> #REF! | I101: / | J101: =SUMIF(#REF!,"도공",#REF!) -> #REF! | K101: =SUM(B101-E101-H101) -> #REF! | L101: / | M101: =SUM(D101-G101-J101) -> #REF!
A102: 구거 | B102: =COUNTIF(#REF!,"구") -> #REF! | C102: / | D102: =SUMIF(#REF!,"구",#REF!) -> #REF! | E102: =COUNTIF(#REF!,"구국") -> #REF! | F102: / | G102: =SUMIF(#REF!,"구국",#REF!) -> #REF! | H102: =COUNTIF(#REF!,"구공") -> #REF! | I102: / | J102: =SUMIF(#REF!,"구공",#REF!) -> #REF! | K102: =SUM(B102-E102-H102) -> #REF! | L102: / | M102: =SUM(D102-G102-J102) -> #REF!
A103: 하천 | B103: =COUNTIF(#REF!,"천") -> #REF! | C103: / | D103: =SUMIF(#REF!,"천",#REF!) -> #REF! | E103: =COUNTIF(#REF!,"천국") -> #REF! | F103: / | G103: =SUMIF(#REF!,"천국",#REF!) -> #REF! | H103: =COUNTIF(#REF!,"천공") -> #REF! | I103: / | J103: =SUMIF(#REF!,"천공",#REF!) -> #REF! | K103: =SUM(B103-E103-H103) -> #REF! | L103: / | M103: =SUM(D103-G103-J103) -> #REF!
A104: 유지 | B104: =COUNTIF(#REF!,"유") -> #REF! | C104: / | D104: =SUMIF(#REF!,"유",#REF!) -> #REF! | E104: =COUNTIF(#REF!,"유국") -> #REF! | F104: / | G104: =SUMIF(#REF!,"유국",#REF!) -> #REF! | H104: =COUNTIF(#REF!,"유공") -> #REF! | I104: / | J104: =SUMIF(#REF!,"유공",#REF!) -> #REF! | K104: =SUM(B104-E104-H104) -> #REF! | L104: / | M104: =SUM(D104-G104-J104) -> #REF!
...

Sheet (당초)대두리
A1: 용 지 조 서
I2: 서산시 부석면 대두리
A4: 일련 | B4: 지 번 | D4: 지목 | E4: 지 적 | F4: 편입면적 | G4: 당초 소유자 | I4: 관 계 인 | L4: 비고 | M4: 비고 | N4: 공시지가
A5: 번호 | B5: 분할전 | C5: 분할후 | E5: ( ㎡ ) | F5: 당초 | G5: 성 명 | H5: 주 소 | I5: 성 명 | J5: 주 소 | K5: 권리관계
A6: 1 | B6: 804 | D6: 구 | E6: 9821 | F6: 22 | G6: 국 | H6: 농림수산식품부 | M6: =CONCATENATE(D6,G6) -> 구국
A7: 2 | B7: 246-13 | D7: 답 | E7: 10 | F7: 10 | G7: 공 | H7: 충청남도 | M7: =CONCATENATE(D7,G7) -> 답공
A8: 3 | B8: 246-14 | D8: 대 | E8: 34 | F8: 34 | G8: 이태식 | H8: 대두리 66 | M8: =CONCATENATE(D8,G8) -> 대이태식
A9: 4 | B9: 194-4 | D9: 전 | E9: 1401 | F9: 152 | G9: 공 | H9: 충청남도 | M9: =CONCATENATE(D9,G9) -> 전공
A10: 5 | B10: 194-5 | D10: 전 | E10: 81 | F10: 26 | G10: 강모훈 | H10: 용인 수지 풍덕천동 1168 진산마을삼성5차@517-1503 | M10: =CONCATENATE(D10,G10) -> 전강모훈
A11: 6 | B11: 193 | D11: 대 | E11: 1532 | F11: 233 | G11: 강모훈 | H11: 용인 수지 풍덕천동 1168 진산마을삼성5차@517-1503 | M11: =CONCATENATE(D11,G11) -> 대강모훈
A12: 7 | B12: 195-2 | D12: 전 | E12: 2297 | F12: 2297 | G12: 공 | H12: 충청남도 | M12: =CONCATENATE(D12,G12) -> 전공
A13: 8 | B13: 217-2 | D13: 유 | E13: 1007 | F13: 1007 | G13: 공 | H13: 충청남도 | M13: =CONCATENATE(D13,G13) -> 유공
A14: 9 | B14: 217-4 | D14: 유 | E14: 594 | F14: 594 | G14: 공 | H14: 충청남도 | M14: =CONCATENATE(D14,G14) -> 유공
A15: 10 | B15: 688-10 | D15: 구 | E15: 10 | F15: 10 | G15: 국 | H15: 농림수산식품부 | M15: =CONCATENATE(D15,G15) -> 구국
A16: 11 | B16: 217-5 | D16: 유 | E16: 61 | F16: 59 | G16: 강선모 | H16: 서산시 부석면 대두리 146 | M16: =CONCATENATE(D16,G16) -> 유강선모
A17: 12 | B17: 799 | D17: 구 | E17: 574.3 | F17: 574.3 | G17: 국 | H17: 농림수산식품부 | M17: =CONCATENATE(D17,G17) -> 구국
... A100: 95 | B100: 산68-2 | D100: 임 | E100: 2457 | F100: 1709 | G100: 공 | H100: 충청남도 | M100: =CONCATENATE(D100,G100) -> 임공
A103: 소 계 | F103: =SUM(F6:F102) -> 29928.6
A129: =IF(ISBLANK(D129)," ",132-COUNTBLANK($D$6:D129))
A130: =IF(ISBLANK(D130)," ",133-COUNTBLANK($D$6:D130))
A131: =IF(ISBLANK(D131)," ",134-COUNTBLANK($D$6:D131))
A132: =IF(ISBLANK(D132)," ",135-COUNTBLANK($D$6:D132))
A133: =IF(ISBLANK(D133)," ",136-COUNTBLANK($D$6:D133))
A134: =IF(ISBLANK(D134)," ",137-COUNTBLANK($D$6:D134))
A135: =IF(ISBLANK(D135)," ",138-COUNTBLANK($D$6:D135))
A136: =IF(ISBLANK(D136)," ",139-COUNTBLANK($D$6:D136))
A137: =IF(ISBLANK(D137)," ",140-COUNTBLANK($D$6:D137))
A138: =IF(ISBLANK(D138)," ",141-COUNTBLANK($D$6:D138))
A139: =IF(ISBLANK(D139)," ",142-COUNTBLANK($D$6:D139))
A140: =IF(ISBLANK(D140)," ",143-COUNTBLANK($D$6:D140))
A141: =IF(ISBLANK(D141)," ",144-COUNTBLANK($D$6:D141))
A142: =IF(ISBLANK(D142)," ",145-COUNTBLANK($D$6:D142))
A143: =IF(ISBLANK(D143)," ",146-COUNTBLANK($D$6:D143))
A144: 소 계 | F144: =SUM(F124:F143) -> 0
A145: =IF(ISBLANK(D145)," ",148-COUNTBLANK($D$6:D145))
A146: =IF(ISBLANK(D146)," ",149-COUNTBLANK($D$6:D146))
A147: =IF(ISBLANK(D147)," ",150-COUNTBLANK($D$6:D147))
A148: =IF(ISBLANK(D148)," ",151-COUNTBLANK($D$6:D148))
A149: =IF(ISBLANK(D149)," ",152-COUNTBLANK($D$6:D149))
A150: =IF(ISBLANK(D150)," ",153-COUNTBLANK($D$6:D150))
A151: =IF(ISBLANK(D151)," ",154-COUNTBLANK($D$6:D151))
A152: =IF(ISBLANK(D152)," ",155-COUNTBLANK($D$6:D152))
A153: =IF(ISBLANK(D153)," ",156-COUNTBLANK($D$6:D153))
A154: =IF(ISBLANK(D154)," ",157-COUNTBLANK($D$6:D154))
A155: =IF(ISBLANK(D155)," ",158-COUNTBLANK($D$6:D155))
A156: =IF(ISBLANK(D156)," ",159-COUNTBLANK($D$6:D156))
A157: =IF(ISBLANK(D157)," ",160-COUNTBLANK($D$6:D157))
A158: =IF(ISBLANK(D158)," ",161-COUNTBLANK($D$6:D158))
A159: =IF(ISBLANK(D159)," ",162-COUNTBLANK($D$6:D159))
A160: =IF(ISBLANK(D160)," ",163-COUNTBLANK($D$6:D160))
A161: =IF(ISBLANK(D161)," ",164-COUNTBLANK($D$6:D161))
A162: =IF(ISBLANK(D162)," ",165-COUNTBLANK($D$6:D162))
A163: =IF(ISBLANK(D163)," ",166-COUNTBLANK($D$6:D163))
A164: =IF(ISBLANK(D164)," ",167-COUNTBLANK($D$6:D164))
A165: 소 계 | F165: =SUM(F145:F164) -> 0
A166: =IF(ISBLANK(D166)," ",169-COUNTBLANK($D$6:D166))
A167: =IF(ISBLANK(D167)," ",170-COUNTBLANK($D$6:D167))
A168: =IF(ISBLANK(D168)," ",171-COUNTBLANK($D$6:D168))
A169: =IF(ISBLANK(D169)," ",172-COUNTBLANK($D$6:D169))
A170: =IF(ISBLANK(D170)," ",173-COUNTBLANK($D$6:D170))
A171: =IF(ISBLANK(D171)," ",174-COUNTBLANK($D$6:D171))
A172: =IF(ISBLANK(D172)," ",175-COUNTBLANK($D$6:D172))
A173: =IF(ISBLANK(D173)," ",176-COUNTBLANK($D$6:D173))
A174: =IF(ISBLANK(D174)," ",177-COUNTBLANK($D$6:D174))
A175: =IF(ISBLANK(D175)," ",178-COUNTBLANK($D$6:D175))
A176: =IF(ISBLANK(D176)," ",179-COUNTBLANK($D$6:D176))
A177: =IF(ISBLANK(D177)," ",180-COUNTBLANK($D$6:D177))
A178: =IF(ISBLANK(D178)," ",181-COUNTBLANK($D$6:D178))
A179: =IF(ISBLANK(D179)," ",182-COUNTBLANK($D$6:D179))
A180: =IF(ISBLANK(D180)," ",183-COUNTBLANK($D$6:D180))
A181: =IF(ISBLANK(D181)," ",184-COUNTBLANK($D$6:D181))
A182: =IF(ISBLANK(D182)," ",185-COUNTBLANK($D$6:D182))
A183: =IF(ISBLANK(D183)," ",186-COUNTBLANK($D$6:D183))
A184: =IF(ISBLANK(D184)," ",187-COUNTBLANK($D$6:D184))
A185: =IF(ISBLANK(D185)," ",188-COUNTBLANK($D$6:D185))
A186: 소 계 | F186: =SUM(F166:F185) -> 0
A187: =IF(ISBLANK(D187)," ",190-COUNTBLANK($D$6:D187))
A188: =IF(ISBLANK(D188)," ",191-COUNTBLANK($D$6:D188))
A189: =IF(ISBLANK(D189)," ",192-COUNTBLANK($D$6:D189))
A190: =IF(ISBLANK(D190)," ",193-COUNTBLANK($D$6:D190))
A191: =IF(ISBLANK(D191)," ",194-COUNTBLANK($D$6:D191))
A192: =IF(ISBLANK(D192)," ",195-COUNTBLANK($D$6:D192))
A193: =IF(ISBLANK(D193)," ",196-COUNTBLANK($D$6:D193))
A194: =IF(ISBLANK(D194)," ",197-COUNTBLANK($D$6:D194))
A195: =IF(ISBLANK(D195)," ",198-COUNTBLANK($D$6:D195))
A196: =IF(ISBLANK(D196)," ",199-COUNTBLANK($D$6:D196))
A197: =IF(ISBLANK(D197)," ",200-COUNTBLANK($D$6:D197))
A198: =IF(ISBLANK(D198)," ",201-COUNTBLANK($D$6:D198))
A199: =IF(ISBLANK(D199)," ",202-COUNTBLANK($D$6:D199))
A200: =IF(ISBLANK(D200)," ",203-COUNTBLANK($D$6:D200))
A201: =IF(ISBLANK(D201)," ",204-COUNTBLANK($D$6:D201))
A202: =IF(ISBLANK(D202)," ",205-COUNTBLANK($D$6:D202))
A203: =IF(ISBLANK(D203)," ",206-COUNTBLANK($D$6:D203))
A204: =IF(ISBLANK(D204)," ",207-COUNTBLANK($D$6:D204))
A205: =IF(ISBLANK(D205)," ",208-COUNTBLANK($D$6:D205))
A206: =IF(ISBLANK(D206)," ",209-COUNTBLANK($D$6:D206))
A207: 소 계 | F207: =SUM(F187:F206) -> 0
A208: =IF(ISBLANK(D208)," ",211-COUNTBLANK($D$6:D208))
A209: =IF(ISBLANK(D209)," ",212-COUNTBLANK($D$6:D209))
A210: =IF(ISBLANK(D210)," ",213-COUNTBLANK($D$6:D210))
...

Sheet 토지세목조서
A1: 사용 또는 수용할 토지세목조서
A4: 일련 번호 | B4: 소재지 | C4: 지 번 | E4: 지목 | F4: 지 적 (M2)) | G4: 편입면적(M2) | J4: 당초 소유자 | L4: 변경 소유자 | N4: 관 계 인 | Q4: 비고
A5: 번호 | F5: ( ㎡ ) | G5: 당초 | H5: 변경 | I5: 증감 | J5: 성 명 | K5: 주 소 | L5: 성 명 | M5: 주 소 | N5: 성 명 | O5: 주 소 | P5: 권리관계
A6: 1 | B6: 서산시 부석면 대두리 | C6: 804 | E6: 구 | F6: 9821 | G6: 22 | H6: 158 | I6: =H6-G6 -> 136 | J6: 농림축산식품부 | L6: 농림축산식품부
A7: 2 | B7: 서산시 부석면 대두리 | C7: 246-13 | E7: 답 | F7: 10 | G7: 10 | H7: 10 | I7: =H7-G7 -> 0 | J7: 충청남도 | L7: 충청남도
A8: 3 | B8: 서산시 부석면 대두리 | C8: 246-14 | E8: 대 | F8: 34 | G8: 34 | H8: 34 | I8: =H8-G8 -> 0 | J8: 이*식 | K8: 대두리 66 | L8: 이*식 | M8: 대두리 66
A9: 4 | B9: 서산시 부석면 대두리 | C9: 194-2 | E9: 전 | F9: 777 | G9: 0 | H9: 23 | I9: =H9-G9 -> 23 | J9: 강*훈 | K9: 용인 수지 풍덕천동 1168 진산마을삼성5차@517-1503 | L9: 강*훈 | M9: 용인 수지 풍덕천동 1168 진산마을삼성5차@517-1503
A10: 5 | B10: 서산시 부석면 대두리 | C10: 194-4 | E10: 전 | F10: 1401 | G10: 152 | H10: 152 | I10: =H10-G10 -> 0 | J10: - | K10: - | L10: 충청남도
A11: 6 | B11: 서산시 부석면 대두리 | C11: 194-5 | E11: 전 | F11: 81 | G11: 26 | H11: 26 | I11: =H11-G11 -> 0 | J11: - | K11: - | L11: 강*훈 | M11: 용인 수지 풍덕천동 1168 진산마을삼성5차@517-1503
A12: 7 | B12: 서산시 부석면 대두리 | C12: 193 | E12: 대 | F12: 1532 | G12: 233 | H12: 296 | I12: =H12-G12 -> 63 | J12: 강*훈 | K12: 용인 수지 풍덕천동 1168 진산마을삼성5차@517-1503 | L12: 충청남도
A13: 8 | B13: 서산시 부석면 대두리 | C13: 195-2 | E13: 전 | F13: 2297 | G13: 2297 | H13: 2297 | I13: =H13-G13 -> 0 | J13: 충청남도 | L13: 충청남도
A14: 9 | B14: 서산시 부석면 대두리 | C14: 217-2 | E14: 유 | F14: 1007 | G14: 1007 | H14: 1007 | I14: =H14-G14 -> 0 | J14: 충청남도 | L14: 충청남도
A15: 10 | B15: 서산시 부석면 대두리 | C15: 217-4 | E15: 유 | F15: 594 | G15: 594 | H15: 594 | I15: =H15-G15 -> 0 | J15: 충청남도 | L15: 충청남도
A16: 11 | B16: 서산시 부석면 대두리 | C16: 688-10 | E16: 구 | F16: 10 | G16: 10 | H16: 10 | I16: =H16-G16 -> 0 | J16: 농림축산식품부 | L16: 농림축산식품부
A17: 12 | B17: 서산시 부석면 대두리 | C17: 217-5 | E17: 유 | F17: 61 | G17: 59 | I17: =H17-G17 -> -59 | J17: 강*모 | K17: 서산시 부석면 대두리 146 | L17: 경지정리로 폐쇄 지번
A18: 13 | B18: 서산시 부석면 대두리 | C18: 799 | E18: 구 | F18: 574.3 | G18: 574.3 | H18: 574.3 | I18: =H18-G18 -> 0 | J18: 농림축산식품부 | L18: 농림축산식품부
A19: 14 | B19: 서산시 부석면 대두리 | C19: 229-2 | E19: 유 | F19: 134 | G19: 134 | H19: 134 | I19: =H19-G19 -> 0 | J19: 대두리 저수지 수리계 | K19: 대두리 534-3 | L19: 충청남도
A20: 15 | B20: 서산시 부석면 대두리 | C20: 186-3 | E20: 답 | F20: 1514.1 | G20: 1514.1 | H20: 1514.1 | I20: =H20-G20 -> 0 | J20: 우*수 | K20: 부석면 대두리 198-1 | L20: 충청남도
A21: 16 | B21: 서산시 부석면 대두리 | C21: 186-5 | E21: 답 | F21: 1813.3 | G21: 1813.3 | H21: 1813.3 | I21: =H21-G21 -> 0 | J21: 이*구 | K21: 부석면 대두리 197 | L21: 충청남도
A22: 17 | B22: 서산시 부석면 대두리 | C22: 800-1 | E22: 구 | F22: 189.2 | G22: 189.2 | H22: 189.2 | I22: =H22-G22 -> 0 | J22: 농림축산식품부 | L22: 농림축산식품부
A23: 18 | B23: 서산시 부석면 대두리 | C23: 801-1 | E23: 도 | F23: 116.8 | G23: 116.8 | H23: 116.8 | I23: =H23-G23 -> 0 | J23: 농림축산식품부 | L23: 농림축산식품부
A24: 19 | B24: 서산시 부석면 대두리 | C24: 187-6 | E24: 답 | F24: 1125.8 | G24: 1125.8 | H24: 1125.8 | I24: =H24-G24 -> 0 | J24: 이*호 | K24: 아산시 탕정면 호산리 195다세대주택 101 | L24: 충청남도
A25: 20 | B25: 서산시 부석면 대두리 | C25: 187-5 | E25: 답 | F25: 394.1 | G25: 394.1 | H25: 394.1 | I25: =H25-G25 -> 0 | J25: 이*섭 | K25: 부석면 대두리 66 | L25: 충청남도
A26: 21 | B26: 서산시 부석면 대두리 | C26: 222-4 | E26: 전 | F26: 670 | G26: 670 | H26: 670 | I26: =H26-G26 -> 0 | J26: 충청남도 | L26: 충청남도
A27: 22 | B27: 서산시 부석면 대두리 | C27: 223-1 | E27: 전 | F27: 126 | G27: 126 | H27: 126 | I27: =H27-G27 -> 0 | J27: 충청남도 | L27: 충청남도
A28: 23 | B28: 서산시 부석면 대두리 | C28: 810 | E28: 도 | F28: 89.4 | G28: 89.4 | H28: 89.4 | I28: =H28-G28 -> 0 | J28: 농림축산식품부 | L28: 농림축산식품부
A29: 24 | B29: 서산시 부석면 대두리 | C29: 188-4 | E29: 답 | F29: 502.7 | G29: 502.7 | H29: 502.7 | I29: =H29-G29 -> 0 | J29: 이*섭 | K29: 부석면 대두리 66 | L29: 충청남도
A30: 25 | B30: 서산시 부석면 대두리 | C30: 188-5 | E30: 답 | F30: 485.6 | G30: 485.6 | H30: 485.6 | I30: =H30-G30 -> 0 | J30: 유*동 외3인 | K30: 서산군 부석면 지산리 275 | L30: 충청남도
A31: 26 | B31: 서산시 부석면 대두리 | C31: 802-1 | E31: 구 | F31: 272 | G31: 272 | H31: 272 | I31: =H31-G31 -> 0 | J31: 농림축산식품부 | L31: 농림축산식품부
A32: 27 | B32: 서산시 부석면 대두리 | C32: 188-6 | E32: 답 | F32: 618.3 | G32: 618.3 | H32: 618.3 | I32: =H32-G32 -> 0 | J32: 고*옥 | K32: 부천시 원미구 중동 1113 위브더스테이트 702-1902 | L32: 충청남도
A33: 28 | B33: 서산시 부석면 대두리 | C33: 280-7 | E33: 답 | F33: 765 | G33: 765 | H33: 765 | I33: =H33-G33 -> 0 | J33: 이*숙 | K33: 서산시 음암면 성암리 328-4 | L33: 충청남도
A34: 29 | B34: 서산시 부석면 대두리 | C34: 280-8 | E34: 답 | F34: 1804 | G34: 1804 | H34: 1804 | I34: =H34-G34 -> 0 | J34: 박*숙 | K34: 수원시 장안구 정자동 42-15 | L34: 충청남도
A35: 30 | B35: 서산시 부석면 대두리 | C35: 279-7 | E35: 답 | F35: 378 | G35: 378 | H35: 378 | I35: =H35-G35 -> 0 | J35: 이*설 | K35: 부석면 취평리 299-2 | L35: 충청남도
A36: 31 | B36: 서산시 부석면 대두리 | C36: 279-8 | E36: 답 | F36: 138 | G36: 138 | H36: 138 | I36: =H36-G36 -> 0 | J36: 나*선 외1인 | K36: 수원시 장안구 정자동 922 청솔주공@616-602 | L36: 충청남도
A37: 32 | B37: 서산시 부석면 대두리 | C37: 277-4 | E37: 답 | F37: 72 | G37: 72 | H37: 72 | I37: =H37-G37 -> 0 | J37: 나*선 외1인 | K37: 수원시 장안구 정자동 922 청솔주공@616-602 | L37: 충청남도
A38: 33 | B38: 서산시 부석면 대두리 | C38: 276-5 | E38: 답 | F38: 37 | G38: 37 | H38: 37 | I38: =H38-G38 -> 0 | J38: 나*선 외1인 | K38: 수원시 장안구 정자동 922 청솔주공@616-602 | L38: 충청남도
A39: 34 | B39: 서산시 부석면 대두리 | C39: 275-5 | E39: 답 | F39: 91 | G39: 91 | H39: 91 | I39: =H39-G39 -> 0 | J39: 유*천 | K39: 대두리 53 | L39: 충청남도
A40: 35 | B40: 서산시 부석면 대두리 | C40: 274-5 | E40: 답 | F40: 128 | G40: 128 | H40: 128 | I40: =H40-G40 -> 0 | J40: 오*임 | K40: 인천 남동구 구월동 1397-8 4층 | L40: 충청남도
A41: 36 | B41: 서산시 부석면 대두리 | C41: 288-5 | E41: 답 | F41: 84 | G41: 84 | H41: 84 | I41: =H41-G41 -> 0 | J41: 김*배 | K41: 서울 영등포구 시흥동 39-3 | L41: 충청남도
A42: 37 | B42: 서산시 부석면 대두리 | C42: 288-3 | E42: 답 | F42: 336 | G42: 336 | H42: 336 | I42: =H42-G42 -> 0 | J42: 충청남도 | L42: 충청남도
A43: 38 | B43: 서산시 부석면 대두리 | C43: 288-2 | E43: 도 | F43: 298 | G43: 298 | H43: 298 | I43: =H43-G43 -> 0 | J43: 한*우 | K43: 대두리 541 | L43: 한*우 | M43: 대두리 541
A44: 39 | B44: 서산시 부석면 대두리 | C44: 289-8 | E44: 전 | F44: 266 | G44: 266 | H44: 266 | I44: =H44-G44 -> 0 | J44: 장*순 | K44: 인천시 남동구 논현동 634-1한화꿈에그린@610-303 | L44: 충청남도
A45: 40 | B45: 서산시 부석면 대두리 | C45: 293-9 | E45: 임 | F45: 35 | G45: 35 | H45: 35 | I45: =H45-G45 -> 0 | J45: 충청남도 | L45: 충청남도
A46: 41 | B46: 서산시 부석면 대두리 | C46: 293-8 | E46: 임 | F46: 11 | G46: 11 | H46: 11 | I46: =H46-G46 -> 0 | J46: 박*희 | K46: 서울 동작구 사당동 223-12 | L46: 충청남도
A47: 42 | B47: 서산시 부석면 대두리 | C47: 689 | E47: 도 | F47: 1633 | G47: 645 | H47: 910 | I47: =H47-G47 -> 265 | J47: 국토교통부 | L47: 국토교통부
A48: 43 | B48: 서산시 부석면 대두리 | C48: 289-1 | E48: 도 | F48: 198 | G48: 198 | H48: 198 | I48: =H48-G48 -> 0 | J48: 충청남도 | L48: 충청남도
A49: 44 | B49: 서산시 부석면 대두리 | C49: 산69-5 | E49: 도 | F49: 1348 | G49: 108 | H49: 385 | I49: =H49-G49 -> 277 | J49: 충청남도 | L49: 충청남도
A50: 45 | B50: 서산시 부석면 대두리 | C50: 산68-1 | E50: 도 | F50: 193 | G50: 193 | H50: 193 | I50: =H50-G50 -> 0 | J50: 충청남도 | L50: 충청남도
A51: 46 | B51: 서산시 부석면 대두리 | C51: 293-10 | E51: 임 | F51: 887 | G51: 887 | H51: 887 | I51: =H51-G51 -> 0 | J51: 명*훈 외1인 | K51: 남양주시 도농동 296-15 창조@ 에이-302 | L51: 충청남도
A52: 47 | B52: 서산시 부석면 대두리 | C52: 177-3 | E52: 도 | F52: 1010 | G52: 130 | H52: 324 | I52: =H52-G52 -> 194 | J52: 충청남도 | L52: 충청남도
A53: 48 | B53: 서산시 부석면 대두리 | C53: 195-1 | E53: 도 | F53: 770 | G53: 42 | H53: 635 | I53: =H53-G53 -> 593 | J53: 충청남도 | L53: 충청남도
A54: 49 | B54: 서산시 부석면 대두리 | C54: 217-1 | E54: 도 | F54: 463 | G54: 70 | H54: 325 | I54: =H54-G54 -> 255 | J54: 국토교통부 | L54: 국토교통부
A55: 50 | B55: 서산시 부석면 대두리 | C55: 217-3 | E55: 도 | F55: 278 | G55: 106 | H55: 195 | I55: =H55-G55 -> 89 | J55: 충청남도 | L55: 충청남도
A56: 51 | B56: 서산시 부석면 대두리 | C56: 221-3 | E56: 도 | F56: 377 | G56: 7 | I56: =H56-G56 -> -7 | J56: 충청남도 | L56: 충청남도
A57: 52 | B57: 서산시 부석면 대두리 | C57: 221-1 | E57: 도 | F57: 413 | G57: 55 | H57: 97 | I57: =H57-G57 -> 42 | J57: 국토교통부 | L57: 국토교통부
A58: 53 | B58: 서산시 부석면 대두리 | C58: 683 | E58: 도 | F58: 4100 | G58: 294 | H58: 862 | I58: =H58-G58 -> 568 | J58: 국토교통부 | L58: 국토교통부
A59: 54 | B59: 서산시 부석면 대두리 | C59: 220-2 | E59: 도 | F59: 440 | G59: 287 | H59: 328 | I59: =H59-G59 -> 41 | J59: 국토교통부 | L59: 국토교통부
A60: 55 | B60: 서산시 부석면 대두리 | C60: 220-3 | E60: 도 | F60: 462 | G60: 216 | H60: 392 | I60: =H60-G60 -> 176 | J60: 충청남도 | L60: 충청남도
A61: 56 | B61: 서산시 부석면 대두리 | C61: 219-3 | E61: 도 | F61: 66 | G61: 66 | H61: 66 | I61: =H61-G61 -> 0 | J61: 이*순 | K61: 서산시 부석면 강당리 469 | L61: 충청남도
A62: 57 | B62: 서산시 부석면 대두리 | C62: 219-4 | E62: 도 | F62: 124 | G62: 124 | H62: 124 | I62: =H62-G62 -> 0 | J62: 충청남도 | L62: 충청남도
A63: 58 | B63: 서산시 부석면 대두리 | C63: 222-2 | E63: 도 | F63: 413 | G63: 413 | H63: 413 | I63: =H63-G63 -> 0 | J63: 이*구 | K63: 서산시 부석면 강당리 469 | L63: 충청남도
A64: 59 | B64: 서산시 부석면 대두리 | C64: 222-3 | E64: 도 | F64: 132 | G64: 132 | H64: 132 | I64: =H64-G64 -> 0 | J64: 충청남도 | L64: 충청남도
A65: 60 | B65: 서산시 부석면 대두리 | C65: 223-2 | E65: 도 | F65: 466 | G65: 466 | H65: 466 | I65: =H65-G65 -> 0 | J65: 국토교통부 | L65: 국토교통부
A66: 61 | B66: 서산시 부석면 대두리 | C66: 223-3 | E66: 도 | F66: 638 | G66: 638 | H66: 638 | I66: =H66-G66 -> 0 | J66: 충청남도 | L66: 충청남도
A67: 62 | B67: 서산시 부석면 대두리 | C67: 207-1 | E67: 도 | F67: 30 | G67: 30 | H67: 30 | I67: =H67-G67 -> 0 | J67: 충청남도 | L67: 충청남도
A68: 63 | B68: 서산시 부석면 대두리 | C68: 206-1 | E68: 도 | F68: 30 | G68: 30 | H68: 30 | I68: =H68-G68 -> 0 | J68: 충청남도 | L68: 충청남도
A69: 64 | B69: 서산시 부석면 대두리 | C69: 684-1 | E69: 구 | F69: 38 | G69: 38 | H69: 38 | I69: =H69-G69 -> 0 | J69: 농림축산식품부 | L69: 농림축산식품부
A70: 65 | B70: 서산시 부석면 대두리 | C70: 688-9 | E70: 구 | F70: 77 | G70: 77 | H70: 77 | I70: =H70-G70 -> 0 | J70: 농림축산식품부 | L70: 농림축산식품부
A71: 66 | B71: 서산시 부석면 대두리 | C71: 246-4 | E71: 도 | F71: 77 | G71: 77 | H71: 77 | I71: =H71-G71 -> 0 | J71: 충청남도 | L71: 충청남도
A72: 67 | B72: 서산시 부석면 대두리 | C72: 244-2 | E72: 도 | F72: 691 | G72: 691 | H72: 691 | I72: =H72-G72 -> 0 | J72: 국토교통부 | L72: 국토교통부
A73: 68 | B73: 서산시 부석면 대두리 | C73: 243-1 | E73: 도 | F73: 10 | G73: 10 | H73: 10 | I73: =H73-G73 -> 0 | J73: 국토교통부 | L73: 국토교통부
A74: 69 | B74: 서산시 부석면 대두리 | C74: 244-1 | E74: 도 | F74: 231 | G74: 231 | H74: 231 | I74: =H74-G74 -> 0 | J74: 충청남도 | L74: 충청남도
A75: 70 | B75: 서산시 부석면 대두리 | C75: 246-5 | E75: 도 | F75: 241 | G75: 101 | H75: 232 | I75: =H75-G75 -> 131 | J75: 충청남도 | L75: 충청남도
... A78: 73 | B78: 서산시 부석면 대두리 | C78: 280-1 | E78: 도 | F78: 737 | G78: 161 | H78: 217 | I78: =H78-G78 -> 56 | J78: 국토교통부 | L78: 국토교통부
A79: 74 | B79: 서산시 부석면 대두리 | C79: 280-5 | E79: 답 | F79: 2 | G79: 2 | H79: 2 | I79: =H79-G79 -> 0 | J79: 이*숙 | K79: 서산시 음암면 성암리 328-4 | L79: 충청남도
A80: 75 | B80: 서산시 부석면 대두리 | C80: 280-6 | E80: 답 | F80: 566 | G80: 404 | H80: 426 | I80: =H80-G80 -> 22 | J80: 충청남도 | L80: 충청남도
A81: 76 | B81: 서산시 부석면 대두리 | C81: 279-5 | E81: 답 | F81: 195 | G81: 195 | H81: 195 | I81: =H81-G81 -> 0 | J81: 충청남도 | L81: 충청남도
A82: 77 | B82: 서산시 부석면 대두리 | C82: 279-1 | E82: 도 | F82: 76 | G82: 9 | H82: 65 | I82: =H82-G82 -> 56 | J82: 충청남도 | L82: 충청남도
A83: 78 | B83: 서산시 부석면 대두리 | C83: 279-2 | E83: 도 | F83: 46 | G83: 19 | H83: 46 | I83: =H83-G83 -> 27 | J83: 국토교통부 | L83: 국토교통부
A84: 79 | B84: 서산시 부석면 대두리 | C84: 279-6 | E84: 답 | F84: 207 | G84: 207 | H84: 207 | I84: =H84-G84 -> 0 | J84: 충청남도 | L84: 충청남도
A85: 80 | B85: 서산시 부석면 대두리 | C85: 277-1 | E85: 도 | F85: 179 | G85: 84 | H85: 179 | I85: =H85-G85 -> 95 | J85: 충청남도 | L85: 충청남도
A86: 81 | B86: 서산시 부석면 대두리 | C86: 277-3 | E86: 답 | F86: 541 | G86: 541 | H86: 541 | I86: =H86-G86 -> 0 | J86: 충청남도 | L86: 충청남도
A87: 82 | B87: 서산시 부석면 대두리 | C87: 276-1 | E87: 도 | F87: 99 | G87: 67 | H87: 99 | I87: =H87-G87 -> 32 | J87: 국토교통부 | L87: 국토교통부
A88: 83 | B88: 서산시 부석면 대두리 | C88: 276-3 | E88: 도 | F88: 21 | G88: 21 | H88: 21 | I88: =H88-G88 -> 0 | J88: 충청남도 | L88: 충청남도
A89: 84 | B89: 서산시 부석면 대두리 | C89: 276-4 | E89: 답 | F89: 322 | G89: 322 | H89: 322 | I89: =H89-G89 -> 0 | J89: 충청남도 | L89: 충청남도
A90: 85 | B90: 서산시 부석면 대두리 | C90: 275-4 | E90: 답 | F90: 553 | G90: 553 | H90: 553 | I90: =H90-G90 -> 0 | J90: 충청남도 | L90: 충청남도
A91: 86 | B91: 서산시 부석면 대두리 | C91: 275-3 | E91: 도 | F91: 105 | G91: 105 | H91: 105 | I91: =H91-G91 -> 0 | J91: 충청남도 | L91: 충청남도
... A101: 96 | B101: 서산시 부석면 대두리 | C101: 산68-2 | E101: 임 | F101: 2457 | G101: 1709 | H101: 2457 | I101: =H101-G101 -> 748 | J101: 충청남도 | L101: 충청남도
A102: 97 | B102: 서산시 부석면 대두리 | C102: 산9-11 | E102: 도 | F102: 219 | H102: 212 | I102: =H102-G102 -> 212 | J102: - | K102: - | L102: 충청남도
A103: 98 | B103: 서산시 부석면 대두리 | C103: 산9-7 | E103: 임 | F103: 475 | H103: 25 | I103: =H103-G103 -> 25 | J103: - | K103: - | L103: 이*구 | M103: 충남 서산시 부석면 대두리 163
A104: 99 | B104: 서산시 부석면 대두리 | C104: 215-10 | E104: 전 | F104: 69 | H104: 29 | I104: =H104-G104 -> 29 | J104: - | K104: - | L104: 정*훈 | M104: 충남 서산시 부석면 대두리 산9-1
A105: 100 | B105: 서산시 부석면 대두리 | C105: 215-1 | E105: 대 | F105: 137 | H105: 26 | I105: =H105-G105 -> 26 | J105: - | K105: - | L105: 정*훈 | M105: 충남 서산시 부석면 대두리 산9-1
A106: 101 | B106: 서산시 부석면 대두리 | C106: 215-13 | E106: 대 | F106: 68 | H106: 5 | I106: =H106-G106 -> 5 | J106: - | K106: - | L106: 이*구 | M106: 충남 서산시 부석면 대두리 163
A107: 102 | B107: 서산시 부석면 대두리 | C107: 803 | E107: 구 | F107: 5363.7 | H107: 88 | I107: =H107-G107 -> 88 | J107: - | K107: - | L107: 농림축산식품부
A108: 103 | B108: 서산시 부석면 대두리 | C108: 200-1 | E108: 답 | F108: 1088.6 | H108: 42 | I108: =H108-G108 -> 42 | J108: - | K108: - | L108: 이*종선 외1 | M108: 서산시 지곡면 지산리 528
A109: 104 | B109: 서산시 부석면 대두리 | C109: 805 | E109: 도 | F109: 4118 | H109: 41 | I109: =H109-G109 -> 41 | J109: - | K109: - | L109: 농림축산식품부
A110: 105 | B110: 서산시 부석면 대두리 | C110: 215-5 | E110: 도 | F110: 254 | H110: 254 | I110: =H110-G110 -> 254 | J110: - | K110: - | L110: 충청남도
A111: 106 | B111: 서산시 부석면 대두리 | C111: 215-3 | E111: 도 | F111: 195 | H111: 195 | I111: =H111-G111 -> 195 | J111: - | K111: - | L111: 국토해양부
A112: 107 | B112: 서산시 부석면 대두리 | C112: 215-4 | E112: 도 | F112: 20 | H112: 20 | I112: =H112-G112 -> 20 | J112: - | K112: - | L112: 국토해양부
A113: 108 | B113: 서산시 부석면 대두리 | C113: 215-7 | E113: 도 | F113: 4 | H113: 4 | I113: =H113-G113 -> 4 | J113: - | K113: - | L113: 충청남도
...

Sheet (당초)봉락리
A1: 용 지 조 서
A4: 일련 | B4: 지 번 | D4: 지목 | E4: 지 적 | F4: 편입면적 | G4: 당초 소유자 | I4: 비고 | J4: 비고 | K4: 공시지가
A5: 번호 | B5: 분할전 | C5: 분할후 | E5: ( ㎡ ) | F5: 당초 | G5: 성 명 | H5: 주 소
A6: 1 | B6: 106-6 | D6: 임 | E6: 724 | F6: 724 | G6: 공 | H6: 충청남도 | J6: =CONCATENATE(D6,G6) -> 임공 | K6: 12100
A7: 2 | B7: 106-7 | D7: 임 | E7: 1558 | F7: 1558 | G7: 공 | H7: 충청남도 | J7: =CONCATENATE(D7,G7) -> 임공 | K7: 7560 | L7: 공유림
A8: 3 | B8: 산87-5 | D8: 임 | E8: 658 | F8: 340 | G8: 공 | H8: 충청남도 | J8: =CONCATENATE(D8,G8) -> 임공 | K8: 7560
A9: 4 | B9: 108-7 | D9: 전 | E9: 254 | F9: 254 | G9: 공 | H9: 충청남도 | J9: =CONCATENATE(D9,G9) -> 전공 | K9: 13200
A10: 5 | B10: 857 | D10: 구 | E10: 7643 | F10: 151 | G10: 국 | H10: 농림수산식품부 | J10: =CONCATENATE(D10,G10) -> 구국
A11: 6 | B11: 155-4 | D11: 답 | E11: 183 | F11: 183 | G11: 공 | H11: 충청남도 | J11: =CONCATENATE(D11,G11) -> 답공 | K11: 12400
A12: 7 | B12: 154-5 | D12: 잡 | E12: 469 | F12: 469 | G12: 공 | H12: 충청남도 | J12: =CONCATENATE(D12,G12) -> 잡공 | K12: 46900
A13: 8 | B13: 154-6 | D13: 창 | E13: 436 | F13: 436 | G13: 공 | H13: 충청남도 | J13: =CONCATENATE(D13,G13) -> 창공 | K13: 46900
A14: 9 | B14: 153-7 | D14: 전 | E14: 264 | F14: 264 | G14: 공 | H14: 충청남도 | J14: =CONCATENATE(D14,G14) -> 전공 | K14: 14300
A15: 10 | B15: 184-6 | D15: 임 | E15: 190 | F15: 190 | G15: 공 | H15: 충청남도 | J15: =CONCATENATE(D15,G15) -> 임공 | K15: 13200
A16: 11 | B16: 153-8 | D16: 대 | E16: 144 | F16: 144 | G16: 공 | H16: 충청남도 | J16: =CONCATENATE(D16,G16) -> 대공 | K16: 17200
A17: 12 | B17: 153-6 | D17: 대 | E17: 95 | F17: 95 | G17: 국 | H17: 농림수산식품부 | J17: =CONCATENATE(D17,G17) -> 대국 | K17: 3460
A18: 13 | B18: 180-13 | D18: 임 | E18: 17 | F18: 17 | G18: 공 | H18: 서산시 | J18: =CONCATENATE(D18,G18) -> 임공 | K18: 3460
A19: 14 | B19: 0-2 | D19: 가 | F19: 72 | G19: 국 | J19: =CONCATENATE(D19,G19) -> 가국
A20: 15 | B20: 153-9 | D20: 임 | E20: 307 | F20: 307 | G20: 공 | H20: 충청남도 | J20: =CONCATENATE(D20,G20) -> 임공 | K20: 3460
A21: 16 | B21: 153-5 | D21: 임 | E21: 14 | F21: 14 | G21: 공 | H21: 충청남도 | J21: =CONCATENATE(D21,G21) -> 임공 | K21: 3460
A22: 17 | B22: 184-8 | D22: 임 | E22: 1342 | F22: 1342 | G22: 공 | H22: 충청남도 | J22: =CONCATENATE(D22,G22) -> 임공 | K22: 13600
A23: 18 | B23: 184-9 | D23: 임 | E23: 1359 | F23: 1359 | G23: 공 | H23: 서산시 | J23: =CONCATENATE(D23,G23) -> 임공 | K23: 3460
A24: 19 | B24: 189-9 | D24: 임 | E24: 2047 | F24: 2047 | G24: 공 | H24: 충청남도 | J24: =CONCATENATE(D24,G24) -> 임공 | K24: 13200
A25: 20 | B25: 189-8 | D25: 전 | E25: 34 | F25: 34 | G25: 공 | H25: 충청남도 | J25: =CONCATENATE(D25,G25) -> 전공 | K25: 10700
A26: 21 | B26: 106-5 | D26: 임 | E26: 297 | F26: 297 | G26: 공 | H26: 충청남도 | J26: =CONCATENATE(D26,G26) -> 임공 | K26: 7800
A27: 22 | B27: 110-4 | D27: 전 | E27: 8 | F27: 8 | G27: 이희철 | H27: 서산시 예천동 524-5 현대@ 103-901 | J27: =CONCATENATE(D27,G27) -> 전이희철 | K27: 13200
A28: 23 | B28: 150-7 | D28: 전 | E28: 105 | F28: 105 | G28: 공 | H28: 충청남도 | J28: =CONCATENATE(D28,G28) -> 전공 | K28: 13200
A29: 24 | B29: 150-8 | D29: 전 | E29: 385 | F29: 385 | G29: 공 | H29: 충청남도 | J29: =CONCATENATE(D29,G29) -> 전공 | K29: 13200
A30: 25 | B30: 151-7 | D30: 잡 | E30: 7 | F30: 7 | G30: 공 | H30: 충청남도 | J30: =CONCATENATE(D30,G30) -> 잡공 | K30: 19900
A31: 26 | B31: 151-8 | D31: 잡 | E31: 7 | F31: 7 | G31: 공 | H31: 충청남도 | J31: =CONCATENATE(D31,G31) -> 잡공 | K31: 19900
A32: 27 | B32: 138-4 | D32: 전 | E32: 1220 | F32: 1220 | G32: 공 | H32: 충청남도 | J32: =CONCATENATE(D32,G32) -> 전공 | K32: 13000
A33: 28 | B33: 855 | D33: 도 | E33: 3832 | F33: 84 | G33: 국 | H33: 국토해양부 | J33: =CONCATENATE(D33,G33) -> 도국
A34: 29 | B34: 406-3 | D34: 전 | E34: 51 | F34: 51 | G34: 공 | H34: 충청남도 | J34: =CONCATENATE(D34,G34) -> 전공 | K34: 11400
A35: 30 | B35: 407-6 | D35: 전 | E35: 235 | F35: 235 | G35: 공 | H35: 충청남도 | J35: =CONCATENATE(D35,G35) -> 전공 | K35: 11300
A36: 31 | B36: 407-2 | D36: 대 | E36: 304 | F36: 304 | G36: 공 | H36: 충청남도 | J36: =CONCATENATE(D36,G36) -> 대공 | K36: 15300
A37: 32 | B37: 407-3 | D37: 전 | E37: 120 | F37: 120 | G37: 공 | H37: 충청남도 | J37: =CONCATENATE(D37,G37) -> 전공 | K37: 15300
A38: 33 | B38: 405-6 | D38: 전 | E38: 394 | F38: 394 | G38: 공 | H38: 충청남도 | J38: =CONCATENATE(D38,G38) -> 전공 | K38: 10500
A39: 34 | B39: 405-3 | D39: 전 | E39: 217 | F39: 217 | G39: 공 | H39: 충청남도 | J39: =CONCATENATE(D39,G39) -> 전공 | K39: 12400
A40: 35 | B40: 404-5 | D40: 전 | E40: 234 | F40: 234 | G40: 공 | H40: 충청남도 | J40: =CONCATENATE(D40,G40) -> 전공 | K40: 12400
A41: 36 | B41: 1137-1 | D41: 구 | E41: 49.5 | F41: 49.5 | G41: 국 | H41: 농림수산식품부 | J41: =CONCATENATE(D41,G41) -> 구국
A42: 37 | B42: 250-20 | D42: 답 | E42: 862.8 | F42: 862.8 | G42: 공 | H42: 충청남도 | J42: =CONCATENATE(D42,G42) -> 답공 | K42: 10900
A43: 38 | B43: 1138-1 | D43: 도 | E43: 83.7 | F43: 83.7 | G43: 국 | H43: 국토해양부 | J43: =CONCATENATE(D43,G43) -> 도국
A44: 39 | B44: 1139-1 | D44: 구 | E44: 57.7 | F44: 57.7 | G44: 국 | H44: 농림수산식품부 | J44: =CONCATENATE(D44,G44) -> 구국
A45: 40 | B45: 141-7 | D45: 전 | E45: 24 | F45: 24 | G45: 공 | H45: 충청남도 | J45: =CONCATENATE(D45,G45) -> 전공 | K45: 14300
A46: 41 | B46: 139-4 | D46: 전 | E46: 176 | F46: 176 | G46: 유희곤 외5인 | H46: 서산시 읍내동 624-5 부영@ 101-616 | J46: =CONCATENATE(D46,G46) -> 전유희곤 외5인 | K46: 16900
A47: 42 | B47: 409-8 | D47: 전 | E47: 32 | F47: 32 | G47: 공 | H47: 충청남도 | J47: =CONCATENATE(D47,G47) -> 전공 | K47: 14800
A48: 43 | B48: 409-7 | D48: 대 | E48: 47 | F48: 47 | G48: 공 | H48: 충청남도 | J48: =CONCATENATE(D48,G48) -> 대공 | K48: 19900
