Workbook

Sheet 집계
A1: 편 입 용 지 집 계 표
M2: 복수~대전간 지방도4차로 확·포장공사(변경) - 본선 ( 필지 / m²)
A3: 구 분 | B3: 총 계 | H3: 국 유 지 | N3: 공 유 지 | T3: 사 유 지
B4: 당초 | E4: 변경 | H4: 당초 | K4: 변경 | N4: 당초 | Q4: 변경 | T4: 당초 | W4: 변경
A5: 계 | B5: 169 | C5: / | D5: 248073 | E5: =SUM(E6:E24) -> 164 | F5: / | G5: =SUM(G6:G24) -> 241757 | H5: 8 | I5: / | J5: 3754 | K5: =SUM(K6:K24) -> 9 | L5: / | M5: =SUM(M6:M24) -> 3921 | N5: 139 | O5: / | P5: 88568 | Q5: =SUM(Q6:Q24) -> 152 | R5: / | S5: =SUM(S6:S24) -> 163741 | T5: 22 | U5: / | V5: 155751 | W5: =SUM(W6:W24) -> 3 | X5: / | Y5: =SUM(Y6:Y24) -> 74095
A6: 전 | B6: 47 | C6: / | D6: 19837 | E6: =COUNTIF('수용 또는 사용할 토지조서(구례리)'!$F$5:$F$289,LEFT($A6,1)) -> 43 | F6: / | G6: =SUMIF('수용 또는 사용할 토지조서(구례리)'!$F$5:$F$289,LEFT($A6,1),'수용 또는 사용할 토지조서(구례리)'!$J$5:$J$148) -> 19837 | H6: 0 | I6: / | J6: 0 | K6: =COUNTIF('수용 또는 사용할 토지조서(구례리)'!$R$5:$R$289,CONCATENATE(LEFT($A6,1),LEFT(H$3,1))) -> 0 | L6: / | M6: =SUMIF('수용 또는 사용할 토지조서(구례리)'!$R$5:$R$289,CONCATENATE(LEFT($A6,1),LEFT(H$3,1)),'수용 또는 사용할 토지조서(구례리)'!$J$5:$J$289) -> 0 | N6: 35 | O6: / | P6: 15380 | Q6: =COUNTIF('수용 또는 사용할 토지조서(구례리)'!$R$5:$R$289,CONCATENATE(LEFT($A6,1),LEFT(N$3,1))) -> 43 | R6: / | S6: =SUMIF('수용 또는 사용할 토지조서(구례리)'!$R$5:$R$289,CONCATENATE(LEFT($A6,1),LEFT(N$3,1)),'수용 또는 사용할 토지조서(구례리)'!$J$5:$J$289) -> 19837 | T6: 12 | U6: / | V6: 4457 | W6: =E6-K6-Q6 -> 0 | X6: / | Y6: =G6-M6-S6 -> 0
A7: 답 | B7: 42 | C7: / | D7: 32716 | E7: =COUNTIF('수용 또는 사용할 토지조서(구례리)'!$F$5:$F$289,LEFT($A7,1)) -> 42 | F7: / | G7: =SUMIF('수용 또는 사용할 토지조서(구례리)'!$F$5:$F$289,LEFT($A7,1),'수용 또는 사용할 토지조서(구례리)'!$J$5:$J$148) -> 32716 | H7: 1 | I7: / | J7: 315 | K7: =COUNTIF('수용 또는 사용할 토지조서(구례리)'!$R$5:$R$289,CONCATENATE(LEFT($A7,1),LEFT(H$3,1))) -> 1 | L7: / | M7: =SUMIF('수용 또는 사용할 토지조서(구례리)'!$R$5:$R$289,CONCATENATE(LEFT($A7,1),LEFT(H$3,1)),'수용 또는 사용할 토지조서(구례리)'!$J$5:$J$289) -> 315 | N7: 41 | O7: / | P7: 32401 | Q7: =COUNTIF('수용 또는 사용할 토지조서(구례리)'!$R$5:$R$289,CONCATENATE(LEFT($A7,1),LEFT(N$3,1))) -> 41 | R7: / | S7: =SUMIF('수용 또는 사용할 토지조서(구례리)'!$R$5:$R$289,CONCATENATE(LEFT($A7,1),LEFT(N$3,1)),'수용 또는 사용할 토지조서(구례리)'!$J$5:$J$289) -> 32401 | T7: 0 | U7: / | V7: 0 | W7: =E7-K7-Q7 -> 0 | X7: / | Y7: =G7-M7-S7 -> 0
A8: 대지 | B8: 6 | C8: / | D8: 1535 | E8: =COUNTIF('수용 또는 사용할 토지조서(구례리)'!$F$5:$F$289,LEFT($A8,1)) -> 6 | F8: / | G8: =SUMIF('수용 또는 사용할 토지조서(구례리)'!$F$5:$F$289,LEFT($A8,1),'수용 또는 사용할 토지조서(구례리)'!$J$5:$J$148) -> 1535 | H8: 0 | I8: / | J8: 0 | K8: =COUNTIF('수용 또는 사용할 토지조서(구례리)'!$R$5:$R$289,CONCATENATE(LEFT($A8,1),LEFT(H$3,1))) -> 0 | L8: / | M8: =SUMIF('수용 또는 사용할 토지조서(구례리)'!$R$5:$R$289,CONCATENATE(LEFT($A8,1),LEFT(H$3,1)),'수용 또는 사용할 토지조서(구례리)'!$J$5:$J$289) -> 0 | N8: 6 | O8: / | P8: 1535 | Q8: =COUNTIF('수용 또는 사용할 토지조서(구례리)'!$R$5:$R$289,CONCATENATE(LEFT($A8,1),LEFT(N$3,1))) -> 6 | R8: / | S8: =SUMIF('수용 또는 사용할 토지조서(구례리)'!$R$5:$R$289,CONCATENATE(LEFT($A8,1),LEFT(N$3,1)),'수용 또는 사용할 토지조서(구례리)'!$J$5:$J$289) -> 1535 | T8: 0 | U8: / | V8: 0 | W8: =E8-K8-Q8 -> 0 | X8: / | Y8: =G8-M8-S8 -> 0
A9: 임야 | B9: 29 | C9: / | D9: 166762 | E9: =COUNTIF('수용 또는 사용할 토지조서(구례리)'!$F$5:$F$289,LEFT($A9,1)) -> 28 | F9: / | G9: =SUMIF('수용 또는 사용할 토지조서(구례리)'!$F$5:$F$289,LEFT($A9,1),'수용 또는 사용할 토지조서(구례리)'!$J$5:$J$148) -> 160446 | H9: 0 | I9: / | J9: 0 | K9: =COUNTIF('수용 또는 사용할 토지조서(구례리)'!$R$5:$R$289,CONCATENATE(LEFT($A9,1),LEFT(H$3,1))) -> 0 | L9: / | M9: =SUMIF('수용 또는 사용할 토지조서(구례리)'!$R$5:$R$289,CONCATENATE(LEFT($A9,1),LEFT(H$3,1)),'수용 또는 사용할 토지조서(구례리)'!$J$5:$J$289) -> 0 | N9: 20 | O9: / | P9: 15635 | Q9: =COUNTIF('수용 또는 사용할 토지조서(구례리)'!$R$5:$R$289,CONCATENATE(LEFT($A9,1),LEFT(N$3,1))) -> 25 | R9: / | S9: =SUMIF('수용 또는 사용할 토지조서(구례리)'!$R$5:$R$289,CONCATENATE(LEFT($A9,1),LEFT(N$3,1)),'수용 또는 사용할 토지조서(구례리)'!$J$5:$J$289) -> 86351 | T9: 9 | U9: / | V9: 151127 | W9: =E9-K9-Q9 -> 3 | X9: / | Y9: =G9-M9-S9 -> 74095
A10: 잡종지 | B10: 3 | C10: / | D10: 1042 | E10: =COUNTIF('수용 또는 사용할 토지조서(구례리)'!$F$5:$F$289,LEFT($A10,1)) -> 3 | F10: / | G10: =SUMIF('수용 또는 사용할 토지조서(구례리)'!$F$5:$F$289,LEFT($A10,1),'수용 또는 사용할 토지조서(구례리)'!$J$5:$J$148) -> 1042 | H10: 0 | I10: / | J10: 0 | K10: =COUNTIF('수용 또는 사용할 토지조서(구례리)'!$R$5:$R$289,CONCATENATE(LEFT($A10,1),LEFT(H$3,1))) -> 0 | L10: / | M10: =SUMIF('수용 또는 사용할 토지조서(구례리)'!$R$5:$R$289,CONCATENATE(LEFT($A10,1),LEFT(H$3,1)),'수용 또는 사용할 토지조서(구례리)'!$J$5:$J$289) -> 0 | N10: 3 | O10: / | P10: 1042 | Q10: =COUNTIF('수용 또는 사용할 토지조서(구례리)'!$R$5:$R$289,CONCATENATE(LEFT($A10,1),LEFT(N$3,1))) -> 3 | R10: / | S10: =SUMIF('수용 또는 사용할 토지조서(구례리)'!$R$5:$R$289,CONCATENATE(LEFT($A10,1),LEFT(N$3,1)),'수용 또는 사용할 토지조서(구례리)'!$J$5:$J$289) -> 1042 | T10: 0 | U10: / | V10: 0 | W10: =E10-K10-Q10 -> 0 | X10: / | Y10: =G10-M10-S10 -> 0
A11: 도로 | B11: 27 | C11: / | D11: 12858 | E11: =COUNTIF('수용 또는 사용할 토지조서(구례리)'!$F$5:$F$289,LEFT($A11,1)) -> 28 | F11: / | G11: =SUMIF('수용 또는 사용할 토지조서(구례리)'!$F$5:$F$289,LEFT($A11,1),'수용 또는 사용할 토지조서(구례리)'!$J$5:$J$148) -> 13025 | H11: 4 | I11: / | J11: 370 | K11: =COUNTIF('수용 또는 사용할 토지조서(구례리)'!$R$5:$R$289,CONCATENATE(LEFT($A11,1),LEFT(H$3,1))) -> 5 | L11: / | M11: =SUMIF('수용 또는 사용할 토지조서(구례리)'!$R$5:$R$289,CONCATENATE(LEFT($A11,1),LEFT(H$3,1)),'수용 또는 사용할 토지조서(구례리)'!$J$5:$J$289) -> 537 | N11: 23 | O11: / | P11: 12488 | Q11: =COUNTIF('수용 또는 사용할 토지조서(구례리)'!$R$5:$R$289,CONCATENATE(LEFT($A11,1),LEFT(N$3,1))) -> 23 | R11: / | S11: =SUMIF('수용 또는 사용할 토지조서(구례리)'!$R$5:$R$289,CONCATENATE(LEFT($A11,1),LEFT(N$3,1)),'수용 또는 사용할 토지조서(구례리)'!$J$5:$J$289) -> 12488 | T11: 0 | U11: / | V11: 0 | W11: =E11-K11-Q11 -> 0 | X11: / | Y11: =G11-M11-S11 -> 0
A12: 구거 | B12: 2 | C12: / | D12: 2349 | E12: =COUNTIF('수용 또는 사용할 토지조서(구례리)'!$F$5:$F$289,LEFT($A12,1)) -> 2 | F12: / | G12: =SUMIF('수용 또는 사용할 토지조서(구례리)'!$F$5:$F$289,LEFT($A12,1),'수용 또는 사용할 토지조서(구례리)'!$J$5:$J$148) -> 2349 | H12: 2 | I12: / | J12: 2349 | K12: =COUNTIF('수용 또는 사용할 토지조서(구례리)'!$R$5:$R$289,CONCATENATE(LEFT($A12,1),LEFT(H$3,1))) -> 2 | L12: / | M12: =SUMIF('수용 또는 사용할 토지조서(구례리)'!$R$5:$R$289,CONCATENATE(LEFT($A12,1),LEFT(H$3,1)),'수용 또는 사용할 토지조서(구례리)'!$J$5:$J$289) -> 2349 | N12: 0 | O12: / | P12: 0 | Q12: =COUNTIF('수용 또는 사용할 토지조서(구례리)'!$R$5:$R$289,CONCATENATE(LEFT($A12,1),LEFT(N$3,1))) -> 0 | R12: / | S12: =SUMIF('수용 또는 사용할 토지조서(구례리)'!$R$5:$R$289,CONCATENATE(LEFT($A12,1),LEFT(N$3,1)),'수용 또는 사용할 토지조서(구례리)'!$J$5:$J$289) -> 0 | T12: 0 | U12: / | V12: 0 | W12: =E12-K12-Q12 -> 0 | X12: / | Y12: =G12-M12-S12 -> 0
A13: 천 | B13: 5 | C13: / | D13: 6219 | E13: =COUNTIF('수용 또는 사용할 토지조서(구례리)'!$F$5:$F$289,LEFT($A13,1)) -> 5 | F13: / | G13: =SUMIF('수용 또는 사용할 토지조서(구례리)'!$F$5:$F$289,LEFT($A13,1),'수용 또는 사용할 토지조서(구례리)'!$J$5:$J$148) -> 6219 | H13: 1 | I13: / | J13: 720 | K13: =COUNTIF('수용 또는 사용할 토지조서(구례리)'!$R$5:$R$289,CONCATENATE(LEFT($A13,1),LEFT(H$3,1))) -> 1 | L13: / | M13: =SUMIF('수용 또는 사용할 토지조서(구례리)'!$R$5:$R$289,CONCATENATE(LEFT($A13,1),LEFT(H$3,1)),'수용 또는 사용할 토지조서(구례리)'!$J$5:$J$289) -> 720 | N13: 4 | O13: / | P13: 5499 | Q13: =COUNTIF('수용 또는 사용할 토지조서(구례리)'!$R$5:$R$289,CONCATENATE(LEFT($A13,1),LEFT(N$3,1))) -> 4 | R13: / | S13: =SUMIF('수용 또는 사용할 토지조서(구례리)'!$R$5:$R$289,CONCATENATE(LEFT($A13,1),LEFT(N$3,1)),'수용 또는 사용할 토지조서(구례리)'!$J$5:$J$289) -> 5499 | T13: 0 | U13: / | V13: 0 | W13: =E13-K13-Q13 -> 0 | X13: / | Y13: =G13-M13-S13 -> 0
A14: 제방 | B14: 0 | C14: / | D14: 0 | E14: =COUNTIF('수용 또는 사용할 토지조서(구례리)'!$F$5:$F$289,LEFT($A14,1)) -> 0 | F14: / | G14: =SUMIF('수용 또는 사용할 토지조서(구례리)'!$F$5:$F$289,LEFT($A14,1),'수용 또는 사용할 토지조서(구례리)'!$J$5:$J$148) -> 0 | H14: 0 | I14: / | J14: 0 | K14: =COUNTIF('수용 또는 사용할 토지조서(구례리)'!$R$5:$R$289,CONCATENATE(LEFT($A14,1),LEFT(H$3,1))) -> 0 | L14: / | M14: =SUMIF('수용 또는 사용할 토지조서(구례리)'!$R$5:$R$289,CONCATENATE(LEFT($A14,1),LEFT(H$3,1)),'수용 또는 사용할 토지조서(구례리)'!$J$5:$J$289) -> 0 | N14: 0 | O14: / | P14: 0 | Q14: =COUNTIF('수용 또는 사용할 토지조서(구례리)'!$R$5:$R$289,CONCATENATE(LEFT($A14,1),LEFT(N$3,1))) -> 0 | R14: / | S14: =SUMIF('수용 또는 사용할 토지조서(구례리)'!$R$5:$R$289,CONCATENATE(LEFT($A14,1),LEFT(N$3,1)),'수용 또는 사용할 토지조서(구례리)'!$J$5:$J$289) -> 0 | T14: 0 | U14: / | V14: 0 | W14: =E14-K14-Q14 -> 0 | X14: / | Y14: =G14-M14-S14 -> 0
A15: 묘지 | B15: 2 | C15: / | D15: 328 | E15: =COUNTIF('수용 또는 사용할 토지조서(구례리)'!$F$5:$F$289,LEFT($A15,1)) -> 2 | F15: / | G15: =SUMIF('수용 또는 사용할 토지조서(구례리)'!$F$5:$F$289,LEFT($A15,1),'수용 또는 사용할 토지조서(구례리)'!$J$5:$J$148) -> 328 | H15: 0 | I15: / | J15: 0 | K15: =COUNTIF('수용 또는 사용할 토지조서(구례리)'!$R$5:$R$289,CONCATENATE(LEFT($A15,1),LEFT(H$3,1))) -> 0 | L15: / | M15: =SUMIF('수용 또는 사용할 토지조서(구례리)'!$R$5:$R$289,CONCATENATE(LEFT($A15,1),LEFT(H$3,1)),'수용 또는 사용할 토지조서(구례리)'!$J$5:$J$289) -> 0 | N15: 2 | O15: / | P15: 328 | Q15: =COUNTIF('수용 또는 사용할 토지조서(구례리)'!$R$5:$R$289,CONCATENATE(LEFT($A15,1),LEFT(N$3,1))) -> 2 | R15: / | S15: =SUMIF('수용 또는 사용할 토지조서(구례리)'!$R$5:$R$289,CONCATENATE(LEFT($A15,1),LEFT(N$3,1)),'수용 또는 사용할 토지조서(구례리)'!$J$5:$J$289) -> 328 | T15: 0 | U15: / | V15: 0 | W15: =E15-K15-Q15 -> 0 | X15: / | Y15: =G15-M15-S15 -> 0
A16: 유수지 | B16: 0 | C16: / | D16: 0 | E16: =COUNTIF('수용 또는 사용할 토지조서(구례리)'!$F$5:$F$289,LEFT($A16,1)) -> 0 | F16: / | G16: =SUMIF('수용 또는 사용할 토지조서(구례리)'!$F$5:$F$289,LEFT($A16,1),'수용 또는 사용할 토지조서(구례리)'!$J$5:$J$148) -> 0 | H16: 0 | I16: / | J16: 0 | K16: =COUNTIF('수용 또는 사용할 토지조서(구례리)'!$R$5:$R$289,CONCATENATE(LEFT($A16,1),LEFT(H$3,1))) -> 0 | L16: / | M16: =SUMIF('수용 또는 사용할 토지조서(구례리)'!$R$5:$R$289,CONCATENATE(LEFT($A16,1),LEFT(H$3,1)),'수용 또는 사용할 토지조서(구례리)'!$J$5:$J$289) -> 0 | N16: 0 | O16: / | P16: 0 | Q16: =COUNTIF('수용 또는 사용할 토지조서(구례리)'!$R$5:$R$289,CONCATENATE(LEFT($A16,1),LEFT(N$3,1))) -> 0 | R16: / | S16: =SUMIF('수용 또는 사용할 토지조서(구례리)'!$R$5:$R$289,CONCATENATE(LEFT($A16,1),LEFT(N$3,1)),'수용 또는 사용할 토지조서(구례리)'!$J$5:$J$289) -> 0 | T16: 0 | U16: / | W16: =E16-K16-Q16 -> 0 | X16: /
A17: 과수원 | B17: 4 | C17: / | D17: 2569 | E17: =COUNTIF('수용 또는 사용할 토지조서(구례리)'!$F$5:$F$289,LEFT($A17,1)) -> 4 | F17: / | G17: =SUMIF('수용 또는 사용할 토지조서(구례리)'!$F$5:$F$289,LEFT($A17,1),'수용 또는 사용할 토지조서(구례리)'!$J$5:$J$148) -> 2569 | H17: 0 | I17: / | J17: 0 | K17: =COUNTIF('수용 또는 사용할 토지조서(구례리)'!$R$5:$R$289,CONCATENATE(LEFT($A17,1),LEFT(H$3,1))) -> 0 | L17: / | M17: =SUMIF('수용 또는 사용할 토지조서(구례리)'!$R$5:$R$289,CONCATENATE(LEFT($A17,1),LEFT(H$3,1)),'수용 또는 사용할 토지조서(구례리)'!$J$5:$J$289) -> 0 | N17: 4 | O17: / | P17: 2569 | Q17: =COUNTIF('수용 또는 사용할 토지조서(구례리)'!$R$5:$R$289,CONCATENATE(LEFT($A17,1),LEFT(N$3,1))) -> 4 | R17: / | S17: =SUMIF('수용 또는 사용할 토지조서(구례리)'!$R$5:$R$289,CONCATENATE(LEFT($A17,1),LEFT(N$3,1)),'수용 또는 사용할 토지조서(구례리)'!$J$5:$J$289) -> 2569 | T17: 0 | U17: / | V17: 0 | W17: =E17-K17-Q17 -> 0 | X17: / | Y17: =G17-M17-S17 -> 0
A18: 학교 | B18: 0 | C18: / | D18: 0 | E18: =COUNTIF('수용 또는 사용할 토지조서(구례리)'!$F$5:$F$289,LEFT($A18,1)) -> 0 | F18: / | G18: =SUMIF('수용 또는 사용할 토지조서(구례리)'!$F$5:$F$289,LEFT($A18,1),'수용 또는 사용할 토지조서(구례리)'!$J$5:$J$148) -> 0 | H18: 0 | I18: / | J18: 0 | K18: =COUNTIF('수용 또는 사용할 토지조서(구례리)'!$R$5:$R$289,CONCATENATE(LEFT($A18,1),LEFT(H$3,1))) -> 0 | L18: / | M18: =SUMIF('수용 또는 사용할 토지조서(구례리)'!$R$5:$R$289,CONCATENATE(LEFT($A18,1),LEFT(H$3,1)),'수용 또는 사용할 토지조서(구례리)'!$J$5:$J$289) -> 0 | N18: 0 | O18: / | P18: 0 | Q18: =COUNTIF('수용 또는 사용할 토지조서(구례리)'!$R$5:$R$289,CONCATENATE(LEFT($A18,1),LEFT(N$3,1))) -> 0 | R18: / | S18: =SUMIF('수용 또는 사용할 토지조서(구례리)'!$R$5:$R$289,CONCATENATE(LEFT($A18,1),LEFT(N$3,1)),'수용 또는 사용할 토지조서(구례리)'!$J$5:$J$289) -> 0 | T18: 0 | U18: / | V18: 0 | W18: =E18-K18-Q18 -> 0 | X18: / | Y18: =G18-M18-S18 -> 0
A19: 철도 | B19: 0 | C19: / | D19: 0 | E19: =COUNTIF('수용 또는 사용할 토지조서(구례리)'!$F$5:$F$289,LEFT($A19,1)) -> 0 | F19: / | G19: =SUMIF('수용 또는 사용할 토지조서(구례리)'!$F$5:$F$289,LEFT($A19,1),'수용 또는 사용할 토지조서(구례리)'!$J$5:$J$148) -> 0 | H19: 0 | I19: / | J19: 0 | K19: =COUNTIF('수용 또는 사용할 토지조서(구례리)'!$R$5:$R$289,CONCATENATE(LEFT($A19,1),LEFT(H$3,1))) -> 0 | L19: / | M19: =SUMIF('수용 또는 사용할 토지조서(구례리)'!$R$5:$R$289,CONCATENATE(LEFT($A19,1),LEFT(H$3,1)),'수용 또는 사용할 토지조서(구례리)'!$J$5:$J$289) -> 0 | N19: 0 | O19: / | P19: 0 | Q19: =COUNTIF('수용 또는 사용할 토지조서(구례리)'!$R$5:$R$289,CONCATENATE(LEFT($A19,1),LEFT(N$3,1))) -> 0 | R19: / | S19: =SUMIF('수용 또는 사용할 토지조서(구례리)'!$R$5:$R$289,CONCATENATE(LEFT($A19,1),LEFT(N$3,1)),'수용 또는 사용할 토지조서(구례리)'!$J$5:$J$289) -> 0 | T19: 0 | U19: / | V19: 0 | W19: =E19-K19-Q19 -> 0 | X19: / | Y19: =G19-M19-S19 -> 0
A20: 수도 | B20: 0 | C20: / | D20: 0 | E20: =COUNTIF('수용 또는 사용할 토지조서(구례리)'!$F$5:$F$289,LEFT($A20,1)) -> 0 | F20: / | G20: =SUMIF('수용 또는 사용할 토지조서(구례리)'!$F$5:$F$289,LEFT($A20,1),'수용 또는 사용할 토지조서(구례리)'!$J$5:$J$148) -> 0 | H20: 0 | I20: / | J20: 0 | K20: =COUNTIF('수용 또는 사용할 토지조서(구례리)'!$R$5:$R$289,CONCATENATE(LEFT($A20,1),LEFT(H$3,1))) -> 0 | L20: / | M20: =SUMIF('수용 또는 사용할 토지조서(구례리)'!$R$5:$R$289,CONCATENATE(LEFT($A20,1),LEFT(H$3,1)),'수용 또는 사용할 토지조서(구례리)'!$J$5:$J$289) -> 0 | N20: 0 | O20: / | P20: 0 | Q20: =COUNTIF('수용 또는 사용할 토지조서(구례리)'!$R$5:$R$289,CONCATENATE(LEFT($A20,1),LEFT(N$3,1))) -> 0 | R20: / | S20: =SUMIF('수용 또는 사용할 토지조서(구례리)'!$R$5:$R$289,CONCATENATE(LEFT($A20,1),LEFT(N$3,1)),'수용 또는 사용할 토지조서(구례리)'!$J$5:$J$289) -> 0 | T20: 0 | U20: / | V20: 0 | W20: =E20-K20-Q20 -> 0 | X20: / | Y20: =G20-M20-S20 -> 0
A21: 주차장 | B21: 0 | C21: / | D21: 0 | E21: =COUNTIF('수용 또는 사용할 토지조서(구례리)'!$F$5:$F$289,LEFT($A21,1)) -> 0 | F21: / | G21: =SUMIF('수용 또는 사용할 토지조서(구례리)'!$F$5:$F$289,LEFT($A21,1),'수용 또는 사용할 토지조서(구례리)'!$J$5:$J$148) -> 0 | H21: 0 | I21: / | J21: 0 | K21: =COUNTIF('수용 또는 사용할 토지조서(구례리)'!$R$5:$R$289,CONCATENATE(LEFT($A21,1),LEFT(H$3,1))) -> 0 | L21: / | M21: =SUMIF('수용 또는 사용할 토지조서(구례리)'!$R$5:$R$289,CONCATENATE(LEFT($A21,1),LEFT(H$3,1)),'수용 또는 사용할 토지조서(구례리)'!$J$5:$J$289) -> 0 | N21: 0 | O21: / | P21: 0 | Q21: =COUNTIF('수용 또는 사용할 토지조서(구례리)'!$R$5:$R$289,CONCATENATE(LEFT($A21,1),LEFT(N$3,1))) -> 0 | R21: / | S21: =SUMIF('수용 또는 사용할 토지조서(구례리)'!$R$5:$R$289,CONCATENATE(LEFT($A21,1),LEFT(N$3,1)),'수용 또는 사용할 토지조서(구례리)'!$J$5:$J$289) -> 0 | T21: 0 | U21: / | V21: 0 | W21: =E21-K21-Q21 -> 0 | X21: / | Y21: =G21-M21-S21 -> 0
A22: 주유소 | B22: 0 | C22: / | D22: 0 | E22: =COUNTIF('수용 또는 사용할 토지조서(구례리)'!$F$5:$F$289,LEFT($A22,1)) -> 0 | F22: / | G22: =SUMIF('수용 또는 사용할 토지조서(구례리)'!$F$5:$F$289,LEFT($A22,1),'수용 또는 사용할 토지조서(구례리)'!$J$5:$J$148) -> 0 | H22: 0 | I22: / | J22: 0 | K22: =COUNTIF('수용 또는 사용할 토지조서(구례리)'!$R$5:$R$289,CONCATENATE(LEFT($A22,1),LEFT(H$3,1))) -> 0 | L22: / | M22: =SUMIF('수용 또는 사용할 토지조서(구례리)'!$R$5:$R$289,CONCATENATE(LEFT($A22,1),LEFT(H$3,1)),'수용 또는 사용할 토지조서(구례리)'!$J$5:$J$289) -> 0 | N22: 0 | O22: / | P22: 0 | Q22: =COUNTIF('수용 또는 사용할 토지조서(구례리)'!$R$5:$R$289,CONCATENATE(LEFT($A22,1),LEFT(N$3,1))) -> 0 | R22: / | S22: =SUMIF('수용 또는 사용할 토지조서(구례리)'!$R$5:$R$289,CONCATENATE(LEFT($A22,1),LEFT(N$3,1)),'수용 또는 사용할 토지조서(구례리)'!$J$5:$J$289) -> 0 | T22: 0 | U22: / | V22: 0 | W22: =E22-K22-Q22 -> 0 | X22: / | Y22: =G22-M22-S22 -> 0
A23: 목장 | B23: 1 | C23: / | D23: 1691 | E23: =COUNTIF('수용 또는 사용할 토지조서(구례리)'!$F$5:$F$289,LEFT($A23,1)) -> 1 | F23: / | G23: =SUMIF('수용 또는 사용할 토지조서(구례리)'!$F$5:$F$289,LEFT($A23,1),'수용 또는 사용할 토지조서(구례리)'!$J$5:$J$148) -> 1691 | H23: 0 | I23: / | J23: 0 | K23: =COUNTIF('수용 또는 사용할 토지조서(구례리)'!$R$5:$R$289,CONCATENATE(LEFT($A23,1),LEFT(H$3,1))) -> 0 | L23: / | M23: =SUMIF('수용 또는 사용할 토지조서(구례리)'!$R$5:$R$289,CONCATENATE(LEFT($A23,1),LEFT(H$3,1)),'수용 또는 사용할 토지조서(구례리)'!$J$5:$J$289) -> 0 | N23: 1 | O23: / | P23: 1691 | Q23: =COUNTIF('수용 또는 사용할 토지조서(구례리)'!$R$5:$R$289,CONCATENATE(LEFT($A23,1),LEFT(N$3,1))) -> 1 | R23: / | S23: =SUMIF('수용 또는 사용할 토지조서(구례리)'!$R$5:$R$289,CONCATENATE(LEFT($A23,1),LEFT(N$3,1)),'수용 또는 사용할 토지조서(구례리)'!$J$5:$J$289) -> 1691 | T23: 0 | U23: / | V23: 0 | W23: =E23-K23-Q23 -> 0 | X23: / | Y23: =G23-M23-S23 -> 0
A24: 가(미등기) | B24: 1 | C24: / | D24: 167 | F24: / | I24: / | L24: / | N24: 0 | O24: / | P24: 0 | Q24: =COUNTIF('수용 또는 사용할 토지조서(구례리)'!$R$5:$R$289,CONCATENATE(LEFT($A24,1),LEFT(N$3,1))) -> 0 | R24: / | S24: =SUMIF('수용 또는 사용할 토지조서(구례리)'!$R$5:$R$289,CONCATENATE(LEFT($A24,1),LEFT(N$3,1)),'수용 또는 사용할 토지조서(구례리)'!$J$5:$J$289) -> 0 | T24: 1 | U24: / | V24: 167 | X24: /
A25: 검 산 | B25: =SUM(B6:B24) -> 169 | C25: =SUM(C6:C24) -> 0 | D25: =SUM(D6:D24) -> 248073 | E25: =SUM(E6:E24) -> 164 | F25: =SUM(F6:F24) -> 0 | G25: =SUM(G6:G24) -> 241757 | H25: =SUM(H6:H24) -> 8 | I25: =SUM(I6:I24) -> 0 | ... R25: =SUM(R6:R24) -> 0 | S25: =SUMIF('수용 또는 사용할 토지조서(구례리)'!$R$5:$R$289,CONCATENATE(LEFT($A25,1),LEFT(N$3,1)),'수용 또는 사용할 토지조서(구례리)'!$J$5:$J$289) -> 0 | T25: =SUM(T6:T24) -> 22 | U25: =SUM(U6:U24) -> 0 | V25: =SUM(V6:V24) -> 155751 | W25: =SUM(W6:W24) -> 3 | X25: =SUM(X6:X24) -> 0 | Y25: =SUM(Y6:Y24) -> 74095
G27: =+G5-D5 -> -6316
Q70: 변경
Q72: 변경
Q110: 변경
Q111: 변경
Q112: 변경
Q116: 변경
Q143: 변경
Q151: 추가
Q152: 추가
Q153: 추가
Q154: 추가
Q155: 추가
... Q172: 추가

Sheet 수용 또는 사용할 토지조서(구례리)
A1: 사용 또는 수용할 토지세목조서
A2: 충남 금산군 복수면 구례리
A3: 순 번 | B3: 지번 | F3: 지목 | H3: 면 적 (㎡) | L3: 소 유 자 | N3: 관 계 인 | Q3: 비 고
B4: 분할전 | D4: 분할후 | F4: 공 부 | G4: 현 황 | H4: 지 적 | I4: 당초 | J4: 변경 | K4: 증감 | L4: 주 소 | M4: 성 명 | N4: 주 소 | O4: 성 명 | P4: 권리의 종류
A5: 1 | B5: 175 | C5: 3 | D5: 175 | E5: 3 | F5: 도 | H5: 4061 | I5: 296 | J5: 296 | K5: =J5-I5 -> 0 | L5: 충청남도 | M5: 공 | R5: =CONCATENATE(LEFT($F5,1),$M5) -> 도공
A6: 2 | B6: 594 | C6: 3 | D6: 594 | E6: 3 | F6: 구 | H6: 733 | I6: 151 | J6: 151 | K6: =J6-I6 -> 0 | L6: 농림부 | M6: 국 | R6: =CONCATENATE(LEFT($F6,1),$M6) -> 구국
A7: 3 | B7: 205 | D7: 205 | F7: 도 | H7: 12164 | I7: 6602 | J7: 6602 | K7: =J7-I7 -> 0 | L7: 충청남도 | M7: 공 | R7: =CONCATENATE(LEFT($F7,1),$M7) -> 도공
A8: 4 | B8: 203 | C8: 5 | D8: 203 | E8: 5 | F8: 전 | H8: 36 | I8: 36 | J8: 36 | K8: =J8-I8 -> 0 | L8: 충청남도 | M8: 공 | R8: =CONCATENATE(LEFT($F8,1),$M8) -> 전공
A9: 5 | B9: 187 | C9: 1 | D9: 187 | E9: 1 | F9: 임 | H9: 3824 | I9: 3824 | J9: 3824 | K9: =J9-I9 -> 0 | L9: 충청남도 | M9: 공 | R9: =CONCATENATE(LEFT($F9,1),$M9) -> 임공
A10: 6 | B10: 187 | C10: 4 | D10: 187 | E10: 4 | F10: 임 | H10: 160 | I10: 160 | J10: 160 | K10: =J10-I10 -> 0 | L10: 충청남도 | M10: 공 | R10: =CONCATENATE(LEFT($F10,1),$M10) -> 임공
A11: 7 | B11: 207 | C11: 1 | D11: 207 | E11: 1 | F11: 전 | H11: 28 | I11: 28 | J11: 28 | K11: =J11-I11 -> 0 | L11: 충청남도 | M11: 공 | R11: =CONCATENATE(LEFT($F11,1),$M11) -> 전공
A12: 8 | B12: 207 | C12: 2 | D12: 207 | E12: 2 | F12: 전 | H12: 86 | I12: 86 | J12: 86 | K12: =J12-I12 -> 0 | L12: 충청남도 | M12: 공 | R12: =CONCATENATE(LEFT($F12,1),$M12) -> 전공
A13: 9 | B13: 184 | C13: 3 | D13: 184 | E13: 3 | F13: 전 | H13: 17 | I13: 17 | J13: 17 | K13: =J13-I13 -> 0 | L13: 충청남도 | M13: 공 | R13: =CONCATENATE(LEFT($F13,1),$M13) -> 전공
A14: 10 | B14: 427 | C14: 1 | D14: 427 | E14: 1 | F14: 임 | H14: 100 | I14: 100 | J14: 100 | K14: =J14-I14 -> 0 | L14: 충청남도 | M14: 공 | R14: =CONCATENATE(LEFT($F14,1),$M14) -> 임공
A15: 11 | B15: 427 | C15: 2 | D15: 427 | E15: 2 | F15: 임 | H15: 426 | I15: 426 | J15: 426 | K15: =J15-I15 -> 0 | L15: 충청남도 | M15: 공 | R15: =CONCATENATE(LEFT($F15,1),$M15) -> 임공
A16: 12 | B16: 208 | C16: 2 | D16: 208 | E16: 2 | F16: 임 | H16: 4063 | I16: 4063 | J16: 4063 | K16: =J16-I16 -> 0 | L16: 충청남도 | M16: 공 | R16: =CONCATENATE(LEFT($F16,1),$M16) -> 임공
A17: 13 | B17: 208 | C17: 3 | D17: 208 | E17: 3 | F17: 임 | H17: 24 | I17: 24 | J17: 24 | K17: =J17-I17 -> 0 | L17: 충청남도 | M17: 공 | R17: =CONCATENATE(LEFT($F17,1),$M17) -> 임공
A18: 14 | B18: 214 | C18: 2 | D18: 214 | E18: 2 | F18: 임 | H18: 245 | I18: 245 | J18: 245 | K18: =J18-I18 -> 0 | L18: 충청남도 | M18: 공 | R18: =CONCATENATE(LEFT($F18,1),$M18) -> 임공
A19: 15 | B19: 211 | C19: 1 | D19: 211 | E19: 1 | F19: 전 | H19: 144 | I19: 144 | J19: 144 | K19: =J19-I19 -> 0 | L19: 충청남도 | M19: 공 | R19: =CONCATENATE(LEFT($F19,1),$M19) -> 전공
... A29: 25 | B29: 246 | C29: 1 | D29: 246 | E29: 1 | F29: 답 | H29: 555 | I29: 555 | J29: 555 | K29: =J29-I29 -> 0 | L29: 충청남도 | M29: 공 | R29: =CONCATENATE(LEFT($F29,1),$M29) -> 답공
A30: 26 | B30: 598 | D30: 598 | F30: 천 | H30: 160935 | I30: 4814 | J30: 4814 | K30: =J30-I30 -> 0 | L30: 충청남도 | M30: 공 | R30: =CONCATENATE(LEFT($F30,1),$M30) -> 천공
A31: 27 | B31: 248 | D31: 248 | F31: 천 | H31: 3231 | I31: 77 | J31: 77 | K31: =J31-I31 -> 0 | L31: 충청남도 | M31: 공 | R31: =CONCATENATE(LEFT($F31,1),$M31) -> 천공
A32: 28 | B32: 249 | C32: 6 | D32: 249 | E32: 6 | F32: 답 | H32: 1514 | I32: 1514 | J32: 1514 | K32: =J32-I32 -> 0 | L32: 충청남도 | M32: 공 | R32: =CONCATENATE(LEFT($F32,1),$M32) -> 답공
A33: 29 | B33: 249 | C33: 13 | D33: 249 | E33: 13 | F33: 답 | H33: 525 | I33: 525 | J33: 525 | K33: =J33-I33 -> 0 | L33: 충청남도 | M33: 공 | R33: =CONCATENATE(LEFT($F33,1),$M33) -> 답공
A34: 30 | B34: 250 | C34: 4 | D34: 250 | E34: 4 | F34: 답 | H34: 1345 | I34: 1345 | J34: 1345 | K34: =J34-I34 -> 0 | L34: 충청남도 | M34: 공 | R34: =CONCATENATE(LEFT($F34,1),$M34) -> 답공
A35: 31 | B35: 249 | C35: 12 | D35: 249 | E35: 12 | F35: 대 | H35: 226 | I35: 226 | J35: 226 | K35: =J35-I35 -> 0 | L35: 충청남도 | M35: 공 | R35: =CONCATENATE(LEFT($F35,1),$M35) -> 대공
A36: 32 | B36: 251 | C36: 3 | D36: 251 | E36: 3 | F36: 답 | H36: 738 | I36: 738 | J36: 738 | K36: =J36-I36 -> 0 | L36: 충청남도 | M36: 공 | R36: =CONCATENATE(LEFT($F36,1),$M36) -> 답공
A37: 33 | B37: 600 | D37: 600 | F37: 구 | H37: 9233 | I37: 2198 | J37: 2198 | K37: =J37-I37 -> 0 | L37: 농림부 | M37: 국 | R37: =CONCATENATE(LEFT($F37,1),$M37) -> 구국
A38: 34 | B38: 257 | C38: 4 | D38: 257 | E38: 4 | F38: 도 | H38: 93 | I38: 16 | J38: 16 | K38: =J38-I38 -> 0 | L38: 금산군 | M38: 공 | R38: =CONCATENATE(LEFT($F38,1),$M38) -> 도공
A39: 35 | B39: 597 | D39: 597 | F39: 도 | H39: 132 | I39: 54 | J39: 54 | K39: =J39-I39 -> 0 | L39: 건설부 | M39: 국 | R39: =CONCATENATE(LEFT($F39,1),$M39) -> 도국
A40: 36 | B40: 256 | C40: 4 | D40: 256 | E40: 4 | F40: 도 | H40: 43 | I40: 43 | J40: 43 | K40: =J40-I40 -> 0 | L40: 금산군 | M40: 공 | R40: =CONCATENATE(LEFT($F40,1),$M40) -> 도공
A41: 37 | B41: 256 | C41: 5 | D41: 256 | E41: 5 | F41: 도 | H41: 50 | I41: 50 | J41: 50 | K41: =J41-I41 -> 0 | L41: 충청남도 | M41: 공 | R41: =CONCATENATE(LEFT($F41,1),$M41) -> 도공
A42: 38 | B42: 256 | C42: 7 | D42: 256 | E42: 7 | F42: 답 | H42: 111 | I42: 111 | J42: 111 | K42: =J42-I42 -> 0 | L42: 충청남도 | M42: 공 | R42: =CONCATENATE(LEFT($F42,1),$M42) -> 답공
A43: 39 | B43: 256 | C43: 8 | D43: 256 | E43: 8 | F43: 답 | H43: 416 | I43: 416 | J43: 416 | K43: =J43-I43 -> 0 | L43: 충청남도 | M43: 공 | R43: =CONCATENATE(LEFT($F43,1),$M43) -> 답공
A44: 40 | B44: 255 | C44: 3 | D44: 255 | E44: 3 | F44: 목 | H44: 1691 | I44: 1691 | J44: 1691 | K44: =J44-I44 -> 0 | L44: 충청남도 | M44: 공 | R44: =CONCATENATE(LEFT($F44,1),$M44) -> 목공
A45: 41 | B45: 253 | C45: 5 | D45: 253 | E45: 5 | F45: 답 | H45: 413 | I45: 413 | J45: 413 | K45: =J45-I45 -> 0 | L45: 충청남도 | M45: 공 | R45: =CONCATENATE(LEFT($F45,1),$M45) -> 답공
A46: 42 | B46: 254 | C46: 2 | D46: 254 | E46: 2 | F46: 도 | H46: 46 | I46: 46 | J46: 46 | K46: =J46-I46 -> 0 | L46: 금산군 | M46: 공 | R46: =CONCATENATE(LEFT($F46,1),$M46) -> 도공
A47: 43 | B47: 599 | D47: 599 | F47: 도 | H47: 3296 | I47: 66 | J47: 66 | K47: =J47-I47 -> 0 | L47: 건설부 | M47: 국 | R47: =CONCATENATE(LEFT($F47,1),$M47) -> 도국
A48: 44 | B48: 253 | C48: 6 | D48: 253 | E48: 6 | F48: 도 | H48: 66 | I48: 66 | J48: 66 | K48: =J48-I48 -> 0 | L48: 충청남도 | M48: 공 | R48: =CONCATENATE(LEFT($F48,1),$M48) -> 도공
A49: 45 | B49: 254 | C49: 4 | D49: 254 | E49: 4 | F49: 답 | H49: 519 | I49: 519 | J49: 519 | K49: =J49-I49 -> 0 | L49: 충청남도 | M49: 공 | R49: =CONCATENATE(LEFT($F49,1),$M49) -> 답공
...
