Workbook

Sheet 집계
A1: 편 입 용 지 집 계 표
M2: 복수~대전간 지방도4차로 확·포장공사(변경) - 본선 ( 필지 / m²)
A3: 구 분 | B3: 총 계 | H3: 국 유 지 | N3: 공 유 지 | T3: 사 유 지
B4: 당초 | E4: 변경 | H4: 당초 | K4: 변경 | N4: 당초 | Q4: 변경 | T4: 당초 | W4: 변경
A5: 계 | B5: 169 | C5: / | D5: 248073 | E5: =SUM(E6:E24) -> 67 | F5: / | G5: =SUM(G6:G24) -> 45425 | H5: 8 | I5: / | J5: 3754 | K5: =SUM(K6:K24) -> 0 | L5: / | M5: =SUM(M6:M24) -> 0 | N5: 139 | O5: / | P5: 88568 | Q5: =SUM(Q6:Q24) -> 0 | R5: / | S5: =SUM(S6:S24) -> 0 | T5: 22 | U5: / | V5: 155751 | W5: =SUM(W6:W24) -> 67 | X5: / | Y5: =SUM(Y6:Y24) -> 45425
A6: 전 | B6: 47 | C6: / | D6: 19837 | E6: =COUNTIF('지방도(634호선)'!$F$5:$F$191,LEFT($A6,1)) -> 4 | F6: / | G6: =SUMIF('지방도(634호선)'!$F$5:$F$191,LEFT($A6,1),'지방도(634호선)'!$J$5:$J$71) -> 59 | H6: 0 | I6: / | J6: 0 | K6: =COUNTIF('지방도(634호선)'!$R$5:$R$191,CONCATENATE(LEFT($A6,1),LEFT(H$3,1))) -> 0 | L6: / | M6: =SUMIF('지방도(634호선)'!$R$5:$R$191,CONCATENATE(LEFT($A6,1),LEFT(H$3,1)),'지방도(634호선)'!$J$5:$J$191) -> 0 | N6: 35 | O6: / | P6: 15380 | Q6: =COUNTIF('지방도(634호선)'!$R$5:$R$191,CONCATENATE(LEFT($A6,1),LEFT(N$3,1))) -> 0 | R6: / | S6: =SUMIF('지방도(634호선)'!$R$5:$R$191,CONCATENATE(LEFT($A6,1),LEFT(N$3,1)),'지방도(634호선)'!$J$5:$J$191) -> 0 | T6: 12 | U6: / | V6: 4457 | W6: =E6-K6-Q6 -> 4 | X6: / | Y6: =G6-M6-S6 -> 59
A7: 답 | B7: 42 | C7: / | D7: 32716 | E7: =COUNTIF('지방도(634호선)'!$F$5:$F$191,LEFT($A7,1)) -> 8 | F7: / | G7: =SUMIF('지방도(634호선)'!$F$5:$F$191,LEFT($A7,1),'지방도(634호선)'!$J$5:$J$71) -> 624 | H7: 1 | I7: / | J7: 315 | K7: =COUNTIF('지방도(634호선)'!$R$5:$R$191,CONCATENATE(LEFT($A7,1),LEFT(H$3,1))) -> 0 | L7: / | M7: =SUMIF('지방도(634호선)'!$R$5:$R$191,CONCATENATE(LEFT($A7,1),LEFT(H$3,1)),'지방도(634호선)'!$J$5:$J$191) -> 0 | N7: 41 | O7: / | P7: 32401 | Q7: =COUNTIF('지방도(634호선)'!$R$5:$R$191,CONCATENATE(LEFT($A7,1),LEFT(N$3,1))) -> 0 | R7: / | S7: =SUMIF('지방도(634호선)'!$R$5:$R$191,CONCATENATE(LEFT($A7,1),LEFT(N$3,1)),'지방도(634호선)'!$J$5:$J$191) -> 0 | T7: 0 | U7: / | V7: 0 | W7: =E7-K7-Q7 -> 8 | X7: / | Y7: =G7-M7-S7 -> 624
A8: 대지 | B8: 6 | C8: / | D8: 1535 | E8: =COUNTIF('지방도(634호선)'!$F$5:$F$191,LEFT($A8,1)) -> 0 | F8: / | G8: =SUMIF('지방도(634호선)'!$F$5:$F$191,LEFT($A8,1),'지방도(634호선)'!$J$5:$J$71) -> 0 | H8: 0 | I8: / | J8: 0 | K8: =COUNTIF('지방도(634호선)'!$R$5:$R$191,CONCATENATE(LEFT($A8,1),LEFT(H$3,1))) -> 0 | L8: / | M8: =SUMIF('지방도(634호선)'!$R$5:$R$191,CONCATENATE(LEFT($A8,1),LEFT(H$3,1)),'지방도(634호선)'!$J$5:$J$191) -> 0 | N8: 6 | O8: / | P8: 1535 | Q8: =COUNTIF('지방도(634호선)'!$R$5:$R$191,CONCATENATE(LEFT($A8,1),LEFT(N$3,1))) -> 0 | R8: / | S8: =SUMIF('지방도(634호선)'!$R$5:$R$191,CONCATENATE(LEFT($A8,1),LEFT(N$3,1)),'지방도(634호선)'!$J$5:$J$191) -> 0 | T8: 0 | U8: / | V8: 0 | W8: =E8-K8-Q8 -> 0 | X8: / | Y8: =G8-M8-S8 -> 0
A9: 임야 | B9: 29 | C9: / | D9: 166762 | E9: =COUNTIF('지방도(634호선)'!$F$5:$F$191,LEFT($A9,1)) -> 14 | F9: / | G9: =SUMIF('지방도(634호선)'!$F$5:$F$191,LEFT($A9,1),'지방도(634호선)'!$J$5:$J$71) -> 7519 | H9: 0 | I9: / | J9: 0 | K9: =COUNTIF('지방도(634호선)'!$R$5:$R$191,CONCATENATE(LEFT($A9,1),LEFT(H$3,1))) -> 0 | L9: / | M9: =SUMIF('지방도(634호선)'!$R$5:$R$191,CONCATENATE(LEFT($A9,1),LEFT(H$3,1)),'지방도(634호선)'!$J$5:$J$191) -> 0 | N9: 20 | O9: / | P9: 15635 | Q9: =COUNTIF('지방도(634호선)'!$R$5:$R$191,CONCATENATE(LEFT($A9,1),LEFT(N$3,1))) -> 0 | R9: / | S9: =SUMIF('지방도(634호선)'!$R$5:$R$191,CONCATENATE(LEFT($A9,1),LEFT(N$3,1)),'지방도(634호선)'!$J$5:$J$191) -> 0 | T9: 9 | U9: / | V9: 151127 | W9: =E9-K9-Q9 -> 14 | X9: / | Y9: =G9-M9-S9 -> 7519
A10: 잡종지 | B10: 3 | C10: / | D10: 1042 | E10: =COUNTIF('지방도(634호선)'!$F$5:$F$191,LEFT($A10,1)) -> 0 | F10: / | G10: =SUMIF('지방도(634호선)'!$F$5:$F$191,LEFT($A10,1),'지방도(634호선)'!$J$5:$J$71) -> 0 | H10: 0 | I10: / | J10: 0 | K10: =COUNTIF('지방도(634호선)'!$R$5:$R$191,CONCATENATE(LEFT($A10,1),LEFT(H$3,1))) -> 0 | L10: / | M10: =SUMIF('지방도(634호선)'!$R$5:$R$191,CONCATENATE(LEFT($A10,1),LEFT(H$3,1)),'지방도(634호선)'!$J$5:$J$191) -> 0 | N10: 3 | O10: / | P10: 1042 | Q10: =COUNTIF('지방도(634호선)'!$R$5:$R$191,CONCATENATE(LEFT($A10,1),LEFT(N$3,1))) -> 0 | R10: / | S10: =SUMIF('지방도(634호선)'!$R$5:$R$191,CONCATENATE(LEFT($A10,1),LEFT(N$3,1)),'지방도(634호선)'!$J$5:$J$191) -> 0 | T10: 0 | U10: / | V10: 0 | W10: =E10-K10-Q10 -> 0 | X10: / | Y10: =G10-M10-S10 -> 0
A11: 도로 | B11: 27 | C11: / | D11: 12858 | E11: =COUNTIF('지방도(634호선)'!$F$5:$F$191,LEFT($A11,1)) -> 39 | F11: / | G11: =SUMIF('지방도(634호선)'!$F$5:$F$191,LEFT($A11,1),'지방도(634호선)'!$J$5:$J$71) -> 37061 | H11: 4 | I11: / | J11: 370 | K11: =COUNTIF('지방도(634호선)'!$R$5:$R$191,CONCATENATE(LEFT($A11,1),LEFT(H$3,1))) -> 0 | L11: / | M11: =SUMIF('지방도(634호선)'!$R$5:$R$191,CONCATENATE(LEFT($A11,1),LEFT(H$3,1)),'지방도(634호선)'!$J$5:$J$191) -> 0 | N11: 23 | O11: / | P11: 12488 | Q11: =COUNTIF('지방도(634호선)'!$R$5:$R$191,CONCATENATE(LEFT($A11,1),LEFT(N$3,1))) -> 0 | R11: / | S11: =SUMIF('지방도(634호선)'!$R$5:$R$191,CONCATENATE(LEFT($A11,1),LEFT(N$3,1)),'지방도(634호선)'!$J$5:$J$191) -> 0 | T11: 0 | U11: / | V11: 0 | W11: =E11-K11-Q11 -> 39 | X11: / | Y11: =G11-M11-S11 -> 37061
A12: 구거 | B12: 2 | C12: / | D12: 2349 | E12: =COUNTIF('지방도(634호선)'!$F$5:$F$191,LEFT($A12,1)) -> 2 | F12: / | G12: =SUMIF('지방도(634호선)'!$F$5:$F$191,LEFT($A12,1),'지방도(634호선)'!$J$5:$J$71) -> 162 | H12: 2 | I12: / | J12: 2349 | K12: =COUNTIF('지방도(634호선)'!$R$5:$R$191,CONCATENATE(LEFT($A12,1),LEFT(H$3,1))) -> 0 | L12: / | M12: =SUMIF('지방도(634호선)'!$R$5:$R$191,CONCATENATE(LEFT($A12,1),LEFT(H$3,1)),'지방도(634호선)'!$J$5:$J$191) -> 0 | N12: 0 | O12: / | P12: 0 | Q12: =COUNTIF('지방도(634호선)'!$R$5:$R$191,CONCATENATE(LEFT($A12,1),LEFT(N$3,1))) -> 0 | R12: / | S12: =SUMIF('지방도(634호선)'!$R$5:$R$191,CONCATENATE(LEFT($A12,1),LEFT(N$3,1)),'지방도(634호선)'!$J$5:$J$191) -> 0 | T12: 0 | U12: / | V12: 0 | W12: =E12-K12-Q12 -> 2 | X12: / | Y12: =G12-M12-S12 -> 162
A13: 천 | B13: 5 | C13: / | D13: 6219 | E13: =COUNTIF('지방도(634호선)'!$F$5:$F$191,LEFT($A13,1)) -> 0 | F13: / | G13: =SUMIF('지방도(634호선)'!$F$5:$F$191,LEFT($A13,1),'지방도(634호선)'!$J$5:$J$71) -> 0 | H13: 1 | I13: / | J13: 720 | K13: =COUNTIF('지방도(634호선)'!$R$5:$R$191,CONCATENATE(LEFT($A13,1),LEFT(H$3,1))) -> 0 | L13: / | M13: =SUMIF('지방도(634호선)'!$R$5:$R$191,CONCATENATE(LEFT($A13,1),LEFT(H$3,1)),'지방도(634호선)'!$J$5:$J$191) -> 0 | N13: 4 | O13: / | P13: 5499 | Q13: =COUNTIF('지방도(634호선)'!$R$5:$R$191,CONCATENATE(LEFT($A13,1),LEFT(N$3,1))) -> 0 | R13: / | S13: =SUMIF('지방도(634호선)'!$R$5:$R$191,CONCATENATE(LEFT($A13,1),LEFT(N$3,1)),'지방도(634호선)'!$J$5:$J$191) -> 0 | T13: 0 | U13: / | V13: 0 | W13: =E13-K13-Q13 -> 0 | X13: / | Y13: =G13-M13-S13 -> 0
A14: 제방 | B14: 0 | C14: / | D14: 0 | E14: =COUNTIF('지방도(634호선)'!$F$5:$F$191,LEFT($A14,1)) -> 0 | F14: / | G14: =SUMIF('지방도(634호선)'!$F$5:$F$191,LEFT($A14,1),'지방도(634호선)'!$J$5:$J$71) -> 0 | H14: 0 | I14: / | J14: 0 | K14: =COUNTIF('지방도(634호선)'!$R$5:$R$191,CONCATENATE(LEFT($A14,1),LEFT(H$3,1))) -> 0 | L14: / | M14: =SUMIF('지방도(634호선)'!$R$5:$R$191,CONCATENATE(LEFT($A14,1),LEFT(H$3,1)),'지방도(634호선)'!$J$5:$J$191) -> 0 | N14: 0 | O14: / | P14: 0 | Q14: =COUNTIF('지방도(634호선)'!$R$5:$R$191,CONCATENATE(LEFT($A14,1),LEFT(N$3,1))) -> 0 | R14: / | S14: =SUMIF('지방도(634호선)'!$R$5:$R$191,CONCATENATE(LEFT($A14,1),LEFT(N$3,1)),'지방도(634호선)'!$J$5:$J$191) -> 0 | T14: 0 | U14: / | V14: 0 | W14: =E14-K14-Q14 -> 0 | X14: / | Y14: =G14-M14-S14 -> 0
A15: 묘지 | B15: 2 | C15: / | D15: 328 | E15: =COUNTIF('지방도(634호선)'!$F$5:$F$191,LEFT($A15,1)) -> 0 | F15: / | G15: =SUMIF('지방도(634호선)'!$F$5:$F$191,LEFT($A15,1),'지방도(634호선)'!$J$5:$J$71) -> 0 | H15: 0 | I15: / | J15: 0 | K15: =COUNTIF('지방도(634호선)'!$R$5:$R$191,CONCATENATE(LEFT($A15,1),LEFT(H$3,1))) -> 0 | L15: / | M15: =SUMIF('지방도(634호선)'!$R$5:$R$191,CONCATENATE(LEFT($A15,1),LEFT(H$3,1)),'지방도(634호선)'!$J$5:$J$191) -> 0 | N15: 2 | O15: / | P15: 328 | Q15: =COUNTIF('지방도(634호선)'!$R$5:$R$191,CONCATENATE(LEFT($A15,1),LEFT(N$3,1))) -> 0 | R15: / | S15: =SUMIF('지방도(634호선)'!$R$5:$R$191,CONCATENATE(LEFT($A15,1),LEFT(N$3,1)),'지방도(634호선)'!$J$5:$J$191) -> 0 | T15: 0 | U15: / | V15: 0 | W15: =E15-K15-Q15 -> 0 | X15: / | Y15: =G15-M15-S15 -> 0
A16: 유수지 | B16: 0 | C16: / | D16: 0 | E16: =COUNTIF('지방도(634호선)'!$F$5:$F$191,LEFT($A16,1)) -> 0 | F16: / | G16: =SUMIF('지방도(634호선)'!$F$5:$F$191,LEFT($A16,1),'지방도(634호선)'!$J$5:$J$71) -> 0 | H16: 0 | I16: / | J16: 0 | K16: =COUNTIF('지방도(634호선)'!$R$5:$R$191,CONCATENATE(LEFT($A16,1),LEFT(H$3,1))) -> 0 | L16: / | M16: =SUMIF('지방도(634호선)'!$R$5:$R$191,CONCATENATE(LEFT($A16,1),LEFT(H$3,1)),'지방도(634호선)'!$J$5:$J$191) -> 0 | N16: 0 | O16: / | P16: 0 | Q16: =COUNTIF('지방도(634호선)'!$R$5:$R$191,CONCATENATE(LEFT($A16,1),LEFT(N$3,1))) -> 0 | R16: / | S16: =SUMIF('지방도(634호선)'!$R$5:$R$191,CONCATENATE(LEFT($A16,1),LEFT(N$3,1)),'지방도(634호선)'!$J$5:$J$191) -> 0 | T16: 0 | U16: / | W16: =E16-K16-Q16 -> 0 | X16: /
A17: 과수원 | B17: 4 | C17: / | D17: 2569 | E17: =COUNTIF('지방도(634호선)'!$F$5:$F$191,LEFT($A17,1)) -> 0 | F17: / | G17: =SUMIF('지방도(634호선)'!$F$5:$F$191,LEFT($A17,1),'지방도(634호선)'!$J$5:$J$71) -> 0 | H17: 0 | I17: / | J17: 0 | K17: =COUNTIF('지방도(634호선)'!$R$5:$R$191,CONCATENATE(LEFT($A17,1),LEFT(H$3,1))) -> 0 | L17: / | M17: =SUMIF('지방도(634호선)'!$R$5:$R$191,CONCATENATE(LEFT($A17,1),LEFT(H$3,1)),'지방도(634호선)'!$J$5:$J$191) -> 0 | N17: 4 | O17: / | P17: 2569 | Q17: =COUNTIF('지방도(634호선)'!$R$5:$R$191,CONCATENATE(LEFT($A17,1),LEFT(N$3,1))) -> 0 | R17: / | S17: =SUMIF('지방도(634호선)'!$R$5:$R$191,CONCATENATE(LEFT($A17,1),LEFT(N$3,1)),'지방도(634호선)'!$J$5:$J$191) -> 0 | T17: 0 | U17: / | V17: 0 | W17: =E17-K17-Q17 -> 0 | X17: / | Y17: =G17-M17-S17 -> 0
A18: 학교 | B18: 0 | C18: / | D18: 0 | E18: =COUNTIF('지방도(634호선)'!$F$5:$F$191,LEFT($A18,1)) -> 0 | F18: / | G18: =SUMIF('지방도(634호선)'!$F$5:$F$191,LEFT($A18,1),'지방도(634호선)'!$J$5:$J$71) -> 0 | H18: 0 | I18: / | J18: 0 | K18: =COUNTIF('지방도(634호선)'!$R$5:$R$191,CONCATENATE(LEFT($A18,1),LEFT(H$3,1))) -> 0 | L18: / | M18: =SUMIF('지방도(634호선)'!$R$5:$R$191,CONCATENATE(LEFT($A18,1),LEFT(H$3,1)),'지방도(634호선)'!$J$5:$J$191) -> 0 | N18: 0 | O18: / | P18: 0 | Q18: =COUNTIF('지방도(634호선)'!$R$5:$R$191,CONCATENATE(LEFT($A18,1),LEFT(N$3,1))) -> 0 | R18: / | S18: =SUMIF('지방도(634호선)'!$R$5:$R$191,CONCATENATE(LEFT($A18,1),LEFT(N$3,1)),'지방도(634호선)'!$J$5:$J$191) -> 0 | T18: 0 | U18: / | V18: 0 | W18: =E18-K18-Q18 -> 0 | X18: / | Y18: =G18-M18-S18 -> 0
A19: 철도 | B19: 0 | C19: / | D19: 0 | E19: =COUNTIF('지방도(634호선)'!$F$5:$F$191,LEFT($A19,1)) -> 0 | F19: / | G19: =SUMIF('지방도(634호선)'!$F$5:$F$191,LEFT($A19,1),'지방도(634호선)'!$J$5:$J$71) -> 0 | H19: 0 | I19: / | J19: 0 | K19: =COUNTIF('지방도(634호선)'!$R$5:$R$191,CONCATENATE(LEFT($A19,1),LEFT(H$3,1))) -> 0 | L19: / | M19: =SUMIF('지방도(634호선)'!$R$5:$R$191,CONCATENATE(LEFT($A19,1),LEFT(H$3,1)),'지방도(634호선)'!$J$5:$J$191) -> 0 | N19: 0 | O19: / | P19: 0 | Q19: =COUNTIF('지방도(634호선)'!$R$5:$R$191,CONCATENATE(LEFT($A19,1),LEFT(N$3,1))) -> 0 | R19: / | S19: =SUMIF('지방도(634호선)'!$R$5:$R$191,CONCATENATE(LEFT($A19,1),LEFT(N$3,1)),'지방도(634호선)'!$J$5:$J$191) -> 0 | T19: 0 | U19: / | V19: 0 | W19: =E19-K19-Q19 -> 0 | X19: / | Y19: =G19-M19-S19 -> 0
A20: 수도 | B20: 0 | C20: / | D20: 0 | E20: =COUNTIF('지방도(634호선)'!$F$5:$F$191,LEFT($A20,1)) -> 0 | F20: / | G20: =SUMIF('지방도(634호선)'!$F$5:$F$191,LEFT($A20,1),'지방도(634호선)'!$J$5:$J$71) -> 0 | H20: 0 | I20: / | J20: 0 | K20: =COUNTIF('지방도(634호선)'!$R$5:$R$191,CONCATENATE(LEFT($A20,1),LEFT(H$3,1))) -> 0 | L20: / | M20: =SUMIF('지방도(634호선)'!$R$5:$R$191,CONCATENATE(LEFT($A20,1),LEFT(H$3,1)),'지방도(634호선)'!$J$5:$J$191) -> 0 | N20: 0 | O20: / | P20: 0 | Q20: =COUNTIF('지방도(634호선)'!$R$5:$R$191,CONCATENATE(LEFT($A20,1),LEFT(N$3,1))) -> 0 | R20: / | S20: =SUMIF('지방도(634호선)'!$R$5:$R$191,CONCATENATE(LEFT($A20,1),LEFT(N$3,1)),'지방도(634호선)'!$J$5:$J$191) -> 0 | T20: 0 | U20: / | V20: 0 | W20: =E20-K20-Q20 -> 0 | X20: / | Y20: =G20-M20-S20 -> 0
A21: 주차장 | B21: 0 | C21: / | D21: 0 | E21: =COUNTIF('지방도(634호선)'!$F$5:$F$191,LEFT($A21,1)) -> 0 | F21: / | G21: =SUMIF('지방도(634호선)'!$F$5:$F$191,LEFT($A21,1),'지방도(634호선)'!$J$5:$J$71) -> 0 | H21: 0 | I21: / | J21: 0 | K21: =COUNTIF('지방도(634호선)'!$R$5:$R$191,CONCATENATE(LEFT($A21,1),LEFT(H$3,1))) -> 0 | L21: / | M21: =SUMIF('지방도(634호선)'!$R$5:$R$191,CONCATENATE(LEFT($A21,1),LEFT(H$3,1)),'지방도(634호선)'!$J$5:$J$191) -> 0 | N21: 0 | O21: / | P21: 0 | Q21: =COUNTIF('지방도(634호선)'!$R$5:$R$191,CONCATENATE(LEFT($A21,1),LEFT(N$3,1))) -> 0 | R21: / | S21: =SUMIF('지방도(634호선)'!$R$5:$R$191,CONCATENATE(LEFT($A21,1),LEFT(N$3,1)),'지방도(634호선)'!$J$5:$J$191) -> 0 | T21: 0 | U21: / | V21: 0 | W21: =E21-K21-Q21 -> 0 | X21: / | Y21: =G21-M21-S21 -> 0
A22: 주유소 | B22: 0 | C22: / | D22: 0 | E22: =COUNTIF('지방도(634호선)'!$F$5:$F$191,LEFT($A22,1)) -> 0 | F22: / | G22: =SUMIF('지방도(634호선)'!$F$5:$F$191,LEFT($A22,1),'지방도(634호선)'!$J$5:$J$71) -> 0 | H22: 0 | I22: / | J22: 0 | K22: =COUNTIF('지방도(634호선)'!$R$5:$R$191,CONCATENATE(LEFT($A22,1),LEFT(H$3,1))) -> 0 | L22: / | M22: =SUMIF('지방도(634호선)'!$R$5:$R$191,CONCATENATE(LEFT($A22,1),LEFT(H$3,1)),'지방도(634호선)'!$J$5:$J$191) -> 0 | N22: 0 | O22: / | P22: 0 | Q22: =COUNTIF('지방도(634호선)'!$R$5:$R$191,CONCATENATE(LEFT($A22,1),LEFT(N$3,1))) -> 0 | R22: / | S22: =SUMIF('지방도(634호선)'!$R$5:$R$191,CONCATENATE(LEFT($A22,1),LEFT(N$3,1)),'지방도(634호선)'!$J$5:$J$191) -> 0 | T22: 0 | U22: / | V22: 0 | W22: =E22-K22-Q22 -> 0 | X22: / | Y22: =G22-M22-S22 -> 0
A23: 목장 | B23: 1 | C23: / | D23: 1691 | E23: =COUNTIF('지방도(634호선)'!$F$5:$F$191,LEFT($A23,1)) -> 0 | F23: / | G23: =SUMIF('지방도(634호선)'!$F$5:$F$191,LEFT($A23,1),'지방도(634호선)'!$J$5:$J$71) -> 0 | H23: 0 | I23: / | J23: 0 | K23: =COUNTIF('지방도(634호선)'!$R$5:$R$191,CONCATENATE(LEFT($A23,1),LEFT(H$3,1))) -> 0 | L23: / | M23: =SUMIF('지방도(634호선)'!$R$5:$R$191,CONCATENATE(LEFT($A23,1),LEFT(H$3,1)),'지방도(634호선)'!$J$5:$J$191) -> 0 | N23: 1 | O23: / | P23: 1691 | Q23: =COUNTIF('지방도(634호선)'!$R$5:$R$191,CONCATENATE(LEFT($A23,1),LEFT(N$3,1))) -> 0 | R23: / | S23: =SUMIF('지방도(634호선)'!$R$5:$R$191,CONCATENATE(LEFT($A23,1),LEFT(N$3,1)),'지방도(634호선)'!$J$5:$J$191) -> 0 | T23: 0 | U23: / | V23: 0 | W23: =E23-K23-Q23 -> 0 | X23: / | Y23: =G23-M23-S23 -> 0
A24: 가(미등기) | B24: 1 | C24: / | D24: 167 | F24: / | I24: / | L24: / | N24: 0 | O24: / | P24: 0 | Q24: =COUNTIF('지방도(634호선)'!$R$5:$R$191,CONCATENATE(LEFT($A24,1),LEFT(N$3,1))) -> 0 | R24: / | S24: =SUMIF('지방도(634호선)'!$R$5:$R$191,CONCATENATE(LEFT($A24,1),LEFT(N$3,1)),'지방도(634호선)'!$J$5:$J$191) -> 0 | T24: 1 | U24: / | V24: 167 | X24: /
A25: 검 산 | B25: =SUM(B6:B24) -> 169 | C25: =SUM(C6:C24) -> 0 | D25: =SUM(D6:D24) -> 248073 | E25: =SUM(E6:E24) -> 67 | F25: =SUM(F6:F24) -> 0 | G25: =SUM(G6:G24) -> 45425 | H25: =SUM(H6:H24) -> 8 | I25: =SUM(I6:I24) -> 0 | ... R25: =SUM(R6:R24) -> 0 | S25: =SUMIF('지방도(634호선)'!$R$5:$R$191,CONCATENATE(LEFT($A25,1),LEFT(N$3,1)),'지방도(634호선)'!$J$5:$J$191) -> 0 | T25: =SUM(T6:T24) -> 22 | U25: =SUM(U6:U24) -> 0 | V25: =SUM(V6:V24) -> 155751 | W25: =SUM(W6:W24) -> 67 | X25: =SUM(X6:X24) -> 0 | Y25: =SUM(Y6:Y24) -> 45425
G27: =+G5-D5 -> -202648
Q70: 변경
Q72: 변경
Q110: 변경
Q111: 변경
Q112: 변경
Q116: 변경
Q143: 변경
Q151: 추가
Q152: 추가
Q153: 추가
Q154: 추가
Q155: 추가
... Q172: 추가

Sheet 지방도(634호선)
A1: 사용 또는 수용할 토지세목조서
A2: 충남 태안군 원북면 반계리
A3: 순 번 | B3: 지번 | F3: 지목 | H3: 면 적 (㎡) | L3: 소 유 자 | N3: 관 계 인 | Q3: 비 고
B4: 분할전 | D4: 분할후 | F4: 공 부 | G4: 현 황 | H4: 지 적 | I4: 당초 | J4: 변경 | K4: 증감 | L4: 주 소 | M4: 성 명 | N4: 주 소 | O4: 성 명 | P4: 권리의 종류
A5: 1 | D5: 319 | E5: 7 | F5: 도 | H5: 8 | I5: 8 | J5: 8 | K5: =J5-I5 -> 0 | M5: 태안군 | R5: =CONCATENATE(LEFT($F5,1),$M5) -> 도태안군
A6: 2 | D6: 1090 | E6: 16 | F6: 도 | H6: 3406 | I6: 39 | J6: 39 | K6: =J6-I6 -> 0 | M6: 국(국토교통부) | R6: =CONCATENATE(LEFT($F6,1),$M6) -> 도국(국토교통부)
A7: 3 | D7: 317 | E7: 3 | F7: 도 | H7: 35 | I7: 35 | J7: 35 | K7: =J7-I7 -> 0 | M7: 태안군 | R7: =CONCATENATE(LEFT($F7,1),$M7) -> 도태안군
A8: 4 | D8: 317 | E8: 2 | F8: 도 | H8: 3 | I8: 3 | J8: 3 | K8: =J8-I8 -> 0 | M8: 태안군 | R8: =CONCATENATE(LEFT($F8,1),$M8) -> 도태안군
A9: 5 | D9: 316 | E9: 3 | F9: 도 | H9: 261 | I9: 48 | J9: 48 | K9: =J9-I9 -> 0 | M9: 태안군 | R9: =CONCATENATE(LEFT($F9,1),$M9) -> 도태안군
A10: 6 | D10: 316 | E10: 6 | F10: 도 | H10: 12 | I10: 0 | J10: 12 | K10: =J10-I10 -> 12 | M10: 충청남도 | R10: =CONCATENATE(LEFT($F10,1),$M10) -> 도충청남도
A11: 7 | D11: 313 | E11: 1 | F11: 도 | H11: 3460 | I11: 3460 | J11: 3460 | K11: =J11-I11 -> 0 | M11: 태안군 | R11: =CONCATENATE(LEFT($F11,1),$M11) -> 도태안군
A12: 8 | D12: 302 | E12: 6 | F12: 전 | H12: 2 | I12: 0 | J12: 2 | K12: =J12-I12 -> 2 | L12: 충청남도 태안군 원북면 반계리 321 | M12: 김*열 | R12: =CONCATENATE(LEFT($F12,1),$M12) -> 전김*열
A13: 9 | D13: 314 | E13: 4 | F13: 답 | H13: 10 | I13: 0 | J13: 10 | K13: =J13-I13 -> 10 | L13: 경기도 시흥시 정왕대로 117번길 32, 104동 703호(정왕동, 신우아파트) | M13: 김*진 | R13: =CONCATENATE(LEFT($F13,1),$M13) -> 답김*진
A14: 10 | D14: 315 | E14: 2 | F14: 답 | H14: 30 | I14: 0 | J14: 30 | K14: =J14-I14 -> 30 | L14: 충청남도 태안군 원북면 마산길 23 | M14: 김*숙 | R14: =CONCATENATE(LEFT($F14,1),$M14) -> 답김*숙
A15: 11 | D15: 314 | E15: 3 | F15: 답 | H15: 133 | I15: 0 | J15: 133 | K15: =J15-I15 -> 133 | L15: 충청남도 태안군 원북면 동해길 30 | M15: 이*순 | R15: =CONCATENATE(LEFT($F15,1),$M15) -> 답이*순
A16: 12 | D16: 313 | E16: 2 | F16: 답 | H16: 123 | I16: 0 | J16: 123 | K16: =J16-I16 -> 123 | L16: 인천광역시 연수구 옥련로 33, 101동 1008호(옥련동, 현대아파트) | M16: 김*순 외 1인 | R16: =CONCATENATE(LEFT($F16,1),$M16) -> 답김*순 외 1인
A17: 13 | D17: 312 | F17: 답 | H17: 160 | I17: 0 | J17: 160 | K17: =J17-I17 -> 160 | L17: 원북면 반계리 488 | M17: 이*달 | R17: =CONCATENATE(LEFT($F17,1),$M17) -> 답이*달
A18: 14 | D18: 529 | E18: 1 | F18: 답 | H18: 50 | I18: 0 | J18: 50 | K18: =J18-I18 -> 50 | L18: 496 | M18: 문*순 | R18: =CONCATENATE(LEFT($F18,1),$M18) -> 답문*순
A19: 15 | D19: 311 | E19: 1 | F19: 도 | H19: 706 | I19: 706 | J19: 706 | K19: =J19-I19 -> 0 | M19: 태안군 | R19: =CONCATENATE(LEFT($F19,1),$M19) -> 도태안군
A20: 16 | D20: 311 | F20: 전 | H20: 11 | I20: 0 | J20: 11 | K20: =J20-I20 -> 11 | M20: 태안군 | R20: =CONCATENATE(LEFT($F20,1),$M20) -> 전태안군
A21: 17 | D21: 1090 | F21: 도 | H21: 1659 | I21: 451 | J21: 564 | K21: =J21-I21 -> 113 | M21: 국(국토교통부) | R21: =CONCATENATE(LEFT($F21,1),$M21) -> 도국(국토교통부)
A22: 18 | D22: 530 | E22: 4 | F22: 전 | H22: 13 | I22: 0 | J22: 13 | K22: =J22-I22 -> 13 | L22: 태안군 원북면 반계리 88 | M22: 함*자 | R22: =CONCATENATE(LEFT($F22,1),$M22) -> 전함*자
A23: 19 | D23: 530 | E23: 3 | F23: 도 | H23: 2 | I23: 2 | J23: 2 | K23: =J23-I23 -> 0 | M23: 태안군 | R23: =CONCATENATE(LEFT($F23,1),$M23) -> 도태안군
A24: 20 | D24: 310 | E24: 1 | F24: 도 | H24: 304 | I24: 304 | J24: 304 | K24: =J24-I24 -> 0 | M24: 태안군 | R24: =CONCATENATE(LEFT($F24,1),$M24) -> 도태안군
A25: 21 | D25: 310 | E25: 2 | F25: 전 | H25: 33 | I25: 0 | J25: 33 | K25: =J25-I25 -> 33 | L25: 경기도 포천시 관인면 탄동리 605-3 한마음아파트 505 | M25: 김*진 | R25: =CONCATENATE(LEFT($F25,1),$M25) -> 전김*진
A26: 22 | D26: 309 | F26: 도 | H26: 544 | I26: 544 | J26: 544 | K26: =J26-I26 -> 0 | M26: 태안군 | R26: =CONCATENATE(LEFT($F26,1),$M26) -> 도태안군
A27: 23 | D27: 307 | E27: 7 | F27: 임 | H27: 59 | I27: 0 | J27: 59 | K27: =J27-I27 -> 59 | L27: 창원시 귀곡동 555 | M27: 한국중공업주식회사 | R27: =CONCATENATE(LEFT($F27,1),$M27) -> 임한국중공업주식회사
A28: 24 | D28: 182 | E28: 1 | F28: 도 | H28: 774 | I28: 0 | J28: 261 | K28: =J28-I28 -> 261 | M28: 태안군 | R28: =CONCATENATE(LEFT($F28,1),$M28) -> 도태안군
A29: 25 | D29: 531 | E29: 2 | F29: 임 | H29: 879 | I29: 0 | J29: 879 | K29: =J29-I29 -> 879 | L29: 당진군 송산면 부곡리 319 | M29: 삭령최씨문중 | R29: =CONCATENATE(LEFT($F29,1),$M29) -> 임삭령최씨문중
A30: 26 | D30: 산89 | E30: 1 | F30: 도 | H30: 1771 | I30: 1707 | J30: 1771 | K30: =J30-I30 -> 64 | M30: 태안군 | R30: =CONCATENATE(LEFT($F30,1),$M30) -> 도태안군
A31: 27 | D31: 1124 | F31: 도 | H31: 3810 | I31: 2918 | J31: 3137 | K31: =J31-I31 -> 219 | M31: 국(국토교통부) | R31: =CONCATENATE(LEFT($F31,1),$M31) -> 도국(국토교통부)
A32: 28 | D32: 산90 | F32: 임 | H32: 2778 | I32: 0 | J32: 35 | K32: =J32-I32 -> 35 | L32: 당진군 송산면 부곡리 319 | M32: 삭령최씨문중 | R32: =CONCATENATE(LEFT($F32,1),$M32) -> 임삭령최씨문중
A33: 29 | D33: 산90 | E33: 1 | F33: 도 | H33: 2959 | I33: 2854 | J33: 2959 | K33: =J33-I33 -> 105 | M33: 태안군 | R33: =CONCATENATE(LEFT($F33,1),$M33) -> 도태안군
A34: 30 | D34: 541 | E34: 5 | F34: 임 | H34: 161 | I34: 161 | J34: 161 | K34: =J34-I34 -> 0 | L34: 경기도 용인시 처인구 마평동 923 두보아파트 101-210 | M34: 조*식 | R34: =CONCATENATE(LEFT($F34,1),$M34) -> 임조*식
A35: 31 | D35: 산88 | E35: 3 | F35: 도 | H35: 751 | I35: 751 | J35: 751 | K35: =J35-I35 -> 0 | M35: 태안군 | R35: =CONCATENATE(LEFT($F35,1),$M35) -> 도태안군
A36: 32 | D36: 538 | E36: 7 | F36: 임 | H36: 237 | I36: 0 | J36: 237 | K36: =J36-I36 -> 237 | L36: 충청남도 태안군 원북면 상리길 23 | M36: 반계리2구영농조합법인 | R36: =CONCATENATE(LEFT($F36,1),$M36) -> 임반계리2구영농조합법인
A37: 33 | D37: 538 | E37: 8 | F37: 임 | H37: 860 | I37: 0 | J37: 860 | K37: =J37-I37 -> 860 | L37: 충청남도 태안군 태안읍 반곡리 480 | M37: 석*란 | R37: =CONCATENATE(LEFT($F37,1),$M37) -> 임석*란
A38: 34 | D38: 산95 | E38: 1 | F38: 도 | H38: 2689 | I38: 2689 | J38: 2689 | K38: =J38-I38 -> 0 | M38: 태안군 | R38: =CONCATENATE(LEFT($F38,1),$M38) -> 도태안군
A39: 35 | D39: 산92 | E39: 1 | F39: 도 | H39: 3452 | I39: 3452 | J39: 3452 | K39: =J39-I39 -> 0 | M39: 태안군 | R39: =CONCATENATE(LEFT($F39,1),$M39) -> 도태안군
A40: 36 | D40: 538 | E40: 9 | F40: 임 | H40: 2128 | I40: 0 | J40: 2128 | K40: =J40-I40 -> 2128 | L40: 서울특별시 강남구 압구정동 458 현대아파트 87-1006 | M40: 조*상 | R40: =CONCATENATE(LEFT($F40,1),$M40) -> 임조*상
A41: 37 | D41: 산96 | E41: 30 | F41: 도 | H41: 541 | I41: 206 | J41: 372 | K41: =J41-I41 -> 166 | M41: 태안군 | R41: =CONCATENATE(LEFT($F41,1),$M41) -> 도태안군
A42: 38 | D42: 산96 | E42: 29 | F42: 임 | H42: 207489 | I42: 0 | J42: 799 | K42: =J42-I42 -> 799 | L42: 천안시 청당동 146-11 | M42: 이*구 | R42: =CONCATENATE(LEFT($F42,1),$M42) -> 임이*구
A43: 39 | D43: 산95 | F43: 임 | H43: 11164 | I43: 0 | J43: 221 | K43: =J43-I43 -> 221 | L43: 서울 성동구 성수동1가 706 사용아파트 102-1103 | M43: 전*용 | R43: =CONCATENATE(LEFT($F43,1),$M43) -> 임전*용
A44: 40 | D44: 545 | E44: 2 | F44: 임 | H44: 530 | I44: 26 | J44: 530 | K44: =J44-I44 -> 504 | L44: 158 | M44: 조*우 | R44: =CONCATENATE(LEFT($F44,1),$M44) -> 임조*우
A45: 41 | D45: 546 | E45: 2 | F45: 도 | H45: 592 | I45: 0 | J45: 204 | K45: =J45-I45 -> 204 | L45: 서울 중구 남대문로 5가 267 | M45: 에스케이텔레콤주식회사 | R45: =CONCATENATE(LEFT($F45,1),$M45) -> 도에스케이텔레콤주식회사
A46: 42 | D46: 산112 | E46: 4 | F46: 도 | H46: 192 | I46: 192 | J46: 192 | K46: =J46-I46 -> 0 | M46: 태안군 | R46: =CONCATENATE(LEFT($F46,1),$M46) -> 도태안군
A47: 43 | D47: 546 | E47: 4 | F47: 임 | H47: 931 | I47: 0 | J47: 931 | K47: =J47-I47 -> 931 | L47: 성남시 분당구 이매동 111 이매촌 803-1901 | M47: 염*혁 | R47: =CONCATENATE(LEFT($F47,1),$M47) -> 임염*혁
A48: 44 | D48: 산98 | E48: 35 | F48: 도 | H48: 5070 | I48: 5070 | J48: 5070 | K48: =J48-I48 -> 0 | M48: 태안군 | R48: =CONCATENATE(LEFT($F48,1),$M48) -> 도태안군
A49: 45 | D49: 542 | E49: 5 | F49: 임 | H49: 361 | I49: 0 | J49: 361 | K49: =J49-I49 -> 361 | L49: 천안시 청당동 146-11 | M49: 이*구 | R49: =CONCATENATE(LEFT($F49,1),$M49) -> 임이*구
A50: 46 | D50: 1123 | F50: 구 | H50: 322 | I50: 143 | J50: 143 | K50: =J50-I50 -> 0 | M50: 국(농림수산부) | R50: =CONCATENATE(LEFT($F50,1),$M50) -> 구국(농림수산부)
A51: 47 | D51: 산98 | E51: 34 | F51: 임 | H51: 1041 | I51: 0 | J51: 282 | K51: =J51-I51 -> 282 | L51: 천안시 청당동 146-11 | M51: 이*구 | R51: =CONCATENATE(LEFT($F51,1),$M51) -> 임이*구
A52: 48 | D52: 산98 | E52: 33 | F52: 도 | H52: 1679 | I52: 1679 | J52: 1679 | K52: =J52-I52 -> 0 | M52: 태안군 | R52: =CONCATENATE(LEFT($F52,1),$M52) -> 도태안군
A53: 49 | D53: 산98 | E53: 32 | F53: 임 | H53: 163 | I53: 0 | J53: 36 | K53: =J53-I53 -> 36 | L53: 경기도 광명시 노온사동 214 | M53: 김해김씨안경공파노은사동문중 | R53: =CONCATENATE(LEFT($F53,1),$M53) -> 임김해김씨안경공파노은사동문중
A54: 50 | D54: 548 | E54: 1 | F54: 도 | H54: 449 | I54: 449 | J54: 449 | K54: =J54-I54 -> 0 | M54: 태안군 | R54: =CONCATENATE(LEFT($F54,1),$M54) -> 도태안군
A55: 51 | D55: 548 | E55: 4 | F55: 답 | H55: 14 | I55: 0 | J55: 14 | K55: =J55-I55 -> 14 | L55: 인천광역시 서구 심곡동 285 대동주택아파트 101-1304 | M55: 조*상 | R55: =CONCATENATE(LEFT($F55,1),$M55) -> 답조*상
A56: 52 | D56: 693 | E56: 2 | F56: 답 | H56: 104 | I56: 0 | J56: 104 | K56: =J56-I56 -> 104 | L56: 충청북도 청주시 청원구 오창읍 양청택지2길 43-18, 301호(청담빌) | M56: 서* 외 1인 | R56: =CONCATENATE(LEFT($F56,1),$M56) -> 답서* 외 1인
A57: 53 | D57: 1098 | F57: 도 | H57: 1240 | I57: 1143 | J57: 1148 | K57: =J57-I57 -> 5 | M57: 국(국토교통부) | R57: =CONCATENATE(LEFT($F57,1),$M57) -> 도국(국토교통부)
A58: 54 | D58: 689 | E58: 2 | F58: 도 | H58: 1098 | I58: 1098 | J58: 1098 | K58: =J58-I58 -> 0 | M58: 태안군 | R58: =CONCATENATE(LEFT($F58,1),$M58) -> 도태안군
A59: 55 | D59: 산98 | E59: 31 | F59: 도 | H59: 3152 | I59: 3152 | J59: 3152 | K59: =J59-I59 -> 0 | M59: 태안군 | R59: =CONCATENATE(LEFT($F59,1),$M59) -> 도태안군
A60: 56 | D60: 산98 | E60: 30 | F60: 도 | H60: 1043 | I60: 1043 | J60: 1043 | K60: =J60-I60 -> 0 | M60: 태안군 | R60: =CONCATENATE(LEFT($F60,1),$M60) -> 도태안군
A61: 57 | D61: 690 | E61: 10 | F61: 도 | H61: 46 | I61: 46 | J61: 46 | K61: =J61-I61 -> 0 | M61: 태안군 | R61: =CONCATENATE(LEFT($F61,1),$M61) -> 도태안군
A62: 58 | D62: 690 | E62: 11 | F62: 도 | H62: 822 | I62: 822 | J62: 822 | K62: =J62-I62 -> 0 | M62: 태안군 | R62: =CONCATENATE(LEFT($F62,1),$M62) -> 도태안군
A63: 59 | D63: 690 | E63: 9 | F63: 도 | H63: 23 | I63: 23 | J63: 23 | K63: =J63-I63 -> 0 | M63: 태안군 | R63: =CONCATENATE(LEFT($F63,1),$M63) -> 도태안군
A64: 60 | D64: 690 | E64: 8 | F64: 도 | H64: 69 | I64: 69 | J64: 69 | K64: =J64-I64 -> 0 | M64: 태안군 | R64: =CONCATENATE(LEFT($F64,1),$M64) -> 도태안군
A65: 61 | D65: 690 | E65: 7 | F65: 도 | H65: 17 | I65: 17 | J65: 17 | K65: =J65-I65 -> 0 | M65: 태안군 | R65: =CONCATENATE(LEFT($F65,1),$M65) -> 도태안군
A66: 62 | D66: 907 | F66: 구 | H66: 8234.8 | I66: 5 | J66: 19 | K66: =J66-I66 -> 14 | M66: 국(농림부) | R66: =CONCATENATE(LEFT($F66,1),$M66) -> 구국(농림부)
A67: 63 | D67: 689 | E67: 2 | F67: 도 | H67: 126 | I67: 126 | J67: 126 | K67: =J67-I67 -> 0 | M67: 태안군 | R67: =CONCATENATE(LEFT($F67,1),$M67) -> 도태안군
A68: 64 | D68: 690 | E68: 6 | F68: 도 | H68: 13 | I68: 13 | J68: 13 | K68: =J68-I68 -> 0 | M68: 태안군 | R68: =CONCATENATE(LEFT($F68,1),$M68) -> 도태안군
A69: 65 | D69: 산98 | E69: 29 | F69: 도 | H69: 1061 | I69: 476 | J69: 476 | K69: =J69-I69 -> 0 | M69: 태안군 | R69: =CONCATENATE(LEFT($F69,1),$M69) -> 도태안군
A70: 66 | D70: 산97 | E70: 4 | F70: 도 | H70: 415 | I70: 292 | J70: 292 | K70: =J70-I70 -> 0 | M70: 태안군 | R70: =CONCATENATE(LEFT($F70,1),$M70) -> 도태안군
A71: 67 | D71: 690 | E71: 16 | F71: 도 | H71: 695 | I71: 25 | J71: 25 | K71: =J71-I71 -> 0 | M71: 태안군 | R71: =CONCATENATE(LEFT($F71,1),$M71) -> 도태안군
B72: 소 계 | H72: =SUM(H5:H71) -> 282969.8 | I72: =SUM(I5:I71) -> 36247 | J72: =SUM(J5:J71) -> 45425 | K72: =SUM(K5:K71) -> 9178 | R72: =CONCATENATE(LEFT($F72,1),$M72)
R73: =CONCATENATE(LEFT($F73,1),$M73)
R74: =CONCATENATE(LEFT($F74,1),$M74)
R75: =CONCATENATE(LEFT($F75,1),$M75)
R76: =CONCATENATE(LEFT($F76,1),$M76)
R77: =CONCATENATE(LEFT($F77,1),$M77)
R78: =CONCATENATE(LEFT($F78,1),$M78)
R79: =CONCATENATE(LEFT($F79,1),$M79)
R80: =CONCATENATE(LEFT($F80,1),$M80)
R81: =CONCATENATE(LEFT($F81,1),$M81)
R82: =CONCATENATE(LEFT($F82,1),$M82)
R83: =CONCATENATE(LEFT($F83,1),$M83)
R84: =CONCATENATE(LEFT($F84,1),$M84)
... R94: =CONCATENATE(LEFT($F94,1),$M94)
B116: 합 계 | H116: =SUM(H5:H71) -> 282969.8 | I116: =SUM(I5:I71) -> 36247 | J116: =SUM(J5:J71) -> 45425

Sheet 면도(101호선)
A1: 사용 또는 수용할 토지세목조서
A2: 충남 태안군 원북면 반계리
A3: 순 번 | B3: 지번 | F3: 지목 | H3: 면 적 (㎡) | L3: 소 유 자 | N3: 관 계 인 | Q3: 비 고
B4: 분할전 | D4: 분할후 | F4: 공 부 | G4: 현 황 | H4: 지 적 | I4: 당초 | J4: 변경 | K4: 증감 | L4: 주 소 | M4: 성 명 | N4: 주 소 | O4: 성 명 | P4: 권리의 종류
A5: 1 | D5: 319 | E5: 4 | F5: 도 | H5: 230 | I5: 0 | J5: 42 | K5: =J5-I5 -> 42 | L5: 신두리 471 | M5: 조*수 | R5: =CONCATENATE(LEFT($F5,1),$M5) -> 도조*수
A6: 2 | D6: 1090 | E6: 16 | F6: 도 | H6: 3406 | I6: 28 | J6: 48 | K6: =J6-I6 -> 20 | M6: 국(국토교통부) | R6: =CONCATENATE(LEFT($F6,1),$M6) -> 도국(국토교통부)
A7: 3 | D7: 317 | E7: 1 | F7: 도 | H7: 67 | I7: 64 | J7: 64 | K7: =J7-I7 -> 0 | M7: 태안군 | R7: =CONCATENATE(LEFT($F7,1),$M7) -> 도태안군
A8: 4 | D8: 1081 | F8: 구 | H8: 41358 | I8: 5 | J8: 5 | K8: =J8-I8 -> 0 | M8: 국(농림수산부) | R8: =CONCATENATE(LEFT($F8,1),$M8) -> 구국(농림수산부)
A9: 5 | D9: 316 | E9: 3 | F9: 도 | H9: 261 | I9: 121 | J9: 121 | K9: =J9-I9 -> 0 | M9: 태안군
A10: 6 | D10: 316 | E10: 8 | F10: 도 | H10: 25 | I10: 25 | J10: 25 | K10: =J10-I10 -> 0 | M10: 태안군 | R10: =CONCATENATE(LEFT($F10,1),$M10) -> 도태안군
A11: 7 | D11: 319 | E11: 9 | F11: 도 | H11: 26 | I11: 5 | J11: 5 | K11: =J11-I11 -> 0 | M11: 태안군 | R11: =CONCATENATE(LEFT($F11,1),$M11) -> 도태안군
A12: 8 | D12: 316 | E12: 11 | F12: 도 | H12: 46 | I12: 0 | J12: 46 | K12: =J12-I12 -> 46 | M12: 충청남도 | R12: =CONCATENATE(LEFT($F12,1),$M12) -> 도충청남도
A13: 9 | D13: 316 | E13: 12 | F13: 대 | H13: 69 | I13: 0 | J13: 69 | K13: =J13-I13 -> 69 | L13: 충청남도 태안군 원북면 반계리 153 | M13: 안*호 | R13: =CONCATENATE(LEFT($F13,1),$M13) -> 대안*호
B14: 소 계 | H14: =SUM(H5:H13) -> 45488 | I14: =SUM(I5:I13) -> 248 | J14: =SUM(J5:J13) -> 425 | K14: =SUM(K5:K13) -> 177 | R14: =CONCATENATE(LEFT($F14,1),$M14)
R15: =CONCATENATE(LEFT($F15,1),$M15)
R16: =CONCATENATE(LEFT($F16,1),$M16)
R17: =CONCATENATE(LEFT($F17,1),$M17)
R18: =CONCATENATE(LEFT($F18,1),$M18)
R19: =CONCATENATE(LEFT($F19,1),$M19)
R20: =CONCATENATE(LEFT($F20,1),$M20)
R21: =CONCATENATE(LEFT($F21,1),$M21)
R22: =CONCATENATE(LEFT($F22,1),$M22)
R23: =CONCATENATE(LEFT($F23,1),$M23)
R24: =CONCATENATE(LEFT($F24,1),$M24)
R25: =CONCATENATE(LEFT($F25,1),$M25)
R26: =CONCATENATE(LEFT($F26,1),$M26)
... R36: =CONCATENATE(LEFT($F36,1),$M36)
B58: 합 계 | H58: =SUM(H5:H13) -> 45488 | I58: =SUM(I5:I13) -> 248 | J58: =SUM(J5:J13) -> 425
