{"text_format":"1","workbook":"xlsx","n_sheets":22,"sheets":["실행","사용법","토지대장","간지(하천)","목차","하천구역1열","하천구역국유지1열","하천구역사유지1열","간지3","예정지 집계","예정지1열","예정지지번조서","간지4","예정지 국유지 집계","예정지국유지1열","예정지국유지지번조서","간지5","예정지 사유지 집계","예정지사유지1열","예정지사유지지번조서","기존폐천1열","홍수관리구역1열"],"not_rendered":{"charts":0,"images":8,"macros":1,"external_links":0,"defined_names":19,"comments":11,"pivot_tables":0},"unopened":[],"bounds":{"document_bytes":16777216,"sheet_cells":100000,"rows_first":2000,"rows_last":500,"rows_between":2000,"halvings":0,"cell_chars":16384,"cell_head_chars":4096},"cells_cut":0,"cells_raw":0,"read":"whole","date_system":"1900"}

{"sheet":"실행","index":0,"n_rows":302,"n_cols":20,"rows_kept":302,"cut":false,"hidden":false,"merged":[]}
["월산천"]
["구역","시.군","구.면","동.리","번지","지목","지적","하천구역","예정지","폐천구역","홍수관리구역","주소","성명","구분1","구분2","하천명","PNU","전필지면적(m2)","본번","부번"]
["좌안","홍성군","홍성읍","옥암리",916,"도",1365,null,36,null,null,"국(건설부)","국","국",null,"01-02월산천","4480025025109160000",250,916,0]
["좌안","홍성군","홍성읍","옥암리",917,"구",1366,null,6,null,null,"국(건설부)","국","국",null,"01-02월산천","4480025025109170000",1384,917,0]
["좌안","홍성군","홍성읍","옥암리","369-1","전",731,null,24,null,null,"충청남도홍성군홍성읍월산로43번길85-15","조상국","사",null,"01-02월산천","4480025025103690001",740,369,1]
["좌안","홍성군","홍성읍","옥암리","916-1","도",83,null,24,null,null,"국(건설부)","국","국",null,"01-02월산천","4480025025109160001",87,916,1]
["좌안","홍성군","홍성읍","월산리",266,"임",542,null,262,null,null,"월산리265-2","김명호","사",null,"01-02월산천","4480025024102660000",547,266,0]
["우안","홍성군","홍성읍","월산리",347,"답",955,null,37,null,null,"홍성군홍성읍월산리345-2","이남순","사",null,"01-02월산천","4480025024103470000",964,347,0]
["우안","홍성군","홍성읍","월산리",350,"대",790,null,145,null,null,"월산리351-2","김원호","사",null,"01-02월산천","4480025024103500000",802,350,0]
["우안","홍성군","홍성읍","월산리",362,"답",1960,null,61,null,null,"예산군고덕면석곡리105","인정식","사",null,"01-02월산천","4480025024103620000",1963,362,0]
["우안","홍성군","홍성읍","월산리",398,"답",1081,null,66,null,null,"홍성군 홍성읍 월산리 395","장현갑","사",null,"01-02월산천","4480025024103980000",1069,398,0]
["우안","홍성군","홍성읍","월산리",746,"전",506,null,50,null,null,"서울시양천구신정동311목동신시가지아파트1018-204","최완순","사",null,"01-02월산천","4480025024107460000",504,746,0]
["좌안","홍성군","홍성읍","월산리",801,"도",2190,null,26,null,null,"국(건설교통부)","국","국",null,"01-02월산천","4480025024108010000",222,801,0]
["좌안","홍성군","홍성읍","월산리",802,"구",17613,null,171,null,null,"국(건설교통부)","국","국",null,"01-02월산천","4480025024108020000",11509,802,0]
["우안","홍성군","홍성읍","월산리",817,"구",73,null,20,null,null,"국(건설부)","국","국",null,"01-02월산천","4480025024108170000",77,817,0]
["좌안","홍성군","홍성읍","월산리","265-1","대",542,null,9,null,null,"홍성군 홍성읍 월산리 415","김명호","사",null,"01-02월산천","4480025024102650001",573,265,1]
["좌안","홍성군","홍성읍","월산리","265-2","전",810,null,60,null,null,"홍성군 홍성읍 월산리 415","김명호","사",null,"01-02월산천","4480025024102650002",806,265,2]
["좌안","홍성군","홍성읍","월산리","265-3","전",635,null,13,null,null,"홍성군 홍성읍 월산리 415","김명호","사",null,"01-02월산천","4480025024102650003",642,265,3]
["우안","홍성군","홍성읍","월산리","267-3","답",60,null,5,null,null,"대전중구태평동551버드내마을아파트217동1502호","이지은","사",null,"01-02월산천","4480025024102670003",62,267,3]
["우안","홍성군","홍성읍","월산리","267-5","전",722,null,54,null,null,"충청남도홍성군홍성읍월산리267-2","이학재","사",null,"01-02월산천","4480025024102670005",725,267,5]
["우안","홍성군","홍성읍","월산리","325-3","도",7997,null,508,null,null,"홍성군","국","국",null,"01-02월산천","4480025024103250003",4213,325,3]
["우안","홍성군","홍성읍","월산리","351-1","대",1290,null,29,null,null,"홍성군 홍성읍 월산리 351-1","사회복지법인좋은세상","사",null,"01-02월산천","4480025024103510001",988,351,1]
["우안","홍성군","홍성읍","월산리","359-1","도",96,null,87,null,null,"홍성군 홍성읍 월산리 396","김기웅","사",null,"01-02월산천","4480025024103590001",99,359,1]
["우안","홍성군","홍성읍","월산리","361-2","답",678,null,58,null,null,"창원시가음정동391-12금성기숙사씨동401호","조민철","사",null,"01-02월산천","4480025024103610002",685,361,2]
["좌안","홍성군","홍성읍","월산리","366-1","전",998,null,8,null,null,"아산시탕정면호산리67","김종곤","사",null,"01-02월산천","4480025024103660001",657,366,1]
["좌안","홍성군","홍성읍","월산리","401-1","도",97,null,32,null,null,"홍성군","국","국",null,"01-02월산천","4480025024104010001",97,401,1]
["우안","홍성군","홍성읍","월산리","748-2","전",598,null,2,null,null,"서울시양천구신정동311목동신시가지아파트1018-204","최완순","사",null,"01-02월산천","4480025024107480002",589,748,2]
["좌안","홍성군","홍성읍","월산리","801-1","도",429,null,27,null,null,"국(건설교통부)","국","국",null,"01-02월산천","4480025024108010001",397,801,1]
[]
[]
[]
[]
["좌안","홍성군","홍성읍","옥암리","100-1",{"$f":"VLOOKUP(Q33,토지대장!$A$2:$N$241777,8,FALSE)","v":"답"},{"$f":"VLOOKUP(Q33,토지대장!$A$2:$N$241777,9,FALSE)","v":660},null,286,null,null,{"$f":"VLOOKUP(Q33,토지대장!$A$2:$N$241777,13,FALSE)","v":"홍성군"},{"$f":"VLOOKUP(Q33,토지대장!$A$2:$N$241777,14,FALSE)","v":"국"},null,null,"01-03옥암천","4480025025106100001",659,100,1]
["좌안","홍성군","홍성읍","옥암리","110-1",{"$f":"VLOOKUP(Q34,토지대장!$A$2:$N$241777,8,FALSE)","v":"답"},{"$f":"VLOOKUP(Q34,토지대장!$A$2:$N$241777,9,FALSE)","v":367},null,135,null,null,{"$f":"VLOOKUP(Q34,토지대장!$A$2:$N$241777,13,FALSE)","v":"홍성군"},{"$f":"VLOOKUP(Q34,토지대장!$A$2:$N$241777,14,FALSE)","v":"국"},null,null,"01-03옥암천","4480025025106110001",366,110,1]
["좌안","홍성군","홍성읍","옥암리","270-1",{"$f":"VLOOKUP(Q35,토지대장!$A$2:$N$241777,8,FALSE)","v":"답"},{"$f":"VLOOKUP(Q35,토지대장!$A$2:$N$241777,9,FALSE)","v":389},null,66,null,null,{"$f":"VLOOKUP(Q35,토지대장!$A$2:$N$241777,13,FALSE)","v":"홍성군"},{"$f":"VLOOKUP(Q35,토지대장!$A$2:$N$241777,14,FALSE)","v":"국"},null,null,"01-03옥암천","4480025025108270001",393,270,1]
["우안","홍성군","홍성읍","옥암리","364-2","답",296,null,2,null,null,"국(재무부)","국",null,null,"01-03옥암천","4480025025103640002",200,364,2]
["우안","홍성군","홍성읍","옥암리","364-3",{"$f":"VLOOKUP(Q37,토지대장!$A$2:$N$241777,8,FALSE)","v":"답"},{"$f":"VLOOKUP(Q37,토지대장!$A$2:$N$241777,9,FALSE)","v":224},null,118,null,null,{"$f":"VLOOKUP(Q37,토지대장!$A$2:$N$241777,13,FALSE)","v":"국(재무부)"},{"$f":"VLOOKUP(Q37,토지대장!$A$2:$N$241777,14,FALSE)","v":"국"},null,null,"01-03옥암천","4480025025103640003",227,364,3]
["우안","홍성군","홍성읍","옥암리","487-2",{"$f":"VLOOKUP(Q38,토지대장!$A$2:$N$241777,8,FALSE)","v":"답"},{"$f":"VLOOKUP(Q38,토지대장!$A$2:$N$241777,9,FALSE)","v":947},null,614,null,null,{"$f":"VLOOKUP(Q38,토지대장!$A$2:$N$241777,13,FALSE)","v":"홍성군"},{"$f":"VLOOKUP(Q38,토지대장!$A$2:$N$241777,14,FALSE)","v":"국"},null,null,"01-03옥암천","4480025025104870002",956,487,2]
["우안","홍성군","홍성읍","옥암리","489-2",{"$f":"VLOOKUP(Q39,토지대장!$A$2:$N$241777,8,FALSE)","v":"답"},{"$f":"VLOOKUP(Q39,토지대장!$A$2:$N$241777,9,FALSE)","v":151},null,79,null,null,{"$f":"VLOOKUP(Q39,토지대장!$A$2:$N$241777,13,FALSE)","v":"홍성군"},{"$f":"VLOOKUP(Q39,토지대장!$A$2:$N$241777,14,FALSE)","v":"국"},null,null,"01-03옥암천","4480025025104890002",152,489,2]
["우안","홍성군","홍성읍","옥암리","490-1","답",4099,null,1,null,null,"국(건설교통부)","국",null,null,"01-03옥암천","4480025025104900001",4117,490,1]
["우안","홍성군","홍성읍","옥암리","490-3",{"$f":"VLOOKUP(Q41,토지대장!$A$2:$N$241777,8,FALSE)","v":"답"},{"$f":"VLOOKUP(Q41,토지대장!$A$2:$N$241777,9,FALSE)","v":330},null,205,null,null,{"$f":"VLOOKUP(Q41,토지대장!$A$2:$N$241777,13,FALSE)","v":"홍성군"},{"$f":"VLOOKUP(Q41,토지대장!$A$2:$N$241777,14,FALSE)","v":"국"},null,null,"01-03옥암천","4480025025104900003",335,490,3]
["우안","홍성군","홍성읍","옥암리","490-4",{"$f":"VLOOKUP(Q42,토지대장!$A$2:$N$241777,8,FALSE)","v":"답"},{"$f":"VLOOKUP(Q42,토지대장!$A$2:$N$241777,9,FALSE)","v":16},null,10,null,null,{"$f":"VLOOKUP(Q42,토지대장!$A$2:$N$241777,13,FALSE)","v":"홍성군"},{"$f":"VLOOKUP(Q42,토지대장!$A$2:$N$241777,14,FALSE)","v":"국"},null,null,"01-03옥암천","4480025025104900004",16,490,4]
["우안","홍성군","홍성읍","옥암리","492-4",{"$f":"VLOOKUP(Q43,토지대장!$A$2:$N$241777,8,FALSE)","v":"답"},{"$f":"VLOOKUP(Q43,토지대장!$A$2:$N$241777,9,FALSE)","v":228},null,167,null,null,{"$f":"VLOOKUP(Q43,토지대장!$A$2:$N$241777,13,FALSE)","v":"홍성군"},{"$f":"VLOOKUP(Q43,토지대장!$A$2:$N$241777,14,FALSE)","v":"국"},null,null,"01-03옥암천","4480025025104920004",229,492,4]
["우안","홍성군","홍성읍","옥암리","493-4",{"$f":"VLOOKUP(Q44,토지대장!$A$2:$N$241777,8,FALSE)","v":"답"},{"$f":"VLOOKUP(Q44,토지대장!$A$2:$N$241777,9,FALSE)","v":338},null,291,null,null,{"$f":"VLOOKUP(Q44,토지대장!$A$2:$N$241777,13,FALSE)","v":"홍성군"},{"$f":"VLOOKUP(Q44,토지대장!$A$2:$N$241777,14,FALSE)","v":"국"},null,null,"01-03옥암천","4480025025104930004",340,493,4]
["우안","홍성군","홍성읍","옥암리","494-4",{"$f":"VLOOKUP(Q45,토지대장!$A$2:$N$241777,8,FALSE)","v":"답"},{"$f":"VLOOKUP(Q45,토지대장!$A$2:$N$241777,9,FALSE)","v":570},null,420,null,null,{"$f":"VLOOKUP(Q45,토지대장!$A$2:$N$241777,13,FALSE)","v":"홍성군"},{"$f":"VLOOKUP(Q45,토지대장!$A$2:$N$241777,14,FALSE)","v":"국"},null,null,"01-03옥암천","4480025025104940004",569,494,4]
["우안","홍성군","홍성읍","옥암리","495-8",{"$f":"VLOOKUP(Q46,토지대장!$A$2:$N$241777,8,FALSE)","v":"답"},{"$f":"VLOOKUP(Q46,토지대장!$A$2:$N$241777,9,FALSE)","v":259},null,187,null,null,{"$f":"VLOOKUP(Q46,토지대장!$A$2:$N$241777,13,FALSE)","v":"홍성군"},{"$f":"VLOOKUP(Q46,토지대장!$A$2:$N$241777,14,FALSE)","v":"국"},null,null,"01-03옥암천","4480025025104950008",268,495,8]
["우안","홍성군","홍성읍","옥암리","498-3",{"$f":"VLOOKUP(Q47,토지대장!$A$2:$N$241777,8,FALSE)","v":"답"},{"$f":"VLOOKUP(Q47,토지대장!$A$2:$N$241777,9,FALSE)","v":410},null,259,null,null,{"$f":"VLOOKUP(Q47,토지대장!$A$2:$N$241777,13,FALSE)","v":"홍성군"},{"$f":"VLOOKUP(Q47,토지대장!$A$2:$N$241777,14,FALSE)","v":"국"},null,null,"01-03옥암천","4480025025104980003",412,498,3]
["우안","홍성군","홍성읍","옥암리","499-1",{"$f":"VLOOKUP(Q48,토지대장!$A$2:$N$241777,8,FALSE)","v":"답"},{"$f":"VLOOKUP(Q48,토지대장!$A$2:$N$241777,9,FALSE)","v":548},null,399,null,null,{"$f":"VLOOKUP(Q48,토지대장!$A$2:$N$241777,13,FALSE)","v":"홍성군"},{"$f":"VLOOKUP(Q48,토지대장!$A$2:$N$241777,14,FALSE)","v":"국"},null,null,"01-03옥암천","4480025025104990001",555,499,1]
["우안","홍성군","홍성읍","옥암리","500-1",{"$f":"VLOOKUP(Q49,토지대장!$A$2:$N$241777,8,FALSE)","v":"답"},{"$f":"VLOOKUP(Q49,토지대장!$A$2:$N$241777,9,FALSE)","v":118},null,77,null,null,{"$f":"VLOOKUP(Q49,토지대장!$A$2:$N$241777,13,FALSE)","v":"홍성군"},{"$f":"VLOOKUP(Q49,토지대장!$A$2:$N$241777,14,FALSE)","v":"국"},null,null,"01-03옥암천","4480025025105000001",117,500,1]
["우안","홍성군","홍성읍","옥암리","500-4",{"$f":"VLOOKUP(Q50,토지대장!$A$2:$N$241777,8,FALSE)","v":"잡"},{"$f":"VLOOKUP(Q50,토지대장!$A$2:$N$241777,9,FALSE)","v":22},null,11,null,null,{"$f":"VLOOKUP(Q50,토지대장!$A$2:$N$241777,13,FALSE)","v":"홍성군"},{"$f":"VLOOKUP(Q50,토지대장!$A$2:$N$241777,14,FALSE)","v":"국"},null,null,"01-03옥암천","4480025025105050001",22,500,4]
["우안","홍성군","홍성읍","옥암리","501-1",{"$f":"VLOOKUP(Q51,토지대장!$A$2:$N$241777,8,FALSE)","v":"답"},{"$f":"VLOOKUP(Q51,토지대장!$A$2:$N$241777,9,FALSE)","v":241},null,130,null,null,{"$f":"VLOOKUP(Q51,토지대장!$A$2:$N$241777,13,FALSE)","v":"홍성군"},{"$f":"VLOOKUP(Q51,토지대장!$A$2:$N$241777,14,FALSE)","v":"국"},null,null,"01-03옥암천","4480025025105010001",240,501,1]
["우안","홍성군","홍성읍","옥암리","502-1",{"$f":"VLOOKUP(Q52,토지대장!$A$2:$N$241777,8,FALSE)","v":"답"},{"$f":"VLOOKUP(Q52,토지대장!$A$2:$N$241777,9,FALSE)","v":265},null,178,null,null,{"$f":"VLOOKUP(Q52,토지대장!$A$2:$N$241777,13,FALSE)","v":"홍성군"},{"$f":"VLOOKUP(Q52,토지대장!$A$2:$N$241777,14,FALSE)","v":"국"},null,null,"01-03옥암천","4480025025105020001",261,502,1]
["우안","홍성군","홍성읍","옥암리","503-1",{"$f":"VLOOKUP(Q53,토지대장!$A$2:$N$241777,8,FALSE)","v":"답"},{"$f":"VLOOKUP(Q53,토지대장!$A$2:$N$241777,9,FALSE)","v":98},null,54,null,null,{"$f":"VLOOKUP(Q53,토지대장!$A$2:$N$241777,13,FALSE)","v":"홍성군"},{"$f":"VLOOKUP(Q53,토지대장!$A$2:$N$241777,14,FALSE)","v":"국"},null,null,"01-03옥암천","4480025025105030001",98,503,1]
["우안","홍성군","홍성읍","옥암리",505,"잡",2926,null,1,null,null,"홍성군홍성읍옥암리511-2","김성환",null,null,"01-03옥암천","4480025025105050000",1262,505,0]
["우안","홍성군","홍성읍","옥암리","505-2",{"$f":"VLOOKUP(Q55,토지대장!$A$2:$N$241777,8,FALSE)","v":"잡"},{"$f":"VLOOKUP(Q55,토지대장!$A$2:$N$241777,9,FALSE)","v":27},null,16,null,null,{"$f":"VLOOKUP(Q55,토지대장!$A$2:$N$241777,13,FALSE)","v":"홍성군"},{"$f":"VLOOKUP(Q55,토지대장!$A$2:$N$241777,14,FALSE)","v":"국"},null,null,"01-03옥암천","4480025025105050002",27,505,2]
["우안","홍성군","홍성읍","옥암리","516-1",{"$f":"VLOOKUP(Q56,토지대장!$A$2:$N$241777,8,FALSE)","v":"답"},{"$f":"VLOOKUP(Q56,토지대장!$A$2:$N$241777,9,FALSE)","v":1002},null,53,null,null,{"$f":"VLOOKUP(Q56,토지대장!$A$2:$N$241777,13,FALSE)","v":"홍성군"},{"$f":"VLOOKUP(Q56,토지대장!$A$2:$N$241777,14,FALSE)","v":"국"},null,null,"01-03옥암천","4480025025105160001",1009,516,1]
["좌안","홍성군","홍성읍","옥암리","520-1",{"$f":"VLOOKUP(Q57,토지대장!$A$2:$N$241777,8,FALSE)","v":"답"},{"$f":"VLOOKUP(Q57,토지대장!$A$2:$N$241777,9,FALSE)","v":537},null,248,null,null,{"$f":"VLOOKUP(Q57,토지대장!$A$2:$N$241777,13,FALSE)","v":"홍성군"},{"$f":"VLOOKUP(Q57,토지대장!$A$2:$N$241777,14,FALSE)","v":"국"},null,null,"01-03옥암천","4480025025105200001",533,520,1]
["좌안","홍성군","홍성읍","옥암리","521-1",{"$f":"VLOOKUP(Q58,토지대장!$A$2:$N$241777,8,FALSE)","v":"답"},{"$f":"VLOOKUP(Q58,토지대장!$A$2:$N$241777,9,FALSE)","v":323},null,95,null,null,{"$f":"VLOOKUP(Q58,토지대장!$A$2:$N$241777,13,FALSE)","v":"홍성군"},{"$f":"VLOOKUP(Q58,토지대장!$A$2:$N$241777,14,FALSE)","v":"국"},null,null,"01-03옥암천","4480025025105210001",323,521,1]
["좌안","홍성군","홍성읍","옥암리","522-1",{"$f":"VLOOKUP(Q59,토지대장!$A$2:$N$241777,8,FALSE)","v":"답"},{"$f":"VLOOKUP(Q59,토지대장!$A$2:$N$241777,9,FALSE)","v":270},null,53,null,null,{"$f":"VLOOKUP(Q59,토지대장!$A$2:$N$241777,13,FALSE)","v":"홍성군"},{"$f":"VLOOKUP(Q59,토지대장!$A$2:$N$241777,14,FALSE)","v":"국"},null,null,"01-03옥암천","4480025025105220001",271,522,1]
["좌안","홍성군","홍성읍","옥암리","525-4",{"$f":"VLOOKUP(Q60,토지대장!$A$2:$N$241777,8,FALSE)","v":"답"},{"$f":"VLOOKUP(Q60,토지대장!$A$2:$N$241777,9,FALSE)","v":378},null,149,null,null,{"$f":"VLOOKUP(Q60,토지대장!$A$2:$N$241777,13,FALSE)","v":"홍성군"},{"$f":"VLOOKUP(Q60,토지대장!$A$2:$N$241777,14,FALSE)","v":"국"},null,null,"01-03옥암천","4480025025105250004",382,525,4]
["좌안","홍성군","홍성읍","옥암리","525-5",{"$f":"VLOOKUP(Q61,토지대장!$A$2:$N$241777,8,FALSE)","v":"답"},{"$f":"VLOOKUP(Q61,토지대장!$A$2:$N$241777,9,FALSE)","v":438},null,74,null,null,{"$f":"VLOOKUP(Q61,토지대장!$A$2:$N$241777,13,FALSE)","v":"홍성군"},{"$f":"VLOOKUP(Q61,토지대장!$A$2:$N$241777,14,FALSE)","v":"국"},null,null,"01-03옥암천","4480025025105250005",434,525,5]
["좌안","홍성군","홍성읍","옥암리","604-1",{"$f":"VLOOKUP(Q62,토지대장!$A$2:$N$241777,8,FALSE)","v":"답"},{"$f":"VLOOKUP(Q62,토지대장!$A$2:$N$241777,9,FALSE)","v":394},null,167,null,null,{"$f":"VLOOKUP(Q62,토지대장!$A$2:$N$241777,13,FALSE)","v":"홍성군"},{"$f":"VLOOKUP(Q62,토지대장!$A$2:$N$241777,14,FALSE)","v":"국"},null,null,"01-03옥암천","4480025025106040001",396,604,1]
["좌안","홍성군","홍성읍","옥암리","605-1",{"$f":"VLOOKUP(Q63,토지대장!$A$2:$N$241777,8,FALSE)","v":"전"},{"$f":"VLOOKUP(Q63,토지대장!$A$2:$N$241777,9,FALSE)","v":212},null,66,null,null,{"$f":"VLOOKUP(Q63,토지대장!$A$2:$N$241777,13,FALSE)","v":"홍성군"},{"$f":"VLOOKUP(Q63,토지대장!$A$2:$N$241777,14,FALSE)","v":"국"},null,null,"01-03옥암천","4480025025106050001",213,605,1]
["좌안","홍성군","홍성읍","옥암리","606-4",{"$f":"VLOOKUP(Q64,토지대장!$A$2:$N$241777,8,FALSE)","v":"답"},{"$f":"VLOOKUP(Q64,토지대장!$A$2:$N$241777,9,FALSE)","v":293},null,113,null,null,{"$f":"VLOOKUP(Q64,토지대장!$A$2:$N$241777,13,FALSE)","v":"홍성군"},{"$f":"VLOOKUP(Q64,토지대장!$A$2:$N$241777,14,FALSE)","v":"국"},null,null,"01-03옥암천","4480025025106060004",294,606,4]
["좌안","홍성군","홍성읍","옥암리","608-6",{"$f":"VLOOKUP(Q65,토지대장!$A$2:$N$241777,8,FALSE)","v":"답"},{"$f":"VLOOKUP(Q65,토지대장!$A$2:$N$241777,9,FALSE)","v":627},null,117,null,null,{"$f":"VLOOKUP(Q65,토지대장!$A$2:$N$241777,13,FALSE)","v":"홍성군"},{"$f":"VLOOKUP(Q65,토지대장!$A$2:$N$241777,14,FALSE)","v":"국"},null,null,"01-03옥암천","4480025025106080006",629,608,6]
["좌안","홍성군","홍성읍","옥암리",609,"답",2020,null,1,null,null,"서울특별시동대문구전농동155전농동삼성아파트105-402","이호봉",null,null,"01-03옥암천","4480025025106090000",1476,609,0]
["좌안","홍성군","홍성읍","옥암리","609-1",{"$f":"VLOOKUP(Q67,토지대장!$A$2:$N$241777,8,FALSE)","v":"답"},{"$f":"VLOOKUP(Q67,토지대장!$A$2:$N$241777,9,FALSE)","v":548},null,245,null,null,{"$f":"VLOOKUP(Q67,토지대장!$A$2:$N$241777,13,FALSE)","v":"홍성군"},{"$f":"VLOOKUP(Q67,토지대장!$A$2:$N$241777,14,FALSE)","v":"국"},null,null,"01-03옥암천","4480025025106090001",550,609,1]
["우안","홍성군","홍성읍","옥암리",810,"답",2364,null,14,null,null,838,"김용희",null,null,"01-03옥암천","4480025025108100000",883,810,0]
["우안","홍성군","홍성읍","옥암리",812,"답",1236,null,3,null,null,"충청남도홍성군홍성읍오관리705-20홍성향촌현대아파트103-603","황미형",null,null,"01-03옥암천","4480025025108120000",1228,812,0]
["우안","홍성군","홍성읍","옥암리","813-1",{"$f":"VLOOKUP(Q70,토지대장!$A$2:$N$241777,8,FALSE)","v":"답"},{"$f":"VLOOKUP(Q70,토지대장!$A$2:$N$241777,9,FALSE)","v":806},null,543,null,null,{"$f":"VLOOKUP(Q70,토지대장!$A$2:$N$241777,13,FALSE)","v":"홍성군"},{"$f":"VLOOKUP(Q70,토지대장!$A$2:$N$241777,14,FALSE)","v":"국"},null,null,"01-03옥암천","4480025025108130001",809,813,1]
["좌안","홍성군","홍성읍","옥암리","822-1",{"$f":"VLOOKUP(Q71,토지대장!$A$2:$N$241777,8,FALSE)","v":"답"},{"$f":"VLOOKUP(Q71,토지대장!$A$2:$N$241777,9,FALSE)","v":515},null,226,null,null,{"$f":"VLOOKUP(Q71,토지대장!$A$2:$N$241777,13,FALSE)","v":"홍성군"},{"$f":"VLOOKUP(Q71,토지대장!$A$2:$N$241777,14,FALSE)","v":"국"},null,null,"01-03옥암천","4480025025108220001",519,822,1]
["좌안","홍성군","홍성읍","옥암리","823-1",{"$f":"VLOOKUP(Q72,토지대장!$A$2:$N$241777,8,FALSE)","v":"답"},{"$f":"VLOOKUP(Q72,토지대장!$A$2:$N$241777,9,FALSE)","v":98},null,19,null,null,{"$f":"VLOOKUP(Q72,토지대장!$A$2:$N$241777,13,FALSE)","v":"홍성군"},{"$f":"VLOOKUP(Q72,토지대장!$A$2:$N$241777,14,FALSE)","v":"국"},null,null,"01-03옥암천","4480025025108230001",99,823,1]
["좌안","홍성군","홍성읍","옥암리","824-3",{"$f":"VLOOKUP(Q73,토지대장!$A$2:$N$241777,8,FALSE)","v":"답"},{"$f":"VLOOKUP(Q73,토지대장!$A$2:$N$241777,9,FALSE)","v":153},null,17,null,null,{"$f":"VLOOKUP(Q73,토지대장!$A$2:$N$241777,13,FALSE)","v":"홍성군"},{"$f":"VLOOKUP(Q73,토지대장!$A$2:$N$241777,14,FALSE)","v":"국"},null,null,"01-03옥암천","4480025025108240003",150,824,3]
["우안","홍성군","홍성읍","옥암리","917-2","구",390,null,1,null,null,"국(건설부)","국",null,null,"01-03옥암천","4480025025109170002",397,917,2]
["우안","홍성군","홍성읍","옥암리",920,"도",108,null,37,null,null,"국(건설부)","국",null,null,"01-03옥암천","4480025025109200000",108,920,0]
["우안","홍성군","홍성읍","옥암리","920-2","도",93,null,13,null,null,"국(건설부)","국",null,null,"01-03옥암천","4480025025109200002",93,920,2]
["좌안","홍성군","홍성읍","옥암리",924,"구",10337,null,11,null,null,"국(건설부)","국",null,null,"01-03옥암천","4480025025109240000",7007,924,0]
["우안","홍성군","홍성읍","옥암리",926,"구",1260,null,15,null,null,"국(건설부)","국",null,null,"01-03옥암천","4480025025109260000",123,926,0]
["우안","홍성군","홍성읍","옥암리",927,"구",4520,null,6,null,null,"국(건설부)","국",null,null,"01-03옥암천","4480025025109270000",1875,927,0]
["좌안","홍성군","홍성읍","옥암리",930,"도",4756,null,11,null,null,"국(건설부)","국",null,null,"01-03옥암천","4480025025109300000",1106,930,0]
["우안","홍성군","홍성읍","고암리","46-2","답",1402,null,3,null,null,"오관리518경성큰마을아파트102-1304","복영진",null,null,"01-04남산골천","4480025030100460002",1473,46,2]
["우안","홍성군","홍성읍","고암리","46-3","답",1287,null,59,null,null,"298-11","이갑재",null,null,"01-04남산골천","4480025030100460003",1308,46,3]
["우안","홍성군","홍성읍","고암리","46-4","답",1250,null,2,null,null,"경기도안양시만안구안양동695-158","안상근",null,null,"01-04남산골천","4480025030100460004",1219,46,4]
["우안","홍성군","홍성읍","고암리","46-5","답",1338,null,22,null,null,"경기도안양시만안구안양동695-158","안상근",null,null,"01-04남산골천","4480025030100460005",1378,46,5]
["우안","홍성군","홍성읍","고암리","46-6","답",1409,null,31,null,null,"홍성군홍성읍고암리645-4","주명수",null,null,"01-04남산골천","4480025030100460006",1413,46,6]
["우안","홍성군","홍성읍","고암리","46-7","답",1523,null,40,null,null,"652-8","고암리2구운영회",null,null,"01-04남산골천","4480025030100460007",1505,46,7]
["우안","홍성군","홍성읍","고암리","46-8","답",1636,null,7,null,null,"234-1","편정갑",null,null,"01-04남산골천","4480025030100460008",1287,46,8]
["우안","홍성군","홍성읍","고암리","47-1","답",1826,null,14,null,null,"경기도고양시일산동구마두동787강촌마을312-1202","박성덕",null,null,"01-04남산골천","4480025030100470001",1174,47,1]
["우안","홍성군","홍성읍","고암리","47-2","답",2013,null,5,null,null,"경기도고양시일산동구마두동787강촌마을312-1202","박성덕",null,null,"01-04남산골천","4480025030100470002",1022,47,2]
["우안","홍성군","홍성읍","고암리","52-1","답",387,null,387,null,null,"경기도부천시소사구범박동150-2현대홈타운6단지601-703","천한모",null,null,"01-04남산골천","4480025030100520001",394,52,1]
["우안","홍성군","홍성읍","고암리","52-2","답",730,null,99,null,null,"충청남도홍성군홍성읍고암리198-2","강월득",null,null,"01-04남산골천","4480025030100520002",735,52,2]
["우안","홍성군","홍성읍","고암리","52-3","답",1796,null,43,null,null,"충청남도홍성군홍성읍고암리198-2","강월득",null,null,"01-04남산골천","4480025030100520003",1277,52,3]
["우안","홍성군","홍성읍","고암리","52-9","답",14,null,4,null,null,"국(국방부)","국",null,null,"01-04남산골천","4480025030100520009",14,52,9]
["우안","홍성군","홍성읍","고암리","52-10","철",76,null,1,null,null,"국(국토교통부)","국",null,null,"01-04남산골천","4480025030100520010",75,52,10]
["우안","홍성군","홍성읍","고암리","52-11","답",9,null,4,null,null,"국(국토교통부)","국",null,null,"01-04남산골천","4480025030100520011",9,52,11]
["우안","홍성군","홍성읍","고암리","52-17","답",77,null,3,null,null,"홍성군","국",null,null,"01-04남산골천","4480025030100520017",80,52,17]
["우안","홍성군","홍성읍","고암리","52-18","답",360,null,18,null,null,"홍성군","국",null,null,"01-04남산골천","4480025030100520018",357,52,18]
["우안","홍성군","홍성읍","고암리","52-22","답",148,null,13,null,null,"국(국토해양부)","국",null,null,"01-04남산골천","4480025030100520022",148,52,22]
["우안","홍성군","홍성읍","고암리","59-2","도",133,null,20,null,null,"국(건설교통부)","국",null,null,"01-04남산골천","4480025030100590002",142,59,2]
["우안","홍성군","홍성읍","고암리","298-3","임",6803,null,178,null,null,"수원시권선구구운동462삼환아파트5-1004","전흥정",null,null,"01-04남산골천","4480025030102980003",3010,298,3]
["우안","홍성군","홍성읍","고암리","298-4","임",2140,null,12,null,null,292,"김병상",null,null,"01-04남산골천","4480025030102980004",2157,298,4]
["우안","홍성군","홍성읍","고암리","298-7","임",1904,null,152,null,null,"남장리95-52미성아파트비동504호","김명직",null,null,"01-04남산골천","4480025030102980007",1861,298,7]
["우안","홍성군","홍성읍","고암리","298-16","임",252,null,48,null,null,"홍성군","국",null,null,"01-04남산골천","4480025030102980016",263,298,16]
["우안","홍성군","홍성읍","고암리","298-18","임",88,null,73,null,null,292,"김병상",null,null,"01-04남산골천","4480025030102980018",89,298,18]
["우안","홍성군","홍성읍","고암리","298-19",{"$f":"VLOOKUP(Q105,토지대장!$A$2:$N$241777,8,FALSE)","v":"임"},{"$f":"VLOOKUP(Q105,토지대장!$A$2:$N$241777,9,FALSE)","v":1593},null,70,null,null,{"$f":"VLOOKUP(Q105,토지대장!$A$2:$N$241777,13,FALSE)","v":"충청남도홍성군홍성읍문화로33번길11101동1402호(홍성옥암하늘채아파트)"},{"$f":"VLOOKUP(Q105,토지대장!$A$2:$N$241777,14,FALSE)","v":"최원보"},null,null,"01-04남산골천","4480025030102980019",1612,298,19]
["우안","홍성군","홍성읍","고암리","298-21",{"$f":"VLOOKUP(Q106,토지대장!$A$2:$N$241777,8,FALSE)","v":"임"},{"$f":"VLOOKUP(Q106,토지대장!$A$2:$N$241777,9,FALSE)","v":1054},null,256,null,null,{"$f":"VLOOKUP(Q106,토지대장!$A$2:$N$241777,13,FALSE)","v":"충청남도홍성군홍성읍문화로33번길11107동302호(홍성옥암하늘채아파트)"},{"$f":"VLOOKUP(Q106,토지대장!$A$2:$N$241777,14,FALSE)","v":"김순복"},null,null,"01-04남산골천","4480025030102980021",1548,298,21]
["좌안","홍성군","홍성읍","고암리","329-1","답",1292,null,153,null,null,"홍성군홍성읍고암리561-13","정달희",null,null,"01-04남산골천","4480025030103290001",1282,329,1]
["좌안","홍성군","홍성읍","고암리","329-2","답",1829,null,71,null,null,"충청남도홍성군홍성읍고암리646-4","김기호",null,null,"01-04남산골천","4480025030103290002",1814,329,2]
["좌안","홍성군","홍성읍","고암리","363-1","답",2181,null,29,null,null,"인천광역시남동구구월동7-111","김득환",null,null,"01-04남산골천","4480025030103630001",2176,363,1]
["좌안","홍성군","홍성읍","고암리","495-28","구",16780,null,1,null,null,"국(농수산부)","국",null,null,"01-04남산골천","4480025030104950028",11974,495,28]
["좌안","홍성군","홍성읍","고암리","495-42","구",1802,null,87,null,null,"국(농수산부)","국",null,null,"01-04남산골천","4480025030104950042",1453,495,42]
["우안","홍성군","홍성읍","고암리","495-66","구",847,null,86,null,null,"국(농수산부)","국",null,null,"01-04남산골천","4480025030104950066",849,495,66]
["우안","홍성군","홍성읍","고암리","495-67","구",3,null,3,null,null,"국(농수산부)","국",null,null,"01-04남산골천","4480025030104950067",3,495,67]
["우안","홍성군","홍성읍","고암리",695,"유",251,null,50,null,null,"540-2","주류제수리계",null,null,"01-04남산골천","4480025030106950000",237,695,0]
["우안","홍성군","홍성읍","고암리","695-1","유",661,null,286,null,null,"홍성군","국",null,null,"01-04남산골천","4480025030106950001",624,695,1]
["우안","홍성군","홍성읍","고암리","696-1","유",178,null,68,null,null,"홍성군","국",null,null,"01-04남산골천","4480025030106960001",182,696,1]
["우안","홍성군","홍성읍","고암리",697,"전",678,null,30,null,null,"충청남도홍성군홍성읍고암리1077신동아파밀리에아파트104-902","정규용",null,null,"01-04남산골천","4480025030106970000",671,697,0]
["우안","홍성군","홍성읍","고암리","716-6","답",2097,null,19,null,null,"홍성군","국",null,null,"01-04남산골천","4480025030107160006",7486,716,6]
["우안","홍성군","홍성읍","고암리","716-7","답",230,null,10,null,null,"홍성군","국",null,null,"01-04남산골천","4480025030107160007",230,716,7]
["우안","홍성군","홍성읍","고암리","719-7","답",845,null,45,null,null,"홍성군","국",null,null,"01-04남산골천","4480025030107190007",835,719,7]
["우안","홍성군","홍성읍","고암리","719-8","답",718,null,38,null,null,"홍성군","국",null,null,"01-04남산골천","4480025030107190008",717,719,8]
["우안","홍성군","홍성읍","고암리","721-4","답",675,null,21,null,null,"홍성군","국",null,null,"01-04남산골천","4480025030107210004",679,721,4]
["우안","홍성군","홍성읍","고암리","723-7","답",790,null,51,null,null,"홍성군","국",null,null,"01-04남산골천","4480025030107230007",786,723,7]
["우안","홍성군","홍성읍","고암리","725-7","답",573,null,26,null,null,"홍성군","국",null,null,"01-04남산골천","4480025030107250007",564,725,7]
["우안","홍성군","홍성읍","고암리","901-3","천",16583,null,5,null,null,"국(건설부)","국",null,null,"01-04남산골천","4480025030109010003",6363,901,3]
["우안","홍성군","홍성읍","고암리","901-104","천",1476,null,219,null,null,"국(건설부)","국",null,null,"01-04남산골천","4480025030109010104",1475,901,104]
["우안","홍성군","홍성읍","고암리","902-2","도",710,null,165,null,null,"국(건설부)","국",null,null,"01-04남산골천","4480025030109020002",700,902,2]
["좌안","홍성군","홍성읍","고암리","907-12","도",68,null,35,null,null,"국(건설교통부)","국",null,null,"01-04남산골천","4480025030109070012",72,907,12]
["좌안","홍성군","홍성읍","고암리","907-13","도",2121,null,85,null,null,"국(건설교통부)","국",null,null,"01-04남산골천","4480025030109070013",1213,907,13]
["좌안","홍성군","홍성읍","남장리","73-3","임",1289,null,106,null,null,"국(재정경제부)","국",null,null,"01-04남산골천","4480025026200730003",1092,73,3]
["좌안","홍성군","홍성읍","남장리","76-9","임",5289,null,328,null,null,"광천읍광천리101-3","정광석",null,null,"01-04남산골천","4480025026200760009",5336,76,9]
["우안","홍성군","홍성읍","남장리",122,"구",11210,null,54,null,null,"국(건설부)","국",null,null,"01-04남산골천","4480025026201220000",1837,122,0]
["좌안","홍성군","홍성읍","남장리","174-1","도",20,null,3,null,null,210,"모윤순",null,null,"01-04남산골천","4480025026101740001",19,174,1]
["좌안","홍성군","홍성읍","남장리","181-5","대",131,null,48,null,null,"홍성군","국",null,null,"01-04남산골천","4480025026101810005",134,181,5]
["좌안","홍성군","홍성읍","남장리","181-8","임",581,null,20,null,null,"충청남도홍성군홍성읍월산리840-7","주식회사대정토건",null,null,"01-04남산골천","4480025026101810008",399,181,8]
["좌안","홍성군","홍성읍","남장리","181-12","임",788,null,30,null,null,"충청남도홍성군홍성읍월산리840-7","주식회사대정토건",null,null,"01-04남산골천","4480025026101810012",783,181,12]
["좌안","홍성군","홍성읍","남장리","181-21",{"$f":"VLOOKUP(Q137,토지대장!$A$2:$N$241777,8,FALSE)","v":"도"},{"$f":"VLOOKUP(Q137,토지대장!$A$2:$N$241777,9,FALSE)","v":107},null,26,null,null,{"$f":"VLOOKUP(Q137,토지대장!$A$2:$N$241777,13,FALSE)","v":"충청남도홍성군홍성읍문화로72번길92108동1504호(주공그린빌)"},{"$f":"VLOOKUP(Q137,토지대장!$A$2:$N$241777,14,FALSE)","v":"이근창"},null,null,"01-04남산골천","4480025026101810021",107,181,21]
["좌안","홍성군","홍성읍","남장리","182-1","대",108,null,56,null,null,"홍성군","국",null,null,"01-04남산골천","4480025026101820001",106,182,1]
["좌안","홍성군","홍성읍","남장리","183-1","전",84,null,30,null,null,"홍성군","국",null,null,"01-04남산골천","4480025026101830001",88,183,1]
["좌안","홍성군","홍성읍","남장리",184,"천",294,null,52,null,null,null,"고제현",null,null,"01-04남산골천","4480025026101840000",292,184,0]
["좌안","홍성군","홍성읍","남장리","185-3","도",116,null,20,null,null,"국(국세청)","국",null,null,"01-04남산골천","4480025026101850003",114,185,3]
["좌안","홍성군","홍성읍","남장리","185-4","전",83,null,76,null,null,"국(국세청)","국",null,null,"01-04남산골천","4480025026101850004",77,185,4]
["좌안","홍성군","홍성읍","남장리","185-5","도",251,null,97,null,null,"홍성군","국",null,null,"01-04남산골천","4480025026101850005",254,185,5]
["좌안","홍성군","홍성읍","남장리","185-6","전",215,null,121,null,null,"홍성군","국",null,null,"01-04남산골천","4480025026101850006",212,185,6]
["좌안","홍성군","홍성읍","남장리",188,"전",493,null,6,null,null,"경기도화성시정남면오일리14-6","박명월",null,null,"01-04남산골천","4480025026101880000",493,188,0]
["좌안","홍성군","홍성읍","남장리","188-1","임",4023,null,229,null,null,"145-2","이정옥",null,null,"01-04남산골천","4480025026101880001",3975,188,1]
["좌안","홍성군","홍성읍","남장리","188-2","임",254,null,39,null,null,"홍성군","국",null,null,"01-04남산골천","4480025026101880002",195,188,2]
["좌안","홍성군","홍성읍","남장리","188-3","구",633,null,134,null,null,"국(건설부)","국",null,null,"01-04남산골천","4480025026101880003",633,188,3]
["좌안","홍성군","홍성읍","남장리",189,"전",1109,null,1,null,null,"남장리145","김기분",null,null,"01-04남산골천","4480025026101890000",1098,189,0]
["좌안","홍성군","홍성읍","남장리","221-1","대",37756,null,15,null,null,"홍성군","국",null,null,"01-04남산골천","4480025026102210001",5480,221,1]
["좌안","홍성군","홍성읍","남장리",244,"답",513,null,10,null,null,"홍성군홍성읍남장리214-13","홍광욱",null,null,"01-04남산골천","4480025026102440000",517,244,0]
["좌안","홍성군","홍성읍","남장리",245,"답",439,null,46,null,null,"서울특별시송파구문정동150훼밀리아파트226-505","모영주",null,null,"01-04남산골천","4480025026102450000",448,245,0]
["좌안","홍성군","홍성읍","남장리","247-2","답",1532,null,40,null,null,"충청남도서산군서산읍동문리785","김혜은",null,null,"01-04남산골천","4480025026102470002",1538,247,2]
["좌안","홍성군","홍성읍","남장리","251-5","답",1828,null,78,null,null,"충청남도예산군덕산면둔리503-6","임종본",null,null,"01-04남산골천","4480025026102510005",1833,251,5]
["좌안","홍성군","홍성읍","남장리","252-2","답",1882,null,55,null,null,223,"모진순",null,null,"01-04남산골천","4480025026102520002",1898,252,2]
["좌안","홍성군","홍성읍","남장리","253-2","답",1223,null,14,null,null,"서울동대문구망우동518-14","모인권",null,null,"01-04남산골천","4480025026102530002",1220,253,2]
["좌안","홍성군","홍성읍","남장리","254-2","답",2034,null,59,null,null,"대전광역시동구우암로186105동1309호(성남동석촌마을아파트)","노귀분",null,null,"01-04남산골천","4480025026102540002",2060,254,2]
["우안","홍성군","홍성읍","남장리","336-2","답",2000,null,54,null,null,212,"모달순",null,null,"01-04남산골천","4480025026103360002",2021,336,2]
["우안","홍성군","홍성읍","남장리","336-3","답",1074,null,39,null,null,212,"모달순",null,null,"01-04남산골천","4480025026103360003",1099,336,3]
["우안","홍성군","홍성읍","남장리","336-5","답",1183,null,68,null,null,"경기도수원시장안구정자동37-42새한빌라비-301","정동욱",null,null,"01-04남산골천","4480025026103360005",1195,336,5]
["우안","홍성군","홍성읍","남장리","336-6","답",1937,null,137,null,null,"예산군예산읍예산리329-2삼정연립가-302","모돈순",null,null,"01-04남산골천","4480025026103360006",1923,336,6]
["우안","홍성군","홍성읍","남장리","336-7","전",460,null,107,null,null,"202-14","김안수",null,null,"01-04남산골천","4480025026103360007",452,336,7]
["우안","홍성군","홍성읍","남장리","336-10","답",89,null,1,null,null,"홍성군","국",null,null,"01-04남산골천","4480025026103360010",89,336,10]
["우안","홍성군","홍성읍","남장리","338-1","답",1279,null,73,null,null,214,"모선기",null,null,"01-04남산골천","4480025026103380001",739,338,1]
["우안","홍성군","홍성읍","남장리","338-2","답",1590,null,126,null,null,354,"모태철",null,null,"01-04남산골천","4480025026103380002",1124,338,2]
["우안","홍성군","홍성읍","남장리",341,"답",862,null,105,null,null,464,"모종구",null,null,"01-04남산골천","4480025026103410000",869,341,0]
["좌안","홍성군","홍성읍","남장리",342,"답",1177,null,495,null,null,470,"모종락",null,null,"01-04남산골천","4480025026103420000",1187,342,0]
["좌안","홍성군","홍성읍","남장리","342-1","전",1028,null,9,null,null,"국(재무부)","국",null,null,"01-04남산골천","4480025026103420001",1059,342,1]
["좌안","홍성군","홍성읍","남장리","342-2","답",780,null,97,null,null,"충청남도홍성군홍성읍충서로1175번길18-5","최홍종",null,null,"01-04남산골천","4480025026103420002",773,342,2]
["좌안","홍성군","홍성읍","남장리","342-3","답",1100,null,83,null,null,356,"최홍종",null,null,"01-04남산골천","4480025026103420003",1000,342,3]
["좌안","홍성군","홍성읍","남장리","342-4","답",3340,null,6,null,null,"서울시성북구돈암동633동부센트레빌아파트102-1202","이용수",null,null,"01-04남산골천","4480025026103420004",3346,342,4]
["좌안","홍성군","홍성읍","남장리","342-6","답",1118,null,59,null,null,"충청남도홍성군홍성읍오관리668-2홍성향촌현대아파트101-902","모창희",null,null,"01-04남산골천","4480025026103420006",1125,342,6]
["좌안","홍성군","홍성읍","남장리","342-7","답",1068,null,204,null,null,"국(재정경제부)","국",null,null,"01-04남산골천","4480025026103420007",1084,342,7]
["좌안","홍성군","홍성읍","남장리","342-12","답",56,null,33,null,null,"홍성군","국",null,null,"01-04남산골천","4480025026103420012",52,342,12]
["좌안","홍성군","홍성읍","남장리","389-1","답",83,null,26,null,null,473,"최기봉",null,null,"01-04남산골천","4480025026103890001",86,389,1]
["좌안","홍성군","홍성읍","남장리","389-3","도",40,null,1,null,null,"국(국토교통부)","국",null,null,"01-04남산골천","4480025026103890003",45,389,3]
["좌안","홍성군","홍성읍","남장리","390-1","답",694,null,67,null,null,"안양시동안구비산동1102관악아파트114-601","박회순",null,null,"01-04남산골천","4480025026103900001",601,390,1]
["좌안","홍성군","홍성읍","남장리","390-4","답",588,null,107,null,null,"464-5","모성수",null,null,"01-04남산골천","4480025026103900004",608,390,4]
["좌안","홍성군","홍성읍","남장리","390-6","답",535,null,69,null,null,"오관리309-11","김지선",null,null,"01-04남산골천","4480025026103900006",459,390,6]
["좌안","홍성군","홍성읍","남장리","390-7","구",109,null,69,null,null,"국(건설교통부)","국",null,null,"01-04남산골천","4480025026103900007",109,390,7]
["좌안","홍성군","홍성읍","남장리","390-9","답",2455,null,97,null,null,"구항면내현리121-1","전환수",null,null,"01-04남산골천","4480025026103900009",2444,390,9]
["좌안","홍성군","홍성읍","남장리","390-14","수",841,null,19,null,null,"국(국토교통부)","국",null,null,"01-04남산골천","4480025026103900014",311,390,14]
["좌안","홍성군","홍성읍","남장리","390-20","답",4,null,2,null,null,"홍성군","국",null,null,"01-04남산골천","4480025026103900020",3,390,20]
["좌안","홍성군","홍성읍","남장리","390-22","답",42,null,34,null,null,"홍성군","국",null,null,"01-04남산골천","4480025026103900022",42,390,22]
["좌안","홍성군","홍성읍","남장리","390-23","구",304,null,164,null,null,"국(건설교통부)","국",null,null,"01-04남산골천","4480025026103900023",297,390,23]
["좌안","홍성군","홍성읍","남장리","390-24","답",42,null,35,null,null,"홍성군","국",null,null,"01-04남산골천","4480025026103900024",42,390,24]
["좌안","홍성군","홍성읍","남장리","390-25","답",9,null,9,null,null,"홍성군","국",null,null,"01-04남산골천","4480025026103900025",8,390,25]
["좌안","홍성군","홍성읍","남장리",391,"답",476,null,145,null,null,"안양시동안구비산동1102관악아파트114-601","박회순",null,null,"01-04남산골천","4480025026103910000",479,391,0]
["우안","홍성군","홍성읍","남장리","392-1","학",328337,null,27,null,null,"산16","학교법인혜전학원",null,null,"01-04남산골천","4480025026103920001",11268,392,1]
["좌안","홍성군","홍성읍","남장리",491,"도",505,null,15,null,null,"국(건설부)","국",null,null,"01-04남산골천","4480025026104910000",498,491,0]
["좌안","홍성군","홍성읍","남장리",499,"천",5683,null,164,null,null,"국(건설부)","국",null,null,"01-04남산골천","4480025026104990000",5666,499,0]
["좌안","홍성군","홍성읍","남장리",505,"구",779,null,35,null,null,"국(건설부)","국",null,null,"01-04남산골천","4480025026105050000",318,505,0]
["좌안","홍성군","홍성읍","남장리",510,"도",66,null,12,null,null,"국(건설부)","국",null,null,"01-04남산골천","4480025026105100000",67,510,0]
["좌안","홍성군","홍성읍","남장리",526,"공",2468,null,51,null,null,"홍성군","국",null,null,"01-04남산골천","4480025026105260000",2469,526,0]
["우안","홍성군","홍성읍","남장리",527,"공",1730,null,93,null,null,"홍성군","국",null,null,"01-04남산골천","4480025026105270000",1736,527,0]
["우안","홍성군","홍성읍","남장리",608,"도",1079.5999999999999,null,2,null,null,"홍성군","국",null,null,"01-04남산골천","4480025026106080000",1068,608,0]
["좌안","홍성군","홍성읍","고암리","172-1","답",1288,null,30,null,null,"충청남도홍성군홍성읍조양로65번길142층호","전병기",null,null,"01-05영암천","4480025030101720001",1280,172,1]
["좌안","홍성군","홍성읍","고암리",181,"답",1322,null,29,null,null,"충청남도홍성군홍성읍고암리860","전병관",null,null,"01-05영암천","4480025030101810000",1318,181,0]
["좌안","홍성군","홍성읍","고암리",182,"답",1883,null,198,null,null,"충청남도홍성군홍성읍충절로873번길131","전병관",null,null,"01-05영암천","4480025030101820000",1739,182,0]
["좌안","홍성군","홍성읍","고암리","182-1","천",1546,null,36,null,null,"홍성군","국",null,null,"01-05영암천","4480025030101820001",1576,182,1]
["좌안","홍성군","홍성읍","고암리","182-2","구",2264,null,15,null,null,"국(건설부)","국",null,null,"01-05영암천","4480025030101820002",2251,182,2]
["좌안","홍성군","홍성읍","고암리","183-4","답",1371,null,140,null,null,"서울영등포구여의도동42한양아파트이동506호","고영애",null,null,"01-05영암천","4480025030101830004",1265,183,4]
["좌안","홍성군","홍성읍","고암리","183-5","답",1339,null,68,null,null,"서울영등포구여의도동42한양아파트이동506호","고영애",null,null,"01-05영암천","4480025030101830005",1353,183,5]
["좌안","홍성군","홍성읍","고암리","183-6","답",209,null,4,null,null,"서울영등포구여의도동42한양아파트이동506호","고영애",null,null,"01-05영암천","4480025030101830006",198,183,6]
["좌안","홍성군","홍성읍","고암리","845-1","답",2305,null,85,null,null,"남장리112-12대우아파트102-802","서종완",null,null,"01-05영암천","4480025030108450001",1185,845,1]
["좌안","홍성군","홍성읍","고암리","845-4","답",1729,null,63,null,null,527,"전병익",null,null,"01-05영암천","4480025030108450004",1494,845,4]
["좌안","홍성군","홍성읍","고암리","845-5","답",1256,null,154,null,null,"오관리346-15","이안자",null,null,"01-05영암천","4480025030108450005",1235,845,5]
["좌안","홍성군","홍성읍","고암리","845-6","답",154,null,129,null,null,"국(재정경제부)","국",null,null,"01-05영암천","4480025030108450006",129,845,6]
["좌안","홍성군","홍성읍","고암리","845-8","도",439,null,84,null,null,"홍성군","국",null,null,"01-05영암천","4480025030108450008",460,845,8]
["좌안","홍성군","홍성읍","고암리","845-9","도",22,null,22,null,null,"홍성군","국",null,null,"01-05영암천","4480025030108450009",24,845,9]
["좌안","홍성군","홍성읍","고암리","845-10","도",70,null,6,null,null,"국(국세청)","국",null,null,"01-05영암천","4480025030108450010",49,845,10]
["좌안","홍성군","홍성읍","고암리","845-13","천",96,null,31,null,null,"국(국세청)","국",null,null,"01-05영암천","4480025030108450013",91,845,13]
["좌안","홍성군","홍성읍","고암리","845-14","답",226,null,15,null,null,"충청남도","국",null,null,"01-05영암천","4480025030108450014",228,845,14]
["좌안","홍성군","홍성읍","고암리","845-15","답",249,null,141,null,null,"충청남도","국",null,null,"01-05영암천","4480025030108450015",248,845,15]
["좌안","홍성군","홍성읍","고암리","845-16","답",11,null,11,null,null,"충청남도","국",null,null,"01-05영암천","4480025030108450016",9,845,16]
["좌안","홍성군","홍성읍","고암리","846-1","답",79,null,20,null,null,"국(재정경제부)","국",null,null,"01-05영암천","4480025030108460001",87,846,1]
["좌안","홍성군","홍성읍","고암리","846-2","답",717,null,50,null,null,"남장리112-12대우아파트102-802","서종완",null,null,"01-05영암천","4480025030108460002",695,846,2]
["좌안","홍성군","홍성읍","고암리","846-3","답",1457,null,45,null,null,"남장리112-12대우아파트102-802","서종완",null,null,"01-05영암천","4480025030108460003",788,846,3]
["좌안","홍성군","홍성읍","고암리","846-4","답",1923,null,25,null,null,"남장리112-12대우아파트102-802","서종완",null,null,"01-05영암천","4480025030108460004",843,846,4]
["좌안","홍성군","홍성읍","고암리","846-6","천",205,null,40,null,null,"국(재정경제부)","국",null,null,"01-05영암천","4480025030108460006",219,846,6]
["좌안","홍성군","홍성읍","고암리","846-7","천",954,null,68,null,null,"홍성군","국",null,null,"01-05영암천","4480025030108460007",973,846,7]
["좌안","홍성군","홍성읍","고암리","863-1","천",1131,null,10,null,null,"국(재무부)","국",null,null,"01-05영암천","4480025030108630001",1113,863,1]
["좌안","홍성군","홍성읍","고암리","863-2","답",69,null,15,null,null,"국(재무부)","국",null,null,"01-05영암천","4480025030108630002",73,863,2]
["좌안","홍성군","홍성읍","고암리","863-3","답",60,null,2,null,null,"국(재무부)","국",null,null,"01-05영암천","4480025030108630003",56,863,3]
["좌안","홍성군","홍성읍","고암리","865-3","답",679,null,107,null,null,856,"오석태",null,null,"01-05영암천","4480025030108650003",689,865,3]
["좌안","홍성군","홍성읍","고암리",869,"답",176,null,22,null,null,"인천광역시계양구계산동36태산아파트102-516","전병근",null,null,"01-05영암천","4480025030108690000",176,869,0]
["좌안","홍성군","홍성읍","고암리","870-3","답",547,null,70,null,null,"경기도안양시만안구안양동97-3진흥아파트126-210","전복배",null,null,"01-05영암천","4480025030108700003",535,870,3]
["좌안","홍성군","홍성읍","고암리",872,"답",1470,null,105,null,null,"인천광역시계양구계산동36태산아파트102-516","전병근",null,null,"01-05영암천","4480025030108720000",1433,872,0]
["좌안","홍성군","홍성읍","고암리",873,"답",324,null,95,null,null,"인천광역시계양구장제로878118동1202호(병방동학마을영남아파트)","전병근",null,null,"01-05영암천","4480025030108730000",315,873,0]
["좌안","홍성군","홍성읍","고암리",916,"도",294,null,18,null,null,"국(건설부)","국",null,null,"01-05영암천","4480025030109160000",147,916,0]
["좌안","홍성군","홍성읍","고암리",917,"천",7439,null,247,null,null,"국(건설부)","국",null,null,"01-05영암천","4480025030109170000",5219,917,0]
["좌안","홍성군","홍성읍","학계리",1,"답",436,null,99,null,null,"국(재무부)","국",null,null,"01-05영암천","4480025027100010000",440,1,0]
["좌안","홍성군","홍성읍","학계리","1-4","답",105,null,9,null,null,"충청남도","국",null,null,"01-05영암천","4480025027100010004",106,1,4]
["좌안","홍성군","홍성읍","학계리","1-5","도",209,null,62,null,null,"충청남도","국",null,null,"01-05영암천","4480025027100010005",213,1,5]
["좌안","홍성군","홍성읍","학계리","2-1","답",127,null,110,null,null,"고암리524-2","전복규",null,null,"01-05영암천","4480025027100020001",132,2,1]
["우안","홍성군","홍성읍","학계리","2-2","천",252,null,12,null,null,"고암리524-2","전복규",null,null,"01-05영암천","4480025027100020002",498,2,2]
["좌안","홍성군","홍성읍","학계리","3-1","답",621,null,199,null,null,"충청남도홍성군갈산면동성리산61-10","전금자",null,null,"01-05영암천","4480025027100030001",617,3,1]
["좌안","홍성군","홍성읍","학계리","3-2","구",420,null,120,null,null,"국(건설교통부)","국",null,null,"01-05영암천","4480025027100030002",423,3,2]
["좌안","홍성군","홍성읍","학계리","4-1","전",1660,null,507,null,null,"충청남도홍성군갈산면동성리산61-10","전금자",null,null,"01-05영암천","4480025027100040001",1649,4,1]
["좌안","홍성군","홍성읍","학계리","7-3","답",132,null,63,null,null,"국(재무부)","국",null,null,"01-05영암천","4480025027100070003",125,7,3]
["우안","홍성군","홍성읍","학계리","8-2","답",1537,null,261,null,null,430,"강묘식",null,null,"01-05영암천","4480025027100080002",1543,8,2]
["좌안","홍성군","홍성읍","학계리","8-4","답",493,null,25,null,null,430,"강묘식",null,null,"01-05영암천","4480025027100080004",495,8,4]
["우안","홍성군","홍성읍","학계리","9-1","답",806,null,146,null,null,"고암리860","담양전씨경은파21세(국신)손종중",null,null,"01-05영암천","4480025027100090001",827,9,1]
["우안","홍성군","홍성읍","학계리",15,"답",879,null,53,null,null,"충청남도홍성군홍성읍대학길147-7","김옥수",null,null,"01-05영암천","4480025027100150000",883,15,0]
["우안","홍성군","홍성읍","학계리","16-1","답",298,null,41,null,null,"국(재정경제부)","국",null,null,"01-05영암천","4480025027100160001",298,16,1]
["우안","홍성군","홍성읍","학계리","16-4","답",1699,null,1,null,null,"국(건설교통부)","국",null,null,"01-05영암천","4480025027100160004",1388,16,4]
["우안","홍성군","홍성읍","학계리","65-2","임",4958,null,37,null,null,"590-1","강철규",null,null,"01-05영암천","4480025027200650002",4409,65,2]
["우안","홍성군","홍성읍","학계리","122-1","답",1360,null,13,null,null,179,"강명모",null,null,"01-05영암천","4480025027101220001",1360,122,1]
["좌안","홍성군","홍성읍","학계리","124-2","답",2441,null,340,null,null,388,"강성모",null,null,"01-05영암천","4480025027101240002",2325,124,2]
["좌안","홍성군","홍성읍","학계리","124-4","답",1602,null,76,null,null,"충청남도천안시서북구백석로136105동501호(백석동현대아파트)","강평모",null,null,"01-05영암천","4480025027101240004",1182,124,4]
["좌안","홍성군","홍성읍","학계리","124-5","철",514,null,265,null,null,"국(국토교통부)","국",null,null,"01-05영암천","4480025027101240005",495,124,5]
["좌안","홍성군","홍성읍","학계리","124-6","철",709,null,159,null,null,"국(국토교통부)","국",null,null,"01-05영암천","4480025027101240006",701,124,6]
["좌안","홍성군","홍성읍","학계리","126-3","철",1343,null,28,null,null,"국(국토교통부)","국",null,null,"01-05영암천","4480025027101260003",1367,126,3]
["좌안","홍성군","홍성읍","학계리","126-4","답",60,null,6,null,null,"국(국토교통부)","국",null,null,"01-05영암천","4480025027101260004",55,126,4]
["좌안","홍성군","홍성읍","학계리","127-1","철",1796,null,4,null,null,"국(국토교통부)","국",null,null,"01-05영암천","4480025027101270001",1823,127,1]
["좌안","홍성군","홍성읍","학계리","127-2","답",491,null,145,null,null,383,"강희수",null,null,"01-05영암천","4480025027101270002",486,127,2]
["좌안","홍성군","홍성읍","학계리",128,"답",605,null,56,null,null,"충청남도홍성군홍성읍학계리243","강흥규",null,null,"01-05영암천","4480025027101280000",604,128,0]
["우안","홍성군","홍성읍","학계리",129,"답",2251,null,214,null,null,"서울특별시양천구목동527-6","강인규",null,null,"01-05영암천","4480025027101290000",1854,129,0]
["우안","홍성군","홍성읍","학계리",130,"답",2251,null,182,null,null,"서울특별시양천구목동527-6","강인규",null,null,"01-05영암천","4480025027101300000",2241,130,0]
["좌안","홍성군","홍성읍","학계리",154,"도",264,null,96,null,null,"국(건설부)","국",null,null,"01-05영암천","4480025027201540000",228,154,0]
["좌안","홍성군","홍성읍","학계리",168,"도",1819,null,2,null,null,"국(건설부)","국",null,null,"01-05영암천","4480025027201680000",1734,168,0]
["우안","홍성군","홍성읍","학계리",232,"전",813,null,7,null,null,"충청남도예산군예산읍역전로160번길16301동1606호(예산한신아파트)","이재도",null,null,"01-05영암천","4480025027102320000",821,232,0]
["좌안","홍성군","홍성읍","학계리",233,"답",908,null,23,null,null,"충청남도홍성군홍성읍학계리243","강흥규",null,null,"01-05영암천","4480025027102330000",906,233,0]
["좌안","홍성군","홍성읍","학계리",234,"답",1050,null,21,null,null,383,"강희수",null,null,"01-05영암천","4480025027102340000",1057,234,0]
["좌안","홍성군","홍성읍","학계리","236-2","답",1690,null,89,null,null,"충청남도홍성군홍성읍대학길147-7","김옥수",null,null,"01-05영암천","4480025027102360002",1706,236,2]
["좌안","홍성군","홍성읍","학계리","236-3","답",2576,null,22,null,null,"천안시신방동873성지새말아파트1단지101-1304","강민철",null,null,"01-05영암천","4480025027102360003",1796,236,3]
["좌안","홍성군","홍성읍","학계리","237-2","답",1470,null,18,null,null,"충청남도예산군덕산면수덕사안길33-5","전재학",null,null,"01-05영암천","4480025027102370002",853,237,2]
["좌안","홍성군","홍성읍","학계리","301-1","답",767,null,222,null,null,"학계리246-3","강희윤",null,null,"01-05영암천","4480025027103010001",760,301,1]
["좌안","홍성군","홍성읍","학계리",365,"답",737,null,270,null,null,"경기도광명시모세로27849동502호(철산동주공아파트)","강황배",null,null,"01-05영암천","4480025027103650000",735,365,0]
["좌안","홍성군","홍성읍","학계리","365-1","천",205,null,21,null,null,"홍성군","국",null,null,"01-05영암천","4480025027103650001",205,365,1]
["좌안","홍성군","홍성읍","학계리",370,"답",864,null,180,null,null,"충청남도보령시현대상가길38(대천동)","임현자",null,null,"01-05영암천","4480025027103700000",876,370,0]
["좌안","홍성군","홍성읍","학계리",371,"답",1198,null,90,null,null,106,"이연순",null,null,"01-05영암천","4480025027103710000",1199,371,0]
["좌안","홍성군","홍성읍","학계리",372,"답",2801,null,102,null,null,110,"장덕원",null,null,"01-05영암천","4480025027103720000",2249,372,0]
["좌안","홍성군","홍성읍","학계리",374,"답",1864,null,350,null,null,"충청남도홍성군홍성읍오관리555-3선광연립가-302","임승주",null,null,"01-05영암천","4480025027103740000",1865,374,0]
["좌안","홍성군","홍성읍","학계리","375-2","답",1338,null,240,null,null,"충청남도홍성군홍성읍오관리8-5신천아파트가-302","조한군",null,null,"01-05영암천","4480025027103750002",1333,375,2]
["좌안","홍성군","홍성읍","학계리","375-4","도",499,null,124,null,null,"홍성군","국",null,null,"01-05영암천","4480025027103750004",499,375,4]
["좌안","홍성군","홍성읍","학계리","376-1","답",3035,null,92,null,null,"충청남도홍성군홍성읍충서로1506105동402호(세광엔리치타워)","김동영",null,null,"01-05영암천","4480025027103760001",2684,376,1]
["좌안","홍성군","홍성읍","학계리",410,"천",624,null,35,null,null,"홍성군","국",null,null,"01-05영암천","4480025027104100000",633,410,0]
["좌안","홍성군","홍성읍","학계리","411-1","천",1083,null,27,null,null,"홍성군","국",null,null,"01-05영암천","4480025027104110001",1109,411,1]
["좌안","홍성군","홍성읍","학계리","421-2","답",493,null,56,null,null,"국(재무부)","국",null,null,"01-05영암천","4480025027104210002",492,421,2]
["좌안","홍성군","홍성읍","학계리","434-3","답",1018,null,79,null,null,"충청남도홍성군홍성읍대학길147-7","김옥수",null,null,"01-05영암천","4480025027104340003",1028,434,3]
["좌안","홍성군","홍성읍","학계리",435,"답",1055,null,157,null,null,"충청남도홍성군홍성읍대학길147-7","김옥수",null,null,"01-05영암천","4480025027104350000",1064,435,0]
["좌안","홍성군","홍성읍","학계리",436,"답",307,null,157,null,null,"충청남도홍성군홍성읍대학길147-7","김옥수",null,null,"01-05영암천","4480025027104360000",304,436,0]
["좌안","홍성군","홍성읍","학계리","438-8","답",3666,null,145,null,null,"충청남도홍성군홍성읍남학길43","이옥분",null,null,"01-05영암천","4480025027104380008",3662,438,8]
["좌안","홍성군","홍성읍","학계리",440,"답",1035,null,132,null,null,"충청남도홍성군홍성읍월산리851부영아파트201-407","전기수",null,null,"01-05영암천","4480025027104400000",1020,440,0]
["좌안","홍성군","홍성읍","학계리","440-1","천",72,null,21,null,null,"홍성군","국",null,null,"01-05영암천","4480025027104400001",71,440,1]
["좌안","홍성군","홍성읍","학계리","440-2","천",10,null,9,null,null,"홍성군","국",null,null,"01-05영암천","4480025027104400002",10,440,2]
["좌안","홍성군","홍성읍","학계리",627,"도",122,null,24,null,null,"국(건설부)","국",null,null,"01-05영암천","4480025027106270000",120,627,0]
["좌안","홍성군","홍성읍","학계리","631-12","천",4778,null,437,null,null,"국(건설부)","국",null,null,"01-05영암천","4480025027106310012",4751,631,12]
["좌안","홍성군","홍성읍","학계리","631-13","천",1507,null,1,null,null,"국(건설부)","국",null,null,"01-05영암천","4480025027106310013",1238,631,13]
["좌안","홍성군","홍성읍","학계리","631-15","천",1379,null,1161,null,null,"국(건설부)","국",null,null,"01-05영암천","4480025027106310015",1371,631,15]
["좌안","홍성군","홍성읍","학계리","631-16","천",391,null,66,null,null,"국(건설부)","국",null,null,"01-05영암천","4480025027106310016",388,631,16]
["좌안","홍성군","홍성읍","학계리","631-17","천",608,null,216,null,null,"국(건설부)","국",null,null,"01-05영암천","4480025027106310017",605,631,17]
["우안","홍성군","홍성읍","학계리","631-18","천",1947,null,295,null,null,"국(건설부)","국",null,null,"01-05영암천","4480025027106310018",1935,631,18]
["좌안","홍성군","홍성읍","학계리","640-2","구",4160,null,60,null,null,"국(건설부)","국",null,null,"01-05영암천","4480025027106400002",714,640,2]
["좌안","홍성군","홍성읍","학계리",642,"구",2071,null,55,null,null,"국(건설부)","국",null,null,"01-05영암천","4480025027106420000",1661,642,0]
["좌안","홍성군","홍성읍","학계리",645,"도",641,null,28,null,null,"국(건설부)","국",null,null,"01-05영암천","4480025027106450000",601,645,0]
["좌안","홍성군","홍성읍","내법리","232-34","답",795,null,1,null,null,"285-43","김기환",null,null,"01-06내법천","4480025031102320034",794,232,34]
["좌안","홍성군","홍성읍","내법리","240-2","구",13896,null,2,null,null,"국(농림수산부)","국",null,null,"01-06내법천","4480025031102400002",2043,240,2]
["우안","홍성군","홍성읍","내법리",263,"도",2949,null,194,null,null,"국(농림수산부)","국",null,null,"01-06내법천","4480025031102630000",2928,263,0]
["우안","홍성군","홍성읍","내법리",264,"구",4244,null,140,null,null,"국(농림수산부)","국",null,null,"01-06내법천","4480025031102640000",1795,264,0]
["좌안","홍성군","홍성읍","내법리","419-41","전",700,null,21,null,null,"충청남도홍성군홍성읍내법리285-43","김기환",null,null,"01-06내법천","4480025031104190041",693,419,41]

{"sheet":"사용법","index":1,"n_rows":188,"n_cols":18,"rows_kept":188,"cut":false,"hidden":false,"merged":[[170,2,170,3],[163,2,163,3],[167,2,167,3],[133,2,133,3],[104,2,104,3],[0,0,0,17],[1,16,1,17],[16,11,16,12],[107,2,107,3],[121,2,121,3]]}
["사용설명서"]
[null,null,null,null,null,null,null,null,null,null,null,null,null,null,null,null,"ProgrammedByWSW"]
["1.개요"]
[null,"-PNU를기반으로매칭및계산되는시트이며Office2013에서작성됨"]
[]
[null,"-매크로를실행하기전\"실행\",\"사용법\",\"토지대장\"탭외의시트가있으면안됨(실행탭은항상맨왼쪽에위치해야함)"]
[]
[null,"-실행탭은데이타베이스역할을하는시트이며1,2행의내용을수정하지말것."]
[]
[null,"-실행탭의1,2행과각열의중간에행또는열을추가하지말것(단,3행이하는내용을수정하여도상관없음)"]
[]
[null,"-다수의하천을한번에하천별개별조서를만들수있는장점이있음(아래참고)"]
[]
[]
["2.자료입력(\"실행\"탭)"]
[]
["지바우천",null,null,"토지소재지",null,null,null,"편입면적(m2)","편입면적(m2)","편입면적(m2)","편입면적(m2)","소유자",null,"구분항"]
["①구역","시.군","구.면","동.리","②번지","③지목","지적(공부면적)","④하천구역","예정지","폐천구역","홍수관리구역","주소","성명","구분1","구분2","⑤하천명","⑥PNU","⑦전필지면적(m2)"]
[]
[null,"-자료입력형식은위와같으며,붉은색필드는필수적으로매크로를실행전자료를입력해야함"]
[]
[null,"-하늘색과흰색필드는매크로실행후자동으로입력되는필드임"]
[]
[null,"-필드별입력및주의사항"]
[]
[null,null,"①구역"]
[null,null,null,"-좌우안구분시:다음과같은형식(4자리)으로구분한다.형식)좌01,우01"]
[null,null,null,"-좌우안구분안할시:구분을안하는하천에한해서똑같은숫자를입력한다예)1"]
[null,null,null,null,"☞같은숫자를입력하는이유는해당필드값으로인해정렬이되지않게하기위함이다.만약빈칸으로두면에러가나므로주의할것"]
[null,null,"②번지"]
[null,null,null,"-예)445-15(O),445(O),445-0(X),산115-1(O)"]
[null,null,"③지목"]
[null,null,null,"-예)천(O),하천(X)-->1글자지목형식"]
[null,null,"④편입면적"]
[null,null,null,"-하천구역,예정지,폐천구역,홍수관리구역으로구분"]
[null,null,null,"-해당되는필드에편입면적을입력한다."]
[null,null,null,"-해당되는필드에값이있으면조서를따로정리함('0'도값으로취급하므로주의)"]
[null,null,null,"-같은PNU인데여러행에면적이나누어져있을경우하나의행에합산하여정리한다.(GIS내에서Dissolve툴사용필요없음)"]
[null,null,null,"-같은PNU인데좌우구분이여러개일때하나의행에정리한다."]
[]
[null,null,null,"번지","지목","지적","하천구역","예정지","기존폐천","신생폐천폐천",null,"번지","지목","지적","하천구역","예정지","기존폐천","신생폐천폐천"]
[null,null,null,"0-1","가",null,890.31940494000003,null,null,null,null,"0-1","가",null,890.31940494000003]
[null,null,null,"453-1","답",443,242,null,null,null,null,"453-1","답",443,242,140,23]
[null,null,null,"453-1","답",443,null,140]
[null,null,null,"453-1","답",443,null,null,23]
[]
[null,null,"⑤하천명"]
[null,null,null,"-여러하천을한번에개별조서를만들수있음"]
[null,null,null,"-소하천정비종합계획시를기준으로설명하면,"]
[null,null,null,null,"형식)01-01개별천(면번호두자리-하천번호두자리하천명)"]
[null,null,null,null,null,"☞하천명은5자리부터입력되어야함!"]
[null,null,null,"-해당시트가저장되어있는경로에하천별조서가개별적인통합문서(*.xlsm)로저장됨"]
[]
[null,null,"⑥PNU"]
[null,null,null,"-GIS연속지적도에서가져온PNU"]
[]
[null,null,"⑦전필지면적"]
[null,null,null,"-CAD나GIS내각필지의전필지면적"]
[]
[null,null,"⑧하늘색,흰색필드"]
[null,null,null,"-\"토지대장당겨오기\"및\"면적비교검증\"매크로실행시PNU를기준으로자동으로입력되어짐"]
[]
[]
[]
[]
[]
[]
["3.자료입력(\"토지대장\"탭)"]
[]
["①PNU","②토지코드","③대장구분","④본번","⑤부번","⑥면적","⑦소유자주소","⑧소유자명"]
[]
[null,"-위의붉은색필드외에다른필드는입력안해도무방"]
[]
[null,"-필드별입력및주의사항"]
[]
[null,null,"①PNU"]
[null,null,null,"-토지전산대장에서간혹PNU전체19자리가아닌10자리만제공되는경우가있으므로,\"토지코드\"필드를기반으로대장구분,본번,부번필드를조합하여자동으로입력되어지는필드"]
[null,null,null,"-\"실행\"탭과매칭시이용되는필드임"]
[null,null,"②토지코드"]
[null,null,null,"-전산대장에서제공되는PNU코드(입력해야하는필드.위의1번과혼동하지말것,최소10자리를입력해야함)"]
[null,null,"③대장구분"]
[null,null,null,"-토지대장(1)과임야대장(2,산지번)구분"]
[null,null,"④본번"]
[null,null,null,"-지번의본지번"]
[null,null,"⑤부번"]
[null,null,null,"-지번의부지번"]
[null,null,"⑥면적"]
[null,null,null,"-공부면적"]
[null,null,"⑦소유자주소"]
[null,null,null,"-소유자주소"]
[null,null,"⑧소유자명"]
[null,null,null,"-소유자명(국유지인경우\"국\"표기)"]
[null,null,null,"-소유자명이\"국\"인경우실행탭에서국유지로구분하여조서를작성하고,나머지는사유지로간주하여조서를작성한다."]
[]
["3.매크로실행"]
[]
["\"실행\"탭의우측상단에매크로실행단추가있다."]
[]
[null,"-실행순서"]
[null,null,"(초기화)→토지대장당겨오기→면적비교검증→조서작성→Print"]
[null,null,null,"☞기본탭(실행,사용법,토지대장)외의시트가존재하는경우'초기화'를제일먼저실행할것!"]
[]
[null,"-매크로버튼"]
[]
[null,null,"초기화"]
[null,null,null,null,"-기능:","-기본탭(실행,사용법,토지대장)외의시트를모두삭제"]
[]
[null,null,"토지대장당겨오기"]
[null,null,null,null,"-기능:","-동일PNU에해당하는토지대장의내용을\"실행\"탭으로당겨온다."]
[null,null,null,null,null,"-\"소유구분을실행할까요?\"라는메시지가뜰경우"]
[null,null,null,null,null,null,"☞1을선택할경우:기본적인국유지구분을해준다.(소유자필드에\"국\"표기)"]
[null,null,null,null,null,null,null,"▷소유자명이\"*시\"인경우Ex)청주시"]
[null,null,null,null,null,null,null,"▷소유자명이\"*군\"인경우Ex)청송군"]
[null,null,null,null,null,null,null,"▷소유자명이\"*도\"인경우Ex)경기도"]
[null,null,null,null,null,null,null,"▷소유자명이\"*면\"인경우Ex)가음면"]
[null,null,null,null,null,null,null,"▷소유자명이\"*구\"인경우Ex)강남구"]
[null,null,null,null,null,null,null,"▷소유자명이\"*과\"인경우Ex)건설과"]
[null,null,null,null,null,null,null,"▷소유자명이\"*부\"인경우Ex)건설부"]
[null,null,null,null,null,null,null,"▷소유자명이\"국(*\"인경우Ex)국(국토교통부)"]
[null,null,null,null,null,null,null,"▷기본적인분류작업이므로실행후국유지여부다시확인할것"]
[]
[null,null,"면적비교검증"]
[null,null,null,null,"-기능:","-공부면적과편입면적을비교하여편입면적이같거나클경우음영처리(사용자가확인후직접면적수정할것)"]
[null,null,null,null,null,"-전필지면적과편입면적을비교하여편차가10%이내일경우음영처리(확인용도)→전필지여부확인"]
[null,null,null,null,null,"-동일PNU필지에대한필지통합및면적합산(GIS의Dissolve기능)"]
[null,null,null,null,null,"-편입면적이1보다작을경우필지삭제(단,공부면적이1보다클경우에만삭제)"]
[null,null,null,null,null,"-소수점절삭"]
[null,null,null,null,null,"-하천별,행정구역별,지번별Sorting"]
[null,null,null,null,null,"-지번앞에어포스트로피(')추가Ex)1-1☞'1-1"]
[null,null,null,null,null,null,"▷1-1이나1-2같은경우어포스트로피가없으면날짜형태로표현되는경우가있음"]
[null,null,null,null,null,"※이단계를생략하여도무방하나위의작업들을사용자가직접해주어야한다."]
[]
[]
[null,null,"조서작성"]
[null,null,null,null,"-개요:","-\"실행\"탭하천명필드의개별하천에대한조서를작성(개별통합문서)"]
[null,null,null,null,null,"☞매크로실행전저장을하고,실행후저장없이통합문서닫을것(하천별개별통합문서가작성되기때문에해당통합문서는데이타베이스로간주할것)"]
[null,null,null,null,null,"☞하천수가많을경우시간이오래걸리므로\"완료\"메시지가뜰때까지인내심을갖고기다린다.(소하천의경우면별로개별시트를만들것을추천)"]
[]
[null,null,null,null,"-주요기능:"]
[]
[]
[]
[]
[]
[]
[]
[]
[]
[]
[]
[null,null,null,null,null,"①좌우안구분:",null,null,null,null,null,null,null,null,"<좌우안구분조서정리형식>"]
[null,null,null,null,null,null,"☞\"실행\"탭에좌우안구분이되어있는경우해당구역을체크한다.",null,null,null,null,null,null,null,"좌1","우1"]
[null,null,null,null,null,null,"☞다중선택가능",null,null,null,null,null,null,null,"좌2","우2"]
[null,null,null,null,null,null,"☞\"실행\"탭에좌우안구분이되어있어도체크안할시연번형식으로조서정리",null,null,null,null,null,null,null,".\n.",".\n."]
[null,null,null,null,null,null,"☞\"실행\"탭에좌우안구분이되어있지않았는데체크할시,조서의좌측표에만연번형식으로나열하여정리된다."]
[null,null,null,null,null,null,null,null,null,null,null,null,null,null,"<좌우안구분체크안할시>"]
[null,null,null,null,null,"②조서작성행정구역구분단위:",null,null,null,null,null,null,null,null,1,4]
[null,null,null,null,null,null,"☞\"실행\"탭의B,C,D열을기준으로선택된행정구역단위로조서를작성",null,null,null,null,null,null,null,2,5]
[null,null,null,null,null,null,"☞다중선택안됨",null,null,null,null,null,null,null,3,6]
[null,null,null,null,null,null,"☞'구분없음'선택시행정구분없이각전체조서만작성됨"]
[]
[null,null,null,null,null,"※집계표의필지수와조서의필지수는일치함을원칙으로작성!!"]
[]
[null,null,"SinglePrint"]
[null,null,null,null,"-기능:","-기본설정프린터로해당부수만큼A3사이즈로출력(용지사이즈변경불가)"]
[null,null,null,null,null,"-용지사이즈변경하고자한다면아래PDF로만들어출력할것"]
[]
[null,null,"PDFPrint"]
[null,null,null,null,"-기능:","PDF파일생성"]
[]
[null,null,"납품용"]
[null,null,null,null,"-기능:","파일을정리하여전송하고자할때필요없는셀과버튼을삭제해줌"]
[]
["4.결언"]
[]
[null,"-홍수관리구역및폐천부지는사유지조서가따로생성되지않으므로,사유지조서가필요할시\"실행\"탭의하천구역이나예정지구역에임의적으로입력하여조서를작성할수있다."]
[null,"-단,작성후하천간지나각시트내의조서명은수정하여야한다."]
[null,null,"예)예정지집계표☞홍수관리구역집계표'로수정"]
[null,"-통합문서별간지,목차,집계표및조서가정리되므로바로출력가능하다."]
[null,"-하천별별도통합문서로현재통합문서의작업위치에저장된다."]
[null,"-셀의내용을시트별로정리하므로연산시간이조금길다.여유를갖고써보길바란다."]
[null,"-기능상의오류가있으면wiccsco@naver.com으로알려주면수정하겠음"]
[]
["5.업데이트현황"]
[null,"-업데이트_Ver2:국유지조서작성추가(2017.12)"]
[null,"-추후:간지작성여부선택추가"]
[null,"-추후:개별시트내매크로삭제,실행및토지대장탭삭제"]
[null,"-추후:진행상황bar"]

{"sheet":"토지대장","index":2,"n_rows":241777,"n_cols":29,"rows_kept":4500,"cut":true,"hidden":false,"merged":[],"bounds":{"rows_first":2000,"rows_last":500,"rows_between":2000,"halvings":0}}
["PNU","토지코드","행정구역","대장구분","본번","부번","지목코드","지목","공부면적","토지이동사유코드","토지이동사유","토지이동일자","소유자주소","소유자명","소유구분","소유권변경일자","소유권변동원인코드","소유권변동원인","공유인수","공시지가",null,null,null,null,"법정동코드","시군구명","읍면동명","동리명","<-----지우지말것!"]
[{"$f":"LEFT($B$2,10)&TEXT($D$2,\"0\")&TEXT($E$2,\"0000\")&TEXT($F$2,\"0000\")","v":"4480025021100020003"},4480025021,null,1,2,3,"2-3","제",294,null,null,null,"국(기획재정부)","국",null,null,null,null,null,null,null,null,null,null,1111010100,"종로구","청운동"]
[{"$f":"LEFT($B$3,10)&TEXT($D$3,\"0\")&TEXT($E$3,\"0000\")&TEXT($F$3,\"0000\")","v":"4480025021100030001"},4480025021,null,1,3,1,"3-1","천",255,null,null,null,"국(국세청)","국",null,null,null,null,null,null,null,null,null,null,1111010200,"종로구","신교동"]
[{"$f":"LEFT($B$4,10)&TEXT($D$4,\"0\")&TEXT($E$4,\"0000\")&TEXT($F$4,\"0000\")","v":"4480025021100030002"},4480025021,null,1,3,2,"3-2","제",764,null,null,null,"국(기획재정부)","국",null,null,null,null,null,null,null,null,null,null,1111010300,"종로구","궁정동"]
[{"$f":"LEFT($B$5,10)&TEXT($D$5,\"0\")&TEXT($E$5,\"0000\")&TEXT($F$5,\"0000\")","v":"4480025021100030003"},4480025021,null,1,3,3,"3-3","대",255,null,null,null,"고암리192","신경분",null,null,null,null,null,null,null,null,null,null,1111010400,"종로구","효자동"]
[{"$f":"LEFT($B$6,10)&TEXT($D$6,\"0\")&TEXT($E$6,\"0000\")&TEXT($F$6,\"0000\")","v":"4480025021100030005"},4480025021,null,1,3,5,"3-5","대",182,null,null,null,"충청남도홍성군홍성읍오관리3-5","명제동",null,null,null,null,null,null,null,null,null,null,1111010500,"종로구","창성동"]
[{"$f":"LEFT($B$7,10)&TEXT($D$7,\"0\")&TEXT($E$7,\"0000\")&TEXT($F$7,\"0000\")","v":"4480025021100030006"},4480025021,null,1,3,6,"3-6","대",102,null,null,null,"홍성군","국",null,null,null,null,null,null,null,null,null,null,1111010600,"종로구","통의동"]
[{"$f":"LEFT($B$8,10)&TEXT($D$8,\"0\")&TEXT($E$8,\"0000\")&TEXT($F$8,\"0000\")","v":"4480025021100030013"},4480025021,null,1,3,13,"3-13","대",172,null,null,null,"충청남도홍성군홍성읍당간길17-8","명정순",null,null,null,null,null,null,null,null,null,null,1111010700,"종로구","적선동"]
[{"$f":"LEFT($B$9,10)&TEXT($D$9,\"0\")&TEXT($E$9,\"0000\")&TEXT($F$9,\"0000\")","v":"4480025021100030015"},4480025021,null,1,3,15,"3-15","대",172,null,null,null,"충청남도홍성군홍성읍당간길17-12","지한순",null,null,null,null,null,null,null,null,null,null,1111010800,"종로구","통인동"]
[{"$f":"LEFT($B$10,10)&TEXT($D$10,\"0\")&TEXT($E$10,\"0000\")&TEXT($F$10,\"0000\")","v":"4480025021100030016"},4480025021,null,1,3,16,"3-16","대",175,null,null,null,"충청남도홍성군홍성읍오관리3-16","전금숙",null,null,null,null,null,null,null,null,null,null,1111010900,"종로구","누상동"]
[{"$f":"LEFT($B$11,10)&TEXT($D$11,\"0\")&TEXT($E$11,\"0000\")&TEXT($F$11,\"0000\")","v":"4480025021100030018"},4480025021,null,1,3,18,"3-18","대",202,null,null,null,"충청남도홍성군홍성읍당간길312층","김순단",null,null,null,null,null,null,null,null,null,null,1111011000,"종로구","누하동"]
[{"$f":"LEFT($B$12,10)&TEXT($D$12,\"0\")&TEXT($E$12,\"0000\")&TEXT($F$12,\"0000\")","v":"4480025021100040001"},4480025021,null,1,4,1,"4-1","대",169,null,null,null,"서울특별시서초구서초대로24길20102호(방배동)","김미경",null,null,null,null,null,null,null,null,null,null,1111011100,"종로구","옥인동"]
[{"$f":"LEFT($B$13,10)&TEXT($D$13,\"0\")&TEXT($E$13,\"0000\")&TEXT($F$13,\"0000\")","v":"4480025021100040002"},4480025021,null,1,4,2,"4-2","대",172,null,null,null,"강릉시포남동1293-2청송아파트102-202","최헌숙",null,null,null,null,null,null,null,null,null,null,1111011200,"종로구","체부동"]
[{"$f":"LEFT($B$14,10)&TEXT($D$14,\"0\")&TEXT($E$14,\"0000\")&TEXT($F$14,\"0000\")","v":"4480025021100040003"},4480025021,null,1,4,3,"4-3","대",141,null,null,null,"서울특별시서초구서초대로24길20102호(방배동)","김미경",null,null,null,null,null,null,null,null,null,null,1111011300,"종로구","필운동"]
[{"$f":"LEFT($B$15,10)&TEXT($D$15,\"0\")&TEXT($E$15,\"0000\")&TEXT($F$15,\"0000\")","v":"4480025021100040004"},4480025021,null,1,4,4,"4-4","대",241,null,null,null,"강릉시포남동1293-2청송아파트102-202","최헌숙",null,null,null,null,null,null,null,null,null,null,1111011400,"종로구","내자동"]
[{"$f":"LEFT($B$16,10)&TEXT($D$16,\"0\")&TEXT($E$16,\"0000\")&TEXT($F$16,\"0000\")","v":"4480025021100040006"},4480025021,null,1,4,6,"4-6","대",255,null,null,null,"2019-04-05","최헌숙",null,null,null,null,null,null,null,null,null,null,1111011500,"종로구","사직동"]
[{"$f":"LEFT($B$17,10)&TEXT($D$17,\"0\")&TEXT($E$17,\"0000\")&TEXT($F$17,\"0000\")","v":"4480025021100040007"},4480025021,null,1,4,7,"4-7","도",2116,null,null,null,"홍성군","국",null,null,null,null,null,null,null,null,null,null,1111011600,"종로구","도렴동"]
[{"$f":"LEFT($B$18,10)&TEXT($D$18,\"0\")&TEXT($E$18,\"0000\")&TEXT($F$18,\"0000\")","v":"4480025021100040010"},4480025021,null,1,4,10,"4-10","대",70,null,null,null,"강릉시포남동1293-2청송아파트102-202","최헌숙",null,null,null,null,null,null,null,null,null,null,1111011700,"종로구","당주동"]
[{"$f":"LEFT($B$19,10)&TEXT($D$19,\"0\")&TEXT($E$19,\"0000\")&TEXT($F$19,\"0000\")","v":"4480025021100040011"},4480025021,null,1,4,11,"4-11","대",20,null,null,null,"충청남도홍성군홍북면홍천문화1길96","이승호",null,null,null,null,null,null,null,null,null,null,1111011800,"종로구","내수동"]
[{"$f":"LEFT($B$20,10)&TEXT($D$20,\"0\")&TEXT($E$20,\"0000\")&TEXT($F$20,\"0000\")","v":"4480025021100050005"},4480025021,null,1,5,5,"5-5","대",257,null,null,null,"홍북면신경리174","김선권",null,null,null,null,null,null,null,null,null,null,1111011900,"종로구","세종로"]
[{"$f":"LEFT($B$21,10)&TEXT($D$21,\"0\")&TEXT($E$21,\"0000\")&TEXT($F$21,\"0000\")","v":"4480025021100050011"},4480025021,null,1,5,11,"5-11","대",165,null,null,null,"충청남도홍성군홍성읍오관리276-37","한찬희",null,null,null,null,null,null,null,null,null,null,1111012000,"종로구","신문로1가"]
[{"$f":"LEFT($B$22,10)&TEXT($D$22,\"0\")&TEXT($E$22,\"0000\")&TEXT($F$22,\"0000\")","v":"4480025021100060002"},4480025021,null,1,6,2,"6-2","도",60,null,null,null,"국(기획재정부)","국",null,null,null,null,null,null,null,null,null,null,1111012100,"종로구","신문로2가"]
[{"$f":"LEFT($B$23,10)&TEXT($D$23,\"0\")&TEXT($E$23,\"0000\")&TEXT($F$23,\"0000\")","v":"4480025021100060005"},4480025021,null,1,6,5,"6-5","대",331,null,null,null,"충청남도홍성군홍성읍당간길33","강일성",null,null,null,null,null,null,null,null,null,null,1111012200,"종로구","청진동"]
[{"$f":"LEFT($B$24,10)&TEXT($D$24,\"0\")&TEXT($E$24,\"0000\")&TEXT($F$24,\"0000\")","v":"4480025021100060008"},4480025021,null,1,6,8,"6-8","대",17,null,null,null,"2019-06-04","오계표",null,null,null,null,null,null,null,null,null,null,1111012300,"종로구","서린동"]
[{"$f":"LEFT($B$25,10)&TEXT($D$25,\"0\")&TEXT($E$25,\"0000\")&TEXT($F$25,\"0000\")","v":"4480025021100070001"},4480025021,null,1,7,1,"7-1","도",7,null,null,null,"국(기획재정부)","국",null,null,null,null,null,null,null,null,null,null,1111012400,"종로구","수송동"]
[{"$f":"LEFT($B$26,10)&TEXT($D$26,\"0\")&TEXT($E$26,\"0000\")&TEXT($F$26,\"0000\")","v":"4480025021100070003"},4480025021,null,1,7,3,"7-3","제",545,null,null,null,"국(기획재정부)","국",null,null,null,null,null,null,null,null,null,null,1111012500,"종로구","중학동"]
[{"$f":"LEFT($B$27,10)&TEXT($D$27,\"0\")&TEXT($E$27,\"0000\")&TEXT($F$27,\"0000\")","v":"4480025021100070006"},4480025021,null,1,7,6,"7-6","대",46,null,null,null,"288-2","홍성군농업협동조합",null,null,null,null,null,null,null,null,null,null,1111012600,"종로구","종로1가"]
[{"$f":"LEFT($B$28,10)&TEXT($D$28,\"0\")&TEXT($E$28,\"0000\")&TEXT($F$28,\"0000\")","v":"4480025021100070007"},4480025021,null,1,7,7,"7-7","대",295,null,null,null,"충청남도홍성군홍성읍조양로143번길59","황규일",null,null,null,null,null,null,null,null,null,null,1111012700,"종로구","공평동"]
[{"$f":"LEFT($B$29,10)&TEXT($D$29,\"0\")&TEXT($E$29,\"0000\")&TEXT($F$29,\"0000\")","v":"4480025021100070011"},4480025021,null,1,7,11,"7-11","대",18,null,null,null,"홍성군","국",null,null,null,null,null,null,null,null,null,null,1111012800,"종로구","관훈동"]
[{"$f":"LEFT($B$30,10)&TEXT($D$30,\"0\")&TEXT($E$30,\"0000\")&TEXT($F$30,\"0000\")","v":"4480025021100080001"},4480025021,null,1,8,1,"8-1","천",159,null,null,null,"국(국세청)","국",null,null,null,null,null,null,null,null,null,null,1111012900,"종로구","견지동"]
[{"$f":"LEFT($B$31,10)&TEXT($D$31,\"0\")&TEXT($E$31,\"0000\")&TEXT($F$31,\"0000\")","v":"4480025021100080002"},4480025021,null,1,8,2,"8-2","제",469,null,null,null,"국(기획재정부)","국",null,null,null,null,null,null,null,null,null,null,1111013000,"종로구","와룡동"]
[{"$f":"LEFT($B$32,10)&TEXT($D$32,\"0\")&TEXT($E$32,\"0000\")&TEXT($F$32,\"0000\")","v":"4480025021100080005"},4480025021,null,1,8,5,"8-5","대",1982,null,null,null,null,null,null,null,null,null,null,null,null,null,null,null,1111013100,"종로구","권농동"]
[{"$f":"LEFT($B$33,10)&TEXT($D$33,\"0\")&TEXT($E$33,\"0000\")&TEXT($F$33,\"0000\")","v":"4480025021100080007"},4480025021,null,1,8,7,"8-7","대",281,null,null,null,"대교리402-4","김옥희",null,null,null,null,null,null,null,null,null,null,1111013200,"종로구","운니동"]
[{"$f":"LEFT($B$34,10)&TEXT($D$34,\"0\")&TEXT($E$34,\"0000\")&TEXT($F$34,\"0000\")","v":"4480025021100080012"},4480025021,null,1,8,12,"8-12","도",85,null,null,null,"홍성군","국",null,null,null,null,null,null,null,null,null,null,1111013300,"종로구","익선동"]
[{"$f":"LEFT($B$35,10)&TEXT($D$35,\"0\")&TEXT($E$35,\"0000\")&TEXT($F$35,\"0000\")","v":"4480025021100080015"},4480025021,null,1,8,15,"8-15","도",3,null,null,null,"홍성군","국",null,null,null,null,null,null,null,null,null,null,1111013400,"종로구","경운동"]
[{"$f":"LEFT($B$36,10)&TEXT($D$36,\"0\")&TEXT($E$36,\"0000\")&TEXT($F$36,\"0000\")","v":"4480025021100080017"},4480025021,null,1,8,17,"8-17","도",3,null,null,null,"홍성군","국",null,null,null,null,null,null,null,null,null,null,1111013500,"종로구","관철동"]
[{"$f":"LEFT($B$37,10)&TEXT($D$37,\"0\")&TEXT($E$37,\"0000\")&TEXT($F$37,\"0000\")","v":"4480025021100090001"},4480025021,null,1,9,1,"9-1","천",129,null,null,null,"국(국세청)","국",null,null,null,null,null,null,null,null,null,null,1111013600,"종로구","인사동"]
[{"$f":"LEFT($B$38,10)&TEXT($D$38,\"0\")&TEXT($E$38,\"0000\")&TEXT($F$38,\"0000\")","v":"4480025021100090002"},4480025021,null,1,9,2,"9-2","제",959,null,null,null,"국(기획재정부)","국",null,null,null,null,null,null,null,null,null,null,1111013700,"종로구","낙원동"]
[{"$f":"LEFT($B$39,10)&TEXT($D$39,\"0\")&TEXT($E$39,\"0000\")&TEXT($F$39,\"0000\")","v":"4480025021100090003"},4480025021,null,1,9,3,"9-3","답",1620,null,null,null,10,"박영자",null,null,null,null,null,null,null,null,null,null,1111013800,"종로구","종로2가"]
[{"$f":"LEFT($B$40,10)&TEXT($D$40,\"0\")&TEXT($E$40,\"0000\")&TEXT($F$40,\"0000\")","v":"4480025021100090004"},4480025021,null,1,9,4,"9-4","답",268,null,null,null,"갈산면가곡리299-1","최재금",null,null,null,null,null,null,null,null,null,null,1111013900,"종로구","팔판동"]
[{"$f":"LEFT($B$41,10)&TEXT($D$41,\"0\")&TEXT($E$41,\"0000\")&TEXT($F$41,\"0000\")","v":"4480025021100090005"},4480025021,null,1,9,5,"9-5","대",231,null,null,null,"서울특별시광진구광장동577현대파크빌1006-1503","김연권",null,null,null,null,null,null,null,null,null,null,1111014000,"종로구","삼청동"]
[{"$f":"LEFT($B$42,10)&TEXT($D$42,\"0\")&TEXT($E$42,\"0000\")&TEXT($F$42,\"0000\")","v":"4480025021100090006"},4480025021,null,1,9,6,"9-6","답",607,null,null,null,"홍성군홍성읍오관리947홍성향촌현대아파트102-1207","이기만",null,null,null,null,null,null,null,null,null,null,1111014100,"종로구","안국동"]
[{"$f":"LEFT($B$43,10)&TEXT($D$43,\"0\")&TEXT($E$43,\"0000\")&TEXT($F$43,\"0000\")","v":"4480025021100090007"},4480025021,null,1,9,7,"9-7","답",10,null,null,null,"홍성군홍성읍오관리947홍성향촌현대아파트102-1207","이기만",null,null,null,null,null,null,null,null,null,null,1111014200,"종로구","소격동"]
[{"$f":"LEFT($B$44,10)&TEXT($D$44,\"0\")&TEXT($E$44,\"0000\")&TEXT($F$44,\"0000\")","v":"4480025021100100000"},4480025021,null,1,10,0,10,"대",347,null,null,null,"충청남도홍성군홍성읍오관리10","박영자",null,null,null,null,null,null,null,null,null,null,1111014300,"종로구","화동"]
[{"$f":"LEFT($B$45,10)&TEXT($D$45,\"0\")&TEXT($E$45,\"0000\")&TEXT($F$45,\"0000\")","v":"4480025021100110002"},4480025021,null,1,11,2,"11-2","대",215,null,null,null,"2019-11-02","최중섭",null,null,null,null,null,null,null,null,null,null,1111014400,"종로구","사간동"]
[{"$f":"LEFT($B$46,10)&TEXT($D$46,\"0\")&TEXT($E$46,\"0000\")&TEXT($F$46,\"0000\")","v":"4480025021100110003"},4480025021,null,1,11,3,"11-3","대",169,null,null,null,"2019-11-03","최영석",null,null,null,null,null,null,null,null,null,null,1111014500,"종로구","송현동"]
[{"$f":"LEFT($B$47,10)&TEXT($D$47,\"0\")&TEXT($E$47,\"0000\")&TEXT($F$47,\"0000\")","v":"4480025021100130002"},4480025021,null,1,13,2,"13-2","대",20,null,null,null,"13-1","이풍전",null,null,null,null,null,null,null,null,null,null,1111014600,"종로구","가회동"]
[{"$f":"LEFT($B$48,10)&TEXT($D$48,\"0\")&TEXT($E$48,\"0000\")&TEXT($F$48,\"0000\")","v":"4480025021100140001"},4480025021,null,1,14,1,"14-1","대",479,null,null,null,"14-1","오화근",null,null,null,null,null,null,null,null,null,null,1111014700,"종로구","재동"]
[{"$f":"LEFT($B$49,10)&TEXT($D$49,\"0\")&TEXT($E$49,\"0000\")&TEXT($F$49,\"0000\")","v":"4480025021100140003"},4480025021,null,1,14,3,"14-3","대",106,null,null,null,"홍성군","국",null,null,null,null,null,null,null,null,null,null,1111014800,"종로구","계동"]
[{"$f":"LEFT($B$50,10)&TEXT($D$50,\"0\")&TEXT($E$50,\"0000\")&TEXT($F$50,\"0000\")","v":"4480025021100150001"},4480025021,null,1,15,1,"15-1","대",397,null,null,null,"홍성군","국",null,null,null,null,null,null,null,null,null,null,1111014900,"종로구","원서동"]
[{"$f":"LEFT($B$51,10)&TEXT($D$51,\"0\")&TEXT($E$51,\"0000\")&TEXT($F$51,\"0000\")","v":"4480025021100150003"},4480025021,null,1,15,3,"15-3","도",43,null,null,null,"홍성군","국",null,null,null,null,null,null,null,null,null,null,1111015000,"종로구","훈정동"]
[{"$f":"LEFT($B$52,10)&TEXT($D$52,\"0\")&TEXT($E$52,\"0000\")&TEXT($F$52,\"0000\")","v":"4480025021100150005"},4480025021,null,1,15,5,"15-5","대",3,null,null,null,"홍성군","국",null,null,null,null,null,null,null,null,null,null,1111015100,"종로구","묘동"]
[{"$f":"LEFT($B$53,10)&TEXT($D$53,\"0\")&TEXT($E$53,\"0000\")&TEXT($F$53,\"0000\")","v":"4480025021100160001"},4480025021,null,1,16,1,"16-1","천",79,null,null,null,"국(국세청)","국",null,null,null,null,null,null,null,null,null,null,1111015200,"종로구","봉익동"]
[{"$f":"LEFT($B$54,10)&TEXT($D$54,\"0\")&TEXT($E$54,\"0000\")&TEXT($F$54,\"0000\")","v":"4480025021100160002"},4480025021,null,1,16,2,"16-2","도",69,null,null,null,"국(기획재정부)","국",null,null,null,null,null,null,null,null,null,null,1111015300,"종로구","돈의동"]
[{"$f":"LEFT($B$55,10)&TEXT($D$55,\"0\")&TEXT($E$55,\"0000\")&TEXT($F$55,\"0000\")","v":"4480025021100160003"},4480025021,null,1,16,3,"16-3","제",278,null,null,null,"국(기획재정부)","국",null,null,null,null,null,null,null,null,null,null,1111015400,"종로구","장사동"]
[{"$f":"LEFT($B$56,10)&TEXT($D$56,\"0\")&TEXT($E$56,\"0000\")&TEXT($F$56,\"0000\")","v":"4480025021100170001"},4480025021,null,1,17,1,"17-1","도",76,null,null,null,"대교리319","최병옥",null,null,null,null,null,null,null,null,null,null,1111015500,"종로구","관수동"]
[{"$f":"LEFT($B$57,10)&TEXT($D$57,\"0\")&TEXT($E$57,\"0000\")&TEXT($F$57,\"0000\")","v":"4480025021100170002"},4480025021,null,1,17,2,"17-2","대",287,null,null,null,"296-10동성연립21호","진정숙",null,null,null,null,null,null,null,null,null,null,1111015600,"종로구","종로3가"]
[{"$f":"LEFT($B$58,10)&TEXT($D$58,\"0\")&TEXT($E$58,\"0000\")&TEXT($F$58,\"0000\")","v":"4480025021100170003"},4480025021,null,1,17,3,"17-3","천",307,null,null,null,"국(국세청)","국",null,null,null,null,null,null,null,null,null,null,1111015700,"종로구","인의동"]
[{"$f":"LEFT($B$59,10)&TEXT($D$59,\"0\")&TEXT($E$59,\"0000\")&TEXT($F$59,\"0000\")","v":"4480025021100170004"},4480025021,null,1,17,4,"17-4","제",602,null,null,null,"국(국세청)","국",null,null,null,null,null,null,null,null,null,null,1111015800,"종로구","예지동"]
[{"$f":"LEFT($B$60,10)&TEXT($D$60,\"0\")&TEXT($E$60,\"0000\")&TEXT($F$60,\"0000\")","v":"4480025021100170005"},4480025021,null,1,17,5,"17-5","대",126,null,null,null,"296-10동성연립21호","진정숙",null,null,null,null,null,null,null,null,null,null,1111015900,"종로구","원남동"]
[{"$f":"LEFT($B$61,10)&TEXT($D$61,\"0\")&TEXT($E$61,\"0000\")&TEXT($F$61,\"0000\")","v":"4480025021100170006"},4480025021,null,1,17,6,"17-6","대",288,null,null,null,"296-10동성연립21호","진정숙",null,null,null,null,null,null,null,null,null,null,1111016000,"종로구","연지동"]
[{"$f":"LEFT($B$62,10)&TEXT($D$62,\"0\")&TEXT($E$62,\"0000\")&TEXT($F$62,\"0000\")","v":"4480025021100170007"},4480025021,null,1,17,7,"17-7","도",436,null,null,null,"홍성군","국",null,null,null,null,null,null,null,null,null,null,1111016100,"종로구","종로4가"]
[{"$f":"LEFT($B$63,10)&TEXT($D$63,\"0\")&TEXT($E$63,\"0000\")&TEXT($F$63,\"0000\")","v":"4480025021100180002"},4480025021,null,1,18,2,"18-2","대",140,null,null,null,"홍성군","국",null,null,null,null,null,null,null,null,null,null,1111016200,"종로구","효제동"]
[{"$f":"LEFT($B$64,10)&TEXT($D$64,\"0\")&TEXT($E$64,\"0000\")&TEXT($F$64,\"0000\")","v":"4480025021100180003"},4480025021,null,1,18,3,"18-3","대",93,null,null,null,"홍성군","국",null,null,null,null,null,null,null,null,null,null,1111016300,"종로구","종로5가"]
[{"$f":"LEFT($B$65,10)&TEXT($D$65,\"0\")&TEXT($E$65,\"0000\")&TEXT($F$65,\"0000\")","v":"4480025021100210001"},4480025021,null,1,21,1,"21-1","대",678,null,null,null,"대교리643","이종문",null,null,null,null,null,null,null,null,null,null,1111016400,"종로구","종로6가"]
[{"$f":"LEFT($B$66,10)&TEXT($D$66,\"0\")&TEXT($E$66,\"0000\")&TEXT($F$66,\"0000\")","v":"4480025021100210002"},4480025021,null,1,21,2,"21-2","대",261,null,null,null,"홍성군홍성읍오관리21-2","이환웅",null,null,null,null,null,null,null,null,null,null,1111016500,"종로구","이화동"]
[{"$f":"LEFT($B$67,10)&TEXT($D$67,\"0\")&TEXT($E$67,\"0000\")&TEXT($F$67,\"0000\")","v":"4480025021100220002"},4480025021,null,1,22,2,"22-2","제",241,null,null,null,"국(건설교통부)","국",null,null,null,null,null,null,null,null,null,null,1111016600,"종로구","연건동"]
[{"$f":"LEFT($B$68,10)&TEXT($D$68,\"0\")&TEXT($E$68,\"0000\")&TEXT($F$68,\"0000\")","v":"4480025021100220003"},4480025021,null,1,22,3,"22-3","천",321,null,null,null,"국(건설교통부)","국",null,null,null,null,null,null,null,null,null,null,1111016700,"종로구","충신동"]
[{"$f":"LEFT($B$69,10)&TEXT($D$69,\"0\")&TEXT($E$69,\"0000\")&TEXT($F$69,\"0000\")","v":"4480025021100230002"},4480025021,null,1,23,2,"23-2","제",129,null,null,null,"국(국세청)","국",null,null,null,null,null,null,null,null,null,null,1111016800,"종로구","동숭동"]
[{"$f":"LEFT($B$70,10)&TEXT($D$70,\"0\")&TEXT($E$70,\"0000\")&TEXT($F$70,\"0000\")","v":"4480025021100240001"},4480025021,null,1,24,1,"24-1","대",124,null,null,null,"홍성군","국",null,null,null,null,null,null,null,null,null,null,1111016900,"종로구","혜화동"]
[{"$f":"LEFT($B$71,10)&TEXT($D$71,\"0\")&TEXT($E$71,\"0000\")&TEXT($F$71,\"0000\")","v":"4480025021100240003"},4480025021,null,1,24,3,"24-3","대",165,null,null,null,"홍성군","국",null,null,null,null,null,null,null,null,null,null,1111017000,"종로구","명륜1가"]
[{"$f":"LEFT($B$72,10)&TEXT($D$72,\"0\")&TEXT($E$72,\"0000\")&TEXT($F$72,\"0000\")","v":"4480025021100240006"},4480025021,null,1,24,6,"24-6","대",171,null,null,null,"24-6","송민수",null,null,null,null,null,null,null,null,null,null,1111017100,"종로구","명륜2가"]
[{"$f":"LEFT($B$73,10)&TEXT($D$73,\"0\")&TEXT($E$73,\"0000\")&TEXT($F$73,\"0000\")","v":"4480025021100240007"},4480025021,null,1,24,7,"24-7","도",302,null,null,null,"홍성군","국",null,null,null,null,null,null,null,null,null,null,1111017200,"종로구","명륜4가"]
[{"$f":"LEFT($B$74,10)&TEXT($D$74,\"0\")&TEXT($E$74,\"0000\")&TEXT($F$74,\"0000\")","v":"4480025021100250001"},4480025021,null,1,25,1,"25-1","대",79,null,null,null,"홍성군","국",null,null,null,null,null,null,null,null,null,null,1111017300,"종로구","명륜3가"]
[{"$f":"LEFT($B$75,10)&TEXT($D$75,\"0\")&TEXT($E$75,\"0000\")&TEXT($F$75,\"0000\")","v":"4480025021100250004"},4480025021,null,1,25,4,"25-4","대",299,null,null,null,"홍성군","국",null,null,null,null,null,null,null,null,null,null,1111017400,"종로구","창신동"]
[{"$f":"LEFT($B$76,10)&TEXT($D$76,\"0\")&TEXT($E$76,\"0000\")&TEXT($F$76,\"0000\")","v":"4480025021100250006"},4480025021,null,1,25,6,"25-6","천",101,null,null,null,"국(기획재정부)","국",null,null,null,null,null,null,null,null,null,null,1111017500,"종로구","숭인동"]
[{"$f":"LEFT($B$77,10)&TEXT($D$77,\"0\")&TEXT($E$77,\"0000\")&TEXT($F$77,\"0000\")","v":"4480025021100250007"},4480025021,null,1,25,7,"25-7","제",3,null,null,null,"국(건설교통부)","국",null,null,null,null,null,null,null,null,null,null,1111017600,"종로구","교남동"]
[{"$f":"LEFT($B$78,10)&TEXT($D$78,\"0\")&TEXT($E$78,\"0000\")&TEXT($F$78,\"0000\")","v":"4480025021100250008"},4480025021,null,1,25,8,"25-8","대",30,null,null,null,"서울시마포구공덕동122-57202호","한재범",null,null,null,null,null,null,null,null,null,null,1111017700,"종로구","평동"]
[{"$f":"LEFT($B$79,10)&TEXT($D$79,\"0\")&TEXT($E$79,\"0000\")&TEXT($F$79,\"0000\")","v":"4480025021100250011"},4480025021,null,1,25,11,"25-11","대",169,null,null,null,"오관리25-11","남철희",null,null,null,null,null,null,null,null,null,null,1111017800,"종로구","송월동"]
[{"$f":"LEFT($B$80,10)&TEXT($D$80,\"0\")&TEXT($E$80,\"0000\")&TEXT($F$80,\"0000\")","v":"4480025021100250012"},4480025021,null,1,25,12,"25-12","대",169,null,null,null,"홍성군","국",null,null,null,null,null,null,null,null,null,null,1111017900,"종로구","홍파동"]
[{"$f":"LEFT($B$81,10)&TEXT($D$81,\"0\")&TEXT($E$81,\"0000\")&TEXT($F$81,\"0000\")","v":"4480025021100250013"},4480025021,null,1,25,13,"25-13","천",5,null,null,null,"국(국세청)","국",null,null,null,null,null,null,null,null,null,null,1111018000,"종로구","교북동"]
[{"$f":"LEFT($B$82,10)&TEXT($D$82,\"0\")&TEXT($E$82,\"0000\")&TEXT($F$82,\"0000\")","v":"4480025021100260002"},4480025021,null,1,26,2,"26-2","도",68,null,null,null,"홍성군","국",null,null,null,null,null,null,null,null,null,null,1111018100,"종로구","행촌동"]
[{"$f":"LEFT($B$83,10)&TEXT($D$83,\"0\")&TEXT($E$83,\"0000\")&TEXT($F$83,\"0000\")","v":"4480025021100270001"},4480025021,null,1,27,1,"27-1","전",552,null,null,null,"국(기획재정부)","국",null,null,null,null,null,null,null,null,null,null,1111018200,"종로구","구기동"]
[{"$f":"LEFT($B$84,10)&TEXT($D$84,\"0\")&TEXT($E$84,\"0000\")&TEXT($F$84,\"0000\")","v":"4480025021100270002"},4480025021,null,1,27,2,"27-2","천",231,null,null,null,"홍성군","국",null,null,null,null,null,null,null,null,null,null,1111018300,"종로구","평창동"]
[{"$f":"LEFT($B$85,10)&TEXT($D$85,\"0\")&TEXT($E$85,\"0000\")&TEXT($F$85,\"0000\")","v":"4480025021100280001"},4480025021,null,1,28,1,"28-1","도",231,null,null,null,"홍성군","국",null,null,null,null,null,null,null,null,null,null,1111018400,"종로구","부암동"]
[{"$f":"LEFT($B$86,10)&TEXT($D$86,\"0\")&TEXT($E$86,\"0000\")&TEXT($F$86,\"0000\")","v":"4480025021100280003"},4480025021,null,1,28,3,"28-3","대",130,null,null,null,"홍성군","국",null,null,null,null,null,null,null,null,null,null,1111018500,"종로구","홍지동"]
[{"$f":"LEFT($B$87,10)&TEXT($D$87,\"0\")&TEXT($E$87,\"0000\")&TEXT($F$87,\"0000\")","v":"4480025021100280004"},4480025021,null,1,28,4,"28-4","대",98,null,null,null,"홍성군","국",null,null,null,null,null,null,null,null,null,null,1111018600,"종로구","신영동"]
[{"$f":"LEFT($B$88,10)&TEXT($D$88,\"0\")&TEXT($E$88,\"0000\")&TEXT($F$88,\"0000\")","v":"4480025021100280006"},4480025021,null,1,28,6,"28-6","도",115,null,null,null,"홍성군","국",null,null,null,null,null,null,null,null,null,null,1111018700,"종로구","무악동"]
[{"$f":"LEFT($B$89,10)&TEXT($D$89,\"0\")&TEXT($E$89,\"0000\")&TEXT($F$89,\"0000\")","v":"4480025021100290001"},4480025021,null,1,29,1,"29-1","대",95,null,null,null,"홍성군","국",null,null,null,null,null,null,null,null,null,null,1114010100,"중구","무교동"]
[{"$f":"LEFT($B$90,10)&TEXT($D$90,\"0\")&TEXT($E$90,\"0000\")&TEXT($F$90,\"0000\")","v":"4480025021100290003"},4480025021,null,1,29,3,"29-3","대",4,null,null,null,"홍성군","국",null,null,null,null,null,null,null,null,null,null,1114010200,"중구","다동"]
[{"$f":"LEFT($B$91,10)&TEXT($D$91,\"0\")&TEXT($E$91,\"0000\")&TEXT($F$91,\"0000\")","v":"4480025021100300000"},4480025021,null,1,30,0,30,"대",298,null,null,null,"홍성군","국",null,null,null,null,null,null,null,null,null,null,1114010300,"중구","태평로1가"]
[{"$f":"LEFT($B$92,10)&TEXT($D$92,\"0\")&TEXT($E$92,\"0000\")&TEXT($F$92,\"0000\")","v":"4480025021100300001"},4480025021,null,1,30,1,"30-1","도",22,null,null,null,"홍성군","국",null,null,null,null,null,null,null,null,null,null,1114010400,"중구","을지로1가"]
[{"$f":"LEFT($B$93,10)&TEXT($D$93,\"0\")&TEXT($E$93,\"0000\")&TEXT($F$93,\"0000\")","v":"4480025021100300002"},4480025021,null,1,30,2,"30-2","대",279,null,null,null,"홍성군","국",null,null,null,null,null,null,null,null,null,null,1114010500,"중구","을지로2가"]
[{"$f":"LEFT($B$94,10)&TEXT($D$94,\"0\")&TEXT($E$94,\"0000\")&TEXT($F$94,\"0000\")","v":"4480025021100310000"},4480025021,null,1,31,0,31,"대",149,null,null,null,"홍성군","국",null,null,null,null,null,null,null,null,null,null,1114010600,"중구","남대문로1가"]
[{"$f":"LEFT($B$95,10)&TEXT($D$95,\"0\")&TEXT($E$95,\"0000\")&TEXT($F$95,\"0000\")","v":"4480025021100310002"},4480025021,null,1,31,2,"31-2","도",433,null,null,null,"홍성군","국",null,null,null,null,null,null,null,null,null,null,1114010700,"중구","삼각동"]
[{"$f":"LEFT($B$96,10)&TEXT($D$96,\"0\")&TEXT($E$96,\"0000\")&TEXT($F$96,\"0000\")","v":"4480025021100310003"},4480025021,null,1,31,3,"31-3","도",18,null,null,null,"홍성군","국",null,null,null,null,null,null,null,null,null,null,1114010800,"중구","수하동"]
[{"$f":"LEFT($B$97,10)&TEXT($D$97,\"0\")&TEXT($E$97,\"0000\")&TEXT($F$97,\"0000\")","v":"4480025021100330001"},4480025021,null,1,33,1,"33-1","대",281,null,null,null,"서울시마포구공덕동122-57202호","한재범",null,null,null,null,null,null,null,null,null,null,1114010900,"중구","장교동"]
[{"$f":"LEFT($B$98,10)&TEXT($D$98,\"0\")&TEXT($E$98,\"0000\")&TEXT($F$98,\"0000\")","v":"4480025021100330002"},4480025021,null,1,33,2,"33-2","대",836,null,null,null,"서울특별시서초구동산로8길63-9202호(양재동)","김태완",null,null,null,null,null,null,null,null,null,null,1114011000,"중구","수표동"]
[{"$f":"LEFT($B$99,10)&TEXT($D$99,\"0\")&TEXT($E$99,\"0000\")&TEXT($F$99,\"0000\")","v":"4480025021100330003"},4480025021,null,1,33,3,"33-3","대",400,null,null,null,"홍성군","국",null,null,null,null,null,null,null,null,null,null,1114011100,"중구","소공동"]
[{"$f":"LEFT($B$100,10)&TEXT($D$100,\"0\")&TEXT($E$100,\"0000\")&TEXT($F$100,\"0000\")","v":"4480025021100330004"},4480025021,null,1,33,4,"33-4","대",172,null,null,null,"오관리33","박광신",null,null,null,null,null,null,null,null,null,null,1114011200,"중구","남창동"]
[{"$f":"LEFT($B$101,10)&TEXT($D$101,\"0\")&TEXT($E$101,\"0000\")&TEXT($F$101,\"0000\")","v":"4480025021100330006"},4480025021,null,1,33,6,"33-6","도",33,null,null,null,"국(건설부)","국",null,null,null,null,null,null,null,null,null,null,1114011300,"중구","북창동"]
[{"$f":"LEFT($B$102,10)&TEXT($D$102,\"0\")&TEXT($E$102,\"0000\")&TEXT($F$102,\"0000\")","v":"4480025021100330007"},4480025021,null,1,33,7,"33-7","대",19,null,null,null,"홍성군","국",null,null,null,null,null,null,null,null,null,null,1114011400,"중구","태평로2가"]
[{"$f":"LEFT($B$103,10)&TEXT($D$103,\"0\")&TEXT($E$103,\"0000\")&TEXT($F$103,\"0000\")","v":"4480025021100340002"},4480025021,null,1,34,2,"34-2","대",241,null,null,null,"홍성군","국",null,null,null,null,null,null,null,null,null,null,1114011500,"중구","남대문로2가"]
[{"$f":"LEFT($B$104,10)&TEXT($D$104,\"0\")&TEXT($E$104,\"0000\")&TEXT($F$104,\"0000\")","v":"4480025021100340003"},4480025021,null,1,34,3,"34-3","대",50,null,null,null,"홍성군","국",null,null,null,null,null,null,null,null,null,null,1114011600,"중구","남대문로3가"]
[{"$f":"LEFT($B$105,10)&TEXT($D$105,\"0\")&TEXT($E$105,\"0000\")&TEXT($F$105,\"0000\")","v":"4480025021100340005"},4480025021,null,1,34,5,"34-5","대",40,null,null,null,"홍성군","국",null,null,null,null,null,null,null,null,null,null,1114011700,"중구","남대문로4가"]
[{"$f":"LEFT($B$106,10)&TEXT($D$106,\"0\")&TEXT($E$106,\"0000\")&TEXT($F$106,\"0000\")","v":"4480025021100350002"},4480025021,null,1,35,2,"35-2","대",139,null,null,null,"대전광역시서구가장동55삼성래미안아파트112-1903","주진광",null,null,null,null,null,null,null,null,null,null,1114011800,"중구","남대문로5가"]
[{"$f":"LEFT($B$107,10)&TEXT($D$107,\"0\")&TEXT($E$107,\"0000\")&TEXT($F$107,\"0000\")","v":"4480025021100360000"},4480025021,null,1,36,0,36,"대",274,null,null,null,"오관리36","김흥석",null,null,null,null,null,null,null,null,null,null,1114011900,"중구","봉래동1가"]
[{"$f":"LEFT($B$108,10)&TEXT($D$108,\"0\")&TEXT($E$108,\"0000\")&TEXT($F$108,\"0000\")","v":"4480025021100400000"},4480025021,null,1,40,0,40,"대",128,null,null,null,"홍성군","국",null,null,null,null,null,null,null,null,null,null,1114012000,"중구","봉래동2가"]
[{"$f":"LEFT($B$109,10)&TEXT($D$109,\"0\")&TEXT($E$109,\"0000\")&TEXT($F$109,\"0000\")","v":"4480025021100410002"},4480025021,null,1,41,2,"41-2","대",21,null,null,null,"홍성군","국",null,null,null,null,null,null,null,null,null,null,1114012100,"중구","회현동1가"]
[{"$f":"LEFT($B$110,10)&TEXT($D$110,\"0\")&TEXT($E$110,\"0000\")&TEXT($F$110,\"0000\")","v":"4480025021100420002"},4480025021,null,1,42,2,"42-2","대",59,null,null,null,"42-2","복기표",null,null,null,null,null,null,null,null,null,null,1114012200,"중구","회현동2가"]
[{"$f":"LEFT($B$111,10)&TEXT($D$111,\"0\")&TEXT($E$111,\"0000\")&TEXT($F$111,\"0000\")","v":"4480025021100420003"},4480025021,null,1,42,3,"42-3","대",31,null,null,null,"홍성군","국",null,null,null,null,null,null,null,null,null,null,1114012300,"중구","회현동3가"]
[{"$f":"LEFT($B$112,10)&TEXT($D$112,\"0\")&TEXT($E$112,\"0000\")&TEXT($F$112,\"0000\")","v":"4480025021100420005"},4480025021,null,1,42,5,"42-5","도",530,null,null,null,"홍성군","국",null,null,null,null,null,null,null,null,null,null,1114012400,"중구","충무로1가"]
[{"$f":"LEFT($B$113,10)&TEXT($D$113,\"0\")&TEXT($E$113,\"0000\")&TEXT($F$113,\"0000\")","v":"4480025021100430000"},4480025021,null,1,43,0,43,"대",403,null,null,null,"충청남도홍성군홍성읍조양로103번길13","강순옥",null,null,null,null,null,null,null,null,null,null,1114012500,"중구","충무로2가"]
[{"$f":"LEFT($B$114,10)&TEXT($D$114,\"0\")&TEXT($E$114,\"0000\")&TEXT($F$114,\"0000\")","v":"4480025021100430001"},4480025021,null,1,43,1,"43-1","대",1,null,null,null,"충청남도홍성군홍성읍조양로103번길13","강순옥",null,null,null,null,null,null,null,null,null,null,1114012600,"중구","명동1가"]
[{"$f":"LEFT($B$115,10)&TEXT($D$115,\"0\")&TEXT($E$115,\"0000\")&TEXT($F$115,\"0000\")","v":"4480025021100440001"},4480025021,null,1,44,1,"44-1","도",50,null,null,null,"국(기획재정부)","국",null,null,null,null,null,null,null,null,null,null,1114012700,"중구","명동2가"]
[{"$f":"LEFT($B$116,10)&TEXT($D$116,\"0\")&TEXT($E$116,\"0000\")&TEXT($F$116,\"0000\")","v":"4480025021100450003"},4480025021,null,1,45,3,"45-3","대",11,null,null,null,"홍성군","국",null,null,null,null,null,null,null,null,null,null,1114012800,"중구","남산동1가"]
[{"$f":"LEFT($B$117,10)&TEXT($D$117,\"0\")&TEXT($E$117,\"0000\")&TEXT($F$117,\"0000\")","v":"4480025021100450008"},4480025021,null,1,45,8,"45-8","도",158,null,null,null,"홍성군","국",null,null,null,null,null,null,null,null,null,null,1114012900,"중구","남산동2가"]
[{"$f":"LEFT($B$118,10)&TEXT($D$118,\"0\")&TEXT($E$118,\"0000\")&TEXT($F$118,\"0000\")","v":"4480025021100460000"},4480025021,null,1,46,0,46,"대",1073,null,null,null,"165-3","조수형",null,null,null,null,null,null,null,null,null,null,1114013000,"중구","남산동3가"]
[{"$f":"LEFT($B$119,10)&TEXT($D$119,\"0\")&TEXT($E$119,\"0000\")&TEXT($F$119,\"0000\")","v":"4480025021100460001"},4480025021,null,1,46,1,"46-1","도",302,null,null,null,"홍성군","국",null,null,null,null,null,null,null,null,null,null,1114013100,"중구","저동1가"]
[{"$f":"LEFT($B$120,10)&TEXT($D$120,\"0\")&TEXT($E$120,\"0000\")&TEXT($F$120,\"0000\")","v":"4480025021100460003"},4480025021,null,1,46,3,"46-3","대",59,null,null,null,"165-3","조수형",null,null,null,null,null,null,null,null,null,null,1114013200,"중구","충무로4가"]
[{"$f":"LEFT($B$121,10)&TEXT($D$121,\"0\")&TEXT($E$121,\"0000\")&TEXT($F$121,\"0000\")","v":"4480025021100470001"},4480025021,null,1,47,1,"47-1","대",105,null,null,null,"47-1","조기형",null,null,null,null,null,null,null,null,null,null,1114013300,"중구","충무로5가"]
[{"$f":"LEFT($B$122,10)&TEXT($D$122,\"0\")&TEXT($E$122,\"0000\")&TEXT($F$122,\"0000\")","v":"4480025021100480003"},4480025021,null,1,48,3,"48-3","대",221,null,null,null,"48-3","장태선",null,null,null,null,null,null,null,null,null,null,1114013400,"중구","인현동2가"]
[{"$f":"LEFT($B$123,10)&TEXT($D$123,\"0\")&TEXT($E$123,\"0000\")&TEXT($F$123,\"0000\")","v":"4480025021100490000"},4480025021,null,1,49,0,49,"대",136,null,null,null,49,"김순석",null,null,null,null,null,null,null,null,null,null,1114013500,"중구","예관동"]
[{"$f":"LEFT($B$124,10)&TEXT($D$124,\"0\")&TEXT($E$124,\"0000\")&TEXT($F$124,\"0000\")","v":"4480025021100510002"},4480025021,null,1,51,2,"51-2","대",33,null,null,null,"홍성군","국",null,null,null,null,null,null,null,null,null,null,1114013600,"중구","묵정동"]
[{"$f":"LEFT($B$125,10)&TEXT($D$125,\"0\")&TEXT($E$125,\"0000\")&TEXT($F$125,\"0000\")","v":"4480025021100510003"},4480025021,null,1,51,3,"51-3","대",12,null,null,null,"홍성군","국",null,null,null,null,null,null,null,null,null,null,1114013700,"중구","필동1가"]
[{"$f":"LEFT($B$126,10)&TEXT($D$126,\"0\")&TEXT($E$126,\"0000\")&TEXT($F$126,\"0000\")","v":"4480025021100510005"},4480025021,null,1,51,5,"51-5","도",512,null,null,null,"홍성군","국",null,null,null,null,null,null,null,null,null,null,1114013800,"중구","필동2가"]
[{"$f":"LEFT($B$127,10)&TEXT($D$127,\"0\")&TEXT($E$127,\"0000\")&TEXT($F$127,\"0000\")","v":"4480025021100530001"},4480025021,null,1,53,1,"53-1","대",124,null,null,null,"충청남도홍성군홍성읍오관리50","김종웅",null,null,null,null,null,null,null,null,null,null,1114013900,"중구","필동3가"]
[{"$f":"LEFT($B$128,10)&TEXT($D$128,\"0\")&TEXT($E$128,\"0000\")&TEXT($F$128,\"0000\")","v":"4480025021100530005"},4480025021,null,1,53,5,"53-5","대",17,null,null,null,"충청남도홍성군홍성읍충서로1159번길26-1","박옥숙",null,null,null,null,null,null,null,null,null,null,1114014000,"중구","남학동"]
[{"$f":"LEFT($B$129,10)&TEXT($D$129,\"0\")&TEXT($E$129,\"0000\")&TEXT($F$129,\"0000\")","v":"4480025021100540008"},4480025021,null,1,54,8,"54-8","대",99,null,null,null,"충청남도(교육감)","국",null,null,null,null,null,null,null,null,null,null,1114014100,"중구","주자동"]
[{"$f":"LEFT($B$130,10)&TEXT($D$130,\"0\")&TEXT($E$130,\"0000\")&TEXT($F$130,\"0000\")","v":"4480025021100560000"},4480025021,null,1,56,0,56,"학",1706,null,null,null,"충청남도(교육감)","국",null,null,null,null,null,null,null,null,null,null,1114014200,"중구","예장동"]
[{"$f":"LEFT($B$131,10)&TEXT($D$131,\"0\")&TEXT($E$131,\"0000\")&TEXT($F$131,\"0000\")","v":"4480025021100800009"},4480025021,null,1,80,9,"80-9","대",4,null,null,null,45,"홍규진",null,null,null,null,null,null,null,null,null,null,1114014300,"중구","장충동1가"]
[{"$f":"LEFT($B$132,10)&TEXT($D$132,\"0\")&TEXT($E$132,\"0000\")&TEXT($F$132,\"0000\")","v":"4480025021100800010"},4480025021,null,1,80,10,"80-10","도",22,null,null,null,"홍성군","국",null,null,null,null,null,null,null,null,null,null,1114014400,"중구","장충동2가"]
[{"$f":"LEFT($B$133,10)&TEXT($D$133,\"0\")&TEXT($E$133,\"0000\")&TEXT($F$133,\"0000\")","v":"4480025021100820000"},4480025021,null,1,82,0,82,"대",166,null,null,null,"충청남도홍성군홍북면홍학로88112동1003호(한울마을모아엘가아파트)","이영화",null,null,null,null,null,null,null,null,null,null,1114014500,"중구","광희동1가"]
[{"$f":"LEFT($B$134,10)&TEXT($D$134,\"0\")&TEXT($E$134,\"0000\")&TEXT($F$134,\"0000\")","v":"4480025021100830000"},4480025021,null,1,83,0,83,"대",165,null,null,null,"광천읍광천리205","오명석",null,null,null,null,null,null,null,null,null,null,1114014600,"중구","광희동2가"]
[{"$f":"LEFT($B$135,10)&TEXT($D$135,\"0\")&TEXT($E$135,\"0000\")&TEXT($F$135,\"0000\")","v":"4480025021100840002"},4480025021,null,1,84,2,"84-2","대",311,null,null,null,"충청남도홍성군홍성읍조양로106","김상호",null,null,null,null,null,null,null,null,null,null,1114014700,"중구","쌍림동"]
[{"$f":"LEFT($B$136,10)&TEXT($D$136,\"0\")&TEXT($E$136,\"0000\")&TEXT($F$136,\"0000\")","v":"4480025021100850001"},4480025021,null,1,85,1,"85-1","대",50,null,null,null,"국(기획재정부)","국",null,null,null,null,null,null,null,null,null,null,1114014800,"중구","을지로6가"]
[{"$f":"LEFT($B$137,10)&TEXT($D$137,\"0\")&TEXT($E$137,\"0000\")&TEXT($F$137,\"0000\")","v":"4480025021100850002"},4480025021,null,1,85,2,"85-2","대",195,null,null,null,"충청남도홍성군홍성읍오관리85-2","주정예",null,null,null,null,null,null,null,null,null,null,1114014900,"중구","을지로7가"]
[{"$f":"LEFT($B$138,10)&TEXT($D$138,\"0\")&TEXT($E$138,\"0000\")&TEXT($F$138,\"0000\")","v":"4480025021100860000"},4480025021,null,1,86,0,86,"대",3590,null,null,null,"홍성군","국",null,null,null,null,null,null,null,null,null,null,1114015000,"중구","을지로4가"]
[{"$f":"LEFT($B$139,10)&TEXT($D$139,\"0\")&TEXT($E$139,\"0000\")&TEXT($F$139,\"0000\")","v":"4480025021100880001"},4480025021,null,1,88,1,"88-1","대",102,null,null,null,"88-2","전란영",null,null,null,null,null,null,null,null,null,null,1114015100,"중구","을지로5가"]
[{"$f":"LEFT($B$140,10)&TEXT($D$140,\"0\")&TEXT($E$140,\"0000\")&TEXT($F$140,\"0000\")","v":"4480025021100880002"},4480025021,null,1,88,2,"88-2","대",311,null,null,null,"88-2","전란영",null,null,null,null,null,null,null,null,null,null,1114015200,"중구","주교동"]
[{"$f":"LEFT($B$141,10)&TEXT($D$141,\"0\")&TEXT($E$141,\"0000\")&TEXT($F$141,\"0000\")","v":"4480025021100890001"},4480025021,null,1,89,1,"89-1","대",13,null,null,null,"국(기획재정부)","국",null,null,null,null,null,null,null,null,null,null,1114015300,"중구","방산동"]
[{"$f":"LEFT($B$142,10)&TEXT($D$142,\"0\")&TEXT($E$142,\"0000\")&TEXT($F$142,\"0000\")","v":"4480025021100890002"},4480025021,null,1,89,2,"89-2","대",40,null,null,null,"국(기획재정부)","국",null,null,null,null,null,null,null,null,null,null,1114015400,"중구","오장동"]
[{"$f":"LEFT($B$143,10)&TEXT($D$143,\"0\")&TEXT($E$143,\"0000\")&TEXT($F$143,\"0000\")","v":"4480025021100890004"},4480025021,null,1,89,4,"89-4","대",10,null,null,null,"홍성군","국",null,null,null,null,null,null,null,null,null,null,1114015500,"중구","을지로3가"]
[{"$f":"LEFT($B$144,10)&TEXT($D$144,\"0\")&TEXT($E$144,\"0000\")&TEXT($F$144,\"0000\")","v":"4480025021100890005"},4480025021,null,1,89,5,"89-5","대",365,null,null,null,"충청남도예산군덕산면홍덕서로380-24","인영희",null,null,null,null,null,null,null,null,null,null,1114015600,"중구","입정동"]
[{"$f":"LEFT($B$145,10)&TEXT($D$145,\"0\")&TEXT($E$145,\"0000\")&TEXT($F$145,\"0000\")","v":"4480025021100900002"},4480025021,null,1,90,2,"90-2","대",754,null,null,null,"홍성군","국",null,null,null,null,null,null,null,null,null,null,1114015700,"중구","산림동"]
[{"$f":"LEFT($B$146,10)&TEXT($D$146,\"0\")&TEXT($E$146,\"0000\")&TEXT($F$146,\"0000\")","v":"4480025021100900003"},4480025021,null,1,90,3,"90-3","대",13,null,null,null,"89-3","최원상",null,null,null,null,null,null,null,null,null,null,1114015800,"중구","충무로3가"]
[{"$f":"LEFT($B$147,10)&TEXT($D$147,\"0\")&TEXT($E$147,\"0000\")&TEXT($F$147,\"0000\")","v":"4480025021100900005"},4480025021,null,1,90,5,"90-5","대",63,null,null,null,"국(기획재정부)","국",null,null,null,null,null,null,null,null,null,null,1114015900,"중구","초동"]
[{"$f":"LEFT($B$148,10)&TEXT($D$148,\"0\")&TEXT($E$148,\"0000\")&TEXT($F$148,\"0000\")","v":"4480025021100900006"},4480025021,null,1,90,6,"90-6","대",281,null,null,null,"홍성군","국",null,null,null,null,null,null,null,null,null,null,1114016000,"중구","인현동1가"]
[{"$f":"LEFT($B$149,10)&TEXT($D$149,\"0\")&TEXT($E$149,\"0000\")&TEXT($F$149,\"0000\")","v":"4480025021100920000"},4480025021,null,1,92,0,92,"전",179,null,null,null,"80-5","대한예수교장로회홍성중앙교회(합동측)",null,null,null,null,null,null,null,null,null,null,1114016100,"중구","저동2가"]
[{"$f":"LEFT($B$150,10)&TEXT($D$150,\"0\")&TEXT($E$150,\"0000\")&TEXT($F$150,\"0000\")","v":"4480025021100930001"},4480025021,null,1,93,1,"93-1","대",1143,null,null,null,"홍성군","국",null,null,null,null,null,null,null,null,null,null,1114016200,"중구","신당동"]
[{"$f":"LEFT($B$151,10)&TEXT($D$151,\"0\")&TEXT($E$151,\"0000\")&TEXT($F$151,\"0000\")","v":"4480025021100960000"},4480025021,null,1,96,0,96,"학",575,null,null,null,"충청남도(교육감)","국",null,null,null,null,null,null,null,null,null,null,1114016300,"중구","흥인동"]
[{"$f":"LEFT($B$152,10)&TEXT($D$152,\"0\")&TEXT($E$152,\"0000\")&TEXT($F$152,\"0000\")","v":"4480025021100980000"},4480025021,null,1,98,0,98,"대",15301,null,null,null,"홍성군","국",null,null,null,null,null,null,null,null,null,null,1114016400,"중구","무학동"]
[{"$f":"LEFT($B$153,10)&TEXT($D$153,\"0\")&TEXT($E$153,\"0000\")&TEXT($F$153,\"0000\")","v":"4480025021101040002"},4480025021,null,1,104,2,"104-2","대",519,null,null,null,"홍성군","국",null,null,null,null,null,null,null,null,null,null,1114016500,"중구","황학동"]
[{"$f":"LEFT($B$154,10)&TEXT($D$154,\"0\")&TEXT($E$154,\"0000\")&TEXT($F$154,\"0000\")","v":"4480025021101040003"},4480025021,null,1,104,3,"104-3","대",436,null,null,null,"홍성군","국",null,null,null,null,null,null,null,null,null,null,1114016600,"중구","서소문동"]
[{"$f":"LEFT($B$155,10)&TEXT($D$155,\"0\")&TEXT($E$155,\"0000\")&TEXT($F$155,\"0000\")","v":"4480025021101040006"},4480025021,null,1,104,6,"104-6","대",142,null,null,null,"홍성군","국",null,null,null,null,null,null,null,null,null,null,1114016700,"중구","정동"]
[{"$f":"LEFT($B$156,10)&TEXT($D$156,\"0\")&TEXT($E$156,\"0000\")&TEXT($F$156,\"0000\")","v":"4480025021101040007"},4480025021,null,1,104,7,"104-7","대",291,null,null,null,"홍성군","국",null,null,null,null,null,null,null,null,null,null,1114016800,"중구","순화동"]
[{"$f":"LEFT($B$157,10)&TEXT($D$157,\"0\")&TEXT($E$157,\"0000\")&TEXT($F$157,\"0000\")","v":"4480025021101040008"},4480025021,null,1,104,8,"104-8","대",165,null,null,null,"홍성군","국",null,null,null,null,null,null,null,null,null,null,1114016900,"중구","의주로1가"]
[{"$f":"LEFT($B$158,10)&TEXT($D$158,\"0\")&TEXT($E$158,\"0000\")&TEXT($F$158,\"0000\")","v":"4480025021101040011"},4480025021,null,1,104,11,"104-11","대",205,null,null,null,"홍성군","국",null,null,null,null,null,null,null,null,null,null,1114017000,"중구","충정로1가"]
[{"$f":"LEFT($B$159,10)&TEXT($D$159,\"0\")&TEXT($E$159,\"0000\")&TEXT($F$159,\"0000\")","v":"4480025021101050002"},4480025021,null,1,105,2,"105-2","대",4480,null,null,null,"국(문화재청)","국",null,null,null,null,null,null,null,null,null,null,1114017100,"중구","중림동"]
[{"$f":"LEFT($B$160,10)&TEXT($D$160,\"0\")&TEXT($E$160,\"0000\")&TEXT($F$160,\"0000\")","v":"4480025021101050011"},4480025021,null,1,105,11,"105-11","대",455,null,null,null,"국(문화재청)","국",null,null,null,null,null,null,null,null,null,null,1114017200,"중구","의주로2가"]
[{"$f":"LEFT($B$161,10)&TEXT($D$161,\"0\")&TEXT($E$161,\"0000\")&TEXT($F$161,\"0000\")","v":"4480025021101050012"},4480025021,null,1,105,12,"105-12","전",179,null,null,null,"홍성군","국",null,null,null,null,null,null,null,null,null,null,1114017300,"중구","만리동1가"]
[{"$f":"LEFT($B$162,10)&TEXT($D$162,\"0\")&TEXT($E$162,\"0000\")&TEXT($F$162,\"0000\")","v":"4480025021101060002"},4480025021,null,1,106,2,"106-2","도",2,null,null,null,"국(건설부)","국",null,null,null,null,null,null,null,null,null,null,1114017400,"중구","만리동2가"]
[{"$f":"LEFT($B$163,10)&TEXT($D$163,\"0\")&TEXT($E$163,\"0000\")&TEXT($F$163,\"0000\")","v":"4480025021101070008"},4480025021,null,1,107,8,"107-8","대",26,null,null,null,"홍성군","국",null,null,null,null,null,null,null,null,null,null,1117010100,"용산구","후암동"]
[{"$f":"LEFT($B$164,10)&TEXT($D$164,\"0\")&TEXT($E$164,\"0000\")&TEXT($F$164,\"0000\")","v":"4480025021101070010"},4480025021,null,1,107,10,"107-10","대",169,null,null,null,"홍성군","국",null,null,null,null,null,null,null,null,null,null,1117010200,"용산구","용산동2가"]
[{"$f":"LEFT($B$165,10)&TEXT($D$165,\"0\")&TEXT($E$165,\"0000\")&TEXT($F$165,\"0000\")","v":"4480025021101080000"},4480025021,null,1,108,0,108,"대",9505,null,null,null,"국(문화재청)","국",null,null,null,null,null,null,null,null,null,null,1117010300,"용산구","용산동4가"]
[{"$f":"LEFT($B$166,10)&TEXT($D$166,\"0\")&TEXT($E$166,\"0000\")&TEXT($F$166,\"0000\")","v":"4480025021101090001"},4480025021,null,1,109,1,"109-1","대",142,null,null,null,"홍성군","국",null,null,null,null,null,null,null,null,null,null,1117010400,"용산구","갈월동"]
[{"$f":"LEFT($B$167,10)&TEXT($D$167,\"0\")&TEXT($E$167,\"0000\")&TEXT($F$167,\"0000\")","v":"4480025021101090004"},4480025021,null,1,109,4,"109-4","대",13,null,null,null,"홍성군","국",null,null,null,null,null,null,null,null,null,null,1117010500,"용산구","남영동"]
[{"$f":"LEFT($B$168,10)&TEXT($D$168,\"0\")&TEXT($E$168,\"0000\")&TEXT($F$168,\"0000\")","v":"4480025021101090006"},4480025021,null,1,109,6,"109-6","대",10,null,null,null,"홍성군","국",null,null,null,null,null,null,null,null,null,null,1117010600,"용산구","용산동1가"]
[{"$f":"LEFT($B$169,10)&TEXT($D$169,\"0\")&TEXT($E$169,\"0000\")&TEXT($F$169,\"0000\")","v":"4480025021101090007"},4480025021,null,1,109,7,"109-7","대",79,null,null,null,"홍성군","국",null,null,null,null,null,null,null,null,null,null,1117010700,"용산구","동자동"]
[{"$f":"LEFT($B$170,10)&TEXT($D$170,\"0\")&TEXT($E$170,\"0000\")&TEXT($F$170,\"0000\")","v":"4480025021101090009"},4480025021,null,1,109,9,"109-9","대",60,null,null,null,"홍성군","국",null,null,null,null,null,null,null,null,null,null,1117010800,"용산구","서계동"]
[{"$f":"LEFT($B$171,10)&TEXT($D$171,\"0\")&TEXT($E$171,\"0000\")&TEXT($F$171,\"0000\")","v":"4480025021101090010"},4480025021,null,1,109,10,"109-10","대",17,null,null,null,"홍성군","국",null,null,null,null,null,null,null,null,null,null,1117010900,"용산구","청파동1가"]
[{"$f":"LEFT($B$172,10)&TEXT($D$172,\"0\")&TEXT($E$172,\"0000\")&TEXT($F$172,\"0000\")","v":"4480025021101100002"},4480025021,null,1,110,2,"110-2","도",410,null,null,null,"국(건설부)","국",null,null,null,null,null,null,null,null,null,null,1117011000,"용산구","청파동2가"]
[{"$f":"LEFT($B$173,10)&TEXT($D$173,\"0\")&TEXT($E$173,\"0000\")&TEXT($F$173,\"0000\")","v":"4480025021101100004"},4480025021,null,1,110,4,"110-4","도",40,null,null,null,"홍성군","국",null,null,null,null,null,null,null,null,null,null,1117011100,"용산구","청파동3가"]
[{"$f":"LEFT($B$174,10)&TEXT($D$174,\"0\")&TEXT($E$174,\"0000\")&TEXT($F$174,\"0000\")","v":"4480025021101100007"},4480025021,null,1,110,7,"110-7","도",159,null,null,null,"장곡면행정리110","하병수",null,null,null,null,null,null,null,null,null,null,1117011200,"용산구","원효로1가"]
[{"$f":"LEFT($B$175,10)&TEXT($D$175,\"0\")&TEXT($E$175,\"0000\")&TEXT($F$175,\"0000\")","v":"4480025021101100008"},4480025021,null,1,110,8,"110-8","대",76,null,null,null,"홍성군","국",null,null,null,null,null,null,null,null,null,null,1117011300,"용산구","원효로2가"]
[{"$f":"LEFT($B$176,10)&TEXT($D$176,\"0\")&TEXT($E$176,\"0000\")&TEXT($F$176,\"0000\")","v":"4480025021101100011"},4480025021,null,1,110,11,"110-11","대",102,null,null,null,"340-1","박승헌",null,null,null,null,null,null,null,null,null,null,1117011400,"용산구","신창동"]
[{"$f":"LEFT($B$177,10)&TEXT($D$177,\"0\")&TEXT($E$177,\"0000\")&TEXT($F$177,\"0000\")","v":"4480025021101100017"},4480025021,null,1,110,17,"110-17","대",360,null,null,null,"홍성군","국",null,null,null,null,null,null,null,null,null,null,1117011500,"용산구","산천동"]
[{"$f":"LEFT($B$178,10)&TEXT($D$178,\"0\")&TEXT($E$178,\"0000\")&TEXT($F$178,\"0000\")","v":"4480025021101100019"},4480025021,null,1,110,19,"110-19","도",17,null,null,null,"홍성군","국",null,null,null,null,null,null,null,null,null,null,1117011600,"용산구","청암동"]
[{"$f":"LEFT($B$179,10)&TEXT($D$179,\"0\")&TEXT($E$179,\"0000\")&TEXT($F$179,\"0000\")","v":"4480025021101100023"},4480025021,null,1,110,23,"110-23","대",17,null,null,null,"홍성군","국",null,null,null,null,null,null,null,null,null,null,1117011700,"용산구","원효로3가"]
[{"$f":"LEFT($B$180,10)&TEXT($D$180,\"0\")&TEXT($E$180,\"0000\")&TEXT($F$180,\"0000\")","v":"4480025021101100025"},4480025021,null,1,110,25,"110-25","대",160,null,null,null,"오관리113","강경문",null,null,null,null,null,null,null,null,null,null,1117011800,"용산구","원효로4가"]
[{"$f":"LEFT($B$181,10)&TEXT($D$181,\"0\")&TEXT($E$181,\"0000\")&TEXT($F$181,\"0000\")","v":"4480025021101100031"},4480025021,null,1,110,31,"110-31","대",40,null,null,null,"홍성군","국",null,null,null,null,null,null,null,null,null,null,1117011900,"용산구","효창동"]
[{"$f":"LEFT($B$182,10)&TEXT($D$182,\"0\")&TEXT($E$182,\"0000\")&TEXT($F$182,\"0000\")","v":"4480025021101100033"},4480025021,null,1,110,33,"110-33","대",10,null,null,null,"충청남도천안시쌍용동1273상록수현대아파트402-105","권영수",null,null,null,null,null,null,null,null,null,null,1117012000,"용산구","도원동"]
[{"$f":"LEFT($B$183,10)&TEXT($D$183,\"0\")&TEXT($E$183,\"0000\")&TEXT($F$183,\"0000\")","v":"4480025021101100036"},4480025021,null,1,110,36,"110-36","대",83,null,null,null,"충청남도천안시쌍용동1273상록수현대아파트402-105","권영수",null,null,null,null,null,null,null,null,null,null,1117012100,"용산구","용문동"]
[{"$f":"LEFT($B$184,10)&TEXT($D$184,\"0\")&TEXT($E$184,\"0000\")&TEXT($F$184,\"0000\")","v":"4480025021101100039"},4480025021,null,1,110,39,"110-39","도",484,null,null,null,"홍성군","국",null,null,null,null,null,null,null,null,null,null,1117012200,"용산구","문배동"]
[{"$f":"LEFT($B$185,10)&TEXT($D$185,\"0\")&TEXT($E$185,\"0000\")&TEXT($F$185,\"0000\")","v":"4480025021101110001"},4480025021,null,1,111,1,"111-1","대",503,null,null,null,"홍성군","국",null,null,null,null,null,null,null,null,null,null,1117012300,"용산구","신계동"]
[{"$f":"LEFT($B$186,10)&TEXT($D$186,\"0\")&TEXT($E$186,\"0000\")&TEXT($F$186,\"0000\")","v":"4480025021101110002"},4480025021,null,1,111,2,"111-2","도",159,null,null,null,"국(기획재정부)","국",null,null,null,null,null,null,null,null,null,null,1117012400,"용산구","한강로1가"]
[{"$f":"LEFT($B$187,10)&TEXT($D$187,\"0\")&TEXT($E$187,\"0000\")&TEXT($F$187,\"0000\")","v":"4480025021101110004"},4480025021,null,1,111,4,"111-4","도",50,null,null,null,"홍성군","국",null,null,null,null,null,null,null,null,null,null,1117012500,"용산구","한강로2가"]
[{"$f":"LEFT($B$188,10)&TEXT($D$188,\"0\")&TEXT($E$188,\"0000\")&TEXT($F$188,\"0000\")","v":"4480025021101110006"},4480025021,null,1,111,6,"111-6","대",60,null,null,null,"홍성군","국",null,null,null,null,null,null,null,null,null,null,1117012600,"용산구","용산동3가"]
[{"$f":"LEFT($B$189,10)&TEXT($D$189,\"0\")&TEXT($E$189,\"0000\")&TEXT($F$189,\"0000\")","v":"4480025021101110007"},4480025021,null,1,111,7,"111-7","도",76,null,null,null,"홍성군","국",null,null,null,null,null,null,null,null,null,null,1117012700,"용산구","용산동5가"]
[{"$f":"LEFT($B$190,10)&TEXT($D$190,\"0\")&TEXT($E$190,\"0000\")&TEXT($F$190,\"0000\")","v":"4480025021101110008"},4480025021,null,1,111,8,"111-8","대",873,null,null,null,"홍성군","국",null,null,null,null,null,null,null,null,null,null,1117012800,"용산구","한강로3가"]
[{"$f":"LEFT($B$191,10)&TEXT($D$191,\"0\")&TEXT($E$191,\"0000\")&TEXT($F$191,\"0000\")","v":"4480025021101110011"},4480025021,null,1,111,11,"111-11","도",20,null,null,null,"홍성군","국",null,null,null,null,null,null,null,null,null,null,1117012900,"용산구","이촌동"]
[{"$f":"LEFT($B$192,10)&TEXT($D$192,\"0\")&TEXT($E$192,\"0000\")&TEXT($F$192,\"0000\")","v":"4480025021101120000"},4480025021,null,1,112,0,112,"잡",952,null,null,null,"국(문화재청)","국",null,null,null,null,null,null,null,null,null,null,1117013000,"용산구","이태원동"]
[{"$f":"LEFT($B$193,10)&TEXT($D$193,\"0\")&TEXT($E$193,\"0000\")&TEXT($F$193,\"0000\")","v":"4480025021101130002"},4480025021,null,1,113,2,"113-2","도",542,null,null,null,"홍성군","국",null,null,null,null,null,null,null,null,null,null,1117013100,"용산구","한남동"]
[{"$f":"LEFT($B$194,10)&TEXT($D$194,\"0\")&TEXT($E$194,\"0000\")&TEXT($F$194,\"0000\")","v":"4480025021101130003"},4480025021,null,1,113,3,"113-3","대",142,null,null,null,"대교리286","박범동",null,null,null,null,null,null,null,null,null,null,1117013200,"용산구","동빙고동"]
[{"$f":"LEFT($B$195,10)&TEXT($D$195,\"0\")&TEXT($E$195,\"0000\")&TEXT($F$195,\"0000\")","v":"4480025021101130004"},4480025021,null,1,113,4,"113-4","도",50,null,null,null,"홍성군","국",null,null,null,null,null,null,null,null,null,null,1117013300,"용산구","서빙고동"]
[{"$f":"LEFT($B$196,10)&TEXT($D$196,\"0\")&TEXT($E$196,\"0000\")&TEXT($F$196,\"0000\")","v":"4480025021101130006"},4480025021,null,1,113,6,"113-6","도",347,null,null,null,"홍성군장곡면행정리110","하병수",null,null,null,null,null,null,null,null,null,null,1117013400,"용산구","주성동"]
[{"$f":"LEFT($B$197,10)&TEXT($D$197,\"0\")&TEXT($E$197,\"0000\")&TEXT($F$197,\"0000\")","v":"4480025021101130013"},4480025021,null,1,113,13,"113-13","대",43,null,null,null,"국(문화재청)","국",null,null,null,null,null,null,null,null,null,null,1117013500,"용산구","용산동6가"]
[{"$f":"LEFT($B$198,10)&TEXT($D$198,\"0\")&TEXT($E$198,\"0000\")&TEXT($F$198,\"0000\")","v":"4480025021101130015"},4480025021,null,1,113,15,"113-15","도",552,null,null,null,"홍성군","국",null,null,null,null,null,null,null,null,null,null,1117013600,"용산구","보광동"]
[{"$f":"LEFT($B$199,10)&TEXT($D$199,\"0\")&TEXT($E$199,\"0000\")&TEXT($F$199,\"0000\")","v":"4480025021101130017"},4480025021,null,1,113,17,"113-17","대",278,null,null,null,"홍성군홍성읍오관리387","이상홍",null,null,null,null,null,null,null,null,null,null,1120010100,"성동구","상왕십리동"]
[{"$f":"LEFT($B$200,10)&TEXT($D$200,\"0\")&TEXT($E$200,\"0000\")&TEXT($F$200,\"0000\")","v":"4480025021101130018"},4480025021,null,1,113,18,"113-18","도",440,null,null,null,"홍성군","국",null,null,null,null,null,null,null,null,null,null,1120010200,"성동구","하왕십리동"]
[{"$f":"LEFT($B$201,10)&TEXT($D$201,\"0\")&TEXT($E$201,\"0000\")&TEXT($F$201,\"0000\")","v":"4480025021101130019"},4480025021,null,1,113,19,"113-19","도",40,null,null,null,"홍성군","국",null,null,null,null,null,null,null,null,null,null,1120010300,"성동구","홍익동"]
[{"$f":"LEFT($B$202,10)&TEXT($D$202,\"0\")&TEXT($E$202,\"0000\")&TEXT($F$202,\"0000\")","v":"4480025021101130022"},4480025021,null,1,113,22,"113-22","도",50,null,null,null,"홍성군","국",null,null,null,null,null,null,null,null,null,null,1120010400,"성동구","도선동"]
[{"$f":"LEFT($B$203,10)&TEXT($D$203,\"0\")&TEXT($E$203,\"0000\")&TEXT($F$203,\"0000\")","v":"4480025021101130023"},4480025021,null,1,113,23,"113-23","도",36,null,null,null,"홍성군","국",null,null,null,null,null,null,null,null,null,null,1120010500,"성동구","마장동"]
[{"$f":"LEFT($B$204,10)&TEXT($D$204,\"0\")&TEXT($E$204,\"0000\")&TEXT($F$204,\"0000\")","v":"4480025021101130026"},4480025021,null,1,113,26,"113-26","도",79,null,null,null,"홍성군","국",null,null,null,null,null,null,null,null,null,null,1120010600,"성동구","사근동"]
[{"$f":"LEFT($B$205,10)&TEXT($D$205,\"0\")&TEXT($E$205,\"0000\")&TEXT($F$205,\"0000\")","v":"4480025021101130027"},4480025021,null,1,113,27,"113-27","도",13,null,null,null,"홍성군","국",null,null,null,null,null,null,null,null,null,null,1120010700,"성동구","행당동"]
[{"$f":"LEFT($B$206,10)&TEXT($D$206,\"0\")&TEXT($E$206,\"0000\")&TEXT($F$206,\"0000\")","v":"4480025021101130029"},4480025021,null,1,113,29,"113-29","대",251,null,null,null,"홍성군","국",null,null,null,null,null,null,null,null,null,null,1120010800,"성동구","응봉동"]
[{"$f":"LEFT($B$207,10)&TEXT($D$207,\"0\")&TEXT($E$207,\"0000\")&TEXT($F$207,\"0000\")","v":"4480025021101130030"},4480025021,null,1,113,30,"113-30","대",383,null,null,null,"홍성군","국",null,null,null,null,null,null,null,null,null,null,1120010900,"성동구","금호동1가"]
[{"$f":"LEFT($B$208,10)&TEXT($D$208,\"0\")&TEXT($E$208,\"0000\")&TEXT($F$208,\"0000\")","v":"4480025021101130031"},4480025021,null,1,113,31,"113-31","대",40,null,null,null,"홍성군","국",null,null,null,null,null,null,null,null,null,null,1120011000,"성동구","금호동2가"]
[{"$f":"LEFT($B$209,10)&TEXT($D$209,\"0\")&TEXT($E$209,\"0000\")&TEXT($F$209,\"0000\")","v":"4480025021101130032"},4480025021,null,1,113,32,"113-32","대",20,null,null,null,"홍성군","국",null,null,null,null,null,null,null,null,null,null,1120011100,"성동구","금호동3가"]
[{"$f":"LEFT($B$210,10)&TEXT($D$210,\"0\")&TEXT($E$210,\"0000\")&TEXT($F$210,\"0000\")","v":"4480025021101130034"},4480025021,null,1,113,34,"113-34","도",13,null,null,null,"홍성군","국",null,null,null,null,null,null,null,null,null,null,1120011200,"성동구","금호동4가"]
[{"$f":"LEFT($B$211,10)&TEXT($D$211,\"0\")&TEXT($E$211,\"0000\")&TEXT($F$211,\"0000\")","v":"4480025021101130035"},4480025021,null,1,113,35,"113-35","대",198,null,null,null,"110-3","이해풍",null,null,null,null,null,null,null,null,null,null,1120011300,"성동구","옥수동"]
[{"$f":"LEFT($B$212,10)&TEXT($D$212,\"0\")&TEXT($E$212,\"0000\")&TEXT($F$212,\"0000\")","v":"4480025021101130037"},4480025021,null,1,113,37,"113-37","대",60,null,null,null,"오관리465-1일승주택디이동201호","이건호",null,null,null,null,null,null,null,null,null,null,1120011400,"성동구","성수동1가"]
[{"$f":"LEFT($B$213,10)&TEXT($D$213,\"0\")&TEXT($E$213,\"0000\")&TEXT($F$213,\"0000\")","v":"4480025021101130040"},4480025021,null,1,113,40,"113-40","대",17,null,null,null,"경상북도영천시대창면신광리349","김광국",null,null,null,null,null,null,null,null,null,null,1120011500,"성동구","성수동2가"]
[{"$f":"LEFT($B$214,10)&TEXT($D$214,\"0\")&TEXT($E$214,\"0000\")&TEXT($F$214,\"0000\")","v":"4480025021101130042"},4480025021,null,1,113,42,"113-42","대",63,null,null,null,"남장리95-52미성아파트비동201호","주진주",null,null,null,null,null,null,null,null,null,null,1120011800,"성동구","송정동"]
[{"$f":"LEFT($B$215,10)&TEXT($D$215,\"0\")&TEXT($E$215,\"0000\")&TEXT($F$215,\"0000\")","v":"4480025021101130044"},4480025021,null,1,113,44,"113-44","대",20,null,null,null,"경상북도영천시대창면신광리349","김광국",null,null,null,null,null,null,null,null,null,null,1120012200,"성동구","용답동"]
[{"$f":"LEFT($B$216,10)&TEXT($D$216,\"0\")&TEXT($E$216,\"0000\")&TEXT($F$216,\"0000\")","v":"4480025021101130054"},4480025021,null,1,113,54,"113-54","대",50,null,null,null,"홍성군","국",null,null,null,null,null,null,null,null,null,null,1121510100,"광진구","중곡동"]
[{"$f":"LEFT($B$217,10)&TEXT($D$217,\"0\")&TEXT($E$217,\"0000\")&TEXT($F$217,\"0000\")","v":"4480025021101130056"},4480025021,null,1,113,56,"113-56","대",36,null,null,null,"홍성군","국",null,null,null,null,null,null,null,null,null,null,1121510200,"광진구","능동"]
[{"$f":"LEFT($B$218,10)&TEXT($D$218,\"0\")&TEXT($E$218,\"0000\")&TEXT($F$218,\"0000\")","v":"4480025021101130060"},4480025021,null,1,113,60,"113-60","대",56,null,null,null,"홍성군","국",null,null,null,null,null,null,null,null,null,null,1121510300,"광진구","구의동"]
[{"$f":"LEFT($B$219,10)&TEXT($D$219,\"0\")&TEXT($E$219,\"0000\")&TEXT($F$219,\"0000\")","v":"4480025021101130061"},4480025021,null,1,113,61,"113-61","대",116,null,null,null,"홍성군","국",null,null,null,null,null,null,null,null,null,null,1121510400,"광진구","광장동"]
[{"$f":"LEFT($B$220,10)&TEXT($D$220,\"0\")&TEXT($E$220,\"0000\")&TEXT($F$220,\"0000\")","v":"4480025021101130066"},4480025021,null,1,113,66,"113-66","대",10,null,null,null,"홍성군","국",null,null,null,null,null,null,null,null,null,null,1121510500,"광진구","자양동"]
[{"$f":"LEFT($B$221,10)&TEXT($D$221,\"0\")&TEXT($E$221,\"0000\")&TEXT($F$221,\"0000\")","v":"4480025021101130075"},4480025021,null,1,113,75,"113-75","대",53,null,null,null,"홍성군","국",null,null,null,null,null,null,null,null,null,null,1121510700,"광진구","화양동"]
[{"$f":"LEFT($B$222,10)&TEXT($D$222,\"0\")&TEXT($E$222,\"0000\")&TEXT($F$222,\"0000\")","v":"4480025021101130076"},4480025021,null,1,113,76,"113-76","대",43,null,null,null,"홍성군","국",null,null,null,null,null,null,null,null,null,null,1121510900,"광진구","군자동"]
[{"$f":"LEFT($B$223,10)&TEXT($D$223,\"0\")&TEXT($E$223,\"0000\")&TEXT($F$223,\"0000\")","v":"4480025021101130084"},4480025021,null,1,113,84,"113-84","대",20,null,null,null,"홍성군","국",null,null,null,null,null,null,null,null,null,null,1123010100,"동대문구","신설동"]
[{"$f":"LEFT($B$224,10)&TEXT($D$224,\"0\")&TEXT($E$224,\"0000\")&TEXT($F$224,\"0000\")","v":"4480025021101130088"},4480025021,null,1,113,88,"113-88","대",66,null,null,null,"홍성군","국",null,null,null,null,null,null,null,null,null,null,1123010200,"동대문구","용두동"]
[{"$f":"LEFT($B$225,10)&TEXT($D$225,\"0\")&TEXT($E$225,\"0000\")&TEXT($F$225,\"0000\")","v":"4480025021101130089"},4480025021,null,1,113,89,"113-89","대",17,null,null,null,"소향리37","김장성",null,null,null,null,null,null,null,null,null,null,1123010300,"동대문구","제기동"]
[{"$f":"LEFT($B$226,10)&TEXT($D$226,\"0\")&TEXT($E$226,\"0000\")&TEXT($F$226,\"0000\")","v":"4480025021101130091"},4480025021,null,1,113,91,"113-91","대",23,null,null,null,"홍성군","국",null,null,null,null,null,null,null,null,null,null,1123010400,"동대문구","전농동"]
[{"$f":"LEFT($B$227,10)&TEXT($D$227,\"0\")&TEXT($E$227,\"0000\")&TEXT($F$227,\"0000\")","v":"4480025021101130092"},4480025021,null,1,113,92,"113-92","대",23,null,null,null,"홍성군","국",null,null,null,null,null,null,null,null,null,null,1123010500,"동대문구","답십리동"]
[{"$f":"LEFT($B$228,10)&TEXT($D$228,\"0\")&TEXT($E$228,\"0000\")&TEXT($F$228,\"0000\")","v":"4480025021101140001"},4480025021,null,1,114,1,"114-1","대",76,null,null,null,"홍성군","국",null,null,null,null,null,null,null,null,null,null,1123010600,"동대문구","장안동"]
[{"$f":"LEFT($B$229,10)&TEXT($D$229,\"0\")&TEXT($E$229,\"0000\")&TEXT($F$229,\"0000\")","v":"4480025021101150001"},4480025021,null,1,115,1,"115-1","대",5279,null,null,null,"경기도성남시분당구불정로90(정자동)","주식회사케이티",null,null,null,null,null,null,null,null,null,null,1123010700,"동대문구","청량리동"]
[{"$f":"LEFT($B$230,10)&TEXT($D$230,\"0\")&TEXT($E$230,\"0000\")&TEXT($F$230,\"0000\")","v":"4480025021101150002"},4480025021,null,1,115,2,"115-2","도",165,null,null,null,"국(건설부)","국",null,null,null,null,null,null,null,null,null,null,1123010800,"동대문구","회기동"]
[{"$f":"LEFT($B$231,10)&TEXT($D$231,\"0\")&TEXT($E$231,\"0000\")&TEXT($F$231,\"0000\")","v":"4480025021101150007"},4480025021,null,1,115,7,"115-7","대",221,null,null,null,"서울종로구신문로1가25","사단법인한국부인회",null,null,null,null,null,null,null,null,null,null,1123010900,"동대문구","휘경동"]
[{"$f":"LEFT($B$232,10)&TEXT($D$232,\"0\")&TEXT($E$232,\"0000\")&TEXT($F$232,\"0000\")","v":"4480025021101180003"},4480025021,null,1,118,3,"118-3","도",480,null,null,null,"홍성군","국",null,null,null,null,null,null,null,null,null,null,1123011000,"동대문구","이문동"]
[{"$f":"LEFT($B$233,10)&TEXT($D$233,\"0\")&TEXT($E$233,\"0000\")&TEXT($F$233,\"0000\")","v":"4480025021101180004"},4480025021,null,1,118,4,"118-4","도",125,null,null,null,"홍성군","국",null,null,null,null,null,null,null,null,null,null,1126010100,"중랑구","면목동"]
[{"$f":"LEFT($B$234,10)&TEXT($D$234,\"0\")&TEXT($E$234,\"0000\")&TEXT($F$234,\"0000\")","v":"4480025021101190002"},4480025021,null,1,119,2,"119-2","대",331,null,null,null,"충청남도홍성군홍북면신대로54103동1006호(효성해링턴플레이스)","김종분",null,null,null,null,null,null,null,null,null,null,1126010200,"중랑구","상봉동"]
[{"$f":"LEFT($B$235,10)&TEXT($D$235,\"0\")&TEXT($E$235,\"0000\")&TEXT($F$235,\"0000\")","v":"4480025021101190003"},4480025021,null,1,119,3,"119-3","대",290,null,null,null,"충청남도홍성군홍성읍충서로1506104동1405호(세광엔리치타워)","변해숙",null,null,null,null,null,null,null,null,null,null,1126010300,"중랑구","중화동"]
[{"$f":"LEFT($B$236,10)&TEXT($D$236,\"0\")&TEXT($E$236,\"0000\")&TEXT($F$236,\"0000\")","v":"4480025021101190004"},4480025021,null,1,119,4,"119-4","대",72,null,null,null,"홍성군","국",null,null,null,null,null,null,null,null,null,null,1126010400,"중랑구","묵동"]
[{"$f":"LEFT($B$237,10)&TEXT($D$237,\"0\")&TEXT($E$237,\"0000\")&TEXT($F$237,\"0000\")","v":"4480025021101200001"},4480025021,null,1,120,1,"120-1","대",298,null,null,null,"충청남도홍성군홍성읍조양로109-18","이상기",null,null,null,null,null,null,null,null,null,null,1126010500,"중랑구","망우동"]
[{"$f":"LEFT($B$238,10)&TEXT($D$238,\"0\")&TEXT($E$238,\"0000\")&TEXT($F$238,\"0000\")","v":"4480025021101200002"},4480025021,null,1,120,2,"120-2","도",354,null,null,null,"충청남도","국",null,null,null,null,null,null,null,null,null,null,1126010600,"중랑구","신내동"]
[{"$f":"LEFT($B$239,10)&TEXT($D$239,\"0\")&TEXT($E$239,\"0000\")&TEXT($F$239,\"0000\")","v":"4480025021101200005"},4480025021,null,1,120,5,"120-5","대",198,null,null,null,"충청남도홍성군홍성읍조양로109-18","전승윤",null,null,null,null,null,null,null,null,null,null,1129010100,"성북구","성북동"]
[{"$f":"LEFT($B$240,10)&TEXT($D$240,\"0\")&TEXT($E$240,\"0000\")&TEXT($F$240,\"0000\")","v":"4480025021101220001"},4480025021,null,1,122,1,"122-1","대",317,null,null,null,"충청남도홍성군홍성읍충절로851번길58","유동우",null,null,null,null,null,null,null,null,null,null,1129010200,"성북구","성북동1가"]
[{"$f":"LEFT($B$241,10)&TEXT($D$241,\"0\")&TEXT($E$241,\"0000\")&TEXT($F$241,\"0000\")","v":"4480025021101220002"},4480025021,null,1,122,2,"122-2","대",55,null,null,null,"오관리122-2","백승열",null,null,null,null,null,null,null,null,null,null,1129010300,"성북구","돈암동"]
[{"$f":"LEFT($B$242,10)&TEXT($D$242,\"0\")&TEXT($E$242,\"0000\")&TEXT($F$242,\"0000\")","v":"4480025021101220003"},4480025021,null,1,122,3,"122-3","도",250,null,null,null,"홍성군","국",null,null,null,null,null,null,null,null,null,null,1129010400,"성북구","동소문동1가"]
[{"$f":"LEFT($B$243,10)&TEXT($D$243,\"0\")&TEXT($E$243,\"0000\")&TEXT($F$243,\"0000\")","v":"4480025021101230000"},4480025021,null,1,123,0,123,"대",145,null,null,null,123,"이은섭",null,null,null,null,null,null,null,null,null,null,1129010500,"성북구","동소문동2가"]
[{"$f":"LEFT($B$244,10)&TEXT($D$244,\"0\")&TEXT($E$244,\"0000\")&TEXT($F$244,\"0000\")","v":"4480025021101240000"},4480025021,null,1,124,0,124,"대",127,null,null,null,"충청남도예산군덕산면낙상리산36-1","윤명희",null,null,null,null,null,null,null,null,null,null,1129010600,"성북구","동소문동3가"]
[{"$f":"LEFT($B$245,10)&TEXT($D$245,\"0\")&TEXT($E$245,\"0000\")&TEXT($F$245,\"0000\")","v":"4480025021101260001"},4480025021,null,1,126,1,"126-1","대",151,null,null,null,"국(기획재정부)","국",null,null,null,null,null,null,null,null,null,null,1129010700,"성북구","동소문동4가"]
[{"$f":"LEFT($B$246,10)&TEXT($D$246,\"0\")&TEXT($E$246,\"0000\")&TEXT($F$246,\"0000\")","v":"4480025021101260002"},4480025021,null,1,126,2,"126-2","대",154,null,null,null,"충청남도예산군예산읍교남길34번길12-5","신동준",null,null,null,null,null,null,null,null,null,null,1129010800,"성북구","동소문동5가"]
[{"$f":"LEFT($B$247,10)&TEXT($D$247,\"0\")&TEXT($E$247,\"0000\")&TEXT($F$247,\"0000\")","v":"4480025021101260006"},4480025021,null,1,126,6,"126-6","대",72,null,null,null,"충청남도예산군덕산면낙상리산36-1","윤명희",null,null,null,null,null,null,null,null,null,null,1129010900,"성북구","동소문동6가"]
[{"$f":"LEFT($B$248,10)&TEXT($D$248,\"0\")&TEXT($E$248,\"0000\")&TEXT($F$248,\"0000\")","v":"4480025021101260008"},4480025021,null,1,126,8,"126-8","도",13,null,null,null,"국(기획재정부)","국",null,null,null,null,null,null,null,null,null,null,1129011000,"성북구","동소문동7가"]
[{"$f":"LEFT($B$249,10)&TEXT($D$249,\"0\")&TEXT($E$249,\"0000\")&TEXT($F$249,\"0000\")","v":"4480025021101260014"},4480025021,null,1,126,14,"126-14","대",10,null,null,null,"충청남도홍성군홍성읍조양로103번길2","박선웅",null,null,null,null,null,null,null,null,null,null,1129011100,"성북구","삼선동1가"]
[{"$f":"LEFT($B$250,10)&TEXT($D$250,\"0\")&TEXT($E$250,\"0000\")&TEXT($F$250,\"0000\")","v":"4480025021101270000"},4480025021,null,1,127,0,127,"대",165,null,null,null,127,"백춘웅",null,null,null,null,null,null,null,null,null,null,1129011200,"성북구","삼선동2가"]
[{"$f":"LEFT($B$251,10)&TEXT($D$251,\"0\")&TEXT($E$251,\"0000\")&TEXT($F$251,\"0000\")","v":"4480025021101280000"},4480025021,null,1,128,0,128,"대",298,null,null,null,"충청남도홍성군홍북면이응노로183번길189-13","양봉규",null,null,null,null,null,null,null,null,null,null,1129011300,"성북구","삼선동3가"]
[{"$f":"LEFT($B$252,10)&TEXT($D$252,\"0\")&TEXT($E$252,\"0000\")&TEXT($F$252,\"0000\")","v":"4480025021101290001"},4480025021,null,1,129,1,"129-1","도",33,null,null,null,"충청남도","국",null,null,null,null,null,null,null,null,null,null,1129011400,"성북구","삼선동4가"]
[{"$f":"LEFT($B$253,10)&TEXT($D$253,\"0\")&TEXT($E$253,\"0000\")&TEXT($F$253,\"0000\")","v":"4480025021101290003"},4480025021,null,1,129,3,"129-3","대",43,null,null,null,"국(기획재정부)","국",null,null,null,null,null,null,null,null,null,null,1129011500,"성북구","삼선동5가"]
[{"$f":"LEFT($B$254,10)&TEXT($D$254,\"0\")&TEXT($E$254,\"0000\")&TEXT($F$254,\"0000\")","v":"4480025021101300001"},4480025021,null,1,130,1,"130-1","대",274,null,null,null,"130-1","이은길",null,null,null,null,null,null,null,null,null,null,1129011600,"성북구","동선동1가"]
[{"$f":"LEFT($B$255,10)&TEXT($D$255,\"0\")&TEXT($E$255,\"0000\")&TEXT($F$255,\"0000\")","v":"4480025021101330008"},4480025021,null,1,133,8,"133-8","대",704,null,null,null,"충청남도홍성군홍성읍조양로109-18","전승윤",null,null,null,null,null,null,null,null,null,null,1129011700,"성북구","동선동2가"]
[{"$f":"LEFT($B$256,10)&TEXT($D$256,\"0\")&TEXT($E$256,\"0000\")&TEXT($F$256,\"0000\")","v":"4480025021101330009"},4480025021,null,1,133,9,"133-9","대",625,null,null,null,"충청남도홍성군홍성읍조양로109-18","이상기",null,null,null,null,null,null,null,null,null,null,1129011800,"성북구","동선동3가"]
[{"$f":"LEFT($B$257,10)&TEXT($D$257,\"0\")&TEXT($E$257,\"0000\")&TEXT($F$257,\"0000\")","v":"4480025021101330010"},4480025021,null,1,133,10,"133-10","대",281,null,null,null,"충청남도홍성군홍성읍조양로109-18","이상기",null,null,null,null,null,null,null,null,null,null,1129011900,"성북구","동선동4가"]
[{"$f":"LEFT($B$258,10)&TEXT($D$258,\"0\")&TEXT($E$258,\"0000\")&TEXT($F$258,\"0000\")","v":"4480025021101330011"},4480025021,null,1,133,11,"133-11","대",231,null,null,null,"경기도수원시장안구정자동423-1벽산블루밍아파트102-803","최월순",null,null,null,null,null,null,null,null,null,null,1129012000,"성북구","동선동5가"]
[{"$f":"LEFT($B$259,10)&TEXT($D$259,\"0\")&TEXT($E$259,\"0000\")&TEXT($F$259,\"0000\")","v":"4480025021101330012"},4480025021,null,1,133,12,"133-12","대",116,null,null,null,"333우주은하아파트에이-1505","김노형",null,null,null,null,null,null,null,null,null,null,1129012100,"성북구","안암동1가"]
[{"$f":"LEFT($B$260,10)&TEXT($D$260,\"0\")&TEXT($E$260,\"0000\")&TEXT($F$260,\"0000\")","v":"4480025021101330013"},4480025021,null,1,133,13,"133-13","대",145,null,null,null,"703-7","엄영수",null,null,null,null,null,null,null,null,null,null,1129012200,"성북구","안암동2가"]
[{"$f":"LEFT($B$261,10)&TEXT($D$261,\"0\")&TEXT($E$261,\"0000\")&TEXT($F$261,\"0000\")","v":"4480025021101330015"},4480025021,null,1,133,15,"133-15","대",115,null,null,null,"충청남도홍성군홍북면중계1길77","임병철",null,null,null,null,null,null,null,null,null,null,1129012300,"성북구","안암동3가"]
[{"$f":"LEFT($B$262,10)&TEXT($D$262,\"0\")&TEXT($E$262,\"0000\")&TEXT($F$262,\"0000\")","v":"4480025021101330016"},4480025021,null,1,133,16,"133-16","대",13,null,null,null,"133-6","이춘근",null,null,null,null,null,null,null,null,null,null,1129012400,"성북구","안암동4가"]
[{"$f":"LEFT($B$263,10)&TEXT($D$263,\"0\")&TEXT($E$263,\"0000\")&TEXT($F$263,\"0000\")","v":"4480025021101330017"},4480025021,null,1,133,17,"133-17","대",91,null,null,null,"충청남도홍성군홍성읍조양로152","복재은",null,null,null,null,null,null,null,null,null,null,1129012500,"성북구","안암동5가"]
[{"$f":"LEFT($B$264,10)&TEXT($D$264,\"0\")&TEXT($E$264,\"0000\")&TEXT($F$264,\"0000\")","v":"4480025021101350001"},4480025021,null,1,135,1,"135-1","대",340,null,null,null,"충청남도홍성군홍성읍도청대로34","김산시",null,null,null,null,null,null,null,null,null,null,1129012600,"성북구","보문동4가"]
[{"$f":"LEFT($B$265,10)&TEXT($D$265,\"0\")&TEXT($E$265,\"0000\")&TEXT($F$265,\"0000\")","v":"4480025021101350004"},4480025021,null,1,135,4,"135-4","대",17,null,null,null,"충청남도홍성군홍성읍도청대로34","김산시",null,null,null,null,null,null,null,null,null,null,1129012700,"성북구","보문동5가"]
[{"$f":"LEFT($B$266,10)&TEXT($D$266,\"0\")&TEXT($E$266,\"0000\")&TEXT($F$266,\"0000\")","v":"4480025021101350006"},4480025021,null,1,135,6,"135-6","대",291,null,null,null,"천안시사직동172","조창희",null,null,null,null,null,null,null,null,null,null,1129012800,"성북구","보문동6가"]
[{"$f":"LEFT($B$267,10)&TEXT($D$267,\"0\")&TEXT($E$267,\"0000\")&TEXT($F$267,\"0000\")","v":"4480025021101370001"},4480025021,null,1,137,1,"137-1","대",17,null,null,null,"천안시사직동172","조창희",null,null,null,null,null,null,null,null,null,null,1129012900,"성북구","보문동7가"]
[{"$f":"LEFT($B$268,10)&TEXT($D$268,\"0\")&TEXT($E$268,\"0000\")&TEXT($F$268,\"0000\")","v":"4480025021101370003"},4480025021,null,1,137,3,"137-3","대",151,null,null,null,"137-2","이재경",null,null,null,null,null,null,null,null,null,null,1129013000,"성북구","보문동1가"]
[{"$f":"LEFT($B$269,10)&TEXT($D$269,\"0\")&TEXT($E$269,\"0000\")&TEXT($F$269,\"0000\")","v":"4480025021101380005"},4480025021,null,1,138,5,"138-5","대",20,null,null,null,"홍성군","국",null,null,null,null,null,null,null,null,null,null,1129013100,"성북구","보문동2가"]
[{"$f":"LEFT($B$270,10)&TEXT($D$270,\"0\")&TEXT($E$270,\"0000\")&TEXT($F$270,\"0000\")","v":"4480025021101380007"},4480025021,null,1,138,7,"138-7","대",17,null,null,null,"홍성군","국",null,null,null,null,null,null,null,null,null,null,1129013200,"성북구","보문동3가"]
[{"$f":"LEFT($B$271,10)&TEXT($D$271,\"0\")&TEXT($E$271,\"0000\")&TEXT($F$271,\"0000\")","v":"4480025021101380012"},4480025021,null,1,138,12,"138-12","도",20,null,null,null,"국(국세청)","국",null,null,null,null,null,null,null,null,null,null,1129013300,"성북구","정릉동"]
[{"$f":"LEFT($B$272,10)&TEXT($D$272,\"0\")&TEXT($E$272,\"0000\")&TEXT($F$272,\"0000\")","v":"4480025021101380014"},4480025021,null,1,138,14,"138-14","도",23,null,null,null,"국(문화재청)","국",null,null,null,null,null,null,null,null,null,null,1129013400,"성북구","길음동"]
[{"$f":"LEFT($B$273,10)&TEXT($D$273,\"0\")&TEXT($E$273,\"0000\")&TEXT($F$273,\"0000\")","v":"4480025021101380015"},4480025021,null,1,138,15,"138-15","대",107,null,null,null,"8-3신천무궁화아파트1006호","김춘강",null,null,null,null,null,null,null,null,null,null,1129013500,"성북구","종암동"]
[{"$f":"LEFT($B$274,10)&TEXT($D$274,\"0\")&TEXT($E$274,\"0000\")&TEXT($F$274,\"0000\")","v":"4480025021101380016"},4480025021,null,1,138,16,"138-16","대",17,null,null,null,"국(기획재정부)","국",null,null,null,null,null,null,null,null,null,null,1129013600,"성북구","하월곡동"]
[{"$f":"LEFT($B$275,10)&TEXT($D$275,\"0\")&TEXT($E$275,\"0000\")&TEXT($F$275,\"0000\")","v":"4480025021101380017"},4480025021,null,1,138,17,"138-17","대",114,null,null,null,"138-17","오도영",null,null,null,null,null,null,null,null,null,null,1129013700,"성북구","상월곡동"]
[{"$f":"LEFT($B$276,10)&TEXT($D$276,\"0\")&TEXT($E$276,\"0000\")&TEXT($F$276,\"0000\")","v":"4480025021101390001"},4480025021,null,1,139,1,"139-1","대",139,null,null,null,"139-1","조창희",null,null,null,null,null,null,null,null,null,null,1129013800,"성북구","장위동"]
[{"$f":"LEFT($B$277,10)&TEXT($D$277,\"0\")&TEXT($E$277,\"0000\")&TEXT($F$277,\"0000\")","v":"4480025021101390002"},4480025021,null,1,139,2,"139-2","대",33,null,null,null,"홍성군","국",null,null,null,null,null,null,null,null,null,null,1129013900,"성북구","석관동"]
[{"$f":"LEFT($B$278,10)&TEXT($D$278,\"0\")&TEXT($E$278,\"0000\")&TEXT($F$278,\"0000\")","v":"4480025021101400005"},4480025021,null,1,140,5,"140-5","대",89,null,null,null,"8-3신천무궁화아파트1006호","김춘강",null,null,null,null,null,null,null,null,null,null,1130510100,"강북구","미아동"]
[{"$f":"LEFT($B$279,10)&TEXT($D$279,\"0\")&TEXT($E$279,\"0000\")&TEXT($F$279,\"0000\")","v":"4480025021101400007"},4480025021,null,1,140,7,"140-7","대",13,null,null,null,"홍성군","국",null,null,null,null,null,null,null,null,null,null,1130510200,"강북구","번동"]
[{"$f":"LEFT($B$280,10)&TEXT($D$280,\"0\")&TEXT($E$280,\"0000\")&TEXT($F$280,\"0000\")","v":"4480025021101410002"},4480025021,null,1,141,2,"141-2","대",331,null,null,null,"141-6","오용섭",null,null,null,null,null,null,null,null,null,null,1130510300,"강북구","수유동"]
[{"$f":"LEFT($B$281,10)&TEXT($D$281,\"0\")&TEXT($E$281,\"0000\")&TEXT($F$281,\"0000\")","v":"4480025021101410003"},4480025021,null,1,141,3,"141-3","대",192,null,null,null,"대전시서구내동151코오롱아파트8-502호","염철수",null,null,null,null,null,null,null,null,null,null,1130510400,"강북구","우이동"]
[{"$f":"LEFT($B$282,10)&TEXT($D$282,\"0\")&TEXT($E$282,\"0000\")&TEXT($F$282,\"0000\")","v":"4480025021101410006"},4480025021,null,1,141,6,"141-6","대",191,null,null,null,"홍성군","국",null,null,null,null,null,null,null,null,null,null,1132010500,"도봉구","쌍문동"]
[{"$f":"LEFT($B$283,10)&TEXT($D$283,\"0\")&TEXT($E$283,\"0000\")&TEXT($F$283,\"0000\")","v":"4480025021101420000"},4480025021,null,1,142,0,142,"대",244,null,null,null,"홍성군","국",null,null,null,null,null,null,null,null,null,null,1132010600,"도봉구","방학동"]
[{"$f":"LEFT($B$284,10)&TEXT($D$284,\"0\")&TEXT($E$284,\"0000\")&TEXT($F$284,\"0000\")","v":"4480025021101420003"},4480025021,null,1,142,3,"142-3","대",474,null,null,null,"홍성군","국",null,null,null,null,null,null,null,null,null,null,1132010700,"도봉구","창동"]
[{"$f":"LEFT($B$285,10)&TEXT($D$285,\"0\")&TEXT($E$285,\"0000\")&TEXT($F$285,\"0000\")","v":"4480025021101420004"},4480025021,null,1,142,4,"142-4","대",292,null,null,null,"대교리222-6","김옥순",null,null,null,null,null,null,null,null,null,null,1132010800,"도봉구","도봉동"]
[{"$f":"LEFT($B$286,10)&TEXT($D$286,\"0\")&TEXT($E$286,\"0000\")&TEXT($F$286,\"0000\")","v":"4480025021101430001"},4480025021,null,1,143,1,"143-1","대",198,null,null,null,"홍성군","국",null,null,null,null,null,null,null,null,null,null,1135010200,"노원구","월계동"]
[{"$f":"LEFT($B$287,10)&TEXT($D$287,\"0\")&TEXT($E$287,\"0000\")&TEXT($F$287,\"0000\")","v":"4480025021101430004"},4480025021,null,1,143,4,"143-4","도",102,null,null,null,"국(기획재정부)","국",null,null,null,null,null,null,null,null,null,null,1135010300,"노원구","공릉동"]
[{"$f":"LEFT($B$288,10)&TEXT($D$288,\"0\")&TEXT($E$288,\"0000\")&TEXT($F$288,\"0000\")","v":"4480025021101430006"},4480025021,null,1,143,6,"143-6","대",50,null,null,null,"국(기획재정부)","국",null,null,null,null,null,null,null,null,null,null,1135010400,"노원구","하계동"]
[{"$f":"LEFT($B$289,10)&TEXT($D$289,\"0\")&TEXT($E$289,\"0000\")&TEXT($F$289,\"0000\")","v":"4480025021101430007"},4480025021,null,1,143,7,"143-7","대",119,null,null,null,"143-16","김경환",null,null,null,null,null,null,null,null,null,null,1135010500,"노원구","상계동"]
[{"$f":"LEFT($B$290,10)&TEXT($D$290,\"0\")&TEXT($E$290,\"0000\")&TEXT($F$290,\"0000\")","v":"4480025021101430009"},4480025021,null,1,143,9,"143-9","대",33,null,null,null,"143-16","김경환",null,null,null,null,null,null,null,null,null,null,1135010600,"노원구","중계동"]
[{"$f":"LEFT($B$291,10)&TEXT($D$291,\"0\")&TEXT($E$291,\"0000\")&TEXT($F$291,\"0000\")","v":"4480025021101430014"},4480025021,null,1,143,14,"143-14","도",26,null,null,null,"국(기획재정부)","국",null,null,null,null,null,null,null,null,null,null,1138010100,"은평구","수색동"]
[{"$f":"LEFT($B$292,10)&TEXT($D$292,\"0\")&TEXT($E$292,\"0000\")&TEXT($F$292,\"0000\")","v":"4480025021101430016"},4480025021,null,1,143,16,"143-16","대",165,null,null,null,"143-16","김경환",null,null,null,null,null,null,null,null,null,null,1138010200,"은평구","녹번동"]
[{"$f":"LEFT($B$293,10)&TEXT($D$293,\"0\")&TEXT($E$293,\"0000\")&TEXT($F$293,\"0000\")","v":"4480025021101430018"},4480025021,null,1,143,18,"143-18","대",192,null,null,null,"홍성군","국",null,null,null,null,null,null,null,null,null,null,1138010300,"은평구","불광동"]
[{"$f":"LEFT($B$294,10)&TEXT($D$294,\"0\")&TEXT($E$294,\"0000\")&TEXT($F$294,\"0000\")","v":"4480025021101430019"},4480025021,null,1,143,19,"143-19","대",321,null,null,null,"홍성군","국",null,null,null,null,null,null,null,null,null,null,1138010400,"은평구","갈현동"]
[{"$f":"LEFT($B$295,10)&TEXT($D$295,\"0\")&TEXT($E$295,\"0000\")&TEXT($F$295,\"0000\")","v":"4480025021101430020"},4480025021,null,1,143,20,"143-20","대",50,null,null,null,"143-16","김경환",null,null,null,null,null,null,null,null,null,null,1138010500,"은평구","구산동"]
[{"$f":"LEFT($B$296,10)&TEXT($D$296,\"0\")&TEXT($E$296,\"0000\")&TEXT($F$296,\"0000\")","v":"4480025021101440001"},4480025021,null,1,144,1,"144-1","대",311,null,null,null,"광천읍내죽리325","이종구",null,null,null,null,null,null,null,null,null,null,1138010600,"은평구","대조동"]
[{"$f":"LEFT($B$297,10)&TEXT($D$297,\"0\")&TEXT($E$297,\"0000\")&TEXT($F$297,\"0000\")","v":"4480025021101470000"},4480025021,null,1,147,0,147,"대",280,null,null,null,"경기도평택시탄현로114-1비동402호(서정동건영타운)","김봉수",null,null,null,null,null,null,null,null,null,null,1138010700,"은평구","응암동"]
[{"$f":"LEFT($B$298,10)&TEXT($D$298,\"0\")&TEXT($E$298,\"0000\")&TEXT($F$298,\"0000\")","v":"4480025021101470002"},4480025021,null,1,147,2,"147-2","대",12,null,null,null,"홍성군","국",null,null,null,null,null,null,null,null,null,null,1138010800,"은평구","역촌동"]
[{"$f":"LEFT($B$299,10)&TEXT($D$299,\"0\")&TEXT($E$299,\"0000\")&TEXT($F$299,\"0000\")","v":"4480025021101470003"},4480025021,null,1,147,3,"147-3","대",33,null,null,null,"홍성군","국",null,null,null,null,null,null,null,null,null,null,1138010900,"은평구","신사동"]
[{"$f":"LEFT($B$300,10)&TEXT($D$300,\"0\")&TEXT($E$300,\"0000\")&TEXT($F$300,\"0000\")","v":"4480025021101480000"},4480025021,null,1,148,0,148,"대",185,null,null,null,"홍성군","국",null,null,null,null,null,null,null,null,null,null,1138011000,"은평구","증산동"]
[{"$f":"LEFT($B$301,10)&TEXT($D$301,\"0\")&TEXT($E$301,\"0000\")&TEXT($F$301,\"0000\")","v":"4480025021101490000"},4480025021,null,1,149,0,149,"대",126,null,null,null,"홍성군","국",null,null,null,null,null,null,null,null,null,null,1138011400,"은평구","진관동"]
[{"$f":"LEFT($B$302,10)&TEXT($D$302,\"0\")&TEXT($E$302,\"0000\")&TEXT($F$302,\"0000\")","v":"4480025021101500001"},4480025021,null,1,150,1,"150-1","대",288,null,null,null,"홍성군","국",null,null,null,null,null,null,null,null,null,null,1141010100,"서대문구","충정로2가"]
[{"$f":"LEFT($B$303,10)&TEXT($D$303,\"0\")&TEXT($E$303,\"0000\")&TEXT($F$303,\"0000\")","v":"4480025021101510000"},4480025021,null,1,151,0,151,"대",354,null,null,null,"홍성군","국",null,null,null,null,null,null,null,null,null,null,1141010200,"서대문구","충정로3가"]
[{"$f":"LEFT($B$304,10)&TEXT($D$304,\"0\")&TEXT($E$304,\"0000\")&TEXT($F$304,\"0000\")","v":"4480025021101520000"},4480025021,null,1,152,0,152,"대",129,null,null,null,"홍성군","국",null,null,null,null,null,null,null,null,null,null,1141010300,"서대문구","합동"]
[{"$f":"LEFT($B$305,10)&TEXT($D$305,\"0\")&TEXT($E$305,\"0000\")&TEXT($F$305,\"0000\")","v":"4480025021101530003"},4480025021,null,1,153,3,"153-3","대",175,null,null,null,"충청남도홍성군홍성읍오관리153-3","김춘자",null,null,null,null,null,null,null,null,null,null,1141010400,"서대문구","미근동"]
[{"$f":"LEFT($B$306,10)&TEXT($D$306,\"0\")&TEXT($E$306,\"0000\")&TEXT($F$306,\"0000\")","v":"4480025021101530004"},4480025021,null,1,153,4,"153-4","도",60,null,null,null,"국(기획재정부)","국",null,null,null,null,null,null,null,null,null,null,1141010500,"서대문구","냉천동"]
[{"$f":"LEFT($B$307,10)&TEXT($D$307,\"0\")&TEXT($E$307,\"0000\")&TEXT($F$307,\"0000\")","v":"4480025021101540002"},4480025021,null,1,154,2,"154-2","대",268,null,null,null,"홍성군","국",null,null,null,null,null,null,null,null,null,null,1141010600,"서대문구","천연동"]
[{"$f":"LEFT($B$308,10)&TEXT($D$308,\"0\")&TEXT($E$308,\"0000\")&TEXT($F$308,\"0000\")","v":"4480025021101550000"},4480025021,null,1,155,0,155,"대",179,null,null,null,"홍성군","국",null,null,null,null,null,null,null,null,null,null,1141010700,"서대문구","옥천동"]
[{"$f":"LEFT($B$309,10)&TEXT($D$309,\"0\")&TEXT($E$309,\"0000\")&TEXT($F$309,\"0000\")","v":"4480025021101560000"},4480025021,null,1,156,0,156,"대",133,null,null,null,"홍성군","국",null,null,null,null,null,null,null,null,null,null,1141010800,"서대문구","영천동"]
[{"$f":"LEFT($B$310,10)&TEXT($D$310,\"0\")&TEXT($E$310,\"0000\")&TEXT($F$310,\"0000\")","v":"4480025021101560002"},4480025021,null,1,156,2,"156-2","대",133,null,null,null,"홍성군","국",null,null,null,null,null,null,null,null,null,null,1141010900,"서대문구","현저동"]
[{"$f":"LEFT($B$311,10)&TEXT($D$311,\"0\")&TEXT($E$311,\"0000\")&TEXT($F$311,\"0000\")","v":"4480025021101560003"},4480025021,null,1,156,3,"156-3","대",131,null,null,null,"홍성군","국",null,null,null,null,null,null,null,null,null,null,1141011000,"서대문구","북아현동"]
[{"$f":"LEFT($B$312,10)&TEXT($D$312,\"0\")&TEXT($E$312,\"0000\")&TEXT($F$312,\"0000\")","v":"4480025021101580002"},4480025021,null,1,158,2,"158-2","도",7,null,null,null,"국(건설교통부)","국",null,null,null,null,null,null,null,null,null,null,1141011100,"서대문구","홍제동"]
[{"$f":"LEFT($B$313,10)&TEXT($D$313,\"0\")&TEXT($E$313,\"0000\")&TEXT($F$313,\"0000\")","v":"4480025021101610000"},4480025021,null,1,161,0,161,"대",157,null,null,null,"홍성군","국",null,null,null,null,null,null,null,null,null,null,1141011200,"서대문구","대현동"]
[{"$f":"LEFT($B$314,10)&TEXT($D$314,\"0\")&TEXT($E$314,\"0000\")&TEXT($F$314,\"0000\")","v":"4480025021101610001"},4480025021,null,1,161,1,"161-1","대",321,null,null,null,"홍성군","국",null,null,null,null,null,null,null,null,null,null,1141011300,"서대문구","대신동"]
[{"$f":"LEFT($B$315,10)&TEXT($D$315,\"0\")&TEXT($E$315,\"0000\")&TEXT($F$315,\"0000\")","v":"4480025021101610003"},4480025021,null,1,161,3,"161-3","대",137,null,null,null,"홍성군","국",null,null,null,null,null,null,null,null,null,null,1141011400,"서대문구","신촌동"]
[{"$f":"LEFT($B$316,10)&TEXT($D$316,\"0\")&TEXT($E$316,\"0000\")&TEXT($F$316,\"0000\")","v":"4480025021101610004"},4480025021,null,1,161,4,"161-4","대",93,null,null,null,"홍성군","국",null,null,null,null,null,null,null,null,null,null,1141011500,"서대문구","봉원동"]
[{"$f":"LEFT($B$317,10)&TEXT($D$317,\"0\")&TEXT($E$317,\"0000\")&TEXT($F$317,\"0000\")","v":"4480025021101610005"},4480025021,null,1,161,5,"161-5","도",3,null,null,null,"홍성군","국",null,null,null,null,null,null,null,null,null,null,1141011600,"서대문구","창천동"]
[{"$f":"LEFT($B$318,10)&TEXT($D$318,\"0\")&TEXT($E$318,\"0000\")&TEXT($F$318,\"0000\")","v":"4480025021101610006"},4480025021,null,1,161,6,"161-6","대",136,null,null,null,"홍성군","국",null,null,null,null,null,null,null,null,null,null,1141011700,"서대문구","연희동"]
[{"$f":"LEFT($B$319,10)&TEXT($D$319,\"0\")&TEXT($E$319,\"0000\")&TEXT($F$319,\"0000\")","v":"4480025021101610009"},4480025021,null,1,161,9,"161-9","대",66,null,null,null,"홍성군","국",null,null,null,null,null,null,null,null,null,null,1141011800,"서대문구","홍은동"]
[{"$f":"LEFT($B$320,10)&TEXT($D$320,\"0\")&TEXT($E$320,\"0000\")&TEXT($F$320,\"0000\")","v":"4480025021101610010"},4480025021,null,1,161,10,"161-10","대",132,null,null,null,"홍성군","국",null,null,null,null,null,null,null,null,null,null,1141011900,"서대문구","북가좌동"]
[{"$f":"LEFT($B$321,10)&TEXT($D$321,\"0\")&TEXT($E$321,\"0000\")&TEXT($F$321,\"0000\")","v":"4480025021101630001"},4480025021,null,1,163,1,"163-1","대",145,null,null,null,"홍성군","국",null,null,null,null,null,null,null,null,null,null,1141012000,"서대문구","남가좌동"]
[{"$f":"LEFT($B$322,10)&TEXT($D$322,\"0\")&TEXT($E$322,\"0000\")&TEXT($F$322,\"0000\")","v":"4480025021101650002"},4480025021,null,1,165,2,"165-2","대",205,null,null,null,"홍성군","국",null,null,null,null,null,null,null,null,null,null,1144010100,"마포구","아현동"]
[{"$f":"LEFT($B$323,10)&TEXT($D$323,\"0\")&TEXT($E$323,\"0000\")&TEXT($F$323,\"0000\")","v":"4480025021101650004"},4480025021,null,1,165,4,"165-4","대",195,null,null,null,"홍성군","국",null,null,null,null,null,null,null,null,null,null,1144010200,"마포구","공덕동"]
[{"$f":"LEFT($B$324,10)&TEXT($D$324,\"0\")&TEXT($E$324,\"0000\")&TEXT($F$324,\"0000\")","v":"4480025021101650005"},4480025021,null,1,165,5,"165-5","대",86,null,null,null,"홍성군","국",null,null,null,null,null,null,null,null,null,null,1144010300,"마포구","신공덕동"]
[{"$f":"LEFT($B$325,10)&TEXT($D$325,\"0\")&TEXT($E$325,\"0000\")&TEXT($F$325,\"0000\")","v":"4480025021101660005"},4480025021,null,1,166,5,"166-5","대",8,null,null,null,"홍성군","국",null,null,null,null,null,null,null,null,null,null,1144010400,"마포구","도화동"]
[{"$f":"LEFT($B$326,10)&TEXT($D$326,\"0\")&TEXT($E$326,\"0000\")&TEXT($F$326,\"0000\")","v":"4480025021101660006"},4480025021,null,1,166,6,"166-6","대",1,null,null,null,"홍성군","국",null,null,null,null,null,null,null,null,null,null,1144010500,"마포구","용강동"]
[{"$f":"LEFT($B$327,10)&TEXT($D$327,\"0\")&TEXT($E$327,\"0000\")&TEXT($F$327,\"0000\")","v":"4480025021101670004"},4480025021,null,1,167,4,"167-4","대",165,null,null,null,"167-4","유기동",null,null,null,null,null,null,null,null,null,null,1144010600,"마포구","토정동"]
[{"$f":"LEFT($B$328,10)&TEXT($D$328,\"0\")&TEXT($E$328,\"0000\")&TEXT($F$328,\"0000\")","v":"4480025021101670005"},4480025021,null,1,167,5,"167-5","대",198,null,null,null,"서울특별시강동구풍성로67길49301호(둔촌동)","윤완규",null,null,null,null,null,null,null,null,null,null,1144010700,"마포구","마포동"]
[{"$f":"LEFT($B$329,10)&TEXT($D$329,\"0\")&TEXT($E$329,\"0000\")&TEXT($F$329,\"0000\")","v":"4480025021101670006"},4480025021,null,1,167,6,"167-6","대",132,null,null,null,"오관리167-6","최두용",null,null,null,null,null,null,null,null,null,null,1144010800,"마포구","대흥동"]
[{"$f":"LEFT($B$330,10)&TEXT($D$330,\"0\")&TEXT($E$330,\"0000\")&TEXT($F$330,\"0000\")","v":"4480025021101670007"},4480025021,null,1,167,7,"167-7","대",116,null,null,null,"대교리374-5광경연립비-302","한근주",null,null,null,null,null,null,null,null,null,null,1144010900,"마포구","염리동"]
[{"$f":"LEFT($B$331,10)&TEXT($D$331,\"0\")&TEXT($E$331,\"0000\")&TEXT($F$331,\"0000\")","v":"4480025021101670009"},4480025021,null,1,167,9,"167-9","대",347,null,null,null,"대교리219-84","신이철",null,null,null,null,null,null,null,null,null,null,1144011000,"마포구","노고산동"]
[{"$f":"LEFT($B$332,10)&TEXT($D$332,\"0\")&TEXT($E$332,\"0000\")&TEXT($F$332,\"0000\")","v":"4480025021101670011"},4480025021,null,1,167,11,"167-11","대",159,null,null,null,"오관리181","장영자",null,null,null,null,null,null,null,null,null,null,1144011100,"마포구","신수동"]
[{"$f":"LEFT($B$333,10)&TEXT($D$333,\"0\")&TEXT($E$333,\"0000\")&TEXT($F$333,\"0000\")","v":"4480025021101670012"},4480025021,null,1,167,12,"167-12","대",96,null,null,null,"충청남도홍성군홍성읍남장중로10302동1007호(남장휴먼시아3단지)","최창순",null,null,null,null,null,null,null,null,null,null,1144011200,"마포구","현석동"]
[{"$f":"LEFT($B$334,10)&TEXT($D$334,\"0\")&TEXT($E$334,\"0000\")&TEXT($F$334,\"0000\")","v":"4480025021101670013"},4480025021,null,1,167,13,"167-13","대",498,null,null,null,"충청남도홍성군홍성읍충절로953번길20112동1303호(신동아파밀리에아파트)","구진우",null,null,null,null,null,null,null,null,null,null,1144011300,"마포구","구수동"]
[{"$f":"LEFT($B$335,10)&TEXT($D$335,\"0\")&TEXT($E$335,\"0000\")&TEXT($F$335,\"0000\")","v":"4480025021101670016"},4480025021,null,1,167,16,"167-16","대",115,null,null,null,"충청남도홍성군홍성읍남장중로10308동108호(남장휴먼시아3단지)","김완수",null,null,null,null,null,null,null,null,null,null,1144011400,"마포구","창전동"]
[{"$f":"LEFT($B$336,10)&TEXT($D$336,\"0\")&TEXT($E$336,\"0000\")&TEXT($F$336,\"0000\")","v":"4480025021101670017"},4480025021,null,1,167,17,"167-17","대",139,null,null,null,"충청남도홍성군홍성읍문화로181번길2","신종식",null,null,null,null,null,null,null,null,null,null,1144011500,"마포구","상수동"]
[{"$f":"LEFT($B$337,10)&TEXT($D$337,\"0\")&TEXT($E$337,\"0000\")&TEXT($F$337,\"0000\")","v":"4480025021101670022"},4480025021,null,1,167,22,"167-22","대",314,null,null,null,"충청남도홍성군갈산면백야로314번길66-15","이재경",null,null,null,null,null,null,null,null,null,null,1144011600,"마포구","하중동"]
[{"$f":"LEFT($B$338,10)&TEXT($D$338,\"0\")&TEXT($E$338,\"0000\")&TEXT($F$338,\"0000\")","v":"4480025021101670024"},4480025021,null,1,167,24,"167-24","대",13,null,null,null,"서울마포구망원동479-30","구진우",null,null,null,null,null,null,null,null,null,null,1144011700,"마포구","신정동"]
[{"$f":"LEFT($B$339,10)&TEXT($D$339,\"0\")&TEXT($E$339,\"0000\")&TEXT($F$339,\"0000\")","v":"4480025021101670025"},4480025021,null,1,167,25,"167-25","도",11,null,null,null,"276-3신천아파트다동603호","서성원",null,null,null,null,null,null,null,null,null,null,1144011800,"마포구","당인동"]
[{"$f":"LEFT($B$340,10)&TEXT($D$340,\"0\")&TEXT($E$340,\"0000\")&TEXT($F$340,\"0000\")","v":"4480025021101680000"},4480025021,null,1,168,0,168,"도",484,null,null,null,"홍성군","국",null,null,null,null,null,null,null,null,null,null,1144012000,"마포구","서교동"]
[{"$f":"LEFT($B$341,10)&TEXT($D$341,\"0\")&TEXT($E$341,\"0000\")&TEXT($F$341,\"0000\")","v":"4480025021101690001"},4480025021,null,1,169,1,"169-1","도",42,null,null,null,"국(재무부)","국",null,null,null,null,null,null,null,null,null,null,1144012100,"마포구","동교동"]
[{"$f":"LEFT($B$342,10)&TEXT($D$342,\"0\")&TEXT($E$342,\"0000\")&TEXT($F$342,\"0000\")","v":"4480025021101700001"},4480025021,null,1,170,1,"170-1","대",50,null,null,null,"충청남도홍성군홍성읍충절로953번길20112동1303호(신동아파밀리에아파트)","구진우",null,null,null,null,null,null,null,null,null,null,1144012200,"마포구","합정동"]
[{"$f":"LEFT($B$343,10)&TEXT($D$343,\"0\")&TEXT($E$343,\"0000\")&TEXT($F$343,\"0000\")","v":"4480025021101710000"},4480025021,null,1,171,0,171,"전",527,null,null,null,"충청남도홍성군홍성읍문화로180","이재희",null,null,null,null,null,null,null,null,null,null,1144012300,"마포구","망원동"]
[{"$f":"LEFT($B$344,10)&TEXT($D$344,\"0\")&TEXT($E$344,\"0000\")&TEXT($F$344,\"0000\")","v":"4480025021101710001"},4480025021,null,1,171,1,"171-1","도",92,null,null,null,"홍성군","국",null,null,null,null,null,null,null,null,null,null,1144012400,"마포구","연남동"]
[{"$f":"LEFT($B$345,10)&TEXT($D$345,\"0\")&TEXT($E$345,\"0000\")&TEXT($F$345,\"0000\")","v":"4480025021101720004"},4480025021,null,1,172,4,"172-4","도",7,null,null,null,"국(기획재정부)","국",null,null,null,null,null,null,null,null,null,null,1144012500,"마포구","성산동"]
[{"$f":"LEFT($B$346,10)&TEXT($D$346,\"0\")&TEXT($E$346,\"0000\")&TEXT($F$346,\"0000\")","v":"4480025021101730000"},4480025021,null,1,173,0,173,"대",431,null,null,null,"홍성군","국",null,null,null,null,null,null,null,null,null,null,1144012600,"마포구","중동"]
[{"$f":"LEFT($B$347,10)&TEXT($D$347,\"0\")&TEXT($E$347,\"0000\")&TEXT($F$347,\"0000\")","v":"4480025021101730005"},4480025021,null,1,173,5,"173-5","대",123,null,null,null,"홍성군","국",null,null,null,null,null,null,null,null,null,null,1144012700,"마포구","상암동"]
[{"$f":"LEFT($B$348,10)&TEXT($D$348,\"0\")&TEXT($E$348,\"0000\")&TEXT($F$348,\"0000\")","v":"4480025021101740000"},4480025021,null,1,174,0,174,"대",246,null,null,null,174,"정진원",null,null,null,null,null,null,null,null,null,null,1147010100,"양천구","신정동"]
[{"$f":"LEFT($B$349,10)&TEXT($D$349,\"0\")&TEXT($E$349,\"0000\")&TEXT($F$349,\"0000\")","v":"4480025021101750001"},4480025021,null,1,175,1,"175-1","대",507,null,null,null,"충청남도홍성군홍성읍오관리175-1","김태문",null,null,null,null,null,null,null,null,null,null,1147010200,"양천구","목동"]
[{"$f":"LEFT($B$350,10)&TEXT($D$350,\"0\")&TEXT($E$350,\"0000\")&TEXT($F$350,\"0000\")","v":"4480025021101750005"},4480025021,null,1,175,5,"175-5","대",10,null,null,null,"충청남도홍성군홍성읍오관리175-1","김태문",null,null,null,null,null,null,null,null,null,null,1147010300,"양천구","신월동"]
[{"$f":"LEFT($B$351,10)&TEXT($D$351,\"0\")&TEXT($E$351,\"0000\")&TEXT($F$351,\"0000\")","v":"4480025021101760002"},4480025021,null,1,176,2,"176-2","대",407,null,null,null,"충청남도홍성군홍성읍월계천길270-23","박선임",null,null,null,null,null,null,null,null,null,null,1150010100,"강서구","염창동"]
[{"$f":"LEFT($B$352,10)&TEXT($D$352,\"0\")&TEXT($E$352,\"0000\")&TEXT($F$352,\"0000\")","v":"4480025021101770000"},4480025021,null,1,177,0,177,"대",311,null,null,null,"서울용산구청파동1가71-3","재단법인세계기독교통일신령협회",null,null,null,null,null,null,null,null,null,null,1150010200,"강서구","등촌동"]
[{"$f":"LEFT($B$353,10)&TEXT($D$353,\"0\")&TEXT($E$353,\"0000\")&TEXT($F$353,\"0000\")","v":"4480025021101780000"},4480025021,null,1,178,0,178,"대",235,null,null,null,"서울용산구청파동1가71-3","재단법인세계기독교신령협회",null,null,null,null,null,null,null,null,null,null,1150010300,"강서구","화곡동"]
[{"$f":"LEFT($B$354,10)&TEXT($D$354,\"0\")&TEXT($E$354,\"0000\")&TEXT($F$354,\"0000\")","v":"4480025021101790001"},4480025021,null,1,179,1,"179-1","대",342,null,null,null,"충청남도홍성군홍성읍문화로176번길15-11","윤홍숙",null,null,null,null,null,null,null,null,null,null,1150010400,"강서구","가양동"]
[{"$f":"LEFT($B$355,10)&TEXT($D$355,\"0\")&TEXT($E$355,\"0000\")&TEXT($F$355,\"0000\")","v":"4480025021101790003"},4480025021,null,1,179,3,"179-3","대",179,null,null,null,"179-3","윤홍미",null,null,null,null,null,null,null,null,null,null,1150010500,"강서구","마곡동"]
[{"$f":"LEFT($B$356,10)&TEXT($D$356,\"0\")&TEXT($E$356,\"0000\")&TEXT($F$356,\"0000\")","v":"4480025021101800000"},4480025021,null,1,180,0,180,"대",323,null,null,null,"서울특별시서초구강남대로299(서초동)","주식회사생보부동산신탁",null,null,null,null,null,null,null,null,null,null,1150010600,"강서구","내발산동"]
[{"$f":"LEFT($B$357,10)&TEXT($D$357,\"0\")&TEXT($E$357,\"0000\")&TEXT($F$357,\"0000\")","v":"4480025021101800002"},4480025021,null,1,180,2,"180-2","대",22,null,null,null,"서울특별시서초구강남대로299(서초동)","주식회사생보부동산신탁",null,null,null,null,null,null,null,null,null,null,1150010700,"강서구","외발산동"]
[{"$f":"LEFT($B$358,10)&TEXT($D$358,\"0\")&TEXT($E$358,\"0000\")&TEXT($F$358,\"0000\")","v":"4480025021101820001"},4480025021,null,1,182,1,"182-1","대",284,null,null,null,187,"최태선",null,null,null,null,null,null,null,null,null,null,1150010800,"강서구","공항동"]
[{"$f":"LEFT($B$359,10)&TEXT($D$359,\"0\")&TEXT($E$359,\"0000\")&TEXT($F$359,\"0000\")","v":"4480025021101820003"},4480025021,null,1,182,3,"182-3","대",142,null,null,null,"187-4","김선좌",null,null,null,null,null,null,null,null,null,null,1150010900,"강서구","방화동"]
[{"$f":"LEFT($B$360,10)&TEXT($D$360,\"0\")&TEXT($E$360,\"0000\")&TEXT($F$360,\"0000\")","v":"4480025021101820004"},4480025021,null,1,182,4,"182-4","대",96,null,null,null,"오관리394-1","이판영",null,null,null,null,null,null,null,null,null,null,1150011000,"강서구","개화동"]
[{"$f":"LEFT($B$361,10)&TEXT($D$361,\"0\")&TEXT($E$361,\"0000\")&TEXT($F$361,\"0000\")","v":"4480025021101840001"},4480025021,null,1,184,1,"184-1","대",264,null,null,null,"충청남도홍성군홍성읍충서로1506105동904호(세광엔리치타워)","권영식",null,null,null,null,null,null,null,null,null,null,1150011100,"강서구","과해동"]
[{"$f":"LEFT($B$362,10)&TEXT($D$362,\"0\")&TEXT($E$362,\"0000\")&TEXT($F$362,\"0000\")","v":"4480025021101850005"},4480025021,null,1,185,5,"185-5","대",18,null,null,null,"충청남도홍성군홍성읍오관리652미림청솔아파트102-1402","길용섭",null,null,null,null,null,null,null,null,null,null,1150011200,"강서구","오곡동"]
[{"$f":"LEFT($B$363,10)&TEXT($D$363,\"0\")&TEXT($E$363,\"0000\")&TEXT($F$363,\"0000\")","v":"4480025021101860001"},4480025021,null,1,186,1,"186-1","도",49,null,null,null,"홍성군","국",null,null,null,null,null,null,null,null,null,null,1150011300,"강서구","오쇠동"]
[{"$f":"LEFT($B$364,10)&TEXT($D$364,\"0\")&TEXT($E$364,\"0000\")&TEXT($F$364,\"0000\")","v":"4480025021101870001"},4480025021,null,1,187,1,"187-1","대",155,null,null,null,"충청남도홍성군홍성읍문화로176번길22","이정길",null,null,null,null,null,null,null,null,null,null,1153010100,"구로구","신도림동"]
[{"$f":"LEFT($B$365,10)&TEXT($D$365,\"0\")&TEXT($E$365,\"0000\")&TEXT($F$365,\"0000\")","v":"4480025021101870004"},4480025021,null,1,187,4,"187-4","대",249,null,null,null,"오관리187-4","이근재",null,null,null,null,null,null,null,null,null,null,1153010200,"구로구","구로동"]
[{"$f":"LEFT($B$366,10)&TEXT($D$366,\"0\")&TEXT($E$366,\"0000\")&TEXT($F$366,\"0000\")","v":"4480025021101870005"},4480025021,null,1,187,5,"187-5","대",20,null,null,null,"금마면화양리563","유희봉",null,null,null,null,null,null,null,null,null,null,1153010300,"구로구","가리봉동"]
[{"$f":"LEFT($B$367,10)&TEXT($D$367,\"0\")&TEXT($E$367,\"0000\")&TEXT($F$367,\"0000\")","v":"4480025021101870006"},4480025021,null,1,187,6,"187-6","대",244,null,null,null,"금마면화양리563","유희봉",null,null,null,null,null,null,null,null,null,null,1153010600,"구로구","고척동"]
[{"$f":"LEFT($B$368,10)&TEXT($D$368,\"0\")&TEXT($E$368,\"0000\")&TEXT($F$368,\"0000\")","v":"4480025021101870009"},4480025021,null,1,187,9,"187-9","대",145,null,null,null,"홍북면노은리산40","이정호",null,null,null,null,null,null,null,null,null,null,1153010700,"구로구","개봉동"]
[{"$f":"LEFT($B$369,10)&TEXT($D$369,\"0\")&TEXT($E$369,\"0000\")&TEXT($F$369,\"0000\")","v":"4480025021101870010"},4480025021,null,1,187,10,"187-10","대",478,null,null,null,"충청남도홍성군홍북면도청대로307-107","장명숙",null,null,null,null,null,null,null,null,null,null,1153010800,"구로구","오류동"]
[{"$f":"LEFT($B$370,10)&TEXT($D$370,\"0\")&TEXT($E$370,\"0000\")&TEXT($F$370,\"0000\")","v":"4480025021101870012"},4480025021,null,1,187,12,"187-12","대",99,null,null,null,"충청남도홍성군홍성읍오관리192","최병갑",null,null,null,null,null,null,null,null,null,null,1153010900,"구로구","궁동"]
[{"$f":"LEFT($B$371,10)&TEXT($D$371,\"0\")&TEXT($E$371,\"0000\")&TEXT($F$371,\"0000\")","v":"4480025021101870013"},4480025021,null,1,187,13,"187-13","대",16,null,null,null,"충청남도홍성군홍성읍조양로129","최병갑",null,null,null,null,null,null,null,null,null,null,1153011000,"구로구","온수동"]
[{"$f":"LEFT($B$372,10)&TEXT($D$372,\"0\")&TEXT($E$372,\"0000\")&TEXT($F$372,\"0000\")","v":"4480025021101870014"},4480025021,null,1,187,14,"187-14","대",132,null,null,null,"191-2","김광수",null,null,null,null,null,null,null,null,null,null,1153011100,"구로구","천왕동"]
[{"$f":"LEFT($B$373,10)&TEXT($D$373,\"0\")&TEXT($E$373,\"0000\")&TEXT($F$373,\"0000\")","v":"4480025021101870018"},4480025021,null,1,187,18,"187-18","대",337,null,null,null,"충청남도홍성군홍성읍조양로137-23","권영구",null,null,null,null,null,null,null,null,null,null,1153011200,"구로구","항동"]
[{"$f":"LEFT($B$374,10)&TEXT($D$374,\"0\")&TEXT($E$374,\"0000\")&TEXT($F$374,\"0000\")","v":"4480025021101870019"},4480025021,null,1,187,19,"187-19","대",288,null,null,null,"충청남도홍성군홍성읍조양로137-23","권영구",null,null,null,null,null,null,null,null,null,null,1154510100,"금천구","가산동"]
[{"$f":"LEFT($B$375,10)&TEXT($D$375,\"0\")&TEXT($E$375,\"0000\")&TEXT($F$375,\"0000\")","v":"4480025021101870022"},4480025021,null,1,187,22,"187-22","대",13,null,null,null,"194-2","송은자",null,null,null,null,null,null,null,null,null,null,1154510200,"금천구","독산동"]
[{"$f":"LEFT($B$376,10)&TEXT($D$376,\"0\")&TEXT($E$376,\"0000\")&TEXT($F$376,\"0000\")","v":"4480025021101870048"},4480025021,null,1,187,48,"187-48","대",56,null,null,null,"194-2","송은자",null,null,null,null,null,null,null,null,null,null,1154510300,"금천구","시흥동"]
[{"$f":"LEFT($B$377,10)&TEXT($D$377,\"0\")&TEXT($E$377,\"0000\")&TEXT($F$377,\"0000\")","v":"4480025021101870055"},4480025021,null,1,187,55,"187-55","대",61,null,null,null,"충청남도홍성군홍성읍조양로137-5","강찬식",null,null,null,null,null,null,null,null,null,null,1156010100,"영등포구","영등포동"]
[{"$f":"LEFT($B$378,10)&TEXT($D$378,\"0\")&TEXT($E$378,\"0000\")&TEXT($F$378,\"0000\")","v":"4480025021101870056"},4480025021,null,1,187,56,"187-56","대",129,null,null,null,"187-56","이옥순",null,null,null,null,null,null,null,null,null,null,1156010200,"영등포구","영등포동1가"]
[{"$f":"LEFT($B$379,10)&TEXT($D$379,\"0\")&TEXT($E$379,\"0000\")&TEXT($F$379,\"0000\")","v":"4480025021101870059"},4480025021,null,1,187,59,"187-59","대",176,null,null,null,"187-59","김순자",null,null,null,null,null,null,null,null,null,null,1156010300,"영등포구","영등포동2가"]
[{"$f":"LEFT($B$380,10)&TEXT($D$380,\"0\")&TEXT($E$380,\"0000\")&TEXT($F$380,\"0000\")","v":"4480025021101870061"},4480025021,null,1,187,61,"187-61","대",183,null,null,null,"충청남도홍성군홍성읍오관리187-4","이근재",null,null,null,null,null,null,null,null,null,null,1156010400,"영등포구","영등포동3가"]
[{"$f":"LEFT($B$381,10)&TEXT($D$381,\"0\")&TEXT($E$381,\"0000\")&TEXT($F$381,\"0000\")","v":"4480025021101870067"},4480025021,null,1,187,67,"187-67","대",25,null,null,null,"국(기획재정부)","국",null,null,null,null,null,null,null,null,null,null,1156010500,"영등포구","영등포동4가"]
[{"$f":"LEFT($B$382,10)&TEXT($D$382,\"0\")&TEXT($E$382,\"0000\")&TEXT($F$382,\"0000\")","v":"4480025021101880001"},4480025021,null,1,188,1,"188-1","대",1204,null,null,null,"서울종로구공평동100","주식회사한국스탠다드차타드은행",null,null,null,null,null,null,null,null,null,null,1156010600,"영등포구","영등포동5가"]
[{"$f":"LEFT($B$383,10)&TEXT($D$383,\"0\")&TEXT($E$383,\"0000\")&TEXT($F$383,\"0000\")","v":"4480025021101880003"},4480025021,null,1,188,3,"188-3","도",1237,null,null,null,"홍성군","국",null,null,null,null,null,null,null,null,null,null,1156010700,"영등포구","영등포동6가"]
[{"$f":"LEFT($B$384,10)&TEXT($D$384,\"0\")&TEXT($E$384,\"0000\")&TEXT($F$384,\"0000\")","v":"4480025021101910002"},4480025021,null,1,191,2,"191-2","대",149,null,null,null,"191-2","김광수",null,null,null,null,null,null,null,null,null,null,1156010800,"영등포구","영등포동7가"]
[{"$f":"LEFT($B$385,10)&TEXT($D$385,\"0\")&TEXT($E$385,\"0000\")&TEXT($F$385,\"0000\")","v":"4480025021101920000"},4480025021,null,1,192,0,192,"대",117,null,null,null,"충청남도홍성군홍성읍오관리192","최병갑",null,null,null,null,null,null,null,null,null,null,1156010900,"영등포구","영등포동8가"]
[{"$f":"LEFT($B$386,10)&TEXT($D$386,\"0\")&TEXT($E$386,\"0000\")&TEXT($F$386,\"0000\")","v":"4480025021101930000"},4480025021,null,1,193,0,193,"대",76,null,null,null,193,"한승희",null,null,null,null,null,null,null,null,null,null,1156011000,"영등포구","여의도동"]
[{"$f":"LEFT($B$387,10)&TEXT($D$387,\"0\")&TEXT($E$387,\"0000\")&TEXT($F$387,\"0000\")","v":"4480025021101940002"},4480025021,null,1,194,2,"194-2","대",79,null,null,null,"194-2","송은자",null,null,null,null,null,null,null,null,null,null,1156011100,"영등포구","당산동1가"]
[{"$f":"LEFT($B$388,10)&TEXT($D$388,\"0\")&TEXT($E$388,\"0000\")&TEXT($F$388,\"0000\")","v":"4480025021101940003"},4480025021,null,1,194,3,"194-3","도",96,null,null,null,"홍성군","국",null,null,null,null,null,null,null,null,null,null,1156011200,"영등포구","당산동2가"]
[{"$f":"LEFT($B$389,10)&TEXT($D$389,\"0\")&TEXT($E$389,\"0000\")&TEXT($F$389,\"0000\")","v":"4480025021101950001"},4480025021,null,1,195,1,"195-1","대",218,null,null,null,"충청남도홍성군홍성읍충서로1506105동802호(세광엔리치타워)","유순자",null,null,null,null,null,null,null,null,null,null,1156011300,"영등포구","당산동3가"]
[{"$f":"LEFT($B$390,10)&TEXT($D$390,\"0\")&TEXT($E$390,\"0000\")&TEXT($F$390,\"0000\")","v":"4480025021101950005"},4480025021,null,1,195,5,"195-5","대",13,null,null,null,"충청남도홍성군홍성읍충서로1506105동802호(세광엔리치타워)","유순자",null,null,null,null,null,null,null,null,null,null,1156011400,"영등포구","당산동4가"]
[{"$f":"LEFT($B$391,10)&TEXT($D$391,\"0\")&TEXT($E$391,\"0000\")&TEXT($F$391,\"0000\")","v":"4480025021101960001"},4480025021,null,1,196,1,"196-1","대",743,null,null,null,"361-23","이의웅",null,null,null,null,null,null,null,null,null,null,1156011500,"영등포구","당산동5가"]
[{"$f":"LEFT($B$392,10)&TEXT($D$392,\"0\")&TEXT($E$392,\"0000\")&TEXT($F$392,\"0000\")","v":"4480025021101960002"},4480025021,null,1,196,2,"196-2","사",145,null,null,null,"국(문화재관리국)","국",null,null,null,null,null,null,null,null,null,null,1156011600,"영등포구","당산동6가"]
[{"$f":"LEFT($B$393,10)&TEXT($D$393,\"0\")&TEXT($E$393,\"0000\")&TEXT($F$393,\"0000\")","v":"4480025021101960003"},4480025021,null,1,196,3,"196-3","도",20,null,null,null,"국(건설부)","국",null,null,null,null,null,null,null,null,null,null,1156011700,"영등포구","당산동"]
[{"$f":"LEFT($B$394,10)&TEXT($D$394,\"0\")&TEXT($E$394,\"0000\")&TEXT($F$394,\"0000\")","v":"4480025021101960005"},4480025021,null,1,196,5,"196-5","대",83,null,null,null,"홍성군","국",null,null,null,null,null,null,null,null,null,null,1156011800,"영등포구","도림동"]
[{"$f":"LEFT($B$395,10)&TEXT($D$395,\"0\")&TEXT($E$395,\"0000\")&TEXT($F$395,\"0000\")","v":"4480025021101960006"},4480025021,null,1,196,6,"196-6","사",215,null,null,null,"국(문화재청)","국",null,null,null,null,null,null,null,null,null,null,1156011900,"영등포구","문래동1가"]
[{"$f":"LEFT($B$396,10)&TEXT($D$396,\"0\")&TEXT($E$396,\"0000\")&TEXT($F$396,\"0000\")","v":"4480025021101960007"},4480025021,null,1,196,7,"196-7","대",33,null,null,null,"홍성군","국",null,null,null,null,null,null,null,null,null,null,1156012000,"영등포구","문래동2가"]
[{"$f":"LEFT($B$397,10)&TEXT($D$397,\"0\")&TEXT($E$397,\"0000\")&TEXT($F$397,\"0000\")","v":"4480025021101960008"},4480025021,null,1,196,8,"196-8","대",228,null,null,null,"홍성군","국",null,null,null,null,null,null,null,null,null,null,1156012100,"영등포구","문래동3가"]
[{"$f":"LEFT($B$398,10)&TEXT($D$398,\"0\")&TEXT($E$398,\"0000\")&TEXT($F$398,\"0000\")","v":"4480025021101960010"},4480025021,null,1,196,10,"196-10","대",125,null,null,null,"홍성군","국",null,null,null,null,null,null,null,null,null,null,1156012200,"영등포구","문래동4가"]
[{"$f":"LEFT($B$399,10)&TEXT($D$399,\"0\")&TEXT($E$399,\"0000\")&TEXT($F$399,\"0000\")","v":"4480025021101960011"},4480025021,null,1,196,11,"196-11","대",138,null,null,null,"홍성군","국",null,null,null,null,null,null,null,null,null,null,1156012300,"영등포구","문래동5가"]
[{"$f":"LEFT($B$400,10)&TEXT($D$400,\"0\")&TEXT($E$400,\"0000\")&TEXT($F$400,\"0000\")","v":"4480025021101960020"},4480025021,null,1,196,20,"196-20","대",129,null,null,null,"홍성군","국",null,null,null,null,null,null,null,null,null,null,1156012400,"영등포구","문래동6가"]
[{"$f":"LEFT($B$401,10)&TEXT($D$401,\"0\")&TEXT($E$401,\"0000\")&TEXT($F$401,\"0000\")","v":"4480025021101960024"},4480025021,null,1,196,24,"196-24","대",93,null,null,null,"홍성군","국",null,null,null,null,null,null,null,null,null,null,1156012500,"영등포구","양평동1가"]
[{"$f":"LEFT($B$402,10)&TEXT($D$402,\"0\")&TEXT($E$402,\"0000\")&TEXT($F$402,\"0000\")","v":"4480025021101960026"},4480025021,null,1,196,26,"196-26","도",273,null,null,null,"홍성군","국",null,null,null,null,null,null,null,null,null,null,1156012600,"영등포구","양평동2가"]
[{"$f":"LEFT($B$403,10)&TEXT($D$403,\"0\")&TEXT($E$403,\"0000\")&TEXT($F$403,\"0000\")","v":"4480025021101970000"},4480025021,null,1,197,0,197,"대",46,null,null,null,"홍성군","국",null,null,null,null,null,null,null,null,null,null,1156012700,"영등포구","양평동3가"]
[{"$f":"LEFT($B$404,10)&TEXT($D$404,\"0\")&TEXT($E$404,\"0000\")&TEXT($F$404,\"0000\")","v":"4480025021101970001"},4480025021,null,1,197,1,"197-1","대",155,null,null,null,"홍성군","국",null,null,null,null,null,null,null,null,null,null,1156012800,"영등포구","양평동4가"]
[{"$f":"LEFT($B$405,10)&TEXT($D$405,\"0\")&TEXT($E$405,\"0000\")&TEXT($F$405,\"0000\")","v":"4480025021101980001"},4480025021,null,1,198,1,"198-1","대",30,null,null,null,"홍성군","국",null,null,null,null,null,null,null,null,null,null,1156012900,"영등포구","양평동5가"]
[{"$f":"LEFT($B$406,10)&TEXT($D$406,\"0\")&TEXT($E$406,\"0000\")&TEXT($F$406,\"0000\")","v":"4480025021101980003"},4480025021,null,1,198,3,"198-3","대",3,null,null,null,"홍성군","국",null,null,null,null,null,null,null,null,null,null,1156013000,"영등포구","양평동6가"]
[{"$f":"LEFT($B$407,10)&TEXT($D$407,\"0\")&TEXT($E$407,\"0000\")&TEXT($F$407,\"0000\")","v":"4480025021101990003"},4480025021,null,1,199,3,"199-3","대",23,null,null,null,"홍성군","국",null,null,null,null,null,null,null,null,null,null,1156013100,"영등포구","양화동"]
[{"$f":"LEFT($B$408,10)&TEXT($D$408,\"0\")&TEXT($E$408,\"0000\")&TEXT($F$408,\"0000\")","v":"4480025021101990004"},4480025021,null,1,199,4,"199-4","대",10,null,null,null,"국(문화재청)","국",null,null,null,null,null,null,null,null,null,null,1156013200,"영등포구","신길동"]
[{"$f":"LEFT($B$409,10)&TEXT($D$409,\"0\")&TEXT($E$409,\"0000\")&TEXT($F$409,\"0000\")","v":"4480025021101990005"},4480025021,null,1,199,5,"199-5","대",50,null,null,null,"홍성군","국",null,null,null,null,null,null,null,null,null,null,1156013300,"영등포구","대림동"]
[{"$f":"LEFT($B$410,10)&TEXT($D$410,\"0\")&TEXT($E$410,\"0000\")&TEXT($F$410,\"0000\")","v":"4480025021102000001"},4480025021,null,1,200,1,"200-1","대",7,null,null,null,"국(재무부)","국",null,null,null,null,null,null,null,null,null,null,1156013400,"영등포구","양평동"]
[{"$f":"LEFT($B$411,10)&TEXT($D$411,\"0\")&TEXT($E$411,\"0000\")&TEXT($F$411,\"0000\")","v":"4480025021102000002"},4480025021,null,1,200,2,"200-2","대",79,null,null,null,"홍성군","국",null,null,null,null,null,null,null,null,null,null,1159010100,"동작구","노량진동"]
[{"$f":"LEFT($B$412,10)&TEXT($D$412,\"0\")&TEXT($E$412,\"0000\")&TEXT($F$412,\"0000\")","v":"4480025021102000006"},4480025021,null,1,200,6,"200-6","대",1,null,null,null,"국(기획재정부)","국",null,null,null,null,null,null,null,null,null,null,1159010200,"동작구","상도동"]
[{"$f":"LEFT($B$413,10)&TEXT($D$413,\"0\")&TEXT($E$413,\"0000\")&TEXT($F$413,\"0000\")","v":"4480025021102000007"},4480025021,null,1,200,7,"200-7","대",69,null,null,null,"홍성군","국",null,null,null,null,null,null,null,null,null,null,1159010300,"동작구","상도1동"]
[{"$f":"LEFT($B$414,10)&TEXT($D$414,\"0\")&TEXT($E$414,\"0000\")&TEXT($F$414,\"0000\")","v":"4480025021102000008"},4480025021,null,1,200,8,"200-8","대",43,null,null,null,"홍성군","국",null,null,null,null,null,null,null,null,null,null,1159010400,"동작구","본동"]
[{"$f":"LEFT($B$415,10)&TEXT($D$415,\"0\")&TEXT($E$415,\"0000\")&TEXT($F$415,\"0000\")","v":"4480025021102000009"},4480025021,null,1,200,9,"200-9","대",6,null,null,null,"홍성군","국",null,null,null,null,null,null,null,null,null,null,1159010500,"동작구","흑석동"]
[{"$f":"LEFT($B$416,10)&TEXT($D$416,\"0\")&TEXT($E$416,\"0000\")&TEXT($F$416,\"0000\")","v":"4480025021102000015"},4480025021,null,1,200,15,"200-15","도",331,null,null,null,"홍성군","국",null,null,null,null,null,null,null,null,null,null,1159010600,"동작구","동작동"]
[{"$f":"LEFT($B$417,10)&TEXT($D$417,\"0\")&TEXT($E$417,\"0000\")&TEXT($F$417,\"0000\")","v":"4480025021102010002"},4480025021,null,1,201,2,"201-2","대",26,null,null,null,"서울강남구청담동122-19","조선영",null,null,null,null,null,null,null,null,null,null,1159010700,"동작구","사당동"]
[{"$f":"LEFT($B$418,10)&TEXT($D$418,\"0\")&TEXT($E$418,\"0000\")&TEXT($F$418,\"0000\")","v":"4480025021102010003"},4480025021,null,1,201,3,"201-3","대",7,null,null,null,"서울강남구청담동122-19","조선영",null,null,null,null,null,null,null,null,null,null,1159010800,"동작구","대방동"]
[{"$f":"LEFT($B$419,10)&TEXT($D$419,\"0\")&TEXT($E$419,\"0000\")&TEXT($F$419,\"0000\")","v":"4480025021102010004"},4480025021,null,1,201,4,"201-4","대",119,null,null,null,"서울용산구원효로1가36-1","조광영",null,null,null,null,null,null,null,null,null,null,1159010900,"동작구","신대방동"]
[{"$f":"LEFT($B$420,10)&TEXT($D$420,\"0\")&TEXT($E$420,\"0000\")&TEXT($F$420,\"0000\")","v":"4480025021102010005"},4480025021,null,1,201,5,"201-5","대",20,null,null,null,"홍성군","국",null,null,null,null,null,null,null,null,null,null,1162010100,"관악구","봉천동"]
[{"$f":"LEFT($B$421,10)&TEXT($D$421,\"0\")&TEXT($E$421,\"0000\")&TEXT($F$421,\"0000\")","v":"4480025021102020000"},4480025021,null,1,202,0,202,"대",45,null,null,null,"홍성군","국",null,null,null,null,null,null,null,null,null,null,1162010200,"관악구","신림동"]
[{"$f":"LEFT($B$422,10)&TEXT($D$422,\"0\")&TEXT($E$422,\"0000\")&TEXT($F$422,\"0000\")","v":"4480025021102040000"},4480025021,null,1,204,0,204,"대",199,null,null,null,"홍성군","국",null,null,null,null,null,null,null,null,null,null,1162010300,"관악구","남현동"]
[{"$f":"LEFT($B$423,10)&TEXT($D$423,\"0\")&TEXT($E$423,\"0000\")&TEXT($F$423,\"0000\")","v":"4480025021102060007"},4480025021,null,1,206,7,"206-7","대",48,null,null,null,"홍성군","국",null,null,null,null,null,null,null,null,null,null,1165010100,"서초구","방배동"]
[{"$f":"LEFT($B$424,10)&TEXT($D$424,\"0\")&TEXT($E$424,\"0000\")&TEXT($F$424,\"0000\")","v":"4480025021102060009"},4480025021,null,1,206,9,"206-9","대",78,null,null,null,"홍성군","국",null,null,null,null,null,null,null,null,null,null,1165010200,"서초구","양재동"]
[{"$f":"LEFT($B$425,10)&TEXT($D$425,\"0\")&TEXT($E$425,\"0000\")&TEXT($F$425,\"0000\")","v":"4480025021102060010"},4480025021,null,1,206,10,"206-10","대",1,null,null,null,"홍성군","국",null,null,null,null,null,null,null,null,null,null,1165010300,"서초구","우면동"]
[{"$f":"LEFT($B$426,10)&TEXT($D$426,\"0\")&TEXT($E$426,\"0000\")&TEXT($F$426,\"0000\")","v":"4480025021102060012"},4480025021,null,1,206,12,"206-12","대",6,null,null,null,"홍성군","국",null,null,null,null,null,null,null,null,null,null,1165010400,"서초구","원지동"]
[{"$f":"LEFT($B$427,10)&TEXT($D$427,\"0\")&TEXT($E$427,\"0000\")&TEXT($F$427,\"0000\")","v":"4480025021102070000"},4480025021,null,1,207,0,207,"대",15,null,null,null,"홍성군","국",null,null,null,null,null,null,null,null,null,null,1165010600,"서초구","잠원동"]
[{"$f":"LEFT($B$428,10)&TEXT($D$428,\"0\")&TEXT($E$428,\"0000\")&TEXT($F$428,\"0000\")","v":"4480025021102070001"},4480025021,null,1,207,1,"207-1","도",899,null,null,null,"홍성군","국",null,null,null,null,null,null,null,null,null,null,1165010700,"서초구","반포동"]
[{"$f":"LEFT($B$429,10)&TEXT($D$429,\"0\")&TEXT($E$429,\"0000\")&TEXT($F$429,\"0000\")","v":"4480025021102080000"},4480025021,null,1,208,0,208,"차",2178,null,null,null,"홍성군","국",null,null,null,null,null,null,null,null,null,null,1165010800,"서초구","서초동"]
[{"$f":"LEFT($B$430,10)&TEXT($D$430,\"0\")&TEXT($E$430,\"0000\")&TEXT($F$430,\"0000\")","v":"4480025021102130001"},4480025021,null,1,213,1,"213-1","대",286,null,null,null,"홍성군","국",null,null,null,null,null,null,null,null,null,null,1165010900,"서초구","내곡동"]
[{"$f":"LEFT($B$431,10)&TEXT($D$431,\"0\")&TEXT($E$431,\"0000\")&TEXT($F$431,\"0000\")","v":"4480025021102170001"},4480025021,null,1,217,1,"217-1","대",150,null,null,null,602,"전종수",null,null,null,null,null,null,null,null,null,null,1165011000,"서초구","염곡동"]
[{"$f":"LEFT($B$432,10)&TEXT($D$432,\"0\")&TEXT($E$432,\"0000\")&TEXT($F$432,\"0000\")","v":"4480025021102170002"},4480025021,null,1,217,2,"217-2","대",8,null,null,null,"충청남도홍성군홍성읍고암리572-5","이석철",null,null,null,null,null,null,null,null,null,null,1165011100,"서초구","신원동"]
[{"$f":"LEFT($B$433,10)&TEXT($D$433,\"0\")&TEXT($E$433,\"0000\")&TEXT($F$433,\"0000\")","v":"4480025021102170003"},4480025021,null,1,217,3,"217-3","대",401,null,null,null,"충청남도홍성군홍성읍고암리572-5","이석철",null,null,null,null,null,null,null,null,null,null,1168010100,"강남구","역삼동"]
[{"$f":"LEFT($B$434,10)&TEXT($D$434,\"0\")&TEXT($E$434,\"0000\")&TEXT($F$434,\"0000\")","v":"4480025021102170005"},4480025021,null,1,217,5,"217-5","대",25,null,null,null,"홍성군","국",null,null,null,null,null,null,null,null,null,null,1168010300,"강남구","개포동"]
[{"$f":"LEFT($B$435,10)&TEXT($D$435,\"0\")&TEXT($E$435,\"0000\")&TEXT($F$435,\"0000\")","v":"4480025021102180001"},4480025021,null,1,218,1,"218-1","대",206,null,null,null,"홍성군광천읍신진리429-51","신호균",null,null,null,null,null,null,null,null,null,null,1168010400,"강남구","청담동"]
[{"$f":"LEFT($B$436,10)&TEXT($D$436,\"0\")&TEXT($E$436,\"0000\")&TEXT($F$436,\"0000\")","v":"4480025021102180002"},4480025021,null,1,218,2,"218-2","대",332,null,null,null,"충청남도홍성군홍성읍문화로33번길11109동101호(홍성옥암하늘채아파트)","이석철",null,null,null,null,null,null,null,null,null,null,1168010500,"강남구","삼성동"]
[{"$f":"LEFT($B$437,10)&TEXT($D$437,\"0\")&TEXT($E$437,\"0000\")&TEXT($F$437,\"0000\")","v":"4480025021102180004"},4480025021,null,1,218,4,"218-4","도",100,null,null,null,"홍성군","국",null,null,null,null,null,null,null,null,null,null,1168010600,"강남구","대치동"]
[{"$f":"LEFT($B$438,10)&TEXT($D$438,\"0\")&TEXT($E$438,\"0000\")&TEXT($F$438,\"0000\")","v":"4480025021102180007"},4480025021,null,1,218,7,"218-7","도",15,null,null,null,"홍성군","국",null,null,null,null,null,null,null,null,null,null,1168010700,"강남구","신사동"]
[{"$f":"LEFT($B$439,10)&TEXT($D$439,\"0\")&TEXT($E$439,\"0000\")&TEXT($F$439,\"0000\")","v":"4480025021102190001"},4480025021,null,1,219,1,"219-1","대",164,null,null,null,"오관리219","정충희",null,null,null,null,null,null,null,null,null,null,1168010800,"강남구","논현동"]
[{"$f":"LEFT($B$440,10)&TEXT($D$440,\"0\")&TEXT($E$440,\"0000\")&TEXT($F$440,\"0000\")","v":"4480025021102190003"},4480025021,null,1,219,3,"219-3","도",460,null,null,null,"홍성군","국",null,null,null,null,null,null,null,null,null,null,1168011000,"강남구","압구정동"]
[{"$f":"LEFT($B$441,10)&TEXT($D$441,\"0\")&TEXT($E$441,\"0000\")&TEXT($F$441,\"0000\")","v":"4480025021102190004"},4480025021,null,1,219,4,"219-4","대",8,null,null,null,"수원시교동6-91","서동준",null,null,null,null,null,null,null,null,null,null,1168011100,"강남구","세곡동"]
[{"$f":"LEFT($B$442,10)&TEXT($D$442,\"0\")&TEXT($E$442,\"0000\")&TEXT($F$442,\"0000\")","v":"4480025021102210001"},4480025021,null,1,221,1,"221-1","대",104,null,null,null,"오관리221-1","전영진",null,null,null,null,null,null,null,null,null,null,1168011200,"강남구","자곡동"]
[{"$f":"LEFT($B$443,10)&TEXT($D$443,\"0\")&TEXT($E$443,\"0000\")&TEXT($F$443,\"0000\")","v":"4480025021102210010"},4480025021,null,1,221,10,"221-10","대",473,null,null,null,"서울특별시중랑구상봉중앙로8길1041401동1501호(상봉동태영아파트상봉동데시앙)","이탁형",null,null,null,null,null,null,null,null,null,null,1168011300,"강남구","율현동"]
[{"$f":"LEFT($B$444,10)&TEXT($D$444,\"0\")&TEXT($E$444,\"0000\")&TEXT($F$444,\"0000\")","v":"4480025021102210011"},4480025021,null,1,221,11,"221-11","대",23,null,null,null,"충청남도홍성군홍성읍문화로33번길11109동101호(홍성옥암하늘채아파트)","이석철",null,null,null,null,null,null,null,null,null,null,1168011400,"강남구","일원동"]
[{"$f":"LEFT($B$445,10)&TEXT($D$445,\"0\")&TEXT($E$445,\"0000\")&TEXT($F$445,\"0000\")","v":"4480025021102210012"},4480025021,null,1,221,12,"221-12","도",6,null,null,null,"홍성군","국",null,null,null,null,null,null,null,null,null,null,1168011500,"강남구","수서동"]
[{"$f":"LEFT($B$446,10)&TEXT($D$446,\"0\")&TEXT($E$446,\"0000\")&TEXT($F$446,\"0000\")","v":"4480025021102210013"},4480025021,null,1,221,13,"221-13","대",46,null,null,null,"충청남도홍성군홍성읍문화로33번길11109동101호(홍성옥암하늘채아파트)","이석철",null,null,null,null,null,null,null,null,null,null,1168011800,"강남구","도곡동"]
[{"$f":"LEFT($B$447,10)&TEXT($D$447,\"0\")&TEXT($E$447,\"0000\")&TEXT($F$447,\"0000\")","v":"4480025021102210014"},4480025021,null,1,221,14,"221-14","도",91,null,null,null,"홍성군","국",null,null,null,null,null,null,null,null,null,null,1171010100,"송파구","잠실동"]
[{"$f":"LEFT($B$448,10)&TEXT($D$448,\"0\")&TEXT($E$448,\"0000\")&TEXT($F$448,\"0000\")","v":"4480025021102220001"},4480025021,null,1,222,1,"222-1","대",523,null,null,null,"충청남도홍성군홍성읍문화로33번길11109동101호(홍성옥암하늘채아파트)","이석철",null,null,null,null,null,null,null,null,null,null,1171010200,"송파구","신천동"]
[{"$f":"LEFT($B$449,10)&TEXT($D$449,\"0\")&TEXT($E$449,\"0000\")&TEXT($F$449,\"0000\")","v":"4480025021102220004"},4480025021,null,1,222,4,"222-4","도",20,null,null,null,"홍성군","국",null,null,null,null,null,null,null,null,null,null,1171010300,"송파구","풍납동"]
[{"$f":"LEFT($B$450,10)&TEXT($D$450,\"0\")&TEXT($E$450,\"0000\")&TEXT($F$450,\"0000\")","v":"4480025021102230001"},4480025021,null,1,223,1,"223-1","대",83,null,null,null,"국(기획재정부)","국",null,null,null,null,null,null,null,null,null,null,1171010400,"송파구","송파동"]
[{"$f":"LEFT($B$451,10)&TEXT($D$451,\"0\")&TEXT($E$451,\"0000\")&TEXT($F$451,\"0000\")","v":"4480025021102230006"},4480025021,null,1,223,6,"223-6","대",612,null,null,null,"223-6","임종래",null,null,null,null,null,null,null,null,null,null,1171010500,"송파구","석촌동"]
[{"$f":"LEFT($B$452,10)&TEXT($D$452,\"0\")&TEXT($E$452,\"0000\")&TEXT($F$452,\"0000\")","v":"4480025021102230012"},4480025021,null,1,223,12,"223-12","도",36,null,null,null,"홍성군","국",null,null,null,null,null,null,null,null,null,null,1171010600,"송파구","삼전동"]
[{"$f":"LEFT($B$453,10)&TEXT($D$453,\"0\")&TEXT($E$453,\"0000\")&TEXT($F$453,\"0000\")","v":"4480025021102230016"},4480025021,null,1,223,16,"223-16","대",12,null,null,null,"충청남도홍성군홍성읍오관리127","백상수",null,null,null,null,null,null,null,null,null,null,1171010700,"송파구","가락동"]
[{"$f":"LEFT($B$454,10)&TEXT($D$454,\"0\")&TEXT($E$454,\"0000\")&TEXT($F$454,\"0000\")","v":"4480025021102240001"},4480025021,null,1,224,1,"224-1","도",3,null,null,null,null,"최병한",null,null,null,null,null,null,null,null,null,null,1171010800,"송파구","문정동"]
[{"$f":"LEFT($B$455,10)&TEXT($D$455,\"0\")&TEXT($E$455,\"0000\")&TEXT($F$455,\"0000\")","v":"4480025021102240002"},4480025021,null,1,224,2,"224-2","대",496,null,null,null,"홍성군구항면태봉리229","김상운",null,null,null,null,null,null,null,null,null,null,1171010900,"송파구","장지동"]
[{"$f":"LEFT($B$456,10)&TEXT($D$456,\"0\")&TEXT($E$456,\"0000\")&TEXT($F$456,\"0000\")","v":"4480025021102250002"},4480025021,null,1,225,2,"225-2","도",69,null,null,null,"국(건설부)","국",null,null,null,null,null,null,null,null,null,null,1171011100,"송파구","방이동"]
[{"$f":"LEFT($B$457,10)&TEXT($D$457,\"0\")&TEXT($E$457,\"0000\")&TEXT($F$457,\"0000\")","v":"4480025021102250003"},4480025021,null,1,225,3,"225-3","대",10,null,null,null,"홍성군구항면태봉리229","김상운",null,null,null,null,null,null,null,null,null,null,1171011200,"송파구","오금동"]
[{"$f":"LEFT($B$458,10)&TEXT($D$458,\"0\")&TEXT($E$458,\"0000\")&TEXT($F$458,\"0000\")","v":"4480025021102260001"},4480025021,null,1,226,1,"226-1","대",175,null,null,null,"충청남도홍성군홍성읍조양로10번길120-7","김상경",null,null,null,null,null,null,null,null,null,null,1171011300,"송파구","거여동"]
[{"$f":"LEFT($B$459,10)&TEXT($D$459,\"0\")&TEXT($E$459,\"0000\")&TEXT($F$459,\"0000\")","v":"4480025021102260002"},4480025021,null,1,226,2,"226-2","도",96,null,null,null,"서산군서산읍내리288","정한모",null,null,null,null,null,null,null,null,null,null,1171011400,"송파구","마천동"]
[{"$f":"LEFT($B$460,10)&TEXT($D$460,\"0\")&TEXT($E$460,\"0000\")&TEXT($F$460,\"0000\")","v":"4480025021102270001"},4480025021,null,1,227,1,"227-1","대",36,null,null,null,"충청남도홍성군홍성읍충절로953번길20109동1201호(신동아파밀리에아파트)","김선",null,null,null,null,null,null,null,null,null,null,1174010100,"강동구","명일동"]
[{"$f":"LEFT($B$461,10)&TEXT($D$461,\"0\")&TEXT($E$461,\"0000\")&TEXT($F$461,\"0000\")","v":"4480025021102290002"},4480025021,null,1,229,2,"229-2","도",96,null,null,null,"남관리","김정현",null,null,null,null,null,null,null,null,null,null,1174010200,"강동구","고덕동"]
[{"$f":"LEFT($B$462,10)&TEXT($D$462,\"0\")&TEXT($E$462,\"0000\")&TEXT($F$462,\"0000\")","v":"4480025021102290003"},4480025021,null,1,229,3,"229-3","대",407,null,null,null,"서울특별시종로구백석동1길8-42층(부암동)","박근형",null,null,null,null,null,null,null,null,null,null,1174010300,"강동구","상일동"]
[{"$f":"LEFT($B$463,10)&TEXT($D$463,\"0\")&TEXT($E$463,\"0000\")&TEXT($F$463,\"0000\")","v":"4480025021102300000"},4480025021,null,1,230,0,230,"대",473,null,null,null,"서산시예천동524-5현대아파트101-1203","최병하",null,null,null,null,null,null,null,null,null,null,1174010500,"강동구","길동"]
[{"$f":"LEFT($B$464,10)&TEXT($D$464,\"0\")&TEXT($E$464,\"0000\")&TEXT($F$464,\"0000\")","v":"4480025021102310000"},4480025021,null,1,231,0,231,"대",149,null,null,null,"충청남도홍성군홍성읍오관리808세광엔리치타워101-204","한기권",null,null,null,null,null,null,null,null,null,null,1174010600,"강동구","둔촌동"]
[{"$f":"LEFT($B$465,10)&TEXT($D$465,\"0\")&TEXT($E$465,\"0000\")&TEXT($F$465,\"0000\")","v":"4480025021102310002"},4480025021,null,1,231,2,"231-2","대",7,null,null,null,"충청남도홍성군홍성읍오관리808세광엔리치타워101-204","한기권",null,null,null,null,null,null,null,null,null,null,1174010700,"강동구","암사동"]
[{"$f":"LEFT($B$466,10)&TEXT($D$466,\"0\")&TEXT($E$466,\"0000\")&TEXT($F$466,\"0000\")","v":"4480025021102310003"},4480025021,null,1,231,3,"231-3","도",18,null,null,null,"홍성군","국",null,null,null,null,null,null,null,null,null,null,1174010800,"강동구","성내동"]
[{"$f":"LEFT($B$467,10)&TEXT($D$467,\"0\")&TEXT($E$467,\"0000\")&TEXT($F$467,\"0000\")","v":"4480025021102310004"},4480025021,null,1,231,4,"231-4","도",9,null,null,null,"홍성군","국",null,null,null,null,null,null,null,null,null,null,1174010900,"강동구","천호동"]
[{"$f":"LEFT($B$468,10)&TEXT($D$468,\"0\")&TEXT($E$468,\"0000\")&TEXT($F$468,\"0000\")","v":"4480025021102320000"},4480025021,null,1,232,0,232,"대",262,null,null,null,"충청남도홍성군홍성읍오관리808세광엔리치타워101-204","한기권",null,null,null,null,null,null,null,null,null,null,1174011000,"강동구","강일동"]
[{"$f":"LEFT($B$469,10)&TEXT($D$469,\"0\")&TEXT($E$469,\"0000\")&TEXT($F$469,\"0000\")","v":"4480025021102330001"},4480025021,null,1,233,1,"233-1","대",228,null,null,null,"충청남도홍성군광천읍광천로315번길14-1","이유순",null,null,null,null,null,null,null,null,null,null,2611010100,"중구","영주동"]
[{"$f":"LEFT($B$470,10)&TEXT($D$470,\"0\")&TEXT($E$470,\"0000\")&TEXT($F$470,\"0000\")","v":"4480025021102330003"},4480025021,null,1,233,3,"233-3","도",91,null,null,null,"홍성군","국",null,null,null,null,null,null,null,null,null,null,2611010200,"중구","대창동1가"]
[{"$f":"LEFT($B$471,10)&TEXT($D$471,\"0\")&TEXT($E$471,\"0000\")&TEXT($F$471,\"0000\")","v":"4480025021102330009"},4480025021,null,1,233,9,"233-9","대",32,null,null,null,"충청남도홍성군홍성읍홍성천길154-19디동201호(일승주택)","이건호",null,null,null,null,null,null,null,null,null,null,2611010300,"중구","대창동2가"]
[{"$f":"LEFT($B$472,10)&TEXT($D$472,\"0\")&TEXT($E$472,\"0000\")&TEXT($F$472,\"0000\")","v":"4480025021102330010"},4480025021,null,1,233,10,"233-10","대",7,null,null,null,"충청남도홍성군홍성읍홍장북로425","이해호",null,null,null,null,null,null,null,null,null,null,2611010400,"중구","중앙동1가"]
[{"$f":"LEFT($B$473,10)&TEXT($D$473,\"0\")&TEXT($E$473,\"0000\")&TEXT($F$473,\"0000\")","v":"4480025021102350003"},4480025021,null,1,235,3,"235-3","대",3,null,null,null,"국(기획재정부)","국",null,null,null,null,null,null,null,null,null,null,2611010500,"중구","중앙동2가"]
[{"$f":"LEFT($B$474,10)&TEXT($D$474,\"0\")&TEXT($E$474,\"0000\")&TEXT($F$474,\"0000\")","v":"4480025021102350004"},4480025021,null,1,235,4,"235-4","도",35,null,null,null,"홍성군","국",null,null,null,null,null,null,null,null,null,null,2611010600,"중구","중앙동3가"]
[{"$f":"LEFT($B$475,10)&TEXT($D$475,\"0\")&TEXT($E$475,\"0000\")&TEXT($F$475,\"0000\")","v":"4480025021102350006"},4480025021,null,1,235,6,"235-6","대",1,null,null,null,"충청남도홍성군홍성읍오관리808세광엔리치타워101-204","한기권",null,null,null,null,null,null,null,null,null,null,2611010700,"중구","중앙동4가"]
[{"$f":"LEFT($B$476,10)&TEXT($D$476,\"0\")&TEXT($E$476,\"0000\")&TEXT($F$476,\"0000\")","v":"4480025021102360001"},4480025021,null,1,236,1,"236-1","대",76,null,null,null,"8-3신천무궁화아파트806","장석기",null,null,null,null,null,null,null,null,null,null,2611010800,"중구","중앙동5가"]
[{"$f":"LEFT($B$477,10)&TEXT($D$477,\"0\")&TEXT($E$477,\"0000\")&TEXT($F$477,\"0000\")","v":"4480025021102360002"},4480025021,null,1,236,2,"236-2","대",30,null,null,null,"237-3","장석기",null,null,null,null,null,null,null,null,null,null,2611010900,"중구","중앙동6가"]
[{"$f":"LEFT($B$478,10)&TEXT($D$478,\"0\")&TEXT($E$478,\"0000\")&TEXT($F$478,\"0000\")","v":"4480025021102360003"},4480025021,null,1,236,3,"236-3","대",353,null,null,null,"충청남도홍성군홍성읍홍성천길154-22203호(유지빌라)","서정옥",null,null,null,null,null,null,null,null,null,null,2611011000,"중구","중앙동7가"]
[{"$f":"LEFT($B$479,10)&TEXT($D$479,\"0\")&TEXT($E$479,\"0000\")&TEXT($F$479,\"0000\")","v":"4480025021102360004"},4480025021,null,1,236,4,"236-4","대",44,null,null,null,"충청남도홍성군홍성읍홍성천길154-22203호(유지빌라)","서정옥",null,null,null,null,null,null,null,null,null,null,2611011100,"중구","동광동1가"]
[{"$f":"LEFT($B$480,10)&TEXT($D$480,\"0\")&TEXT($E$480,\"0000\")&TEXT($F$480,\"0000\")","v":"4480025021102370003"},4480025021,null,1,237,3,"237-3","대",152,null,null,null,"8-3신천무궁화아파트806","장석기",null,null,null,null,null,null,null,null,null,null,2611011200,"중구","동광동2가"]
[{"$f":"LEFT($B$481,10)&TEXT($D$481,\"0\")&TEXT($E$481,\"0000\")&TEXT($F$481,\"0000\")","v":"4480025021102380001"},4480025021,null,1,238,1,"238-1","대",248,null,null,null,"서울특별시중랑구중랑천로286108동702호(묵동묵동아이파크)","최홍기",null,null,null,null,null,null,null,null,null,null,2611011300,"중구","동광동3가"]
[{"$f":"LEFT($B$482,10)&TEXT($D$482,\"0\")&TEXT($E$482,\"0000\")&TEXT($F$482,\"0000\")","v":"4480025021102380005"},4480025021,null,1,238,5,"238-5","대",116,null,null,null,"충청남도홍성군홍성읍아문길29번길52","한기홍",null,null,null,null,null,null,null,null,null,null,2611011400,"중구","동광동4가"]
[{"$f":"LEFT($B$483,10)&TEXT($D$483,\"0\")&TEXT($E$483,\"0000\")&TEXT($F$483,\"0000\")","v":"4480025021102380006"},4480025021,null,1,238,6,"238-6","대",169,null,null,null,"대전광역시유성구배울2로6106동1404호(관평동대덕테크노밸리1단지아파트)","윤국노",null,null,null,null,null,null,null,null,null,null,2611011500,"중구","동광동5가"]
[{"$f":"LEFT($B$484,10)&TEXT($D$484,\"0\")&TEXT($E$484,\"0000\")&TEXT($F$484,\"0000\")","v":"4480025021102380007"},4480025021,null,1,238,7,"238-7","대",216,null,null,null,"충청남도홍성군홍성읍아문길29번길52","한기홍",null,null,null,null,null,null,null,null,null,null,2611011600,"중구","대청동1가"]
[{"$f":"LEFT($B$485,10)&TEXT($D$485,\"0\")&TEXT($E$485,\"0000\")&TEXT($F$485,\"0000\")","v":"4480025021102380008"},4480025021,null,1,238,8,"238-8","대",201,null,null,null,"대전광역시유성구봉명로48805동3001호(원신흥동신안인스빌리베라)","한경민",null,null,null,null,null,null,null,null,null,null,2611011700,"중구","대청동2가"]
[{"$f":"LEFT($B$486,10)&TEXT($D$486,\"0\")&TEXT($E$486,\"0000\")&TEXT($F$486,\"0000\")","v":"4480025021102380011"},4480025021,null,1,238,11,"238-11","대",7,null,null,null,"국(기획재정부)","국",null,null,null,null,null,null,null,null,null,null,2611011800,"중구","대청동3가"]
[{"$f":"LEFT($B$487,10)&TEXT($D$487,\"0\")&TEXT($E$487,\"0000\")&TEXT($F$487,\"0000\")","v":"4480025021102380012"},4480025021,null,1,238,12,"238-12","대",26,null,null,null,243,"한상호",null,null,null,null,null,null,null,null,null,null,2611011900,"중구","대청동4가"]
[{"$f":"LEFT($B$488,10)&TEXT($D$488,\"0\")&TEXT($E$488,\"0000\")&TEXT($F$488,\"0000\")","v":"4480025021102390000"},4480025021,null,1,239,0,239,"대",639,null,null,null,"충청남도홍성군홍성읍충서로1506102동303호(세광엔리치타워)","윤항노",null,null,null,null,null,null,null,null,null,null,2611012000,"중구","보수동1가"]
[{"$f":"LEFT($B$489,10)&TEXT($D$489,\"0\")&TEXT($E$489,\"0000\")&TEXT($F$489,\"0000\")","v":"4480025021102390001"},4480025021,null,1,239,1,"239-1","대",277,null,null,null,"충청남도홍성군홍성읍충서로1506102동303호(세광엔리치타워)","윤항노",null,null,null,null,null,null,null,null,null,null,2611012100,"중구","보수동2가"]
[{"$f":"LEFT($B$490,10)&TEXT($D$490,\"0\")&TEXT($E$490,\"0000\")&TEXT($F$490,\"0000\")","v":"4480025021102400000"},4480025021,null,1,240,0,240,"답",10,null,null,null,"구항면내현리175","한영완",null,null,null,null,null,null,null,null,null,null,2611012200,"중구","보수동3가"]
[{"$f":"LEFT($B$491,10)&TEXT($D$491,\"0\")&TEXT($E$491,\"0000\")&TEXT($F$491,\"0000\")","v":"4480025021102410001"},4480025021,null,1,241,1,"241-1","도",43,null,null,null,null,"이청용",null,null,null,null,null,null,null,null,null,null,2611012300,"중구","부평동1가"]
[{"$f":"LEFT($B$492,10)&TEXT($D$492,\"0\")&TEXT($E$492,\"0000\")&TEXT($F$492,\"0000\")","v":"4480025021102410004"},4480025021,null,1,241,4,"241-4","대",76,null,null,null,"홍성군","국",null,null,null,null,null,null,null,null,null,null,2611012400,"중구","부평동2가"]
[{"$f":"LEFT($B$493,10)&TEXT($D$493,\"0\")&TEXT($E$493,\"0000\")&TEXT($F$493,\"0000\")","v":"4480025021102410008"},4480025021,null,1,241,8,"241-8","대",99,null,null,null,"홍성군","국",null,null,null,null,null,null,null,null,null,null,2611012500,"중구","부평동3가"]
[{"$f":"LEFT($B$494,10)&TEXT($D$494,\"0\")&TEXT($E$494,\"0000\")&TEXT($F$494,\"0000\")","v":"4480025021102420000"},4480025021,null,1,242,0,242,"대",240,null,null,null,"경기도수원시영통구영통로154번길56107동1603호(망포동한양수자인)","정일진",null,null,null,null,null,null,null,null,null,null,2611012600,"중구","부평동4가"]
[{"$f":"LEFT($B$495,10)&TEXT($D$495,\"0\")&TEXT($E$495,\"0000\")&TEXT($F$495,\"0000\")","v":"4480025021102430000"},4480025021,null,1,243,0,243,"대",542,null,null,null,243,"한상호",null,null,null,null,null,null,null,null,null,null,2611012700,"중구","신창동1가"]
[{"$f":"LEFT($B$496,10)&TEXT($D$496,\"0\")&TEXT($E$496,\"0000\")&TEXT($F$496,\"0000\")","v":"4480025021102450001"},4480025021,null,1,245,1,"245-1","대",244,null,null,null,"충청남도홍성군홍성읍아문길29번길48","개신화",null,null,null,null,null,null,null,null,null,null,2611012800,"중구","신창동2가"]
[{"$f":"LEFT($B$497,10)&TEXT($D$497,\"0\")&TEXT($E$497,\"0000\")&TEXT($F$497,\"0000\")","v":"4480025021102450002"},4480025021,null,1,245,2,"245-2","대",53,null,null,null,"성남시분당구분당동71장안타운127-701","전용신",null,null,null,null,null,null,null,null,null,null,2611012900,"중구","신창동3가"]
[{"$f":"LEFT($B$498,10)&TEXT($D$498,\"0\")&TEXT($E$498,\"0000\")&TEXT($F$498,\"0000\")","v":"4480025021102450003"},4480025021,null,1,245,3,"245-3","대",7,null,null,null,"245-2","전화진",null,null,null,null,null,null,null,null,null,null,2611013000,"중구","신창동4가"]
[{"$f":"LEFT($B$499,10)&TEXT($D$499,\"0\")&TEXT($E$499,\"0000\")&TEXT($F$499,\"0000\")","v":"4480025021102480001"},4480025021,null,1,248,1,"248-1","대",119,null,null,null,"충청남도홍성군갈산면갈산서길250번길105-10","야닛사킷사누안",null,null,null,null,null,null,null,null,null,null,2611013100,"중구","창선동1가"]
[{"$f":"LEFT($B$500,10)&TEXT($D$500,\"0\")&TEXT($E$500,\"0000\")&TEXT($F$500,\"0000\")","v":"4480025021102480005"},4480025021,null,1,248,5,"248-5","대",466,null,null,null,"충청남도홍성군광천읍홍남로617번길5","정덕희",null,null,null,null,null,null,null,null,null,null,2611013200,"중구","창선동2가"]
[{"$f":"LEFT($B$501,10)&TEXT($D$501,\"0\")&TEXT($E$501,\"0000\")&TEXT($F$501,\"0000\")","v":"4480025021102490001"},4480025021,null,1,249,1,"249-1","대",201,null,null,null,"충청남도청양군청양읍읍내리283-13","정순이",null,null,null,null,null,null,null,null,null,null,2611013300,"중구","광복동1가"]
[{"$f":"LEFT($B$502,10)&TEXT($D$502,\"0\")&TEXT($E$502,\"0000\")&TEXT($F$502,\"0000\")","v":"4480025021102510002"},4480025021,null,1,251,2,"251-2","대",17,null,null,null,"경기도화성시동탄공원로21-11948동502호(능동동탄푸른마을모아미래도아파트)","이기창",null,null,null,null,null,null,null,null,null,null,2611013400,"중구","광복동2가"]
[{"$f":"LEFT($B$503,10)&TEXT($D$503,\"0\")&TEXT($E$503,\"0000\")&TEXT($F$503,\"0000\")","v":"4480025021102540000"},4480025021,null,1,254,0,254,"대",460,null,null,null,"대전광역시대덕구동서대로1811(송촌동)","주식회사도우상사",null,null,null,null,null,null,null,null,null,null,2611013500,"중구","광복동3가"]
[{"$f":"LEFT($B$504,10)&TEXT($D$504,\"0\")&TEXT($E$504,\"0000\")&TEXT($F$504,\"0000\")","v":"4480025021102540001"},4480025021,null,1,254,1,"254-1","대",26,null,null,null,"258-4","심재선",null,null,null,null,null,null,null,null,null,null,2611013600,"중구","남포동1가"]
[{"$f":"LEFT($B$505,10)&TEXT($D$505,\"0\")&TEXT($E$505,\"0000\")&TEXT($F$505,\"0000\")","v":"4480025021102560001"},4480025021,null,1,256,1,"256-1","대",152,null,null,null,"충청남도홍성군홍성읍조양로120번길16","이소연",null,null,null,null,null,null,null,null,null,null,2611013700,"중구","남포동2가"]
[{"$f":"LEFT($B$506,10)&TEXT($D$506,\"0\")&TEXT($E$506,\"0000\")&TEXT($F$506,\"0000\")","v":"4480025021102560002"},4480025021,null,1,256,2,"256-2","대",66,null,null,null,"충청남도홍성군홍성읍조양로120번길16","이소연",null,null,null,null,null,null,null,null,null,null,2611013800,"중구","남포동3가"]
[{"$f":"LEFT($B$507,10)&TEXT($D$507,\"0\")&TEXT($E$507,\"0000\")&TEXT($F$507,\"0000\")","v":"4480025021102580000"},4480025021,null,1,258,0,258,"대",73,null,null,null,"260-5","최창학",null,null,null,null,null,null,null,null,null,null,2611013900,"중구","남포동4가"]
[{"$f":"LEFT($B$508,10)&TEXT($D$508,\"0\")&TEXT($E$508,\"0000\")&TEXT($F$508,\"0000\")","v":"4480025021102580004"},4480025021,null,1,258,4,"258-4","대",149,null,null,null,"258-4","심재선",null,null,null,null,null,null,null,null,null,null,2611014000,"중구","남포동5가"]
[{"$f":"LEFT($B$509,10)&TEXT($D$509,\"0\")&TEXT($E$509,\"0000\")&TEXT($F$509,\"0000\")","v":"4480025021102590002"},4480025021,null,1,259,2,"259-2","대",13,null,null,null,"홍성군","국",null,null,null,null,null,null,null,null,null,null,2611014100,"중구","남포동6가"]
[{"$f":"LEFT($B$510,10)&TEXT($D$510,\"0\")&TEXT($E$510,\"0000\")&TEXT($F$510,\"0000\")","v":"4480025021102590006"},4480025021,null,1,259,6,"259-6","대",69,null,null,null,"259-1","유병권",null,null,null,null,null,null,null,null,null,null,2614010100,"서구","동대신동1가"]
[{"$f":"LEFT($B$511,10)&TEXT($D$511,\"0\")&TEXT($E$511,\"0000\")&TEXT($F$511,\"0000\")","v":"4480025021102590007"},4480025021,null,1,259,7,"259-7","도",36,null,null,null,"홍성군","국",null,null,null,null,null,null,null,null,null,null,2614010200,"서구","동대신동2가"]
[{"$f":"LEFT($B$512,10)&TEXT($D$512,\"0\")&TEXT($E$512,\"0000\")&TEXT($F$512,\"0000\")","v":"4480025021102600005"},4480025021,null,1,260,5,"260-5","대",228,null,null,null,"260-5","최창학",null,null,null,null,null,null,null,null,null,null,2614010300,"서구","동대신동3가"]
[{"$f":"LEFT($B$513,10)&TEXT($D$513,\"0\")&TEXT($E$513,\"0000\")&TEXT($F$513,\"0000\")","v":"4480025021102620001"},4480025021,null,1,262,1,"262-1","대",212,null,null,null,"충청남도홍성군홍성읍오관리262","홍순영",null,null,null,null,null,null,null,null,null,null,2614010400,"서구","서대신동1가"]
[{"$f":"LEFT($B$514,10)&TEXT($D$514,\"0\")&TEXT($E$514,\"0000\")&TEXT($F$514,\"0000\")","v":"4480025021102620003"},4480025021,null,1,262,3,"262-3","대",126,null,null,null,"256-1","김계순",null,null,null,null,null,null,null,null,null,null,2614010500,"서구","서대신동2가"]
[{"$f":"LEFT($B$515,10)&TEXT($D$515,\"0\")&TEXT($E$515,\"0000\")&TEXT($F$515,\"0000\")","v":"4480025021102620004"},4480025021,null,1,262,4,"262-4","대",43,null,null,null,"256-1","김계순",null,null,null,null,null,null,null,null,null,null,2614010600,"서구","서대신동3가"]
[{"$f":"LEFT($B$516,10)&TEXT($D$516,\"0\")&TEXT($E$516,\"0000\")&TEXT($F$516,\"0000\")","v":"4480025021102640000"},4480025021,null,1,264,0,264,"대",165,null,null,null,264,"오화자",null,null,null,null,null,null,null,null,null,null,2614010700,"서구","부용동1가"]
[{"$f":"LEFT($B$517,10)&TEXT($D$517,\"0\")&TEXT($E$517,\"0000\")&TEXT($F$517,\"0000\")","v":"4480025021102650001"},4480025021,null,1,265,1,"265-1","대",235,null,null,null,"256-1","박준호",null,null,null,null,null,null,null,null,null,null,2614010800,"서구","부용동2가"]
[{"$f":"LEFT($B$518,10)&TEXT($D$518,\"0\")&TEXT($E$518,\"0000\")&TEXT($F$518,\"0000\")","v":"4480025021102650006"},4480025021,null,1,265,6,"265-6","대",178,null,null,null,"대전광역시유성구학하로33103동501호(계산동학의뜰아파트)","정희영",null,null,null,null,null,null,null,null,null,null,2614010900,"서구","부민동1가"]
[{"$f":"LEFT($B$519,10)&TEXT($D$519,\"0\")&TEXT($E$519,\"0000\")&TEXT($F$519,\"0000\")","v":"4480025021102650012"},4480025021,null,1,265,12,"265-12","대",127,null,null,null,"265-12","강정환",null,null,null,null,null,null,null,null,null,null,2614011000,"서구","부민동2가"]
[{"$f":"LEFT($B$520,10)&TEXT($D$520,\"0\")&TEXT($E$520,\"0000\")&TEXT($F$520,\"0000\")","v":"4480025021102650013"},4480025021,null,1,265,13,"265-13","대",46,null,null,null,"2663층","김병태",null,null,null,null,null,null,null,null,null,null,2614011100,"서구","부민동3가"]
[{"$f":"LEFT($B$521,10)&TEXT($D$521,\"0\")&TEXT($E$521,\"0000\")&TEXT($F$521,\"0000\")","v":"4480025021102660000"},4480025021,null,1,266,0,266,"대",2112,null,null,null,"월산리산149-1","조병남",null,null,null,null,null,null,null,null,null,null,2614011200,"서구","토성동1가"]
[{"$f":"LEFT($B$522,10)&TEXT($D$522,\"0\")&TEXT($E$522,\"0000\")&TEXT($F$522,\"0000\")","v":"4480025021102680001"},4480025021,null,1,268,1,"268-1","대",129,null,null,null,268,"이중식",null,null,null,null,null,null,null,null,null,null,2614011300,"서구","토성동2가"]
[{"$f":"LEFT($B$523,10)&TEXT($D$523,\"0\")&TEXT($E$523,\"0000\")&TEXT($F$523,\"0000\")","v":"4480025021102680002"},4480025021,null,1,268,2,"268-2","대",89,null,null,null,"대전광역시유성구지족동978반석마을아파트2단지209-2402","전병철",null,null,null,null,null,null,null,null,null,null,2614011400,"서구","토성동3가"]
[{"$f":"LEFT($B$524,10)&TEXT($D$524,\"0\")&TEXT($E$524,\"0000\")&TEXT($F$524,\"0000\")","v":"4480025021102680003"},4480025021,null,1,268,3,"268-3","대",159,null,null,null,"276-3신천아파트다동605호","고광성",null,null,null,null,null,null,null,null,null,null,2614011500,"서구","아미동1가"]
[{"$f":"LEFT($B$525,10)&TEXT($D$525,\"0\")&TEXT($E$525,\"0000\")&TEXT($F$525,\"0000\")","v":"4480025021102680006"},4480025021,null,1,268,6,"268-6","대",86,null,null,null,"276-3신천아파트다동605호","고광성",null,null,null,null,null,null,null,null,null,null,2614011600,"서구","아미동2가"]
[{"$f":"LEFT($B$526,10)&TEXT($D$526,\"0\")&TEXT($E$526,\"0000\")&TEXT($F$526,\"0000\")","v":"4480025021102680007"},4480025021,null,1,268,7,"268-7","대",89,null,null,null,"대전광역시유성구지족동978반석마을아파트2단지209-2402","전병철",null,null,null,null,null,null,null,null,null,null,2614011700,"서구","토성동4가"]
[{"$f":"LEFT($B$527,10)&TEXT($D$527,\"0\")&TEXT($E$527,\"0000\")&TEXT($F$527,\"0000\")","v":"4480025021102680008"},4480025021,null,1,268,8,"268-8","대",23,null,null,null,"대전광역시유성구지족동978반석마을아파트2단지209-2402","전병철",null,null,null,null,null,null,null,null,null,null,2614011800,"서구","토성동5가"]
[{"$f":"LEFT($B$528,10)&TEXT($D$528,\"0\")&TEXT($E$528,\"0000\")&TEXT($F$528,\"0000\")","v":"4480025021102680009"},4480025021,null,1,268,9,"268-9","대",50,null,null,null,"276-3신천아파트다동605호","고광성",null,null,null,null,null,null,null,null,null,null,2614011900,"서구","초장동"]
[{"$f":"LEFT($B$529,10)&TEXT($D$529,\"0\")&TEXT($E$529,\"0000\")&TEXT($F$529,\"0000\")","v":"4480025021102710008"},4480025021,null,1,271,8,"271-8","도",737,null,null,null,"홍성군","국",null,null,null,null,null,null,null,null,null,null,2614012000,"서구","충무동1가"]
[{"$f":"LEFT($B$530,10)&TEXT($D$530,\"0\")&TEXT($E$530,\"0000\")&TEXT($F$530,\"0000\")","v":"4480025021102720000"},4480025021,null,1,272,0,272,"대",168,null,null,null,"충청남도홍성군광천읍홍남로863번길17-23","조성덕",null,null,null,null,null,null,null,null,null,null,2614012100,"서구","충무동2가"]
[{"$f":"LEFT($B$531,10)&TEXT($D$531,\"0\")&TEXT($E$531,\"0000\")&TEXT($F$531,\"0000\")","v":"4480025021102720001"},4480025021,null,1,272,1,"272-1","대",149,null,null,null,"충청남도홍성군홍성읍의사로45","이금순",null,null,null,null,null,null,null,null,null,null,2614012200,"서구","충무동3가"]
[{"$f":"LEFT($B$532,10)&TEXT($D$532,\"0\")&TEXT($E$532,\"0000\")&TEXT($F$532,\"0000\")","v":"4480025021102720002"},4480025021,null,1,272,2,"272-2","대",242,null,null,null,"충청남도홍성군홍성읍월산로30번길39102동1406호(부영아파트)","안경숙",null,null,null,null,null,null,null,null,null,null,2614012300,"서구","남부민동"]
[{"$f":"LEFT($B$533,10)&TEXT($D$533,\"0\")&TEXT($E$533,\"0000\")&TEXT($F$533,\"0000\")","v":"4480025021102730001"},4480025021,null,1,273,1,"273-1","대",139,null,null,null,"울산광역시울주군범서읍대리1길12-14501호(경동빌리지2차)","이연자",null,null,null,null,null,null,null,null,null,null,2614012400,"서구","암남동"]
[{"$f":"LEFT($B$534,10)&TEXT($D$534,\"0\")&TEXT($E$534,\"0000\")&TEXT($F$534,\"0000\")","v":"4480025021102740001"},4480025021,null,1,274,1,"274-1","대",245,null,null,null,"274-1","신감열",null,null,null,null,null,null,null,null,null,null,2617010100,"동구","초량동"]
[{"$f":"LEFT($B$535,10)&TEXT($D$535,\"0\")&TEXT($E$535,\"0000\")&TEXT($F$535,\"0000\")","v":"4480025021102740003"},4480025021,null,1,274,3,"274-3","대",112,null,null,null,"오관리274-3","김구년",null,null,null,null,null,null,null,null,null,null,2617010200,"동구","수정동"]
[{"$f":"LEFT($B$536,10)&TEXT($D$536,\"0\")&TEXT($E$536,\"0000\")&TEXT($F$536,\"0000\")","v":"4480025021102740004"},4480025021,null,1,274,4,"274-4","대",131,null,null,null,"서울특별시도봉구마들로16길56102동1503호(창동성원아파트)","민화영",null,null,null,null,null,null,null,null,null,null,2617010300,"동구","좌천동"]
[{"$f":"LEFT($B$537,10)&TEXT($D$537,\"0\")&TEXT($E$537,\"0000\")&TEXT($F$537,\"0000\")","v":"4480025021102740011"},4480025021,null,1,274,11,"274-11","대",326,null,null,null,"충청남도홍성군광천읍신진리544-10","표재구",null,null,null,null,null,null,null,null,null,null,2617010400,"동구","범일동"]
[{"$f":"LEFT($B$538,10)&TEXT($D$538,\"0\")&TEXT($E$538,\"0000\")&TEXT($F$538,\"0000\")","v":"4480025021102740013"},4480025021,null,1,274,13,"274-13","대",225,null,null,null,"대전시중구유천동10현대아파트110-605호","장승응",null,null,null,null,null,null,null,null,null,null,2620010100,"영도구","대교동1가"]
[{"$f":"LEFT($B$539,10)&TEXT($D$539,\"0\")&TEXT($E$539,\"0000\")&TEXT($F$539,\"0000\")","v":"4480025021102740014"},4480025021,null,1,274,14,"274-14","대",246,null,null,null,"대교리379","신천주택건설합자회사",null,null,null,null,null,null,null,null,null,null,2620010200,"영도구","대교동2가"]
[{"$f":"LEFT($B$540,10)&TEXT($D$540,\"0\")&TEXT($E$540,\"0000\")&TEXT($F$540,\"0000\")","v":"4480025021102740016"},4480025021,null,1,274,16,"274-16","대",84,null,null,null,"홍성군","국",null,null,null,null,null,null,null,null,null,null,2620010300,"영도구","대평동1가"]
[{"$f":"LEFT($B$541,10)&TEXT($D$541,\"0\")&TEXT($E$541,\"0000\")&TEXT($F$541,\"0000\")","v":"4480025021102750001"},4480025021,null,1,275,1,"275-1","대",1036,null,null,null,"경기도안양시만안구석수동346-3영풍마드레빌아파트101-509","홍성욱",null,null,null,null,null,null,null,null,null,null,2620010400,"영도구","대평동2가"]
[{"$f":"LEFT($B$542,10)&TEXT($D$542,\"0\")&TEXT($E$542,\"0000\")&TEXT($F$542,\"0000\")","v":"4480025021102760010"},4480025021,null,1,276,10,"276-10","도",43,null,null,null,"276-3신천아파트다-603","서성원",null,null,null,null,null,null,null,null,null,null,2620010500,"영도구","남항동1가"]
[{"$f":"LEFT($B$543,10)&TEXT($D$543,\"0\")&TEXT($E$543,\"0000\")&TEXT($F$543,\"0000\")","v":"4480025021102760014"},4480025021,null,1,276,14,"276-14","전",223,null,null,null,"남장리105-6","이은순",null,null,null,null,null,null,null,null,null,null,2620010600,"영도구","남항동2가"]
[{"$f":"LEFT($B$544,10)&TEXT($D$544,\"0\")&TEXT($E$544,\"0000\")&TEXT($F$544,\"0000\")","v":"4480025021102770003"},4480025021,null,1,277,3,"277-3","대",255,null,null,null,"277-3","문창선",null,null,null,null,null,null,null,null,null,null,2620010700,"영도구","남항동3가"]
[{"$f":"LEFT($B$545,10)&TEXT($D$545,\"0\")&TEXT($E$545,\"0000\")&TEXT($F$545,\"0000\")","v":"4480025021102770008"},4480025021,null,1,277,8,"277-8","대",83,null,null,null,"홍성군홍성읍오관리652미림청솔아파트101-806","인명화",null,null,null,null,null,null,null,null,null,null,2620010800,"영도구","영선동1가"]
[{"$f":"LEFT($B$546,10)&TEXT($D$546,\"0\")&TEXT($E$546,\"0000\")&TEXT($F$546,\"0000\")","v":"4480025021102770015"},4480025021,null,1,277,15,"277-15","대",76,null,null,null,"582-3","우명숙",null,null,null,null,null,null,null,null,null,null,2620010900,"영도구","영선동2가"]
[{"$f":"LEFT($B$547,10)&TEXT($D$547,\"0\")&TEXT($E$547,\"0000\")&TEXT($F$547,\"0000\")","v":"4480025021102770019"},4480025021,null,1,277,19,"277-19","대",136,null,null,null,"277-19","인명화",null,null,null,null,null,null,null,null,null,null,2620011000,"영도구","영선동3가"]
[{"$f":"LEFT($B$548,10)&TEXT($D$548,\"0\")&TEXT($E$548,\"0000\")&TEXT($F$548,\"0000\")","v":"4480025021102770020"},4480025021,null,1,277,20,"277-20","대",467,null,null,null,"충청남도홍성군금마면홍양길79번길19","이해성",null,null,null,null,null,null,null,null,null,null,2620011100,"영도구","영선동4가"]
[{"$f":"LEFT($B$549,10)&TEXT($D$549,\"0\")&TEXT($E$549,\"0000\")&TEXT($F$549,\"0000\")","v":"4480025021102770022"},4480025021,null,1,277,22,"277-22","대",271,null,null,null,"서울특별시금천구범안로14길5403호(독산동사랑채아트빌)","유정자",null,null,null,null,null,null,null,null,null,null,2620011200,"영도구","신선동1가"]
[{"$f":"LEFT($B$550,10)&TEXT($D$550,\"0\")&TEXT($E$550,\"0000\")&TEXT($F$550,\"0000\")","v":"4480025021102770024"},4480025021,null,1,277,24,"277-24","대",151,null,null,null,"277-24","오관2리마을회",null,null,null,null,null,null,null,null,null,null,2620011300,"영도구","신선동2가"]
[{"$f":"LEFT($B$551,10)&TEXT($D$551,\"0\")&TEXT($E$551,\"0000\")&TEXT($F$551,\"0000\")","v":"4480025021102770027"},4480025021,null,1,277,27,"277-27","대",53,null,null,null,"충청남도홍성군홍성읍조양로143번길35-10","김종예",null,null,null,null,null,null,null,null,null,null,2620011400,"영도구","신선동3가"]
[{"$f":"LEFT($B$552,10)&TEXT($D$552,\"0\")&TEXT($E$552,\"0000\")&TEXT($F$552,\"0000\")","v":"4480025021102770029"},4480025021,null,1,277,29,"277-29","도",13,null,null,null,"277-17","김억규",null,null,null,null,null,null,null,null,null,null,2620011500,"영도구","봉래동1가"]
[{"$f":"LEFT($B$553,10)&TEXT($D$553,\"0\")&TEXT($E$553,\"0000\")&TEXT($F$553,\"0000\")","v":"4480025021102770032"},4480025021,null,1,277,32,"277-32","대",223,null,null,null,"서울특별시강서구곰달래로96310호(화곡동유림노르웨이숲아파트)","박진선",null,null,null,null,null,null,null,null,null,null,2620011600,"영도구","봉래동2가"]
[{"$f":"LEFT($B$554,10)&TEXT($D$554,\"0\")&TEXT($E$554,\"0000\")&TEXT($F$554,\"0000\")","v":"4480025021102780004"},4480025021,null,1,278,4,"278-4","대",73,null,null,null,"278-4","이홍성",null,null,null,null,null,null,null,null,null,null,2620011700,"영도구","봉래동3가"]
[{"$f":"LEFT($B$555,10)&TEXT($D$555,\"0\")&TEXT($E$555,\"0000\")&TEXT($F$555,\"0000\")","v":"4480025021102780005"},4480025021,null,1,278,5,"278-5","대",76,null,null,null,"278-2","노우선",null,null,null,null,null,null,null,null,null,null,2620011800,"영도구","봉래동4가"]
[{"$f":"LEFT($B$556,10)&TEXT($D$556,\"0\")&TEXT($E$556,\"0000\")&TEXT($F$556,\"0000\")","v":"4480025021102780007"},4480025021,null,1,278,7,"278-7","대",86,null,null,null,"울산광역시울주군범서읍대리1길12-14501호(경동빌리지2차)","이연자",null,null,null,null,null,null,null,null,null,null,2620011900,"영도구","봉래동5가"]
[{"$f":"LEFT($B$557,10)&TEXT($D$557,\"0\")&TEXT($E$557,\"0000\")&TEXT($F$557,\"0000\")","v":"4480025021102780008"},4480025021,null,1,278,8,"278-8","대",188,null,null,null,"울산광역시울주군범서읍대리1길12-14501호(경동빌리지2차)","이연자",null,null,null,null,null,null,null,null,null,null,2620012000,"영도구","청학동"]
[{"$f":"LEFT($B$558,10)&TEXT($D$558,\"0\")&TEXT($E$558,\"0000\")&TEXT($F$558,\"0000\")","v":"4480025021102800001"},4480025021,null,1,280,1,"280-1","도",7,null,null,null,280,"이병윤",null,null,null,null,null,null,null,null,null,null,2620012100,"영도구","동삼동"]
[{"$f":"LEFT($B$559,10)&TEXT($D$559,\"0\")&TEXT($E$559,\"0000\")&TEXT($F$559,\"0000\")","v":"4480025021102820000"},4480025021,null,1,282,0,282,"대",510,null,null,null,"오관리282","김호섭",null,null,null,null,null,null,null,null,null,null,2623010100,"부산진구","양정동"]
[{"$f":"LEFT($B$560,10)&TEXT($D$560,\"0\")&TEXT($E$560,\"0000\")&TEXT($F$560,\"0000\")","v":"4480025021102820001"},4480025021,null,1,282,1,"282-1","대",292,null,null,null,"282-1","김광섭",null,null,null,null,null,null,null,null,null,null,2623010200,"부산진구","전포동"]
[{"$f":"LEFT($B$561,10)&TEXT($D$561,\"0\")&TEXT($E$561,\"0000\")&TEXT($F$561,\"0000\")","v":"4480025021102820002"},4480025021,null,1,282,2,"282-2","대",150,null,null,null,"471-4","임승규",null,null,null,null,null,null,null,null,null,null,2623010300,"부산진구","부전동"]
[{"$f":"LEFT($B$562,10)&TEXT($D$562,\"0\")&TEXT($E$562,\"0000\")&TEXT($F$562,\"0000\")","v":"4480025021102830001"},4480025021,null,1,283,1,"283-1","대",401,null,null,null,"충청남도홍성군홍북읍홍예공원로35-21","이정숙",null,null,null,null,null,null,null,null,null,null,2623010400,"부산진구","범천동"]
[{"$f":"LEFT($B$563,10)&TEXT($D$563,\"0\")&TEXT($E$563,\"0000\")&TEXT($F$563,\"0000\")","v":"4480025021102830003"},4480025021,null,1,283,3,"283-3","대",516,null,null,null,"대전광역시유성구어은로57132동305호(어은동한빛아파트)","최경서",null,null,null,null,null,null,null,null,null,null,2623010500,"부산진구","범전동"]
[{"$f":"LEFT($B$564,10)&TEXT($D$564,\"0\")&TEXT($E$564,\"0000\")&TEXT($F$564,\"0000\")","v":"4480025021102840002"},4480025021,null,1,284,2,"284-2","대",284,null,null,null,"충청남도홍성군홍성읍월계천길286507호(신천무궁화아파트)","김종옥",null,null,null,null,null,null,null,null,null,null,2623010600,"부산진구","연지동"]
[{"$f":"LEFT($B$565,10)&TEXT($D$565,\"0\")&TEXT($E$565,\"0000\")&TEXT($F$565,\"0000\")","v":"4480025021102840008"},4480025021,null,1,284,8,"284-8","대",225,null,null,null,188,"박환기",null,null,null,null,null,null,null,null,null,null,2623010700,"부산진구","초읍동"]
[{"$f":"LEFT($B$566,10)&TEXT($D$566,\"0\")&TEXT($E$566,\"0000\")&TEXT($F$566,\"0000\")","v":"4480025021102840009"},4480025021,null,1,284,9,"284-9","대",188,null,null,null,"경기도과천시원문동4래미안슈르310-1301","최미옥",null,null,null,null,null,null,null,null,null,null,2623010800,"부산진구","부암동"]
[{"$f":"LEFT($B$567,10)&TEXT($D$567,\"0\")&TEXT($E$567,\"0000\")&TEXT($F$567,\"0000\")","v":"4480025021102840011"},4480025021,null,1,284,11,"284-11","대",116,null,null,null,"대전광역시서구둔산북로2151동505호(둔산동가람아파트)","최윤화",null,null,null,null,null,null,null,null,null,null,2623010900,"부산진구","당감동"]
[{"$f":"LEFT($B$568,10)&TEXT($D$568,\"0\")&TEXT($E$568,\"0000\")&TEXT($F$568,\"0000\")","v":"4480025021102870001"},4480025021,null,1,287,1,"287-1","대",303,null,null,null,"오관리302-1","박용구",null,null,null,null,null,null,null,null,null,null,2623011000,"부산진구","가야동"]
[{"$f":"LEFT($B$569,10)&TEXT($D$569,\"0\")&TEXT($E$569,\"0000\")&TEXT($F$569,\"0000\")","v":"4480025021102870004"},4480025021,null,1,287,4,"287-4","대",282,null,null,null,"518경성큰마을아파트102-1204","박의웅",null,null,null,null,null,null,null,null,null,null,2623011100,"부산진구","개금동"]
[{"$f":"LEFT($B$570,10)&TEXT($D$570,\"0\")&TEXT($E$570,\"0000\")&TEXT($F$570,\"0000\")","v":"4480025021102870007"},4480025021,null,1,287,7,"287-7","대",8,null,null,null,"287-1","박용구",null,null,null,null,null,null,null,null,null,null,2626010100,"동래구","명장동"]
[{"$f":"LEFT($B$571,10)&TEXT($D$571,\"0\")&TEXT($E$571,\"0000\")&TEXT($F$571,\"0000\")","v":"4480025021102880001"},4480025021,null,1,288,1,"288-1","대",275,null,null,null,"충청남도홍성군홍성읍조양로145","정윤",null,null,null,null,null,null,null,null,null,null,2626010200,"동래구","안락동"]
[{"$f":"LEFT($B$572,10)&TEXT($D$572,\"0\")&TEXT($E$572,\"0000\")&TEXT($F$572,\"0000\")","v":"4480025021102880004"},4480025021,null,1,288,4,"288-4","도",10,null,null,null,"국(건설부)","국",null,null,null,null,null,null,null,null,null,null,2626010300,"동래구","칠산동"]
[{"$f":"LEFT($B$573,10)&TEXT($D$573,\"0\")&TEXT($E$573,\"0000\")&TEXT($F$573,\"0000\")","v":"4480025021102880006"},4480025021,null,1,288,6,"288-6","도",10,null,null,null,"국(건설부)","국",null,null,null,null,null,null,null,null,null,null,2626010400,"동래구","낙민동"]
[{"$f":"LEFT($B$574,10)&TEXT($D$574,\"0\")&TEXT($E$574,\"0000\")&TEXT($F$574,\"0000\")","v":"4480025021102880012"},4480025021,null,1,288,12,"288-12","대",630,null,null,null,"충청남도홍성군홍성읍오관리298-8","홍성농업협동조합",null,null,null,null,null,null,null,null,null,null,2626010500,"동래구","복천동"]
[{"$f":"LEFT($B$575,10)&TEXT($D$575,\"0\")&TEXT($E$575,\"0000\")&TEXT($F$575,\"0000\")","v":"4480025021102890001"},4480025021,null,1,289,1,"289-1","대",451,null,null,null,"서울특별시중구통일로120(충정로1가)","농협은행주식회사",null,null,null,null,null,null,null,null,null,null,2626010600,"동래구","수안동"]
[{"$f":"LEFT($B$576,10)&TEXT($D$576,\"0\")&TEXT($E$576,\"0000\")&TEXT($F$576,\"0000\")","v":"4480025021102900000"},4480025021,null,1,290,0,290,"대",3070,null,null,null,"충청남도홍성군홍성읍조양로151번길23","홍성농업협동조합",null,null,null,null,null,null,null,null,null,null,2626010700,"동래구","명륜동"]
[{"$f":"LEFT($B$577,10)&TEXT($D$577,\"0\")&TEXT($E$577,\"0000\")&TEXT($F$577,\"0000\")","v":"4480025021102910003"},4480025021,null,1,291,3,"291-3","대",198,null,null,null,"291-3","이관학",null,null,null,null,null,null,null,null,null,null,2626010800,"동래구","온천동"]
[{"$f":"LEFT($B$578,10)&TEXT($D$578,\"0\")&TEXT($E$578,\"0000\")&TEXT($F$578,\"0000\")","v":"4480025021102910008"},4480025021,null,1,291,8,"291-8","대",4,null,null,null,"291-3","이관학",null,null,null,null,null,null,null,null,null,null,2626010900,"동래구","사직동"]
[{"$f":"LEFT($B$579,10)&TEXT($D$579,\"0\")&TEXT($E$579,\"0000\")&TEXT($F$579,\"0000\")","v":"4480025021102920001"},4480025021,null,1,292,1,"292-1","대",7,null,null,null,"292-1","유근",null,null,null,null,null,null,null,null,null,null,2629010600,"남구","대연동"]
[{"$f":"LEFT($B$580,10)&TEXT($D$580,\"0\")&TEXT($E$580,\"0000\")&TEXT($F$580,\"0000\")","v":"4480025021102920006"},4480025021,null,1,292,6,"292-6","대",10,null,null,null,"홍성군홍성읍오관리292-1","이규진",null,null,null,null,null,null,null,null,null,null,2629010700,"남구","용호동"]
[{"$f":"LEFT($B$581,10)&TEXT($D$581,\"0\")&TEXT($E$581,\"0000\")&TEXT($F$581,\"0000\")","v":"4480025021102920009"},4480025021,null,1,292,9,"292-9","대",27,null,null,null,"서울특별시노원구상계로26길7(상계동)","고의석",null,null,null,null,null,null,null,null,null,null,2629010800,"남구","용당동"]
[{"$f":"LEFT($B$582,10)&TEXT($D$582,\"0\")&TEXT($E$582,\"0000\")&TEXT($F$582,\"0000\")","v":"4480025021102930001"},4480025021,null,1,293,1,"293-1","대",274,null,null,null,"충청남도홍성군홍성읍조양로143번길26-6","김정섭",null,null,null,null,null,null,null,null,null,null,2629010900,"남구","문현동"]
[{"$f":"LEFT($B$583,10)&TEXT($D$583,\"0\")&TEXT($E$583,\"0000\")&TEXT($F$583,\"0000\")","v":"4480025021102930002"},4480025021,null,1,293,2,"293-2","대",55,null,null,null,293,"이강진",null,null,null,null,null,null,null,null,null,null,2629011000,"남구","우암동"]
[{"$f":"LEFT($B$584,10)&TEXT($D$584,\"0\")&TEXT($E$584,\"0000\")&TEXT($F$584,\"0000\")","v":"4480025021102930004"},4480025021,null,1,293,4,"293-4","도",720,null,null,null,"홍성군","국",null,null,null,null,null,null,null,null,null,null,2629011100,"남구","감만동"]
[{"$f":"LEFT($B$585,10)&TEXT($D$585,\"0\")&TEXT($E$585,\"0000\")&TEXT($F$585,\"0000\")","v":"4480025021102930007"},4480025021,null,1,293,7,"293-7","대",5,null,null,null,"충청남도홍성군홍성읍오관리293","이석문",null,null,null,null,null,null,null,null,null,null,2632010100,"북구","금곡동"]
[{"$f":"LEFT($B$586,10)&TEXT($D$586,\"0\")&TEXT($E$586,\"0000\")&TEXT($F$586,\"0000\")","v":"4480025021102960003"},4480025021,null,1,296,3,"296-3","도",96,null,null,null,"국(건설부)","국",null,null,null,null,null,null,null,null,null,null,2632010200,"북구","화명동"]
[{"$f":"LEFT($B$587,10)&TEXT($D$587,\"0\")&TEXT($E$587,\"0000\")&TEXT($F$587,\"0000\")","v":"4480025021102960004"},4480025021,null,1,296,4,"296-4","대",248,null,null,null,"296-4","고금순",null,null,null,null,null,null,null,null,null,null,2632010300,"북구","만덕동"]
[{"$f":"LEFT($B$588,10)&TEXT($D$588,\"0\")&TEXT($E$588,\"0000\")&TEXT($F$588,\"0000\")","v":"4480025021102960007"},4480025021,null,1,296,7,"296-7","대",379,null,null,null,"충청남도홍성군홍성읍조양로143번길42","임선경",null,null,null,null,null,null,null,null,null,null,2632010400,"북구","덕천동"]
[{"$f":"LEFT($B$589,10)&TEXT($D$589,\"0\")&TEXT($E$589,\"0000\")&TEXT($F$589,\"0000\")","v":"4480025021102960010"},4480025021,null,1,296,10,"296-10","대",613,null,null,null,null,null,null,null,null,null,null,null,null,null,null,null,2632010500,"북구","구포동"]
[{"$f":"LEFT($B$590,10)&TEXT($D$590,\"0\")&TEXT($E$590,\"0000\")&TEXT($F$590,\"0000\")","v":"4480025021102960011"},4480025021,null,1,296,11,"296-11","대",20,null,null,null,"홍성군홍성읍오관리206","임구상",null,null,null,null,null,null,null,null,null,null,2635010100,"해운대구","반송동"]
[{"$f":"LEFT($B$591,10)&TEXT($D$591,\"0\")&TEXT($E$591,\"0000\")&TEXT($F$591,\"0000\")","v":"4480025021102960013"},4480025021,null,1,296,13,"296-13","대",7,null,null,null,"국(기획재정부)","국",null,null,null,null,null,null,null,null,null,null,2635010200,"해운대구","석대동"]
[{"$f":"LEFT($B$592,10)&TEXT($D$592,\"0\")&TEXT($E$592,\"0000\")&TEXT($F$592,\"0000\")","v":"4480025021102960018"},4480025021,null,1,296,18,"296-18","대",75,null,null,null,"충청남도아산시용화동34-55대원연립나-308","김인숙",null,null,null,null,null,null,null,null,null,null,2635010300,"해운대구","반여동"]
[{"$f":"LEFT($B$593,10)&TEXT($D$593,\"0\")&TEXT($E$593,\"0000\")&TEXT($F$593,\"0000\")","v":"4480025021102960019"},4480025021,null,1,296,19,"296-19","대",384,null,null,null,"충청남도홍성군홍성읍오관리296-30","김갑득",null,null,null,null,null,null,null,null,null,null,2635010400,"해운대구","재송동"]
[{"$f":"LEFT($B$594,10)&TEXT($D$594,\"0\")&TEXT($E$594,\"0000\")&TEXT($F$594,\"0000\")","v":"4480025021102960020"},4480025021,null,1,296,20,"296-20","대",304,null,null,null,"홍성군홍성읍오관리296-20","장기석",null,null,null,null,null,null,null,null,null,null,2635010500,"해운대구","우동"]
[{"$f":"LEFT($B$595,10)&TEXT($D$595,\"0\")&TEXT($E$595,\"0000\")&TEXT($F$595,\"0000\")","v":"4480025021102960026"},4480025021,null,1,296,26,"296-26","대",109,null,null,null,"홍성군홍성읍남장리515주공그린빌110-1103","이동희",null,null,null,null,null,null,null,null,null,null,2635010600,"해운대구","중동"]
[{"$f":"LEFT($B$596,10)&TEXT($D$596,\"0\")&TEXT($E$596,\"0000\")&TEXT($F$596,\"0000\")","v":"4480025021102960029"},4480025021,null,1,296,29,"296-29","대",149,null,null,null,"84-1","정윤흥",null,null,null,null,null,null,null,null,null,null,2635010700,"해운대구","좌동"]
[{"$f":"LEFT($B$597,10)&TEXT($D$597,\"0\")&TEXT($E$597,\"0000\")&TEXT($F$597,\"0000\")","v":"4480025021102960030"},4480025021,null,1,296,30,"296-30","대",126,null,null,null,321,"김광택",null,null,null,null,null,null,null,null,null,null,2635010800,"해운대구","송정동"]
[{"$f":"LEFT($B$598,10)&TEXT($D$598,\"0\")&TEXT($E$598,\"0000\")&TEXT($F$598,\"0000\")","v":"4480025021102960032"},4480025021,null,1,296,32,"296-32","전",235,null,null,null,"충청남도홍성군홍성읍오관리296-37","한찬희",null,null,null,null,null,null,null,null,null,null,2638010100,"사하구","괴정동"]
[{"$f":"LEFT($B$599,10)&TEXT($D$599,\"0\")&TEXT($E$599,\"0000\")&TEXT($F$599,\"0000\")","v":"4480025021102960033"},4480025021,null,1,296,33,"296-33","대",251,null,null,null,"충청남도홍성군홍성읍조양로143번길46","이중세",null,null,null,null,null,null,null,null,null,null,2638010200,"사하구","당리동"]
[{"$f":"LEFT($B$600,10)&TEXT($D$600,\"0\")&TEXT($E$600,\"0000\")&TEXT($F$600,\"0000\")","v":"4480025021102960034"},4480025021,null,1,296,34,"296-34","대",179,null,null,null,"충청남도천안시동남구서부대로252204동702호(신방동두레현대아파트2단지)","장명숙",null,null,null,null,null,null,null,null,null,null,2638010300,"사하구","하단동"]
[{"$f":"LEFT($B$601,10)&TEXT($D$601,\"0\")&TEXT($E$601,\"0000\")&TEXT($F$601,\"0000\")","v":"4480025021102960035"},4480025021,null,1,296,35,"296-35","잡",283,null,null,null,"충청남도홍성군홍성읍오관리284-2","임선경",null,null,null,null,null,null,null,null,null,null,2638010400,"사하구","신평동"]
[{"$f":"LEFT($B$602,10)&TEXT($D$602,\"0\")&TEXT($E$602,\"0000\")&TEXT($F$602,\"0000\")","v":"4480025021102960037"},4480025021,null,1,296,37,"296-37","대",181,null,null,null,"충청남도홍성군홍성읍오관리193","한승희",null,null,null,null,null,null,null,null,null,null,2638010500,"사하구","장림동"]
[{"$f":"LEFT($B$603,10)&TEXT($D$603,\"0\")&TEXT($E$603,\"0000\")&TEXT($F$603,\"0000\")","v":"4480025021102960040"},4480025021,null,1,296,40,"296-40","도",39,null,null,null,null,null,null,null,null,null,null,null,null,null,null,null,2638010600,"사하구","다대동"]
[{"$f":"LEFT($B$604,10)&TEXT($D$604,\"0\")&TEXT($E$604,\"0000\")&TEXT($F$604,\"0000\")","v":"4480025021102960046"},4480025021,null,1,296,46,"296-46","대",3,null,null,null,"충청남도홍성군홍성읍오관리293","이석문",null,null,null,null,null,null,null,null,null,null,2638010700,"사하구","구평동"]
[{"$f":"LEFT($B$605,10)&TEXT($D$605,\"0\")&TEXT($E$605,\"0000\")&TEXT($F$605,\"0000\")","v":"4480025021102970001"},4480025021,null,1,297,1,"297-1","대",10,null,null,null,"홍성군","국",null,null,null,null,null,null,null,null,null,null,2638010800,"사하구","감천동"]
[{"$f":"LEFT($B$606,10)&TEXT($D$606,\"0\")&TEXT($E$606,\"0000\")&TEXT($F$606,\"0000\")","v":"4480025021102970003"},4480025021,null,1,297,3,"297-3","천",53,null,null,null,"국(국세청)","국",null,null,null,null,null,null,null,null,null,null,2641010100,"금정구","두구동"]
[{"$f":"LEFT($B$607,10)&TEXT($D$607,\"0\")&TEXT($E$607,\"0000\")&TEXT($F$607,\"0000\")","v":"4480025021102970004"},4480025021,null,1,297,4,"297-4","답",165,null,null,null,297,"이명수",null,null,null,null,null,null,null,null,null,null,2641010200,"금정구","노포동"]
[{"$f":"LEFT($B$608,10)&TEXT($D$608,\"0\")&TEXT($E$608,\"0000\")&TEXT($F$608,\"0000\")","v":"4480025021102970006"},4480025021,null,1,297,6,"297-6","답",29,null,null,null,"충청남도서산시율지3로27(동문동)","한도전",null,null,null,null,null,null,null,null,null,null,2641010300,"금정구","청룡동"]
[{"$f":"LEFT($B$609,10)&TEXT($D$609,\"0\")&TEXT($E$609,\"0000\")&TEXT($F$609,\"0000\")","v":"4480025021102970009"},4480025021,null,1,297,9,"297-9","대",188,null,null,null,297,"이명수",null,null,null,null,null,null,null,null,null,null,2641010400,"금정구","남산동"]
[{"$f":"LEFT($B$610,10)&TEXT($D$610,\"0\")&TEXT($E$610,\"0000\")&TEXT($F$610,\"0000\")","v":"4480025021102970011"},4480025021,null,1,297,11,"297-11","대",116,null,null,null,"충청남도홍성군홍성읍조양로151번길39","홍화숙",null,null,null,null,null,null,null,null,null,null,2641010500,"금정구","선동"]
[{"$f":"LEFT($B$611,10)&TEXT($D$611,\"0\")&TEXT($E$611,\"0000\")&TEXT($F$611,\"0000\")","v":"4480025021102970017"},4480025021,null,1,297,17,"297-17","대",223,null,null,null,"홍성군홍성읍오관리297-17","전수근",null,null,null,null,null,null,null,null,null,null,2641010600,"금정구","오륜동"]
[{"$f":"LEFT($B$612,10)&TEXT($D$612,\"0\")&TEXT($E$612,\"0000\")&TEXT($F$612,\"0000\")","v":"4480025021102970023"},4480025021,null,1,297,23,"297-23","대",331,null,null,null,"오관리297-23","길영익",null,null,null,null,null,null,null,null,null,null,2641010700,"금정구","구서동"]
[{"$f":"LEFT($B$613,10)&TEXT($D$613,\"0\")&TEXT($E$613,\"0000\")&TEXT($F$613,\"0000\")","v":"4480025021102970025"},4480025021,null,1,297,25,"297-25","대",165,null,null,null,"충청남도홍성군홍성읍오관리8-5신천아파트가-503","이정숙",null,null,null,null,null,null,null,null,null,null,2641010800,"금정구","장전동"]
[{"$f":"LEFT($B$614,10)&TEXT($D$614,\"0\")&TEXT($E$614,\"0000\")&TEXT($F$614,\"0000\")","v":"4480025021102970029"},4480025021,null,1,297,29,"297-29","대",373,null,null,null,173,"강영석",null,null,null,null,null,null,null,null,null,null,2641010900,"금정구","부곡동"]
[{"$f":"LEFT($B$615,10)&TEXT($D$615,\"0\")&TEXT($E$615,\"0000\")&TEXT($F$615,\"0000\")","v":"4480025021102970030"},4480025021,null,1,297,30,"297-30","답",43,null,null,null,"충청남도홍성군홍성읍오관리298-8","홍성농업협동조합",null,null,null,null,null,null,null,null,null,null,2641011000,"금정구","서동"]
[{"$f":"LEFT($B$616,10)&TEXT($D$616,\"0\")&TEXT($E$616,\"0000\")&TEXT($F$616,\"0000\")","v":"4480025021102970031"},4480025021,null,1,297,31,"297-31","대",165,null,null,null,"297-31","조연형",null,null,null,null,null,null,null,null,null,null,2641011100,"금정구","금사동"]
[{"$f":"LEFT($B$617,10)&TEXT($D$617,\"0\")&TEXT($E$617,\"0000\")&TEXT($F$617,\"0000\")","v":"4480025021102970032"},4480025021,null,1,297,32,"297-32","대",189,null,null,null,"223-6","임종래",null,null,null,null,null,null,null,null,null,null,2641011200,"금정구","회동동"]
[{"$f":"LEFT($B$618,10)&TEXT($D$618,\"0\")&TEXT($E$618,\"0000\")&TEXT($F$618,\"0000\")","v":"4480025021102970033"},4480025021,null,1,297,33,"297-33","대",279,null,null,null,"충청남도홍성군홍성읍조양로151번길31","한진숙",null,null,null,null,null,null,null,null,null,null,2641011300,"금정구","금성동"]
[{"$f":"LEFT($B$619,10)&TEXT($D$619,\"0\")&TEXT($E$619,\"0000\")&TEXT($F$619,\"0000\")","v":"4480025021102970034"},4480025021,null,1,297,34,"297-34","답",427,null,null,null,"302-1","이기태",null,null,null,null,null,null,null,null,null,null,2644010100,"강서구","대저1동"]
[{"$f":"LEFT($B$620,10)&TEXT($D$620,\"0\")&TEXT($E$620,\"0000\")&TEXT($F$620,\"0000\")","v":"4480025021102970035"},4480025021,null,1,297,35,"297-35","답",159,null,null,null,"서울특별시은평구응암동115-34","임억린",null,null,null,null,null,null,null,null,null,null,2644010200,"강서구","대저2동"]
[{"$f":"LEFT($B$621,10)&TEXT($D$621,\"0\")&TEXT($E$621,\"0000\")&TEXT($F$621,\"0000\")","v":"4480025021102970037"},4480025021,null,1,297,37,"297-37","답",213,null,null,null,433,"박재월",null,null,null,null,null,null,null,null,null,null,2644010300,"강서구","강동동"]
[{"$f":"LEFT($B$622,10)&TEXT($D$622,\"0\")&TEXT($E$622,\"0000\")&TEXT($F$622,\"0000\")","v":"4480025021102970039"},4480025021,null,1,297,39,"297-39","대",132,null,null,null,"296-20","전영애",null,null,null,null,null,null,null,null,null,null,2644010400,"강서구","명지동"]
[{"$f":"LEFT($B$623,10)&TEXT($D$623,\"0\")&TEXT($E$623,\"0000\")&TEXT($F$623,\"0000\")","v":"4480025021102970041"},4480025021,null,1,297,41,"297-41","대",93,null,null,null,"장곡면지정리645-1","권혁선",null,null,null,null,null,null,null,null,null,null,2644010500,"강서구","죽림동"]
[{"$f":"LEFT($B$624,10)&TEXT($D$624,\"0\")&TEXT($E$624,\"0000\")&TEXT($F$624,\"0000\")","v":"4480025021102970042"},4480025021,null,1,297,42,"297-42","대",162,null,null,null,"홍성군","국",null,null,null,null,null,null,null,null,null,null,2644010600,"강서구","식만동"]
[{"$f":"LEFT($B$625,10)&TEXT($D$625,\"0\")&TEXT($E$625,\"0000\")&TEXT($F$625,\"0000\")","v":"4480025021102970043"},4480025021,null,1,297,43,"297-43","대",176,null,null,null,"광천읍광천리182","이용성",null,null,null,null,null,null,null,null,null,null,2644010700,"강서구","죽동동"]
[{"$f":"LEFT($B$626,10)&TEXT($D$626,\"0\")&TEXT($E$626,\"0000\")&TEXT($F$626,\"0000\")","v":"4480025021102970044"},4480025021,null,1,297,44,"297-44","대",45,null,null,null,"오관리297-29","강영석",null,null,null,null,null,null,null,null,null,null,2644010800,"강서구","봉림동"]
[{"$f":"LEFT($B$627,10)&TEXT($D$627,\"0\")&TEXT($E$627,\"0000\")&TEXT($F$627,\"0000\")","v":"4480025021102970045"},4480025021,null,1,297,45,"297-45","대",172,null,null,null,"충청남도홍성군홍성읍남장중로10301동1405호(남장휴먼시아3단지)","이영숙",null,null,null,null,null,null,null,null,null,null,2644010900,"강서구","송정동"]
[{"$f":"LEFT($B$628,10)&TEXT($D$628,\"0\")&TEXT($E$628,\"0000\")&TEXT($F$628,\"0000\")","v":"4480025021102970046"},4480025021,null,1,297,46,"297-46","대",172,null,null,null,"세종특별자치시달빛로2111021동1303호(아름동범지기마을10단지)","이명한",null,null,null,null,null,null,null,null,null,null,2644011000,"강서구","화전동"]
[{"$f":"LEFT($B$629,10)&TEXT($D$629,\"0\")&TEXT($E$629,\"0000\")&TEXT($F$629,\"0000\")","v":"4480025021102970050"},4480025021,null,1,297,50,"297-50","답",34,null,null,null,"충청남도서산시율지3로27(동문동)","한도전",null,null,null,null,null,null,null,null,null,null,2644011100,"강서구","녹산동"]
[{"$f":"LEFT($B$630,10)&TEXT($D$630,\"0\")&TEXT($E$630,\"0000\")&TEXT($F$630,\"0000\")","v":"4480025021102970055"},4480025021,null,1,297,55,"297-55","대",165,null,null,null,"223-6","임종래",null,null,null,null,null,null,null,null,null,null,2644011200,"강서구","생곡동"]
[{"$f":"LEFT($B$631,10)&TEXT($D$631,\"0\")&TEXT($E$631,\"0000\")&TEXT($F$631,\"0000\")","v":"4480025021102980002"},4480025021,null,1,298,2,"298-2","제",962,null,null,null,"국(건설부)","국",null,null,null,null,null,null,null,null,null,null,2644011300,"강서구","구랑동"]
[{"$f":"LEFT($B$632,10)&TEXT($D$632,\"0\")&TEXT($E$632,\"0000\")&TEXT($F$632,\"0000\")","v":"4480025021102980003"},4480025021,null,1,298,3,"298-3","천",215,null,null,null,"국(건설부)","국",null,null,null,null,null,null,null,null,null,null,2644011400,"강서구","지사동"]
[{"$f":"LEFT($B$633,10)&TEXT($D$633,\"0\")&TEXT($E$633,\"0000\")&TEXT($F$633,\"0000\")","v":"4480025021102980004"},4480025021,null,1,298,4,"298-4","도",26,null,null,null,"국(건설부)","국",null,null,null,null,null,null,null,null,null,null,2644011500,"강서구","미음동"]
[{"$f":"LEFT($B$634,10)&TEXT($D$634,\"0\")&TEXT($E$634,\"0000\")&TEXT($F$634,\"0000\")","v":"4480025021102980008"},4480025021,null,1,298,8,"298-8","대",712,null,null,null,"충청남도홍성군홍성읍조양로151번길23","홍성농업협동조합",null,null,null,null,null,null,null,null,null,null,2644011600,"강서구","범방동"]
[{"$f":"LEFT($B$635,10)&TEXT($D$635,\"0\")&TEXT($E$635,\"0000\")&TEXT($F$635,\"0000\")","v":"4480025021102980009"},4480025021,null,1,298,9,"298-9","답",37,null,null,null,"298-8","홍성농업협동조합",null,null,null,null,null,null,null,null,null,null,2644011700,"강서구","신호동"]
[{"$f":"LEFT($B$636,10)&TEXT($D$636,\"0\")&TEXT($E$636,\"0000\")&TEXT($F$636,\"0000\")","v":"4480025021102980013"},4480025021,null,1,298,13,"298-13","대",181,null,null,null,"298-8","홍성농업협동조합",null,null,null,null,null,null,null,null,null,null,2644011800,"강서구","동선동"]
[{"$f":"LEFT($B$637,10)&TEXT($D$637,\"0\")&TEXT($E$637,\"0000\")&TEXT($F$637,\"0000\")","v":"4480025021102980014"},4480025021,null,1,298,14,"298-14","대",86,null,null,null,"충청남도홍성군홍성읍조양로151번길23","홍성농업협동조합",null,null,null,null,null,null,null,null,null,null,2644011900,"강서구","성북동"]
[{"$f":"LEFT($B$638,10)&TEXT($D$638,\"0\")&TEXT($E$638,\"0000\")&TEXT($F$638,\"0000\")","v":"4480025021102990001"},4480025021,null,1,299,1,"299-1","도",142,null,null,null,"국(국세청)","국",null,null,null,null,null,null,null,null,null,null,2644012000,"강서구","눌차동"]
[{"$f":"LEFT($B$639,10)&TEXT($D$639,\"0\")&TEXT($E$639,\"0000\")&TEXT($F$639,\"0000\")","v":"4480025021102990002"},4480025021,null,1,299,2,"299-2","도",1119,null,null,null,"홍성군","국",null,null,null,null,null,null,null,null,null,null,2644012100,"강서구","천성동"]
[{"$f":"LEFT($B$640,10)&TEXT($D$640,\"0\")&TEXT($E$640,\"0000\")&TEXT($F$640,\"0000\")","v":"4480025021102990003"},4480025021,null,1,299,3,"299-3","제",625,null,null,null,"국(국세청)","국",null,null,null,null,null,null,null,null,null,null,2644012200,"강서구","대항동"]
[{"$f":"LEFT($B$641,10)&TEXT($D$641,\"0\")&TEXT($E$641,\"0000\")&TEXT($F$641,\"0000\")","v":"4480025021102990004"},4480025021,null,1,299,4,"299-4","천",536,null,null,null,"국(국세청)","국",null,null,null,null,null,null,null,null,null,null,2647010100,"연제구","거제동"]
[{"$f":"LEFT($B$642,10)&TEXT($D$642,\"0\")&TEXT($E$642,\"0000\")&TEXT($F$642,\"0000\")","v":"4480025021102990005"},4480025021,null,1,299,5,"299-5","도",33,null,null,null,"국(건설부)","국",null,null,null,null,null,null,null,null,null,null,2647010200,"연제구","연산동"]
[{"$f":"LEFT($B$643,10)&TEXT($D$643,\"0\")&TEXT($E$643,\"0000\")&TEXT($F$643,\"0000\")","v":"4480025021102990007"},4480025021,null,1,299,7,"299-7","대",136,null,null,null,"충청남도홍성군홍성읍오관리361-17","정옥희",null,null,null,null,null,null,null,null,null,null,2650010100,"수영구","망미동"]
[{"$f":"LEFT($B$644,10)&TEXT($D$644,\"0\")&TEXT($E$644,\"0000\")&TEXT($F$644,\"0000\")","v":"4480025021102990008"},4480025021,null,1,299,8,"299-8","대",76,null,null,null,"299-8","류철호",null,null,null,null,null,null,null,null,null,null,2650010200,"수영구","수영동"]
[{"$f":"LEFT($B$645,10)&TEXT($D$645,\"0\")&TEXT($E$645,\"0000\")&TEXT($F$645,\"0000\")","v":"4480025021102990011"},4480025021,null,1,299,11,"299-11","대",203,null,null,null,"충청남도홍성군홍성읍내포로2","이종숙",null,null,null,null,null,null,null,null,null,null,2650010300,"수영구","민락동"]
[{"$f":"LEFT($B$646,10)&TEXT($D$646,\"0\")&TEXT($E$646,\"0000\")&TEXT($F$646,\"0000\")","v":"4480025021102990015"},4480025021,null,1,299,15,"299-15","대",53,null,null,null,"충청남도홍성군홍성읍오관리361-17","정옥희",null,null,null,null,null,null,null,null,null,null,2650010400,"수영구","광안동"]
[{"$f":"LEFT($B$647,10)&TEXT($D$647,\"0\")&TEXT($E$647,\"0000\")&TEXT($F$647,\"0000\")","v":"4480025021102990018"},4480025021,null,1,299,18,"299-18","대",789,null,null,null,"299-18","김영희",null,null,null,null,null,null,null,null,null,null,2650010500,"수영구","남천동"]
[{"$f":"LEFT($B$648,10)&TEXT($D$648,\"0\")&TEXT($E$648,\"0000\")&TEXT($F$648,\"0000\")","v":"4480025021103000002"},4480025021,null,1,300,2,"300-2","대",178,null,null,null,187,"최태선",null,null,null,null,null,null,null,null,null,null,2653010100,"사상구","삼락동"]
[{"$f":"LEFT($B$649,10)&TEXT($D$649,\"0\")&TEXT($E$649,\"0000\")&TEXT($F$649,\"0000\")","v":"4480025021103000003"},4480025021,null,1,300,3,"300-3","대",152,null,null,null,"충청남도홍성군홍성읍충서로1506105동704호(세광엔리치타워)","윤영희",null,null,null,null,null,null,null,null,null,null,2653010200,"사상구","모라동"]
[{"$f":"LEFT($B$650,10)&TEXT($D$650,\"0\")&TEXT($E$650,\"0000\")&TEXT($F$650,\"0000\")","v":"4480025021103000004"},4480025021,null,1,300,4,"300-4","대",54,null,null,null,"8-3신천무궁화아파트606호","윤영희",null,null,null,null,null,null,null,null,null,null,2653010300,"사상구","덕포동"]
[{"$f":"LEFT($B$651,10)&TEXT($D$651,\"0\")&TEXT($E$651,\"0000\")&TEXT($F$651,\"0000\")","v":"4480025021103010005"},4480025021,null,1,301,5,"301-5","대",312,null,null,null,"충청남도홍성군홍성읍조양로144번길7","오명환",null,null,null,null,null,null,null,null,null,null,2653010400,"사상구","괘법동"]
[{"$f":"LEFT($B$652,10)&TEXT($D$652,\"0\")&TEXT($E$652,\"0000\")&TEXT($F$652,\"0000\")","v":"4480025021103010006"},4480025021,null,1,301,6,"301-6","대",46,null,null,null,"홍북면봉신리167","유순열",null,null,null,null,null,null,null,null,null,null,2653010500,"사상구","감전동"]
[{"$f":"LEFT($B$653,10)&TEXT($D$653,\"0\")&TEXT($E$653,\"0000\")&TEXT($F$653,\"0000\")","v":"4480025021103010009"},4480025021,null,1,301,9,"301-9","대",119,null,null,null,"홍성군홍성읍남장리249","박재순",null,null,null,null,null,null,null,null,null,null,2653010600,"사상구","주례동"]
[{"$f":"LEFT($B$654,10)&TEXT($D$654,\"0\")&TEXT($E$654,\"0000\")&TEXT($F$654,\"0000\")","v":"4480025021103010010"},4480025021,null,1,301,10,"301-10","대",26,null,null,null,"홍북면봉신리167","유순열",null,null,null,null,null,null,null,null,null,null,2653010700,"사상구","학장동"]
[{"$f":"LEFT($B$655,10)&TEXT($D$655,\"0\")&TEXT($E$655,\"0000\")&TEXT($F$655,\"0000\")","v":"4480025021103010014"},4480025021,null,1,301,14,"301-14","대",3,null,null,null,"296-4","인태진",null,null,null,null,null,null,null,null,null,null,2653010800,"사상구","엄궁동"]
[{"$f":"LEFT($B$656,10)&TEXT($D$656,\"0\")&TEXT($E$656,\"0000\")&TEXT($F$656,\"0000\")","v":"4480025021103010017"},4480025021,null,1,301,17,"301-17","대",55,null,null,null,"서울특별시송파구삼전로3길3-12402호(잠실동월드빌라)","이상금",null,null,null,null,null,null,null,null,null,null,2671025000,"기장군","기장읍"]
[{"$f":"LEFT($B$657,10)&TEXT($D$657,\"0\")&TEXT($E$657,\"0000\")&TEXT($F$657,\"0000\")","v":"4480025021103050001"},4480025021,null,1,305,1,"305-1","대",238,null,null,null,"서울특별시강남구논현로8길4-7(개포동4층)","윤갑희",null,null,null,null,null,null,null,null,null,null,2671025021,"기장군","기장읍","동부리"]
[{"$f":"LEFT($B$658,10)&TEXT($D$658,\"0\")&TEXT($E$658,\"0000\")&TEXT($F$658,\"0000\")","v":"4480025021103050002"},4480025021,null,1,305,2,"305-2","대",413,null,null,null,"299-11","방정규",null,null,null,null,null,null,null,null,null,null,2671025022,"기장군","기장읍","교리"]
[{"$f":"LEFT($B$659,10)&TEXT($D$659,\"0\")&TEXT($E$659,\"0000\")&TEXT($F$659,\"0000\")","v":"4480025021103050003"},4480025021,null,1,305,3,"305-3","대",20,null,null,null,"충청남도홍성군홍성읍오관리229","김서중",null,null,null,null,null,null,null,null,null,null,2671025023,"기장군","기장읍","신천리"]
[{"$f":"LEFT($B$660,10)&TEXT($D$660,\"0\")&TEXT($E$660,\"0000\")&TEXT($F$660,\"0000\")","v":"4480025021103050008"},4480025021,null,1,305,8,"305-8","대",235,null,null,null,"충청남도홍성군홍성읍홍장북로433-40302호(광명주택)","옥승헌",null,null,null,null,null,null,null,null,null,null,2671025024,"기장군","기장읍","죽성리"]
[{"$f":"LEFT($B$661,10)&TEXT($D$661,\"0\")&TEXT($E$661,\"0000\")&TEXT($F$661,\"0000\")","v":"4480025021103050009"},4480025021,null,1,305,9,"305-9","대",606,null,null,null,"518경성큰마을아파트102-1304","복영진",null,null,null,null,null,null,null,null,null,null,2671025025,"기장군","기장읍","서부리"]
[{"$f":"LEFT($B$662,10)&TEXT($D$662,\"0\")&TEXT($E$662,\"0000\")&TEXT($F$662,\"0000\")","v":"4480025021103060001"},4480025021,null,1,306,1,"306-1","대",367,null,null,null,306,"이풍우",null,null,null,null,null,null,null,null,null,null,2671025026,"기장군","기장읍","대라리"]
[{"$f":"LEFT($B$663,10)&TEXT($D$663,\"0\")&TEXT($E$663,\"0000\")&TEXT($F$663,\"0000\")","v":"4480025021103060003"},4480025021,null,1,306,3,"306-3","대",331,null,null,null,"306-3","주광섭",null,null,null,null,null,null,null,null,null,null,2671025027,"기장군","기장읍","청강리"]
[{"$f":"LEFT($B$664,10)&TEXT($D$664,\"0\")&TEXT($E$664,\"0000\")&TEXT($F$664,\"0000\")","v":"4480025021103070001"},4480025021,null,1,307,1,"307-1","대",440,null,null,null,"충청남도홍성군홍성읍충서로1506103동1003호(세광엔리치타워)","온재숙",null,null,null,null,null,null,null,null,null,null,2671025028,"기장군","기장읍","대변리"]
[{"$f":"LEFT($B$665,10)&TEXT($D$665,\"0\")&TEXT($E$665,\"0000\")&TEXT($F$665,\"0000\")","v":"4480025021103080001"},4480025021,null,1,308,1,"308-1","천",40,null,null,null,"국(건설교통부)","국",null,null,null,null,null,null,null,null,null,null,2671025029,"기장군","기장읍","연화리"]
[{"$f":"LEFT($B$666,10)&TEXT($D$666,\"0\")&TEXT($E$666,\"0000\")&TEXT($F$666,\"0000\")","v":"4480025021103080002"},4480025021,null,1,308,2,"308-2","제",350,null,null,null,"국(국세청)","국",null,null,null,null,null,null,null,null,null,null,2671025030,"기장군","기장읍","만화리"]
[{"$f":"LEFT($B$667,10)&TEXT($D$667,\"0\")&TEXT($E$667,\"0000\")&TEXT($F$667,\"0000\")","v":"4480025021103080009"},4480025021,null,1,308,9,"308-9","대",321,null,null,null,"서울특별시강남구언주로1101동708호(개포동경남아파트)","이귀동",null,null,null,null,null,null,null,null,null,null,2671025031,"기장군","기장읍","석산리"]
[{"$f":"LEFT($B$668,10)&TEXT($D$668,\"0\")&TEXT($E$668,\"0000\")&TEXT($F$668,\"0000\")","v":"4480025021103080010"},4480025021,null,1,308,10,"308-10","대",721,null,null,null,"국(경찰청)","국",null,null,null,null,null,null,null,null,null,null,2671025032,"기장군","기장읍","당사리"]
[{"$f":"LEFT($B$669,10)&TEXT($D$669,\"0\")&TEXT($E$669,\"0000\")&TEXT($F$669,\"0000\")","v":"4480025021103090007"},4480025021,null,1,309,7,"309-7","대",56,null,null,null,"충청남도홍성군홍성읍오관리309-1","김기인",null,null,null,null,null,null,null,null,null,null,2671025033,"기장군","기장읍","시랑리"]
[{"$f":"LEFT($B$670,10)&TEXT($D$670,\"0\")&TEXT($E$670,\"0000\")&TEXT($F$670,\"0000\")","v":"4480025021103090011"},4480025021,null,1,309,11,"309-11","대",424,null,null,null,"충청남도홍성군홍성읍대교리398-3","홍주새마을금고",null,null,null,null,null,null,null,null,null,null,2671025034,"기장군","기장읍","내리"]
[{"$f":"LEFT($B$671,10)&TEXT($D$671,\"0\")&TEXT($E$671,\"0000\")&TEXT($F$671,\"0000\")","v":"4480025021103090012"},4480025021,null,1,309,12,"309-12","대",152,null,null,null,"대교리340-1","김학선",null,null,null,null,null,null,null,null,null,null,2671025300,"기장군","장안읍"]
[{"$f":"LEFT($B$672,10)&TEXT($D$672,\"0\")&TEXT($E$672,\"0000\")&TEXT($F$672,\"0000\")","v":"4480025021103100005"},4480025021,null,1,310,5,"310-5","대",292,null,null,null,"서울시강남구청담동1-1삼익아파트7동901호주소경정","김광자",null,null,null,null,null,null,null,null,null,null,2671025321,"기장군","장안읍","좌천리"]
[{"$f":"LEFT($B$673,10)&TEXT($D$673,\"0\")&TEXT($E$673,\"0000\")&TEXT($F$673,\"0000\")","v":"4480025021103110001"},4480025021,null,1,311,1,"311-1","대",450,null,null,null,"서울특별시송파구중대로24210동701호(문정동훼밀리아파트)","신덕용",null,null,null,null,null,null,null,null,null,null,2671025322,"기장군","장안읍","효암리"]
[{"$f":"LEFT($B$674,10)&TEXT($D$674,\"0\")&TEXT($E$674,\"0000\")&TEXT($F$674,\"0000\")","v":"4480025021103110003"},4480025021,null,1,311,3,"311-3","대",26,null,null,null,"서울특별시송파구중대로24210동701호(문정동훼밀리아파트)","신덕용",null,null,null,null,null,null,null,null,null,null,2671025323,"기장군","장안읍","고리"]
[{"$f":"LEFT($B$675,10)&TEXT($D$675,\"0\")&TEXT($E$675,\"0000\")&TEXT($F$675,\"0000\")","v":"4480025021103110004"},4480025021,null,1,311,4,"311-4","대",33,null,null,null,"서울특별시송파구중대로24210동701호(문정동훼밀리아파트)","신덕용",null,null,null,null,null,null,null,null,null,null,2671025324,"기장군","장안읍","좌동리"]
[{"$f":"LEFT($B$676,10)&TEXT($D$676,\"0\")&TEXT($E$676,\"0000\")&TEXT($F$676,\"0000\")","v":"4480025021103110006"},4480025021,null,1,311,6,"311-6","대",65,null,null,null,"홍성군홍성읍오관리311-6","임준홍",null,null,null,null,null,null,null,null,null,null,2671025325,"기장군","장안읍","장안리"]
[{"$f":"LEFT($B$677,10)&TEXT($D$677,\"0\")&TEXT($E$677,\"0000\")&TEXT($F$677,\"0000\")","v":"4480025021103110007"},4480025021,null,1,311,7,"311-7","대",50,null,null,null,"충청남도홍성군홍성읍오관리309-1","김기인",null,null,null,null,null,null,null,null,null,null,2671025326,"기장군","장안읍","덕선리"]
[{"$f":"LEFT($B$678,10)&TEXT($D$678,\"0\")&TEXT($E$678,\"0000\")&TEXT($F$678,\"0000\")","v":"4480025021103110008"},4480025021,null,1,311,8,"311-8","대",40,null,null,null,"충청남도홍성군홍성읍오관리309-1","김기인",null,null,null,null,null,null,null,null,null,null,2671025327,"기장군","장안읍","용소리"]
[{"$f":"LEFT($B$679,10)&TEXT($D$679,\"0\")&TEXT($E$679,\"0000\")&TEXT($F$679,\"0000\")","v":"4480025021103110009"},4480025021,null,1,311,9,"311-9","대",64,null,null,null,"충청남도홍성군홍북면신대로34109동1501호(내포신도시롯데캐슬)","한경숙",null,null,null,null,null,null,null,null,null,null,2671025328,"기장군","장안읍","기룡리"]
[{"$f":"LEFT($B$680,10)&TEXT($D$680,\"0\")&TEXT($E$680,\"0000\")&TEXT($F$680,\"0000\")","v":"4480025021103130001"},4480025021,null,1,313,1,"313-1","대",1527,null,null,null,"서울시송파구문정동150훼밀리아파트104-304호","김광자",null,null,null,null,null,null,null,null,null,null,2671025329,"기장군","장안읍","명례리"]
[{"$f":"LEFT($B$681,10)&TEXT($D$681,\"0\")&TEXT($E$681,\"0000\")&TEXT($F$681,\"0000\")","v":"4480025021103130004"},4480025021,null,1,313,4,"313-4","대",588,null,null,null,"서울강남구신사동648-2","김광자",null,null,null,null,null,null,null,null,null,null,2671025330,"기장군","장안읍","월내리"]
[{"$f":"LEFT($B$682,10)&TEXT($D$682,\"0\")&TEXT($E$682,\"0000\")&TEXT($F$682,\"0000\")","v":"4480025021103140002"},4480025021,null,1,314,2,"314-2","대",162,null,null,null,"충청남도홍성군홍성읍충절로1032번길76-8","김중순",null,null,null,null,null,null,null,null,null,null,2671025331,"기장군","장안읍","반룡리"]
[{"$f":"LEFT($B$683,10)&TEXT($D$683,\"0\")&TEXT($E$683,\"0000\")&TEXT($F$683,\"0000\")","v":"4480025021103140004"},4480025021,null,1,314,4,"314-4","답",153,null,null,null,"충청남도홍성군홍성읍오관리534-1","장금자",null,null,null,null,null,null,null,null,null,null,2671025332,"기장군","장안읍","임랑리"]
[{"$f":"LEFT($B$684,10)&TEXT($D$684,\"0\")&TEXT($E$684,\"0000\")&TEXT($F$684,\"0000\")","v":"4480025021103140005"},4480025021,null,1,314,5,"314-5","대",138,null,null,null,"충청남도홍성군홍성읍충서로1159번길29-12","주현",null,null,null,null,null,null,null,null,null,null,2671025333,"기장군","장안읍","오리"]
[{"$f":"LEFT($B$685,10)&TEXT($D$685,\"0\")&TEXT($E$685,\"0000\")&TEXT($F$685,\"0000\")","v":"4480025021103140006"},4480025021,null,1,314,6,"314-6","답",252,null,null,null,"314-6","김영길",null,null,null,null,null,null,null,null,null,null,2671025334,"기장군","장안읍","길천리"]
[{"$f":"LEFT($B$686,10)&TEXT($D$686,\"0\")&TEXT($E$686,\"0000\")&TEXT($F$686,\"0000\")","v":"4480025021103140007"},4480025021,null,1,314,7,"314-7","답",103,null,null,null,"서울금천구시흥동866-10대초연립에이동204호","박재훈",null,null,null,null,null,null,null,null,null,null,2671025600,"기장군","정관읍"]
[{"$f":"LEFT($B$687,10)&TEXT($D$687,\"0\")&TEXT($E$687,\"0000\")&TEXT($F$687,\"0000\")","v":"4480025021103140008"},4480025021,null,1,314,8,"314-8","도",115,null,null,null,"홍성군","국",null,null,null,null,null,null,null,null,null,null,2671025621,"기장군","정관읍","방곡리"]
[{"$f":"LEFT($B$688,10)&TEXT($D$688,\"0\")&TEXT($E$688,\"0000\")&TEXT($F$688,\"0000\")","v":"4480025021103150004"},4480025021,null,1,315,4,"315-4","대",51,null,null,null,"311-1","신덕용",null,null,null,null,null,null,null,null,null,null,2671025622,"기장군","정관읍","매학리"]
[{"$f":"LEFT($B$689,10)&TEXT($D$689,\"0\")&TEXT($E$689,\"0000\")&TEXT($F$689,\"0000\")","v":"4480025021103150005"},4480025021,null,1,315,5,"315-5","도",183,null,null,null,"홍성군","국",null,null,null,null,null,null,null,null,null,null,2671025623,"기장군","정관읍","임곡리"]
[{"$f":"LEFT($B$690,10)&TEXT($D$690,\"0\")&TEXT($E$690,\"0000\")&TEXT($F$690,\"0000\")","v":"4480025021103150006"},4480025021,null,1,315,6,"315-6","도",31,null,null,null,"홍성군","국",null,null,null,null,null,null,null,null,null,null,2671025624,"기장군","정관읍","월평리"]
[{"$f":"LEFT($B$691,10)&TEXT($D$691,\"0\")&TEXT($E$691,\"0000\")&TEXT($F$691,\"0000\")","v":"4480025021103150007"},4480025021,null,1,315,7,"315-7","도",4,null,null,null,"홍성군","국",null,null,null,null,null,null,null,null,null,null,2671025625,"기장군","정관읍","달산리"]
[{"$f":"LEFT($B$692,10)&TEXT($D$692,\"0\")&TEXT($E$692,\"0000\")&TEXT($F$692,\"0000\")","v":"4480025021103160001"},4480025021,null,1,316,1,"316-1","도",136,null,null,null,"국(건설교통부)","국",null,null,null,null,null,null,null,null,null,null,2671025626,"기장군","정관읍","병산리"]
[{"$f":"LEFT($B$693,10)&TEXT($D$693,\"0\")&TEXT($E$693,\"0000\")&TEXT($F$693,\"0000\")","v":"4480025021103160002"},4480025021,null,1,316,2,"316-2","대",157,null,null,null,"316-2","김주연",null,null,null,null,null,null,null,null,null,null,2671025627,"기장군","정관읍","모전리"]
[{"$f":"LEFT($B$694,10)&TEXT($D$694,\"0\")&TEXT($E$694,\"0000\")&TEXT($F$694,\"0000\")","v":"4480025021103160005"},4480025021,null,1,316,5,"316-5","도",14,null,null,null,"홍성군","국",null,null,null,null,null,null,null,null,null,null,2671025628,"기장군","정관읍","용수리"]
[{"$f":"LEFT($B$695,10)&TEXT($D$695,\"0\")&TEXT($E$695,\"0000\")&TEXT($F$695,\"0000\")","v":"4480025021103170002"},4480025021,null,1,317,2,"317-2","대",36,null,null,null,"충청남도홍성군홍성읍조양로170번길13","조원상",null,null,null,null,null,null,null,null,null,null,2671025629,"기장군","정관읍","두명리"]
[{"$f":"LEFT($B$696,10)&TEXT($D$696,\"0\")&TEXT($E$696,\"0000\")&TEXT($F$696,\"0000\")","v":"4480025021103170003"},4480025021,null,1,317,3,"317-3","대",31,null,null,null,"충청남도홍성군홍성읍조양로170번길13","조원상",null,null,null,null,null,null,null,null,null,null,2671025630,"기장군","정관읍","예림리"]
[{"$f":"LEFT($B$697,10)&TEXT($D$697,\"0\")&TEXT($E$697,\"0000\")&TEXT($F$697,\"0000\")","v":"4480025021103170004"},4480025021,null,1,317,4,"317-4","도",66,null,null,null,"국(건설부)","국",null,null,null,null,null,null,null,null,null,null,2671031000,"기장군","일광면"]
[{"$f":"LEFT($B$698,10)&TEXT($D$698,\"0\")&TEXT($E$698,\"0000\")&TEXT($F$698,\"0000\")","v":"4480025021103170005"},4480025021,null,1,317,5,"317-5","대",53,null,null,null,"오관리316","김주연",null,null,null,null,null,null,null,null,null,null,2671031021,"기장군","일광면","삼성리"]
[{"$f":"LEFT($B$699,10)&TEXT($D$699,\"0\")&TEXT($E$699,\"0000\")&TEXT($F$699,\"0000\")","v":"4480025021103170006"},4480025021,null,1,317,6,"317-6","도",12,null,null,null,"홍성군","국",null,null,null,null,null,null,null,null,null,null,2671031022,"기장군","일광면","이천리"]
[{"$f":"LEFT($B$700,10)&TEXT($D$700,\"0\")&TEXT($E$700,\"0000\")&TEXT($F$700,\"0000\")","v":"4480025021103170007"},4480025021,null,1,317,7,"317-7","도",3,null,null,null,"홍성군","국",null,null,null,null,null,null,null,null,null,null,2671031023,"기장군","일광면","학리"]
[{"$f":"LEFT($B$701,10)&TEXT($D$701,\"0\")&TEXT($E$701,\"0000\")&TEXT($F$701,\"0000\")","v":"4480025021103180002"},4480025021,null,1,318,2,"318-2","대",287,null,null,null,"홍성군홍성읍오관리318-1","현정희",null,null,null,null,null,null,null,null,null,null,2671031024,"기장군","일광면","동백리"]
[{"$f":"LEFT($B$702,10)&TEXT($D$702,\"0\")&TEXT($E$702,\"0000\")&TEXT($F$702,\"0000\")","v":"4480025021103180003"},4480025021,null,1,318,3,"318-3","대",12,null,null,null,"홍성군홍성읍고암리656","주만택",null,null,null,null,null,null,null,null,null,null,2671031025,"기장군","일광면","문중리"]
[{"$f":"LEFT($B$703,10)&TEXT($D$703,\"0\")&TEXT($E$703,\"0000\")&TEXT($F$703,\"0000\")","v":"4480025021103190001"},4480025021,null,1,319,1,"319-1","대",183,null,null,null,"충청남도홍성군홍성읍조양로170번길13","조원상",null,null,null,null,null,null,null,null,null,null,2671031026,"기장군","일광면","신평리"]
[{"$f":"LEFT($B$704,10)&TEXT($D$704,\"0\")&TEXT($E$704,\"0000\")&TEXT($F$704,\"0000\")","v":"4480025021103190002"},4480025021,null,1,319,2,"319-2","대",617,null,null,null,"홍성군","국",null,null,null,null,null,null,null,null,null,null,2671031027,"기장군","일광면","칠암리"]
[{"$f":"LEFT($B$705,10)&TEXT($D$705,\"0\")&TEXT($E$705,\"0000\")&TEXT($F$705,\"0000\")","v":"4480025021103190003"},4480025021,null,1,319,3,"319-3","대",306,null,null,null,"충청남도홍성군홍성읍조양로170번길13","조원상",null,null,null,null,null,null,null,null,null,null,2671031028,"기장군","일광면","문동리"]
[{"$f":"LEFT($B$706,10)&TEXT($D$706,\"0\")&TEXT($E$706,\"0000\")&TEXT($F$706,\"0000\")","v":"4480025021103190004"},4480025021,null,1,319,4,"319-4","대",29,null,null,null,"충청남도홍성군홍성읍조양로170번길13","조원상",null,null,null,null,null,null,null,null,null,null,2671031029,"기장군","일광면","청광리"]
[{"$f":"LEFT($B$707,10)&TEXT($D$707,\"0\")&TEXT($E$707,\"0000\")&TEXT($F$707,\"0000\")","v":"4480025021103190005"},4480025021,null,1,319,5,"319-5","도",137,null,null,null,"홍성군","국",null,null,null,null,null,null,null,null,null,null,2671031030,"기장군","일광면","원리"]
[{"$f":"LEFT($B$708,10)&TEXT($D$708,\"0\")&TEXT($E$708,\"0000\")&TEXT($F$708,\"0000\")","v":"4480025021103190007"},4480025021,null,1,319,7,"319-7","도",4,null,null,null,"홍성군","국",null,null,null,null,null,null,null,null,null,null,2671031031,"기장군","일광면","화전리"]
[{"$f":"LEFT($B$709,10)&TEXT($D$709,\"0\")&TEXT($E$709,\"0000\")&TEXT($F$709,\"0000\")","v":"4480025021103190008"},4480025021,null,1,319,8,"319-8","도",54,null,null,null,"홍성군","국",null,null,null,null,null,null,null,null,null,null,2671031032,"기장군","일광면","횡계리"]
[{"$f":"LEFT($B$710,10)&TEXT($D$710,\"0\")&TEXT($E$710,\"0000\")&TEXT($F$710,\"0000\")","v":"4480025021103190009"},4480025021,null,1,319,9,"319-9","대",172,null,null,null,"충청남도(교육감)","국",null,null,null,null,null,null,null,null,null,null,2671031033,"기장군","일광면","용천리"]
[{"$f":"LEFT($B$711,10)&TEXT($D$711,\"0\")&TEXT($E$711,\"0000\")&TEXT($F$711,\"0000\")","v":"4480025021103200002"},4480025021,null,1,320,2,"320-2","대",238,null,null,null,"전라북도전주시덕진구백동5길29씨동101호(인후동2가한양운남아파트)","박정희",null,null,null,null,null,null,null,null,null,null,2671033000,"기장군","철마면"]
[{"$f":"LEFT($B$712,10)&TEXT($D$712,\"0\")&TEXT($E$712,\"0000\")&TEXT($F$712,\"0000\")","v":"4480025021103200003"},4480025021,null,1,320,3,"320-3","대",189,null,null,null,"충청남도홍성군홍성읍월산2길24402호(레이스빌)","박미지",null,null,null,null,null,null,null,null,null,null,2671033021,"기장군","철마면","와여리"]
[{"$f":"LEFT($B$713,10)&TEXT($D$713,\"0\")&TEXT($E$713,\"0000\")&TEXT($F$713,\"0000\")","v":"4480025021103210000"},4480025021,null,1,321,0,321,"대",454,null,null,null,"고암리656","주만택",null,null,null,null,null,null,null,null,null,null,2671033022,"기장군","철마면","장전리"]
[{"$f":"LEFT($B$714,10)&TEXT($D$714,\"0\")&TEXT($E$714,\"0000\")&TEXT($F$714,\"0000\")","v":"4480025021103210004"},4480025021,null,1,321,4,"321-4","대",79,null,null,null,321,"김영택",null,null,null,null,null,null,null,null,null,null,2671033023,"기장군","철마면","백길리"]
[{"$f":"LEFT($B$715,10)&TEXT($D$715,\"0\")&TEXT($E$715,\"0000\")&TEXT($F$715,\"0000\")","v":"4480025021103210007"},4480025021,null,1,321,7,"321-7","대",40,null,null,null,"325-7","서봉철",null,null,null,null,null,null,null,null,null,null,2671033024,"기장군","철마면","송정리"]
[{"$f":"LEFT($B$716,10)&TEXT($D$716,\"0\")&TEXT($E$716,\"0000\")&TEXT($F$716,\"0000\")","v":"4480025021103210008"},4480025021,null,1,321,8,"321-8","도",7,null,null,null,"국(건설부)","국",null,null,null,null,null,null,null,null,null,null,2671033025,"기장군","철마면","웅천리"]
[{"$f":"LEFT($B$717,10)&TEXT($D$717,\"0\")&TEXT($E$717,\"0000\")&TEXT($F$717,\"0000\")","v":"4480025021103210009"},4480025021,null,1,321,9,"321-9","대",23,null,null,null,"대전광역시동구소제동304-25","최석표",null,null,null,null,null,null,null,null,null,null,2671033026,"기장군","철마면","연구리"]
[{"$f":"LEFT($B$718,10)&TEXT($D$718,\"0\")&TEXT($E$718,\"0000\")&TEXT($F$718,\"0000\")","v":"4480025021103220007"},4480025021,null,1,322,7,"322-7","대",20,null,null,null,"322-8","김동희",null,null,null,null,null,null,null,null,null,null,2671033027,"기장군","철마면","구칠리"]
[{"$f":"LEFT($B$719,10)&TEXT($D$719,\"0\")&TEXT($E$719,\"0000\")&TEXT($F$719,\"0000\")","v":"4480025021103220008"},4480025021,null,1,322,8,"322-8","대",162,null,null,null,"322-8","김동희",null,null,null,null,null,null,null,null,null,null,2671033028,"기장군","철마면","이곡리"]
[{"$f":"LEFT($B$720,10)&TEXT($D$720,\"0\")&TEXT($E$720,\"0000\")&TEXT($F$720,\"0000\")","v":"4480025021103230001"},4480025021,null,1,323,1,"323-1","대",437,null,null,null,"323-1","김해돈",null,null,null,null,null,null,null,null,null,null,2671033029,"기장군","철마면","고촌리"]
[{"$f":"LEFT($B$721,10)&TEXT($D$721,\"0\")&TEXT($E$721,\"0000\")&TEXT($F$721,\"0000\")","v":"4480025021103230002"},4480025021,null,1,323,2,"323-2","대",169,null,null,null,"충청남도홍성군홍성읍남장리515주공그린빌110-1106","김완서",null,null,null,null,null,null,null,null,null,null,2671033030,"기장군","철마면","안평리"]
[{"$f":"LEFT($B$722,10)&TEXT($D$722,\"0\")&TEXT($E$722,\"0000\")&TEXT($F$722,\"0000\")","v":"4480025021103230004"},4480025021,null,1,323,4,"323-4","대",43,null,null,null,"충청남도홍성군홍성읍문화로72번길92106동402호(주공그린빌아파트)","최광구",null,null,null,null,null,null,null,null,null,null,2671033031,"기장군","철마면","임기리"]
[{"$f":"LEFT($B$723,10)&TEXT($D$723,\"0\")&TEXT($E$723,\"0000\")&TEXT($F$723,\"0000\")","v":"4480025021103230005"},4480025021,null,1,323,5,"323-5","대",360,null,null,null,"고암리301-1","박정숙",null,null,null,null,null,null,null,null,null,null,2711010100,"중구","동인동1가"]
[{"$f":"LEFT($B$724,10)&TEXT($D$724,\"0\")&TEXT($E$724,\"0000\")&TEXT($F$724,\"0000\")","v":"4480025021103230006"},4480025021,null,1,323,6,"323-6","대",340,null,null,null,"323-6","양계화",null,null,null,null,null,null,null,null,null,null,2711010200,"중구","동인동2가"]
[{"$f":"LEFT($B$725,10)&TEXT($D$725,\"0\")&TEXT($E$725,\"0000\")&TEXT($F$725,\"0000\")","v":"4480025021103230007"},4480025021,null,1,323,7,"323-7","대",149,null,null,null,"323-7","김필환",null,null,null,null,null,null,null,null,null,null,2711010300,"중구","동인동3가"]
[{"$f":"LEFT($B$726,10)&TEXT($D$726,\"0\")&TEXT($E$726,\"0000\")&TEXT($F$726,\"0000\")","v":"4480025021103230009"},4480025021,null,1,323,9,"323-9","대",463,null,null,null,"충청남도청양군비봉면홍주길7","김흥근",null,null,null,null,null,null,null,null,null,null,2711010400,"중구","동인동4가"]
[{"$f":"LEFT($B$727,10)&TEXT($D$727,\"0\")&TEXT($E$727,\"0000\")&TEXT($F$727,\"0000\")","v":"4480025021103230013"},4480025021,null,1,323,13,"323-13","대",152,null,null,null,"333우주은하아파트에이동207호","정혜숙",null,null,null,null,null,null,null,null,null,null,2711010500,"중구","삼덕동1가"]
[{"$f":"LEFT($B$728,10)&TEXT($D$728,\"0\")&TEXT($E$728,\"0000\")&TEXT($F$728,\"0000\")","v":"4480025021103230014"},4480025021,null,1,323,14,"323-14","전",20,null,null,null,"경기도하남시하남대로802번길55202동1601호(신장동에코타운)","이정남",null,null,null,null,null,null,null,null,null,null,2711010600,"중구","삼덕동2가"]
[{"$f":"LEFT($B$729,10)&TEXT($D$729,\"0\")&TEXT($E$729,\"0000\")&TEXT($F$729,\"0000\")","v":"4480025021103230015"},4480025021,null,1,323,15,"323-15","대",278,null,null,null,"경기도하남시하남대로802번길55202동1601호(신장동에코타운)","이정남",null,null,null,null,null,null,null,null,null,null,2711010700,"중구","삼덕동3가"]
[{"$f":"LEFT($B$730,10)&TEXT($D$730,\"0\")&TEXT($E$730,\"0000\")&TEXT($F$730,\"0000\")","v":"4480025021103230016"},4480025021,null,1,323,16,"323-16","전",291,null,null,null,"대교리143","이병재",null,null,null,null,null,null,null,null,null,null,2711010800,"중구","봉산동"]
[{"$f":"LEFT($B$731,10)&TEXT($D$731,\"0\")&TEXT($E$731,\"0000\")&TEXT($F$731,\"0000\")","v":"4480025021103230017"},4480025021,null,1,323,17,"323-17","대",49,null,null,null,"충청남도홍성군홍성읍월산리850부영아파트104-1503","김규식",null,null,null,null,null,null,null,null,null,null,2711010900,"중구","장관동"]
[{"$f":"LEFT($B$732,10)&TEXT($D$732,\"0\")&TEXT($E$732,\"0000\")&TEXT($F$732,\"0000\")","v":"4480025021103230019"},4480025021,null,1,323,19,"323-19","대",110,null,null,null,"홍성군","국",null,null,null,null,null,null,null,null,null,null,2711011000,"중구","상서동"]
[{"$f":"LEFT($B$733,10)&TEXT($D$733,\"0\")&TEXT($E$733,\"0000\")&TEXT($F$733,\"0000\")","v":"4480025021103230020"},4480025021,null,1,323,20,"323-20","대",201,null,null,null,"323-17","원순예",null,null,null,null,null,null,null,null,null,null,2711011100,"중구","수동"]
[{"$f":"LEFT($B$734,10)&TEXT($D$734,\"0\")&TEXT($E$734,\"0000\")&TEXT($F$734,\"0000\")","v":"4480025021103230021"},4480025021,null,1,323,21,"323-21","대",39,null,null,null,"홍성군","국",null,null,null,null,null,null,null,null,null,null,2711011200,"중구","덕산동"]
[{"$f":"LEFT($B$735,10)&TEXT($D$735,\"0\")&TEXT($E$735,\"0000\")&TEXT($F$735,\"0000\")","v":"4480025021103230022"},4480025021,null,1,323,22,"323-22","전",79,null,null,null,"대교리143","이병재",null,null,null,null,null,null,null,null,null,null,2711011300,"중구","종로1가"]
[{"$f":"LEFT($B$736,10)&TEXT($D$736,\"0\")&TEXT($E$736,\"0000\")&TEXT($F$736,\"0000\")","v":"4480025021103240000"},4480025021,null,1,324,0,324,"대",1822,null,null,null,null,null,null,null,null,null,null,null,null,null,null,null,2711011400,"중구","종로2가"]
[{"$f":"LEFT($B$737,10)&TEXT($D$737,\"0\")&TEXT($E$737,\"0000\")&TEXT($F$737,\"0000\")","v":"4480025021103240001"},4480025021,null,1,324,1,"324-1","대",669,null,null,null,"충청남도홍성군홍성읍조양로180-9","정명호",null,null,null,null,null,null,null,null,null,null,2711011500,"중구","사일동"]
[{"$f":"LEFT($B$738,10)&TEXT($D$738,\"0\")&TEXT($E$738,\"0000\")&TEXT($F$738,\"0000\")","v":"4480025021103240002"},4480025021,null,1,324,2,"324-2","도",229,null,null,null,"홍성군","국",null,null,null,null,null,null,null,null,null,null,2711011600,"중구","동일동"]
[{"$f":"LEFT($B$739,10)&TEXT($D$739,\"0\")&TEXT($E$739,\"0000\")&TEXT($F$739,\"0000\")","v":"4480025021103240003"},4480025021,null,1,324,3,"324-3","대",158,null,null,null,"홍성군","국",null,null,null,null,null,null,null,null,null,null,2711011700,"중구","남일동"]
[{"$f":"LEFT($B$740,10)&TEXT($D$740,\"0\")&TEXT($E$740,\"0000\")&TEXT($F$740,\"0000\")","v":"4480025021103250003"},4480025021,null,1,325,3,"325-3","도",33,null,null,null,"국(건설부)","국",null,null,null,null,null,null,null,null,null,null,2711011800,"중구","전동"]
[{"$f":"LEFT($B$741,10)&TEXT($D$741,\"0\")&TEXT($E$741,\"0000\")&TEXT($F$741,\"0000\")","v":"4480025021103250007"},4480025021,null,1,325,7,"325-7","대",66,null,null,null,"325-7","서봉철",null,null,null,null,null,null,null,null,null,null,2711011900,"중구","동성로3가"]
[{"$f":"LEFT($B$742,10)&TEXT($D$742,\"0\")&TEXT($E$742,\"0000\")&TEXT($F$742,\"0000\")","v":"4480025021103260001"},4480025021,null,1,326,1,"326-1","대",69,null,null,null,"충청남도홍성군홍성읍오관리325","최성순",null,null,null,null,null,null,null,null,null,null,2711012000,"중구","동문동"]
[{"$f":"LEFT($B$743,10)&TEXT($D$743,\"0\")&TEXT($E$743,\"0000\")&TEXT($F$743,\"0000\")","v":"4480025021103260002"},4480025021,null,1,326,2,"326-2","대",162,null,null,null,"오관리326","오신근",null,null,null,null,null,null,null,null,null,null,2711012100,"중구","문화동"]
[{"$f":"LEFT($B$744,10)&TEXT($D$744,\"0\")&TEXT($E$744,\"0000\")&TEXT($F$744,\"0000\")","v":"4480025021103260004"},4480025021,null,1,326,4,"326-4","대",126,null,null,null,"충청남도홍성군홍성읍조양로184번길8","최일섭",null,null,null,null,null,null,null,null,null,null,2711012200,"중구","공평동"]
[{"$f":"LEFT($B$745,10)&TEXT($D$745,\"0\")&TEXT($E$745,\"0000\")&TEXT($F$745,\"0000\")","v":"4480025021103260005"},4480025021,null,1,326,5,"326-5","대",205,null,null,null,"충청남도홍성군홍성읍조양로184번길8","최일섭",null,null,null,null,null,null,null,null,null,null,2711012300,"중구","동성로2가"]
[{"$f":"LEFT($B$746,10)&TEXT($D$746,\"0\")&TEXT($E$746,\"0000\")&TEXT($F$746,\"0000\")","v":"4480025021103290002"},4480025021,null,1,329,2,"329-2","전",493,null,null,null,"324-1","정명호",null,null,null,null,null,null,null,null,null,null,2711012400,"중구","태평로1가"]
[{"$f":"LEFT($B$747,10)&TEXT($D$747,\"0\")&TEXT($E$747,\"0000\")&TEXT($F$747,\"0000\")","v":"4480025021103290003"},4480025021,null,1,329,3,"329-3","대",46,null,null,null,321,"김영택",null,null,null,null,null,null,null,null,null,null,2711012500,"중구","교동"]
[{"$f":"LEFT($B$748,10)&TEXT($D$748,\"0\")&TEXT($E$748,\"0000\")&TEXT($F$748,\"0000\")","v":"4480025021103290005"},4480025021,null,1,329,5,"329-5","대",44,null,null,null,"오관리329-5","이병재",null,null,null,null,null,null,null,null,null,null,2711012600,"중구","용덕동"]
[{"$f":"LEFT($B$749,10)&TEXT($D$749,\"0\")&TEXT($E$749,\"0000\")&TEXT($F$749,\"0000\")","v":"4480025021103290007"},4480025021,null,1,329,7,"329-7","대",175,null,null,null,"329-7","이순재",null,null,null,null,null,null,null,null,null,null,2711012700,"중구","상덕동"]
[{"$f":"LEFT($B$750,10)&TEXT($D$750,\"0\")&TEXT($E$750,\"0000\")&TEXT($F$750,\"0000\")","v":"4480025021103290008"},4480025021,null,1,329,8,"329-8","대",274,null,null,null,321,"김광택",null,null,null,null,null,null,null,null,null,null,2711012800,"중구","완전동"]
[{"$f":"LEFT($B$751,10)&TEXT($D$751,\"0\")&TEXT($E$751,\"0000\")&TEXT($F$751,\"0000\")","v":"4480025021103290009"},4480025021,null,1,329,9,"329-9","대",266,null,null,null,"324-1","정명호",null,null,null,null,null,null,null,null,null,null,2711012900,"중구","도원동"]
[{"$f":"LEFT($B$752,10)&TEXT($D$752,\"0\")&TEXT($E$752,\"0000\")&TEXT($F$752,\"0000\")","v":"4480025021103290011"},4480025021,null,1,329,11,"329-11","대",523,null,null,null,"329-11","최한목",null,null,null,null,null,null,null,null,null,null,2711013000,"중구","수창동"]
[{"$f":"LEFT($B$753,10)&TEXT($D$753,\"0\")&TEXT($E$753,\"0000\")&TEXT($F$753,\"0000\")","v":"4480025021103290014"},4480025021,null,1,329,14,"329-14","대",139,null,null,null,"329-14","임재동",null,null,null,null,null,null,null,null,null,null,2711013100,"중구","태평로3가"]
[{"$f":"LEFT($B$754,10)&TEXT($D$754,\"0\")&TEXT($E$754,\"0000\")&TEXT($F$754,\"0000\")","v":"4480025021103290016"},4480025021,null,1,329,16,"329-16","대",307,null,null,null,"오관리329-5","이병재",null,null,null,null,null,null,null,null,null,null,2711013200,"중구","인교동"]
[{"$f":"LEFT($B$755,10)&TEXT($D$755,\"0\")&TEXT($E$755,\"0000\")&TEXT($F$755,\"0000\")","v":"4480025021103290018"},4480025021,null,1,329,18,"329-18","대",313,null,null,null,"329-18","윤여성",null,null,null,null,null,null,null,null,null,null,2711013300,"중구","서야동"]
[{"$f":"LEFT($B$756,10)&TEXT($D$756,\"0\")&TEXT($E$756,\"0000\")&TEXT($F$756,\"0000\")","v":"4480025021103290019"},4480025021,null,1,329,19,"329-19","대",4,null,null,null,"국(기획재정부)","국",null,null,null,null,null,null,null,null,null,null,2711013400,"중구","서성로1가"]
[{"$f":"LEFT($B$757,10)&TEXT($D$757,\"0\")&TEXT($E$757,\"0000\")&TEXT($F$757,\"0000\")","v":"4480025021103290020"},4480025021,null,1,329,20,"329-20","전",59,null,null,null,"324-1","정명호",null,null,null,null,null,null,null,null,null,null,2711013500,"중구","시장북로"]
[{"$f":"LEFT($B$758,10)&TEXT($D$758,\"0\")&TEXT($E$758,\"0000\")&TEXT($F$758,\"0000\")","v":"4480025021103290021"},4480025021,null,1,329,21,"329-21","대",15,null,null,null,"324-1","정명호",null,null,null,null,null,null,null,null,null,null,2711013600,"중구","하서동"]
[{"$f":"LEFT($B$759,10)&TEXT($D$759,\"0\")&TEXT($E$759,\"0000\")&TEXT($F$759,\"0000\")","v":"4480025021103290022"},4480025021,null,1,329,22,"329-22","대",19,null,null,null,"홍성군","국",null,null,null,null,null,null,null,null,null,null,2711013700,"중구","남성로"]
[{"$f":"LEFT($B$760,10)&TEXT($D$760,\"0\")&TEXT($E$760,\"0000\")&TEXT($F$760,\"0000\")","v":"4480025021103290023"},4480025021,null,1,329,23,"329-23","대",114,null,null,null,"오관리329-5","이병재",null,null,null,null,null,null,null,null,null,null,2711013800,"중구","계산동1가"]
[{"$f":"LEFT($B$761,10)&TEXT($D$761,\"0\")&TEXT($E$761,\"0000\")&TEXT($F$761,\"0000\")","v":"4480025021103290025"},4480025021,null,1,329,25,"329-25","대",27,null,null,null,"오관리329-5","이병재",null,null,null,null,null,null,null,null,null,null,2711013900,"중구","계산동2가"]
[{"$f":"LEFT($B$762,10)&TEXT($D$762,\"0\")&TEXT($E$762,\"0000\")&TEXT($F$762,\"0000\")","v":"4480025021103290028"},4480025021,null,1,329,28,"329-28","대",27,null,null,null,"329-11","최한목",null,null,null,null,null,null,null,null,null,null,2711014000,"중구","동산동"]
[{"$f":"LEFT($B$763,10)&TEXT($D$763,\"0\")&TEXT($E$763,\"0000\")&TEXT($F$763,\"0000\")","v":"4480025021103290029"},4480025021,null,1,329,29,"329-29","대",105,null,null,null,"홍성군","국",null,null,null,null,null,null,null,null,null,null,2711014100,"중구","서문로2가"]
[{"$f":"LEFT($B$764,10)&TEXT($D$764,\"0\")&TEXT($E$764,\"0000\")&TEXT($F$764,\"0000\")","v":"4480025021103300001"},4480025021,null,1,330,1,"330-1","대",213,null,null,null,"대전광역시서구갈마동1418큰마을아파트117-902","김병록",null,null,null,null,null,null,null,null,null,null,2711014200,"중구","서성로2가"]
[{"$f":"LEFT($B$765,10)&TEXT($D$765,\"0\")&TEXT($E$765,\"0000\")&TEXT($F$765,\"0000\")","v":"4480025021103300005"},4480025021,null,1,330,5,"330-5","대",129,null,null,null,"충청남도홍성군홍성읍충절로1032번길42-1","강인자",null,null,null,null,null,null,null,null,null,null,2711014300,"중구","포정동"]
[{"$f":"LEFT($B$766,10)&TEXT($D$766,\"0\")&TEXT($E$766,\"0000\")&TEXT($F$766,\"0000\")","v":"4480025021103300006"},4480025021,null,1,330,6,"330-6","대",3,null,null,null,"부산남포동2가22","재단법인대한기독교침례회",null,null,null,null,null,null,null,null,null,null,2711014400,"중구","서문로1가"]
[{"$f":"LEFT($B$767,10)&TEXT($D$767,\"0\")&TEXT($E$767,\"0000\")&TEXT($F$767,\"0000\")","v":"4480025021103300007"},4480025021,null,1,330,7,"330-7","대",248,null,null,null,"330-7","최진호",null,null,null,null,null,null,null,null,null,null,2711014500,"중구","서내동"]
[{"$f":"LEFT($B$768,10)&TEXT($D$768,\"0\")&TEXT($E$768,\"0000\")&TEXT($F$768,\"0000\")","v":"4480025021103300008"},4480025021,null,1,330,8,"330-8","대",258,null,null,null,"충청남도홍성군홍성읍충절로1032번길42-1","강인자",null,null,null,null,null,null,null,null,null,null,2711014600,"중구","북성로2가"]
[{"$f":"LEFT($B$769,10)&TEXT($D$769,\"0\")&TEXT($E$769,\"0000\")&TEXT($F$769,\"0000\")","v":"4480025021103300011"},4480025021,null,1,330,11,"330-11","대",177,null,null,null,"홍성군홍성읍오관리330-9","정건영",null,null,null,null,null,null,null,null,null,null,2711014700,"중구","대안동"]
[{"$f":"LEFT($B$770,10)&TEXT($D$770,\"0\")&TEXT($E$770,\"0000\")&TEXT($F$770,\"0000\")","v":"4480025021103300013"},4480025021,null,1,330,13,"330-13","대",4,null,null,null,"홍성군","국",null,null,null,null,null,null,null,null,null,null,2711014800,"중구","동성로1가"]
[{"$f":"LEFT($B$771,10)&TEXT($D$771,\"0\")&TEXT($E$771,\"0000\")&TEXT($F$771,\"0000\")","v":"4480025021103300014"},4480025021,null,1,330,14,"330-14","대",3,null,null,null,"홍성군","국",null,null,null,null,null,null,null,null,null,null,2711014900,"중구","태평로2가"]
[{"$f":"LEFT($B$772,10)&TEXT($D$772,\"0\")&TEXT($E$772,\"0000\")&TEXT($F$772,\"0000\")","v":"4480025021103310003"},4480025021,null,1,331,3,"331-3","대",152,null,null,null,"충청남도홍성군홍성읍문화로175번길12-4","김만순",null,null,null,null,null,null,null,null,null,null,2711015000,"중구","북성로1가"]
[{"$f":"LEFT($B$773,10)&TEXT($D$773,\"0\")&TEXT($E$773,\"0000\")&TEXT($F$773,\"0000\")","v":"4480025021103310004"},4480025021,null,1,331,4,"331-4","전",218,null,null,null,"331-4","이성구",null,null,null,null,null,null,null,null,null,null,2711015100,"중구","화전동"]
[{"$f":"LEFT($B$774,10)&TEXT($D$774,\"0\")&TEXT($E$774,\"0000\")&TEXT($F$774,\"0000\")","v":"4480025021103310008"},4480025021,null,1,331,8,"331-8","대",132,null,null,null,"충청남도아산시신창면온천대로984109동304호(아산코아루에듀파크아파트)","이상민",null,null,null,null,null,null,null,null,null,null,2711015200,"중구","향촌동"]
[{"$f":"LEFT($B$775,10)&TEXT($D$775,\"0\")&TEXT($E$775,\"0000\")&TEXT($F$775,\"0000\")","v":"4480025021103310011"},4480025021,null,1,331,11,"331-11","전",56,null,null,null,"홍성군","국",null,null,null,null,null,null,null,null,null,null,2711015300,"중구","북내동"]
[{"$f":"LEFT($B$776,10)&TEXT($D$776,\"0\")&TEXT($E$776,\"0000\")&TEXT($F$776,\"0000\")","v":"4480025021103310013"},4480025021,null,1,331,13,"331-13","전",82,null,null,null,"홍성군","국",null,null,null,null,null,null,null,null,null,null,2711015400,"중구","대신동"]
[{"$f":"LEFT($B$777,10)&TEXT($D$777,\"0\")&TEXT($E$777,\"0000\")&TEXT($F$777,\"0000\")","v":"4480025021103320001"},4480025021,null,1,332,1,"332-1","대",67,null,null,null,"서울시서초구잠원동73번지신반포2지구아파트108동404호","전광수",null,null,null,null,null,null,null,null,null,null,2711015500,"중구","달성동"]
[{"$f":"LEFT($B$778,10)&TEXT($D$778,\"0\")&TEXT($E$778,\"0000\")&TEXT($F$778,\"0000\")","v":"4480025021103320003"},4480025021,null,1,332,3,"332-3","전",140,null,null,null,"충청남도홍성군홍북면용봉산1길3","이운주",null,null,null,null,null,null,null,null,null,null,2711015600,"중구","남산동"]
[{"$f":"LEFT($B$779,10)&TEXT($D$779,\"0\")&TEXT($E$779,\"0000\")&TEXT($F$779,\"0000\")","v":"4480025021103320008"},4480025021,null,1,332,8,"332-8","대",219,null,null,null,"332-2","박규만",null,null,null,null,null,null,null,null,null,null,2711015700,"중구","대봉동"]
[{"$f":"LEFT($B$780,10)&TEXT($D$780,\"0\")&TEXT($E$780,\"0000\")&TEXT($F$780,\"0000\")","v":"4480025021103330000"},4480025021,null,1,333,0,333,"대",4595,null,null,null,null,null,null,null,null,null,null,null,null,null,null,null,2714010100,"동구","신암동"]
[{"$f":"LEFT($B$781,10)&TEXT($D$781,\"0\")&TEXT($E$781,\"0000\")&TEXT($F$781,\"0000\")","v":"4480025021103330001"},4480025021,null,1,333,1,"333-1","대",80,null,null,null,"홍성군","국",null,null,null,null,null,null,null,null,null,null,2714010200,"동구","신천동"]
[{"$f":"LEFT($B$782,10)&TEXT($D$782,\"0\")&TEXT($E$782,\"0000\")&TEXT($F$782,\"0000\")","v":"4480025021103330003"},4480025021,null,1,333,3,"333-3","대",446,null,null,null,"충청남도홍성군홍성읍대교리17-1","청주이씨윤남파홍성종회",null,null,null,null,null,null,null,null,null,null,2714010300,"동구","효목동"]
[{"$f":"LEFT($B$783,10)&TEXT($D$783,\"0\")&TEXT($E$783,\"0000\")&TEXT($F$783,\"0000\")","v":"4480025021103330007"},4480025021,null,1,333,7,"333-7","대",2423,null,null,null,null,null,null,null,null,null,null,null,null,null,null,null,2714010400,"동구","평광동"]
[{"$f":"LEFT($B$784,10)&TEXT($D$784,\"0\")&TEXT($E$784,\"0000\")&TEXT($F$784,\"0000\")","v":"4480025021103330008"},4480025021,null,1,333,8,"333-8","과",208,null,null,null,"충청남도홍성군홍성읍월산리850부영아파트101-1010","김미현",null,null,null,null,null,null,null,null,null,null,2714010500,"동구","봉무동"]
[{"$f":"LEFT($B$785,10)&TEXT($D$785,\"0\")&TEXT($E$785,\"0000\")&TEXT($F$785,\"0000\")","v":"4480025021103330009"},4480025021,null,1,333,9,"333-9","대",14,null,null,null,"충청남도홍성군홍성읍오관리399-3","김동만",null,null,null,null,null,null,null,null,null,null,2714010600,"동구","불로동"]
[{"$f":"LEFT($B$786,10)&TEXT($D$786,\"0\")&TEXT($E$786,\"0000\")&TEXT($F$786,\"0000\")","v":"4480025021103330010"},4480025021,null,1,333,10,"333-10","도",74,null,null,null,"홍성군","국",null,null,null,null,null,null,null,null,null,null,2714010700,"동구","도동"]
[{"$f":"LEFT($B$787,10)&TEXT($D$787,\"0\")&TEXT($E$787,\"0000\")&TEXT($F$787,\"0000\")","v":"4480025021103330012"},4480025021,null,1,333,12,"333-12","도",206,null,null,null,"홍성군","국",null,null,null,null,null,null,null,null,null,null,2714010800,"동구","지저동"]
[{"$f":"LEFT($B$788,10)&TEXT($D$788,\"0\")&TEXT($E$788,\"0000\")&TEXT($F$788,\"0000\")","v":"4480025021103330018"},4480025021,null,1,333,18,"333-18","도",34,null,null,null,"홍성군","국",null,null,null,null,null,null,null,null,null,null,2714010900,"동구","입석동"]
[{"$f":"LEFT($B$789,10)&TEXT($D$789,\"0\")&TEXT($E$789,\"0000\")&TEXT($F$789,\"0000\")","v":"4480025021103330022"},4480025021,null,1,333,22,"333-22","임",992,null,null,null,"충청남도홍성군홍성읍대교리17-1","청주이씨윤남파홍성종회",null,null,null,null,null,null,null,null,null,null,2714011000,"동구","검사동"]
[{"$f":"LEFT($B$790,10)&TEXT($D$790,\"0\")&TEXT($E$790,\"0000\")&TEXT($F$790,\"0000\")","v":"4480025021103330027"},4480025021,null,1,333,27,"333-27","대",160,null,null,null,"홍성군","국",null,null,null,null,null,null,null,null,null,null,2714011100,"동구","방촌동"]
[{"$f":"LEFT($B$791,10)&TEXT($D$791,\"0\")&TEXT($E$791,\"0000\")&TEXT($F$791,\"0000\")","v":"4480025021103330028"},4480025021,null,1,333,28,"333-28","대",74,null,null,null,"홍성군","국",null,null,null,null,null,null,null,null,null,null,2714011200,"동구","둔산동"]
[{"$f":"LEFT($B$792,10)&TEXT($D$792,\"0\")&TEXT($E$792,\"0000\")&TEXT($F$792,\"0000\")","v":"4480025021103340001"},4480025021,null,1,334,1,"334-1","대",158,null,null,null,"경기도안양시만안구안양동846-11현대베스트빌라-303","황덕종",null,null,null,null,null,null,null,null,null,null,2714011300,"동구","부동"]
[{"$f":"LEFT($B$793,10)&TEXT($D$793,\"0\")&TEXT($E$793,\"0000\")&TEXT($F$793,\"0000\")","v":"4480025021103340002"},4480025021,null,1,334,2,"334-2","대",165,null,null,null,"334-2","박석규",null,null,null,null,null,null,null,null,null,null,2714011400,"동구","신평동"]
[{"$f":"LEFT($B$794,10)&TEXT($D$794,\"0\")&TEXT($E$794,\"0000\")&TEXT($F$794,\"0000\")","v":"4480025021103340004"},4480025021,null,1,334,4,"334-4","대",330,null,null,null,"대전광역시중구선화동15-4다가구주택306","박효선",null,null,null,null,null,null,null,null,null,null,2714011500,"동구","서호동"]
[{"$f":"LEFT($B$795,10)&TEXT($D$795,\"0\")&TEXT($E$795,\"0000\")&TEXT($F$795,\"0000\")","v":"4480025021103340008"},4480025021,null,1,334,8,"334-8","대",182,null,null,null,"334-8","최양섭",null,null,null,null,null,null,null,null,null,null,2714011600,"동구","동호동"]
[{"$f":"LEFT($B$796,10)&TEXT($D$796,\"0\")&TEXT($E$796,\"0000\")&TEXT($F$796,\"0000\")","v":"4480025021103340009"},4480025021,null,1,334,9,"334-9","전",33,null,null,null,"334-7","김남수",null,null,null,null,null,null,null,null,null,null,2714011700,"동구","신기동"]
[{"$f":"LEFT($B$797,10)&TEXT($D$797,\"0\")&TEXT($E$797,\"0000\")&TEXT($F$797,\"0000\")","v":"4480025021103340010"},4480025021,null,1,334,10,"334-10","대",120,null,null,null,"334-10","동정동동민회",null,null,null,null,null,null,null,null,null,null,2714011800,"동구","율하동"]
[{"$f":"LEFT($B$798,10)&TEXT($D$798,\"0\")&TEXT($E$798,\"0000\")&TEXT($F$798,\"0000\")","v":"4480025021103340011"},4480025021,null,1,334,11,"334-11","전",49,null,null,null,"334-12","정태봉",null,null,null,null,null,null,null,null,null,null,2714011900,"동구","용계동"]
[{"$f":"LEFT($B$799,10)&TEXT($D$799,\"0\")&TEXT($E$799,\"0000\")&TEXT($F$799,\"0000\")","v":"4480025021103340012"},4480025021,null,1,334,12,"334-12","전",228,null,null,null,"334-12","정태봉",null,null,null,null,null,null,null,null,null,null,2714012000,"동구","율암동"]
[{"$f":"LEFT($B$800,10)&TEXT($D$800,\"0\")&TEXT($E$800,\"0000\")&TEXT($F$800,\"0000\")","v":"4480025021103340013"},4480025021,null,1,334,13,"334-13","전",244,null,null,null,"334-13","이환석",null,null,null,null,null,null,null,null,null,null,2714012100,"동구","상매동"]
[{"$f":"LEFT($B$801,10)&TEXT($D$801,\"0\")&TEXT($E$801,\"0000\")&TEXT($F$801,\"0000\")","v":"4480025021103340016"},4480025021,null,1,334,16,"334-16","도",17,null,null,null,"충청남도홍성군홍성읍의사로21번길15-1","정태봉",null,null,null,null,null,null,null,null,null,null,2714012200,"동구","매여동"]
[{"$f":"LEFT($B$802,10)&TEXT($D$802,\"0\")&TEXT($E$802,\"0000\")&TEXT($F$802,\"0000\")","v":"4480025021103340017"},4480025021,null,1,334,17,"334-17","전",200,null,null,null,"334-17","김덕배",null,null,null,null,null,null,null,null,null,null,2714012300,"동구","각산동"]
[{"$f":"LEFT($B$803,10)&TEXT($D$803,\"0\")&TEXT($E$803,\"0000\")&TEXT($F$803,\"0000\")","v":"4480025021103340019"},4480025021,null,1,334,19,"334-19","대",52,null,null,null,"홍성군","국",null,null,null,null,null,null,null,null,null,null,2714012400,"동구","신서동"]
[{"$f":"LEFT($B$804,10)&TEXT($D$804,\"0\")&TEXT($E$804,\"0000\")&TEXT($F$804,\"0000\")","v":"4480025021103340020"},4480025021,null,1,334,20,"334-20","대",25,null,null,null,"경기도안양시만안구안양동846-11현대베스트빌라-303","황덕종",null,null,null,null,null,null,null,null,null,null,2714012500,"동구","동내동"]
[{"$f":"LEFT($B$805,10)&TEXT($D$805,\"0\")&TEXT($E$805,\"0000\")&TEXT($F$805,\"0000\")","v":"4480025021103340021"},4480025021,null,1,334,21,"334-21","전",324,null,null,null,"334-12","정태봉",null,null,null,null,null,null,null,null,null,null,2714012600,"동구","괴전동"]
[{"$f":"LEFT($B$806,10)&TEXT($D$806,\"0\")&TEXT($E$806,\"0000\")&TEXT($F$806,\"0000\")","v":"4480025021103340022"},4480025021,null,1,334,22,"334-22","전",243,null,null,null,"334-12","정태봉",null,null,null,null,null,null,null,null,null,null,2714012700,"동구","금강동"]
[{"$f":"LEFT($B$807,10)&TEXT($D$807,\"0\")&TEXT($E$807,\"0000\")&TEXT($F$807,\"0000\")","v":"4480025021103340024"},4480025021,null,1,334,24,"334-24","도",7,null,null,null,"충청남도홍성군홍성읍의사로21번길15-1","정태봉",null,null,null,null,null,null,null,null,null,null,2714012800,"동구","대림동"]
[{"$f":"LEFT($B$808,10)&TEXT($D$808,\"0\")&TEXT($E$808,\"0000\")&TEXT($F$808,\"0000\")","v":"4480025021103340025"},4480025021,null,1,334,25,"334-25","대",97,null,null,null,"경남양산군기장읍죽성리770","재단법인한국천부교전도관유지재단",null,null,null,null,null,null,null,null,null,null,2714012900,"동구","사복동"]
[{"$f":"LEFT($B$809,10)&TEXT($D$809,\"0\")&TEXT($E$809,\"0000\")&TEXT($F$809,\"0000\")","v":"4480025021103350001"},4480025021,null,1,335,1,"335-1","대",66,null,null,null,"338-1","최문덕",null,null,null,null,null,null,null,null,null,null,2714013000,"동구","숙천동"]
[{"$f":"LEFT($B$810,10)&TEXT($D$810,\"0\")&TEXT($E$810,\"0000\")&TEXT($F$810,\"0000\")","v":"4480025021103350002"},4480025021,null,1,335,2,"335-2","대",208,null,null,null,"충청남도홍성군홍성읍충절로1032번길39","조기성",null,null,null,null,null,null,null,null,null,null,2714013100,"동구","내곡동"]
[{"$f":"LEFT($B$811,10)&TEXT($D$811,\"0\")&TEXT($E$811,\"0000\")&TEXT($F$811,\"0000\")","v":"4480025021103350005"},4480025021,null,1,335,5,"335-5","대",155,null,null,null,"서울시은평구갈현동474-10","안효숙",null,null,null,null,null,null,null,null,null,null,2714013200,"동구","능성동"]
[{"$f":"LEFT($B$812,10)&TEXT($D$812,\"0\")&TEXT($E$812,\"0000\")&TEXT($F$812,\"0000\")","v":"4480025021103350007"},4480025021,null,1,335,7,"335-7","대",152,null,null,null,"335-6","최흥섭",null,null,null,null,null,null,null,null,null,null,2714013300,"동구","진인동"]
[{"$f":"LEFT($B$813,10)&TEXT($D$813,\"0\")&TEXT($E$813,\"0000\")&TEXT($F$813,\"0000\")","v":"4480025021103350009"},4480025021,null,1,335,9,"335-9","대",264,null,null,null,"335-9","김종환",null,null,null,null,null,null,null,null,null,null,2714013400,"동구","도학동"]
[{"$f":"LEFT($B$814,10)&TEXT($D$814,\"0\")&TEXT($E$814,\"0000\")&TEXT($F$814,\"0000\")","v":"4480025021103350010"},4480025021,null,1,335,10,"335-10","대",136,null,null,null,"346-41광성연립105호","김수자",null,null,null,null,null,null,null,null,null,null,2714013500,"동구","백안동"]
[{"$f":"LEFT($B$815,10)&TEXT($D$815,\"0\")&TEXT($E$815,\"0000\")&TEXT($F$815,\"0000\")","v":"4480025021103350011"},4480025021,null,1,335,11,"335-11","전",288,null,null,null,"335-9","김종환",null,null,null,null,null,null,null,null,null,null,2714013600,"동구","미곡동"]
[{"$f":"LEFT($B$816,10)&TEXT($D$816,\"0\")&TEXT($E$816,\"0000\")&TEXT($F$816,\"0000\")","v":"4480025021103350012"},4480025021,null,1,335,12,"335-12","전",330,null,null,null,"346-41광성연립105호","김수자",null,null,null,null,null,null,null,null,null,null,2714013700,"동구","용수동"]
[{"$f":"LEFT($B$817,10)&TEXT($D$817,\"0\")&TEXT($E$817,\"0000\")&TEXT($F$817,\"0000\")","v":"4480025021103350014"},4480025021,null,1,335,14,"335-14","대",86,null,null,null,"대교리283-1","이기일",null,null,null,null,null,null,null,null,null,null,2714013800,"동구","신무동"]
[{"$f":"LEFT($B$818,10)&TEXT($D$818,\"0\")&TEXT($E$818,\"0000\")&TEXT($F$818,\"0000\")","v":"4480025021103350016"},4480025021,null,1,335,16,"335-16","전",317,null,null,null,"서울특별시성북구종암로34길11(하월곡동)","진민정",null,null,null,null,null,null,null,null,null,null,2714013900,"동구","미대동"]
[{"$f":"LEFT($B$819,10)&TEXT($D$819,\"0\")&TEXT($E$819,\"0000\")&TEXT($F$819,\"0000\")","v":"4480025021103350018"},4480025021,null,1,335,18,"335-18","대",165,null,null,null,"충청남도홍성군홍성읍충절로1032번길17","박종우",null,null,null,null,null,null,null,null,null,null,2714014000,"동구","내동"]
[{"$f":"LEFT($B$820,10)&TEXT($D$820,\"0\")&TEXT($E$820,\"0000\")&TEXT($F$820,\"0000\")","v":"4480025021103350019"},4480025021,null,1,335,19,"335-19","전",106,null,null,null,"오관리335-9","김종환",null,null,null,null,null,null,null,null,null,null,2714014100,"동구","신용동"]
[{"$f":"LEFT($B$821,10)&TEXT($D$821,\"0\")&TEXT($E$821,\"0000\")&TEXT($F$821,\"0000\")","v":"4480025021103350020"},4480025021,null,1,335,20,"335-20","대",398,null,null,null,"충청남도홍성군홍성읍조양로170번길37-42","신두식",null,null,null,null,null,null,null,null,null,null,2714014200,"동구","중대동"]
[{"$f":"LEFT($B$822,10)&TEXT($D$822,\"0\")&TEXT($E$822,\"0000\")&TEXT($F$822,\"0000\")","v":"4480025021103350021"},4480025021,null,1,335,21,"335-21","도",2,null,null,null,"산1-4","신두식",null,null,null,null,null,null,null,null,null,null,2714014300,"동구","송정동"]
[{"$f":"LEFT($B$823,10)&TEXT($D$823,\"0\")&TEXT($E$823,\"0000\")&TEXT($F$823,\"0000\")","v":"4480025021103360002"},4480025021,null,1,336,2,"336-2","대",549,null,null,null,"충청남도홍성군홍성읍조양로170번길37-9","민숙희",null,null,null,null,null,null,null,null,null,null,2714014400,"동구","덕곡동"]
[{"$f":"LEFT($B$824,10)&TEXT($D$824,\"0\")&TEXT($E$824,\"0000\")&TEXT($F$824,\"0000\")","v":"4480025021103360003"},4480025021,null,1,336,3,"336-3","대",674,null,null,null,"경기도부천시장말로1361901동2002호(상동꿈동산)","최경희",null,null,null,null,null,null,null,null,null,null,2714014500,"동구","지묘동"]
[{"$f":"LEFT($B$825,10)&TEXT($D$825,\"0\")&TEXT($E$825,\"0000\")&TEXT($F$825,\"0000\")","v":"4480025021103360007"},4480025021,null,1,336,7,"336-7","대",83,null,null,null,"국(기획재정부)","국",null,null,null,null,null,null,null,null,null,null,2717010100,"서구","내당동"]
[{"$f":"LEFT($B$826,10)&TEXT($D$826,\"0\")&TEXT($E$826,\"0000\")&TEXT($F$826,\"0000\")","v":"4480025021103360009"},4480025021,null,1,336,9,"336-9","대",400,null,null,null,"469-12","주갑상",null,null,null,null,null,null,null,null,null,null,2717010200,"서구","비산동"]
[{"$f":"LEFT($B$827,10)&TEXT($D$827,\"0\")&TEXT($E$827,\"0000\")&TEXT($F$827,\"0000\")","v":"4480025021103360010"},4480025021,null,1,336,10,"336-10","도",63,null,null,null,"국(국세청)","국",null,null,null,null,null,null,null,null,null,null,2717010300,"서구","평리동"]
[{"$f":"LEFT($B$828,10)&TEXT($D$828,\"0\")&TEXT($E$828,\"0000\")&TEXT($F$828,\"0000\")","v":"4480025021103360011"},4480025021,null,1,336,11,"336-11","대",397,null,null,null,"336-11","박쌍금",null,null,null,null,null,null,null,null,null,null,2717010400,"서구","상리동"]
[{"$f":"LEFT($B$829,10)&TEXT($D$829,\"0\")&TEXT($E$829,\"0000\")&TEXT($F$829,\"0000\")","v":"4480025021103360012"},4480025021,null,1,336,12,"336-12","대",172,null,null,null,"336-12","박성민",null,null,null,null,null,null,null,null,null,null,2717010500,"서구","중리동"]
[{"$f":"LEFT($B$830,10)&TEXT($D$830,\"0\")&TEXT($E$830,\"0000\")&TEXT($F$830,\"0000\")","v":"4480025021103370003"},4480025021,null,1,337,3,"337-3","대",251,null,null,null,"충청남도홍성군홍성읍충절로1032번길61","임상순",null,null,null,null,null,null,null,null,null,null,2717010600,"서구","이현동"]
[{"$f":"LEFT($B$831,10)&TEXT($D$831,\"0\")&TEXT($E$831,\"0000\")&TEXT($F$831,\"0000\")","v":"4480025021103370005"},4480025021,null,1,337,5,"337-5","대",198,null,null,null,"337-5","이진규",null,null,null,null,null,null,null,null,null,null,2717010700,"서구","원대동1가"]
[{"$f":"LEFT($B$832,10)&TEXT($D$832,\"0\")&TEXT($E$832,\"0000\")&TEXT($F$832,\"0000\")","v":"4480025021103370006"},4480025021,null,1,337,6,"337-6","대",50,null,null,null,"337-8","오선숙",null,null,null,null,null,null,null,null,null,null,2717010800,"서구","원대동2가"]
[{"$f":"LEFT($B$833,10)&TEXT($D$833,\"0\")&TEXT($E$833,\"0000\")&TEXT($F$833,\"0000\")","v":"4480025021103370012"},4480025021,null,1,337,12,"337-12","도",48,null,null,null,"홍성군","국",null,null,null,null,null,null,null,null,null,null,2717010900,"서구","원대동3가"]
[{"$f":"LEFT($B$834,10)&TEXT($D$834,\"0\")&TEXT($E$834,\"0000\")&TEXT($F$834,\"0000\")","v":"4480025021103380001"},4480025021,null,1,338,1,"338-1","대",332,null,null,null,"543-23","모성순",null,null,null,null,null,null,null,null,null,null,2720010100,"남구","이천동"]
[{"$f":"LEFT($B$835,10)&TEXT($D$835,\"0\")&TEXT($E$835,\"0000\")&TEXT($F$835,\"0000\")","v":"4480025021103390000"},4480025021,null,1,339,0,339,"대",374,null,null,null,"용인시수지구죽전동1235성현마을반도보라빌102-1401","신정순",null,null,null,null,null,null,null,null,null,null,2720010200,"남구","봉덕동"]
[{"$f":"LEFT($B$836,10)&TEXT($D$836,\"0\")&TEXT($E$836,\"0000\")&TEXT($F$836,\"0000\")","v":"4480025021103390001"},4480025021,null,1,339,1,"339-1","대",274,null,null,null,"서울특별시서초구신반포로23길41104동1005호(잠원동신반포2지구아파트)","임수희",null,null,null,null,null,null,null,null,null,null,2720010300,"남구","대명동"]
[{"$f":"LEFT($B$837,10)&TEXT($D$837,\"0\")&TEXT($E$837,\"0000\")&TEXT($F$837,\"0000\")","v":"4480025021103390002"},4480025021,null,1,339,2,"339-2","대",344,null,null,null,"충청남도(교육감)","국",null,null,null,null,null,null,null,null,null,null,2723010100,"북구","칠성동1가"]
[{"$f":"LEFT($B$838,10)&TEXT($D$838,\"0\")&TEXT($E$838,\"0000\")&TEXT($F$838,\"0000\")","v":"4480025021103390005"},4480025021,null,1,339,5,"339-5","대",26,null,null,null,"용인시수지구죽전동1235성현마을반도보라빌102-1401","신정순",null,null,null,null,null,null,null,null,null,null,2723010200,"북구","칠성동2가"]
[{"$f":"LEFT($B$839,10)&TEXT($D$839,\"0\")&TEXT($E$839,\"0000\")&TEXT($F$839,\"0000\")","v":"4480025021103390006"},4480025021,null,1,339,6,"339-6","도",37,null,null,null,"홍성군","국",null,null,null,null,null,null,null,null,null,null,2723010300,"북구","고성동1가"]
[{"$f":"LEFT($B$840,10)&TEXT($D$840,\"0\")&TEXT($E$840,\"0000\")&TEXT($F$840,\"0000\")","v":"4480025021103400002"},4480025021,null,1,340,2,"340-2","대",231,null,null,null,"대전시동구용운동353-13","최홍순",null,null,null,null,null,null,null,null,null,null,2723010400,"북구","고성동2가"]
[{"$f":"LEFT($B$841,10)&TEXT($D$841,\"0\")&TEXT($E$841,\"0000\")&TEXT($F$841,\"0000\")","v":"4480025021103400004"},4480025021,null,1,340,4,"340-4","대",482,null,null,null,"충청남도천안시서북구백석2길40114동1002호(백석동호반리젠시빌아파트)","한웅삼",null,null,null,null,null,null,null,null,null,null,2723010500,"북구","고성동3가"]
[{"$f":"LEFT($B$842,10)&TEXT($D$842,\"0\")&TEXT($E$842,\"0000\")&TEXT($F$842,\"0000\")","v":"4480025021103400005"},4480025021,null,1,340,5,"340-5","대",215,null,null,null,"충청남도홍성군홍성읍문화로33번길11103동702호(홍성옥암하늘채아파트)","이기광",null,null,null,null,null,null,null,null,null,null,2723010600,"북구","침산동"]
[{"$f":"LEFT($B$843,10)&TEXT($D$843,\"0\")&TEXT($E$843,\"0000\")&TEXT($F$843,\"0000\")","v":"4480025021103400008"},4480025021,null,1,340,8,"340-8","대",340,null,null,null,"340-8","이종순",null,null,null,null,null,null,null,null,null,null,2723010700,"북구","노원동1가"]
[{"$f":"LEFT($B$844,10)&TEXT($D$844,\"0\")&TEXT($E$844,\"0000\")&TEXT($F$844,\"0000\")","v":"4480025021103400009"},4480025021,null,1,340,9,"340-9","대",106,null,null,null,"274-3","김구년",null,null,null,null,null,null,null,null,null,null,2723010800,"북구","노원동2가"]
[{"$f":"LEFT($B$845,10)&TEXT($D$845,\"0\")&TEXT($E$845,\"0000\")&TEXT($F$845,\"0000\")","v":"4480025021103400011"},4480025021,null,1,340,11,"340-11","대",565,null,null,null,"충청남도예산군덕산면수덕사안길37","김종진",null,null,null,null,null,null,null,null,null,null,2723010900,"북구","노원동3가"]
[{"$f":"LEFT($B$846,10)&TEXT($D$846,\"0\")&TEXT($E$846,\"0000\")&TEXT($F$846,\"0000\")","v":"4480025021103400014"},4480025021,null,1,340,14,"340-14","대",538,null,null,null,"충청남도홍성군홍성읍충절로1032번길6(행복하우스)","임규명",null,null,null,null,null,null,null,null,null,null,2723011000,"북구","대현동"]
[{"$f":"LEFT($B$847,10)&TEXT($D$847,\"0\")&TEXT($E$847,\"0000\")&TEXT($F$847,\"0000\")","v":"4480025021103400015"},4480025021,null,1,340,15,"340-15","대",281,null,null,null,"오관리340-15","인동진",null,null,null,null,null,null,null,null,null,null,2723011100,"북구","산격동"]
[{"$f":"LEFT($B$848,10)&TEXT($D$848,\"0\")&TEXT($E$848,\"0000\")&TEXT($F$848,\"0000\")","v":"4480025021103400016"},4480025021,null,1,340,16,"340-16","대",337,null,null,null,"274-3","김구년",null,null,null,null,null,null,null,null,null,null,2723011200,"북구","복현동"]
[{"$f":"LEFT($B$849,10)&TEXT($D$849,\"0\")&TEXT($E$849,\"0000\")&TEXT($F$849,\"0000\")","v":"4480025021103400020"},4480025021,null,1,340,20,"340-20","대",10,null,null,null,"국(기획재정부)","국",null,null,null,null,null,null,null,null,null,null,2723011300,"북구","검단동"]
[{"$f":"LEFT($B$850,10)&TEXT($D$850,\"0\")&TEXT($E$850,\"0000\")&TEXT($F$850,\"0000\")","v":"4480025021103400022"},4480025021,null,1,340,22,"340-22","대",149,null,null,null,"국(기획재정부)","국",null,null,null,null,null,null,null,null,null,null,2723011400,"북구","동변동"]
[{"$f":"LEFT($B$851,10)&TEXT($D$851,\"0\")&TEXT($E$851,\"0000\")&TEXT($F$851,\"0000\")","v":"4480025021103400025"},4480025021,null,1,340,25,"340-25","대",8,null,null,null,"대전시동구용운동353-13","최흥순",null,null,null,null,null,null,null,null,null,null,2723011500,"북구","서변동"]
[{"$f":"LEFT($B$852,10)&TEXT($D$852,\"0\")&TEXT($E$852,\"0000\")&TEXT($F$852,\"0000\")","v":"4480025021103410001"},4480025021,null,1,341,1,"341-1","대",227,null,null,null,"341-1","이재원",null,null,null,null,null,null,null,null,null,null,2723011600,"북구","조야동"]
[{"$f":"LEFT($B$853,10)&TEXT($D$853,\"0\")&TEXT($E$853,\"0000\")&TEXT($F$853,\"0000\")","v":"4480025021103420001"},4480025021,null,1,342,1,"342-1","대",342,null,null,null,"전라남도광양시봉강면성불로608-11","김일순",null,null,null,null,null,null,null,null,null,null,2723011700,"북구","노곡동"]
[{"$f":"LEFT($B$854,10)&TEXT($D$854,\"0\")&TEXT($E$854,\"0000\")&TEXT($F$854,\"0000\")","v":"4480025021103420004"},4480025021,null,1,342,4,"342-4","도",413,null,null,null,"국(건설부)","국",null,null,null,null,null,null,null,null,null,null,2723011800,"북구","읍내동"]
[{"$f":"LEFT($B$855,10)&TEXT($D$855,\"0\")&TEXT($E$855,\"0000\")&TEXT($F$855,\"0000\")","v":"4480025021103420005"},4480025021,null,1,342,5,"342-5","도",53,null,null,null,"홍성군","국",null,null,null,null,null,null,null,null,null,null,2723011900,"북구","동호동"]
[{"$f":"LEFT($B$856,10)&TEXT($D$856,\"0\")&TEXT($E$856,\"0000\")&TEXT($F$856,\"0000\")","v":"4480025021103420006"},4480025021,null,1,342,6,"342-6","도",100,null,null,null,"국(건설부)","국",null,null,null,null,null,null,null,null,null,null,2723012000,"북구","학정동"]
[{"$f":"LEFT($B$857,10)&TEXT($D$857,\"0\")&TEXT($E$857,\"0000\")&TEXT($F$857,\"0000\")","v":"4480025021103420007"},4480025021,null,1,342,7,"342-7","대",1008,null,null,null,"충청남도홍성군홍성읍오관리342-7","차득환",null,null,null,null,null,null,null,null,null,null,2723012100,"북구","도남동"]
[{"$f":"LEFT($B$858,10)&TEXT($D$858,\"0\")&TEXT($E$858,\"0000\")&TEXT($F$858,\"0000\")","v":"4480025021103420008"},4480025021,null,1,342,8,"342-8","임",3976,null,null,null,"홍성군홍성읍대교리17-1","청주이씨윤남파홍성종회",null,null,null,null,null,null,null,null,null,null,2723012200,"북구","국우동"]
[{"$f":"LEFT($B$859,10)&TEXT($D$859,\"0\")&TEXT($E$859,\"0000\")&TEXT($F$859,\"0000\")","v":"4480025021103420009"},4480025021,null,1,342,9,"342-9","임",978,null,null,null,"홍성군홍성읍대교리17-1","청주이씨윤남파홍성종회",null,null,null,null,null,null,null,null,null,null,2723012300,"북구","구암동"]
[{"$f":"LEFT($B$860,10)&TEXT($D$860,\"0\")&TEXT($E$860,\"0000\")&TEXT($F$860,\"0000\")","v":"4480025021103420013"},4480025021,null,1,342,13,"342-13","임",1007,null,null,null,"홍성군홍성읍대교리17-1","청주이씨윤남파홍성종회",null,null,null,null,null,null,null,null,null,null,2723012400,"북구","동천동"]
[{"$f":"LEFT($B$861,10)&TEXT($D$861,\"0\")&TEXT($E$861,\"0000\")&TEXT($F$861,\"0000\")","v":"4480025021103420014"},4480025021,null,1,342,14,"342-14","대",909,null,null,null,"서울특별시강동구천호동566태영아파트104-101","이수길",null,null,null,null,null,null,null,null,null,null,2723012500,"북구","관음동"]
[{"$f":"LEFT($B$862,10)&TEXT($D$862,\"0\")&TEXT($E$862,\"0000\")&TEXT($F$862,\"0000\")","v":"4480025021103420018"},4480025021,null,1,342,18,"342-18","임",317,null,null,null,"충청남도보령시오천면충청수영로377-12","박미선",null,null,null,null,null,null,null,null,null,null,2723012600,"북구","태전동"]
[{"$f":"LEFT($B$863,10)&TEXT($D$863,\"0\")&TEXT($E$863,\"0000\")&TEXT($F$863,\"0000\")","v":"4480025021103430002"},4480025021,null,1,343,2,"343-2","대",231,null,null,null,"358-1","이명호",null,null,null,null,null,null,null,null,null,null,2723012700,"북구","매천동"]
[{"$f":"LEFT($B$864,10)&TEXT($D$864,\"0\")&TEXT($E$864,\"0000\")&TEXT($F$864,\"0000\")","v":"4480025021103430003"},4480025021,null,1,343,3,"343-3","대",42,null,null,null,"홍성군","국",null,null,null,null,null,null,null,null,null,null,2723012800,"북구","팔달동"]
[{"$f":"LEFT($B$865,10)&TEXT($D$865,\"0\")&TEXT($E$865,\"0000\")&TEXT($F$865,\"0000\")","v":"4480025021103430005"},4480025021,null,1,343,5,"343-5","도",742,null,null,null,"홍성군","국",null,null,null,null,null,null,null,null,null,null,2723012900,"북구","금호동"]
[{"$f":"LEFT($B$866,10)&TEXT($D$866,\"0\")&TEXT($E$866,\"0000\")&TEXT($F$866,\"0000\")","v":"4480025021103430006"},4480025021,null,1,343,6,"343-6","대",177,null,null,null,"산2","이수길",null,null,null,null,null,null,null,null,null,null,2723013000,"북구","사수동"]
[{"$f":"LEFT($B$867,10)&TEXT($D$867,\"0\")&TEXT($E$867,\"0000\")&TEXT($F$867,\"0000\")","v":"4480025021103430008"},4480025021,null,1,343,8,"343-8","도",93,null,null,null,"홍성군","국",null,null,null,null,null,null,null,null,null,null,2723013100,"북구","연경동"]
[{"$f":"LEFT($B$868,10)&TEXT($D$868,\"0\")&TEXT($E$868,\"0000\")&TEXT($F$868,\"0000\")","v":"4480025021103430010"},4480025021,null,1,343,10,"343-10","전",8,null,null,null,"홍성군","국",null,null,null,null,null,null,null,null,null,null,2726010100,"수성구","범어동"]
[{"$f":"LEFT($B$869,10)&TEXT($D$869,\"0\")&TEXT($E$869,\"0000\")&TEXT($F$869,\"0000\")","v":"4480025021103430011"},4480025021,null,1,343,11,"343-11","대",286,null,null,null,"343-11","황호순",null,null,null,null,null,null,null,null,null,null,2726010200,"수성구","만촌동"]
[{"$f":"LEFT($B$870,10)&TEXT($D$870,\"0\")&TEXT($E$870,\"0000\")&TEXT($F$870,\"0000\")","v":"4480025021103430012"},4480025021,null,1,343,12,"343-12","대",673,null,null,null,"729-3","김환인",null,null,null,null,null,null,null,null,null,null,2726010300,"수성구","수성동1가"]
[{"$f":"LEFT($B$871,10)&TEXT($D$871,\"0\")&TEXT($E$871,\"0000\")&TEXT($F$871,\"0000\")","v":"4480025021103430014"},4480025021,null,1,343,14,"343-14","대",177,null,null,null,"산2","이수길",null,null,null,null,null,null,null,null,null,null,2726010400,"수성구","수성동2가"]
[{"$f":"LEFT($B$872,10)&TEXT($D$872,\"0\")&TEXT($E$872,\"0000\")&TEXT($F$872,\"0000\")","v":"4480025021103430015"},4480025021,null,1,343,15,"343-15","대",491,null,null,null,"충청남도홍성군홍성읍대교리17-1","청주이씨윤남파홍성종회",null,null,null,null,null,null,null,null,null,null,2726010500,"수성구","수성동3가"]
[{"$f":"LEFT($B$873,10)&TEXT($D$873,\"0\")&TEXT($E$873,\"0000\")&TEXT($F$873,\"0000\")","v":"4480025021103430016"},4480025021,null,1,343,16,"343-16","대",526,null,null,null,"충청남도홍성군홍성읍대교리17-1","청주이씨윤남파홍성종회",null,null,null,null,null,null,null,null,null,null,2726010600,"수성구","수성동4가"]
[{"$f":"LEFT($B$874,10)&TEXT($D$874,\"0\")&TEXT($E$874,\"0000\")&TEXT($F$874,\"0000\")","v":"4480025021103430017"},4480025021,null,1,343,17,"343-17","대",551,null,null,null,"충청남도홍성군홍성읍대교리17-1","청주이씨윤남파홍성종회",null,null,null,null,null,null,null,null,null,null,2726010700,"수성구","황금동"]
[{"$f":"LEFT($B$875,10)&TEXT($D$875,\"0\")&TEXT($E$875,\"0000\")&TEXT($F$875,\"0000\")","v":"4480025021103430018"},4480025021,null,1,343,18,"343-18","대",119,null,null,null,"충청남도홍성군홍성읍대교리17-1","청주이씨윤남파홍성종회",null,null,null,null,null,null,null,null,null,null,2726010800,"수성구","중동"]
[{"$f":"LEFT($B$876,10)&TEXT($D$876,\"0\")&TEXT($E$876,\"0000\")&TEXT($F$876,\"0000\")","v":"4480025021103430019"},4480025021,null,1,343,19,"343-19","대",12,null,null,null,"충청남도홍성군금마면죽림리293","김순월",null,null,null,null,null,null,null,null,null,null,2726010900,"수성구","상동"]
[{"$f":"LEFT($B$877,10)&TEXT($D$877,\"0\")&TEXT($E$877,\"0000\")&TEXT($F$877,\"0000\")","v":"4480025021103430020"},4480025021,null,1,343,20,"343-20","대",176,null,null,null,"충청남도홍성군금마면죽림리293","김순월",null,null,null,null,null,null,null,null,null,null,2726011000,"수성구","파동"]
[{"$f":"LEFT($B$878,10)&TEXT($D$878,\"0\")&TEXT($E$878,\"0000\")&TEXT($F$878,\"0000\")","v":"4480025021103430021"},4480025021,null,1,343,21,"343-21","대",1108,null,null,null,"인천광역시부평구마장로204번길311동201호(산곡동우성맨션)","허웅",null,null,null,null,null,null,null,null,null,null,2726011100,"수성구","두산동"]
[{"$f":"LEFT($B$879,10)&TEXT($D$879,\"0\")&TEXT($E$879,\"0000\")&TEXT($F$879,\"0000\")","v":"4480025021103430023"},4480025021,null,1,343,23,"343-23","전",333,null,null,null,"343-23","이홍구",null,null,null,null,null,null,null,null,null,null,2726011200,"수성구","지산동"]
[{"$f":"LEFT($B$880,10)&TEXT($D$880,\"0\")&TEXT($E$880,\"0000\")&TEXT($F$880,\"0000\")","v":"4480025021103430024"},4480025021,null,1,343,24,"343-24","전",222,null,null,null,"오관리343-24","최연순",null,null,null,null,null,null,null,null,null,null,2726011300,"수성구","범물동"]
[{"$f":"LEFT($B$881,10)&TEXT($D$881,\"0\")&TEXT($E$881,\"0000\")&TEXT($F$881,\"0000\")","v":"4480025021103430025"},4480025021,null,1,343,25,"343-25","도",77,null,null,null,"국(건설부)","국",null,null,null,null,null,null,null,null,null,null,2726011400,"수성구","시지동"]
[{"$f":"LEFT($B$882,10)&TEXT($D$882,\"0\")&TEXT($E$882,\"0000\")&TEXT($F$882,\"0000\")","v":"4480025021103430026"},4480025021,null,1,343,26,"343-26","도",200,null,null,null,"국(건설부)","국",null,null,null,null,null,null,null,null,null,null,2726011500,"수성구","매호동"]
[{"$f":"LEFT($B$883,10)&TEXT($D$883,\"0\")&TEXT($E$883,\"0000\")&TEXT($F$883,\"0000\")","v":"4480025021103430027"},4480025021,null,1,343,27,"343-27","도",206,null,null,null,"국(건설부)","국",null,null,null,null,null,null,null,null,null,null,2726011600,"수성구","성동"]
[{"$f":"LEFT($B$884,10)&TEXT($D$884,\"0\")&TEXT($E$884,\"0000\")&TEXT($F$884,\"0000\")","v":"4480025021103430033"},4480025021,null,1,343,33,"343-33","도",34,null,null,null,"홍성군","국",null,null,null,null,null,null,null,null,null,null,2726011700,"수성구","사월동"]
[{"$f":"LEFT($B$885,10)&TEXT($D$885,\"0\")&TEXT($E$885,\"0000\")&TEXT($F$885,\"0000\")","v":"4480025021103430035"},4480025021,null,1,343,35,"343-35","도",4,null,null,null,"홍성군","국",null,null,null,null,null,null,null,null,null,null,2726011800,"수성구","신매동"]
[{"$f":"LEFT($B$886,10)&TEXT($D$886,\"0\")&TEXT($E$886,\"0000\")&TEXT($F$886,\"0000\")","v":"4480025021103430036"},4480025021,null,1,343,36,"343-36","도",18,null,null,null,"홍성군","국",null,null,null,null,null,null,null,null,null,null,2726011900,"수성구","욱수동"]
[{"$f":"LEFT($B$887,10)&TEXT($D$887,\"0\")&TEXT($E$887,\"0000\")&TEXT($F$887,\"0000\")","v":"4480025021103430037"},4480025021,null,1,343,37,"343-37","도",41,null,null,null,"홍성군","국",null,null,null,null,null,null,null,null,null,null,2726012000,"수성구","노변동"]
[{"$f":"LEFT($B$888,10)&TEXT($D$888,\"0\")&TEXT($E$888,\"0000\")&TEXT($F$888,\"0000\")","v":"4480025021103430039"},4480025021,null,1,343,39,"343-39","전",474,null,null,null,"충청남도홍성군홍성읍대교리17-1","청주이씨윤남파홍성종회",null,null,null,null,null,null,null,null,null,null,2726012200,"수성구","삼덕동"]
[{"$f":"LEFT($B$889,10)&TEXT($D$889,\"0\")&TEXT($E$889,\"0000\")&TEXT($F$889,\"0000\")","v":"4480025021103430040"},4480025021,null,1,343,40,"343-40","대",72,null,null,null,"홍성군","국",null,null,null,null,null,null,null,null,null,null,2726012300,"수성구","연호동"]
[{"$f":"LEFT($B$890,10)&TEXT($D$890,\"0\")&TEXT($E$890,\"0000\")&TEXT($F$890,\"0000\")","v":"4480025021103430043"},4480025021,null,1,343,43,"343-43","대",7,null,null,null,"729-3","김환인",null,null,null,null,null,null,null,null,null,null,2726012400,"수성구","이천동"]
[{"$f":"LEFT($B$891,10)&TEXT($D$891,\"0\")&TEXT($E$891,\"0000\")&TEXT($F$891,\"0000\")","v":"4480025021103450001"},4480025021,null,1,345,1,"345-1","전",357,null,null,null,null,null,null,null,null,null,null,null,null,null,null,null,2726012500,"수성구","고모동"]
[{"$f":"LEFT($B$892,10)&TEXT($D$892,\"0\")&TEXT($E$892,\"0000\")&TEXT($F$892,\"0000\")","v":"4480025021103450002"},4480025021,null,1,345,2,"345-2","도",83,null,null,null,"홍성군","국",null,null,null,null,null,null,null,null,null,null,2726012600,"수성구","가천동"]
[{"$f":"LEFT($B$893,10)&TEXT($D$893,\"0\")&TEXT($E$893,\"0000\")&TEXT($F$893,\"0000\")","v":"4480025021103450003"},4480025021,null,1,345,3,"345-3","도",1158,null,null,null,"홍성군","국",null,null,null,null,null,null,null,null,null,null,2726012700,"수성구","대흥동"]
[{"$f":"LEFT($B$894,10)&TEXT($D$894,\"0\")&TEXT($E$894,\"0000\")&TEXT($F$894,\"0000\")","v":"4480025021103450004"},4480025021,null,1,345,4,"345-4","대",241,null,null,null,"345-4","이원형",null,null,null,null,null,null,null,null,null,null,2729010100,"달서구","성당동"]
[{"$f":"LEFT($B$895,10)&TEXT($D$895,\"0\")&TEXT($E$895,\"0000\")&TEXT($F$895,\"0000\")","v":"4480025021103450005"},4480025021,null,1,345,5,"345-5","대",180,null,null,null,"345-4","이원형",null,null,null,null,null,null,null,null,null,null,2729010200,"달서구","두류동"]
[{"$f":"LEFT($B$896,10)&TEXT($D$896,\"0\")&TEXT($E$896,\"0000\")&TEXT($F$896,\"0000\")","v":"4480025021103460003"},4480025021,null,1,346,3,"346-3","대",96,null,null,null,323,"이용주",null,null,null,null,null,null,null,null,null,null,2729010400,"달서구","파호동"]
[{"$f":"LEFT($B$897,10)&TEXT($D$897,\"0\")&TEXT($E$897,\"0000\")&TEXT($F$897,\"0000\")","v":"4480025021103460005"},4480025021,null,1,346,5,"346-5","대",1054,null,null,null,"충청남도홍성군홍성읍오관리346-5","김명선",null,null,null,null,null,null,null,null,null,null,2729010500,"달서구","호림동"]
[{"$f":"LEFT($B$898,10)&TEXT($D$898,\"0\")&TEXT($E$898,\"0000\")&TEXT($F$898,\"0000\")","v":"4480025021103460006"},4480025021,null,1,346,6,"346-6","대",615,null,null,null,323,"이용주",null,null,null,null,null,null,null,null,null,null,2729010600,"달서구","갈산동"]
[{"$f":"LEFT($B$899,10)&TEXT($D$899,\"0\")&TEXT($E$899,\"0000\")&TEXT($F$899,\"0000\")","v":"4480025021103460007"},4480025021,null,1,346,7,"346-7","전",431,null,null,null,"대교리393-17","최성용",null,null,null,null,null,null,null,null,null,null,2729010700,"달서구","신당동"]
[{"$f":"LEFT($B$900,10)&TEXT($D$900,\"0\")&TEXT($E$900,\"0000\")&TEXT($F$900,\"0000\")","v":"4480025021103460008"},4480025021,null,1,346,8,"346-8","전",278,null,null,null,"오관리346-20","주문상",null,null,null,null,null,null,null,null,null,null,2729010800,"달서구","이곡동"]
[{"$f":"LEFT($B$901,10)&TEXT($D$901,\"0\")&TEXT($E$901,\"0000\")&TEXT($F$901,\"0000\")","v":"4480025021103460009"},4480025021,null,1,346,9,"346-9","전",394,null,null,null,"충청남도서산시읍내동738-6서산롯데캐슬105-1104","이수정",null,null,null,null,null,null,null,null,null,null,2729010900,"달서구","장동"]
[{"$f":"LEFT($B$902,10)&TEXT($D$902,\"0\")&TEXT($E$902,\"0000\")&TEXT($F$902,\"0000\")","v":"4480025021103460010"},4480025021,null,1,346,10,"346-10","대",319,null,null,null,"금마면송암리158-5","이한자",null,null,null,null,null,null,null,null,null,null,2729011000,"달서구","장기동"]
[{"$f":"LEFT($B$903,10)&TEXT($D$903,\"0\")&TEXT($E$903,\"0000\")&TEXT($F$903,\"0000\")","v":"4480025021103460011"},4480025021,null,1,346,11,"346-11","대",86,null,null,null,"대교리393-17","최성용",null,null,null,null,null,null,null,null,null,null,2729011100,"달서구","용산동"]
[{"$f":"LEFT($B$904,10)&TEXT($D$904,\"0\")&TEXT($E$904,\"0000\")&TEXT($F$904,\"0000\")","v":"4480025021103460012"},4480025021,null,1,346,12,"346-12","도",36,null,null,null,"충청남도홍성군홍성읍대교리17-1","청주이씨윤남파홍성종회",null,null,null,null,null,null,null,null,null,null,2729011200,"달서구","죽전동"]
[{"$f":"LEFT($B$905,10)&TEXT($D$905,\"0\")&TEXT($E$905,\"0000\")&TEXT($F$905,\"0000\")","v":"4480025021103460015"},4480025021,null,1,346,15,"346-15","대",316,null,null,null,"고암리810","전병준",null,null,null,null,null,null,null,null,null,null,2729011300,"달서구","감삼동"]
[{"$f":"LEFT($B$906,10)&TEXT($D$906,\"0\")&TEXT($E$906,\"0000\")&TEXT($F$906,\"0000\")","v":"4480025021103460018"},4480025021,null,1,346,18,"346-18","대",294,null,null,null,"346-10","정옥희",null,null,null,null,null,null,null,null,null,null,2729011400,"달서구","본리동"]
[{"$f":"LEFT($B$907,10)&TEXT($D$907,\"0\")&TEXT($E$907,\"0000\")&TEXT($F$907,\"0000\")","v":"4480025021103460020"},4480025021,null,1,346,20,"346-20","전",821,null,null,null,"오관리346-20","주문상",null,null,null,null,null,null,null,null,null,null,2729011500,"달서구","상인동"]
[{"$f":"LEFT($B$908,10)&TEXT($D$908,\"0\")&TEXT($E$908,\"0000\")&TEXT($F$908,\"0000\")","v":"4480025021103460023"},4480025021,null,1,346,23,"346-23","전",156,null,null,null,"충청남도홍성군홍성읍홍장북로475번길37","권영신",null,null,null,null,null,null,null,null,null,null,2729011600,"달서구","도원동"]
[{"$f":"LEFT($B$909,10)&TEXT($D$909,\"0\")&TEXT($E$909,\"0000\")&TEXT($F$909,\"0000\")","v":"4480025021103460024"},4480025021,null,1,346,24,"346-24","전",98,null,null,null,"오관리357-2","김재임",null,null,null,null,null,null,null,null,null,null,2729011700,"달서구","진천동"]
[{"$f":"LEFT($B$910,10)&TEXT($D$910,\"0\")&TEXT($E$910,\"0000\")&TEXT($F$910,\"0000\")","v":"4480025021103460025"},4480025021,null,1,346,25,"346-25","대",354,null,null,null,"충청남도홍성군홍성읍문화로72번길92105동1101호(주공그린빌)","장복향",null,null,null,null,null,null,null,null,null,null,2729011800,"달서구","유천동"]
[{"$f":"LEFT($B$911,10)&TEXT($D$911,\"0\")&TEXT($E$911,\"0000\")&TEXT($F$911,\"0000\")","v":"4480025021103460026"},4480025021,null,1,346,26,"346-26","전",312,null,null,null,"서울도봉구도봉동30-1도봉한신아파트118-702","김효덕",null,null,null,null,null,null,null,null,null,null,2729011900,"달서구","대천동"]
[{"$f":"LEFT($B$912,10)&TEXT($D$912,\"0\")&TEXT($E$912,\"0000\")&TEXT($F$912,\"0000\")","v":"4480025021103460028"},4480025021,null,1,346,28,"346-28","전",1025,null,null,null,"346-28","이영희",null,null,null,null,null,null,null,null,null,null,2729012000,"달서구","월성동"]
[{"$f":"LEFT($B$913,10)&TEXT($D$913,\"0\")&TEXT($E$913,\"0000\")&TEXT($F$913,\"0000\")","v":"4480025021103460029"},4480025021,null,1,346,29,"346-29","대",316,null,null,null,"오관리346-1","김해영",null,null,null,null,null,null,null,null,null,null,2729012100,"달서구","월암동"]
[{"$f":"LEFT($B$914,10)&TEXT($D$914,\"0\")&TEXT($E$914,\"0000\")&TEXT($F$914,\"0000\")","v":"4480025021103460030"},4480025021,null,1,346,30,"346-30","전",138,null,null,null,"충청남도홍성군홍성읍홍장북로475번길35","조한희",null,null,null,null,null,null,null,null,null,null,2729012200,"달서구","송현동"]
[{"$f":"LEFT($B$915,10)&TEXT($D$915,\"0\")&TEXT($E$915,\"0000\")&TEXT($F$915,\"0000\")","v":"4480025021103460031"},4480025021,null,1,346,31,"346-31","전",119,null,null,null,"충청남도홍성군홍성읍홍장북로441번길11-5","이윤우",null,null,null,null,null,null,null,null,null,null,2729012300,"달서구","대곡동"]
[{"$f":"LEFT($B$916,10)&TEXT($D$916,\"0\")&TEXT($E$916,\"0000\")&TEXT($F$916,\"0000\")","v":"4480025021103460034"},4480025021,null,1,346,34,"346-34","전",497,null,null,null,"350-6","이한규",null,null,null,null,null,null,null,null,null,null,2729012400,"달서구","본동"]
[{"$f":"LEFT($B$917,10)&TEXT($D$917,\"0\")&TEXT($E$917,\"0000\")&TEXT($F$917,\"0000\")","v":"4480025021103460035"},4480025021,null,1,346,35,"346-35","전",81,null,null,null,"홍성군","국",null,null,null,null,null,null,null,null,null,null,2729012500,"달서구","호산동"]
[{"$f":"LEFT($B$918,10)&TEXT($D$918,\"0\")&TEXT($E$918,\"0000\")&TEXT($F$918,\"0000\")","v":"4480025021103460036"},4480025021,null,1,346,36,"346-36","대",276,null,null,null,"346-36","김철배",null,null,null,null,null,null,null,null,null,null,2771025000,"달성군","화원읍"]
[{"$f":"LEFT($B$919,10)&TEXT($D$919,\"0\")&TEXT($E$919,\"0000\")&TEXT($F$919,\"0000\")","v":"4480025021103460040"},4480025021,null,1,346,40,"346-40","전",235,null,null,null,"223-3","이구열",null,null,null,null,null,null,null,null,null,null,2771025021,"달성군","화원읍","천내리"]
[{"$f":"LEFT($B$920,10)&TEXT($D$920,\"0\")&TEXT($E$920,\"0000\")&TEXT($F$920,\"0000\")","v":"4480025021103460042"},4480025021,null,1,346,42,"346-42","전",800,null,null,null,"홍성군","국",null,null,null,null,null,null,null,null,null,null,2771025022,"달성군","화원읍","구라리"]
[{"$f":"LEFT($B$921,10)&TEXT($D$921,\"0\")&TEXT($E$921,\"0000\")&TEXT($F$921,\"0000\")","v":"4480025021103460043"},4480025021,null,1,346,43,"346-43","대",184,null,null,null,"홍성군홍성읍오관리346-43","이성철",null,null,null,null,null,null,null,null,null,null,2771025023,"달성군","화원읍","성산리"]
[{"$f":"LEFT($B$922,10)&TEXT($D$922,\"0\")&TEXT($E$922,\"0000\")&TEXT($F$922,\"0000\")","v":"4480025021103460046"},4480025021,null,1,346,46,"346-46","전",5,null,null,null,"343-2","심영섭",null,null,null,null,null,null,null,null,null,null,2771025024,"달성군","화원읍","설화리"]
[{"$f":"LEFT($B$923,10)&TEXT($D$923,\"0\")&TEXT($E$923,\"0000\")&TEXT($F$923,\"0000\")","v":"4480025021103460052"},4480025021,null,1,346,52,"346-52","전",27,null,null,null,"충청남도서산시읍내동738-6서산롯데캐슬105-1104","이수정",null,null,null,null,null,null,null,null,null,null,2771025025,"달성군","화원읍","명곡리"]
[{"$f":"LEFT($B$924,10)&TEXT($D$924,\"0\")&TEXT($E$924,\"0000\")&TEXT($F$924,\"0000\")","v":"4480025021103460054"},4480025021,null,1,346,54,"346-54","도",963,null,null,null,"홍성군","국",null,null,null,null,null,null,null,null,null,null,2771025026,"달성군","화원읍","본리리"]
[{"$f":"LEFT($B$925,10)&TEXT($D$925,\"0\")&TEXT($E$925,\"0000\")&TEXT($F$925,\"0000\")","v":"4480025021103460061"},4480025021,null,1,346,61,"346-61","대",18,null,null,null,"홍성군","국",null,null,null,null,null,null,null,null,null,null,2771025300,"달성군","논공읍"]
[{"$f":"LEFT($B$926,10)&TEXT($D$926,\"0\")&TEXT($E$926,\"0000\")&TEXT($F$926,\"0000\")","v":"4480025021103460062"},4480025021,null,1,346,62,"346-62","전",37,null,null,null,"홍성군","국",null,null,null,null,null,null,null,null,null,null,2771025321,"달성군","논공읍","노이리"]
[{"$f":"LEFT($B$927,10)&TEXT($D$927,\"0\")&TEXT($E$927,\"0000\")&TEXT($F$927,\"0000\")","v":"4480025021103460066"},4480025021,null,1,346,66,"346-66","전",22,null,null,null,"홍성군","국",null,null,null,null,null,null,null,null,null,null,2771025322,"달성군","논공읍","금포리"]
[{"$f":"LEFT($B$928,10)&TEXT($D$928,\"0\")&TEXT($E$928,\"0000\")&TEXT($F$928,\"0000\")","v":"4480025021103460067"},4480025021,null,1,346,67,"346-67","도",160,null,null,null,"홍성군","국",null,null,null,null,null,null,null,null,null,null,2771025323,"달성군","논공읍","삼리리"]
[{"$f":"LEFT($B$929,10)&TEXT($D$929,\"0\")&TEXT($E$929,\"0000\")&TEXT($F$929,\"0000\")","v":"4480025021103460068"},4480025021,null,1,346,68,"346-68","전",618,null,null,null,"346-53","정운희",null,null,null,null,null,null,null,null,null,null,2771025324,"달성군","논공읍","위천리"]
[{"$f":"LEFT($B$930,10)&TEXT($D$930,\"0\")&TEXT($E$930,\"0000\")&TEXT($F$930,\"0000\")","v":"4480025021103460070"},4480025021,null,1,346,70,"346-70","전",16,null,null,null,"348-19","대한예수교장로회성은교회",null,null,null,null,null,null,null,null,null,null,2771025325,"달성군","논공읍","상리"]
[{"$f":"LEFT($B$931,10)&TEXT($D$931,\"0\")&TEXT($E$931,\"0000\")&TEXT($F$931,\"0000\")","v":"4480025021103460073"},4480025021,null,1,346,73,"346-73","전",34,null,null,null,"충청남도홍성군홍성읍옥암리1105홍성옥암하늘채아파트105-1102","김진규",null,null,null,null,null,null,null,null,null,null,2771025326,"달성군","논공읍","하리"]
[{"$f":"LEFT($B$932,10)&TEXT($D$932,\"0\")&TEXT($E$932,\"0000\")&TEXT($F$932,\"0000\")","v":"4480025021103460075"},4480025021,null,1,346,75,"346-75","전",31,null,null,null,"충청남도홍성군홍성읍남장리112-12대우아파트102-1304","김선수",null,null,null,null,null,null,null,null,null,null,2771025327,"달성군","논공읍","남리"]
[{"$f":"LEFT($B$933,10)&TEXT($D$933,\"0\")&TEXT($E$933,\"0000\")&TEXT($F$933,\"0000\")","v":"4480025021103460076"},4480025021,null,1,346,76,"346-76","전",135,null,null,null,"충청남도홍성군홍성읍옥암리1105홍성옥암하늘채아파트105-1102","김진규",null,null,null,null,null,null,null,null,null,null,2771025328,"달성군","논공읍","북리"]
[{"$f":"LEFT($B$934,10)&TEXT($D$934,\"0\")&TEXT($E$934,\"0000\")&TEXT($F$934,\"0000\")","v":"4480025021103470000"},4480025021,null,1,347,0,347,"대",270,null,null,null,"542-7","이기흥",null,null,null,null,null,null,null,null,null,null,2771025329,"달성군","논공읍","본리리"]
[{"$f":"LEFT($B$935,10)&TEXT($D$935,\"0\")&TEXT($E$935,\"0000\")&TEXT($F$935,\"0000\")","v":"4480025021103470001"},4480025021,null,1,347,1,"347-1","대",255,null,null,null,"충청남도예산군덕산면복당3길49","임보수",null,null,null,null,null,null,null,null,null,null,2771025600,"달성군","다사읍"]
[{"$f":"LEFT($B$936,10)&TEXT($D$936,\"0\")&TEXT($E$936,\"0000\")&TEXT($F$936,\"0000\")","v":"4480025021103470002"},4480025021,null,1,347,2,"347-2","전",264,null,null,null,"충청남도홍성군홍성읍의사로703층호","정혜선",null,null,null,null,null,null,null,null,null,null,2771025621,"달성군","다사읍","이천리"]
[{"$f":"LEFT($B$937,10)&TEXT($D$937,\"0\")&TEXT($E$937,\"0000\")&TEXT($F$937,\"0000\")","v":"4480025021103470003"},4480025021,null,1,347,3,"347-3","전",523,null,null,null,"충청남도홍성군홍성읍오관리572-10성하하이츠씨-202","장응만",null,null,null,null,null,null,null,null,null,null,2771025622,"달성군","다사읍","달천리"]
[{"$f":"LEFT($B$938,10)&TEXT($D$938,\"0\")&TEXT($E$938,\"0000\")&TEXT($F$938,\"0000\")","v":"4480025021103480000"},4480025021,null,1,348,0,348,"대",400,null,null,null,348,"고병훈",null,null,null,null,null,null,null,null,null,null,2771025623,"달성군","다사읍","박곡리"]
[{"$f":"LEFT($B$939,10)&TEXT($D$939,\"0\")&TEXT($E$939,\"0000\")&TEXT($F$939,\"0000\")","v":"4480025021103480001"},4480025021,null,1,348,1,"348-1","대",145,null,null,null,"충청남도홍성군홍성읍홍장북로475번길35","조한희",null,null,null,null,null,null,null,null,null,null,2771025624,"달성군","다사읍","방천리"]
[{"$f":"LEFT($B$940,10)&TEXT($D$940,\"0\")&TEXT($E$940,\"0000\")&TEXT($F$940,\"0000\")","v":"4480025021103480003"},4480025021,null,1,348,3,"348-3","묘",566,null,null,null,"국(기획재정부)","국",null,null,null,null,null,null,null,null,null,null,2771025625,"달성군","다사읍","서재리"]
[{"$f":"LEFT($B$941,10)&TEXT($D$941,\"0\")&TEXT($E$941,\"0000\")&TEXT($F$941,\"0000\")","v":"4480025021103480008"},4480025021,null,1,348,8,"348-8","전",339,null,null,null,"광천읍담산리389","김동한",null,null,null,null,null,null,null,null,null,null,2771025626,"달성군","다사읍","세천리"]
[{"$f":"LEFT($B$942,10)&TEXT($D$942,\"0\")&TEXT($E$942,\"0000\")&TEXT($F$942,\"0000\")","v":"4480025021103480009"},4480025021,null,1,348,9,"348-9","대",284,null,null,null,"348-9","유철용",null,null,null,null,null,null,null,null,null,null,2771025627,"달성군","다사읍","죽곡리"]
[{"$f":"LEFT($B$943,10)&TEXT($D$943,\"0\")&TEXT($E$943,\"0000\")&TEXT($F$943,\"0000\")","v":"4480025021103480011"},4480025021,null,1,348,11,"348-11","전",120,null,null,null,"348-11","조상순",null,null,null,null,null,null,null,null,null,null,2771025628,"달성군","다사읍","매곡리"]
[{"$f":"LEFT($B$944,10)&TEXT($D$944,\"0\")&TEXT($E$944,\"0000\")&TEXT($F$944,\"0000\")","v":"4480025021103480013"},4480025021,null,1,348,13,"348-13","전",148,null,null,null,"충청남도홍성군홍성읍홍장북로475번길41-10","오한택",null,null,null,null,null,null,null,null,null,null,2771025629,"달성군","다사읍","부곡리"]
[{"$f":"LEFT($B$945,10)&TEXT($D$945,\"0\")&TEXT($E$945,\"0000\")&TEXT($F$945,\"0000\")","v":"4480025021103480014"},4480025021,null,1,348,14,"348-14","대",198,null,null,null,"충청남도홍성군홍성읍홍장북로475번길25-26","방향순",null,null,null,null,null,null,null,null,null,null,2771025630,"달성군","다사읍","문양리"]
[{"$f":"LEFT($B$946,10)&TEXT($D$946,\"0\")&TEXT($E$946,\"0000\")&TEXT($F$946,\"0000\")","v":"4480025021103480015"},4480025021,null,1,348,15,"348-15","전",19,null,null,null,"충청남도홍성군홍성읍홍장북로475번길41-10","오한택",null,null,null,null,null,null,null,null,null,null,2771025631,"달성군","다사읍","문산리"]
[{"$f":"LEFT($B$947,10)&TEXT($D$947,\"0\")&TEXT($E$947,\"0000\")&TEXT($F$947,\"0000\")","v":"4480025021103480016"},4480025021,null,1,348,16,"348-16","전",66,null,null,null,"홍성군홍성읍오관리348-9","유철용",null,null,null,null,null,null,null,null,null,null,2771031000,"달성군","가창면"]
[{"$f":"LEFT($B$948,10)&TEXT($D$948,\"0\")&TEXT($E$948,\"0000\")&TEXT($F$948,\"0000\")","v":"4480025021103480017"},4480025021,null,1,348,17,"348-17","전",194,null,null,null,"542-7","이기흥",null,null,null,null,null,null,null,null,null,null,2771031021,"달성군","가창면","용계리"]
[{"$f":"LEFT($B$949,10)&TEXT($D$949,\"0\")&TEXT($E$949,\"0000\")&TEXT($F$949,\"0000\")","v":"4480025021103480018"},4480025021,null,1,348,18,"348-18","전",208,null,null,null,"충청남도홍성군홍성읍의사로703층호","정혜선",null,null,null,null,null,null,null,null,null,null,2771031022,"달성군","가창면","오리"]
[{"$f":"LEFT($B$950,10)&TEXT($D$950,\"0\")&TEXT($E$950,\"0000\")&TEXT($F$950,\"0000\")","v":"4480025021103480020"},4480025021,null,1,348,20,"348-20","전",340,null,null,null,"348-19","대한예수교장로회성은교회",null,null,null,null,null,null,null,null,null,null,2771031023,"달성군","가창면","정대리"]
[{"$f":"LEFT($B$951,10)&TEXT($D$951,\"0\")&TEXT($E$951,\"0000\")&TEXT($F$951,\"0000\")","v":"4480025021103480021"},4480025021,null,1,348,21,"348-21","전",91,null,null,null,"옥천군옥천읍금구리162","김정일",null,null,null,null,null,null,null,null,null,null,2771031024,"달성군","가창면","냉천리"]
[{"$f":"LEFT($B$952,10)&TEXT($D$952,\"0\")&TEXT($E$952,\"0000\")&TEXT($F$952,\"0000\")","v":"4480025021103480023"},4480025021,null,1,348,23,"348-23","전",73,null,null,null,"홍성군광천읍신진리416-5","박태수",null,null,null,null,null,null,null,null,null,null,2771031025,"달성군","가창면","행정리"]
[{"$f":"LEFT($B$953,10)&TEXT($D$953,\"0\")&TEXT($E$953,\"0000\")&TEXT($F$953,\"0000\")","v":"4480025021103480024"},4480025021,null,1,348,24,"348-24","전",139,null,null,null,"343-2","심영섭",null,null,null,null,null,null,null,null,null,null,2771031026,"달성군","가창면","상원리"]
[{"$f":"LEFT($B$954,10)&TEXT($D$954,\"0\")&TEXT($E$954,\"0000\")&TEXT($F$954,\"0000\")","v":"4480025021103480025"},4480025021,null,1,348,25,"348-25","전",152,null,null,null,"343-2","심영섭",null,null,null,null,null,null,null,null,null,null,2771031027,"달성군","가창면","단산리"]
[{"$f":"LEFT($B$955,10)&TEXT($D$955,\"0\")&TEXT($E$955,\"0000\")&TEXT($F$955,\"0000\")","v":"4480025021103480028"},4480025021,null,1,348,28,"348-28","전",135,null,null,null,"348-28","안준희",null,null,null,null,null,null,null,null,null,null,2771031028,"달성군","가창면","대일리"]
[{"$f":"LEFT($B$956,10)&TEXT($D$956,\"0\")&TEXT($E$956,\"0000\")&TEXT($F$956,\"0000\")","v":"4480025021103480029"},4480025021,null,1,348,29,"348-29","전",184,null,null,null,"충청남도홍성군홍성읍홍장북로475번길","정혜선",null,null,null,null,null,null,null,null,null,null,2771031029,"달성군","가창면","주리"]
[{"$f":"LEFT($B$957,10)&TEXT($D$957,\"0\")&TEXT($E$957,\"0000\")&TEXT($F$957,\"0000\")","v":"4480025021103480030"},4480025021,null,1,348,30,"348-30","전",171,null,null,null,"충청남도홍성군홍성읍오관리348-19","대한예수교장로회성은교회",null,null,null,null,null,null,null,null,null,null,2771031030,"달성군","가창면","옥분리"]
[{"$f":"LEFT($B$958,10)&TEXT($D$958,\"0\")&TEXT($E$958,\"0000\")&TEXT($F$958,\"0000\")","v":"4480025021103480033"},4480025021,null,1,348,33,"348-33","전",3,null,null,null,"348-19","배봉섭",null,null,null,null,null,null,null,null,null,null,2771031031,"달성군","가창면","삼산리"]
[{"$f":"LEFT($B$959,10)&TEXT($D$959,\"0\")&TEXT($E$959,\"0000\")&TEXT($F$959,\"0000\")","v":"4480025021103480034"},4480025021,null,1,348,34,"348-34","전",27,null,null,null,348,"고병훈",null,null,null,null,null,null,null,null,null,null,2771031032,"달성군","가창면","우록리"]
[{"$f":"LEFT($B$960,10)&TEXT($D$960,\"0\")&TEXT($E$960,\"0000\")&TEXT($F$960,\"0000\")","v":"4480025021103480036"},4480025021,null,1,348,36,"348-36","전",177,null,null,null,"348-19","대한예수교장로회성은교회",null,null,null,null,null,null,null,null,null,null,2771033000,"달성군","하빈면"]
[{"$f":"LEFT($B$961,10)&TEXT($D$961,\"0\")&TEXT($E$961,\"0000\")&TEXT($F$961,\"0000\")","v":"4480025021103480037"},4480025021,null,1,348,37,"348-37","전",360,null,null,null,"348-19","대한예수교장로회성은교회",null,null,null,null,null,null,null,null,null,null,2771033021,"달성군","하빈면","하산리"]
[{"$f":"LEFT($B$962,10)&TEXT($D$962,\"0\")&TEXT($E$962,\"0000\")&TEXT($F$962,\"0000\")","v":"4480025021103480041"},4480025021,null,1,348,41,"348-41","대",34,null,null,null,"충청남도홍성군홍성읍홍장북로475번길41-6","강성식",null,null,null,null,null,null,null,null,null,null,2771033022,"달성군","하빈면","묘리"]
[{"$f":"LEFT($B$963,10)&TEXT($D$963,\"0\")&TEXT($E$963,\"0000\")&TEXT($F$963,\"0000\")","v":"4480025021103490000"},4480025021,null,1,349,0,349,"대",591,null,null,null,"700-1","박옥화",null,null,null,null,null,null,null,null,null,null,2771033023,"달성군","하빈면","기곡리"]
[{"$f":"LEFT($B$964,10)&TEXT($D$964,\"0\")&TEXT($E$964,\"0000\")&TEXT($F$964,\"0000\")","v":"4480025021103490003"},4480025021,null,1,349,3,"349-3","대",155,null,null,null,"홍북면신정리387-2","하성만",null,null,null,null,null,null,null,null,null,null,2771033024,"달성군","하빈면","대평리"]
[{"$f":"LEFT($B$965,10)&TEXT($D$965,\"0\")&TEXT($E$965,\"0000\")&TEXT($F$965,\"0000\")","v":"4480025021103490004"},4480025021,null,1,349,4,"349-4","전",440,null,null,null,"충청남도홍성군홍성읍충서로1506104동801호(세광엔리치타워)","박성원",null,null,null,null,null,null,null,null,null,null,2771033025,"달성군","하빈면","무등리"]
[{"$f":"LEFT($B$966,10)&TEXT($D$966,\"0\")&TEXT($E$966,\"0000\")&TEXT($F$966,\"0000\")","v":"4480025021103490005"},4480025021,null,1,349,5,"349-5","전",291,null,null,null,"354-2","복상복",null,null,null,null,null,null,null,null,null,null,2771033026,"달성군","하빈면","현내리"]
[{"$f":"LEFT($B$967,10)&TEXT($D$967,\"0\")&TEXT($E$967,\"0000\")&TEXT($F$967,\"0000\")","v":"4480025021103500001"},4480025021,null,1,350,1,"350-1","대",109,null,null,null,"홍성군홍성읍오관리350-1","김동선",null,null,null,null,null,null,null,null,null,null,2771033027,"달성군","하빈면","감문리"]
[{"$f":"LEFT($B$968,10)&TEXT($D$968,\"0\")&TEXT($E$968,\"0000\")&TEXT($F$968,\"0000\")","v":"4480025021103500002"},4480025021,null,1,350,2,"350-2","대",463,null,null,null,"대전시중구태평동408-1삼부아파트51-117","이생경",null,null,null,null,null,null,null,null,null,null,2771033028,"달성군","하빈면","동곡리"]
[{"$f":"LEFT($B$969,10)&TEXT($D$969,\"0\")&TEXT($E$969,\"0000\")&TEXT($F$969,\"0000\")","v":"4480025021103500005"},4480025021,null,1,350,5,"350-5","대",92,null,null,null,"대전시중구태평동408-1삼부아파트51-117","이생경",null,null,null,null,null,null,null,null,null,null,2771033029,"달성군","하빈면","봉촌리"]
[{"$f":"LEFT($B$970,10)&TEXT($D$970,\"0\")&TEXT($E$970,\"0000\")&TEXT($F$970,\"0000\")","v":"4480025021103500006"},4480025021,null,1,350,6,"350-6","전",331,null,null,null,"350-6","이한규",null,null,null,null,null,null,null,null,null,null,2771034000,"달성군","옥포면"]
[{"$f":"LEFT($B$971,10)&TEXT($D$971,\"0\")&TEXT($E$971,\"0000\")&TEXT($F$971,\"0000\")","v":"4480025021103500008"},4480025021,null,1,350,8,"350-8","도",35,null,null,null,"국(건설부)","국",null,null,null,null,null,null,null,null,null,null,2771034021,"달성군","옥포면","신당리"]
[{"$f":"LEFT($B$972,10)&TEXT($D$972,\"0\")&TEXT($E$972,\"0000\")&TEXT($F$972,\"0000\")","v":"4480025021103510001"},4480025021,null,1,351,1,"351-1","대",198,null,null,null,"예산군덕산면읍내리283","이희자",null,null,null,null,null,null,null,null,null,null,2771034022,"달성군","옥포면","교항리"]
[{"$f":"LEFT($B$973,10)&TEXT($D$973,\"0\")&TEXT($E$973,\"0000\")&TEXT($F$973,\"0000\")","v":"4480025021103510002"},4480025021,null,1,351,2,"351-2","대",519,null,null,null,"충청남도홍성군홍성읍대교리17-1","청주이씨윤남파홍성종회",null,null,null,null,null,null,null,null,null,null,2771034023,"달성군","옥포면","강림리"]
[{"$f":"LEFT($B$974,10)&TEXT($D$974,\"0\")&TEXT($E$974,\"0000\")&TEXT($F$974,\"0000\")","v":"4480025021103510003"},4480025021,null,1,351,3,"351-3","전",159,null,null,null,"충청남도홍성군홍성읍대교리17-1","청주이씨윤남파홍성종회",null,null,null,null,null,null,null,null,null,null,2771034024,"달성군","옥포면","송촌리"]
[{"$f":"LEFT($B$975,10)&TEXT($D$975,\"0\")&TEXT($E$975,\"0000\")&TEXT($F$975,\"0000\")","v":"4480025021103510004"},4480025021,null,1,351,4,"351-4","전",321,null,null,null,"충청남도천안시서북구백석2길40114동1002호(백석동호반리젠시빌아파트)","한웅삼",null,null,null,null,null,null,null,null,null,null,2771034025,"달성군","옥포면","간경리"]
[{"$f":"LEFT($B$976,10)&TEXT($D$976,\"0\")&TEXT($E$976,\"0000\")&TEXT($F$976,\"0000\")","v":"4480025021103510010"},4480025021,null,1,351,10,"351-10","대",173,null,null,null,"충청남도홍성군서부면서부로43번길28-17","김광수",null,null,null,null,null,null,null,null,null,null,2771034026,"달성군","옥포면","기세리"]
[{"$f":"LEFT($B$977,10)&TEXT($D$977,\"0\")&TEXT($E$977,\"0000\")&TEXT($F$977,\"0000\")","v":"4480025021103510011"},4480025021,null,1,351,11,"351-11","도",14,null,null,null,"홍성군","국",null,null,null,null,null,null,null,null,null,null,2771034027,"달성군","옥포면","반송리"]
[{"$f":"LEFT($B$978,10)&TEXT($D$978,\"0\")&TEXT($E$978,\"0000\")&TEXT($F$978,\"0000\")","v":"4480025021103520003"},4480025021,null,1,352,3,"352-3","대",440,null,null,null,"충청남도홍성군홍성읍충절로1038","이철룡",null,null,null,null,null,null,null,null,null,null,2771034028,"달성군","옥포면","김흥리"]
[{"$f":"LEFT($B$979,10)&TEXT($D$979,\"0\")&TEXT($E$979,\"0000\")&TEXT($F$979,\"0000\")","v":"4480025021103520005"},4480025021,null,1,352,5,"352-5","대",276,null,null,null,"충청남도홍성군홍성읍충절로1036-1","오은택",null,null,null,null,null,null,null,null,null,null,2771034029,"달성군","옥포면","본리리"]
[{"$f":"LEFT($B$980,10)&TEXT($D$980,\"0\")&TEXT($E$980,\"0000\")&TEXT($F$980,\"0000\")","v":"4480025021103520007"},4480025021,null,1,352,7,"352-7","도",1,null,null,null,"홍성군","국",null,null,null,null,null,null,null,null,null,null,2771036000,"달성군","현풍면"]
[{"$f":"LEFT($B$981,10)&TEXT($D$981,\"0\")&TEXT($E$981,\"0000\")&TEXT($F$981,\"0000\")","v":"4480025021103520008"},4480025021,null,1,352,8,"352-8","도",43,null,null,null,"홍성군","국",null,null,null,null,null,null,null,null,null,null,2771036021,"달성군","현풍면","상리"]
[{"$f":"LEFT($B$982,10)&TEXT($D$982,\"0\")&TEXT($E$982,\"0000\")&TEXT($F$982,\"0000\")","v":"4480025021103520011"},4480025021,null,1,352,11,"352-11","도",5,null,null,null,"홍성군","국",null,null,null,null,null,null,null,null,null,null,2771036022,"달성군","현풍면","중리"]
[{"$f":"LEFT($B$983,10)&TEXT($D$983,\"0\")&TEXT($E$983,\"0000\")&TEXT($F$983,\"0000\")","v":"4480025021103530002"},4480025021,null,1,353,2,"353-2","대",767,null,null,null,"충청남도홍성군홍성읍충절로1037","정송자",null,null,null,null,null,null,null,null,null,null,2771036023,"달성군","현풍면","부리"]
[{"$f":"LEFT($B$984,10)&TEXT($D$984,\"0\")&TEXT($E$984,\"0000\")&TEXT($F$984,\"0000\")","v":"4480025021103530004"},4480025021,null,1,353,4,"353-4","대",169,null,null,null,"충청남도홍성군홍성읍충절로1037","정송자",null,null,null,null,null,null,null,null,null,null,2771036024,"달성군","현풍면","하리"]
[{"$f":"LEFT($B$985,10)&TEXT($D$985,\"0\")&TEXT($E$985,\"0000\")&TEXT($F$985,\"0000\")","v":"4480025021103530005"},4480025021,null,1,353,5,"353-5","대",310,null,null,null,"서울시성북구돈암동631범양아파트103-303","조병수",null,null,null,null,null,null,null,null,null,null,2771036025,"달성군","현풍면","성하리"]
[{"$f":"LEFT($B$986,10)&TEXT($D$986,\"0\")&TEXT($E$986,\"0000\")&TEXT($F$986,\"0000\")","v":"4480025021103530008"},4480025021,null,1,353,8,"353-8","대",7,null,null,null,"서울시성북구돈암동631범양아파트103-303","조병수",null,null,null,null,null,null,null,null,null,null,2771036026,"달성군","현풍면","원교리"]
[{"$f":"LEFT($B$987,10)&TEXT($D$987,\"0\")&TEXT($E$987,\"0000\")&TEXT($F$987,\"0000\")","v":"4480025021103530009"},4480025021,null,1,353,9,"353-9","도",15,null,null,null,"국(건설부)","국",null,null,null,null,null,null,null,null,null,null,2771036027,"달성군","현풍면","자모리"]
[{"$f":"LEFT($B$988,10)&TEXT($D$988,\"0\")&TEXT($E$988,\"0000\")&TEXT($F$988,\"0000\")","v":"4480025021103540001"},4480025021,null,1,354,1,"354-1","도",142,null,null,null,"국(기획재정부)","국",null,null,null,null,null,null,null,null,null,null,2771036028,"달성군","현풍면","오산리"]
[{"$f":"LEFT($B$989,10)&TEXT($D$989,\"0\")&TEXT($E$989,\"0000\")&TEXT($F$989,\"0000\")","v":"4480025021103540003"},4480025021,null,1,354,3,"354-3","도",23,null,null,null,"국(국세청)","국",null,null,null,null,null,null,null,null,null,null,2771036029,"달성군","현풍면","지리"]
[{"$f":"LEFT($B$990,10)&TEXT($D$990,\"0\")&TEXT($E$990,\"0000\")&TEXT($F$990,\"0000\")","v":"4480025021103540005"},4480025021,null,1,354,5,"354-5","대",212,null,null,null,"충청남도홍성군홍성읍충절로1035-29","이기홍",null,null,null,null,null,null,null,null,null,null,2771036030,"달성군","현풍면","대리"]
[{"$f":"LEFT($B$991,10)&TEXT($D$991,\"0\")&TEXT($E$991,\"0000\")&TEXT($F$991,\"0000\")","v":"4480025021103540007"},4480025021,null,1,354,7,"354-7","대",245,null,null,null,"충청남도홍성군광천읍광천로368","고영찬",null,null,null,null,null,null,null,null,null,null,2771036031,"달성군","현풍면","신기리"]
[{"$f":"LEFT($B$992,10)&TEXT($D$992,\"0\")&TEXT($E$992,\"0000\")&TEXT($F$992,\"0000\")","v":"4480025021103540009"},4480025021,null,1,354,9,"354-9","대",281,null,null,null,"충청남도홍성군홍성읍오관리354-9","이정자",null,null,null,null,null,null,null,null,null,null,2771037000,"달성군","유가면"]
[{"$f":"LEFT($B$993,10)&TEXT($D$993,\"0\")&TEXT($E$993,\"0000\")&TEXT($F$993,\"0000\")","v":"4480025021103540010"},4480025021,null,1,354,10,"354-10","도",288,null,null,null,"국(국세청)","국",null,null,null,null,null,null,null,null,null,null,2771037021,"달성군","유가면","음리"]
[{"$f":"LEFT($B$994,10)&TEXT($D$994,\"0\")&TEXT($E$994,\"0000\")&TEXT($F$994,\"0000\")","v":"4480025021103540011"},4480025021,null,1,354,11,"354-11","대",557,null,null,null,"예산군삽교읍신가리574-49","박영화",null,null,null,null,null,null,null,null,null,null,2771037022,"달성군","유가면","양리"]
[{"$f":"LEFT($B$995,10)&TEXT($D$995,\"0\")&TEXT($E$995,\"0000\")&TEXT($F$995,\"0000\")","v":"4480025021103540012"},4480025021,null,1,354,12,"354-12","대",453,null,null,null,"354-12","박영재",null,null,null,null,null,null,null,null,null,null,2771037023,"달성군","유가면","용리"]
[{"$f":"LEFT($B$996,10)&TEXT($D$996,\"0\")&TEXT($E$996,\"0000\")&TEXT($F$996,\"0000\")","v":"4480025021103540014"},4480025021,null,1,354,14,"354-14","대",125,null,null,null,354,"명노희",null,null,null,null,null,null,null,null,null,null,2771037024,"달성군","유가면","봉리"]
[{"$f":"LEFT($B$997,10)&TEXT($D$997,\"0\")&TEXT($E$997,\"0000\")&TEXT($F$997,\"0000\")","v":"4480025021103540015"},4480025021,null,1,354,15,"354-15","대",109,null,null,null,"충청남도홍성군홍성읍홍장북로475번길34-38","전원용",null,null,null,null,null,null,null,null,null,null,2771037025,"달성군","유가면","쌍계리"]
[{"$f":"LEFT($B$998,10)&TEXT($D$998,\"0\")&TEXT($E$998,\"0000\")&TEXT($F$998,\"0000\")","v":"4480025021103540018"},4480025021,null,1,354,18,"354-18","대",34,null,null,null,"충청남도홍성군광천읍광천로368","고영찬",null,null,null,null,null,null,null,null,null,null,2771037026,"달성군","유가면","초곡리"]
[{"$f":"LEFT($B$999,10)&TEXT($D$999,\"0\")&TEXT($E$999,\"0000\")&TEXT($F$999,\"0000\")","v":"4480025021103540019"},4480025021,null,1,354,19,"354-19","도",78,null,null,null,"홍성군","국",null,null,null,null,null,null,null,null,null,null,2771037027,"달성군","유가면","상리"]
[{"$f":"LEFT($B$1000,10)&TEXT($D$1000,\"0\")&TEXT($E$1000,\"0000\")&TEXT($F$1000,\"0000\")","v":"4480025021103540022"},4480025021,null,1,354,22,"354-22","대",11,null,null,null,"충청남도홍성군서부면서부서길212번길37","윤정욱",null,null,null,null,null,null,null,null,null,null,2771037028,"달성군","유가면","금리"]
[{"$f":"LEFT($B$1001,10)&TEXT($D$1001,\"0\")&TEXT($E$1001,\"0000\")&TEXT($F$1001,\"0000\")","v":"4480025021103550005"},4480025021,null,1,355,5,"355-5","전",149,null,null,null,"충청남도홍성군홍성읍오관리533-9","김복순",null,null,null,null,null,null,null,null,null,null,2771037029,"달성군","유가면","유곡리"]
[{"$f":"LEFT($B$1002,10)&TEXT($D$1002,\"0\")&TEXT($E$1002,\"0000\")&TEXT($F$1002,\"0000\")","v":"4480025021103550006"},4480025021,null,1,355,6,"355-6","전",122,null,null,null,"충청남도홍성군홍성읍오관리533-9","김복순",null,null,null,null,null,null,null,null,null,null,2771037030,"달성군","유가면","도의리"]
[{"$f":"LEFT($B$1003,10)&TEXT($D$1003,\"0\")&TEXT($E$1003,\"0000\")&TEXT($F$1003,\"0000\")","v":"4480025021103550008"},4480025021,null,1,355,8,"355-8","대",212,null,null,null,"경기도부천시원미구역곡동70-18","인흥권",null,null,null,null,null,null,null,null,null,null,2771037031,"달성군","유가면","가태리"]
[{"$f":"LEFT($B$1004,10)&TEXT($D$1004,\"0\")&TEXT($E$1004,\"0000\")&TEXT($F$1004,\"0000\")","v":"4480025021103550009"},4480025021,null,1,355,9,"355-9","대",311,null,null,null,"서울특별시강남구도산대로87길39105호(청담동대우멤버스카운티5차)","김영알",null,null,null,null,null,null,null,null,null,null,2771037032,"달성군","유가면","한정리"]
[{"$f":"LEFT($B$1005,10)&TEXT($D$1005,\"0\")&TEXT($E$1005,\"0000\")&TEXT($F$1005,\"0000\")","v":"4480025021103550010"},4480025021,null,1,355,10,"355-10","대",126,null,null,null,"경기도부천시원미구역곡동70-18","인흥권",null,null,null,null,null,null,null,null,null,null,2771037033,"달성군","유가면","본말리"]
[{"$f":"LEFT($B$1006,10)&TEXT($D$1006,\"0\")&TEXT($E$1006,\"0000\")&TEXT($F$1006,\"0000\")","v":"4480025021103550012"},4480025021,null,1,355,12,"355-12","전",93,null,null,null,"373-3","박홍규",null,null,null,null,null,null,null,null,null,null,2771038000,"달성군","구지면"]
[{"$f":"LEFT($B$1007,10)&TEXT($D$1007,\"0\")&TEXT($E$1007,\"0000\")&TEXT($F$1007,\"0000\")","v":"4480025021103550013"},4480025021,null,1,355,13,"355-13","전",251,null,null,null,"서울특별시서초구동광로30길15401호(방배동방배다움샤인힐)","채희선",null,null,null,null,null,null,null,null,null,null,2771038021,"달성군","구지면","창리"]
[{"$f":"LEFT($B$1008,10)&TEXT($D$1008,\"0\")&TEXT($E$1008,\"0000\")&TEXT($F$1008,\"0000\")","v":"4480025021103560001"},4480025021,null,1,356,1,"356-1","대",197,null,null,null,"충청남도홍성군홍성읍오관리652미림청솔아파트102-306","차경래",null,null,null,null,null,null,null,null,null,null,2771038022,"달성군","구지면","응암리"]
[{"$f":"LEFT($B$1009,10)&TEXT($D$1009,\"0\")&TEXT($E$1009,\"0000\")&TEXT($F$1009,\"0000\")","v":"4480025021103560004"},4480025021,null,1,356,4,"356-4","대",845,null,null,null,"356-4","김원경",null,null,null,null,null,null,null,null,null,null,2771038023,"달성군","구지면","고봉리"]
[{"$f":"LEFT($B$1010,10)&TEXT($D$1010,\"0\")&TEXT($E$1010,\"0000\")&TEXT($F$1010,\"0000\")","v":"4480025021103560005"},4480025021,null,1,356,5,"356-5","대",414,null,null,null,"충청남도홍성군홍성읍홍장북로475번길50","서성권",null,null,null,null,null,null,null,null,null,null,2771038024,"달성군","구지면","가천리"]
[{"$f":"LEFT($B$1011,10)&TEXT($D$1011,\"0\")&TEXT($E$1011,\"0000\")&TEXT($F$1011,\"0000\")","v":"4480025021103560007"},4480025021,null,1,356,7,"356-7","대",211,null,null,null,"356-7","김정호",null,null,null,null,null,null,null,null,null,null,2771038025,"달성군","구지면","평촌리"]
[{"$f":"LEFT($B$1012,10)&TEXT($D$1012,\"0\")&TEXT($E$1012,\"0000\")&TEXT($F$1012,\"0000\")","v":"4480025021103560010"},4480025021,null,1,356,10,"356-10","대",175,null,null,null,"충청남도홍성군홍성읍오관리356-10","박광서",null,null,null,null,null,null,null,null,null,null,2771038026,"달성군","구지면","예현리"]
[{"$f":"LEFT($B$1013,10)&TEXT($D$1013,\"0\")&TEXT($E$1013,\"0000\")&TEXT($F$1013,\"0000\")","v":"4480025021103560012"},4480025021,null,1,356,12,"356-12","대",174,null,null,null,"충청남도홍성군구항면거북로200","조순준",null,null,null,null,null,null,null,null,null,null,2771038027,"달성군","구지면","유산리"]
[{"$f":"LEFT($B$1014,10)&TEXT($D$1014,\"0\")&TEXT($E$1014,\"0000\")&TEXT($F$1014,\"0000\")","v":"4480025021103560013"},4480025021,null,1,356,13,"356-13","대",166,null,null,null,"전라남도해남군화원면금평리239-87","임경수",null,null,null,null,null,null,null,null,null,null,2771038028,"달성군","구지면","목단리"]
[{"$f":"LEFT($B$1015,10)&TEXT($D$1015,\"0\")&TEXT($E$1015,\"0000\")&TEXT($F$1015,\"0000\")","v":"4480025021103560015"},4480025021,null,1,356,15,"356-15","대",340,null,null,null,"356-15","김정일",null,null,null,null,null,null,null,null,null,null,2771038029,"달성군","구지면","대암리"]
[{"$f":"LEFT($B$1016,10)&TEXT($D$1016,\"0\")&TEXT($E$1016,\"0000\")&TEXT($F$1016,\"0000\")","v":"4480025021103560016"},4480025021,null,1,356,16,"356-16","대",178,null,null,null,"충청남도홍성군홍성읍홍장북로475번길46-42층호","한영득",null,null,null,null,null,null,null,null,null,null,2771038030,"달성군","구지면","내리"]
[{"$f":"LEFT($B$1017,10)&TEXT($D$1017,\"0\")&TEXT($E$1017,\"0000\")&TEXT($F$1017,\"0000\")","v":"4480025021103560017"},4480025021,null,1,356,17,"356-17","대",219,null,null,null,"홍성군","국",null,null,null,null,null,null,null,null,null,null,2771038031,"달성군","구지면","화산리"]
[{"$f":"LEFT($B$1018,10)&TEXT($D$1018,\"0\")&TEXT($E$1018,\"0000\")&TEXT($F$1018,\"0000\")","v":"4480025021103560018"},4480025021,null,1,356,18,"356-18","대",74,null,null,null,"충청남도홍성군홍성읍홍장북로475번길50","서성권",null,null,null,null,null,null,null,null,null,null,2771038032,"달성군","구지면","수리리"]
[{"$f":"LEFT($B$1019,10)&TEXT($D$1019,\"0\")&TEXT($E$1019,\"0000\")&TEXT($F$1019,\"0000\")","v":"4480025021103570001"},4480025021,null,1,357,1,"357-1","대",496,null,null,null,"357-1","최은월",null,null,null,null,null,null,null,null,null,null,2771038033,"달성군","구지면","징리"]
[{"$f":"LEFT($B$1020,10)&TEXT($D$1020,\"0\")&TEXT($E$1020,\"0000\")&TEXT($F$1020,\"0000\")","v":"4480025021103570002"},4480025021,null,1,357,2,"357-2","대",404,null,null,null,"357-2","김재임",null,null,null,null,null,null,null,null,null,null,2771038034,"달성군","구지면","오설리"]
[{"$f":"LEFT($B$1021,10)&TEXT($D$1021,\"0\")&TEXT($E$1021,\"0000\")&TEXT($F$1021,\"0000\")","v":"4480025021103570005"},4480025021,null,1,357,5,"357-5","대",198,null,null,null,"고암리607","김승남",null,null,null,null,null,null,null,null,null,null,2771038035,"달성군","구지면","도동리"]
[{"$f":"LEFT($B$1022,10)&TEXT($D$1022,\"0\")&TEXT($E$1022,\"0000\")&TEXT($F$1022,\"0000\")","v":"4480025021103570006"},4480025021,null,1,357,6,"357-6","대",198,null,null,null,"홍성군갈산면쌍천리69","이택영",null,null,null,null,null,null,null,null,null,null,2811010100,"중구","중앙동1가"]
[{"$f":"LEFT($B$1023,10)&TEXT($D$1023,\"0\")&TEXT($E$1023,\"0000\")&TEXT($F$1023,\"0000\")","v":"4480025021103570007"},4480025021,null,1,357,7,"357-7","대",109,null,null,null,"고암리419-5","이순옥",null,null,null,null,null,null,null,null,null,null,2811010200,"중구","중앙동2가"]
[{"$f":"LEFT($B$1024,10)&TEXT($D$1024,\"0\")&TEXT($E$1024,\"0000\")&TEXT($F$1024,\"0000\")","v":"4480025021103570008"},4480025021,null,1,357,8,"357-8","대",575,null,null,null,"357-2","김재임",null,null,null,null,null,null,null,null,null,null,2811010300,"중구","중앙동3가"]
[{"$f":"LEFT($B$1025,10)&TEXT($D$1025,\"0\")&TEXT($E$1025,\"0000\")&TEXT($F$1025,\"0000\")","v":"4480025021103580001"},4480025021,null,1,358,1,"358-1","대",435,null,null,null,"홍성군홍성읍오관리358-1","최만섭",null,null,null,null,null,null,null,null,null,null,2811010400,"중구","중앙동4가"]
[{"$f":"LEFT($B$1026,10)&TEXT($D$1026,\"0\")&TEXT($E$1026,\"0000\")&TEXT($F$1026,\"0000\")","v":"4480025021103580003"},4480025021,null,1,358,3,"358-3","도",93,null,null,null,"홍성군","국",null,null,null,null,null,null,null,null,null,null,2811010500,"중구","해안동1가"]
[{"$f":"LEFT($B$1027,10)&TEXT($D$1027,\"0\")&TEXT($E$1027,\"0000\")&TEXT($F$1027,\"0000\")","v":"4480025021103580004"},4480025021,null,1,358,4,"358-4","도",119,null,null,null,"홍성군","국",null,null,null,null,null,null,null,null,null,null,2811010600,"중구","해안동2가"]
[{"$f":"LEFT($B$1028,10)&TEXT($D$1028,\"0\")&TEXT($E$1028,\"0000\")&TEXT($F$1028,\"0000\")","v":"4480025021103580006"},4480025021,null,1,358,6,"358-6","전",102,null,null,null,"충청남도홍성군홍성읍오관리572-10성하하이츠씨-202","장응만",null,null,null,null,null,null,null,null,null,null,2811010700,"중구","해안동3가"]
[{"$f":"LEFT($B$1029,10)&TEXT($D$1029,\"0\")&TEXT($E$1029,\"0000\")&TEXT($F$1029,\"0000\")","v":"4480025021103590001"},4480025021,null,1,359,1,"359-1","답",228,null,null,null,"홍성군","국",null,null,null,null,null,null,null,null,null,null,2811010800,"중구","해안동4가"]
[{"$f":"LEFT($B$1030,10)&TEXT($D$1030,\"0\")&TEXT($E$1030,\"0000\")&TEXT($F$1030,\"0000\")","v":"4480025021103590002"},4480025021,null,1,359,2,"359-2","대",278,null,null,null,"충청남도홍성군홍성읍충서로1601번길35","이영길",null,null,null,null,null,null,null,null,null,null,2811010900,"중구","관동1가"]
[{"$f":"LEFT($B$1031,10)&TEXT($D$1031,\"0\")&TEXT($E$1031,\"0000\")&TEXT($F$1031,\"0000\")","v":"4480025021103600002"},4480025021,null,1,360,2,"360-2","대",213,null,null,null,"서울시영등포구대림동608-1현대3차아파트301동1908호","박용남",null,null,null,null,null,null,null,null,null,null,2811011000,"중구","관동2가"]
[{"$f":"LEFT($B$1032,10)&TEXT($D$1032,\"0\")&TEXT($E$1032,\"0000\")&TEXT($F$1032,\"0000\")","v":"4480025021103600004"},4480025021,null,1,360,4,"360-4","대",230,null,null,null,"고암리607-151","김순자",null,null,null,null,null,null,null,null,null,null,2811011100,"중구","관동3가"]
[{"$f":"LEFT($B$1033,10)&TEXT($D$1033,\"0\")&TEXT($E$1033,\"0000\")&TEXT($F$1033,\"0000\")","v":"4480025021103600006"},4480025021,null,1,360,6,"360-6","대",218,null,null,null,"충청남도홍성군홍성읍문화로90번길81-11","백옥자",null,null,null,null,null,null,null,null,null,null,2811011200,"중구","항동1가"]
[{"$f":"LEFT($B$1034,10)&TEXT($D$1034,\"0\")&TEXT($E$1034,\"0000\")&TEXT($F$1034,\"0000\")","v":"4480025021103600008"},4480025021,null,1,360,8,"360-8","답",202,null,null,null,"충청남도홍성군홍성읍대교길21-8","이연숙",null,null,null,null,null,null,null,null,null,null,2811011300,"중구","항동2가"]
[{"$f":"LEFT($B$1035,10)&TEXT($D$1035,\"0\")&TEXT($E$1035,\"0000\")&TEXT($F$1035,\"0000\")","v":"4480025021103600010"},4480025021,null,1,360,10,"360-10","답",13,null,null,null,"360-5","신민철",null,null,null,null,null,null,null,null,null,null,2811011400,"중구","항동3가"]
[{"$f":"LEFT($B$1036,10)&TEXT($D$1036,\"0\")&TEXT($E$1036,\"0000\")&TEXT($F$1036,\"0000\")","v":"4480025021103610001"},4480025021,null,1,361,1,"361-1","도",86,null,null,null,"353-5","조정원",null,null,null,null,null,null,null,null,null,null,2811011500,"중구","항동4가"]
[{"$f":"LEFT($B$1037,10)&TEXT($D$1037,\"0\")&TEXT($E$1037,\"0000\")&TEXT($F$1037,\"0000\")","v":"4480025021103610002"},4480025021,null,1,361,2,"361-2","도",36,null,null,null,"491-7","박종예",null,null,null,null,null,null,null,null,null,null,2811011600,"중구","항동5가"]
[{"$f":"LEFT($B$1038,10)&TEXT($D$1038,\"0\")&TEXT($E$1038,\"0000\")&TEXT($F$1038,\"0000\")","v":"4480025021103610007"},4480025021,null,1,361,7,"361-7","대",353,null,null,null,"491-7","박종예",null,null,null,null,null,null,null,null,null,null,2811011700,"중구","항동6가"]
[{"$f":"LEFT($B$1039,10)&TEXT($D$1039,\"0\")&TEXT($E$1039,\"0000\")&TEXT($F$1039,\"0000\")","v":"4480025021103610008"},4480025021,null,1,361,8,"361-8","답",241,null,null,null,"예산군삽교읍목리638","김혜경",null,null,null,null,null,null,null,null,null,null,2811011800,"중구","항동7가"]
[{"$f":"LEFT($B$1040,10)&TEXT($D$1040,\"0\")&TEXT($E$1040,\"0000\")&TEXT($F$1040,\"0000\")","v":"4480025021103610010"},4480025021,null,1,361,10,"361-10","대",211,null,null,null,"361-10","정천복",null,null,null,null,null,null,null,null,null,null,2811011900,"중구","송학동1가"]
[{"$f":"LEFT($B$1041,10)&TEXT($D$1041,\"0\")&TEXT($E$1041,\"0000\")&TEXT($F$1041,\"0000\")","v":"4480025021103610014"},4480025021,null,1,361,14,"361-14","답",125,null,null,null,"충청남도홍성군홍성읍충절로1053번길30-21","박선규",null,null,null,null,null,null,null,null,null,null,2811012000,"중구","송학동2가"]
[{"$f":"LEFT($B$1042,10)&TEXT($D$1042,\"0\")&TEXT($E$1042,\"0000\")&TEXT($F$1042,\"0000\")","v":"4480025021103610016"},4480025021,null,1,361,16,"361-16","대",216,null,null,null,"예산군덕산면읍내리324-10","이근배",null,null,null,null,null,null,null,null,null,null,2811012100,"중구","송학동3가"]
[{"$f":"LEFT($B$1043,10)&TEXT($D$1043,\"0\")&TEXT($E$1043,\"0000\")&TEXT($F$1043,\"0000\")","v":"4480025021103610018"},4480025021,null,1,361,18,"361-18","대",146,null,null,null,"361-18","이운우",null,null,null,null,null,null,null,null,null,null,2811012200,"중구","사동"]
[{"$f":"LEFT($B$1044,10)&TEXT($D$1044,\"0\")&TEXT($E$1044,\"0000\")&TEXT($F$1044,\"0000\")","v":"4480025021103610019"},4480025021,null,1,361,19,"361-19","답",119,null,null,null,"충청남도홍성군홍성읍충절로1053번길30-18","이효진",null,null,null,null,null,null,null,null,null,null,2811012300,"중구","신생동"]
[{"$f":"LEFT($B$1045,10)&TEXT($D$1045,\"0\")&TEXT($E$1045,\"0000\")&TEXT($F$1045,\"0000\")","v":"4480025021103610020"},4480025021,null,1,361,20,"361-20","답",138,null,null,null,"361-20","한영자",null,null,null,null,null,null,null,null,null,null,2811012400,"중구","신포동"]
[{"$f":"LEFT($B$1046,10)&TEXT($D$1046,\"0\")&TEXT($E$1046,\"0000\")&TEXT($F$1046,\"0000\")","v":"4480025021103610022"},4480025021,null,1,361,22,"361-22","대",207,null,null,null,"충청남도홍성군홍성읍문화로90번길81-8","홍영애",null,null,null,null,null,null,null,null,null,null,2811012500,"중구","답동"]
[{"$f":"LEFT($B$1047,10)&TEXT($D$1047,\"0\")&TEXT($E$1047,\"0000\")&TEXT($F$1047,\"0000\")","v":"4480025021103610025"},4480025021,null,1,361,25,"361-25","답",210,null,null,null,"홍성군홍성읍오관리361-25","이용세",null,null,null,null,null,null,null,null,null,null,2811012600,"중구","신흥동1가"]
[{"$f":"LEFT($B$1048,10)&TEXT($D$1048,\"0\")&TEXT($E$1048,\"0000\")&TEXT($F$1048,\"0000\")","v":"4480025021103610026"},4480025021,null,1,361,26,"361-26","답",70,null,null,null,"361-18","이운우",null,null,null,null,null,null,null,null,null,null,2811012700,"중구","신흥동2가"]
[{"$f":"LEFT($B$1049,10)&TEXT($D$1049,\"0\")&TEXT($E$1049,\"0000\")&TEXT($F$1049,\"0000\")","v":"4480025021103610027"},4480025021,null,1,361,27,"361-27","대",4,null,null,null,"홍성군","국",null,null,null,null,null,null,null,null,null,null,2811012800,"중구","신흥동3가"]
[{"$f":"LEFT($B$1050,10)&TEXT($D$1050,\"0\")&TEXT($E$1050,\"0000\")&TEXT($F$1050,\"0000\")","v":"4480025021103610029"},4480025021,null,1,361,29,"361-29","대",70,null,null,null,"대교리386-7","박영오",null,null,null,null,null,null,null,null,null,null,2811012900,"중구","선화동"]
[{"$f":"LEFT($B$1051,10)&TEXT($D$1051,\"0\")&TEXT($E$1051,\"0000\")&TEXT($F$1051,\"0000\")","v":"4480025021103630001"},4480025021,null,1,363,1,"363-1","도",139,null,null,null,"홍성군","국",null,null,null,null,null,null,null,null,null,null,2811013000,"중구","유동"]
[{"$f":"LEFT($B$1052,10)&TEXT($D$1052,\"0\")&TEXT($E$1052,\"0000\")&TEXT($F$1052,\"0000\")","v":"4480025021103630002"},4480025021,null,1,363,2,"363-2","대",202,null,null,null,"홍성군홍성읍오관리363-2","고수화",null,null,null,null,null,null,null,null,null,null,2811013100,"중구","율목동"]
[{"$f":"LEFT($B$1053,10)&TEXT($D$1053,\"0\")&TEXT($E$1053,\"0000\")&TEXT($F$1053,\"0000\")","v":"4480025021103630003"},4480025021,null,1,363,3,"363-3","대",296,null,null,null,"홍성군홍성읍오관리363-2","고수화",null,null,null,null,null,null,null,null,null,null,2811013200,"중구","도원동"]
[{"$f":"LEFT($B$1054,10)&TEXT($D$1054,\"0\")&TEXT($E$1054,\"0000\")&TEXT($F$1054,\"0000\")","v":"4480025021103630005"},4480025021,null,1,363,5,"363-5","전",91,null,null,null,"홍성군홍성읍오관리363-2","고수화",null,null,null,null,null,null,null,null,null,null,2811013300,"중구","내동"]
[{"$f":"LEFT($B$1055,10)&TEXT($D$1055,\"0\")&TEXT($E$1055,\"0000\")&TEXT($F$1055,\"0000\")","v":"4480025021103640003"},4480025021,null,1,364,3,"364-3","답",223,null,null,null,"충청남도홍성군홍성읍오관리364-3","홍성읍오관리7구마을회",null,null,null,null,null,null,null,null,null,null,2811013400,"중구","경동"]
[{"$f":"LEFT($B$1056,10)&TEXT($D$1056,\"0\")&TEXT($E$1056,\"0000\")&TEXT($F$1056,\"0000\")","v":"4480025021103650002"},4480025021,null,1,365,2,"365-2","대",221,null,null,null,"충청남도홍성군홍성읍충절로1053번길20","김순재",null,null,null,null,null,null,null,null,null,null,2811013500,"중구","용동"]
[{"$f":"LEFT($B$1057,10)&TEXT($D$1057,\"0\")&TEXT($E$1057,\"0000\")&TEXT($F$1057,\"0000\")","v":"4480025021103650003"},4480025021,null,1,365,3,"365-3","대",271,null,null,null,"365-3","김완수",null,null,null,null,null,null,null,null,null,null,2811013600,"중구","인현동"]
[{"$f":"LEFT($B$1058,10)&TEXT($D$1058,\"0\")&TEXT($E$1058,\"0000\")&TEXT($F$1058,\"0000\")","v":"4480025021103650004"},4480025021,null,1,365,4,"365-4","대",169,null,null,null,"오관리365-4","정운희",null,null,null,null,null,null,null,null,null,null,2811013700,"중구","전동"]
[{"$f":"LEFT($B$1059,10)&TEXT($D$1059,\"0\")&TEXT($E$1059,\"0000\")&TEXT($F$1059,\"0000\")","v":"4480025021103650005"},4480025021,null,1,365,5,"365-5","대",241,null,null,null,"고암리607-35","정채옥",null,null,null,null,null,null,null,null,null,null,2811013800,"중구","북성동1가"]
[{"$f":"LEFT($B$1060,10)&TEXT($D$1060,\"0\")&TEXT($E$1060,\"0000\")&TEXT($F$1060,\"0000\")","v":"4480025021103650006"},4480025021,null,1,365,6,"365-6","답",175,null,null,null,"충청남도홍성군홍성읍오관리365-12","이보경",null,null,null,null,null,null,null,null,null,null,2811013900,"중구","북성동2가"]
[{"$f":"LEFT($B$1061,10)&TEXT($D$1061,\"0\")&TEXT($E$1061,\"0000\")&TEXT($F$1061,\"0000\")","v":"4480025021103650008"},4480025021,null,1,365,8,"365-8","대",121,null,null,null,"충청남도홍성군홍성읍충절로953번길20108동802호(신동아파밀리에아파트)","이보경",null,null,null,null,null,null,null,null,null,null,2811014000,"중구","북성동3가"]
[{"$f":"LEFT($B$1062,10)&TEXT($D$1062,\"0\")&TEXT($E$1062,\"0000\")&TEXT($F$1062,\"0000\")","v":"4480025021103650010"},4480025021,null,1,365,10,"365-10","도",66,null,null,null,"홍성군","국",null,null,null,null,null,null,null,null,null,null,2811014100,"중구","선린동"]
[{"$f":"LEFT($B$1063,10)&TEXT($D$1063,\"0\")&TEXT($E$1063,\"0000\")&TEXT($F$1063,\"0000\")","v":"4480025021103650011"},4480025021,null,1,365,11,"365-11","대",181,null,null,null,"오관리220","이문구",null,null,null,null,null,null,null,null,null,null,2811014200,"중구","송월동1가"]
[{"$f":"LEFT($B$1064,10)&TEXT($D$1064,\"0\")&TEXT($E$1064,\"0000\")&TEXT($F$1064,\"0000\")","v":"4480025021103650012"},4480025021,null,1,365,12,"365-12","대",302,null,null,null,"충청남도홍성군홍성읍충절로953번길20108동802호(신동아파밀리에아파트)","이보경",null,null,null,null,null,null,null,null,null,null,2811014300,"중구","송월동2가"]
[{"$f":"LEFT($B$1065,10)&TEXT($D$1065,\"0\")&TEXT($E$1065,\"0000\")&TEXT($F$1065,\"0000\")","v":"4480025021103660001"},4480025021,null,1,366,1,"366-1","대",452,null,null,null,"충청남도(교육감)","국",null,null,null,null,null,null,null,null,null,null,2811014400,"중구","송월동3가"]
[{"$f":"LEFT($B$1066,10)&TEXT($D$1066,\"0\")&TEXT($E$1066,\"0000\")&TEXT($F$1066,\"0000\")","v":"4480025021103660002"},4480025021,null,1,366,2,"366-2","도",96,null,null,null,"국(국세청)","국",null,null,null,null,null,null,null,null,null,null,2811014500,"중구","중산동"]
[{"$f":"LEFT($B$1067,10)&TEXT($D$1067,\"0\")&TEXT($E$1067,\"0000\")&TEXT($F$1067,\"0000\")","v":"4480025021103660004"},4480025021,null,1,366,4,"366-4","천",2003,null,null,null,"국(국세청)","국",null,null,null,null,null,null,null,null,null,null,2811014600,"중구","운남동"]
[{"$f":"LEFT($B$1068,10)&TEXT($D$1068,\"0\")&TEXT($E$1068,\"0000\")&TEXT($F$1068,\"0000\")","v":"4480025021103660006"},4480025021,null,1,366,6,"366-6","도",53,null,null,null,"국(국세청)","국",null,null,null,null,null,null,null,null,null,null,2811014700,"중구","운서동"]
[{"$f":"LEFT($B$1069,10)&TEXT($D$1069,\"0\")&TEXT($E$1069,\"0000\")&TEXT($F$1069,\"0000\")","v":"4480025021103660008"},4480025021,null,1,366,8,"366-8","도",307,null,null,null,"국(건설부)","국",null,null,null,null,null,null,null,null,null,null,2811014800,"중구","운북동"]
[{"$f":"LEFT($B$1070,10)&TEXT($D$1070,\"0\")&TEXT($E$1070,\"0000\")&TEXT($F$1070,\"0000\")","v":"4480025021103660009"},4480025021,null,1,366,9,"366-9","대",820,null,null,null,"충청남도예산군고덕면몽곡1길38-6","함평이씨대흥공파종중",null,null,null,null,null,null,null,null,null,null,2811014900,"중구","을왕동"]
[{"$f":"LEFT($B$1071,10)&TEXT($D$1071,\"0\")&TEXT($E$1071,\"0000\")&TEXT($F$1071,\"0000\")","v":"4480025021103660010"},4480025021,null,1,366,10,"366-10","도",76,null,null,null,"국(건설부)","국",null,null,null,null,null,null,null,null,null,null,2811015000,"중구","남북동"]
[{"$f":"LEFT($B$1072,10)&TEXT($D$1072,\"0\")&TEXT($E$1072,\"0000\")&TEXT($F$1072,\"0000\")","v":"4480025021103660011"},4480025021,null,1,366,11,"366-11","답",22,null,null,null,"대전광역시유성구은구비남로34802동302호(노은동열매마을아파트8단지)","정다시리",null,null,null,null,null,null,null,null,null,null,2811015100,"중구","덕교동"]
[{"$f":"LEFT($B$1073,10)&TEXT($D$1073,\"0\")&TEXT($E$1073,\"0000\")&TEXT($F$1073,\"0000\")","v":"4480025021103660014"},4480025021,null,1,366,14,"366-14","답",263,null,null,null,"충청남도홍성군홍성읍오관리366-13","유옥자",null,null,null,null,null,null,null,null,null,null,2811015200,"중구","무의동"]
[{"$f":"LEFT($B$1074,10)&TEXT($D$1074,\"0\")&TEXT($E$1074,\"0000\")&TEXT($F$1074,\"0000\")","v":"4480025021103660016"},4480025021,null,1,366,16,"366-16","도",37,null,null,null,"홍성군","국",null,null,null,null,null,null,null,null,null,null,2814010100,"동구","만석동"]
[{"$f":"LEFT($B$1075,10)&TEXT($D$1075,\"0\")&TEXT($E$1075,\"0000\")&TEXT($F$1075,\"0000\")","v":"4480025021103660019"},4480025021,null,1,366,19,"366-19","대",90,null,null,null,"홍성군","국",null,null,null,null,null,null,null,null,null,null,2814010200,"동구","화수동"]
[{"$f":"LEFT($B$1076,10)&TEXT($D$1076,\"0\")&TEXT($E$1076,\"0000\")&TEXT($F$1076,\"0000\")","v":"4480025021103680002"},4480025021,null,1,368,2,"368-2","대",423,null,null,null,"구항면청광리567","이치환",null,null,null,null,null,null,null,null,null,null,2814010300,"동구","송현동"]
[{"$f":"LEFT($B$1077,10)&TEXT($D$1077,\"0\")&TEXT($E$1077,\"0000\")&TEXT($F$1077,\"0000\")","v":"4480025021103680004"},4480025021,null,1,368,4,"368-4","대",453,null,null,null,"서울시성북구정릉동239정릉풍림아이원아파트116-1003","정락훈",null,null,null,null,null,null,null,null,null,null,2814010400,"동구","화평동"]
[{"$f":"LEFT($B$1078,10)&TEXT($D$1078,\"0\")&TEXT($E$1078,\"0000\")&TEXT($F$1078,\"0000\")","v":"4480025021103680006"},4480025021,null,1,368,6,"368-6","대",69,null,null,null,"서울시성북구정릉동239정릉풍림아이원아파트116-1003","정락훈",null,null,null,null,null,null,null,null,null,null,2814010500,"동구","창영동"]
[{"$f":"LEFT($B$1079,10)&TEXT($D$1079,\"0\")&TEXT($E$1079,\"0000\")&TEXT($F$1079,\"0000\")","v":"4480025021103680007"},4480025021,null,1,368,7,"368-7","대",244,null,null,null,"368-7","정인준",null,null,null,null,null,null,null,null,null,null,2814010600,"동구","금곡동"]
[{"$f":"LEFT($B$1080,10)&TEXT($D$1080,\"0\")&TEXT($E$1080,\"0000\")&TEXT($F$1080,\"0000\")","v":"4480025021103680008"},4480025021,null,1,368,8,"368-8","도",17,null,null,null,"서울특별시강남구삼성로150108동407호(대치동한보미도맨션)","정기돈",null,null,null,null,null,null,null,null,null,null,2814010700,"동구","송림동"]
[{"$f":"LEFT($B$1081,10)&TEXT($D$1081,\"0\")&TEXT($E$1081,\"0000\")&TEXT($F$1081,\"0000\")","v":"4480025021103680009"},4480025021,null,1,368,9,"368-9","도",3,null,null,null,"서울특별시서대문구홍지동36-4","서상철",null,null,null,null,null,null,null,null,null,null,2817010100,"남구","숭의동"]
[{"$f":"LEFT($B$1082,10)&TEXT($D$1082,\"0\")&TEXT($E$1082,\"0000\")&TEXT($F$1082,\"0000\")","v":"4480025021103680012"},4480025021,null,1,368,12,"368-12","도",29,null,null,null,"국(건설부)","국",null,null,null,null,null,null,null,null,null,null,2817010200,"남구","용현동"]
[{"$f":"LEFT($B$1083,10)&TEXT($D$1083,\"0\")&TEXT($E$1083,\"0000\")&TEXT($F$1083,\"0000\")","v":"4480025021103680015"},4480025021,null,1,368,15,"368-15","대",32,null,null,null,"구항면청광리567","이치환",null,null,null,null,null,null,null,null,null,null,2817010300,"남구","학익동"]
[{"$f":"LEFT($B$1084,10)&TEXT($D$1084,\"0\")&TEXT($E$1084,\"0000\")&TEXT($F$1084,\"0000\")","v":"4480025021103680016"},4480025021,null,1,368,16,"368-16","대",153,null,null,null,"368-7","정인준",null,null,null,null,null,null,null,null,null,null,2817010500,"남구","도화동"]
[{"$f":"LEFT($B$1085,10)&TEXT($D$1085,\"0\")&TEXT($E$1085,\"0000\")&TEXT($F$1085,\"0000\")","v":"4480025021103680018"},4480025021,null,1,368,18,"368-18","대",23,null,null,null,"국(건설교통부)","국",null,null,null,null,null,null,null,null,null,null,2817010600,"남구","주안동"]
[{"$f":"LEFT($B$1086,10)&TEXT($D$1086,\"0\")&TEXT($E$1086,\"0000\")&TEXT($F$1086,\"0000\")","v":"4480025021103680019"},4480025021,null,1,368,19,"368-19","도",54,null,null,null,"홍성군","국",null,null,null,null,null,null,null,null,null,null,2817010800,"남구","관교동"]
[{"$f":"LEFT($B$1087,10)&TEXT($D$1087,\"0\")&TEXT($E$1087,\"0000\")&TEXT($F$1087,\"0000\")","v":"4480025021103690001"},4480025021,null,1,369,1,"369-1","대",307,null,null,null,"충청남도보령시청소면마동3길67","한창숙",null,null,null,null,null,null,null,null,null,null,2817010900,"남구","문학동"]
[{"$f":"LEFT($B$1088,10)&TEXT($D$1088,\"0\")&TEXT($E$1088,\"0000\")&TEXT($F$1088,\"0000\")","v":"4480025021103690002"},4480025021,null,1,369,2,"369-2","대",188,null,null,null,"충청남도홍성군홍성읍충절로10432층","이정숙",null,null,null,null,null,null,null,null,null,null,2818510100,"연수구","옥련동"]
[{"$f":"LEFT($B$1089,10)&TEXT($D$1089,\"0\")&TEXT($E$1089,\"0000\")&TEXT($F$1089,\"0000\")","v":"4480025021103690003"},4480025021,null,1,369,3,"369-3","대",255,null,null,null,"369-3","남궁민",null,null,null,null,null,null,null,null,null,null,2818510200,"연수구","선학동"]
[{"$f":"LEFT($B$1090,10)&TEXT($D$1090,\"0\")&TEXT($E$1090,\"0000\")&TEXT($F$1090,\"0000\")","v":"4480025021103690004"},4480025021,null,1,369,4,"369-4","대",210,null,null,null,"충청남도홍성군홍북면신대로34104동1403호(내포신도시롯데캐슬)","이선비",null,null,null,null,null,null,null,null,null,null,2818510300,"연수구","연수동"]
[{"$f":"LEFT($B$1091,10)&TEXT($D$1091,\"0\")&TEXT($E$1091,\"0000\")&TEXT($F$1091,\"0000\")","v":"4480025021103690010"},4480025021,null,1,369,10,"369-10","도",116,null,null,null,"국(기획재정부)","국",null,null,null,null,null,null,null,null,null,null,2818510400,"연수구","청학동"]
[{"$f":"LEFT($B$1092,10)&TEXT($D$1092,\"0\")&TEXT($E$1092,\"0000\")&TEXT($F$1092,\"0000\")","v":"4480025021103690011"},4480025021,null,1,369,11,"369-11","대",208,null,null,null,"월산리7-2","송달호",null,null,null,null,null,null,null,null,null,null,2818510500,"연수구","동춘동"]
[{"$f":"LEFT($B$1093,10)&TEXT($D$1093,\"0\")&TEXT($E$1093,\"0000\")&TEXT($F$1093,\"0000\")","v":"4480025021103690013"},4480025021,null,1,369,13,"369-13","도",99,null,null,null,"충청남도홍성군홍성읍충절로1053번길21","강옥희",null,null,null,null,null,null,null,null,null,null,2818510600,"연수구","송도동"]
[{"$f":"LEFT($B$1094,10)&TEXT($D$1094,\"0\")&TEXT($E$1094,\"0000\")&TEXT($F$1094,\"0000\")","v":"4480025021103690016"},4480025021,null,1,369,16,"369-16","도",25,null,null,null,"홍성군","국",null,null,null,null,null,null,null,null,null,null,2820010100,"남동구","구월동"]
[{"$f":"LEFT($B$1095,10)&TEXT($D$1095,\"0\")&TEXT($E$1095,\"0000\")&TEXT($F$1095,\"0000\")","v":"4480025021103690017"},4480025021,null,1,369,17,"369-17","도",14,null,null,null,"홍성군","국",null,null,null,null,null,null,null,null,null,null,2820010200,"남동구","간석동"]
[{"$f":"LEFT($B$1096,10)&TEXT($D$1096,\"0\")&TEXT($E$1096,\"0000\")&TEXT($F$1096,\"0000\")","v":"4480025021103700002"},4480025021,null,1,370,2,"370-2","대",506,null,null,null,"경기도성남시분당구미금로63308동702호(구미동무지개마을)","이대희",null,null,null,null,null,null,null,null,null,null,2820010300,"남동구","만수동"]
[{"$f":"LEFT($B$1097,10)&TEXT($D$1097,\"0\")&TEXT($E$1097,\"0000\")&TEXT($F$1097,\"0000\")","v":"4480025021103700003"},4480025021,null,1,370,3,"370-3","대",314,null,null,null,"경기도성남시분당구미금로63308동702호(구미동무지개마을)","이대희",null,null,null,null,null,null,null,null,null,null,2820010400,"남동구","장수동"]
[{"$f":"LEFT($B$1098,10)&TEXT($D$1098,\"0\")&TEXT($E$1098,\"0000\")&TEXT($F$1098,\"0000\")","v":"4480025021103700004"},4480025021,null,1,370,4,"370-4","대",106,null,null,null,"충청남도홍성군홍성읍충절로1043번길11","한하자",null,null,null,null,null,null,null,null,null,null,2820010500,"남동구","서창동"]
[{"$f":"LEFT($B$1099,10)&TEXT($D$1099,\"0\")&TEXT($E$1099,\"0000\")&TEXT($F$1099,\"0000\")","v":"4480025021103700006"},4480025021,null,1,370,6,"370-6","대",248,null,null,null,"370-6","임유석",null,null,null,null,null,null,null,null,null,null,2820010600,"남동구","운연동"]
[{"$f":"LEFT($B$1100,10)&TEXT($D$1100,\"0\")&TEXT($E$1100,\"0000\")&TEXT($F$1100,\"0000\")","v":"4480025021103700008"},4480025021,null,1,370,8,"370-8","대",152,null,null,null,"370-8","전창현",null,null,null,null,null,null,null,null,null,null,2820010700,"남동구","남촌동"]
[{"$f":"LEFT($B$1101,10)&TEXT($D$1101,\"0\")&TEXT($E$1101,\"0000\")&TEXT($F$1101,\"0000\")","v":"4480025021103700010"},4480025021,null,1,370,10,"370-10","도",53,null,null,null,"국(건설부)","국",null,null,null,null,null,null,null,null,null,null,2820010800,"남동구","수산동"]
[{"$f":"LEFT($B$1102,10)&TEXT($D$1102,\"0\")&TEXT($E$1102,\"0000\")&TEXT($F$1102,\"0000\")","v":"4480025021103700011"},4480025021,null,1,370,11,"370-11","대",347,null,null,null,"526-9","이부규",null,null,null,null,null,null,null,null,null,null,2820010900,"남동구","도림동"]
[{"$f":"LEFT($B$1103,10)&TEXT($D$1103,\"0\")&TEXT($E$1103,\"0000\")&TEXT($F$1103,\"0000\")","v":"4480025021103710001"},4480025021,null,1,371,1,"371-1","대",421,null,null,null,"서산시해미면대곡리597","이석순",null,null,null,null,null,null,null,null,null,null,2820011000,"남동구","논현동"]
[{"$f":"LEFT($B$1104,10)&TEXT($D$1104,\"0\")&TEXT($E$1104,\"0000\")&TEXT($F$1104,\"0000\")","v":"4480025021103710002"},4480025021,null,1,371,2,"371-2","대",258,null,null,null,"충청남도홍성군홍성읍충절로1043번길21-10","이종규",null,null,null,null,null,null,null,null,null,null,2820011100,"남동구","고잔동"]
[{"$f":"LEFT($B$1105,10)&TEXT($D$1105,\"0\")&TEXT($E$1105,\"0000\")&TEXT($F$1105,\"0000\")","v":"4480025021103710004"},4480025021,null,1,371,4,"371-4","대",248,null,null,null,"371-4","황선주",null,null,null,null,null,null,null,null,null,null,2823710100,"부평구","부평동"]
[{"$f":"LEFT($B$1106,10)&TEXT($D$1106,\"0\")&TEXT($E$1106,\"0000\")&TEXT($F$1106,\"0000\")","v":"4480025021103710005"},4480025021,null,1,371,5,"371-5","대",191,null,null,null,"충청남도홍성군홍성읍고암1길15-10","임종석",null,null,null,null,null,null,null,null,null,null,2823710200,"부평구","십정동"]
[{"$f":"LEFT($B$1107,10)&TEXT($D$1107,\"0\")&TEXT($E$1107,\"0000\")&TEXT($F$1107,\"0000\")","v":"4480025021103720003"},4480025021,null,1,372,3,"372-3","도",40,null,null,null,"620-4","홍성군축산협동조합",null,null,null,null,null,null,null,null,null,null,2823710300,"부평구","산곡동"]
[{"$f":"LEFT($B$1108,10)&TEXT($D$1108,\"0\")&TEXT($E$1108,\"0000\")&TEXT($F$1108,\"0000\")","v":"4480025021103720006"},4480025021,null,1,372,6,"372-6","대",221,null,null,null,"오관리372-6","이실",null,null,null,null,null,null,null,null,null,null,2823710400,"부평구","청천동"]
[{"$f":"LEFT($B$1109,10)&TEXT($D$1109,\"0\")&TEXT($E$1109,\"0000\")&TEXT($F$1109,\"0000\")","v":"4480025021103730003"},4480025021,null,1,373,3,"373-3","대",377,null,null,null,"충청남도청양군운곡면청신로1009-21","배석기",null,null,null,null,null,null,null,null,null,null,2823710500,"부평구","삼산동"]
[{"$f":"LEFT($B$1110,10)&TEXT($D$1110,\"0\")&TEXT($E$1110,\"0000\")&TEXT($F$1110,\"0000\")","v":"4480025021103740001"},4480025021,null,1,374,1,"374-1","대",270,null,null,null,"충청남도홍성군홍성읍오관리374-1","김윤형",null,null,null,null,null,null,null,null,null,null,2823710600,"부평구","갈산동"]
[{"$f":"LEFT($B$1111,10)&TEXT($D$1111,\"0\")&TEXT($E$1111,\"0000\")&TEXT($F$1111,\"0000\")","v":"4480025021103740002"},4480025021,null,1,374,2,"374-2","대",565,null,null,null,"경기도성남시분당구미금로63308동702호(구미동무지개마을)","이대희",null,null,null,null,null,null,null,null,null,null,2823710700,"부평구","부개동"]
[{"$f":"LEFT($B$1112,10)&TEXT($D$1112,\"0\")&TEXT($E$1112,\"0000\")&TEXT($F$1112,\"0000\")","v":"4480025021103740003"},4480025021,null,1,374,3,"374-3","대",433,null,null,null,"374-3","김현용",null,null,null,null,null,null,null,null,null,null,2823710800,"부평구","일신동"]
[{"$f":"LEFT($B$1113,10)&TEXT($D$1113,\"0\")&TEXT($E$1113,\"0000\")&TEXT($F$1113,\"0000\")","v":"4480025021103740006"},4480025021,null,1,374,6,"374-6","대",33,null,null,null,"충청남도홍성군홍성읍오관리374-1","김윤형",null,null,null,null,null,null,null,null,null,null,2823710900,"부평구","구산동"]
[{"$f":"LEFT($B$1114,10)&TEXT($D$1114,\"0\")&TEXT($E$1114,\"0000\")&TEXT($F$1114,\"0000\")","v":"4480025021103750000"},4480025021,null,1,375,0,375,"대",3631,null,null,null,"충청남도(교육감)","국",null,null,null,null,null,null,null,null,null,null,2824510100,"계양구","효성동"]
[{"$f":"LEFT($B$1115,10)&TEXT($D$1115,\"0\")&TEXT($E$1115,\"0000\")&TEXT($F$1115,\"0000\")","v":"4480025021103780001"},4480025021,null,1,378,1,"378-1","대",588,null,null,null,"오관리378","이순영",null,null,null,null,null,null,null,null,null,null,2824510200,"계양구","계산동"]
[{"$f":"LEFT($B$1116,10)&TEXT($D$1116,\"0\")&TEXT($E$1116,\"0000\")&TEXT($F$1116,\"0000\")","v":"4480025021103780002"},4480025021,null,1,378,2,"378-2","대",575,null,null,null,"오관리378","이순영",null,null,null,null,null,null,null,null,null,null,2824510300,"계양구","작전동"]
[{"$f":"LEFT($B$1117,10)&TEXT($D$1117,\"0\")&TEXT($E$1117,\"0000\")&TEXT($F$1117,\"0000\")","v":"4480025021103790000"},4480025021,null,1,379,0,379,"대",408,null,null,null,"경기도시흥시월곶중앙로11306동603호(월곶동월곶풍림3차아이원아파트)","박현서",null,null,null,null,null,null,null,null,null,null,2824510400,"계양구","서운동"]
[{"$f":"LEFT($B$1118,10)&TEXT($D$1118,\"0\")&TEXT($E$1118,\"0000\")&TEXT($F$1118,\"0000\")","v":"4480025021103790001"},4480025021,null,1,379,1,"379-1","전",2,null,null,null,"경기도시흥시월곶중앙로11306동603호(월곶동월곶풍림3차아이원아파트)","박현서",null,null,null,null,null,null,null,null,null,null,2824510500,"계양구","임학동"]
[{"$f":"LEFT($B$1119,10)&TEXT($D$1119,\"0\")&TEXT($E$1119,\"0000\")&TEXT($F$1119,\"0000\")","v":"4480025021103800001"},4480025021,null,1,380,1,"380-1","잡",312,null,null,null,"홍성군홍성읍남장리112-12대우아파트102동1102호","황규창",null,null,null,null,null,null,null,null,null,null,2824510600,"계양구","용종동"]
[{"$f":"LEFT($B$1120,10)&TEXT($D$1120,\"0\")&TEXT($E$1120,\"0000\")&TEXT($F$1120,\"0000\")","v":"4480025021103800003"},4480025021,null,1,380,3,"380-3","잡",269,null,null,null,"381-2","유창국",null,null,null,null,null,null,null,null,null,null,2824510700,"계양구","병방동"]
[{"$f":"LEFT($B$1121,10)&TEXT($D$1121,\"0\")&TEXT($E$1121,\"0000\")&TEXT($F$1121,\"0000\")","v":"4480025021103800004"},4480025021,null,1,380,4,"380-4","대",119,null,null,null,"380-4","장산옥",null,null,null,null,null,null,null,null,null,null,2824510800,"계양구","방축동"]
[{"$f":"LEFT($B$1122,10)&TEXT($D$1122,\"0\")&TEXT($E$1122,\"0000\")&TEXT($F$1122,\"0000\")","v":"4480025021103800008"},4480025021,null,1,380,8,"380-8","도",40,null,null,null,"충청남도홍성군홍성읍홍성천길204","정아름성",null,null,null,null,null,null,null,null,null,null,2824510900,"계양구","박촌동"]
[{"$f":"LEFT($B$1123,10)&TEXT($D$1123,\"0\")&TEXT($E$1123,\"0000\")&TEXT($F$1123,\"0000\")","v":"4480025021103800009"},4480025021,null,1,380,9,"380-9","대",568,null,null,null,"홍성군홍성읍오관리380","정아름성",null,null,null,null,null,null,null,null,null,null,2824511000,"계양구","동양동"]
[{"$f":"LEFT($B$1124,10)&TEXT($D$1124,\"0\")&TEXT($E$1124,\"0000\")&TEXT($F$1124,\"0000\")","v":"4480025021103800012"},4480025021,null,1,380,12,"380-12","도",204,null,null,null,"홍성군","국",null,null,null,null,null,null,null,null,null,null,2824511100,"계양구","귤현동"]
[{"$f":"LEFT($B$1125,10)&TEXT($D$1125,\"0\")&TEXT($E$1125,\"0000\")&TEXT($F$1125,\"0000\")","v":"4480025021103800013"},4480025021,null,1,380,13,"380-13","대",48,null,null,null,"충청남도홍성군홍성읍홍성천길204","정아름성",null,null,null,null,null,null,null,null,null,null,2824511200,"계양구","상야동"]
[{"$f":"LEFT($B$1126,10)&TEXT($D$1126,\"0\")&TEXT($E$1126,\"0000\")&TEXT($F$1126,\"0000\")","v":"4480025021103800014"},4480025021,null,1,380,14,"380-14","잡",229,null,null,null,"남장리112-12대우아파트102-1102","황규창",null,null,null,null,null,null,null,null,null,null,2824511300,"계양구","하야동"]
[{"$f":"LEFT($B$1127,10)&TEXT($D$1127,\"0\")&TEXT($E$1127,\"0000\")&TEXT($F$1127,\"0000\")","v":"4480025021103810001"},4480025021,null,1,381,1,"381-1","잡",104,null,null,null,"오관리537-1","정규선",null,null,null,null,null,null,null,null,null,null,2824511400,"계양구","평동"]
[{"$f":"LEFT($B$1128,10)&TEXT($D$1128,\"0\")&TEXT($E$1128,\"0000\")&TEXT($F$1128,\"0000\")","v":"4480025021103810002"},4480025021,null,1,381,2,"381-2","제",1643,null,null,null,"국(국세청)","국",null,null,null,null,null,null,null,null,null,null,2824511500,"계양구","노오지동"]
[{"$f":"LEFT($B$1129,10)&TEXT($D$1129,\"0\")&TEXT($E$1129,\"0000\")&TEXT($F$1129,\"0000\")","v":"4480025021103810004"},4480025021,null,1,381,4,"381-4","대",327,null,null,null,"홍성군","국",null,null,null,null,null,null,null,null,null,null,2824511600,"계양구","선주지동"]
[{"$f":"LEFT($B$1130,10)&TEXT($D$1130,\"0\")&TEXT($E$1130,\"0000\")&TEXT($F$1130,\"0000\")","v":"4480025021103810010"},4480025021,null,1,381,10,"381-10","대",227,null,null,null,246,"홍성신용협동조합",null,null,null,null,null,null,null,null,null,null,2824511700,"계양구","이화동"]
[{"$f":"LEFT($B$1131,10)&TEXT($D$1131,\"0\")&TEXT($E$1131,\"0000\")&TEXT($F$1131,\"0000\")","v":"4480025021103820001"},4480025021,null,1,382,1,"382-1","도",86,null,null,null,"국(건설부)","국",null,null,null,null,null,null,null,null,null,null,2824511800,"계양구","오류동"]
[{"$f":"LEFT($B$1132,10)&TEXT($D$1132,\"0\")&TEXT($E$1132,\"0000\")&TEXT($F$1132,\"0000\")","v":"4480025021103820002"},4480025021,null,1,382,2,"382-2","제",116,null,null,null,"국(국세청)","국",null,null,null,null,null,null,null,null,null,null,2824511900,"계양구","갈현동"]
[{"$f":"LEFT($B$1133,10)&TEXT($D$1133,\"0\")&TEXT($E$1133,\"0000\")&TEXT($F$1133,\"0000\")","v":"4480025021103820008"},4480025021,null,1,382,8,"382-8","대",433,null,null,null,"대전광역시서구청사로65115동1109호(월평동황실타운)","조성홍",null,null,null,null,null,null,null,null,null,null,2824512000,"계양구","둑실동"]
[{"$f":"LEFT($B$1134,10)&TEXT($D$1134,\"0\")&TEXT($E$1134,\"0000\")&TEXT($F$1134,\"0000\")","v":"4480025021103820010"},4480025021,null,1,382,10,"382-10","도",21,null,null,null,"국(기획재정부)","국",null,null,null,null,null,null,null,null,null,null,2824512100,"계양구","목상동"]
[{"$f":"LEFT($B$1135,10)&TEXT($D$1135,\"0\")&TEXT($E$1135,\"0000\")&TEXT($F$1135,\"0000\")","v":"4480025021103820011"},4480025021,null,1,382,11,"382-11","도",49,null,null,null,"홍성군","국",null,null,null,null,null,null,null,null,null,null,2824512200,"계양구","다남동"]
[{"$f":"LEFT($B$1136,10)&TEXT($D$1136,\"0\")&TEXT($E$1136,\"0000\")&TEXT($F$1136,\"0000\")","v":"4480025021103830001"},4480025021,null,1,383,1,"383-1","대",248,null,null,null,"225-1","구양삼",null,null,null,null,null,null,null,null,null,null,2824512300,"계양구","장기동"]
[{"$f":"LEFT($B$1137,10)&TEXT($D$1137,\"0\")&TEXT($E$1137,\"0000\")&TEXT($F$1137,\"0000\")","v":"4480025021103830002"},4480025021,null,1,383,2,"383-2","도",86,null,null,null,"홍성군","국",null,null,null,null,null,null,null,null,null,null,2826010100,"서구","백석동"]
[{"$f":"LEFT($B$1138,10)&TEXT($D$1138,\"0\")&TEXT($E$1138,\"0000\")&TEXT($F$1138,\"0000\")","v":"4480025021103840001"},4480025021,null,1,384,1,"384-1","잡",116,null,null,null,"오관리225-1","구양삼",null,null,null,null,null,null,null,null,null,null,2826010200,"서구","시천동"]
[{"$f":"LEFT($B$1139,10)&TEXT($D$1139,\"0\")&TEXT($E$1139,\"0000\")&TEXT($F$1139,\"0000\")","v":"4480025021103840002"},4480025021,null,1,384,2,"384-2","도",116,null,null,null,"국(건설부)","국",null,null,null,null,null,null,null,null,null,null,2826010300,"서구","검암동"]
[{"$f":"LEFT($B$1140,10)&TEXT($D$1140,\"0\")&TEXT($E$1140,\"0000\")&TEXT($F$1140,\"0000\")","v":"4480025021103840003"},4480025021,null,1,384,3,"384-3","대",261,null,null,null,"오관리384-3","길거한",null,null,null,null,null,null,null,null,null,null,2826010400,"서구","경서동"]
[{"$f":"LEFT($B$1141,10)&TEXT($D$1141,\"0\")&TEXT($E$1141,\"0000\")&TEXT($F$1141,\"0000\")","v":"4480025021103840004"},4480025021,null,1,384,4,"384-4","대",291,null,null,null,"충청남도아산시배방읍연화로11607동1302호(연화마을에스티엑스칸6단지)","주지은",null,null,null,null,null,null,null,null,null,null,2826010500,"서구","공촌동"]
[{"$f":"LEFT($B$1142,10)&TEXT($D$1142,\"0\")&TEXT($E$1142,\"0000\")&TEXT($F$1142,\"0000\")","v":"4480025021103850003"},4480025021,null,1,385,3,"385-3","대",10,null,null,null,"충청남도홍성군구항면마온1길22","김일환",null,null,null,null,null,null,null,null,null,null,2826010600,"서구","연희동"]
[{"$f":"LEFT($B$1143,10)&TEXT($D$1143,\"0\")&TEXT($E$1143,\"0000\")&TEXT($F$1143,\"0000\")","v":"4480025021103850004"},4480025021,null,1,385,4,"385-4","도",3,null,null,null,"국(건설교통부)","국",null,null,null,null,null,null,null,null,null,null,2826010700,"서구","심곡동"]
[{"$f":"LEFT($B$1144,10)&TEXT($D$1144,\"0\")&TEXT($E$1144,\"0000\")&TEXT($F$1144,\"0000\")","v":"4480025021103850009"},4480025021,null,1,385,9,"385-9","대",301,null,null,null,"서울특별시서초구잠원동70신반포4차아파트202-103","서종호",null,null,null,null,null,null,null,null,null,null,2826010800,"서구","가정동"]
[{"$f":"LEFT($B$1145,10)&TEXT($D$1145,\"0\")&TEXT($E$1145,\"0000\")&TEXT($F$1145,\"0000\")","v":"4480025021103860001"},4480025021,null,1,386,1,"386-1","대",13,null,null,null,"서울특별시서초구잠원동70신반포4차아파트202-103","서종호",null,null,null,null,null,null,null,null,null,null,2826010900,"서구","신현동"]
[{"$f":"LEFT($B$1146,10)&TEXT($D$1146,\"0\")&TEXT($E$1146,\"0000\")&TEXT($F$1146,\"0000\")","v":"4480025021103860002"},4480025021,null,1,386,2,"386-2","대",96,null,null,null,"홍성군홍성읍남장리515주공그린빌108-603","길세만",null,null,null,null,null,null,null,null,null,null,2826011000,"서구","석남동"]
[{"$f":"LEFT($B$1147,10)&TEXT($D$1147,\"0\")&TEXT($E$1147,\"0000\")&TEXT($F$1147,\"0000\")","v":"4480025021103860003"},4480025021,null,1,386,3,"386-3","도",7,null,null,null,"국(건설교통부)","국",null,null,null,null,null,null,null,null,null,null,2826011100,"서구","원창동"]
[{"$f":"LEFT($B$1148,10)&TEXT($D$1148,\"0\")&TEXT($E$1148,\"0000\")&TEXT($F$1148,\"0000\")","v":"4480025021103870000"},4480025021,null,1,387,0,387,"대",4,null,null,null,"218-1","신재천",null,null,null,null,null,null,null,null,null,null,2826011200,"서구","가좌동"]
[{"$f":"LEFT($B$1149,10)&TEXT($D$1149,\"0\")&TEXT($E$1149,\"0000\")&TEXT($F$1149,\"0000\")","v":"4480025021103880000"},4480025021,null,1,388,0,388,"대",344,null,null,null,"충청남도홍성군홍성읍대교길86","이형민",null,null,null,null,null,null,null,null,null,null,2826011300,"서구","마전동"]
[{"$f":"LEFT($B$1150,10)&TEXT($D$1150,\"0\")&TEXT($E$1150,\"0000\")&TEXT($F$1150,\"0000\")","v":"4480025021103890000"},4480025021,null,1,389,0,389,"대",585,null,null,null,"홍성군홍성읍내법리285-78현광아파트101-502호","신창희",null,null,null,null,null,null,null,null,null,null,2826011400,"서구","당하동"]
[{"$f":"LEFT($B$1151,10)&TEXT($D$1151,\"0\")&TEXT($E$1151,\"0000\")&TEXT($F$1151,\"0000\")","v":"4480025021103890002"},4480025021,null,1,389,2,"389-2","대",98,null,null,null,"충청남도홍성군홍성읍대교길86","이형민",null,null,null,null,null,null,null,null,null,null,2826011500,"서구","원당동"]
[{"$f":"LEFT($B$1152,10)&TEXT($D$1152,\"0\")&TEXT($E$1152,\"0000\")&TEXT($F$1152,\"0000\")","v":"4480025021103900000"},4480025021,null,1,390,0,390,"대",212,null,null,null,"충청남도홍성군홍성읍오관리518경성큰마을아파트102-1402","이인숙",null,null,null,null,null,null,null,null,null,null,2826011700,"서구","대곡동"]
[{"$f":"LEFT($B$1153,10)&TEXT($D$1153,\"0\")&TEXT($E$1153,\"0000\")&TEXT($F$1153,\"0000\")","v":"4480025021103900002"},4480025021,null,1,390,2,"390-2","대",24,null,null,null,"충청남도홍성군구항면지정리197","장원희",null,null,null,null,null,null,null,null,null,null,2826011800,"서구","금곡동"]
[{"$f":"LEFT($B$1154,10)&TEXT($D$1154,\"0\")&TEXT($E$1154,\"0000\")&TEXT($F$1154,\"0000\")","v":"4480025021103910000"},4480025021,null,1,391,0,391,"대",436,null,null,null,"경기도용인시수지구죽전로238번길16-16101호(죽전동)","배재홍",null,null,null,null,null,null,null,null,null,null,2826011900,"서구","오류동"]
[{"$f":"LEFT($B$1155,10)&TEXT($D$1155,\"0\")&TEXT($E$1155,\"0000\")&TEXT($F$1155,\"0000\")","v":"4480025021103940002"},4480025021,null,1,394,2,"394-2","대",91,null,null,null,"충청남도홍성군홍성읍오관리394-2","정대희",null,null,null,null,null,null,null,null,null,null,2826012000,"서구","왕길동"]
[{"$f":"LEFT($B$1156,10)&TEXT($D$1156,\"0\")&TEXT($E$1156,\"0000\")&TEXT($F$1156,\"0000\")","v":"4480025021103940004"},4480025021,null,1,394,4,"394-4","대",132,null,null,null,"예산군삽교읍신리263","정재영",null,null,null,null,null,null,null,null,null,null,2826012100,"서구","불로동"]
[{"$f":"LEFT($B$1157,10)&TEXT($D$1157,\"0\")&TEXT($E$1157,\"0000\")&TEXT($F$1157,\"0000\")","v":"4480025021103940007"},4480025021,null,1,394,7,"394-7","대",11,null,null,null,"예산군삽교읍신리263","정재영",null,null,null,null,null,null,null,null,null,null,2871025000,"강화군","강화읍"]
[{"$f":"LEFT($B$1158,10)&TEXT($D$1158,\"0\")&TEXT($E$1158,\"0000\")&TEXT($F$1158,\"0000\")","v":"4480025021103950001"},4480025021,null,1,395,1,"395-1","대",215,null,null,null,"광천읍광천리230-1","김원중",null,null,null,null,null,null,null,null,null,null,2871025021,"강화군","강화읍","신문리"]
[{"$f":"LEFT($B$1159,10)&TEXT($D$1159,\"0\")&TEXT($E$1159,\"0000\")&TEXT($F$1159,\"0000\")","v":"4480025021103950003"},4480025021,null,1,395,3,"395-3","대",181,null,null,null,"의정부시금오동121-32","박용화",null,null,null,null,null,null,null,null,null,null,2871025022,"강화군","강화읍","관청리"]
[{"$f":"LEFT($B$1160,10)&TEXT($D$1160,\"0\")&TEXT($E$1160,\"0000\")&TEXT($F$1160,\"0000\")","v":"4480025021103950004"},4480025021,null,1,395,4,"395-4","대",14,null,null,null,"의정부시금오동121-32","박용화",null,null,null,null,null,null,null,null,null,null,2871025023,"강화군","강화읍","국화리"]
[{"$f":"LEFT($B$1161,10)&TEXT($D$1161,\"0\")&TEXT($E$1161,\"0000\")&TEXT($F$1161,\"0000\")","v":"4480025021103970001"},4480025021,null,1,397,1,"397-1","대",1304,null,null,null,"오관리397","사단법인홍성읍상설시장번영회",null,null,null,null,null,null,null,null,null,null,2871025024,"강화군","강화읍","남산리"]
[{"$f":"LEFT($B$1162,10)&TEXT($D$1162,\"0\")&TEXT($E$1162,\"0000\")&TEXT($F$1162,\"0000\")","v":"4480025021103970004"},4480025021,null,1,397,4,"397-4","대",109,null,null,null,"충청남도예산군신암면용산로171-6","이홍열",null,null,null,null,null,null,null,null,null,null,2871025025,"강화군","강화읍","갑곳리"]
[{"$f":"LEFT($B$1163,10)&TEXT($D$1163,\"0\")&TEXT($E$1163,\"0000\")&TEXT($F$1163,\"0000\")","v":"4480025021103970005"},4480025021,null,1,397,5,"397-5","도",1554,null,null,null,"홍성군","국",null,null,null,null,null,null,null,null,null,null,2871025026,"강화군","강화읍","용정리"]
[{"$f":"LEFT($B$1164,10)&TEXT($D$1164,\"0\")&TEXT($E$1164,\"0000\")&TEXT($F$1164,\"0000\")","v":"4480025021103970006"},4480025021,null,1,397,6,"397-6","대",3010,null,null,null,"오관리397","사단법인홍성읍상설시장번영회",null,null,null,null,null,null,null,null,null,null,2871025027,"강화군","강화읍","옥림리"]
[{"$f":"LEFT($B$1165,10)&TEXT($D$1165,\"0\")&TEXT($E$1165,\"0000\")&TEXT($F$1165,\"0000\")","v":"4480025021103980001"},4480025021,null,1,398,1,"398-1","도",92,null,null,null,"홍성군","국",null,null,null,null,null,null,null,null,null,null,2871025028,"강화군","강화읍","월곳리"]
[{"$f":"LEFT($B$1166,10)&TEXT($D$1166,\"0\")&TEXT($E$1166,\"0000\")&TEXT($F$1166,\"0000\")","v":"4480025021103980002"},4480025021,null,1,398,2,"398-2","도",66,null,null,null,"국(국세청)","국",null,null,null,null,null,null,null,null,null,null,2871025029,"강화군","강화읍","대산리"]
[{"$f":"LEFT($B$1167,10)&TEXT($D$1167,\"0\")&TEXT($E$1167,\"0000\")&TEXT($F$1167,\"0000\")","v":"4480025021103980004"},4480025021,null,1,398,4,"398-4","천",36,null,null,null,"국(국세청)","국",null,null,null,null,null,null,null,null,null,null,2871031000,"강화군","선원면"]
[{"$f":"LEFT($B$1168,10)&TEXT($D$1168,\"0\")&TEXT($E$1168,\"0000\")&TEXT($F$1168,\"0000\")","v":"4480025021103980005"},4480025021,null,1,398,5,"398-5","도",33,null,null,null,"국(국세청)","국",null,null,null,null,null,null,null,null,null,null,2871031021,"강화군","선원면","금월리"]
[{"$f":"LEFT($B$1169,10)&TEXT($D$1169,\"0\")&TEXT($E$1169,\"0000\")&TEXT($F$1169,\"0000\")","v":"4480025021103980006"},4480025021,null,1,398,6,"398-6","제",145,null,null,null,"국(국세청)","국",null,null,null,null,null,null,null,null,null,null,2871031022,"강화군","선원면","연리"]
[{"$f":"LEFT($B$1170,10)&TEXT($D$1170,\"0\")&TEXT($E$1170,\"0000\")&TEXT($F$1170,\"0000\")","v":"4480025021103980007"},4480025021,null,1,398,7,"398-7","대",42,null,null,null,"충청남도홍성군홍성읍충절로953번길20107동405호(신동아파밀리에아파트)","김태식",null,null,null,null,null,null,null,null,null,null,2871031023,"강화군","선원면","지산리"]
[{"$f":"LEFT($B$1171,10)&TEXT($D$1171,\"0\")&TEXT($E$1171,\"0000\")&TEXT($F$1171,\"0000\")","v":"4480025021103980009"},4480025021,null,1,398,9,"398-9","도",66,null,null,null,"국(건설교통부)","국",null,null,null,null,null,null,null,null,null,null,2871031024,"강화군","선원면","신정리"]
[{"$f":"LEFT($B$1172,10)&TEXT($D$1172,\"0\")&TEXT($E$1172,\"0000\")&TEXT($F$1172,\"0000\")","v":"4480025021103980011"},4480025021,null,1,398,11,"398-11","대",95,null,null,null,"서울특별시서초구강남대로299(서초동)","주식회사생보부동산신탁",null,null,null,null,null,null,null,null,null,null,2871031025,"강화군","선원면","창리"]
[{"$f":"LEFT($B$1173,10)&TEXT($D$1173,\"0\")&TEXT($E$1173,\"0000\")&TEXT($F$1173,\"0000\")","v":"4480025021103990001"},4480025021,null,1,399,1,"399-1","대",43,null,null,null,"충청남도홍성군홍성읍의사로72번길10","한미자",null,null,null,null,null,null,null,null,null,null,2871031026,"강화군","선원면","선행리"]
[{"$f":"LEFT($B$1174,10)&TEXT($D$1174,\"0\")&TEXT($E$1174,\"0000\")&TEXT($F$1174,\"0000\")","v":"4480025021103990002"},4480025021,null,1,399,2,"399-2","제",17,null,null,null,"국(건설교통부)","국",null,null,null,null,null,null,null,null,null,null,2871031027,"강화군","선원면","냉정리"]
[{"$f":"LEFT($B$1175,10)&TEXT($D$1175,\"0\")&TEXT($E$1175,\"0000\")&TEXT($F$1175,\"0000\")","v":"4480025021103990003"},4480025021,null,1,399,3,"399-3","대",385,null,null,null,"399-3","김진월",null,null,null,null,null,null,null,null,null,null,2871032000,"강화군","불은면"]
[{"$f":"LEFT($B$1176,10)&TEXT($D$1176,\"0\")&TEXT($E$1176,\"0000\")&TEXT($F$1176,\"0000\")","v":"4480025021103990004"},4480025021,null,1,399,4,"399-4","대",745,null,null,null,"399-3","김봉옥",null,null,null,null,null,null,null,null,null,null,2871032021,"강화군","불은면","두운리"]
[{"$f":"LEFT($B$1177,10)&TEXT($D$1177,\"0\")&TEXT($E$1177,\"0000\")&TEXT($F$1177,\"0000\")","v":"4480025021103990006"},4480025021,null,1,399,6,"399-6","대",761,null,null,null,"서울특별시종로구세종대로149(세종로광화문빌딩)","재단법인기독교대한감리회유지재단",null,null,null,null,null,null,null,null,null,null,2871032022,"강화군","불은면","고능리"]
[{"$f":"LEFT($B$1178,10)&TEXT($D$1178,\"0\")&TEXT($E$1178,\"0000\")&TEXT($F$1178,\"0000\")","v":"4480025021103990007"},4480025021,null,1,399,7,"399-7","대",254,null,null,null,397,"사단법인홍성읍상설시장번영회",null,null,null,null,null,null,null,null,null,null,2871032023,"강화군","불은면","오두리"]
[{"$f":"LEFT($B$1179,10)&TEXT($D$1179,\"0\")&TEXT($E$1179,\"0000\")&TEXT($F$1179,\"0000\")","v":"4480025021103990009"},4480025021,null,1,399,9,"399-9","도",40,null,null,null,"국(기획재정부)","국",null,null,null,null,null,null,null,null,null,null,2871032024,"강화군","불은면","넙성리"]
[{"$f":"LEFT($B$1180,10)&TEXT($D$1180,\"0\")&TEXT($E$1180,\"0000\")&TEXT($F$1180,\"0000\")","v":"4480025021103990010"},4480025021,null,1,399,10,"399-10","도",202,null,null,null,"국(건설부)","국",null,null,null,null,null,null,null,null,null,null,2871032025,"강화군","불은면","신현리"]
[{"$f":"LEFT($B$1181,10)&TEXT($D$1181,\"0\")&TEXT($E$1181,\"0000\")&TEXT($F$1181,\"0000\")","v":"4480025021103990013"},4480025021,null,1,399,13,"399-13","대",1295,null,null,null,"충청남도예산군신암면용산로171-6","이홍열",null,null,null,null,null,null,null,null,null,null,2871032026,"강화군","불은면","삼동암리"]
[{"$f":"LEFT($B$1182,10)&TEXT($D$1182,\"0\")&TEXT($E$1182,\"0000\")&TEXT($F$1182,\"0000\")","v":"4480025021103990017"},4480025021,null,1,399,17,"399-17","대",88,null,null,null,397,"사단법인홍성읍상설시장번영회",null,null,null,null,null,null,null,null,null,null,2871032027,"강화군","불은면","삼성리"]
[{"$f":"LEFT($B$1183,10)&TEXT($D$1183,\"0\")&TEXT($E$1183,\"0000\")&TEXT($F$1183,\"0000\")","v":"4480025021103990028"},4480025021,null,1,399,28,"399-28","대",299,null,null,null,"충청남도홍성군홍성읍아문길52번길151층호","최재완",null,null,null,null,null,null,null,null,null,null,2871032028,"강화군","불은면","덕성리"]
[{"$f":"LEFT($B$1184,10)&TEXT($D$1184,\"0\")&TEXT($E$1184,\"0000\")&TEXT($F$1184,\"0000\")","v":"4480025021103990038"},4480025021,null,1,399,38,"399-38","대",117,null,null,null,"399-3","김진월",null,null,null,null,null,null,null,null,null,null,2871033000,"강화군","길상면"]
[{"$f":"LEFT($B$1185,10)&TEXT($D$1185,\"0\")&TEXT($E$1185,\"0000\")&TEXT($F$1185,\"0000\")","v":"4480025021103990043"},4480025021,null,1,399,43,"399-43","대",173,null,null,null,"399-3","김진월",null,null,null,null,null,null,null,null,null,null,2871033021,"강화군","길상면","온수리"]
[{"$f":"LEFT($B$1186,10)&TEXT($D$1186,\"0\")&TEXT($E$1186,\"0000\")&TEXT($F$1186,\"0000\")","v":"4480025021104040000"},4480025021,null,1,404,0,404,"차",1018,null,null,null,"홍성군","국",null,null,null,null,null,null,null,null,null,null,2871033022,"강화군","길상면","선두리"]
[{"$f":"LEFT($B$1187,10)&TEXT($D$1187,\"0\")&TEXT($E$1187,\"0000\")&TEXT($F$1187,\"0000\")","v":"4480025021104060002"},4480025021,null,1,406,2,"406-2","도",10,null,null,null,"홍성군","국",null,null,null,null,null,null,null,null,null,null,2871033023,"강화군","길상면","동검리"]
[{"$f":"LEFT($B$1188,10)&TEXT($D$1188,\"0\")&TEXT($E$1188,\"0000\")&TEXT($F$1188,\"0000\")","v":"4480025021104060003"},4480025021,null,1,406,3,"406-3","도",79,null,null,null,"홍성군","국",null,null,null,null,null,null,null,null,null,null,2871033024,"강화군","길상면","초지리"]
[{"$f":"LEFT($B$1189,10)&TEXT($D$1189,\"0\")&TEXT($E$1189,\"0000\")&TEXT($F$1189,\"0000\")","v":"4480025021104070002"},4480025021,null,1,407,2,"407-2","도",3,null,null,null,"홍성군","국",null,null,null,null,null,null,null,null,null,null,2871033025,"강화군","길상면","장흥리"]
[{"$f":"LEFT($B$1190,10)&TEXT($D$1190,\"0\")&TEXT($E$1190,\"0000\")&TEXT($F$1190,\"0000\")","v":"4480025021104080000"},4480025021,null,1,408,0,408,"대",102,null,null,null,"국(기획재정부)","국",null,null,null,null,null,null,null,null,null,null,2871033026,"강화군","길상면","길직리"]
[{"$f":"LEFT($B$1191,10)&TEXT($D$1191,\"0\")&TEXT($E$1191,\"0000\")&TEXT($F$1191,\"0000\")","v":"4480025021104100000"},4480025021,null,1,410,0,410,"사",711,null,null,null,"홍성군","국",null,null,null,null,null,null,null,null,null,null,2871034000,"강화군","화도면"]
[{"$f":"LEFT($B$1192,10)&TEXT($D$1192,\"0\")&TEXT($E$1192,\"0000\")&TEXT($F$1192,\"0000\")","v":"4480025021104110001"},4480025021,null,1,411,1,"411-1","잡",817,null,null,null,"홍성군","국",null,null,null,null,null,null,null,null,null,null,2871034021,"강화군","화도면","내리"]
[{"$f":"LEFT($B$1193,10)&TEXT($D$1193,\"0\")&TEXT($E$1193,\"0000\")&TEXT($F$1193,\"0000\")","v":"4480025021104110006"},4480025021,null,1,411,6,"411-6","대",893,null,null,null,"국(문화재청)","국",null,null,null,null,null,null,null,null,null,null,2871034022,"강화군","화도면","상방리"]
[{"$f":"LEFT($B$1194,10)&TEXT($D$1194,\"0\")&TEXT($E$1194,\"0000\")&TEXT($F$1194,\"0000\")","v":"4480025021104110007"},4480025021,null,1,411,7,"411-7","잡",4093,null,null,null,"국(문화재청)","국",null,null,null,null,null,null,null,null,null,null,2871034023,"강화군","화도면","문산리"]
[{"$f":"LEFT($B$1195,10)&TEXT($D$1195,\"0\")&TEXT($E$1195,\"0000\")&TEXT($F$1195,\"0000\")","v":"4480025021104110009"},4480025021,null,1,411,9,"411-9","잡",149,null,null,null,"국(문화재청)","국",null,null,null,null,null,null,null,null,null,null,2871034024,"강화군","화도면","덕포리"]
[{"$f":"LEFT($B$1196,10)&TEXT($D$1196,\"0\")&TEXT($E$1196,\"0000\")&TEXT($F$1196,\"0000\")","v":"4480025021104110011"},4480025021,null,1,411,11,"411-11","잡",327,null,null,null,"홍성군","국",null,null,null,null,null,null,null,null,null,null,2871034025,"강화군","화도면","사기리"]
[{"$f":"LEFT($B$1197,10)&TEXT($D$1197,\"0\")&TEXT($E$1197,\"0000\")&TEXT($F$1197,\"0000\")","v":"4480025021104110013"},4480025021,null,1,411,13,"411-13","전",24,null,null,null,417,"전계명",null,null,null,null,null,null,null,null,null,null,2871034026,"강화군","화도면","동막리"]
[{"$f":"LEFT($B$1198,10)&TEXT($D$1198,\"0\")&TEXT($E$1198,\"0000\")&TEXT($F$1198,\"0000\")","v":"4480025021104120010"},4480025021,null,1,412,10,"412-10","잡",96,null,null,null,"국(문화재청)","국",null,null,null,null,null,null,null,null,null,null,2871034027,"강화군","화도면","흥왕리"]
[{"$f":"LEFT($B$1199,10)&TEXT($D$1199,\"0\")&TEXT($E$1199,\"0000\")&TEXT($F$1199,\"0000\")","v":"4480025021104120012"},4480025021,null,1,412,12,"412-12","잡",69,null,null,null,"홍성군","국",null,null,null,null,null,null,null,null,null,null,2871034028,"강화군","화도면","여차리"]
[{"$f":"LEFT($B$1200,10)&TEXT($D$1200,\"0\")&TEXT($E$1200,\"0000\")&TEXT($F$1200,\"0000\")","v":"4480025021104120013"},4480025021,null,1,412,13,"412-13","잡",327,null,null,null,"국(기획재정부)","국",null,null,null,null,null,null,null,null,null,null,2871034029,"강화군","화도면","장화리"]
[{"$f":"LEFT($B$1201,10)&TEXT($D$1201,\"0\")&TEXT($E$1201,\"0000\")&TEXT($F$1201,\"0000\")","v":"4480025021104120014"},4480025021,null,1,412,14,"412-14","잡",374,null,null,null,"국(기획재정부)","국",null,null,null,null,null,null,null,null,null,null,2871035000,"강화군","양도면"]
[{"$f":"LEFT($B$1202,10)&TEXT($D$1202,\"0\")&TEXT($E$1202,\"0000\")&TEXT($F$1202,\"0000\")","v":"4480025021104130003"},4480025021,null,1,413,3,"413-3","사",2595,null,null,null,"홍성군","국",null,null,null,null,null,null,null,null,null,null,2871035021,"강화군","양도면","하일리"]
[{"$f":"LEFT($B$1203,10)&TEXT($D$1203,\"0\")&TEXT($E$1203,\"0000\")&TEXT($F$1203,\"0000\")","v":"4480025021104130014"},4480025021,null,1,413,14,"413-14","대",66,null,null,null,"홍성군","국",null,null,null,null,null,null,null,null,null,null,2871035022,"강화군","양도면","능내리"]
[{"$f":"LEFT($B$1204,10)&TEXT($D$1204,\"0\")&TEXT($E$1204,\"0000\")&TEXT($F$1204,\"0000\")","v":"4480025021104130016"},4480025021,null,1,413,16,"413-16","대",56,null,null,null,"국(재무부)","국",null,null,null,null,null,null,null,null,null,null,2871035023,"강화군","양도면","건평리"]
[{"$f":"LEFT($B$1205,10)&TEXT($D$1205,\"0\")&TEXT($E$1205,\"0000\")&TEXT($F$1205,\"0000\")","v":"4480025021104140000"},4480025021,null,1,414,0,414,"대",545,null,null,null,"충청남도홍성군홍성읍조양로36번길16-13","임영한",null,null,null,null,null,null,null,null,null,null,2871035024,"강화군","양도면","인산리"]
[{"$f":"LEFT($B$1206,10)&TEXT($D$1206,\"0\")&TEXT($E$1206,\"0000\")&TEXT($F$1206,\"0000\")","v":"4480025021104150001"},4480025021,null,1,415,1,"415-1","대",140,null,null,null,"은하면금국리640","이재창",null,null,null,null,null,null,null,null,null,null,2871035025,"강화군","양도면","삼흥리"]
[{"$f":"LEFT($B$1207,10)&TEXT($D$1207,\"0\")&TEXT($E$1207,\"0000\")&TEXT($F$1207,\"0000\")","v":"4480025021104160001"},4480025021,null,1,416,1,"416-1","대",410,null,null,null,"서울시서초구우면동70코오롱아파트105-407","김경만",null,null,null,null,null,null,null,null,null,null,2871035026,"강화군","양도면","길정리"]
[{"$f":"LEFT($B$1208,10)&TEXT($D$1208,\"0\")&TEXT($E$1208,\"0000\")&TEXT($F$1208,\"0000\")","v":"4480025021104170001"},4480025021,null,1,417,1,"417-1","대",681,null,null,null,"홍성군홍성읍오관리417-1","장현순",null,null,null,null,null,null,null,null,null,null,2871035027,"강화군","양도면","도장리"]
[{"$f":"LEFT($B$1209,10)&TEXT($D$1209,\"0\")&TEXT($E$1209,\"0000\")&TEXT($F$1209,\"0000\")","v":"4480025021104170002"},4480025021,null,1,417,2,"417-2","대",376,null,null,null,"오관리417","전계명",null,null,null,null,null,null,null,null,null,null,2871035028,"강화군","양도면","조산리"]
[{"$f":"LEFT($B$1210,10)&TEXT($D$1210,\"0\")&TEXT($E$1210,\"0000\")&TEXT($F$1210,\"0000\")","v":"4480025021104170003"},4480025021,null,1,417,3,"417-3","도",23,null,null,null,"대전시중구용문동262-38","가만석",null,null,null,null,null,null,null,null,null,null,2871036000,"강화군","내가면"]
[{"$f":"LEFT($B$1211,10)&TEXT($D$1211,\"0\")&TEXT($E$1211,\"0000\")&TEXT($F$1211,\"0000\")","v":"4480025021104170004"},4480025021,null,1,417,4,"417-4","대",231,null,null,null,"대전시중구용문동262-38","가만석",null,null,null,null,null,null,null,null,null,null,2871036021,"강화군","내가면","고천리"]
[{"$f":"LEFT($B$1212,10)&TEXT($D$1212,\"0\")&TEXT($E$1212,\"0000\")&TEXT($F$1212,\"0000\")","v":"4480025021104170008"},4480025021,null,1,417,8,"417-8","도",1036,null,null,null,"홍성군","국",null,null,null,null,null,null,null,null,null,null,2871036022,"강화군","내가면","오상리"]
[{"$f":"LEFT($B$1213,10)&TEXT($D$1213,\"0\")&TEXT($E$1213,\"0000\")&TEXT($F$1213,\"0000\")","v":"4480025021104170011"},4480025021,null,1,417,11,"417-11","도",40,null,null,null,"충청남도홍성군홍성읍조양로103번길67-13","전계명",null,null,null,null,null,null,null,null,null,null,2871036023,"강화군","내가면","외포리"]
[{"$f":"LEFT($B$1214,10)&TEXT($D$1214,\"0\")&TEXT($E$1214,\"0000\")&TEXT($F$1214,\"0000\")","v":"4480025021104180000"},4480025021,null,1,418,0,418,"대",220,null,null,null,"홍성군홍성읍오관리417","전계명",null,null,null,null,null,null,null,null,null,null,2871036024,"강화군","내가면","황청리"]
[{"$f":"LEFT($B$1215,10)&TEXT($D$1215,\"0\")&TEXT($E$1215,\"0000\")&TEXT($F$1215,\"0000\")","v":"4480025021104180001"},4480025021,null,1,418,1,"418-1","대",5,null,null,null,"홍성군","국",null,null,null,null,null,null,null,null,null,null,2871036025,"강화군","내가면","구하리"]
[{"$f":"LEFT($B$1216,10)&TEXT($D$1216,\"0\")&TEXT($E$1216,\"0000\")&TEXT($F$1216,\"0000\")","v":"4480025021104190001"},4480025021,null,1,419,1,"419-1","대",298,null,null,null,"오관리4구419-1","이송연",null,null,null,null,null,null,null,null,null,null,2871037000,"강화군","하점면"]
[{"$f":"LEFT($B$1217,10)&TEXT($D$1217,\"0\")&TEXT($E$1217,\"0000\")&TEXT($F$1217,\"0000\")","v":"4480025021104190003"},4480025021,null,1,419,3,"419-3","대",479,null,null,null,"419-3","김순기",null,null,null,null,null,null,null,null,null,null,2871037021,"강화군","하점면","신봉리"]
[{"$f":"LEFT($B$1218,10)&TEXT($D$1218,\"0\")&TEXT($E$1218,\"0000\")&TEXT($F$1218,\"0000\")","v":"4480025021104190011"},4480025021,null,1,419,11,"419-11","대",22,null,null,null,"홍성군","국",null,null,null,null,null,null,null,null,null,null,2871037022,"강화군","하점면","장정리"]
[{"$f":"LEFT($B$1219,10)&TEXT($D$1219,\"0\")&TEXT($E$1219,\"0000\")&TEXT($F$1219,\"0000\")","v":"4480025021104200001"},4480025021,null,1,420,1,"420-1","대",702,null,null,null,"420-1","정윤희",null,null,null,null,null,null,null,null,null,null,2871037023,"강화군","하점면","부근리"]
[{"$f":"LEFT($B$1220,10)&TEXT($D$1220,\"0\")&TEXT($E$1220,\"0000\")&TEXT($F$1220,\"0000\")","v":"4480025021104210000"},4480025021,null,1,421,0,421,"대",837,null,null,null,421,"김춘성",null,null,null,null,null,null,null,null,null,null,2871037024,"강화군","하점면","삼거리"]
[{"$f":"LEFT($B$1221,10)&TEXT($D$1221,\"0\")&TEXT($E$1221,\"0000\")&TEXT($F$1221,\"0000\")","v":"4480025021104220001"},4480025021,null,1,422,1,"422-1","대",415,null,null,null,"홍성군","국",null,null,null,null,null,null,null,null,null,null,2871037025,"강화군","하점면","신삼리"]
[{"$f":"LEFT($B$1222,10)&TEXT($D$1222,\"0\")&TEXT($E$1222,\"0000\")&TEXT($F$1222,\"0000\")","v":"4480025021104220002"},4480025021,null,1,422,2,"422-2","도",17,null,null,null,"오관리422","황선광",null,null,null,null,null,null,null,null,null,null,2871037026,"강화군","하점면","망월리"]
[{"$f":"LEFT($B$1223,10)&TEXT($D$1223,\"0\")&TEXT($E$1223,\"0000\")&TEXT($F$1223,\"0000\")","v":"4480025021104220003"},4480025021,null,1,422,3,"422-3","도",10,null,null,null,"홍성군","국",null,null,null,null,null,null,null,null,null,null,2871037027,"강화군","하점면","창후리"]
[{"$f":"LEFT($B$1224,10)&TEXT($D$1224,\"0\")&TEXT($E$1224,\"0000\")&TEXT($F$1224,\"0000\")","v":"4480025021104220004"},4480025021,null,1,422,4,"422-4","도",10,null,null,null,"충청남도홍성군홍성읍문화로72번길41102동701호(대우아파트)","황현숙",null,null,null,null,null,null,null,null,null,null,2871037028,"강화군","하점면","이강리"]
[{"$f":"LEFT($B$1225,10)&TEXT($D$1225,\"0\")&TEXT($E$1225,\"0000\")&TEXT($F$1225,\"0000\")","v":"4480025021104220007"},4480025021,null,1,422,7,"422-7","대",585,null,null,null,null,null,null,null,null,null,null,null,null,null,null,null,2871038000,"강화군","양사면"]
[{"$f":"LEFT($B$1226,10)&TEXT($D$1226,\"0\")&TEXT($E$1226,\"0000\")&TEXT($F$1226,\"0000\")","v":"4480025021104220009"},4480025021,null,1,422,9,"422-9","대",214,null,null,null,422,"황현숙",null,null,null,null,null,null,null,null,null,null,2871038021,"강화군","양사면","철산리"]
[{"$f":"LEFT($B$1227,10)&TEXT($D$1227,\"0\")&TEXT($E$1227,\"0000\")&TEXT($F$1227,\"0000\")","v":"4480025021104220010"},4480025021,null,1,422,10,"422-10","대",273,null,null,null,"홍성군","국",null,null,null,null,null,null,null,null,null,null,2871038022,"강화군","양사면","덕하리"]
[{"$f":"LEFT($B$1228,10)&TEXT($D$1228,\"0\")&TEXT($E$1228,\"0000\")&TEXT($F$1228,\"0000\")","v":"4480025021104240001"},4480025021,null,1,424,1,"424-1","전",99,null,null,null,"436-9","김성호",null,null,null,null,null,null,null,null,null,null,2871038023,"강화군","양사면","북성리"]
[{"$f":"LEFT($B$1229,10)&TEXT($D$1229,\"0\")&TEXT($E$1229,\"0000\")&TEXT($F$1229,\"0000\")","v":"4480025021104240002"},4480025021,null,1,424,2,"424-2","도",23,null,null,null,"333-8","이윤영",null,null,null,null,null,null,null,null,null,null,2871038024,"강화군","양사면","교산리"]
[{"$f":"LEFT($B$1230,10)&TEXT($D$1230,\"0\")&TEXT($E$1230,\"0000\")&TEXT($F$1230,\"0000\")","v":"4480025021104250002"},4480025021,null,1,425,2,"425-2","대",91,null,null,null,"425-6","박순자",null,null,null,null,null,null,null,null,null,null,2871038025,"강화군","양사면","인화리"]
[{"$f":"LEFT($B$1231,10)&TEXT($D$1231,\"0\")&TEXT($E$1231,\"0000\")&TEXT($F$1231,\"0000\")","v":"4480025021104250006"},4480025021,null,1,425,6,"425-6","대",100,null,null,null,"425-6","박순자",null,null,null,null,null,null,null,null,null,null,2871039000,"강화군","송해면"]
[{"$f":"LEFT($B$1232,10)&TEXT($D$1232,\"0\")&TEXT($E$1232,\"0000\")&TEXT($F$1232,\"0000\")","v":"4480025021104250007"},4480025021,null,1,425,7,"425-7","대",91,null,null,null,"홍성군","국",null,null,null,null,null,null,null,null,null,null,2871039021,"강화군","송해면","솔정리"]
[{"$f":"LEFT($B$1233,10)&TEXT($D$1233,\"0\")&TEXT($E$1233,\"0000\")&TEXT($F$1233,\"0000\")","v":"4480025021104260001"},4480025021,null,1,426,1,"426-1","대",185,null,null,null,"오관리426","이익로",null,null,null,null,null,null,null,null,null,null,2871039022,"강화군","송해면","신당리"]
[{"$f":"LEFT($B$1234,10)&TEXT($D$1234,\"0\")&TEXT($E$1234,\"0000\")&TEXT($F$1234,\"0000\")","v":"4480025021104270001"},4480025021,null,1,427,1,"427-1","대",479,null,null,null,"홍성군","국",null,null,null,null,null,null,null,null,null,null,2871039023,"강화군","송해면","숭뢰리"]
[{"$f":"LEFT($B$1235,10)&TEXT($D$1235,\"0\")&TEXT($E$1235,\"0000\")&TEXT($F$1235,\"0000\")","v":"4480025021104270002"},4480025021,null,1,427,2,"427-2","도",7,null,null,null,"홍성군","국",null,null,null,null,null,null,null,null,null,null,2871039024,"강화군","송해면","당산리"]
[{"$f":"LEFT($B$1236,10)&TEXT($D$1236,\"0\")&TEXT($E$1236,\"0000\")&TEXT($F$1236,\"0000\")","v":"4480025021104280001"},4480025021,null,1,428,1,"428-1","대",195,null,null,null,"홍성군","국",null,null,null,null,null,null,null,null,null,null,2871039025,"강화군","송해면","상도리"]
[{"$f":"LEFT($B$1237,10)&TEXT($D$1237,\"0\")&TEXT($E$1237,\"0000\")&TEXT($F$1237,\"0000\")","v":"4480025021104280002"},4480025021,null,1,428,2,"428-2","대",175,null,null,null,"홍성군","국",null,null,null,null,null,null,null,null,null,null,2871039026,"강화군","송해면","하도리"]
[{"$f":"LEFT($B$1238,10)&TEXT($D$1238,\"0\")&TEXT($E$1238,\"0000\")&TEXT($F$1238,\"0000\")","v":"4480025021104290000"},4480025021,null,1,429,0,429,"사",344,null,null,null,"홍성군","국",null,null,null,null,null,null,null,null,null,null,2871039027,"강화군","송해면","양오리"]
[{"$f":"LEFT($B$1239,10)&TEXT($D$1239,\"0\")&TEXT($E$1239,\"0000\")&TEXT($F$1239,\"0000\")","v":"4480025021104300003"},4480025021,null,1,430,3,"430-3","도",7,null,null,null,"홍동면수란리496","조병창",null,null,null,null,null,null,null,null,null,null,2871040000,"강화군","교동면"]
[{"$f":"LEFT($B$1240,10)&TEXT($D$1240,\"0\")&TEXT($E$1240,\"0000\")&TEXT($F$1240,\"0000\")","v":"4480025021104310001"},4480025021,null,1,431,1,"431-1","대",294,null,null,null,"홍성군","국",null,null,null,null,null,null,null,null,null,null,2871040021,"강화군","교동면","대룡리"]
[{"$f":"LEFT($B$1241,10)&TEXT($D$1241,\"0\")&TEXT($E$1241,\"0000\")&TEXT($F$1241,\"0000\")","v":"4480025021104320002"},4480025021,null,1,432,2,"432-2","대",519,null,null,null,"홍성군","국",null,null,null,null,null,null,null,null,null,null,2871040022,"강화군","교동면","읍내리"]
[{"$f":"LEFT($B$1242,10)&TEXT($D$1242,\"0\")&TEXT($E$1242,\"0000\")&TEXT($F$1242,\"0000\")","v":"4480025021104350001"},4480025021,null,1,435,1,"435-1","대",362,null,null,null,"홍성군","국",null,null,null,null,null,null,null,null,null,null,2871040023,"강화군","교동면","상용리"]
[{"$f":"LEFT($B$1243,10)&TEXT($D$1243,\"0\")&TEXT($E$1243,\"0000\")&TEXT($F$1243,\"0000\")","v":"4480025021104350002"},4480025021,null,1,435,2,"435-2","도",159,null,null,null,"국(국세청)","국",null,null,null,null,null,null,null,null,null,null,2871040024,"강화군","교동면","봉소리"]
[{"$f":"LEFT($B$1244,10)&TEXT($D$1244,\"0\")&TEXT($E$1244,\"0000\")&TEXT($F$1244,\"0000\")","v":"4480025021104350006"},4480025021,null,1,435,6,"435-6","도",165,null,null,null,"국(건설부)","국",null,null,null,null,null,null,null,null,null,null,2871040025,"강화군","교동면","고구리"]
[{"$f":"LEFT($B$1245,10)&TEXT($D$1245,\"0\")&TEXT($E$1245,\"0000\")&TEXT($F$1245,\"0000\")","v":"4480025021104350008"},4480025021,null,1,435,8,"435-8","대",671,null,null,null,"435-8","홍성축산업협동조합",null,null,null,null,null,null,null,null,null,null,2871040026,"강화군","교동면","삼선리"]
[{"$f":"LEFT($B$1246,10)&TEXT($D$1246,\"0\")&TEXT($E$1246,\"0000\")&TEXT($F$1246,\"0000\")","v":"4480025021104350009"},4480025021,null,1,435,9,"435-9","대",411,null,null,null,"충청남도홍성군홍성읍의사로43번길21","홍성순",null,null,null,null,null,null,null,null,null,null,2871040027,"강화군","교동면","인사리"]
[{"$f":"LEFT($B$1247,10)&TEXT($D$1247,\"0\")&TEXT($E$1247,\"0000\")&TEXT($F$1247,\"0000\")","v":"4480025021104350010"},4480025021,null,1,435,10,"435-10","대",343,null,null,null,"충청남도홍성군홍북면신대로33102동101호(극동스타클래스센트럴)","손금순",null,null,null,null,null,null,null,null,null,null,2871040028,"강화군","교동면","난정리"]
[{"$f":"LEFT($B$1248,10)&TEXT($D$1248,\"0\")&TEXT($E$1248,\"0000\")&TEXT($F$1248,\"0000\")","v":"4480025021104350015"},4480025021,null,1,435,15,"435-15","도",534,null,null,null,"홍성군","국",null,null,null,null,null,null,null,null,null,null,2871040029,"강화군","교동면","양갑리"]
[{"$f":"LEFT($B$1249,10)&TEXT($D$1249,\"0\")&TEXT($E$1249,\"0000\")&TEXT($F$1249,\"0000\")","v":"4480025021104360002"},4480025021,null,1,436,2,"436-2","제",198,null,null,null,"국(국세청)","국",null,null,null,null,null,null,null,null,null,null,2871040030,"강화군","교동면","동산리"]
[{"$f":"LEFT($B$1250,10)&TEXT($D$1250,\"0\")&TEXT($E$1250,\"0000\")&TEXT($F$1250,\"0000\")","v":"4480025021104360003"},4480025021,null,1,436,3,"436-3","천",10,null,null,null,"국(건설교통부)","국",null,null,null,null,null,null,null,null,null,null,2871040031,"강화군","교동면","서한리"]
[{"$f":"LEFT($B$1251,10)&TEXT($D$1251,\"0\")&TEXT($E$1251,\"0000\")&TEXT($F$1251,\"0000\")","v":"4480025021104360004"},4480025021,null,1,436,4,"436-4","도",83,null,null,null,"국(건설부)","국",null,null,null,null,null,null,null,null,null,null,2871040032,"강화군","교동면","무학리"]
[{"$f":"LEFT($B$1252,10)&TEXT($D$1252,\"0\")&TEXT($E$1252,\"0000\")&TEXT($F$1252,\"0000\")","v":"4480025021104360005"},4480025021,null,1,436,5,"436-5","대",268,null,null,null,"436-5","이수옥",null,null,null,null,null,null,null,null,null,null,2871040033,"강화군","교동면","지석리"]
[{"$f":"LEFT($B$1253,10)&TEXT($D$1253,\"0\")&TEXT($E$1253,\"0000\")&TEXT($F$1253,\"0000\")","v":"4480025021104360006"},4480025021,null,1,436,6,"436-6","대",301,null,null,null,"충청남도홍성군홍성읍조양로10번길122","김영자",null,null,null,null,null,null,null,null,null,null,2871041000,"강화군","삼산면"]
[{"$f":"LEFT($B$1254,10)&TEXT($D$1254,\"0\")&TEXT($E$1254,\"0000\")&TEXT($F$1254,\"0000\")","v":"4480025021104360009"},4480025021,null,1,436,9,"436-9","대",446,null,null,null,"충청남도홍성군홍성읍아문길60","한문재",null,null,null,null,null,null,null,null,null,null,2871041021,"강화군","삼산면","석모리"]
[{"$f":"LEFT($B$1255,10)&TEXT($D$1255,\"0\")&TEXT($E$1255,\"0000\")&TEXT($F$1255,\"0000\")","v":"4480025021104360011"},4480025021,null,1,436,11,"436-11","도",63,null,null,null,"홍성군","국",null,null,null,null,null,null,null,null,null,null,2871041022,"강화군","삼산면","상리"]
[{"$f":"LEFT($B$1256,10)&TEXT($D$1256,\"0\")&TEXT($E$1256,\"0000\")&TEXT($F$1256,\"0000\")","v":"4480025021104360012"},4480025021,null,1,436,12,"436-12","도",46,null,null,null,"충청남도홍성군홍성읍조양로10번길122","김영자",null,null,null,null,null,null,null,null,null,null,2871041023,"강화군","삼산면","하리"]
[{"$f":"LEFT($B$1257,10)&TEXT($D$1257,\"0\")&TEXT($E$1257,\"0000\")&TEXT($F$1257,\"0000\")","v":"4480025021104360015"},4480025021,null,1,436,15,"436-15","도",50,null,null,null,"국(건설부)","국",null,null,null,null,null,null,null,null,null,null,2871041024,"강화군","삼산면","석포리"]
[{"$f":"LEFT($B$1258,10)&TEXT($D$1258,\"0\")&TEXT($E$1258,\"0000\")&TEXT($F$1258,\"0000\")","v":"4480025021104370001"},4480025021,null,1,437,1,"437-1","도",89,null,null,null,"홍성군","국",null,null,null,null,null,null,null,null,null,null,2871041025,"강화군","삼산면","매음리"]
[{"$f":"LEFT($B$1259,10)&TEXT($D$1259,\"0\")&TEXT($E$1259,\"0000\")&TEXT($F$1259,\"0000\")","v":"4480025021104370002"},4480025021,null,1,437,2,"437-2","제",506,null,null,null,"국(국세청)","국",null,null,null,null,null,null,null,null,null,null,2871041026,"강화군","삼산면","서검리"]
[{"$f":"LEFT($B$1260,10)&TEXT($D$1260,\"0\")&TEXT($E$1260,\"0000\")&TEXT($F$1260,\"0000\")","v":"4480025021104370004"},4480025021,null,1,437,4,"437-4","도",96,null,null,null,"국(건설부)","국",null,null,null,null,null,null,null,null,null,null,2871041027,"강화군","삼산면","미법리"]
[{"$f":"LEFT($B$1261,10)&TEXT($D$1261,\"0\")&TEXT($E$1261,\"0000\")&TEXT($F$1261,\"0000\")","v":"4480025021104370005"},4480025021,null,1,437,5,"437-5","도",159,null,null,null,"국(건설부)","국",null,null,null,null,null,null,null,null,null,null,2871042000,"강화군","서도면"]
[{"$f":"LEFT($B$1262,10)&TEXT($D$1262,\"0\")&TEXT($E$1262,\"0000\")&TEXT($F$1262,\"0000\")","v":"4480025021104370006"},4480025021,null,1,437,6,"437-6","대",1759,null,null,null,"217-2","이완숙",null,null,null,null,null,null,null,null,null,null,2871042021,"강화군","서도면","주문도리"]
[{"$f":"LEFT($B$1263,10)&TEXT($D$1263,\"0\")&TEXT($E$1263,\"0000\")&TEXT($F$1263,\"0000\")","v":"4480025021104370008"},4480025021,null,1,437,8,"437-8","도",112,null,null,null,"국(건설부)","국",null,null,null,null,null,null,null,null,null,null,2871042022,"강화군","서도면","아차도리"]
[{"$f":"LEFT($B$1264,10)&TEXT($D$1264,\"0\")&TEXT($E$1264,\"0000\")&TEXT($F$1264,\"0000\")","v":"4480025021104370009"},4480025021,null,1,437,9,"437-9","도",69,null,null,null,"국(건설부)","국",null,null,null,null,null,null,null,null,null,null,2871042023,"강화군","서도면","말도리"]
[{"$f":"LEFT($B$1265,10)&TEXT($D$1265,\"0\")&TEXT($E$1265,\"0000\")&TEXT($F$1265,\"0000\")","v":"4480025021104370011"},4480025021,null,1,437,11,"437-11","대",562,null,null,null,"충청남도홍성군광천읍신진리258-7","이영준",null,null,null,null,null,null,null,null,null,null,2871042024,"강화군","서도면","볼음도리"]
[{"$f":"LEFT($B$1266,10)&TEXT($D$1266,\"0\")&TEXT($E$1266,\"0000\")&TEXT($F$1266,\"0000\")","v":"4480025021104370012"},4480025021,null,1,437,12,"437-12","답",77,null,null,null,"충청남도홍성군홍성읍오관리450","장화숙",null,null,null,null,null,null,null,null,null,null,2872031000,"옹진군","북도면"]
[{"$f":"LEFT($B$1267,10)&TEXT($D$1267,\"0\")&TEXT($E$1267,\"0000\")&TEXT($F$1267,\"0000\")","v":"4480025021104370014"},4480025021,null,1,437,14,"437-14","답",142,null,null,null,"217-2","이완숙",null,null,null,null,null,null,null,null,null,null,2872031021,"옹진군","북도면","시도리"]
[{"$f":"LEFT($B$1268,10)&TEXT($D$1268,\"0\")&TEXT($E$1268,\"0000\")&TEXT($F$1268,\"0000\")","v":"4480025021104380002"},4480025021,null,1,438,2,"438-2","제",225,null,null,null,"국(국세청)","국",null,null,null,null,null,null,null,null,null,null,2872031022,"옹진군","북도면","신도리"]
[{"$f":"LEFT($B$1269,10)&TEXT($D$1269,\"0\")&TEXT($E$1269,\"0000\")&TEXT($F$1269,\"0000\")","v":"4480025021104380003"},4480025021,null,1,438,3,"438-3","도",155,null,null,null,"국(건설부)","국",null,null,null,null,null,null,null,null,null,null,2872031023,"옹진군","북도면","모도리"]
[{"$f":"LEFT($B$1270,10)&TEXT($D$1270,\"0\")&TEXT($E$1270,\"0000\")&TEXT($F$1270,\"0000\")","v":"4480025021104380004"},4480025021,null,1,438,4,"438-4","도",46,null,null,null,425,"한우동",null,null,null,null,null,null,null,null,null,null,2872031024,"옹진군","북도면","장봉리"]
[{"$f":"LEFT($B$1271,10)&TEXT($D$1271,\"0\")&TEXT($E$1271,\"0000\")&TEXT($F$1271,\"0000\")","v":"4480025021104380005"},4480025021,null,1,438,5,"438-5","도",13,null,null,null,425,"한우동",null,null,null,null,null,null,null,null,null,null,2872033000,"옹진군","백령면"]
[{"$f":"LEFT($B$1272,10)&TEXT($D$1272,\"0\")&TEXT($E$1272,\"0000\")&TEXT($F$1272,\"0000\")","v":"4480025021104380007"},4480025021,null,1,438,7,"438-7","답",538,null,null,null,450,"박종덕",null,null,null,null,null,null,null,null,null,null,2872033021,"옹진군","백령면","진촌리"]
[{"$f":"LEFT($B$1273,10)&TEXT($D$1273,\"0\")&TEXT($E$1273,\"0000\")&TEXT($F$1273,\"0000\")","v":"4480025021104390001"},4480025021,null,1,439,1,"439-1","대",69,null,null,null,"충청남도홍성군홍성읍조양로10번길92","주식회사미경사",null,null,null,null,null,null,null,null,null,null,2872033022,"옹진군","백령면","북포리"]
[{"$f":"LEFT($B$1274,10)&TEXT($D$1274,\"0\")&TEXT($E$1274,\"0000\")&TEXT($F$1274,\"0000\")","v":"4480025021104390002"},4480025021,null,1,439,2,"439-2","도",7,null,null,null,450,"박종덕",null,null,null,null,null,null,null,null,null,null,2872033023,"옹진군","백령면","가을리"]
[{"$f":"LEFT($B$1275,10)&TEXT($D$1275,\"0\")&TEXT($E$1275,\"0000\")&TEXT($F$1275,\"0000\")","v":"4480025021104400002"},4480025021,null,1,440,2,"440-2","도",50,null,null,null,"홍성군홍성읍옥암리49-1","양성용",null,null,null,null,null,null,null,null,null,null,2872033024,"옹진군","백령면","연화리"]
[{"$f":"LEFT($B$1276,10)&TEXT($D$1276,\"0\")&TEXT($E$1276,\"0000\")&TEXT($F$1276,\"0000\")","v":"4480025021104400003"},4480025021,null,1,440,3,"440-3","대",48,null,null,null,"충청남도홍성군홍성읍조양로10번길92","주식회사미경사",null,null,null,null,null,null,null,null,null,null,2872033025,"옹진군","백령면","남포리"]
[{"$f":"LEFT($B$1277,10)&TEXT($D$1277,\"0\")&TEXT($E$1277,\"0000\")&TEXT($F$1277,\"0000\")","v":"4480025021104400004"},4480025021,null,1,440,4,"440-4","대",67,null,null,null,"충청남도홍성군홍성읍조양로10번길92","주식회사미경사",null,null,null,null,null,null,null,null,null,null,2872034000,"옹진군","대청면"]
[{"$f":"LEFT($B$1278,10)&TEXT($D$1278,\"0\")&TEXT($E$1278,\"0000\")&TEXT($F$1278,\"0000\")","v":"4480025021104400005"},4480025021,null,1,440,5,"440-5","대",222,null,null,null,"충청남도홍성군홍성읍조양로10번길88","조경자",null,null,null,null,null,null,null,null,null,null,2872034021,"옹진군","대청면","대청리"]
[{"$f":"LEFT($B$1279,10)&TEXT($D$1279,\"0\")&TEXT($E$1279,\"0000\")&TEXT($F$1279,\"0000\")","v":"4480025021104410002"},4480025021,null,1,441,2,"441-2","제",565,null,null,null,"국(국세청)","국",null,null,null,null,null,null,null,null,null,null,2872034022,"옹진군","대청면","소청리"]
[{"$f":"LEFT($B$1280,10)&TEXT($D$1280,\"0\")&TEXT($E$1280,\"0000\")&TEXT($F$1280,\"0000\")","v":"4480025021104410003"},4480025021,null,1,441,3,"441-3","천",33,null,null,null,"국(국세청)","국",null,null,null,null,null,null,null,null,null,null,2872035000,"옹진군","덕적면"]
[{"$f":"LEFT($B$1281,10)&TEXT($D$1281,\"0\")&TEXT($E$1281,\"0000\")&TEXT($F$1281,\"0000\")","v":"4480025021104410004"},4480025021,null,1,441,4,"441-4","도",241,null,null,null,"국(국토해양부)","국",null,null,null,null,null,null,null,null,null,null,2872035021,"옹진군","덕적면","북리"]
[{"$f":"LEFT($B$1282,10)&TEXT($D$1282,\"0\")&TEXT($E$1282,\"0000\")&TEXT($F$1282,\"0000\")","v":"4480025021104410006"},4480025021,null,1,441,6,"441-6","대",116,null,null,null,null,null,null,null,null,null,null,null,null,null,null,null,2872035022,"옹진군","덕적면","진리"]
[{"$f":"LEFT($B$1283,10)&TEXT($D$1283,\"0\")&TEXT($E$1283,\"0000\")&TEXT($F$1283,\"0000\")","v":"4480025021104410007"},4480025021,null,1,441,7,"441-7","도",829,null,null,null,"홍성군","국",null,null,null,null,null,null,null,null,null,null,2872035023,"옹진군","덕적면","서포리"]
[{"$f":"LEFT($B$1284,10)&TEXT($D$1284,\"0\")&TEXT($E$1284,\"0000\")&TEXT($F$1284,\"0000\")","v":"4480025021104410009"},4480025021,null,1,441,9,"441-9","답",156,null,null,null,"422-1","황원순",null,null,null,null,null,null,null,null,null,null,2872035024,"옹진군","덕적면","소야리"]
[{"$f":"LEFT($B$1285,10)&TEXT($D$1285,\"0\")&TEXT($E$1285,\"0000\")&TEXT($F$1285,\"0000\")","v":"4480025021104410012"},4480025021,null,1,441,12,"441-12","답",61,null,null,null,"홍성군","국",null,null,null,null,null,null,null,null,null,null,2872035025,"옹진군","덕적면","울도리"]
[{"$f":"LEFT($B$1286,10)&TEXT($D$1286,\"0\")&TEXT($E$1286,\"0000\")&TEXT($F$1286,\"0000\")","v":"4480025021104420000"},4480025021,null,1,442,0,442,"대",1701,null,null,null,null,null,null,null,null,null,null,null,null,null,null,null,2872035026,"옹진군","덕적면","백아리"]
[{"$f":"LEFT($B$1287,10)&TEXT($D$1287,\"0\")&TEXT($E$1287,\"0000\")&TEXT($F$1287,\"0000\")","v":"4480025021104430002"},4480025021,null,1,443,2,"443-2","대",155,null,null,null,"소향리211","정순월",null,null,null,null,null,null,null,null,null,null,2872035027,"옹진군","덕적면","문갑리"]
[{"$f":"LEFT($B$1288,10)&TEXT($D$1288,\"0\")&TEXT($E$1288,\"0000\")&TEXT($F$1288,\"0000\")","v":"4480025021104430004"},4480025021,null,1,443,4,"443-4","도",162,null,null,null,419,"박종예",null,null,null,null,null,null,null,null,null,null,2872035028,"옹진군","덕적면","굴업리"]
[{"$f":"LEFT($B$1289,10)&TEXT($D$1289,\"0\")&TEXT($E$1289,\"0000\")&TEXT($F$1289,\"0000\")","v":"4480025021104430006"},4480025021,null,1,443,6,"443-6","대",169,null,null,null,"443-6","이문화",null,null,null,null,null,null,null,null,null,null,2872036000,"옹진군","영흥면"]
[{"$f":"LEFT($B$1290,10)&TEXT($D$1290,\"0\")&TEXT($E$1290,\"0000\")&TEXT($F$1290,\"0000\")","v":"4480025021104430007"},4480025021,null,1,443,7,"443-7","대",251,null,null,null,"충청남도홍성군홍성읍조양로10번길66","남계선",null,null,null,null,null,null,null,null,null,null,2872036021,"옹진군","영흥면","외리"]
[{"$f":"LEFT($B$1291,10)&TEXT($D$1291,\"0\")&TEXT($E$1291,\"0000\")&TEXT($F$1291,\"0000\")","v":"4480025021104430009"},4480025021,null,1,443,9,"443-9","대",159,null,null,null,"443-10","강용규",null,null,null,null,null,null,null,null,null,null,2872036022,"옹진군","영흥면","내리"]
[{"$f":"LEFT($B$1292,10)&TEXT($D$1292,\"0\")&TEXT($E$1292,\"0000\")&TEXT($F$1292,\"0000\")","v":"4480025021104430010"},4480025021,null,1,443,10,"443-10","대",195,null,null,null,"443-10","강영빈",null,null,null,null,null,null,null,null,null,null,2872036023,"옹진군","영흥면","선재리"]
[{"$f":"LEFT($B$1293,10)&TEXT($D$1293,\"0\")&TEXT($E$1293,\"0000\")&TEXT($F$1293,\"0000\")","v":"4480025021104430015"},4480025021,null,1,443,15,"443-15","도",10,null,null,null,419,"박종예",null,null,null,null,null,null,null,null,null,null,2872037000,"옹진군","자월면"]
[{"$f":"LEFT($B$1294,10)&TEXT($D$1294,\"0\")&TEXT($E$1294,\"0000\")&TEXT($F$1294,\"0000\")","v":"4480025021104440001"},4480025021,null,1,444,1,"444-1","답",82,null,null,null,"홍성군","국",null,null,null,null,null,null,null,null,null,null,2872037021,"옹진군","자월면","자월리"]
[{"$f":"LEFT($B$1295,10)&TEXT($D$1295,\"0\")&TEXT($E$1295,\"0000\")&TEXT($F$1295,\"0000\")","v":"4480025021104440002"},4480025021,null,1,444,2,"444-2","도",40,null,null,null,596,"김부월",null,null,null,null,null,null,null,null,null,null,2872037022,"옹진군","자월면","이작리"]
[{"$f":"LEFT($B$1296,10)&TEXT($D$1296,\"0\")&TEXT($E$1296,\"0000\")&TEXT($F$1296,\"0000\")","v":"4480025021104440003"},4480025021,null,1,444,3,"444-3","도",475,null,null,null,"홍성군","국",null,null,null,null,null,null,null,null,null,null,2872037023,"옹진군","자월면","승봉리"]
[{"$f":"LEFT($B$1297,10)&TEXT($D$1297,\"0\")&TEXT($E$1297,\"0000\")&TEXT($F$1297,\"0000\")","v":"4480025021104440005"},4480025021,null,1,444,5,"444-5","대",271,null,null,null,null,null,null,null,null,null,null,null,null,null,null,null,2872038000,"옹진군","연평면"]
[{"$f":"LEFT($B$1298,10)&TEXT($D$1298,\"0\")&TEXT($E$1298,\"0000\")&TEXT($F$1298,\"0000\")","v":"4480025021104440006"},4480025021,null,1,444,6,"444-6","대",343,null,null,null,"충청남도홍성군광천읍광천로363번길3-1","이국자",null,null,null,null,null,null,null,null,null,null,2872038021,"옹진군","연평면","연평리"]
[{"$f":"LEFT($B$1299,10)&TEXT($D$1299,\"0\")&TEXT($E$1299,\"0000\")&TEXT($F$1299,\"0000\")","v":"4480025021104440008"},4480025021,null,1,444,8,"444-8","도",233,null,null,null,"홍성군","국",null,null,null,null,null,null,null,null,null,null,2911010100,"동구","대인동"]
[{"$f":"LEFT($B$1300,10)&TEXT($D$1300,\"0\")&TEXT($E$1300,\"0000\")&TEXT($F$1300,\"0000\")","v":"4480025021104450001"},4480025021,null,1,445,1,"445-1","전",1135,null,null,null,"경상북도경주시황성로60508동1402호(황성동황성현대5차아파트)","전우진",null,null,null,null,null,null,null,null,null,null,2911010200,"동구","금남로5가"]
[{"$f":"LEFT($B$1301,10)&TEXT($D$1301,\"0\")&TEXT($E$1301,\"0000\")&TEXT($F$1301,\"0000\")","v":"4480025021104450004"},4480025021,null,1,445,4,"445-4","천",1226,null,null,null,"국(국세청)","국",null,null,null,null,null,null,null,null,null,null,2911010300,"동구","충장로5가"]
[{"$f":"LEFT($B$1302,10)&TEXT($D$1302,\"0\")&TEXT($E$1302,\"0000\")&TEXT($F$1302,\"0000\")","v":"4480025021104450006"},4480025021,null,1,445,6,"445-6","도",288,null,null,null,"국(건설부)","국",null,null,null,null,null,null,null,null,null,null,2911010400,"동구","수기동"]
[{"$f":"LEFT($B$1303,10)&TEXT($D$1303,\"0\")&TEXT($E$1303,\"0000\")&TEXT($F$1303,\"0000\")","v":"4480025021104450008"},4480025021,null,1,445,8,"445-8","도",159,null,null,null,"국(건설부)","국",null,null,null,null,null,null,null,null,null,null,2911010500,"동구","대의동"]
[{"$f":"LEFT($B$1304,10)&TEXT($D$1304,\"0\")&TEXT($E$1304,\"0000\")&TEXT($F$1304,\"0000\")","v":"4480025021104450012"},4480025021,null,1,445,12,"445-12","답",61,null,null,null,"경상북도경주시황성로60508동1402호(황성동황성현대5차아파트)","전우진",null,null,null,null,null,null,null,null,null,null,2911010600,"동구","궁동"]
[{"$f":"LEFT($B$1305,10)&TEXT($D$1305,\"0\")&TEXT($E$1305,\"0000\")&TEXT($F$1305,\"0000\")","v":"4480025021104450013"},4480025021,null,1,445,13,"445-13","답",143,null,null,null,"경기도안산시단원구초지동661","주식회사지에스이앤알",null,null,null,null,null,null,null,null,null,null,2911010700,"동구","장동"]
[{"$f":"LEFT($B$1306,10)&TEXT($D$1306,\"0\")&TEXT($E$1306,\"0000\")&TEXT($F$1306,\"0000\")","v":"4480025021104450014"},4480025021,null,1,445,14,"445-14","전",594,null,null,null,"경상북도경주시황성로60508동1402호(황성동황성현대5차아파트)","전우진",null,null,null,null,null,null,null,null,null,null,2911010800,"동구","동명동"]
[{"$f":"LEFT($B$1307,10)&TEXT($D$1307,\"0\")&TEXT($E$1307,\"0000\")&TEXT($F$1307,\"0000\")","v":"4480025021104450015"},4480025021,null,1,445,15,"445-15","답",68,null,null,null,"경상북도경주시황성로60508동1402호(황성동황성현대5차아파트)","전우진",null,null,null,null,null,null,null,null,null,null,2911010900,"동구","계림동"]
[{"$f":"LEFT($B$1308,10)&TEXT($D$1308,\"0\")&TEXT($E$1308,\"0000\")&TEXT($F$1308,\"0000\")","v":"4480025021104450016"},4480025021,null,1,445,16,"445-16","전",149,null,null,null,"경상북도경주시황성로60508동1402호(황성동황성현대5차아파트)","전우진",null,null,null,null,null,null,null,null,null,null,2911011000,"동구","산수동"]
[{"$f":"LEFT($B$1309,10)&TEXT($D$1309,\"0\")&TEXT($E$1309,\"0000\")&TEXT($F$1309,\"0000\")","v":"4480025021104460002"},4480025021,null,1,446,2,"446-2","천",1451,null,null,null,"국(국세청)","국",null,null,null,null,null,null,null,null,null,null,2911011100,"동구","지산동"]
[{"$f":"LEFT($B$1310,10)&TEXT($D$1310,\"0\")&TEXT($E$1310,\"0000\")&TEXT($F$1310,\"0000\")","v":"4480025021104470001"},4480025021,null,1,447,1,"447-1","대",364,null,null,null,"경기도용인시수지구성복1로164번길20107동1103호(성복동버들치마을성복자이1차)","정용",null,null,null,null,null,null,null,null,null,null,2911011200,"동구","남동"]
[{"$f":"LEFT($B$1311,10)&TEXT($D$1311,\"0\")&TEXT($E$1311,\"0000\")&TEXT($F$1311,\"0000\")","v":"4480025021104470002"},4480025021,null,1,447,2,"447-2","답",171,null,null,null,"경기도용인시수지구성복1로164번길20107동1103호(성복동버들치마을성복자이1차)","정용",null,null,null,null,null,null,null,null,null,null,2911011300,"동구","광산동"]
[{"$f":"LEFT($B$1312,10)&TEXT($D$1312,\"0\")&TEXT($E$1312,\"0000\")&TEXT($F$1312,\"0000\")","v":"4480025021104470003"},4480025021,null,1,447,3,"447-3","제",40,null,null,null,"국(기획재정부)","국",null,null,null,null,null,null,null,null,null,null,2911011400,"동구","금동"]
[{"$f":"LEFT($B$1313,10)&TEXT($D$1313,\"0\")&TEXT($E$1313,\"0000\")&TEXT($F$1313,\"0000\")","v":"4480025021104470004"},4480025021,null,1,447,4,"447-4","답",650,null,null,null,"충청남도홍성군홍성읍옥암리54-5","유근무",null,null,null,null,null,null,null,null,null,null,2911011500,"동구","호남동"]
[{"$f":"LEFT($B$1314,10)&TEXT($D$1314,\"0\")&TEXT($E$1314,\"0000\")&TEXT($F$1314,\"0000\")","v":"4480025021104470006"},4480025021,null,1,447,6,"447-6","도",33,null,null,null,"국(건설교통부)","국",null,null,null,null,null,null,null,null,null,null,2911011600,"동구","불로동"]
[{"$f":"LEFT($B$1315,10)&TEXT($D$1315,\"0\")&TEXT($E$1315,\"0000\")&TEXT($F$1315,\"0000\")","v":"4480025021104470007"},4480025021,null,1,447,7,"447-7","도",46,null,null,null,"국(건설부)","국",null,null,null,null,null,null,null,null,null,null,2911011700,"동구","황금동"]
[{"$f":"LEFT($B$1316,10)&TEXT($D$1316,\"0\")&TEXT($E$1316,\"0000\")&TEXT($F$1316,\"0000\")","v":"4480025021104470009"},4480025021,null,1,447,9,"447-9","대",1121,null,null,null,"209-1","최행자",null,null,null,null,null,null,null,null,null,null,2911011800,"동구","서석동"]
[{"$f":"LEFT($B$1317,10)&TEXT($D$1317,\"0\")&TEXT($E$1317,\"0000\")&TEXT($F$1317,\"0000\")","v":"4480025021104470011"},4480025021,null,1,447,11,"447-11","답",237,null,null,null,"447-1","하태윤",null,null,null,null,null,null,null,null,null,null,2911011900,"동구","소태동"]
[{"$f":"LEFT($B$1318,10)&TEXT($D$1318,\"0\")&TEXT($E$1318,\"0000\")&TEXT($F$1318,\"0000\")","v":"4480025021104470013"},4480025021,null,1,447,13,"447-13","답",300,null,null,null,"남장리95-51거성아파트비이동304호","김성호",null,null,null,null,null,null,null,null,null,null,2911012000,"동구","용연동"]
[{"$f":"LEFT($B$1319,10)&TEXT($D$1319,\"0\")&TEXT($E$1319,\"0000\")&TEXT($F$1319,\"0000\")","v":"4480025021104470015"},4480025021,null,1,447,15,"447-15","답",161,null,null,null,"서울시용산구동자동18-7","재단법인기독교한국침례회유지재단",null,null,null,null,null,null,null,null,null,null,2911012100,"동구","운림동"]
[{"$f":"LEFT($B$1320,10)&TEXT($D$1320,\"0\")&TEXT($E$1320,\"0000\")&TEXT($F$1320,\"0000\")","v":"4480025021104470016"},4480025021,null,1,447,16,"447-16","도",12,null,null,null,"홍성군","국",null,null,null,null,null,null,null,null,null,null,2911012200,"동구","학동"]
[{"$f":"LEFT($B$1321,10)&TEXT($D$1321,\"0\")&TEXT($E$1321,\"0000\")&TEXT($F$1321,\"0000\")","v":"4480025021104470017"},4480025021,null,1,447,17,"447-17","답",127,null,null,null,"경기도용인시수지구성복1로164번길20107동1103호(성복동버들치마을성복자이1차)","정용",null,null,null,null,null,null,null,null,null,null,2911012300,"동구","월남동"]
[{"$f":"LEFT($B$1322,10)&TEXT($D$1322,\"0\")&TEXT($E$1322,\"0000\")&TEXT($F$1322,\"0000\")","v":"4480025021104480002"},4480025021,null,1,448,2,"448-2","제",13,null,null,null,"국(기획재정부)","국",null,null,null,null,null,null,null,null,null,null,2911012400,"동구","선교동"]
[{"$f":"LEFT($B$1323,10)&TEXT($D$1323,\"0\")&TEXT($E$1323,\"0000\")&TEXT($F$1323,\"0000\")","v":"4480025021104480004"},4480025021,null,1,448,4,"448-4","제",132,null,null,null,"국(기획재정부)","국",null,null,null,null,null,null,null,null,null,null,2911012500,"동구","내남동"]
[{"$f":"LEFT($B$1324,10)&TEXT($D$1324,\"0\")&TEXT($E$1324,\"0000\")&TEXT($F$1324,\"0000\")","v":"4480025021104490002"},4480025021,null,1,449,2,"449-2","전",91,null,null,null,"경기도용인시수지구성복1로164번길20107동1103호(성복동버들치마을성복자이1차)","정용",null,null,null,null,null,null,null,null,null,null,2911012600,"동구","용산동"]
[{"$f":"LEFT($B$1325,10)&TEXT($D$1325,\"0\")&TEXT($E$1325,\"0000\")&TEXT($F$1325,\"0000\")","v":"4480025021104500000"},4480025021,null,1,450,0,450,"대",501,null,null,null,"대전광역시유성구학하로33101동1201호(계산동학의뜰아파트)","장선희",null,null,null,null,null,null,null,null,null,null,2911012700,"동구","충장로1가"]
[{"$f":"LEFT($B$1326,10)&TEXT($D$1326,\"0\")&TEXT($E$1326,\"0000\")&TEXT($F$1326,\"0000\")","v":"4480025021104500001"},4480025021,null,1,450,1,"450-1","대",89,null,null,null,"충청남도홍성군홍성읍충서로1506102동1104호(세광엔리치타워)","권병종",null,null,null,null,null,null,null,null,null,null,2911012800,"동구","충장로2가"]
[{"$f":"LEFT($B$1327,10)&TEXT($D$1327,\"0\")&TEXT($E$1327,\"0000\")&TEXT($F$1327,\"0000\")","v":"4480025021104500002"},4480025021,null,1,450,2,"450-2","대",627,null,null,null,"경기도용인시수지구성복1로164번길20107동1103호(성복동버들치마을성복자이1차)","정용",null,null,null,null,null,null,null,null,null,null,2911012900,"동구","충장로3가"]
[{"$f":"LEFT($B$1328,10)&TEXT($D$1328,\"0\")&TEXT($E$1328,\"0000\")&TEXT($F$1328,\"0000\")","v":"4480025021104500009"},4480025021,null,1,450,9,"450-9","대",331,null,null,null,"48-1","최행웅",null,null,null,null,null,null,null,null,null,null,2911013000,"동구","충장로4가"]
[{"$f":"LEFT($B$1329,10)&TEXT($D$1329,\"0\")&TEXT($E$1329,\"0000\")&TEXT($F$1329,\"0000\")","v":"4480025021104500015"},4480025021,null,1,450,15,"450-15","답",91,null,null,null,"대전광역시유성구지족동992반석마을아파트3단지302-1304","장선희",null,null,null,null,null,null,null,null,null,null,2911013100,"동구","금남로1가"]
[{"$f":"LEFT($B$1330,10)&TEXT($D$1330,\"0\")&TEXT($E$1330,\"0000\")&TEXT($F$1330,\"0000\")","v":"4480025021104500016"},4480025021,null,1,450,16,"450-16","대",426,null,null,null,"충청남도홍성군홍성읍충서로1506102동1104호(세광엔리치타워)","권병종",null,null,null,null,null,null,null,null,null,null,2911013200,"동구","금남로2가"]
[{"$f":"LEFT($B$1331,10)&TEXT($D$1331,\"0\")&TEXT($E$1331,\"0000\")&TEXT($F$1331,\"0000\")","v":"4480025021104510002"},4480025021,null,1,451,2,"451-2","제",514,null,null,null,"국(건설교통부)","국",null,null,null,null,null,null,null,null,null,null,2911013300,"동구","금남로3가"]
[{"$f":"LEFT($B$1332,10)&TEXT($D$1332,\"0\")&TEXT($E$1332,\"0000\")&TEXT($F$1332,\"0000\")","v":"4480025021104510004"},4480025021,null,1,451,4,"451-4","도",175,null,null,null,"홍성군","국",null,null,null,null,null,null,null,null,null,null,2911013400,"동구","금남로4가"]
[{"$f":"LEFT($B$1333,10)&TEXT($D$1333,\"0\")&TEXT($E$1333,\"0000\")&TEXT($F$1333,\"0000\")","v":"4480025021104510007"},4480025021,null,1,451,7,"451-7","제",1099,null,null,null,"국(건설교통부)","국",null,null,null,null,null,null,null,null,null,null,2914010400,"서구","양동"]
[{"$f":"LEFT($B$1334,10)&TEXT($D$1334,\"0\")&TEXT($E$1334,\"0000\")&TEXT($F$1334,\"0000\")","v":"4480025021104520002"},4480025021,null,1,452,2,"452-2","도",13,null,null,null,"국(건설교통부)","국",null,null,null,null,null,null,null,null,null,null,2914010600,"서구","농성동"]
[{"$f":"LEFT($B$1335,10)&TEXT($D$1335,\"0\")&TEXT($E$1335,\"0000\")&TEXT($F$1335,\"0000\")","v":"4480025021104520003"},4480025021,null,1,452,3,"452-3","도",20,null,null,null,"홍성군","국",null,null,null,null,null,null,null,null,null,null,2914011500,"서구","광천동"]
[{"$f":"LEFT($B$1336,10)&TEXT($D$1336,\"0\")&TEXT($E$1336,\"0000\")&TEXT($F$1336,\"0000\")","v":"4480025021104520004"},4480025021,null,1,452,4,"452-4","도",63,null,null,null,"충청남도홍성군홍성읍문화로78","학교법인신암학원",null,null,null,null,null,null,null,null,null,null,2914011600,"서구","유촌동"]
[{"$f":"LEFT($B$1337,10)&TEXT($D$1337,\"0\")&TEXT($E$1337,\"0000\")&TEXT($F$1337,\"0000\")","v":"4480025021104530001"},4480025021,null,1,453,1,"453-1","대",208,null,null,null,"홍성군","국",null,null,null,null,null,null,null,null,null,null,2914011700,"서구","덕흥동"]
[{"$f":"LEFT($B$1338,10)&TEXT($D$1338,\"0\")&TEXT($E$1338,\"0000\")&TEXT($F$1338,\"0000\")","v":"4480025021104530002"},4480025021,null,1,453,2,"453-2","대",1377,null,null,null,"홍성군","국",null,null,null,null,null,null,null,null,null,null,2914011800,"서구","쌍촌동"]
[{"$f":"LEFT($B$1339,10)&TEXT($D$1339,\"0\")&TEXT($E$1339,\"0000\")&TEXT($F$1339,\"0000\")","v":"4480025021104530003"},4480025021,null,1,453,3,"453-3","대",17,null,null,null,"홍성군","국",null,null,null,null,null,null,null,null,null,null,2914011900,"서구","화정동"]
[{"$f":"LEFT($B$1340,10)&TEXT($D$1340,\"0\")&TEXT($E$1340,\"0000\")&TEXT($F$1340,\"0000\")","v":"4480025021104540002"},4480025021,null,1,454,2,"454-2","도",17,null,null,null,"국(건설교통부)","국",null,null,null,null,null,null,null,null,null,null,2914012000,"서구","치평동"]
[{"$f":"LEFT($B$1341,10)&TEXT($D$1341,\"0\")&TEXT($E$1341,\"0000\")&TEXT($F$1341,\"0000\")","v":"4480025021104540003"},4480025021,null,1,454,3,"454-3","도",3,null,null,null,"국(건설교통부)","국",null,null,null,null,null,null,null,null,null,null,2914012100,"서구","내방동"]
[{"$f":"LEFT($B$1342,10)&TEXT($D$1342,\"0\")&TEXT($E$1342,\"0000\")&TEXT($F$1342,\"0000\")","v":"4480025021104540005"},4480025021,null,1,454,5,"454-5","도",30,null,null,null,"충청남도홍성군홍성읍문화로78","학교법인신암학원",null,null,null,null,null,null,null,null,null,null,2914012500,"서구","서창동"]
[{"$f":"LEFT($B$1343,10)&TEXT($D$1343,\"0\")&TEXT($E$1343,\"0000\")&TEXT($F$1343,\"0000\")","v":"4480025021104550001"},4480025021,null,1,455,1,"455-1","대",96,null,null,null,"서울시서초구반포동1176반포아파트63-401","전혜수",null,null,null,null,null,null,null,null,null,null,2914012600,"서구","세하동"]
[{"$f":"LEFT($B$1344,10)&TEXT($D$1344,\"0\")&TEXT($E$1344,\"0000\")&TEXT($F$1344,\"0000\")","v":"4480025021104550003"},4480025021,null,1,455,3,"455-3","도",10,null,null,null,"남관리","이치민",null,null,null,null,null,null,null,null,null,null,2914012700,"서구","용두동"]
[{"$f":"LEFT($B$1345,10)&TEXT($D$1345,\"0\")&TEXT($E$1345,\"0000\")&TEXT($F$1345,\"0000\")","v":"4480025021104560002"},4480025021,null,1,456,2,"456-2","제",112,null,null,null,"국(국세청)","국",null,null,null,null,null,null,null,null,null,null,2914012800,"서구","풍암동"]
[{"$f":"LEFT($B$1346,10)&TEXT($D$1346,\"0\")&TEXT($E$1346,\"0000\")&TEXT($F$1346,\"0000\")","v":"4480025021104560003"},4480025021,null,1,456,3,"456-3","답",33,null,null,null,"서울시성북구정릉동239정릉풍림아이원아파트116-1003","정락훈",null,null,null,null,null,null,null,null,null,null,2914012900,"서구","벽진동"]
[{"$f":"LEFT($B$1347,10)&TEXT($D$1347,\"0\")&TEXT($E$1347,\"0000\")&TEXT($F$1347,\"0000\")","v":"4480025021104560004"},4480025021,null,1,456,4,"456-4","도",23,null,null,null,"국(국세청)","국",null,null,null,null,null,null,null,null,null,null,2914013000,"서구","금호동"]
[{"$f":"LEFT($B$1348,10)&TEXT($D$1348,\"0\")&TEXT($E$1348,\"0000\")&TEXT($F$1348,\"0000\")","v":"4480025021104570002"},4480025021,null,1,457,2,"457-2","천",73,null,null,null,"국(국세청)","국",null,null,null,null,null,null,null,null,null,null,2914013100,"서구","마륵동"]
[{"$f":"LEFT($B$1349,10)&TEXT($D$1349,\"0\")&TEXT($E$1349,\"0000\")&TEXT($F$1349,\"0000\")","v":"4480025021104570003"},4480025021,null,1,457,3,"457-3","제",731,null,null,null,"국(기획재정부)","국",null,null,null,null,null,null,null,null,null,null,2914013200,"서구","매월동"]
[{"$f":"LEFT($B$1350,10)&TEXT($D$1350,\"0\")&TEXT($E$1350,\"0000\")&TEXT($F$1350,\"0000\")","v":"4480025021104570004"},4480025021,null,1,457,4,"457-4","대",193,null,null,null,"457-4","최향숙",null,null,null,null,null,null,null,null,null,null,2914013300,"서구","동천동"]
[{"$f":"LEFT($B$1351,10)&TEXT($D$1351,\"0\")&TEXT($E$1351,\"0000\")&TEXT($F$1351,\"0000\")","v":"4480025021104570005"},4480025021,null,1,457,5,"457-5","전",613,null,null,null,"서울광진구광장동218-1광장극동아파트1-702","김용숙",null,null,null,null,null,null,null,null,null,null,2915510100,"남구","사동"]
[{"$f":"LEFT($B$1352,10)&TEXT($D$1352,\"0\")&TEXT($E$1352,\"0000\")&TEXT($F$1352,\"0000\")","v":"4480025021104580002"},4480025021,null,1,458,2,"458-2","도",69,null,null,null,"국(건설교통부)","국",null,null,null,null,null,null,null,null,null,null,2915510200,"남구","구동"]
[{"$f":"LEFT($B$1353,10)&TEXT($D$1353,\"0\")&TEXT($E$1353,\"0000\")&TEXT($F$1353,\"0000\")","v":"4480025021104580004"},4480025021,null,1,458,4,"458-4","천",53,null,null,null,"국(건설교통부)","국",null,null,null,null,null,null,null,null,null,null,2915510300,"남구","서동"]
[{"$f":"LEFT($B$1354,10)&TEXT($D$1354,\"0\")&TEXT($E$1354,\"0000\")&TEXT($F$1354,\"0000\")","v":"4480025021104590002"},4480025021,null,1,459,2,"459-2","제",559,null,null,null,"국(국세청)","국",null,null,null,null,null,null,null,null,null,null,2915510400,"남구","월산동"]
[{"$f":"LEFT($B$1355,10)&TEXT($D$1355,\"0\")&TEXT($E$1355,\"0000\")&TEXT($F$1355,\"0000\")","v":"4480025021104590013"},4480025021,null,1,459,13,"459-13","전",266,null,null,null,"충청남도홍성군홍성읍홍성천길126","이기연",null,null,null,null,null,null,null,null,null,null,2915510500,"남구","백운동"]
[{"$f":"LEFT($B$1356,10)&TEXT($D$1356,\"0\")&TEXT($E$1356,\"0000\")&TEXT($F$1356,\"0000\")","v":"4480025021104590014"},4480025021,null,1,459,14,"459-14","전",266,null,null,null,"충청남도홍성군홍성읍홍성천길126","이기연",null,null,null,null,null,null,null,null,null,null,2915510600,"남구","주월동"]
[{"$f":"LEFT($B$1357,10)&TEXT($D$1357,\"0\")&TEXT($E$1357,\"0000\")&TEXT($F$1357,\"0000\")","v":"4480025021104600001"},4480025021,null,1,460,1,"460-1","제",26,null,null,null,"국(국세청)","국",null,null,null,null,null,null,null,null,null,null,2915510700,"남구","노대동"]
[{"$f":"LEFT($B$1358,10)&TEXT($D$1358,\"0\")&TEXT($E$1358,\"0000\")&TEXT($F$1358,\"0000\")","v":"4480025021104600003"},4480025021,null,1,460,3,"460-3","제",152,null,null,null,"국(국세청)","국",null,null,null,null,null,null,null,null,null,null,2915510800,"남구","진월동"]
[{"$f":"LEFT($B$1359,10)&TEXT($D$1359,\"0\")&TEXT($E$1359,\"0000\")&TEXT($F$1359,\"0000\")","v":"4480025021104600006"},4480025021,null,1,460,6,"460-6","대",266,null,null,null,"460-6","이기성",null,null,null,null,null,null,null,null,null,null,2915510900,"남구","덕남동"]
[{"$f":"LEFT($B$1360,10)&TEXT($D$1360,\"0\")&TEXT($E$1360,\"0000\")&TEXT($F$1360,\"0000\")","v":"4480025021104600008"},4480025021,null,1,460,8,"460-8","답",207,null,null,null,"460-8","유용조",null,null,null,null,null,null,null,null,null,null,2915511000,"남구","행암동"]
[{"$f":"LEFT($B$1361,10)&TEXT($D$1361,\"0\")&TEXT($E$1361,\"0000\")&TEXT($F$1361,\"0000\")","v":"4480025021104600011"},4480025021,null,1,460,11,"460-11","전",32,null,null,null,"서울노원구중계동588양지대림아파트204-1804","김준호",null,null,null,null,null,null,null,null,null,null,2915511100,"남구","임암동"]
[{"$f":"LEFT($B$1362,10)&TEXT($D$1362,\"0\")&TEXT($E$1362,\"0000\")&TEXT($F$1362,\"0000\")","v":"4480025021104600012"},4480025021,null,1,460,12,"460-12","도",78,null,null,null,"홍성군","국",null,null,null,null,null,null,null,null,null,null,2915511200,"남구","송하동"]
[{"$f":"LEFT($B$1363,10)&TEXT($D$1363,\"0\")&TEXT($E$1363,\"0000\")&TEXT($F$1363,\"0000\")","v":"4480025021104600013"},4480025021,null,1,460,13,"460-13","답",12,null,null,null,"460-10","송효진",null,null,null,null,null,null,null,null,null,null,2915511300,"남구","양림동"]
[{"$f":"LEFT($B$1364,10)&TEXT($D$1364,\"0\")&TEXT($E$1364,\"0000\")&TEXT($F$1364,\"0000\")","v":"4480025021104610002"},4480025021,null,1,461,2,"461-2","제",76,null,null,null,"국(국세청)","국",null,null,null,null,null,null,null,null,null,null,2915511400,"남구","방림동"]
[{"$f":"LEFT($B$1365,10)&TEXT($D$1365,\"0\")&TEXT($E$1365,\"0000\")&TEXT($F$1365,\"0000\")","v":"4480025021104620001"},4480025021,null,1,462,1,"462-1","천",651,null,null,null,"국(국세청)","국",null,null,null,null,null,null,null,null,null,null,2915511500,"남구","봉선동"]
[{"$f":"LEFT($B$1366,10)&TEXT($D$1366,\"0\")&TEXT($E$1366,\"0000\")&TEXT($F$1366,\"0000\")","v":"4480025021104620002"},4480025021,null,1,462,2,"462-2","제",340,null,null,null,"국(국세청)","국",null,null,null,null,null,null,null,null,null,null,2915511600,"남구","구소동"]
[{"$f":"LEFT($B$1367,10)&TEXT($D$1367,\"0\")&TEXT($E$1367,\"0000\")&TEXT($F$1367,\"0000\")","v":"4480025021104630003"},4480025021,null,1,463,3,"463-3","천",1474,null,null,null,"국(건설교통부)","국",null,null,null,null,null,null,null,null,null,null,2915511700,"남구","양촌동"]
[{"$f":"LEFT($B$1368,10)&TEXT($D$1368,\"0\")&TEXT($E$1368,\"0000\")&TEXT($F$1368,\"0000\")","v":"4480025021104630007"},4480025021,null,1,463,7,"463-7","대",241,null,null,null,"463-7","안현욱",null,null,null,null,null,null,null,null,null,null,2915511800,"남구","도금동"]
[{"$f":"LEFT($B$1369,10)&TEXT($D$1369,\"0\")&TEXT($E$1369,\"0000\")&TEXT($F$1369,\"0000\")","v":"4480025021104630008"},4480025021,null,1,463,8,"463-8","도",251,null,null,null,"국(건설부)","국",null,null,null,null,null,null,null,null,null,null,2915511900,"남구","승촌동"]
[{"$f":"LEFT($B$1370,10)&TEXT($D$1370,\"0\")&TEXT($E$1370,\"0000\")&TEXT($F$1370,\"0000\")","v":"4480025021104630017"},4480025021,null,1,463,17,"463-17","주",1219,null,null,null,"서울특별시강남구논현로508(역삼동)","지에스칼텍스주식회사",null,null,null,null,null,null,null,null,null,null,2915512000,"남구","지석동"]
[{"$f":"LEFT($B$1371,10)&TEXT($D$1371,\"0\")&TEXT($E$1371,\"0000\")&TEXT($F$1371,\"0000\")","v":"4480025021104630019"},4480025021,null,1,463,19,"463-19","주",196,null,null,null,"서울시강남구역삼동679","지에스칼텍스주식회사",null,null,null,null,null,null,null,null,null,null,2915512100,"남구","압촌동"]
[{"$f":"LEFT($B$1372,10)&TEXT($D$1372,\"0\")&TEXT($E$1372,\"0000\")&TEXT($F$1372,\"0000\")","v":"4480025021104640001"},4480025021,null,1,464,1,"464-1","제",208,null,null,null,"국(건설부)","국",null,null,null,null,null,null,null,null,null,null,2915512200,"남구","화장동"]
[{"$f":"LEFT($B$1373,10)&TEXT($D$1373,\"0\")&TEXT($E$1373,\"0000\")&TEXT($F$1373,\"0000\")","v":"4480025021104640007"},4480025021,null,1,464,7,"464-7","대",109,null,null,null,"충청남도홍성군홍성읍오관리464-22","장인섭",null,null,null,null,null,null,null,null,null,null,2915512300,"남구","칠석동"]
[{"$f":"LEFT($B$1374,10)&TEXT($D$1374,\"0\")&TEXT($E$1374,\"0000\")&TEXT($F$1374,\"0000\")","v":"4480025021104640008"},4480025021,null,1,464,8,"464-8","답",554,null,null,null,"충청남도홍성군홍성읍문화로33번길11105동1102호(홍성옥암하늘채아파트)","김진규",null,null,null,null,null,null,null,null,null,null,2915512400,"남구","석정동"]
[{"$f":"LEFT($B$1375,10)&TEXT($D$1375,\"0\")&TEXT($E$1375,\"0000\")&TEXT($F$1375,\"0000\")","v":"4480025021104640009"},4480025021,null,1,464,9,"464-9","도",36,null,null,null,"홍성군홍성읍고암리316","김용순",null,null,null,null,null,null,null,null,null,null,2915512500,"남구","신장동"]
[{"$f":"LEFT($B$1376,10)&TEXT($D$1376,\"0\")&TEXT($E$1376,\"0000\")&TEXT($F$1376,\"0000\")","v":"4480025021104640010"},4480025021,null,1,464,10,"464-10","도",20,null,null,null,"홍성군","국",null,null,null,null,null,null,null,null,null,null,2915512600,"남구","양과동"]
[{"$f":"LEFT($B$1377,10)&TEXT($D$1377,\"0\")&TEXT($E$1377,\"0000\")&TEXT($F$1377,\"0000\")","v":"4480025021104640012"},4480025021,null,1,464,12,"464-12","대",220,null,null,null,"374-3","김현용",null,null,null,null,null,null,null,null,null,null,2915512700,"남구","이장동"]
[{"$f":"LEFT($B$1378,10)&TEXT($D$1378,\"0\")&TEXT($E$1378,\"0000\")&TEXT($F$1378,\"0000\")","v":"4480025021104640015"},4480025021,null,1,464,15,"464-15","대",199,null,null,null,"오관리625","강영희",null,null,null,null,null,null,null,null,null,null,2915512800,"남구","대지동"]
[{"$f":"LEFT($B$1379,10)&TEXT($D$1379,\"0\")&TEXT($E$1379,\"0000\")&TEXT($F$1379,\"0000\")","v":"4480025021104640016"},4480025021,null,1,464,16,"464-16","대",241,null,null,null,"충청남도홍성군홍성읍오관리518경성큰마을아파트103-601","서명환",null,null,null,null,null,null,null,null,null,null,2915512900,"남구","원산동"]
[{"$f":"LEFT($B$1380,10)&TEXT($D$1380,\"0\")&TEXT($E$1380,\"0000\")&TEXT($F$1380,\"0000\")","v":"4480025021104640017"},4480025021,null,1,464,17,"464-17","대",192,null,null,null,"서울시중구신당동844남산타운아파트39-1603","최진수",null,null,null,null,null,null,null,null,null,null,2915513000,"남구","월성동"]
[{"$f":"LEFT($B$1381,10)&TEXT($D$1381,\"0\")&TEXT($E$1381,\"0000\")&TEXT($F$1381,\"0000\")","v":"4480025021104640018"},4480025021,null,1,464,18,"464-18","답",20,null,null,null,"서울시중구신당동844남산타운아파트39-1603","최진수",null,null,null,null,null,null,null,null,null,null,2917010100,"북구","중흥동"]
[{"$f":"LEFT($B$1382,10)&TEXT($D$1382,\"0\")&TEXT($E$1382,\"0000\")&TEXT($F$1382,\"0000\")","v":"4480025021104640020"},4480025021,null,1,464,20,"464-20","답",401,null,null,null,"충청남도홍성군광천읍오서길46비동102호(동방빌라)","박상우",null,null,null,null,null,null,null,null,null,null,2917010200,"북구","유동"]
[{"$f":"LEFT($B$1383,10)&TEXT($D$1383,\"0\")&TEXT($E$1383,\"0000\")&TEXT($F$1383,\"0000\")","v":"4480025021104640021"},4480025021,null,1,464,21,"464-21","답",434,null,null,null,"464-21","오진규",null,null,null,null,null,null,null,null,null,null,2917010300,"북구","누문동"]
[{"$f":"LEFT($B$1384,10)&TEXT($D$1384,\"0\")&TEXT($E$1384,\"0000\")&TEXT($F$1384,\"0000\")","v":"4480025021104640022"},4480025021,null,1,464,22,"464-22","답",130,null,null,null,"충청남도홍성군홍성읍오관리464-22","장인섭",null,null,null,null,null,null,null,null,null,null,2917010400,"북구","북동"]
[{"$f":"LEFT($B$1385,10)&TEXT($D$1385,\"0\")&TEXT($E$1385,\"0000\")&TEXT($F$1385,\"0000\")","v":"4480025021104640023"},4480025021,null,1,464,23,"464-23","대",13,null,null,null,"충청남도홍성군홍성읍오관리464-7","장인섭",null,null,null,null,null,null,null,null,null,null,2917010500,"북구","임동"]
[{"$f":"LEFT($B$1386,10)&TEXT($D$1386,\"0\")&TEXT($E$1386,\"0000\")&TEXT($F$1386,\"0000\")","v":"4480025021104640026"},4480025021,null,1,464,26,"464-26","답",31,null,null,null,"464-21","오진규",null,null,null,null,null,null,null,null,null,null,2917010600,"북구","신안동"]
[{"$f":"LEFT($B$1387,10)&TEXT($D$1387,\"0\")&TEXT($E$1387,\"0000\")&TEXT($F$1387,\"0000\")","v":"4480025021104640027"},4480025021,null,1,464,27,"464-27","답",78,null,null,null,"충청남도홍성군홍성읍오관리464-22","장훈섭",null,null,null,null,null,null,null,null,null,null,2917010700,"북구","용봉동"]
[{"$f":"LEFT($B$1388,10)&TEXT($D$1388,\"0\")&TEXT($E$1388,\"0000\")&TEXT($F$1388,\"0000\")","v":"4480025021104640028"},4480025021,null,1,464,28,"464-28","답",71,null,null,null,"374-3","김현용",null,null,null,null,null,null,null,null,null,null,2917010800,"북구","동림동"]
[{"$f":"LEFT($B$1389,10)&TEXT($D$1389,\"0\")&TEXT($E$1389,\"0000\")&TEXT($F$1389,\"0000\")","v":"4480025021104640030"},4480025021,null,1,464,30,"464-30","답",83,null,null,null,"오관리625","강영희",null,null,null,null,null,null,null,null,null,null,2917010900,"북구","운암동"]
[{"$f":"LEFT($B$1390,10)&TEXT($D$1390,\"0\")&TEXT($E$1390,\"0000\")&TEXT($F$1390,\"0000\")","v":"4480025021104640034"},4480025021,null,1,464,34,"464-34","답",109,null,null,null,"충청남도홍성군홍성읍문화로33번길11105동1102호(홍성옥암하늘채아파트)","김진규",null,null,null,null,null,null,null,null,null,null,2917011000,"북구","우산동"]
[{"$f":"LEFT($B$1391,10)&TEXT($D$1391,\"0\")&TEXT($E$1391,\"0000\")&TEXT($F$1391,\"0000\")","v":"4480025021104640035"},4480025021,null,1,464,35,"464-35","대",68,null,null,null,"충청남도홍성군광천읍광천로308","강영희",null,null,null,null,null,null,null,null,null,null,2917011100,"북구","풍향동"]
[{"$f":"LEFT($B$1392,10)&TEXT($D$1392,\"0\")&TEXT($E$1392,\"0000\")&TEXT($F$1392,\"0000\")","v":"4480025021104640037"},4480025021,null,1,464,37,"464-37","대",43,null,null,null,"충청남도홍성군홍성읍홍성천길156-4","서명환",null,null,null,null,null,null,null,null,null,null,2917011200,"북구","문흥동"]
[{"$f":"LEFT($B$1393,10)&TEXT($D$1393,\"0\")&TEXT($E$1393,\"0000\")&TEXT($F$1393,\"0000\")","v":"4480025021104640038"},4480025021,null,1,464,38,"464-38","답",350,null,null,null,"충청남도홍성군홍성읍월계천길165-253동302호(한진에버빌)","이미용",null,null,null,null,null,null,null,null,null,null,2917011300,"북구","각화동"]
[{"$f":"LEFT($B$1394,10)&TEXT($D$1394,\"0\")&TEXT($E$1394,\"0000\")&TEXT($F$1394,\"0000\")","v":"4480025021104640041"},4480025021,null,1,464,41,"464-41","답",21,null,null,null,"충청남도홍성군홍성읍월계천길165-253동302호(한진에버빌)","이미용",null,null,null,null,null,null,null,null,null,null,2917011400,"북구","두암동"]
[{"$f":"LEFT($B$1395,10)&TEXT($D$1395,\"0\")&TEXT($E$1395,\"0000\")&TEXT($F$1395,\"0000\")","v":"4480025021104650001"},4480025021,null,1,465,1,"465-1","답",2306,null,null,null,null,null,null,null,null,null,null,null,null,null,null,null,2917011500,"북구","오치동"]
[{"$f":"LEFT($B$1396,10)&TEXT($D$1396,\"0\")&TEXT($E$1396,\"0000\")&TEXT($F$1396,\"0000\")","v":"4480025021104650003"},4480025021,null,1,465,3,"465-3","대",487,null,null,null,"경기도평택시포승읍여술로43번길18201동802호(삼부르네상스아파트)","임은혁",null,null,null,null,null,null,null,null,null,null,2917011600,"북구","삼각동"]
[{"$f":"LEFT($B$1397,10)&TEXT($D$1397,\"0\")&TEXT($E$1397,\"0000\")&TEXT($F$1397,\"0000\")","v":"4480025021104650007"},4480025021,null,1,465,7,"465-7","대",205,null,null,null,"안산시선부동1081한양3차아파트103동1407호","김경화",null,null,null,null,null,null,null,null,null,null,2917011700,"북구","매곡동"]
[{"$f":"LEFT($B$1398,10)&TEXT($D$1398,\"0\")&TEXT($E$1398,\"0000\")&TEXT($F$1398,\"0000\")","v":"4480025021104650017"},4480025021,null,1,465,17,"465-17","답",26,null,null,null,"서울특별시송파구백제고분로348107동702호(석촌동잠실한솔아파트)","채유미",null,null,null,null,null,null,null,null,null,null,2917011800,"북구","충효동"]
[{"$f":"LEFT($B$1399,10)&TEXT($D$1399,\"0\")&TEXT($E$1399,\"0000\")&TEXT($F$1399,\"0000\")","v":"4480025021104650020"},4480025021,null,1,465,20,"465-20","답",810,null,null,null,"서울특별시송파구백제고분로348107동702호(석촌동잠실한솔아파트)","채유미",null,null,null,null,null,null,null,null,null,null,2917011900,"북구","덕의동"]
[{"$f":"LEFT($B$1400,10)&TEXT($D$1400,\"0\")&TEXT($E$1400,\"0000\")&TEXT($F$1400,\"0000\")","v":"4480025021104650022"},4480025021,null,1,465,22,"465-22","답",159,null,null,null,"충청남도홍성군홍성읍오관리465-2유지빌라-303","채수명",null,null,null,null,null,null,null,null,null,null,2917012000,"북구","금곡동"]
[{"$f":"LEFT($B$1401,10)&TEXT($D$1401,\"0\")&TEXT($E$1401,\"0000\")&TEXT($F$1401,\"0000\")","v":"4480025021104650023"},4480025021,null,1,465,23,"465-23","답",160,null,null,null,"465-2유지빌라303","채수명",null,null,null,null,null,null,null,null,null,null,2917012100,"북구","망월동"]
[{"$f":"LEFT($B$1402,10)&TEXT($D$1402,\"0\")&TEXT($E$1402,\"0000\")&TEXT($F$1402,\"0000\")","v":"4480025021104650024"},4480025021,null,1,465,24,"465-24","답",245,null,null,null,"서울특별시송파구백제고분로348107동702호(석촌동잠실한솔아파트)","채유미",null,null,null,null,null,null,null,null,null,null,2917012200,"북구","청풍동"]
[{"$f":"LEFT($B$1403,10)&TEXT($D$1403,\"0\")&TEXT($E$1403,\"0000\")&TEXT($F$1403,\"0000\")","v":"4480025021104650025"},4480025021,null,1,465,25,"465-25","답",221,null,null,null,"서울특별시송파구백제고분로348107동702호(석촌동잠실한솔아파트)","채유미",null,null,null,null,null,null,null,null,null,null,2917012300,"북구","화암동"]
[{"$f":"LEFT($B$1404,10)&TEXT($D$1404,\"0\")&TEXT($E$1404,\"0000\")&TEXT($F$1404,\"0000\")","v":"4480025021104650026"},4480025021,null,1,465,26,"465-26","답",132,null,null,null,"서울특별시송파구백제고분로348107동702호(석촌동잠실한솔아파트)","채유미",null,null,null,null,null,null,null,null,null,null,2917012400,"북구","장등동"]
[{"$f":"LEFT($B$1405,10)&TEXT($D$1405,\"0\")&TEXT($E$1405,\"0000\")&TEXT($F$1405,\"0000\")","v":"4480025021104650027"},4480025021,null,1,465,27,"465-27","답",406,null,null,null,"서울특별시송파구백제고분로348107동702호(석촌동잠실한솔아파트)","채유미",null,null,null,null,null,null,null,null,null,null,2917012500,"북구","운정동"]
[{"$f":"LEFT($B$1406,10)&TEXT($D$1406,\"0\")&TEXT($E$1406,\"0000\")&TEXT($F$1406,\"0000\")","v":"4480025021104650030"},4480025021,null,1,465,30,"465-30","답",164,null,null,null,"465-2유지빌라303","채수명",null,null,null,null,null,null,null,null,null,null,2917012600,"북구","본촌동"]
[{"$f":"LEFT($B$1407,10)&TEXT($D$1407,\"0\")&TEXT($E$1407,\"0000\")&TEXT($F$1407,\"0000\")","v":"4480025021104650032"},4480025021,null,1,465,32,"465-32","답",18,null,null,null,"서울특별시송파구백제고분로348107동702호(석촌동잠실한솔아파트)","채유미",null,null,null,null,null,null,null,null,null,null,2917012700,"북구","일곡동"]
[{"$f":"LEFT($B$1408,10)&TEXT($D$1408,\"0\")&TEXT($E$1408,\"0000\")&TEXT($F$1408,\"0000\")","v":"4480025021104660000"},4480025021,null,1,466,0,466,"대",251,null,null,null,"399-13","지승평",null,null,null,null,null,null,null,null,null,null,2917012800,"북구","양산동"]
[{"$f":"LEFT($B$1409,10)&TEXT($D$1409,\"0\")&TEXT($E$1409,\"0000\")&TEXT($F$1409,\"0000\")","v":"4480025021104660002"},4480025021,null,1,466,2,"466-2","대",223,null,null,null,"전라북도군산시용둔길12106동1004호(미룡동금광베네스타)","이복숙",null,null,null,null,null,null,null,null,null,null,2917012900,"북구","연제동"]
[{"$f":"LEFT($B$1410,10)&TEXT($D$1410,\"0\")&TEXT($E$1410,\"0000\")&TEXT($F$1410,\"0000\")","v":"4480025021104660003"},4480025021,null,1,466,3,"466-3","대",217,null,null,null,"466-3","서동석",null,null,null,null,null,null,null,null,null,null,2917013000,"북구","신용동"]
[{"$f":"LEFT($B$1411,10)&TEXT($D$1411,\"0\")&TEXT($E$1411,\"0000\")&TEXT($F$1411,\"0000\")","v":"4480025021104660004"},4480025021,null,1,466,4,"466-4","대",205,null,null,null,"오관리466-4","구주명",null,null,null,null,null,null,null,null,null,null,2917013100,"북구","용두동"]
[{"$f":"LEFT($B$1412,10)&TEXT($D$1412,\"0\")&TEXT($E$1412,\"0000\")&TEXT($F$1412,\"0000\")","v":"4480025021104660007"},4480025021,null,1,466,7,"466-7","대",378,null,null,null,"은하면화봉리406","김남호",null,null,null,null,null,null,null,null,null,null,2917013200,"북구","지야동"]
[{"$f":"LEFT($B$1413,10)&TEXT($D$1413,\"0\")&TEXT($E$1413,\"0000\")&TEXT($F$1413,\"0000\")","v":"4480025021104670001"},4480025021,null,1,467,1,"467-1","전",197,null,null,null,"홍성군홍성읍남장리515주공그린빌106-1002","신동용",null,null,null,null,null,null,null,null,null,null,2917013300,"북구","태령동"]
[{"$f":"LEFT($B$1414,10)&TEXT($D$1414,\"0\")&TEXT($E$1414,\"0000\")&TEXT($F$1414,\"0000\")","v":"4480025021104670002"},4480025021,null,1,467,2,"467-2","전",270,null,null,null,"464-5","정해붕",null,null,null,null,null,null,null,null,null,null,2917013400,"북구","수곡동"]
[{"$f":"LEFT($B$1415,10)&TEXT($D$1415,\"0\")&TEXT($E$1415,\"0000\")&TEXT($F$1415,\"0000\")","v":"4480025021104670004"},4480025021,null,1,467,4,"467-4","대",212,null,null,null,"고암리57","오석원",null,null,null,null,null,null,null,null,null,null,2917013500,"북구","효령동"]
[{"$f":"LEFT($B$1416,10)&TEXT($D$1416,\"0\")&TEXT($E$1416,\"0000\")&TEXT($F$1416,\"0000\")","v":"4480025021104670005"},4480025021,null,1,467,5,"467-5","도",54,null,null,null,"464-5","정해붕",null,null,null,null,null,null,null,null,null,null,2917013600,"북구","용전동"]
[{"$f":"LEFT($B$1417,10)&TEXT($D$1417,\"0\")&TEXT($E$1417,\"0000\")&TEXT($F$1417,\"0000\")","v":"4480025021104670008"},4480025021,null,1,467,8,"467-8","전",185,null,null,null,"346-48","고흥주",null,null,null,null,null,null,null,null,null,null,2917013700,"북구","용강동"]
[{"$f":"LEFT($B$1418,10)&TEXT($D$1418,\"0\")&TEXT($E$1418,\"0000\")&TEXT($F$1418,\"0000\")","v":"4480025021104670009"},4480025021,null,1,467,9,"467-9","전",275,null,null,null,"홍성군광천읍신진리398-8","이필수",null,null,null,null,null,null,null,null,null,null,2917013800,"북구","생용동"]
[{"$f":"LEFT($B$1419,10)&TEXT($D$1419,\"0\")&TEXT($E$1419,\"0000\")&TEXT($F$1419,\"0000\")","v":"4480025021104670011"},4480025021,null,1,467,11,"467-11","도",62,null,null,null,"363-2","명제숙",null,null,null,null,null,null,null,null,null,null,2917013900,"북구","월출동"]
[{"$f":"LEFT($B$1420,10)&TEXT($D$1420,\"0\")&TEXT($E$1420,\"0000\")&TEXT($F$1420,\"0000\")","v":"4480025021104680002"},4480025021,null,1,468,2,"468-2","대",228,null,null,null,"충청남도홍성군홍성읍오관리440-5","이남숙",null,null,null,null,null,null,null,null,null,null,2917014000,"북구","대촌동"]
[{"$f":"LEFT($B$1421,10)&TEXT($D$1421,\"0\")&TEXT($E$1421,\"0000\")&TEXT($F$1421,\"0000\")","v":"4480025021104680003"},4480025021,null,1,468,3,"468-3","대",225,null,null,null,"오관리468-3","김종설",null,null,null,null,null,null,null,null,null,null,2917014100,"북구","오룡동"]
[{"$f":"LEFT($B$1422,10)&TEXT($D$1422,\"0\")&TEXT($E$1422,\"0000\")&TEXT($F$1422,\"0000\")","v":"4480025021104680004"},4480025021,null,1,468,4,"468-4","대",155,null,null,null,"금마면부평리241","임헌희",null,null,null,null,null,null,null,null,null,null,2920010100,"광산구","송정동"]
[{"$f":"LEFT($B$1423,10)&TEXT($D$1423,\"0\")&TEXT($E$1423,\"0000\")&TEXT($F$1423,\"0000\")","v":"4480025021104680005"},4480025021,null,1,468,5,"468-5","대",179,null,null,null,"장곡면월계리465","오규춘",null,null,null,null,null,null,null,null,null,null,2920010200,"광산구","도산동"]
[{"$f":"LEFT($B$1424,10)&TEXT($D$1424,\"0\")&TEXT($E$1424,\"0000\")&TEXT($F$1424,\"0000\")","v":"4480025021104680006"},4480025021,null,1,468,6,"468-6","대",243,null,null,null,"오관리468-6","유승조",null,null,null,null,null,null,null,null,null,null,2920010300,"광산구","도호동"]
[{"$f":"LEFT($B$1425,10)&TEXT($D$1425,\"0\")&TEXT($E$1425,\"0000\")&TEXT($F$1425,\"0000\")","v":"4480025021104680009"},4480025021,null,1,468,9,"468-9","대",221,null,null,null,"충청남도홍성군홍성읍문화로90번길61-7","이영수",null,null,null,null,null,null,null,null,null,null,2920010400,"광산구","신촌동"]
[{"$f":"LEFT($B$1426,10)&TEXT($D$1426,\"0\")&TEXT($E$1426,\"0000\")&TEXT($F$1426,\"0000\")","v":"4480025021104680010"},4480025021,null,1,468,10,"468-10","대",106,null,null,null,"충청남도홍성군구항면거북로200","조순준",null,null,null,null,null,null,null,null,null,null,2920010500,"광산구","서봉동"]
[{"$f":"LEFT($B$1427,10)&TEXT($D$1427,\"0\")&TEXT($E$1427,\"0000\")&TEXT($F$1427,\"0000\")","v":"4480025021104680011"},4480025021,null,1,468,11,"468-11","전",151,null,null,null,"대교리529대일빌라에이동101호","김숙희",null,null,null,null,null,null,null,null,null,null,2920010600,"광산구","운수동"]
[{"$f":"LEFT($B$1428,10)&TEXT($D$1428,\"0\")&TEXT($E$1428,\"0000\")&TEXT($F$1428,\"0000\")","v":"4480025021104680014"},4480025021,null,1,468,14,"468-14","전",155,null,null,null,"대교리529대일빌라에이동101호","김숙희",null,null,null,null,null,null,null,null,null,null,2920010700,"광산구","선암동"]
[{"$f":"LEFT($B$1429,10)&TEXT($D$1429,\"0\")&TEXT($E$1429,\"0000\")&TEXT($F$1429,\"0000\")","v":"4480025021104680018"},4480025021,null,1,468,18,"468-18","대",263,null,null,null,"충청남도홍성군홍북면내용길209-59","김영만",null,null,null,null,null,null,null,null,null,null,2920010800,"광산구","소촌동"]
[{"$f":"LEFT($B$1430,10)&TEXT($D$1430,\"0\")&TEXT($E$1430,\"0000\")&TEXT($F$1430,\"0000\")","v":"4480025021104680022"},4480025021,null,1,468,22,"468-22","대",88,null,null,null,"은하면금국리382","전풍수",null,null,null,null,null,null,null,null,null,null,2920010900,"광산구","우산동"]
[{"$f":"LEFT($B$1431,10)&TEXT($D$1431,\"0\")&TEXT($E$1431,\"0000\")&TEXT($F$1431,\"0000\")","v":"4480025021104680029"},4480025021,null,1,468,29,"468-29","대",70,null,null,null,"홍성군","국",null,null,null,null,null,null,null,null,null,null,2920011000,"광산구","황룡동"]
[{"$f":"LEFT($B$1432,10)&TEXT($D$1432,\"0\")&TEXT($E$1432,\"0000\")&TEXT($F$1432,\"0000\")","v":"4480025021104680035"},4480025021,null,1,468,35,"468-35","대",12,null,null,null,"홍성군","국",null,null,null,null,null,null,null,null,null,null,2920011100,"광산구","박호동"]
[{"$f":"LEFT($B$1433,10)&TEXT($D$1433,\"0\")&TEXT($E$1433,\"0000\")&TEXT($F$1433,\"0000\")","v":"4480025021104690002"},4480025021,null,1,469,2,"469-2","대",422,null,null,null,"충청남도홍성군홍성읍문화로90번길41-46","김명국",null,null,null,null,null,null,null,null,null,null,2920011200,"광산구","비아동"]
[{"$f":"LEFT($B$1434,10)&TEXT($D$1434,\"0\")&TEXT($E$1434,\"0000\")&TEXT($F$1434,\"0000\")","v":"4480025021104690003"},4480025021,null,1,469,3,"469-3","대",347,null,null,null,"충청남도홍성군홍성읍문화로90번길41-34","김현자",null,null,null,null,null,null,null,null,null,null,2920011300,"광산구","도천동"]
[{"$f":"LEFT($B$1435,10)&TEXT($D$1435,\"0\")&TEXT($E$1435,\"0000\")&TEXT($F$1435,\"0000\")","v":"4480025021104690004"},4480025021,null,1,469,4,"469-4","대",168,null,null,null,"469-4","인복임",null,null,null,null,null,null,null,null,null,null,2920011400,"광산구","수완동"]
[{"$f":"LEFT($B$1436,10)&TEXT($D$1436,\"0\")&TEXT($E$1436,\"0000\")&TEXT($F$1436,\"0000\")","v":"4480025021104690005"},4480025021,null,1,469,5,"469-5","대",233,null,null,null,"경기도용인시수지구용구대로2771번길66207동902호(죽전동용인수지벽산타운2단지)","정인옥",null,null,null,null,null,null,null,null,null,null,2920011500,"광산구","월계동"]
[{"$f":"LEFT($B$1437,10)&TEXT($D$1437,\"0\")&TEXT($E$1437,\"0000\")&TEXT($F$1437,\"0000\")","v":"4480025021104690006"},4480025021,null,1,469,6,"469-6","대",122,null,null,null,601,"최양도",null,null,null,null,null,null,null,null,null,null,2920011600,"광산구","쌍암동"]
[{"$f":"LEFT($B$1438,10)&TEXT($D$1438,\"0\")&TEXT($E$1438,\"0000\")&TEXT($F$1438,\"0000\")","v":"4480025021104690009"},4480025021,null,1,469,9,"469-9","대",133,null,null,null,"602-2","김행환",null,null,null,null,null,null,null,null,null,null,2920011700,"광산구","산월동"]
[{"$f":"LEFT($B$1439,10)&TEXT($D$1439,\"0\")&TEXT($E$1439,\"0000\")&TEXT($F$1439,\"0000\")","v":"4480025021104690010"},4480025021,null,1,469,10,"469-10","대",218,null,null,null,535,"김봉영",null,null,null,null,null,null,null,null,null,null,2920011800,"광산구","신창동"]
[{"$f":"LEFT($B$1440,10)&TEXT($D$1440,\"0\")&TEXT($E$1440,\"0000\")&TEXT($F$1440,\"0000\")","v":"4480025021104690011"},4480025021,null,1,469,11,"469-11","대",155,null,null,null,473,"장만근",null,null,null,null,null,null,null,null,null,null,2920011900,"광산구","신가동"]
[{"$f":"LEFT($B$1441,10)&TEXT($D$1441,\"0\")&TEXT($E$1441,\"0000\")&TEXT($F$1441,\"0000\")","v":"4480025021104690012"},4480025021,null,1,469,12,"469-12","대",162,null,null,null,"홍성군홍성읍오관리469-12","주용상",null,null,null,null,null,null,null,null,null,null,2920012000,"광산구","운남동"]
[{"$f":"LEFT($B$1442,10)&TEXT($D$1442,\"0\")&TEXT($E$1442,\"0000\")&TEXT($F$1442,\"0000\")","v":"4480025021104690013"},4480025021,null,1,469,13,"469-13","대",128,null,null,null,"홍성군홍성읍오관리469-13","박길남",null,null,null,null,null,null,null,null,null,null,2920012100,"광산구","안청동"]
[{"$f":"LEFT($B$1443,10)&TEXT($D$1443,\"0\")&TEXT($E$1443,\"0000\")&TEXT($F$1443,\"0000\")","v":"4480025021104690014"},4480025021,null,1,469,14,"469-14","대",176,null,null,null,"충청남도홍성군홍성읍오관리469-14","문순자",null,null,null,null,null,null,null,null,null,null,2920012200,"광산구","진곡동"]
[{"$f":"LEFT($B$1444,10)&TEXT($D$1444,\"0\")&TEXT($E$1444,\"0000\")&TEXT($F$1444,\"0000\")","v":"4480025021104690017"},4480025021,null,1,469,17,"469-17","대",163,null,null,null,"충청남도홍성군홍성읍문화로90번길41-18","김증환",null,null,null,null,null,null,null,null,null,null,2920012300,"광산구","장덕동"]
[{"$f":"LEFT($B$1445,10)&TEXT($D$1445,\"0\")&TEXT($E$1445,\"0000\")&TEXT($F$1445,\"0000\")","v":"4480025021104690018"},4480025021,null,1,469,18,"469-18","대",162,null,null,null,"340-1","이녕식",null,null,null,null,null,null,null,null,null,null,2920012400,"광산구","흑석동"]
[{"$f":"LEFT($B$1446,10)&TEXT($D$1446,\"0\")&TEXT($E$1446,\"0000\")&TEXT($F$1446,\"0000\")","v":"4480025021104690019"},4480025021,null,1,469,19,"469-19","대",125,null,null,null,"526-12","노상선",null,null,null,null,null,null,null,null,null,null,2920012500,"광산구","하남동"]
[{"$f":"LEFT($B$1447,10)&TEXT($D$1447,\"0\")&TEXT($E$1447,\"0000\")&TEXT($F$1447,\"0000\")","v":"4480025021104690021"},4480025021,null,1,469,21,"469-21","대",169,null,null,null,"충청남도천안시서북구백석3로69101동604호(백석동주공그린빌)","김창주",null,null,null,null,null,null,null,null,null,null,2920012600,"광산구","장수동"]
[{"$f":"LEFT($B$1448,10)&TEXT($D$1448,\"0\")&TEXT($E$1448,\"0000\")&TEXT($F$1448,\"0000\")","v":"4480025021104690022"},4480025021,null,1,469,22,"469-22","대",175,null,null,null,"충청남도홍성군홍성읍오관리469-22","박춘배",null,null,null,null,null,null,null,null,null,null,2920012700,"광산구","산정동"]
[{"$f":"LEFT($B$1449,10)&TEXT($D$1449,\"0\")&TEXT($E$1449,\"0000\")&TEXT($F$1449,\"0000\")","v":"4480025021104690026"},4480025021,null,1,469,26,"469-26","대",174,null,null,null,"홍성군홍성읍대교리295-4","김정월",null,null,null,null,null,null,null,null,null,null,2920012800,"광산구","월곡동"]
[{"$f":"LEFT($B$1450,10)&TEXT($D$1450,\"0\")&TEXT($E$1450,\"0000\")&TEXT($F$1450,\"0000\")","v":"4480025021104690027"},4480025021,null,1,469,27,"469-27","대",257,null,null,null,"홍성군홍성읍오관리469-27","윤병한",null,null,null,null,null,null,null,null,null,null,2920012900,"광산구","등임동"]
[{"$f":"LEFT($B$1451,10)&TEXT($D$1451,\"0\")&TEXT($E$1451,\"0000\")&TEXT($F$1451,\"0000\")","v":"4480025021104690028"},4480025021,null,1,469,28,"469-28","대",185,null,null,null,"469-28","이기태",null,null,null,null,null,null,null,null,null,null,2920013000,"광산구","산막동"]
[{"$f":"LEFT($B$1452,10)&TEXT($D$1452,\"0\")&TEXT($E$1452,\"0000\")&TEXT($F$1452,\"0000\")","v":"4480025021104690030"},4480025021,null,1,469,30,"469-30","대",158,null,null,null,"469-30","이흥순",null,null,null,null,null,null,null,null,null,null,2920013100,"광산구","고룡동"]
[{"$f":"LEFT($B$1453,10)&TEXT($D$1453,\"0\")&TEXT($E$1453,\"0000\")&TEXT($F$1453,\"0000\")","v":"4480025021104690031"},4480025021,null,1,469,31,"469-31","대",136,null,null,null,"469-31","박상철",null,null,null,null,null,null,null,null,null,null,2920013200,"광산구","신룡동"]
[{"$f":"LEFT($B$1454,10)&TEXT($D$1454,\"0\")&TEXT($E$1454,\"0000\")&TEXT($F$1454,\"0000\")","v":"4480025021104690032"},4480025021,null,1,469,32,"469-32","대",152,null,null,null,"충청남도홍성군홍성읍고암리607-6","백희현",null,null,null,null,null,null,null,null,null,null,2920013300,"광산구","두정동"]
[{"$f":"LEFT($B$1455,10)&TEXT($D$1455,\"0\")&TEXT($E$1455,\"0000\")&TEXT($F$1455,\"0000\")","v":"4480025021104690033"},4480025021,null,1,469,33,"469-33","전",7,null,null,null,"홍성군","국",null,null,null,null,null,null,null,null,null,null,2920013400,"광산구","임곡동"]
[{"$f":"LEFT($B$1456,10)&TEXT($D$1456,\"0\")&TEXT($E$1456,\"0000\")&TEXT($F$1456,\"0000\")","v":"4480025021104690034"},4480025021,null,1,469,34,"469-34","대",141,null,null,null,"충청남도홍성군홍성읍문화로90번길53-4","김예자",null,null,null,null,null,null,null,null,null,null,2920013500,"광산구","광산동"]
[{"$f":"LEFT($B$1457,10)&TEXT($D$1457,\"0\")&TEXT($E$1457,\"0000\")&TEXT($F$1457,\"0000\")","v":"4480025021104690036"},4480025021,null,1,469,36,"469-36","전",132,null,null,null,"469-36","전서진",null,null,null,null,null,null,null,null,null,null,2920013600,"광산구","오산동"]
[{"$f":"LEFT($B$1458,10)&TEXT($D$1458,\"0\")&TEXT($E$1458,\"0000\")&TEXT($F$1458,\"0000\")","v":"4480025021104690037"},4480025021,null,1,469,37,"469-37","전",181,null,null,null,"충청남도홍성군홍성읍문화로90번길47-24","이경은",null,null,null,null,null,null,null,null,null,null,2920013700,"광산구","사호동"]
[{"$f":"LEFT($B$1459,10)&TEXT($D$1459,\"0\")&TEXT($E$1459,\"0000\")&TEXT($F$1459,\"0000\")","v":"4480025021104690038"},4480025021,null,1,469,38,"469-38","전",167,null,null,null,"청양군청양읍읍내리62","황기로",null,null,null,null,null,null,null,null,null,null,2920013800,"광산구","하산동"]
[{"$f":"LEFT($B$1460,10)&TEXT($D$1460,\"0\")&TEXT($E$1460,\"0000\")&TEXT($F$1460,\"0000\")","v":"4480025021104690040"},4480025021,null,1,469,40,"469-40","대",127,null,null,null,"315-8","김순만",null,null,null,null,null,null,null,null,null,null,2920013900,"광산구","유계동"]
[{"$f":"LEFT($B$1461,10)&TEXT($D$1461,\"0\")&TEXT($E$1461,\"0000\")&TEXT($F$1461,\"0000\")","v":"4480025021104690042"},4480025021,null,1,469,42,"469-42","대",176,null,null,null,"469-32","이재호",null,null,null,null,null,null,null,null,null,null,2920014000,"광산구","본덕동"]
[{"$f":"LEFT($B$1462,10)&TEXT($D$1462,\"0\")&TEXT($E$1462,\"0000\")&TEXT($F$1462,\"0000\")","v":"4480025021104690044"},4480025021,null,1,469,44,"469-44","전",162,null,null,null,"충청남도홍성군홍북읍홍예로213107동1003호(엘에이치스타힐스)","이종석",null,null,null,null,null,null,null,null,null,null,2920014100,"광산구","용봉동"]
[{"$f":"LEFT($B$1463,10)&TEXT($D$1463,\"0\")&TEXT($E$1463,\"0000\")&TEXT($F$1463,\"0000\")","v":"4480025021104690045"},4480025021,null,1,469,45,"469-45","전",30,null,null,null,"홍성군","국",null,null,null,null,null,null,null,null,null,null,2920014200,"광산구","요기동"]
[{"$f":"LEFT($B$1464,10)&TEXT($D$1464,\"0\")&TEXT($E$1464,\"0000\")&TEXT($F$1464,\"0000\")","v":"4480025021104690048"},4480025021,null,1,469,48,"469-48","대",213,null,null,null,"469-48","김원호",null,null,null,null,null,null,null,null,null,null,2920014300,"광산구","복룡동"]
[{"$f":"LEFT($B$1465,10)&TEXT($D$1465,\"0\")&TEXT($E$1465,\"0000\")&TEXT($F$1465,\"0000\")","v":"4480025021104690050"},4480025021,null,1,469,50,"469-50","대",189,null,null,null,"충청남도홍성군홍성읍오관리399","송기준",null,null,null,null,null,null,null,null,null,null,2920014400,"광산구","송대동"]
[{"$f":"LEFT($B$1466,10)&TEXT($D$1466,\"0\")&TEXT($E$1466,\"0000\")&TEXT($F$1466,\"0000\")","v":"4480025021104690051"},4480025021,null,1,469,51,"469-51","대",68,null,null,null,"홍성군","국",null,null,null,null,null,null,null,null,null,null,2920014500,"광산구","옥동"]
[{"$f":"LEFT($B$1467,10)&TEXT($D$1467,\"0\")&TEXT($E$1467,\"0000\")&TEXT($F$1467,\"0000\")","v":"4480025021104690052"},4480025021,null,1,469,52,"469-52","대",28,null,null,null,"충청남도홍성군홍성읍문화로90번길41-18","김증환",null,null,null,null,null,null,null,null,null,null,2920014600,"광산구","월전동"]
[{"$f":"LEFT($B$1468,10)&TEXT($D$1468,\"0\")&TEXT($E$1468,\"0000\")&TEXT($F$1468,\"0000\")","v":"4480025021104690056"},4480025021,null,1,469,56,"469-56","대",1,null,null,null,"홍성군","국",null,null,null,null,null,null,null,null,null,null,2920014700,"광산구","장록동"]
[{"$f":"LEFT($B$1469,10)&TEXT($D$1469,\"0\")&TEXT($E$1469,\"0000\")&TEXT($F$1469,\"0000\")","v":"4480025021104690057"},4480025021,null,1,469,57,"469-57","대",33,null,null,null,"홍성군","국",null,null,null,null,null,null,null,null,null,null,2920014800,"광산구","송촌동"]
[{"$f":"LEFT($B$1470,10)&TEXT($D$1470,\"0\")&TEXT($E$1470,\"0000\")&TEXT($F$1470,\"0000\")","v":"4480025021104690059"},4480025021,null,1,469,59,"469-59","대",16,null,null,null,"홍성군","국",null,null,null,null,null,null,null,null,null,null,2920014900,"광산구","지죽동"]
[{"$f":"LEFT($B$1471,10)&TEXT($D$1471,\"0\")&TEXT($E$1471,\"0000\")&TEXT($F$1471,\"0000\")","v":"4480025021104690060"},4480025021,null,1,469,60,"469-60","대",16,null,null,null,"홍성군","국",null,null,null,null,null,null,null,null,null,null,2920015000,"광산구","용동"]
[{"$f":"LEFT($B$1472,10)&TEXT($D$1472,\"0\")&TEXT($E$1472,\"0000\")&TEXT($F$1472,\"0000\")","v":"4480025021104690062"},4480025021,null,1,469,62,"469-62","대",42,null,null,null,"홍성군","국",null,null,null,null,null,null,null,null,null,null,2920015100,"광산구","용곡동"]
[{"$f":"LEFT($B$1473,10)&TEXT($D$1473,\"0\")&TEXT($E$1473,\"0000\")&TEXT($F$1473,\"0000\")","v":"4480025021104690067"},4480025021,null,1,469,67,"469-67","대",20,null,null,null,"홍성군","국",null,null,null,null,null,null,null,null,null,null,2920015200,"광산구","지정동"]
[{"$f":"LEFT($B$1474,10)&TEXT($D$1474,\"0\")&TEXT($E$1474,\"0000\")&TEXT($F$1474,\"0000\")","v":"4480025021104690068"},4480025021,null,1,469,68,"469-68","대",23,null,null,null,"홍성군","국",null,null,null,null,null,null,null,null,null,null,2920015300,"광산구","명화동"]
[{"$f":"LEFT($B$1475,10)&TEXT($D$1475,\"0\")&TEXT($E$1475,\"0000\")&TEXT($F$1475,\"0000\")","v":"4480025021104690069"},4480025021,null,1,469,69,"469-69","대",34,null,null,null,"홍성군","국",null,null,null,null,null,null,null,null,null,null,2920015400,"광산구","동산동"]
[{"$f":"LEFT($B$1476,10)&TEXT($D$1476,\"0\")&TEXT($E$1476,\"0000\")&TEXT($F$1476,\"0000\")","v":"4480025021104690071"},4480025021,null,1,469,71,"469-71","대",1,null,null,null,"홍성군","국",null,null,null,null,null,null,null,null,null,null,2920015500,"광산구","연산동"]
[{"$f":"LEFT($B$1477,10)&TEXT($D$1477,\"0\")&TEXT($E$1477,\"0000\")&TEXT($F$1477,\"0000\")","v":"4480025021104690072"},4480025021,null,1,469,72,"469-72","대",24,null,null,null,"홍성군","국",null,null,null,null,null,null,null,null,null,null,2920015600,"광산구","도덕동"]
[{"$f":"LEFT($B$1478,10)&TEXT($D$1478,\"0\")&TEXT($E$1478,\"0000\")&TEXT($F$1478,\"0000\")","v":"4480025021104690073"},4480025021,null,1,469,73,"469-73","대",1,null,null,null,"469-30","이흥순",null,null,null,null,null,null,null,null,null,null,2920015700,"광산구","송산동"]
[{"$f":"LEFT($B$1479,10)&TEXT($D$1479,\"0\")&TEXT($E$1479,\"0000\")&TEXT($F$1479,\"0000\")","v":"4480025021104690074"},4480025021,null,1,469,74,"469-74","전",44,null,null,null,"홍성군","국",null,null,null,null,null,null,null,null,null,null,2920015800,"광산구","지평동"]
[{"$f":"LEFT($B$1480,10)&TEXT($D$1480,\"0\")&TEXT($E$1480,\"0000\")&TEXT($F$1480,\"0000\")","v":"4480025021104690075"},4480025021,null,1,469,75,"469-75","전",22,null,null,null,"홍성군","국",null,null,null,null,null,null,null,null,null,null,2920015900,"광산구","오운동"]
[{"$f":"LEFT($B$1481,10)&TEXT($D$1481,\"0\")&TEXT($E$1481,\"0000\")&TEXT($F$1481,\"0000\")","v":"4480025021104690076"},4480025021,null,1,469,76,"469-76","전",2,null,null,null,"청양군청양읍읍내리62","황기로",null,null,null,null,null,null,null,null,null,null,2920016000,"광산구","삼거동"]
[{"$f":"LEFT($B$1482,10)&TEXT($D$1482,\"0\")&TEXT($E$1482,\"0000\")&TEXT($F$1482,\"0000\")","v":"4480025021104690078"},4480025021,null,1,469,78,"469-78","전",191,null,null,null,"홍성군","국",null,null,null,null,null,null,null,null,null,null,2920016100,"광산구","양동"]
[{"$f":"LEFT($B$1483,10)&TEXT($D$1483,\"0\")&TEXT($E$1483,\"0000\")&TEXT($F$1483,\"0000\")","v":"4480025021104690079"},4480025021,null,1,469,79,"469-79","전",18,null,null,null,"홍성군","국",null,null,null,null,null,null,null,null,null,null,2920016200,"광산구","내산동"]
[{"$f":"LEFT($B$1484,10)&TEXT($D$1484,\"0\")&TEXT($E$1484,\"0000\")&TEXT($F$1484,\"0000\")","v":"4480025021104690080"},4480025021,null,1,469,80,"469-80","전",2,null,null,null,"홍성군","국",null,null,null,null,null,null,null,null,null,null,2920016300,"광산구","대산동"]
[{"$f":"LEFT($B$1485,10)&TEXT($D$1485,\"0\")&TEXT($E$1485,\"0000\")&TEXT($F$1485,\"0000\")","v":"4480025021104690083"},4480025021,null,1,469,83,"469-83","대",64,null,null,null,"홍성군","국",null,null,null,null,null,null,null,null,null,null,2920016400,"광산구","송학동"]
[{"$f":"LEFT($B$1486,10)&TEXT($D$1486,\"0\")&TEXT($E$1486,\"0000\")&TEXT($F$1486,\"0000\")","v":"4480025021104690084"},4480025021,null,1,469,84,"469-84","대",4,null,null,null,"홍성군","국",null,null,null,null,null,null,null,null,null,null,2920016500,"광산구","신동"]
[{"$f":"LEFT($B$1487,10)&TEXT($D$1487,\"0\")&TEXT($E$1487,\"0000\")&TEXT($F$1487,\"0000\")","v":"4480025021104690086"},4480025021,null,1,469,86,"469-86","전",216,null,null,null,"홍성군","국",null,null,null,null,null,null,null,null,null,null,2920016600,"광산구","삼도동"]
[{"$f":"LEFT($B$1488,10)&TEXT($D$1488,\"0\")&TEXT($E$1488,\"0000\")&TEXT($F$1488,\"0000\")","v":"4480025021104690087"},4480025021,null,1,469,87,"469-87","전",16,null,null,null,"경기도용인시수지구용구대로2771번길66207동902호(죽전동용인수지벽산타운2단지)","정인옥",null,null,null,null,null,null,null,null,null,null,2920016700,"광산구","남산동"]
[{"$f":"LEFT($B$1489,10)&TEXT($D$1489,\"0\")&TEXT($E$1489,\"0000\")&TEXT($F$1489,\"0000\")","v":"4480025021104690088"},4480025021,null,1,469,88,"469-88","대",28,null,null,null,"홍성군","국",null,null,null,null,null,null,null,null,null,null,2920016800,"광산구","송치동"]
[{"$f":"LEFT($B$1490,10)&TEXT($D$1490,\"0\")&TEXT($E$1490,\"0000\")&TEXT($F$1490,\"0000\")","v":"4480025021104690089"},4480025021,null,1,469,89,"469-89","대",2,null,null,null,"홍성군","국",null,null,null,null,null,null,null,null,null,null,2920016900,"광산구","산수동"]
[{"$f":"LEFT($B$1491,10)&TEXT($D$1491,\"0\")&TEXT($E$1491,\"0000\")&TEXT($F$1491,\"0000\")","v":"4480025021104690090"},4480025021,null,1,469,90,"469-90","대",30,null,null,null,"홍성군","국",null,null,null,null,null,null,null,null,null,null,2920017000,"광산구","선동"]
[{"$f":"LEFT($B$1492,10)&TEXT($D$1492,\"0\")&TEXT($E$1492,\"0000\")&TEXT($F$1492,\"0000\")","v":"4480025021104700001"},4480025021,null,1,470,1,"470-1","전",701,null,null,null,"홍성군","국",null,null,null,null,null,null,null,null,null,null,2920017100,"광산구","지산동"]
[{"$f":"LEFT($B$1493,10)&TEXT($D$1493,\"0\")&TEXT($E$1493,\"0000\")&TEXT($F$1493,\"0000\")","v":"4480025021104700005"},4480025021,null,1,470,5,"470-5","전",36,null,null,null,"국(재정경제부)","국",null,null,null,null,null,null,null,null,null,null,2920017200,"광산구","왕동"]
[{"$f":"LEFT($B$1494,10)&TEXT($D$1494,\"0\")&TEXT($E$1494,\"0000\")&TEXT($F$1494,\"0000\")","v":"4480025021104700007"},4480025021,null,1,470,7,"470-7","전",40,null,null,null,"국(재정경제부)","국",null,null,null,null,null,null,null,null,null,null,2920017300,"광산구","북산동"]
[{"$f":"LEFT($B$1495,10)&TEXT($D$1495,\"0\")&TEXT($E$1495,\"0000\")&TEXT($F$1495,\"0000\")","v":"4480025021104700009"},4480025021,null,1,470,9,"470-9","전",17,null,null,null,"국(재정경제부)","국",null,null,null,null,null,null,null,null,null,null,2920017400,"광산구","명도동"]
[{"$f":"LEFT($B$1496,10)&TEXT($D$1496,\"0\")&TEXT($E$1496,\"0000\")&TEXT($F$1496,\"0000\")","v":"4480025021104700011"},4480025021,null,1,470,11,"470-11","대",34,null,null,null,"홍성군","국",null,null,null,null,null,null,null,null,null,null,2920017500,"광산구","동호동"]
[{"$f":"LEFT($B$1497,10)&TEXT($D$1497,\"0\")&TEXT($E$1497,\"0000\")&TEXT($F$1497,\"0000\")","v":"4480025021104700012"},4480025021,null,1,470,12,"470-12","대",45,null,null,null,"홍성군","국",null,null,null,null,null,null,null,null,null,null,2920017600,"광산구","덕림동"]
[{"$f":"LEFT($B$1498,10)&TEXT($D$1498,\"0\")&TEXT($E$1498,\"0000\")&TEXT($F$1498,\"0000\")","v":"4480025021104700013"},4480025021,null,1,470,13,"470-13","대",69,null,null,null,"홍성군","국",null,null,null,null,null,null,null,null,null,null,2920017700,"광산구","양산동"]
[{"$f":"LEFT($B$1499,10)&TEXT($D$1499,\"0\")&TEXT($E$1499,\"0000\")&TEXT($F$1499,\"0000\")","v":"4480025021104700014"},4480025021,null,1,470,14,"470-14","대",18,null,null,null,"홍성군","국",null,null,null,null,null,null,null,null,null,null,2920017800,"광산구","동림동"]
[{"$f":"LEFT($B$1500,10)&TEXT($D$1500,\"0\")&TEXT($E$1500,\"0000\")&TEXT($F$1500,\"0000\")","v":"4480025021104700018"},4480025021,null,1,470,18,"470-18","대",177,null,null,null,"홍성군","국",null,null,null,null,null,null,null,null,null,null,2920020200,"광산구","오선동"]
[{"$f":"LEFT($B$1501,10)&TEXT($D$1501,\"0\")&TEXT($E$1501,\"0000\")&TEXT($F$1501,\"0000\")","v":"4480025021104710003"},4480025021,null,1,471,3,"471-3","대",220,null,null,null,"대구광역시달서구성서공단북로77-20(호산동)","이상훈",null,null,null,null,null,null,null,null,null,null,3011010100,"동구","원동"]
[{"$f":"LEFT($B$1502,10)&TEXT($D$1502,\"0\")&TEXT($E$1502,\"0000\")&TEXT($F$1502,\"0000\")","v":"4480025021104710005"},4480025021,null,1,471,5,"471-5","대",152,null,null,null,"학계리568","장춘열",null,null,null,null,null,null,null,null,null,null,3011010200,"동구","인동"]
[{"$f":"LEFT($B$1503,10)&TEXT($D$1503,\"0\")&TEXT($E$1503,\"0000\")&TEXT($F$1503,\"0000\")","v":"4480025021104710006"},4480025021,null,1,471,6,"471-6","대",167,null,null,null,"홍동면홍원리368","강석룡",null,null,null,null,null,null,null,null,null,null,3011010300,"동구","효동"]
[{"$f":"LEFT($B$1504,10)&TEXT($D$1504,\"0\")&TEXT($E$1504,\"0000\")&TEXT($F$1504,\"0000\")","v":"4480025021104710007"},4480025021,null,1,471,7,"471-7","대",123,null,null,null,"충청남도홍성군홍성읍홍성천길120-26","박영신",null,null,null,null,null,null,null,null,null,null,3011010400,"동구","천동"]
[{"$f":"LEFT($B$1505,10)&TEXT($D$1505,\"0\")&TEXT($E$1505,\"0000\")&TEXT($F$1505,\"0000\")","v":"4480025021104710008"},4480025021,null,1,471,8,"471-8","대",132,null,null,null,"471-8","고광배",null,null,null,null,null,null,null,null,null,null,3011010500,"동구","가오동"]
[{"$f":"LEFT($B$1506,10)&TEXT($D$1506,\"0\")&TEXT($E$1506,\"0000\")&TEXT($F$1506,\"0000\")","v":"4480025021104710009"},4480025021,null,1,471,9,"471-9","답",254,null,null,null,"경기도부천시원미구역곡동201-21삼성쉐르빌아파트-201","김록자",null,null,null,null,null,null,null,null,null,null,3011010600,"동구","신흥동"]
[{"$f":"LEFT($B$1507,10)&TEXT($D$1507,\"0\")&TEXT($E$1507,\"0000\")&TEXT($F$1507,\"0000\")","v":"4480025021104710016"},4480025021,null,1,471,16,"471-16","답",31,null,null,null,"충청남도홍성군홍성읍홍성천길120-26","박영신",null,null,null,null,null,null,null,null,null,null,3011010700,"동구","판암동"]
[{"$f":"LEFT($B$1508,10)&TEXT($D$1508,\"0\")&TEXT($E$1508,\"0000\")&TEXT($F$1508,\"0000\")","v":"4480025021104710017"},4480025021,null,1,471,17,"471-17","답",31,null,null,null,"학계리568","장춘열",null,null,null,null,null,null,null,null,null,null,3011010800,"동구","삼정동"]
[{"$f":"LEFT($B$1509,10)&TEXT($D$1509,\"0\")&TEXT($E$1509,\"0000\")&TEXT($F$1509,\"0000\")","v":"4480025021104710018"},4480025021,null,1,471,18,"471-18","답",7,null,null,null,"홍성군","국",null,null,null,null,null,null,null,null,null,null,3011010900,"동구","용운동"]
[{"$f":"LEFT($B$1510,10)&TEXT($D$1510,\"0\")&TEXT($E$1510,\"0000\")&TEXT($F$1510,\"0000\")","v":"4480025021104710020"},4480025021,null,1,471,20,"471-20","답",7,null,null,null,"홍성군","국",null,null,null,null,null,null,null,null,null,null,3011011000,"동구","대동"]
[{"$f":"LEFT($B$1511,10)&TEXT($D$1511,\"0\")&TEXT($E$1511,\"0000\")&TEXT($F$1511,\"0000\")","v":"4480025021104710022"},4480025021,null,1,471,22,"471-22","답",78,null,null,null,"홍성군","국",null,null,null,null,null,null,null,null,null,null,3011011100,"동구","자양동"]
[{"$f":"LEFT($B$1512,10)&TEXT($D$1512,\"0\")&TEXT($E$1512,\"0000\")&TEXT($F$1512,\"0000\")","v":"4480025021104710024"},4480025021,null,1,471,24,"471-24","답",82,null,null,null,"서산시죽성동74-1삼성아파트115-1403","임수영",null,null,null,null,null,null,null,null,null,null,3011011200,"동구","신안동"]
[{"$f":"LEFT($B$1513,10)&TEXT($D$1513,\"0\")&TEXT($E$1513,\"0000\")&TEXT($F$1513,\"0000\")","v":"4480025021104710025"},4480025021,null,1,471,25,"471-25","답",6,null,null,null,"홍성군","국",null,null,null,null,null,null,null,null,null,null,3011011300,"동구","소제동"]
[{"$f":"LEFT($B$1514,10)&TEXT($D$1514,\"0\")&TEXT($E$1514,\"0000\")&TEXT($F$1514,\"0000\")","v":"4480025021104710026"},4480025021,null,1,471,26,"471-26","답",29,null,null,null,"홍성군","국",null,null,null,null,null,null,null,null,null,null,3011011400,"동구","가양동"]
[{"$f":"LEFT($B$1515,10)&TEXT($D$1515,\"0\")&TEXT($E$1515,\"0000\")&TEXT($F$1515,\"0000\")","v":"4480025021104710029"},4480025021,null,1,471,29,"471-29","답",233,null,null,null,null,null,null,null,null,null,null,null,null,null,null,null,3011011500,"동구","용전동"]
[{"$f":"LEFT($B$1516,10)&TEXT($D$1516,\"0\")&TEXT($E$1516,\"0000\")&TEXT($F$1516,\"0000\")","v":"4480025021104710032"},4480025021,null,1,471,32,"471-32","답",136,null,null,null,"서산시죽성동74-1삼성아파트115-1403","임수영",null,null,null,null,null,null,null,null,null,null,3011011600,"동구","성남동"]
[{"$f":"LEFT($B$1517,10)&TEXT($D$1517,\"0\")&TEXT($E$1517,\"0000\")&TEXT($F$1517,\"0000\")","v":"4480025021104710033"},4480025021,null,1,471,33,"471-33","답",2,null,null,null,"서산시죽성동74-1삼성아파트115-1403","임수영",null,null,null,null,null,null,null,null,null,null,3011011700,"동구","홍도동"]
[{"$f":"LEFT($B$1518,10)&TEXT($D$1518,\"0\")&TEXT($E$1518,\"0000\")&TEXT($F$1518,\"0000\")","v":"4480025021104710034"},4480025021,null,1,471,34,"471-34","답",1,null,null,null,"서산시죽성동74-1삼성아파트115-1403","임수영",null,null,null,null,null,null,null,null,null,null,3011011800,"동구","삼성동"]
[{"$f":"LEFT($B$1519,10)&TEXT($D$1519,\"0\")&TEXT($E$1519,\"0000\")&TEXT($F$1519,\"0000\")","v":"4480025021104720001"},4480025021,null,1,472,1,"472-1","답",577,null,null,null,"홍성군","국",null,null,null,null,null,null,null,null,null,null,3011011900,"동구","정동"]
[{"$f":"LEFT($B$1520,10)&TEXT($D$1520,\"0\")&TEXT($E$1520,\"0000\")&TEXT($F$1520,\"0000\")","v":"4480025021104720003"},4480025021,null,1,472,3,"472-3","답",69,null,null,null,"국(기획재정부)","국",null,null,null,null,null,null,null,null,null,null,3011012000,"동구","중동"]
[{"$f":"LEFT($B$1521,10)&TEXT($D$1521,\"0\")&TEXT($E$1521,\"0000\")&TEXT($F$1521,\"0000\")","v":"4480025021104720004"},4480025021,null,1,472,4,"472-4","답",1417,null,null,null,"홍성군","국",null,null,null,null,null,null,null,null,null,null,3011012100,"동구","추동"]
[{"$f":"LEFT($B$1522,10)&TEXT($D$1522,\"0\")&TEXT($E$1522,\"0000\")&TEXT($F$1522,\"0000\")","v":"4480025021104730002"},4480025021,null,1,473,2,"473-2","대",382,null,null,null,"홍성군","국",null,null,null,null,null,null,null,null,null,null,3011012200,"동구","비룡동"]
[{"$f":"LEFT($B$1523,10)&TEXT($D$1523,\"0\")&TEXT($E$1523,\"0000\")&TEXT($F$1523,\"0000\")","v":"4480025021104740005"},4480025021,null,1,474,5,"474-5","도",67,null,null,null,"홍성군","국",null,null,null,null,null,null,null,null,null,null,3011012300,"동구","주산동"]
[{"$f":"LEFT($B$1524,10)&TEXT($D$1524,\"0\")&TEXT($E$1524,\"0000\")&TEXT($F$1524,\"0000\")","v":"4480025021104740007"},4480025021,null,1,474,7,"474-7","대",1777,null,null,null,"홍성군","국",null,null,null,null,null,null,null,null,null,null,3011012400,"동구","용계동"]
[{"$f":"LEFT($B$1525,10)&TEXT($D$1525,\"0\")&TEXT($E$1525,\"0000\")&TEXT($F$1525,\"0000\")","v":"4480025021104740008"},4480025021,null,1,474,8,"474-8","대",9,null,null,null,"홍성군","국",null,null,null,null,null,null,null,null,null,null,3011012500,"동구","마산동"]
[{"$f":"LEFT($B$1526,10)&TEXT($D$1526,\"0\")&TEXT($E$1526,\"0000\")&TEXT($F$1526,\"0000\")","v":"4480025021104740009"},4480025021,null,1,474,9,"474-9","도",223,null,null,null,"홍성군","국",null,null,null,null,null,null,null,null,null,null,3011012600,"동구","효평동"]
[{"$f":"LEFT($B$1527,10)&TEXT($D$1527,\"0\")&TEXT($E$1527,\"0000\")&TEXT($F$1527,\"0000\")","v":"4480025021104740010"},4480025021,null,1,474,10,"474-10","대",1,null,null,null,"홍성군","국",null,null,null,null,null,null,null,null,null,null,3011012700,"동구","직동"]
[{"$f":"LEFT($B$1528,10)&TEXT($D$1528,\"0\")&TEXT($E$1528,\"0000\")&TEXT($F$1528,\"0000\")","v":"4480025021104740013"},4480025021,null,1,474,13,"474-13","도",18,null,null,null,"홍성군","국",null,null,null,null,null,null,null,null,null,null,3011012800,"동구","세천동"]
[{"$f":"LEFT($B$1529,10)&TEXT($D$1529,\"0\")&TEXT($E$1529,\"0000\")&TEXT($F$1529,\"0000\")","v":"4480025021104740016"},4480025021,null,1,474,16,"474-16","대",29,null,null,null,"홍성군","국",null,null,null,null,null,null,null,null,null,null,3011012900,"동구","신상동"]
[{"$f":"LEFT($B$1530,10)&TEXT($D$1530,\"0\")&TEXT($E$1530,\"0000\")&TEXT($F$1530,\"0000\")","v":"4480025021104750000"},4480025021,null,1,475,0,475,"대",6043,null,null,null,"홍성군","국",null,null,null,null,null,null,null,null,null,null,3011013000,"동구","신하동"]
[{"$f":"LEFT($B$1531,10)&TEXT($D$1531,\"0\")&TEXT($E$1531,\"0000\")&TEXT($F$1531,\"0000\")","v":"4480025021104750001"},4480025021,null,1,475,1,"475-1","대",205,null,null,null,"홍성군","국",null,null,null,null,null,null,null,null,null,null,3011013100,"동구","신촌동"]
[{"$f":"LEFT($B$1532,10)&TEXT($D$1532,\"0\")&TEXT($E$1532,\"0000\")&TEXT($F$1532,\"0000\")","v":"4480025021104750003"},4480025021,null,1,475,3,"475-3","대",4,null,null,null,"홍성군","국",null,null,null,null,null,null,null,null,null,null,3011013200,"동구","사성동"]
[{"$f":"LEFT($B$1533,10)&TEXT($D$1533,\"0\")&TEXT($E$1533,\"0000\")&TEXT($F$1533,\"0000\")","v":"4480025021104750005"},4480025021,null,1,475,5,"475-5","대",153,null,null,null,"홍성군","국",null,null,null,null,null,null,null,null,null,null,3011013300,"동구","내탑동"]
[{"$f":"LEFT($B$1534,10)&TEXT($D$1534,\"0\")&TEXT($E$1534,\"0000\")&TEXT($F$1534,\"0000\")","v":"4480025021104750006"},4480025021,null,1,475,6,"475-6","대",1,null,null,null,"홍성군","국",null,null,null,null,null,null,null,null,null,null,3011013400,"동구","오동"]
[{"$f":"LEFT($B$1535,10)&TEXT($D$1535,\"0\")&TEXT($E$1535,\"0000\")&TEXT($F$1535,\"0000\")","v":"4480025021104770001"},4480025021,null,1,477,1,"477-1","전",316,null,null,null,"477-1","노복순",null,null,null,null,null,null,null,null,null,null,3011013500,"동구","주촌동"]
[{"$f":"LEFT($B$1536,10)&TEXT($D$1536,\"0\")&TEXT($E$1536,\"0000\")&TEXT($F$1536,\"0000\")","v":"4480025021104770003"},4480025021,null,1,477,3,"477-3","전",337,null,null,null,"경기도남양주시별내면청학로114번길34708동804호(청학주공아파트)","오세윤",null,null,null,null,null,null,null,null,null,null,3011013600,"동구","낭월동"]
[{"$f":"LEFT($B$1537,10)&TEXT($D$1537,\"0\")&TEXT($E$1537,\"0000\")&TEXT($F$1537,\"0000\")","v":"4480025021104770004"},4480025021,null,1,477,4,"477-4","대",261,null,null,null,"오관리477-4","신상우",null,null,null,null,null,null,null,null,null,null,3011013700,"동구","대별동"]
[{"$f":"LEFT($B$1538,10)&TEXT($D$1538,\"0\")&TEXT($E$1538,\"0000\")&TEXT($F$1538,\"0000\")","v":"4480025021104770006"},4480025021,null,1,477,6,"477-6","대",192,null,null,null,"477-6","박상억",null,null,null,null,null,null,null,null,null,null,3011013800,"동구","이사동"]
[{"$f":"LEFT($B$1539,10)&TEXT($D$1539,\"0\")&TEXT($E$1539,\"0000\")&TEXT($F$1539,\"0000\")","v":"4480025021104770007"},4480025021,null,1,477,7,"477-7","전",117,null,null,null,"홍성군","국",null,null,null,null,null,null,null,null,null,null,3011013900,"동구","대성동"]
[{"$f":"LEFT($B$1540,10)&TEXT($D$1540,\"0\")&TEXT($E$1540,\"0000\")&TEXT($F$1540,\"0000\")","v":"4480025021104770008"},4480025021,null,1,477,8,"477-8","전",61,null,null,null,"홍성군","국",null,null,null,null,null,null,null,null,null,null,3011014000,"동구","장척동"]
[{"$f":"LEFT($B$1541,10)&TEXT($D$1541,\"0\")&TEXT($E$1541,\"0000\")&TEXT($F$1541,\"0000\")","v":"4480025021104770009"},4480025021,null,1,477,9,"477-9","전",15,null,null,null,"홍성군","국",null,null,null,null,null,null,null,null,null,null,3011014100,"동구","소호동"]
[{"$f":"LEFT($B$1542,10)&TEXT($D$1542,\"0\")&TEXT($E$1542,\"0000\")&TEXT($F$1542,\"0000\")","v":"4480025021104770010"},4480025021,null,1,477,10,"477-10","대",122,null,null,null,"홍성군","국",null,null,null,null,null,null,null,null,null,null,3011014200,"동구","구도동"]
[{"$f":"LEFT($B$1543,10)&TEXT($D$1543,\"0\")&TEXT($E$1543,\"0000\")&TEXT($F$1543,\"0000\")","v":"4480025021104770011"},4480025021,null,1,477,11,"477-11","대",6,null,null,null,"홍성군","국",null,null,null,null,null,null,null,null,null,null,3011014300,"동구","삼괴동"]
[{"$f":"LEFT($B$1544,10)&TEXT($D$1544,\"0\")&TEXT($E$1544,\"0000\")&TEXT($F$1544,\"0000\")","v":"4480025021104790001"},4480025021,null,1,479,1,"479-1","대",460,null,null,null,"충청남도홍성군홍성읍문화로90번길28-6","이기봉",null,null,null,null,null,null,null,null,null,null,3011014400,"동구","상소동"]
[{"$f":"LEFT($B$1545,10)&TEXT($D$1545,\"0\")&TEXT($E$1545,\"0000\")&TEXT($F$1545,\"0000\")","v":"4480025021104790003"},4480025021,null,1,479,3,"479-3","도",10,null,null,null,"국(건설교통부)","국",null,null,null,null,null,null,null,null,null,null,3011014500,"동구","하소동"]
[{"$f":"LEFT($B$1546,10)&TEXT($D$1546,\"0\")&TEXT($E$1546,\"0000\")&TEXT($F$1546,\"0000\")","v":"4480025021104790004"},4480025021,null,1,479,4,"479-4","전",119,null,null,null,"충청남도홍성군홍성읍문화로94-1","홍성군산림조합",null,null,null,null,null,null,null,null,null,null,3014010100,"중구","은행동"]
[{"$f":"LEFT($B$1547,10)&TEXT($D$1547,\"0\")&TEXT($E$1547,\"0000\")&TEXT($F$1547,\"0000\")","v":"4480025021104790005"},4480025021,null,1,479,5,"479-5","대",192,null,null,null,"충청남도홍성군광천읍충서로545번길97","이순일",null,null,null,null,null,null,null,null,null,null,3014010200,"중구","선화동"]
[{"$f":"LEFT($B$1548,10)&TEXT($D$1548,\"0\")&TEXT($E$1548,\"0000\")&TEXT($F$1548,\"0000\")","v":"4480025021104790007"},4480025021,null,1,479,7,"479-7","대",583,null,null,null,"충청남도홍성군홍성읍문화로88-1","방장근",null,null,null,null,null,null,null,null,null,null,3014010300,"중구","목동"]
[{"$f":"LEFT($B$1549,10)&TEXT($D$1549,\"0\")&TEXT($E$1549,\"0000\")&TEXT($F$1549,\"0000\")","v":"4480025021104790009"},4480025021,null,1,479,9,"479-9","전",103,null,null,null,"오관리479-6","김민환",null,null,null,null,null,null,null,null,null,null,3014010400,"중구","중촌동"]
[{"$f":"LEFT($B$1550,10)&TEXT($D$1550,\"0\")&TEXT($E$1550,\"0000\")&TEXT($F$1550,\"0000\")","v":"4480025021104790010"},4480025021,null,1,479,10,"479-10","대",31,null,null,null,"홍성군","국",null,null,null,null,null,null,null,null,null,null,3014010500,"중구","대흥동"]
[{"$f":"LEFT($B$1551,10)&TEXT($D$1551,\"0\")&TEXT($E$1551,\"0000\")&TEXT($F$1551,\"0000\")","v":"4480025021104790016"},4480025021,null,1,479,16,"479-16","대",101,null,null,null,"홍성군","국",null,null,null,null,null,null,null,null,null,null,3014010600,"중구","문창동"]
[{"$f":"LEFT($B$1552,10)&TEXT($D$1552,\"0\")&TEXT($E$1552,\"0000\")&TEXT($F$1552,\"0000\")","v":"4480025021104800002"},4480025021,null,1,480,2,"480-2","도",36,null,null,null,"국(건설부)","국",null,null,null,null,null,null,null,null,null,null,3014010700,"중구","석교동"]
[{"$f":"LEFT($B$1553,10)&TEXT($D$1553,\"0\")&TEXT($E$1553,\"0000\")&TEXT($F$1553,\"0000\")","v":"4480025021104800005"},4480025021,null,1,480,5,"480-5","대",17,null,null,null,"홍성군","국",null,null,null,null,null,null,null,null,null,null,3014010800,"중구","호동"]
[{"$f":"LEFT($B$1554,10)&TEXT($D$1554,\"0\")&TEXT($E$1554,\"0000\")&TEXT($F$1554,\"0000\")","v":"4480025021104810001"},4480025021,null,1,481,1,"481-1","대",482,null,null,null,"홍성군","국",null,null,null,null,null,null,null,null,null,null,3014010900,"중구","옥계동"]
[{"$f":"LEFT($B$1555,10)&TEXT($D$1555,\"0\")&TEXT($E$1555,\"0000\")&TEXT($F$1555,\"0000\")","v":"4480025021104810006"},4480025021,null,1,481,6,"481-6","대",301,null,null,null,"오관리481-6","노덕호",null,null,null,null,null,null,null,null,null,null,3014011000,"중구","대사동"]
[{"$f":"LEFT($B$1556,10)&TEXT($D$1556,\"0\")&TEXT($E$1556,\"0000\")&TEXT($F$1556,\"0000\")","v":"4480025021104810009"},4480025021,null,1,481,9,"481-9","도",26,null,null,null,"국(건설부)","국",null,null,null,null,null,null,null,null,null,null,3014011100,"중구","부사동"]
[{"$f":"LEFT($B$1557,10)&TEXT($D$1557,\"0\")&TEXT($E$1557,\"0000\")&TEXT($F$1557,\"0000\")","v":"4480025021104810010"},4480025021,null,1,481,10,"481-10","도",56,null,null,null,"국(건설부)","국",null,null,null,null,null,null,null,null,null,null,3014011200,"중구","용두동"]
[{"$f":"LEFT($B$1558,10)&TEXT($D$1558,\"0\")&TEXT($E$1558,\"0000\")&TEXT($F$1558,\"0000\")","v":"4480025021104810011"},4480025021,null,1,481,11,"481-11","대",314,null,null,null,"충청남도홍성군광천읍충서로545번길97","이순일",null,null,null,null,null,null,null,null,null,null,3014011300,"중구","오류동"]
[{"$f":"LEFT($B$1559,10)&TEXT($D$1559,\"0\")&TEXT($E$1559,\"0000\")&TEXT($F$1559,\"0000\")","v":"4480025021104810012"},4480025021,null,1,481,12,"481-12","대",165,null,null,null,"80-1","조은순",null,null,null,null,null,null,null,null,null,null,3014011400,"중구","태평동"]
[{"$f":"LEFT($B$1560,10)&TEXT($D$1560,\"0\")&TEXT($E$1560,\"0000\")&TEXT($F$1560,\"0000\")","v":"4480025021104810013"},4480025021,null,1,481,13,"481-13","대",169,null,null,null,"191-3","나기순",null,null,null,null,null,null,null,null,null,null,3014011500,"중구","유천동"]
[{"$f":"LEFT($B$1561,10)&TEXT($D$1561,\"0\")&TEXT($E$1561,\"0000\")&TEXT($F$1561,\"0000\")","v":"4480025021104810014"},4480025021,null,1,481,14,"481-14","대",258,null,null,null,"충청남도홍성군홍성읍오관리481-14","윤주희",null,null,null,null,null,null,null,null,null,null,3014011600,"중구","문화동"]
[{"$f":"LEFT($B$1562,10)&TEXT($D$1562,\"0\")&TEXT($E$1562,\"0000\")&TEXT($F$1562,\"0000\")","v":"4480025021104810015"},4480025021,null,1,481,15,"481-15","대",179,null,null,null,"인천광역시연수구컨벤시아대로130번길58101동202호(송도동송도자이하버뷰1단지))","이종순",null,null,null,null,null,null,null,null,null,null,3014011700,"중구","산성동"]
[{"$f":"LEFT($B$1563,10)&TEXT($D$1563,\"0\")&TEXT($E$1563,\"0000\")&TEXT($F$1563,\"0000\")","v":"4480025021104810016"},4480025021,null,1,481,16,"481-16","대",106,null,null,null,"장곡면상송리416","장영훈",null,null,null,null,null,null,null,null,null,null,3014011800,"중구","사정동"]
[{"$f":"LEFT($B$1564,10)&TEXT($D$1564,\"0\")&TEXT($E$1564,\"0000\")&TEXT($F$1564,\"0000\")","v":"4480025021104810017"},4480025021,null,1,481,17,"481-17","대",175,null,null,null,"충청남도홍성군홍성읍오관리481-17","김금자",null,null,null,null,null,null,null,null,null,null,3014011900,"중구","안영동"]
[{"$f":"LEFT($B$1565,10)&TEXT($D$1565,\"0\")&TEXT($E$1565,\"0000\")&TEXT($F$1565,\"0000\")","v":"4480025021104810023"},4480025021,null,1,481,23,"481-23","대",34,null,null,null,"충청남도홍성군홍북읍신대로33104동1706호(극동스타클래스센트럴)","윤인철",null,null,null,null,null,null,null,null,null,null,3014012000,"중구","무수동"]
[{"$f":"LEFT($B$1566,10)&TEXT($D$1566,\"0\")&TEXT($E$1566,\"0000\")&TEXT($F$1566,\"0000\")","v":"4480025021104810025"},4480025021,null,1,481,25,"481-25","도",125,null,null,null,"홍성군","국",null,null,null,null,null,null,null,null,null,null,3014012100,"중구","구완동"]
[{"$f":"LEFT($B$1567,10)&TEXT($D$1567,\"0\")&TEXT($E$1567,\"0000\")&TEXT($F$1567,\"0000\")","v":"4480025021104810026"},4480025021,null,1,481,26,"481-26","대",8,null,null,null,"홍성군","국",null,null,null,null,null,null,null,null,null,null,3014012200,"중구","침산동"]
[{"$f":"LEFT($B$1568,10)&TEXT($D$1568,\"0\")&TEXT($E$1568,\"0000\")&TEXT($F$1568,\"0000\")","v":"4480025021104810028"},4480025021,null,1,481,28,"481-28","대",147,null,null,null,"홍성군","국",null,null,null,null,null,null,null,null,null,null,3014012300,"중구","목달동"]
[{"$f":"LEFT($B$1569,10)&TEXT($D$1569,\"0\")&TEXT($E$1569,\"0000\")&TEXT($F$1569,\"0000\")","v":"4480025021104820001"},4480025021,null,1,482,1,"482-1","답",2212,null,null,null,"충청남도홍성군홍성읍오관리329-7","명기철",null,null,null,null,null,null,null,null,null,null,3014012400,"중구","정생동"]
[{"$f":"LEFT($B$1570,10)&TEXT($D$1570,\"0\")&TEXT($E$1570,\"0000\")&TEXT($F$1570,\"0000\")","v":"4480025021104820002"},4480025021,null,1,482,2,"482-2","답",231,null,null,null,"충청남도홍성군홍성읍대내길19-11","정옥희",null,null,null,null,null,null,null,null,null,null,3014012500,"중구","어남동"]
[{"$f":"LEFT($B$1571,10)&TEXT($D$1571,\"0\")&TEXT($E$1571,\"0000\")&TEXT($F$1571,\"0000\")","v":"4480025021104820003"},4480025021,null,1,482,3,"482-3","도",10,null,null,null,"국(건설교통부)","국",null,null,null,null,null,null,null,null,null,null,3014012600,"중구","금동"]
[{"$f":"LEFT($B$1572,10)&TEXT($D$1572,\"0\")&TEXT($E$1572,\"0000\")&TEXT($F$1572,\"0000\")","v":"4480025021104820007"},4480025021,null,1,482,7,"482-7","도",40,null,null,null,"국(건설부)","국",null,null,null,null,null,null,null,null,null,null,3017010100,"서구","복수동"]
[{"$f":"LEFT($B$1573,10)&TEXT($D$1573,\"0\")&TEXT($E$1573,\"0000\")&TEXT($F$1573,\"0000\")","v":"4480025021104820008"},4480025021,null,1,482,8,"482-8","답",946,null,null,null,"충청남도홍성군홍성읍충절로1032번길61","임상순",null,null,null,null,null,null,null,null,null,null,3017010200,"서구","변동"]
[{"$f":"LEFT($B$1574,10)&TEXT($D$1574,\"0\")&TEXT($E$1574,\"0000\")&TEXT($F$1574,\"0000\")","v":"4480025021104820011"},4480025021,null,1,482,11,"482-11","답",12,null,null,null,"361-17","정옥희",null,null,null,null,null,null,null,null,null,null,3017010300,"서구","도마동"]
[{"$f":"LEFT($B$1575,10)&TEXT($D$1575,\"0\")&TEXT($E$1575,\"0000\")&TEXT($F$1575,\"0000\")","v":"4480025021104830001"},4480025021,null,1,483,1,"483-1","천",2036,null,null,null,"국(건설교통부)","국",null,null,null,null,null,null,null,null,null,null,3017010400,"서구","정림동"]
[{"$f":"LEFT($B$1576,10)&TEXT($D$1576,\"0\")&TEXT($E$1576,\"0000\")&TEXT($F$1576,\"0000\")","v":"4480025021104830002"},4480025021,null,1,483,2,"483-2","제",1745,null,null,null,"국(건설교통부)","국",null,null,null,null,null,null,null,null,null,null,3017010500,"서구","용문동"]
[{"$f":"LEFT($B$1577,10)&TEXT($D$1577,\"0\")&TEXT($E$1577,\"0000\")&TEXT($F$1577,\"0000\")","v":"4480025021104830005"},4480025021,null,1,483,5,"483-5","답",15,null,null,null,"361-17","정옥희",null,null,null,null,null,null,null,null,null,null,3017010600,"서구","탄방동"]
[{"$f":"LEFT($B$1578,10)&TEXT($D$1578,\"0\")&TEXT($E$1578,\"0000\")&TEXT($F$1578,\"0000\")","v":"4480025021104830006"},4480025021,null,1,483,6,"483-6","답",93,null,null,null,"361-17","정옥희",null,null,null,null,null,null,null,null,null,null,3017010800,"서구","괴정동"]
[{"$f":"LEFT($B$1579,10)&TEXT($D$1579,\"0\")&TEXT($E$1579,\"0000\")&TEXT($F$1579,\"0000\")","v":"4480025021104830007"},4480025021,null,1,483,7,"483-7","답",440,null,null,null,"충청남도홍성군홍성읍대내길19-11","정옥희",null,null,null,null,null,null,null,null,null,null,3017010900,"서구","가장동"]
[{"$f":"LEFT($B$1580,10)&TEXT($D$1580,\"0\")&TEXT($E$1580,\"0000\")&TEXT($F$1580,\"0000\")","v":"4480025021104840001"},4480025021,null,1,484,1,"484-1","대",389,null,null,null,"서울성동구하왕십리970-56","강경순",null,null,null,null,null,null,null,null,null,null,3017011000,"서구","내동"]
[{"$f":"LEFT($B$1581,10)&TEXT($D$1581,\"0\")&TEXT($E$1581,\"0000\")&TEXT($F$1581,\"0000\")","v":"4480025021104840002"},4480025021,null,1,484,2,"484-2","제",185,null,null,null,"국(국세청)","국",null,null,null,null,null,null,null,null,null,null,3017011100,"서구","갈마동"]
[{"$f":"LEFT($B$1582,10)&TEXT($D$1582,\"0\")&TEXT($E$1582,\"0000\")&TEXT($F$1582,\"0000\")","v":"4480025021104840004"},4480025021,null,1,484,4,"484-4","도",231,null,null,null,"국(건설부)","국",null,null,null,null,null,null,null,null,null,null,3017011200,"서구","둔산동"]
[{"$f":"LEFT($B$1583,10)&TEXT($D$1583,\"0\")&TEXT($E$1583,\"0000\")&TEXT($F$1583,\"0000\")","v":"4480025021104840005"},4480025021,null,1,484,5,"484-5","대",1214,null,null,null,"서울성동구하왕십리970-56","강경순",null,null,null,null,null,null,null,null,null,null,3017011300,"서구","월평동"]
[{"$f":"LEFT($B$1584,10)&TEXT($D$1584,\"0\")&TEXT($E$1584,\"0000\")&TEXT($F$1584,\"0000\")","v":"4480025021104840006"},4480025021,null,1,484,6,"484-6","답",225,null,null,null,"서울성동구하왕십리970-56","강경순",null,null,null,null,null,null,null,null,null,null,3017011400,"서구","가수원동"]
[{"$f":"LEFT($B$1585,10)&TEXT($D$1585,\"0\")&TEXT($E$1585,\"0000\")&TEXT($F$1585,\"0000\")","v":"4480025021104850001"},4480025021,null,1,485,1,"485-1","전",344,null,null,null,"대교리361-1","이승진",null,null,null,null,null,null,null,null,null,null,3017011500,"서구","도안동"]
[{"$f":"LEFT($B$1586,10)&TEXT($D$1586,\"0\")&TEXT($E$1586,\"0000\")&TEXT($F$1586,\"0000\")","v":"4480025021104850003"},4480025021,null,1,485,3,"485-3","천",7,null,null,null,"국(건설교통부)","국",null,null,null,null,null,null,null,null,null,null,3017011600,"서구","관저동"]
[{"$f":"LEFT($B$1587,10)&TEXT($D$1587,\"0\")&TEXT($E$1587,\"0000\")&TEXT($F$1587,\"0000\")","v":"4480025021104850004"},4480025021,null,1,485,4,"485-4","도",86,null,null,null,"오관리587","김호동",null,null,null,null,null,null,null,null,null,null,3017011700,"서구","흑석동"]
[{"$f":"LEFT($B$1588,10)&TEXT($D$1588,\"0\")&TEXT($E$1588,\"0000\")&TEXT($F$1588,\"0000\")","v":"4480025021104850005"},4480025021,null,1,485,5,"485-5","도",126,null,null,null,"국(건설부)","국",null,null,null,null,null,null,null,null,null,null,3017011800,"서구","매노동"]
[{"$f":"LEFT($B$1589,10)&TEXT($D$1589,\"0\")&TEXT($E$1589,\"0000\")&TEXT($F$1589,\"0000\")","v":"4480025021104860001"},4480025021,null,1,486,1,"486-1","답",375,null,null,null,"충청남도홍성군홍성읍대교리242-7","유병근",null,null,null,null,null,null,null,null,null,null,3017011900,"서구","산직동"]
[{"$f":"LEFT($B$1590,10)&TEXT($D$1590,\"0\")&TEXT($E$1590,\"0000\")&TEXT($F$1590,\"0000\")","v":"4480025021104870002"},4480025021,null,1,487,2,"487-2","도",26,null,null,null,"국(건설부)","국",null,null,null,null,null,null,null,null,null,null,3017012000,"서구","장안동"]
[{"$f":"LEFT($B$1591,10)&TEXT($D$1591,\"0\")&TEXT($E$1591,\"0000\")&TEXT($F$1591,\"0000\")","v":"4480025021104880001"},4480025021,null,1,488,1,"488-1","잡",331,null,null,null,"경기도성남시분당구정자동206","주식회사케이트",null,null,null,null,null,null,null,null,null,null,3017012100,"서구","평촌동"]
[{"$f":"LEFT($B$1592,10)&TEXT($D$1592,\"0\")&TEXT($E$1592,\"0000\")&TEXT($F$1592,\"0000\")","v":"4480025021104880002"},4480025021,null,1,488,2,"488-2","대",2784,null,null,null,"국(국가보훈처)","국",null,null,null,null,null,null,null,null,null,null,3017012200,"서구","오동"]
[{"$f":"LEFT($B$1593,10)&TEXT($D$1593,\"0\")&TEXT($E$1593,\"0000\")&TEXT($F$1593,\"0000\")","v":"4480025021104880003"},4480025021,null,1,488,3,"488-3","대",221,null,null,null,"국(국가보훈처)","국",null,null,null,null,null,null,null,null,null,null,3017012300,"서구","우명동"]
[{"$f":"LEFT($B$1594,10)&TEXT($D$1594,\"0\")&TEXT($E$1594,\"0000\")&TEXT($F$1594,\"0000\")","v":"4480025021104900000"},4480025021,null,1,490,0,490,"답",11,null,null,null,"홍성군","국",null,null,null,null,null,null,null,null,null,null,3017012400,"서구","원정동"]
[{"$f":"LEFT($B$1595,10)&TEXT($D$1595,\"0\")&TEXT($E$1595,\"0000\")&TEXT($F$1595,\"0000\")","v":"4480025021104900002"},4480025021,null,1,490,2,"490-2","도",1614,null,null,null,"홍성군","국",null,null,null,null,null,null,null,null,null,null,3017012500,"서구","용촌동"]
[{"$f":"LEFT($B$1596,10)&TEXT($D$1596,\"0\")&TEXT($E$1596,\"0000\")&TEXT($F$1596,\"0000\")","v":"4480025021104900004"},4480025021,null,1,490,4,"490-4","대",408,null,null,null,null,null,null,null,null,null,null,null,null,null,null,null,3017012600,"서구","봉곡동"]
[{"$f":"LEFT($B$1597,10)&TEXT($D$1597,\"0\")&TEXT($E$1597,\"0000\")&TEXT($F$1597,\"0000\")","v":"4480025021104900006"},4480025021,null,1,490,6,"490-6","대",428,null,null,null,null,null,null,null,null,null,null,null,null,null,null,null,3017012700,"서구","괴곡동"]
[{"$f":"LEFT($B$1598,10)&TEXT($D$1598,\"0\")&TEXT($E$1598,\"0000\")&TEXT($F$1598,\"0000\")","v":"4480025021104900007"},4480025021,null,1,490,7,"490-7","대",427,null,null,null,null,null,null,null,null,null,null,null,null,null,null,null,3017012800,"서구","만년동"]
[{"$f":"LEFT($B$1599,10)&TEXT($D$1599,\"0\")&TEXT($E$1599,\"0000\")&TEXT($F$1599,\"0000\")","v":"4480025021104900009"},4480025021,null,1,490,9,"490-9","답",8,null,null,null,"경기도용인시기흥구보정동1197-2풍산프라자602호","서해주식회사",null,null,null,null,null,null,null,null,null,null,3020010100,"유성구","원내동"]
[{"$f":"LEFT($B$1600,10)&TEXT($D$1600,\"0\")&TEXT($E$1600,\"0000\")&TEXT($F$1600,\"0000\")","v":"4480025021104910007"},4480025021,null,1,491,7,"491-7","대",661,null,null,null,"361-7","김기옹",null,null,null,null,null,null,null,null,null,null,3020010200,"유성구","교촌동"]
[{"$f":"LEFT($B$1601,10)&TEXT($D$1601,\"0\")&TEXT($E$1601,\"0000\")&TEXT($F$1601,\"0000\")","v":"4480025021104910010"},4480025021,null,1,491,10,"491-10","대",546,null,null,null,"오관리491","최보현",null,null,null,null,null,null,null,null,null,null,3020010300,"유성구","대정동"]
[{"$f":"LEFT($B$1602,10)&TEXT($D$1602,\"0\")&TEXT($E$1602,\"0000\")&TEXT($F$1602,\"0000\")","v":"4480025021104910011"},4480025021,null,1,491,11,"491-11","전",240,null,null,null,"서울특별시노원구동일로207길186102동1404호(하계동학여울청구아파트)","김종월",null,null,null,null,null,null,null,null,null,null,3020010400,"유성구","용계동"]
[{"$f":"LEFT($B$1603,10)&TEXT($D$1603,\"0\")&TEXT($E$1603,\"0000\")&TEXT($F$1603,\"0000\")","v":"4480025021104920002"},4480025021,null,1,492,2,"492-2","대",139,null,null,null,"492-2","김진한",null,null,null,null,null,null,null,null,null,null,3020010500,"유성구","학하동"]
[{"$f":"LEFT($B$1604,10)&TEXT($D$1604,\"0\")&TEXT($E$1604,\"0000\")&TEXT($F$1604,\"0000\")","v":"4480025021104920004"},4480025021,null,1,492,4,"492-4","대",40,null,null,null,"492-2","김진한",null,null,null,null,null,null,null,null,null,null,3020010600,"유성구","계산동"]
[{"$f":"LEFT($B$1605,10)&TEXT($D$1605,\"0\")&TEXT($E$1605,\"0000\")&TEXT($F$1605,\"0000\")","v":"4480025021104920005"},4480025021,null,1,492,5,"492-5","대",21,null,null,null,"492-2","김진한",null,null,null,null,null,null,null,null,null,null,3020010700,"유성구","성북동"]
[{"$f":"LEFT($B$1606,10)&TEXT($D$1606,\"0\")&TEXT($E$1606,\"0000\")&TEXT($F$1606,\"0000\")","v":"4480025021104930000"},4480025021,null,1,493,0,493,"대",89,null,null,null,"오관리419","서정석",null,null,null,null,null,null,null,null,null,null,3020010800,"유성구","세동"]
[{"$f":"LEFT($B$1607,10)&TEXT($D$1607,\"0\")&TEXT($E$1607,\"0000\")&TEXT($F$1607,\"0000\")","v":"4480025021104940001"},4480025021,null,1,494,1,"494-1","도",142,null,null,null,"국(건설교통부)","국",null,null,null,null,null,null,null,null,null,null,3020010900,"유성구","송정동"]
[{"$f":"LEFT($B$1608,10)&TEXT($D$1608,\"0\")&TEXT($E$1608,\"0000\")&TEXT($F$1608,\"0000\")","v":"4480025021104940002"},4480025021,null,1,494,2,"494-2","대",212,null,null,null,"국(국가보훈처)","국",null,null,null,null,null,null,null,null,null,null,3020011000,"유성구","방동"]
[{"$f":"LEFT($B$1609,10)&TEXT($D$1609,\"0\")&TEXT($E$1609,\"0000\")&TEXT($F$1609,\"0000\")","v":"4480025021104950001"},4480025021,null,1,495,1,"495-1","도",102,null,null,null,"홍성군","국",null,null,null,null,null,null,null,null,null,null,3020011100,"유성구","봉명동"]
[{"$f":"LEFT($B$1610,10)&TEXT($D$1610,\"0\")&TEXT($E$1610,\"0000\")&TEXT($F$1610,\"0000\")","v":"4480025021104950002"},4480025021,null,1,495,2,"495-2","대",311,null,null,null,"충청남도홍성군홍성읍의사로9에이동1507호(우주은하아파트)","최성표",null,null,null,null,null,null,null,null,null,null,3020011200,"유성구","구암동"]
[{"$f":"LEFT($B$1611,10)&TEXT($D$1611,\"0\")&TEXT($E$1611,\"0000\")&TEXT($F$1611,\"0000\")","v":"4480025021104950003"},4480025021,null,1,495,3,"495-3","대",393,null,null,null,"오관리495-3","최덕규",null,null,null,null,null,null,null,null,null,null,3020011300,"유성구","덕명동"]
[{"$f":"LEFT($B$1612,10)&TEXT($D$1612,\"0\")&TEXT($E$1612,\"0000\")&TEXT($F$1612,\"0000\")","v":"4480025021104960002"},4480025021,null,1,496,2,"496-2","대",338,null,null,null,"충청남도홍성군홍성읍문화로72번길72201동504호(홍성남장2주공아파트)","신인훈",null,null,null,null,null,null,null,null,null,null,3020011400,"유성구","원신흥동"]
[{"$f":"LEFT($B$1613,10)&TEXT($D$1613,\"0\")&TEXT($E$1613,\"0000\")&TEXT($F$1613,\"0000\")","v":"4480025021104960004"},4480025021,null,1,496,4,"496-4","대",24,null,null,null,"충청남도홍성군홍성읍문화로72번길72201동504호(홍성남장2주공아파트)","신인훈",null,null,null,null,null,null,null,null,null,null,3020011500,"유성구","상대동"]
[{"$f":"LEFT($B$1614,10)&TEXT($D$1614,\"0\")&TEXT($E$1614,\"0000\")&TEXT($F$1614,\"0000\")","v":"4480025021104970002"},4480025021,null,1,497,2,"497-2","전",3,null,null,null,"충청남도홍성군홍성읍문화로72번길92106동702호(주공그린빌)","조윤형",null,null,null,null,null,null,null,null,null,null,3020011600,"유성구","복용동"]
[{"$f":"LEFT($B$1615,10)&TEXT($D$1615,\"0\")&TEXT($E$1615,\"0000\")&TEXT($F$1615,\"0000\")","v":"4480025021104970003"},4480025021,null,1,497,3,"497-3","도",218,null,null,null,"홍성군","국",null,null,null,null,null,null,null,null,null,null,3020011700,"유성구","장대동"]
[{"$f":"LEFT($B$1616,10)&TEXT($D$1616,\"0\")&TEXT($E$1616,\"0000\")&TEXT($F$1616,\"0000\")","v":"4480025021104970005"},4480025021,null,1,497,5,"497-5","대",238,null,null,null,"충청남도홍성군홍성읍문화로812층","이기영",null,null,null,null,null,null,null,null,null,null,3020011800,"유성구","갑동"]
[{"$f":"LEFT($B$1617,10)&TEXT($D$1617,\"0\")&TEXT($E$1617,\"0000\")&TEXT($F$1617,\"0000\")","v":"4480025021104970006"},4480025021,null,1,497,6,"497-6","도",182,null,null,null,"홍성군","국",null,null,null,null,null,null,null,null,null,null,3020011900,"유성구","노은동"]
[{"$f":"LEFT($B$1618,10)&TEXT($D$1618,\"0\")&TEXT($E$1618,\"0000\")&TEXT($F$1618,\"0000\")","v":"4480025021104990004"},4480025021,null,1,499,4,"499-4","대",358,null,null,null,"충청남도홍성군홍성읍홍장북로433-29","신동철",null,null,null,null,null,null,null,null,null,null,3020012000,"유성구","지족동"]
[{"$f":"LEFT($B$1619,10)&TEXT($D$1619,\"0\")&TEXT($E$1619,\"0000\")&TEXT($F$1619,\"0000\")","v":"4480025021104990005"},4480025021,null,1,499,5,"499-5","전",873,null,null,null,"499-5","신동숙",null,null,null,null,null,null,null,null,null,null,3020012100,"유성구","죽동"]
[{"$f":"LEFT($B$1620,10)&TEXT($D$1620,\"0\")&TEXT($E$1620,\"0000\")&TEXT($F$1620,\"0000\")","v":"4480025021104990006"},4480025021,null,1,499,6,"499-6","대",597,null,null,null,"오관리499-6","정소심",null,null,null,null,null,null,null,null,null,null,3020012200,"유성구","궁동"]
[{"$f":"LEFT($B$1621,10)&TEXT($D$1621,\"0\")&TEXT($E$1621,\"0000\")&TEXT($F$1621,\"0000\")","v":"4480025021104990007"},4480025021,null,1,499,7,"499-7","대",674,null,null,null,"481-6","노덕호",null,null,null,null,null,null,null,null,null,null,3020012300,"유성구","어은동"]
[{"$f":"LEFT($B$1622,10)&TEXT($D$1622,\"0\")&TEXT($E$1622,\"0000\")&TEXT($F$1622,\"0000\")","v":"4480025021104990009"},4480025021,null,1,499,9,"499-9","도",23,null,null,null,"홍성군","국",null,null,null,null,null,null,null,null,null,null,3020012400,"유성구","구성동"]
[{"$f":"LEFT($B$1623,10)&TEXT($D$1623,\"0\")&TEXT($E$1623,\"0000\")&TEXT($F$1623,\"0000\")","v":"4480025021104990010"},4480025021,null,1,499,10,"499-10","전",647,null,null,null,"충청남도홍성군홍성읍문화로67","전호성",null,null,null,null,null,null,null,null,null,null,3020012500,"유성구","신성동"]
[{"$f":"LEFT($B$1624,10)&TEXT($D$1624,\"0\")&TEXT($E$1624,\"0000\")&TEXT($F$1624,\"0000\")","v":"4480025021104990012"},4480025021,null,1,499,12,"499-12","전",265,null,null,null,"537-8","김영진",null,null,null,null,null,null,null,null,null,null,3020012600,"유성구","가정동"]
[{"$f":"LEFT($B$1625,10)&TEXT($D$1625,\"0\")&TEXT($E$1625,\"0000\")&TEXT($F$1625,\"0000\")","v":"4480025021104990013"},4480025021,null,1,499,13,"499-13","대",284,null,null,null,"499-13","한영자",null,null,null,null,null,null,null,null,null,null,3020012700,"유성구","도룡동"]
[{"$f":"LEFT($B$1626,10)&TEXT($D$1626,\"0\")&TEXT($E$1626,\"0000\")&TEXT($F$1626,\"0000\")","v":"4480025021104990014"},4480025021,null,1,499,14,"499-14","전",170,null,null,null,"499-14","한형석",null,null,null,null,null,null,null,null,null,null,3020012800,"유성구","장동"]
[{"$f":"LEFT($B$1627,10)&TEXT($D$1627,\"0\")&TEXT($E$1627,\"0000\")&TEXT($F$1627,\"0000\")","v":"4480025021104990016"},4480025021,null,1,499,16,"499-16","대",3207,null,null,null,"서울특별시강서구가양동52-1","대상주식회사",null,null,null,null,null,null,null,null,null,null,3020012900,"유성구","방현동"]
[{"$f":"LEFT($B$1628,10)&TEXT($D$1628,\"0\")&TEXT($E$1628,\"0000\")&TEXT($F$1628,\"0000\")","v":"4480025021104990018"},4480025021,null,1,499,18,"499-18","대",309,null,null,null,"충청남도홍성군홍성읍오관리499-18","최금란",null,null,null,null,null,null,null,null,null,null,3020013000,"유성구","화암동"]
[{"$f":"LEFT($B$1629,10)&TEXT($D$1629,\"0\")&TEXT($E$1629,\"0000\")&TEXT($F$1629,\"0000\")","v":"4480025021104990020"},4480025021,null,1,499,20,"499-20","전",325,null,null,null,"광천읍광천리230-6","이명화",null,null,null,null,null,null,null,null,null,null,3020013100,"유성구","덕진동"]
[{"$f":"LEFT($B$1630,10)&TEXT($D$1630,\"0\")&TEXT($E$1630,\"0000\")&TEXT($F$1630,\"0000\")","v":"4480025021104990021"},4480025021,null,1,499,21,"499-21","대",646,null,null,null,null,null,null,null,null,null,null,null,null,null,null,null,3020013200,"유성구","하기동"]
[{"$f":"LEFT($B$1631,10)&TEXT($D$1631,\"0\")&TEXT($E$1631,\"0000\")&TEXT($F$1631,\"0000\")","v":"4480025021104990022"},4480025021,null,1,499,22,"499-22","도",136,null,null,null,"국(기획재정부)","국",null,null,null,null,null,null,null,null,null,null,3020013300,"유성구","추목동"]
[{"$f":"LEFT($B$1632,10)&TEXT($D$1632,\"0\")&TEXT($E$1632,\"0000\")&TEXT($F$1632,\"0000\")","v":"4480025021104990023"},4480025021,null,1,499,23,"499-23","도",116,null,null,null,"국(기획재정부)","국",null,null,null,null,null,null,null,null,null,null,3020013400,"유성구","자운동"]
[{"$f":"LEFT($B$1633,10)&TEXT($D$1633,\"0\")&TEXT($E$1633,\"0000\")&TEXT($F$1633,\"0000\")","v":"4480025021104990027"},4480025021,null,1,499,27,"499-27","도",66,null,null,null,"홍성군","국",null,null,null,null,null,null,null,null,null,null,3020013500,"유성구","신봉동"]
[{"$f":"LEFT($B$1634,10)&TEXT($D$1634,\"0\")&TEXT($E$1634,\"0000\")&TEXT($F$1634,\"0000\")","v":"4480025021104990028"},4480025021,null,1,499,28,"499-28","도",96,null,null,null,"홍성군","국",null,null,null,null,null,null,null,null,null,null,3020013600,"유성구","수남동"]
[{"$f":"LEFT($B$1635,10)&TEXT($D$1635,\"0\")&TEXT($E$1635,\"0000\")&TEXT($F$1635,\"0000\")","v":"4480025021104990029"},4480025021,null,1,499,29,"499-29","도",106,null,null,null,"국(건설교통부)","국",null,null,null,null,null,null,null,null,null,null,3020013700,"유성구","안산동"]
[{"$f":"LEFT($B$1636,10)&TEXT($D$1636,\"0\")&TEXT($E$1636,\"0000\")&TEXT($F$1636,\"0000\")","v":"4480025021104990030"},4480025021,null,1,499,30,"499-30","전",664,null,null,null,"충청남도홍성군홍성읍오관리518경성큰마을아파트104-901","강청식",null,null,null,null,null,null,null,null,null,null,3020013800,"유성구","외삼동"]
[{"$f":"LEFT($B$1637,10)&TEXT($D$1637,\"0\")&TEXT($E$1637,\"0000\")&TEXT($F$1637,\"0000\")","v":"4480025021104990031"},4480025021,null,1,499,31,"499-31","대",903,null,null,null,"충청남도홍성군결성면만해로202번길53-21","유영선",null,null,null,null,null,null,null,null,null,null,3020013900,"유성구","반석동"]
[{"$f":"LEFT($B$1638,10)&TEXT($D$1638,\"0\")&TEXT($E$1638,\"0000\")&TEXT($F$1638,\"0000\")","v":"4480025021104990033"},4480025021,null,1,499,33,"499-33","전",81,null,null,null,"홍성군","국",null,null,null,null,null,null,null,null,null,null,3020014000,"유성구","문지동"]
[{"$f":"LEFT($B$1639,10)&TEXT($D$1639,\"0\")&TEXT($E$1639,\"0000\")&TEXT($F$1639,\"0000\")","v":"4480025021104990035"},4480025021,null,1,499,35,"499-35","대",331,null,null,null,"499-35","이재복",null,null,null,null,null,null,null,null,null,null,3020014100,"유성구","전민동"]
[{"$f":"LEFT($B$1640,10)&TEXT($D$1640,\"0\")&TEXT($E$1640,\"0000\")&TEXT($F$1640,\"0000\")","v":"4480025021104990036"},4480025021,null,1,499,36,"499-36","대",165,null,null,null,"499-36","최금자",null,null,null,null,null,null,null,null,null,null,3020014200,"유성구","원촌동"]
[{"$f":"LEFT($B$1641,10)&TEXT($D$1641,\"0\")&TEXT($E$1641,\"0000\")&TEXT($F$1641,\"0000\")","v":"4480025021104990037"},4480025021,null,1,499,37,"499-37","대",65,null,null,null,"499-36","최금자",null,null,null,null,null,null,null,null,null,null,3020014300,"유성구","탑립동"]
[{"$f":"LEFT($B$1642,10)&TEXT($D$1642,\"0\")&TEXT($E$1642,\"0000\")&TEXT($F$1642,\"0000\")","v":"4480025021104990039"},4480025021,null,1,499,39,"499-39","도",53,null,null,null,"국(건설부)","국",null,null,null,null,null,null,null,null,null,null,3020014400,"유성구","용산동"]
[{"$f":"LEFT($B$1643,10)&TEXT($D$1643,\"0\")&TEXT($E$1643,\"0000\")&TEXT($F$1643,\"0000\")","v":"4480025021104990040"},4480025021,null,1,499,40,"499-40","도",20,null,null,null,"국(건설부)","국",null,null,null,null,null,null,null,null,null,null,3020014500,"유성구","봉산동"]
[{"$f":"LEFT($B$1644,10)&TEXT($D$1644,\"0\")&TEXT($E$1644,\"0000\")&TEXT($F$1644,\"0000\")","v":"4480025021104990041"},4480025021,null,1,499,41,"499-41","도",63,null,null,null,"국(건설부)","국",null,null,null,null,null,null,null,null,null,null,3020014600,"유성구","관평동"]
[{"$f":"LEFT($B$1645,10)&TEXT($D$1645,\"0\")&TEXT($E$1645,\"0000\")&TEXT($F$1645,\"0000\")","v":"4480025021104990042"},4480025021,null,1,499,42,"499-42","도",86,null,null,null,"국(건설부)","국",null,null,null,null,null,null,null,null,null,null,3020014700,"유성구","송강동"]
[{"$f":"LEFT($B$1646,10)&TEXT($D$1646,\"0\")&TEXT($E$1646,\"0000\")&TEXT($F$1646,\"0000\")","v":"4480025021104990043"},4480025021,null,1,499,43,"499-43","도",86,null,null,null,"국(건설부)","국",null,null,null,null,null,null,null,null,null,null,3020014800,"유성구","금고동"]
[{"$f":"LEFT($B$1647,10)&TEXT($D$1647,\"0\")&TEXT($E$1647,\"0000\")&TEXT($F$1647,\"0000\")","v":"4480025021104990044"},4480025021,null,1,499,44,"499-44","도",17,null,null,null,"홍성군","국",null,null,null,null,null,null,null,null,null,null,3020014900,"유성구","대동"]
[{"$f":"LEFT($B$1648,10)&TEXT($D$1648,\"0\")&TEXT($E$1648,\"0000\")&TEXT($F$1648,\"0000\")","v":"4480025021104990045"},4480025021,null,1,499,45,"499-45","도",26,null,null,null,"옥암리","한영태",null,null,null,null,null,null,null,null,null,null,3020015000,"유성구","금탄동"]
[{"$f":"LEFT($B$1649,10)&TEXT($D$1649,\"0\")&TEXT($E$1649,\"0000\")&TEXT($F$1649,\"0000\")","v":"4480025021104990046"},4480025021,null,1,499,46,"499-46","도",66,null,null,null,"홍성군","국",null,null,null,null,null,null,null,null,null,null,3020015100,"유성구","신동"]
[{"$f":"LEFT($B$1650,10)&TEXT($D$1650,\"0\")&TEXT($E$1650,\"0000\")&TEXT($F$1650,\"0000\")","v":"4480025021104990048"},4480025021,null,1,499,48,"499-48","도",43,null,null,null,"홍성군","국",null,null,null,null,null,null,null,null,null,null,3020015200,"유성구","둔곡동"]
[{"$f":"LEFT($B$1651,10)&TEXT($D$1651,\"0\")&TEXT($E$1651,\"0000\")&TEXT($F$1651,\"0000\")","v":"4480025021104990049"},4480025021,null,1,499,49,"499-49","도",6,null,null,null,"홍성군","국",null,null,null,null,null,null,null,null,null,null,3020015300,"유성구","구룡동"]
[{"$f":"LEFT($B$1652,10)&TEXT($D$1652,\"0\")&TEXT($E$1652,\"0000\")&TEXT($F$1652,\"0000\")","v":"4480025021104990050"},4480025021,null,1,499,50,"499-50","도",23,null,null,null,"국(건설부)","국",null,null,null,null,null,null,null,null,null,null,3023010100,"대덕구","오정동"]
[{"$f":"LEFT($B$1653,10)&TEXT($D$1653,\"0\")&TEXT($E$1653,\"0000\")&TEXT($F$1653,\"0000\")","v":"4480025021104990052"},4480025021,null,1,499,52,"499-52","대",238,null,null,null,"충청남도홍성군홍성읍문화로73-11","안봉예",null,null,null,null,null,null,null,null,null,null,3023010200,"대덕구","대화동"]
[{"$f":"LEFT($B$1654,10)&TEXT($D$1654,\"0\")&TEXT($E$1654,\"0000\")&TEXT($F$1654,\"0000\")","v":"4480025021104990053"},4480025021,null,1,499,53,"499-53","대",420,null,null,null,"충청남도홍성군홍성읍문화로57번길10","송인헌",null,null,null,null,null,null,null,null,null,null,3023010300,"대덕구","읍내동"]
[{"$f":"LEFT($B$1655,10)&TEXT($D$1655,\"0\")&TEXT($E$1655,\"0000\")&TEXT($F$1655,\"0000\")","v":"4480025021104990054"},4480025021,null,1,499,54,"499-54","전",640,null,null,null,null,null,null,null,null,null,null,null,null,null,null,null,3023010400,"대덕구","연축동"]
[{"$f":"LEFT($B$1656,10)&TEXT($D$1656,\"0\")&TEXT($E$1656,\"0000\")&TEXT($F$1656,\"0000\")","v":"4480025021104990055"},4480025021,null,1,499,55,"499-55","대",246,null,null,null,"오관리499-3","이상철",null,null,null,null,null,null,null,null,null,null,3023010500,"대덕구","신대동"]
[{"$f":"LEFT($B$1657,10)&TEXT($D$1657,\"0\")&TEXT($E$1657,\"0000\")&TEXT($F$1657,\"0000\")","v":"4480025021104990056"},4480025021,null,1,499,56,"499-56","과",863,null,null,null,"오관리499-3","이상철",null,null,null,null,null,null,null,null,null,null,3023010600,"대덕구","와동"]
[{"$f":"LEFT($B$1658,10)&TEXT($D$1658,\"0\")&TEXT($E$1658,\"0000\")&TEXT($F$1658,\"0000\")","v":"4480025021104990060"},4480025021,null,1,499,60,"499-60","대",429,null,null,null,"499-60","최순우",null,null,null,null,null,null,null,null,null,null,3023010700,"대덕구","송촌동"]
[{"$f":"LEFT($B$1659,10)&TEXT($D$1659,\"0\")&TEXT($E$1659,\"0000\")&TEXT($F$1659,\"0000\")","v":"4480025021104990061"},4480025021,null,1,499,61,"499-61","대",574,null,null,null,"홍동면신기리172-2","김효남",null,null,null,null,null,null,null,null,null,null,3023010800,"대덕구","법동"]
[{"$f":"LEFT($B$1660,10)&TEXT($D$1660,\"0\")&TEXT($E$1660,\"0000\")&TEXT($F$1660,\"0000\")","v":"4480025021104990063"},4480025021,null,1,499,63,"499-63","전",198,null,null,null,"499-5","오규창",null,null,null,null,null,null,null,null,null,null,3023010900,"대덕구","중리동"]
[{"$f":"LEFT($B$1661,10)&TEXT($D$1661,\"0\")&TEXT($E$1661,\"0000\")&TEXT($F$1661,\"0000\")","v":"4480025021104990064"},4480025021,null,1,499,64,"499-64","대",296,null,null,null,"홍북면중계리산10","김지권",null,null,null,null,null,null,null,null,null,null,3023011000,"대덕구","비래동"]
[{"$f":"LEFT($B$1662,10)&TEXT($D$1662,\"0\")&TEXT($E$1662,\"0000\")&TEXT($F$1662,\"0000\")","v":"4480025021104990065"},4480025021,null,1,499,65,"499-65","대",183,null,null,null,"보령군천북면사호리535","조동길",null,null,null,null,null,null,null,null,null,null,3023011100,"대덕구","석봉동"]
[{"$f":"LEFT($B$1663,10)&TEXT($D$1663,\"0\")&TEXT($E$1663,\"0000\")&TEXT($F$1663,\"0000\")","v":"4480025021104990066"},4480025021,null,1,499,66,"499-66","전",255,null,null,null,"충청남도홍성군홍성읍문화로85번길43-11","장군자",null,null,null,null,null,null,null,null,null,null,3023011200,"대덕구","목상동"]
[{"$f":"LEFT($B$1664,10)&TEXT($D$1664,\"0\")&TEXT($E$1664,\"0000\")&TEXT($F$1664,\"0000\")","v":"4480025021104990067"},4480025021,null,1,499,67,"499-67","대",167,null,null,null,"홍성군홍성읍오관리499-67","박선종",null,null,null,null,null,null,null,null,null,null,3023011300,"대덕구","문평동"]
[{"$f":"LEFT($B$1665,10)&TEXT($D$1665,\"0\")&TEXT($E$1665,\"0000\")&TEXT($F$1665,\"0000\")","v":"4480025021104990068"},4480025021,null,1,499,68,"499-68","전",58,null,null,null,"홍성군홍성읍오관리499-67","박선종",null,null,null,null,null,null,null,null,null,null,3023011400,"대덕구","신일동"]
[{"$f":"LEFT($B$1666,10)&TEXT($D$1666,\"0\")&TEXT($E$1666,\"0000\")&TEXT($F$1666,\"0000\")","v":"4480025021104990071"},4480025021,null,1,499,71,"499-71","전",264,null,null,null,"고암리656","주만택",null,null,null,null,null,null,null,null,null,null,3023011500,"대덕구","덕암동"]
[{"$f":"LEFT($B$1667,10)&TEXT($D$1667,\"0\")&TEXT($E$1667,\"0000\")&TEXT($F$1667,\"0000\")","v":"4480025021104990075"},4480025021,null,1,499,75,"499-75","대",325,null,null,null,"충청남도홍성군홍성읍문화로85번길53","홍재덕",null,null,null,null,null,null,null,null,null,null,3023011600,"대덕구","상서동"]
[{"$f":"LEFT($B$1668,10)&TEXT($D$1668,\"0\")&TEXT($E$1668,\"0000\")&TEXT($F$1668,\"0000\")","v":"4480025021104990076"},4480025021,null,1,499,76,"499-76","전",38,null,null,null,"홍성군","국",null,null,null,null,null,null,null,null,null,null,3023011700,"대덕구","평촌동"]
[{"$f":"LEFT($B$1669,10)&TEXT($D$1669,\"0\")&TEXT($E$1669,\"0000\")&TEXT($F$1669,\"0000\")","v":"4480025021104990077"},4480025021,null,1,499,77,"499-77","전",137,null,null,null,"홍성군","국",null,null,null,null,null,null,null,null,null,null,3023011800,"대덕구","장동"]
[{"$f":"LEFT($B$1670,10)&TEXT($D$1670,\"0\")&TEXT($E$1670,\"0000\")&TEXT($F$1670,\"0000\")","v":"4480025021104990078"},4480025021,null,1,499,78,"499-78","전",40,null,null,null,"홍성군","국",null,null,null,null,null,null,null,null,null,null,3023011900,"대덕구","용호동"]
[{"$f":"LEFT($B$1671,10)&TEXT($D$1671,\"0\")&TEXT($E$1671,\"0000\")&TEXT($F$1671,\"0000\")","v":"4480025021104990079"},4480025021,null,1,499,79,"499-79","전",102,null,null,null,"499-60","최순우",null,null,null,null,null,null,null,null,null,null,3023012000,"대덕구","이현동"]
[{"$f":"LEFT($B$1672,10)&TEXT($D$1672,\"0\")&TEXT($E$1672,\"0000\")&TEXT($F$1672,\"0000\")","v":"4480025021104990080"},4480025021,null,1,499,80,"499-80","전",350,null,null,null,"홍성군","국",null,null,null,null,null,null,null,null,null,null,3023012100,"대덕구","갈전동"]
[{"$f":"LEFT($B$1673,10)&TEXT($D$1673,\"0\")&TEXT($E$1673,\"0000\")&TEXT($F$1673,\"0000\")","v":"4480025021104990083"},4480025021,null,1,499,83,"499-83","대",230,null,null,null,"충청남도홍성군홍성읍홍장북로433-29","신동철",null,null,null,null,null,null,null,null,null,null,3023012200,"대덕구","부수동"]
[{"$f":"LEFT($B$1674,10)&TEXT($D$1674,\"0\")&TEXT($E$1674,\"0000\")&TEXT($F$1674,\"0000\")","v":"4480025021104990085"},4480025021,null,1,499,85,"499-85","전",33,null,null,null,"홍성군","국",null,null,null,null,null,null,null,null,null,null,3023012300,"대덕구","황호동"]
[{"$f":"LEFT($B$1675,10)&TEXT($D$1675,\"0\")&TEXT($E$1675,\"0000\")&TEXT($F$1675,\"0000\")","v":"4480025021104990087"},4480025021,null,1,499,87,"499-87","전",73,null,null,null,"경상남도양산시물금읍서들로179112동1601호(반도유보라3차아파트)","이동호",null,null,null,null,null,null,null,null,null,null,3023012400,"대덕구","삼정동"]
[{"$f":"LEFT($B$1676,10)&TEXT($D$1676,\"0\")&TEXT($E$1676,\"0000\")&TEXT($F$1676,\"0000\")","v":"4480025021104990088"},4480025021,null,1,499,88,"499-88","대",151,null,null,null,"충청남도홍성군홍성읍문화로57번길10","송인헌",null,null,null,null,null,null,null,null,null,null,3023012500,"대덕구","미호동"]
[{"$f":"LEFT($B$1677,10)&TEXT($D$1677,\"0\")&TEXT($E$1677,\"0000\")&TEXT($F$1677,\"0000\")","v":"4480025021104990089"},4480025021,null,1,499,89,"499-89","도",67,null,null,null,"홍성군","국",null,null,null,null,null,null,null,null,null,null,3023012600,"대덕구","신탄진동"]
[{"$f":"LEFT($B$1678,10)&TEXT($D$1678,\"0\")&TEXT($E$1678,\"0000\")&TEXT($F$1678,\"0000\")","v":"4480025021104990091"},4480025021,null,1,499,91,"499-91","도",57,null,null,null,"홍성군","국",null,null,null,null,null,null,null,null,null,null,3111010100,"중구","학성동"]
[{"$f":"LEFT($B$1679,10)&TEXT($D$1679,\"0\")&TEXT($E$1679,\"0000\")&TEXT($F$1679,\"0000\")","v":"4480025021104990093"},4480025021,null,1,499,93,"499-93","대",16,null,null,null,"홍성군","국",null,null,null,null,null,null,null,null,null,null,3111010200,"중구","학산동"]
[{"$f":"LEFT($B$1680,10)&TEXT($D$1680,\"0\")&TEXT($E$1680,\"0000\")&TEXT($F$1680,\"0000\")","v":"4480025021104990094"},4480025021,null,1,499,94,"499-94","도",83,null,null,null,"홍성군","국",null,null,null,null,null,null,null,null,null,null,3111010300,"중구","복산동"]
[{"$f":"LEFT($B$1681,10)&TEXT($D$1681,\"0\")&TEXT($E$1681,\"0000\")&TEXT($F$1681,\"0000\")","v":"4480025021104990095"},4480025021,null,1,499,95,"499-95","도",228,null,null,null,"홍성군","국",null,null,null,null,null,null,null,null,null,null,3111010400,"중구","북정동"]
[{"$f":"LEFT($B$1682,10)&TEXT($D$1682,\"0\")&TEXT($E$1682,\"0000\")&TEXT($F$1682,\"0000\")","v":"4480025021104990098"},4480025021,null,1,499,98,"499-98","전",61,null,null,null,"안양시동안구평촌동933꿈마을아파트206동501호","홍종행",null,null,null,null,null,null,null,null,null,null,3111010500,"중구","옥교동"]
[{"$f":"LEFT($B$1683,10)&TEXT($D$1683,\"0\")&TEXT($E$1683,\"0000\")&TEXT($F$1683,\"0000\")","v":"4480025021104990102"},4480025021,null,1,499,102,"499-102","대",39,null,null,null,"499-36","최금자",null,null,null,null,null,null,null,null,null,null,3111010600,"중구","성남동"]
[{"$f":"LEFT($B$1684,10)&TEXT($D$1684,\"0\")&TEXT($E$1684,\"0000\")&TEXT($F$1684,\"0000\")","v":"4480025021104990104"},4480025021,null,1,499,104,"499-104","대",34,null,null,null,"홍성군","국",null,null,null,null,null,null,null,null,null,null,3111010700,"중구","교동"]
[{"$f":"LEFT($B$1685,10)&TEXT($D$1685,\"0\")&TEXT($E$1685,\"0000\")&TEXT($F$1685,\"0000\")","v":"4480025021104990105"},4480025021,null,1,499,105,"499-105","대",11,null,null,null,"홍성군","국",null,null,null,null,null,null,null,null,null,null,3111010800,"중구","우정동"]
[{"$f":"LEFT($B$1686,10)&TEXT($D$1686,\"0\")&TEXT($E$1686,\"0000\")&TEXT($F$1686,\"0000\")","v":"4480025021104990106"},4480025021,null,1,499,106,"499-106","전",16,null,null,null,"충청남도홍성군결성면무량리302-4","유영선",null,null,null,null,null,null,null,null,null,null,3111010900,"중구","성안동"]
[{"$f":"LEFT($B$1687,10)&TEXT($D$1687,\"0\")&TEXT($E$1687,\"0000\")&TEXT($F$1687,\"0000\")","v":"4480025021104990107"},4480025021,null,1,499,107,"499-107","전",5,null,null,null,"홍성군","국",null,null,null,null,null,null,null,null,null,null,3111011000,"중구","유곡동"]
[{"$f":"LEFT($B$1688,10)&TEXT($D$1688,\"0\")&TEXT($E$1688,\"0000\")&TEXT($F$1688,\"0000\")","v":"4480025021104990109"},4480025021,null,1,499,109,"499-109","도",575,null,null,null,"홍성군","국",null,null,null,null,null,null,null,null,null,null,3111011100,"중구","태화동"]
[{"$f":"LEFT($B$1689,10)&TEXT($D$1689,\"0\")&TEXT($E$1689,\"0000\")&TEXT($F$1689,\"0000\")","v":"4480025021104990110"},4480025021,null,1,499,110,"499-110","전",60,null,null,null,"홍성군홍성읍오관리499-67","박선종",null,null,null,null,null,null,null,null,null,null,3111011200,"중구","다운동"]
[{"$f":"LEFT($B$1690,10)&TEXT($D$1690,\"0\")&TEXT($E$1690,\"0000\")&TEXT($F$1690,\"0000\")","v":"4480025021104990112"},4480025021,null,1,499,112,"499-112","전",149,null,null,null,"홍성군","국",null,null,null,null,null,null,null,null,null,null,3111011300,"중구","동동"]
[{"$f":"LEFT($B$1691,10)&TEXT($D$1691,\"0\")&TEXT($E$1691,\"0000\")&TEXT($F$1691,\"0000\")","v":"4480025021104990113"},4480025021,null,1,499,113,"499-113","전",6,null,null,null,"홍성군","국",null,null,null,null,null,null,null,null,null,null,3111011400,"중구","서동"]
[{"$f":"LEFT($B$1692,10)&TEXT($D$1692,\"0\")&TEXT($E$1692,\"0000\")&TEXT($F$1692,\"0000\")","v":"4480025021104990114"},4480025021,null,1,499,114,"499-114","전",159,null,null,null,"홍성군","국",null,null,null,null,null,null,null,null,null,null,3111011500,"중구","남외동"]
[{"$f":"LEFT($B$1693,10)&TEXT($D$1693,\"0\")&TEXT($E$1693,\"0000\")&TEXT($F$1693,\"0000\")","v":"4480025021105000000"},4480025021,null,1,500,0,500,"대",1082,null,null,null,"대전시중구오류동175-1삼성아파트11-103","한기홍",null,null,null,null,null,null,null,null,null,null,3111011600,"중구","장현동"]
[{"$f":"LEFT($B$1694,10)&TEXT($D$1694,\"0\")&TEXT($E$1694,\"0000\")&TEXT($F$1694,\"0000\")","v":"4480025021105000002"},4480025021,null,1,500,2,"500-2","전",181,null,null,null,"대전시중구오류동175-1삼성아파트11-103","한기홍",null,null,null,null,null,null,null,null,null,null,3111011700,"중구","약사동"]
[{"$f":"LEFT($B$1695,10)&TEXT($D$1695,\"0\")&TEXT($E$1695,\"0000\")&TEXT($F$1695,\"0000\")","v":"4480025021105010001"},4480025021,null,1,501,1,"501-1","전",1543,null,null,null,"서울특별시강남구도곡동467타워팰리스아파트비-5703","이환근",null,null,null,null,null,null,null,null,null,null,3111011800,"중구","반구동"]
[{"$f":"LEFT($B$1696,10)&TEXT($D$1696,\"0\")&TEXT($E$1696,\"0000\")&TEXT($F$1696,\"0000\")","v":"4480025021105010002"},4480025021,null,1,501,2,"501-2","묘",486,null,null,null,"충청남도홍성군홍성읍문화로78","학교법인신암학원",null,null,null,null,null,null,null,null,null,null,3114010100,"남구","무거동"]
[{"$f":"LEFT($B$1697,10)&TEXT($D$1697,\"0\")&TEXT($E$1697,\"0000\")&TEXT($F$1697,\"0000\")","v":"4480025021105040001"},4480025021,null,1,504,1,"504-1","대",383,null,null,null,"충청남도홍성군홍성읍고암리656-14","조성애",null,null,null,null,null,null,null,null,null,null,3114010200,"남구","옥동"]
[{"$f":"LEFT($B$1698,10)&TEXT($D$1698,\"0\")&TEXT($E$1698,\"0000\")&TEXT($F$1698,\"0000\")","v":"4480025021105040002"},4480025021,null,1,504,2,"504-2","창",539,null,null,null,"충청남도홍성군홍북읍홍예로213111동1004호(엘에이치스타힐스)","주동섭",null,null,null,null,null,null,null,null,null,null,3114010300,"남구","두왕동"]
[{"$f":"LEFT($B$1699,10)&TEXT($D$1699,\"0\")&TEXT($E$1699,\"0000\")&TEXT($F$1699,\"0000\")","v":"4480025021105040003"},4480025021,null,1,504,3,"504-3","대",450,null,null,null,"504-3","조주형",null,null,null,null,null,null,null,null,null,null,3114010400,"남구","신정동"]
[{"$f":"LEFT($B$1700,10)&TEXT($D$1700,\"0\")&TEXT($E$1700,\"0000\")&TEXT($F$1700,\"0000\")","v":"4480025021105040004"},4480025021,null,1,504,4,"504-4","도",4,null,null,null,"홍성군","국",null,null,null,null,null,null,null,null,null,null,3114010500,"남구","달동"]
[{"$f":"LEFT($B$1701,10)&TEXT($D$1701,\"0\")&TEXT($E$1701,\"0000\")&TEXT($F$1701,\"0000\")","v":"4480025021105050001"},4480025021,null,1,505,1,"505-1","전",27,null,null,null,"서울특별시강남구도곡동467타워팰리스아파트비-5703","이환근",null,null,null,null,null,null,null,null,null,null,3114010600,"남구","삼산동"]
[{"$f":"LEFT($B$1702,10)&TEXT($D$1702,\"0\")&TEXT($E$1702,\"0000\")&TEXT($F$1702,\"0000\")","v":"4480025021105080000"},4480025021,null,1,508,0,508,"전",46,null,null,null,492,"김영희",null,null,null,null,null,null,null,null,null,null,3114010700,"남구","여천동"]
[{"$f":"LEFT($B$1703,10)&TEXT($D$1703,\"0\")&TEXT($E$1703,\"0000\")&TEXT($F$1703,\"0000\")","v":"4480025021105090002"},4480025021,null,1,509,2,"509-2","전",450,null,null,null,"홍동면신기리380","이재천",null,null,null,null,null,null,null,null,null,null,3114010800,"남구","야음동"]
[{"$f":"LEFT($B$1704,10)&TEXT($D$1704,\"0\")&TEXT($E$1704,\"0000\")&TEXT($F$1704,\"0000\")","v":"4480025021105090003"},4480025021,null,1,509,3,"509-3","대",388,null,null,null,"충청남도홍성군홍성읍오관리511-8","고인숙",null,null,null,null,null,null,null,null,null,null,3114010900,"남구","선암동"]
[{"$f":"LEFT($B$1705,10)&TEXT($D$1705,\"0\")&TEXT($E$1705,\"0000\")&TEXT($F$1705,\"0000\")","v":"4480025021105090004"},4480025021,null,1,509,4,"509-4","도",7,null,null,null,"국(건설부)","국",null,null,null,null,null,null,null,null,null,null,3114011000,"남구","상개동"]
[{"$f":"LEFT($B$1706,10)&TEXT($D$1706,\"0\")&TEXT($E$1706,\"0000\")&TEXT($F$1706,\"0000\")","v":"4480025021105090005"},4480025021,null,1,509,5,"509-5","도",13,null,null,null,"국(건설부)","국",null,null,null,null,null,null,null,null,null,null,3114011100,"남구","부곡동"]
[{"$f":"LEFT($B$1707,10)&TEXT($D$1707,\"0\")&TEXT($E$1707,\"0000\")&TEXT($F$1707,\"0000\")","v":"4480025021105090006"},4480025021,null,1,509,6,"509-6","도",43,null,null,null,"국(건설부)","국",null,null,null,null,null,null,null,null,null,null,3114011200,"남구","고사동"]
[{"$f":"LEFT($B$1708,10)&TEXT($D$1708,\"0\")&TEXT($E$1708,\"0000\")&TEXT($F$1708,\"0000\")","v":"4480025021105090009"},4480025021,null,1,509,9,"509-9","전",106,null,null,null,"충청남도홍성군홍성읍오관리553-2","송영자",null,null,null,null,null,null,null,null,null,null,3114011300,"남구","성암동"]
[{"$f":"LEFT($B$1709,10)&TEXT($D$1709,\"0\")&TEXT($E$1709,\"0000\")&TEXT($F$1709,\"0000\")","v":"4480025021105090010"},4480025021,null,1,509,10,"509-10","대",241,null,null,null,"홍성읍오관리479-12","김봉완",null,null,null,null,null,null,null,null,null,null,3114011400,"남구","황성동"]
[{"$f":"LEFT($B$1710,10)&TEXT($D$1710,\"0\")&TEXT($E$1710,\"0000\")&TEXT($F$1710,\"0000\")","v":"4480025021105090011"},4480025021,null,1,509,11,"509-11","전",46,null,null,null,"고암리607-6","백희현",null,null,null,null,null,null,null,null,null,null,3114011500,"남구","용연동"]
[{"$f":"LEFT($B$1711,10)&TEXT($D$1711,\"0\")&TEXT($E$1711,\"0000\")&TEXT($F$1711,\"0000\")","v":"4480025021105100002"},4480025021,null,1,510,2,"510-2","대",39,null,null,null,"511-6","방장근",null,null,null,null,null,null,null,null,null,null,3114011600,"남구","남화동"]
[{"$f":"LEFT($B$1712,10)&TEXT($D$1712,\"0\")&TEXT($E$1712,\"0000\")&TEXT($F$1712,\"0000\")","v":"4480025021105100008"},4480025021,null,1,510,8,"510-8","전",15,null,null,null,"홍성군","국",null,null,null,null,null,null,null,null,null,null,3114011700,"남구","용잠동"]
[{"$f":"LEFT($B$1713,10)&TEXT($D$1713,\"0\")&TEXT($E$1713,\"0000\")&TEXT($F$1713,\"0000\")","v":"4480025021105100010"},4480025021,null,1,510,10,"510-10","전",10,null,null,null,"홍성군","국",null,null,null,null,null,null,null,null,null,null,3114011800,"남구","장생포동"]
[{"$f":"LEFT($B$1714,10)&TEXT($D$1714,\"0\")&TEXT($E$1714,\"0000\")&TEXT($F$1714,\"0000\")","v":"4480025021105100011"},4480025021,null,1,510,11,"510-11","대",10,null,null,null,"홍성군","국",null,null,null,null,null,null,null,null,null,null,3114011900,"남구","매암동"]
[{"$f":"LEFT($B$1715,10)&TEXT($D$1715,\"0\")&TEXT($E$1715,\"0000\")&TEXT($F$1715,\"0000\")","v":"4480025021105100012"},4480025021,null,1,510,12,"510-12","대",4,null,null,null,"홍성군","국",null,null,null,null,null,null,null,null,null,null,3117010100,"동구","방어동"]
[{"$f":"LEFT($B$1716,10)&TEXT($D$1716,\"0\")&TEXT($E$1716,\"0000\")&TEXT($F$1716,\"0000\")","v":"4480025021105100013"},4480025021,null,1,510,13,"510-13","전",4,null,null,null,"홍성군","국",null,null,null,null,null,null,null,null,null,null,3117010200,"동구","화정동"]
[{"$f":"LEFT($B$1717,10)&TEXT($D$1717,\"0\")&TEXT($E$1717,\"0000\")&TEXT($F$1717,\"0000\")","v":"4480025021105110003"},4480025021,null,1,511,3,"511-3","전",371,null,null,null,"충청남도홍성군홍성읍문화로72번길92106동203호(주공그린빌)","김용승",null,null,null,null,null,null,null,null,null,null,3117010300,"동구","일산동"]
[{"$f":"LEFT($B$1718,10)&TEXT($D$1718,\"0\")&TEXT($E$1718,\"0000\")&TEXT($F$1718,\"0000\")","v":"4480025021105110008"},4480025021,null,1,511,8,"511-8","전",112,null,null,null,"충청남도예산군덕산면예덕로14-1","장기웅",null,null,null,null,null,null,null,null,null,null,3117010400,"동구","전하동"]
[{"$f":"LEFT($B$1719,10)&TEXT($D$1719,\"0\")&TEXT($E$1719,\"0000\")&TEXT($F$1719,\"0000\")","v":"4480025021105110010"},4480025021,null,1,511,10,"511-10","대",258,null,null,null,"서울특별시관악구양지16길213층(신림동)","이내경",null,null,null,null,null,null,null,null,null,null,3117010500,"동구","미포동"]
[{"$f":"LEFT($B$1720,10)&TEXT($D$1720,\"0\")&TEXT($E$1720,\"0000\")&TEXT($F$1720,\"0000\")","v":"4480025021105110011"},4480025021,null,1,511,11,"511-11","전",242,null,null,null,"충청남도부여군규암면반산로38-4","차길원",null,null,null,null,null,null,null,null,null,null,3117010600,"동구","주전동"]
[{"$f":"LEFT($B$1721,10)&TEXT($D$1721,\"0\")&TEXT($E$1721,\"0000\")&TEXT($F$1721,\"0000\")","v":"4480025021105110012"},4480025021,null,1,511,12,"511-12","대",141,null,null,null,"충청남도홍성군홍성읍문화로80번길12","유재홍",null,null,null,null,null,null,null,null,null,null,3117010700,"동구","동부동"]
[{"$f":"LEFT($B$1722,10)&TEXT($D$1722,\"0\")&TEXT($E$1722,\"0000\")&TEXT($F$1722,\"0000\")","v":"4480025021105110020"},4480025021,null,1,511,20,"511-20","대",2,null,null,null,"홍성군","국",null,null,null,null,null,null,null,null,null,null,3117010800,"동구","서부동"]
[{"$f":"LEFT($B$1723,10)&TEXT($D$1723,\"0\")&TEXT($E$1723,\"0000\")&TEXT($F$1723,\"0000\")","v":"4480025021105160000"},4480025021,null,1,516,0,516,"학",29691,null,null,null,"충청남도홍성군홍성읍문화로78","학교법인신암학원",null,null,null,null,null,null,null,null,null,null,3120010100,"북구","창평동"]
[{"$f":"LEFT($B$1724,10)&TEXT($D$1724,\"0\")&TEXT($E$1724,\"0000\")&TEXT($F$1724,\"0000\")","v":"4480025021105170006"},4480025021,null,1,517,6,"517-6","도",181,null,null,null,"홍성군","국",null,null,null,null,null,null,null,null,null,null,3120010200,"북구","호계동"]
[{"$f":"LEFT($B$1725,10)&TEXT($D$1725,\"0\")&TEXT($E$1725,\"0000\")&TEXT($F$1725,\"0000\")","v":"4480025021105180000"},4480025021,null,1,518,0,518,"대",9499,null,null,null,null,null,null,null,null,null,null,null,null,null,null,null,3120010300,"북구","매곡동"]
[{"$f":"LEFT($B$1726,10)&TEXT($D$1726,\"0\")&TEXT($E$1726,\"0000\")&TEXT($F$1726,\"0000\")","v":"4480025021105190001"},4480025021,null,1,519,1,"519-1","전",1183,null,null,null,"21-3","김순기",null,null,null,null,null,null,null,null,null,null,3120010400,"북구","가대동"]
[{"$f":"LEFT($B$1727,10)&TEXT($D$1727,\"0\")&TEXT($E$1727,\"0000\")&TEXT($F$1727,\"0000\")","v":"4480025021105190007"},4480025021,null,1,519,7,"519-7","전",37,null,null,null,"충청남도홍성군홍성읍문화로78","학교법인신암학원",null,null,null,null,null,null,null,null,null,null,3120010500,"북구","신천동"]
[{"$f":"LEFT($B$1728,10)&TEXT($D$1728,\"0\")&TEXT($E$1728,\"0000\")&TEXT($F$1728,\"0000\")","v":"4480025021105200000"},4480025021,null,1,520,0,520,"전",748,null,null,null,"527-6","박상만",null,null,null,null,null,null,null,null,null,null,3120010600,"북구","중산동"]
[{"$f":"LEFT($B$1729,10)&TEXT($D$1729,\"0\")&TEXT($E$1729,\"0000\")&TEXT($F$1729,\"0000\")","v":"4480025021105210000"},4480025021,null,1,521,0,521,"전",290,null,null,null,"홍동면팔괘리395","김동주",null,null,null,null,null,null,null,null,null,null,3120010700,"북구","상안동"]
[{"$f":"LEFT($B$1730,10)&TEXT($D$1730,\"0\")&TEXT($E$1730,\"0000\")&TEXT($F$1730,\"0000\")","v":"4480025021105210001"},4480025021,null,1,521,1,"521-1","전",416,null,null,null,"홍동면팔괘리395","김동주",null,null,null,null,null,null,null,null,null,null,3120010800,"북구","천곡동"]
[{"$f":"LEFT($B$1731,10)&TEXT($D$1731,\"0\")&TEXT($E$1731,\"0000\")&TEXT($F$1731,\"0000\")","v":"4480025021105210002"},4480025021,null,1,521,2,"521-2","전",259,null,null,null,"송월리303","윤영수",null,null,null,null,null,null,null,null,null,null,3120010900,"북구","달천동"]
[{"$f":"LEFT($B$1732,10)&TEXT($D$1732,\"0\")&TEXT($E$1732,\"0000\")&TEXT($F$1732,\"0000\")","v":"4480025021105230000"},4480025021,null,1,523,0,523,"대",150,null,null,null,"남장리72-1","김건영",null,null,null,null,null,null,null,null,null,null,3120011000,"북구","시례동"]
[{"$f":"LEFT($B$1733,10)&TEXT($D$1733,\"0\")&TEXT($E$1733,\"0000\")&TEXT($F$1733,\"0000\")","v":"4480025021105230002"},4480025021,null,1,523,2,"523-2","전",527,null,null,null,"120-1","전혜수",null,null,null,null,null,null,null,null,null,null,3120011100,"북구","무룡동"]
[{"$f":"LEFT($B$1734,10)&TEXT($D$1734,\"0\")&TEXT($E$1734,\"0000\")&TEXT($F$1734,\"0000\")","v":"4480025021105240001"},4480025021,null,1,524,1,"524-1","도",7461,null,null,null,"홍성군","국",null,null,null,null,null,null,null,null,null,null,3120011200,"북구","구유동"]
[{"$f":"LEFT($B$1735,10)&TEXT($D$1735,\"0\")&TEXT($E$1735,\"0000\")&TEXT($F$1735,\"0000\")","v":"4480025021105250001"},4480025021,null,1,525,1,"525-1","과",1174,null,null,null,"고양시일산구백석동1349흰돌마을306동407호","김미정",null,null,null,null,null,null,null,null,null,null,3120011300,"북구","정자동"]
[{"$f":"LEFT($B$1736,10)&TEXT($D$1736,\"0\")&TEXT($E$1736,\"0000\")&TEXT($F$1736,\"0000\")","v":"4480025021105260002"},4480025021,null,1,526,2,"526-2","대",277,null,null,null,"538-6","백승춘",null,null,null,null,null,null,null,null,null,null,3120011400,"북구","신명동"]
[{"$f":"LEFT($B$1737,10)&TEXT($D$1737,\"0\")&TEXT($E$1737,\"0000\")&TEXT($F$1737,\"0000\")","v":"4480025021105260003"},4480025021,null,1,526,3,"526-3","대",2194,null,null,null,"충청남도홍성군홍성읍월산로30번길38202동206호(부영아파트)","신상희",null,null,null,null,null,null,null,null,null,null,3120011500,"북구","대안동"]
[{"$f":"LEFT($B$1738,10)&TEXT($D$1738,\"0\")&TEXT($E$1738,\"0000\")&TEXT($F$1738,\"0000\")","v":"4480025021105260004"},4480025021,null,1,526,4,"526-4","대",162,null,null,null,"충청남도홍성군서부면판교리797","맹진학",null,null,null,null,null,null,null,null,null,null,3120011600,"북구","당사동"]
[{"$f":"LEFT($B$1739,10)&TEXT($D$1739,\"0\")&TEXT($E$1739,\"0000\")&TEXT($F$1739,\"0000\")","v":"4480025021105260009"},4480025021,null,1,526,9,"526-9","대",163,null,null,null,"홍성군홍성읍남장리515주공그린빌102-404","노열호",null,null,null,null,null,null,null,null,null,null,3120011700,"북구","신현동"]
[{"$f":"LEFT($B$1740,10)&TEXT($D$1740,\"0\")&TEXT($E$1740,\"0000\")&TEXT($F$1740,\"0000\")","v":"4480025021105260011"},4480025021,null,1,526,11,"526-11","대",251,null,null,null,"서울시은평구녹번동154-6302","이광명",null,null,null,null,null,null,null,null,null,null,3120011800,"북구","산하동"]
[{"$f":"LEFT($B$1741,10)&TEXT($D$1741,\"0\")&TEXT($E$1741,\"0000\")&TEXT($F$1741,\"0000\")","v":"4480025021105260012"},4480025021,null,1,526,12,"526-12","대",169,null,null,null,"대전시서구갈마동903-304","복경명",null,null,null,null,null,null,null,null,null,null,3120011900,"북구","어물동"]
[{"$f":"LEFT($B$1742,10)&TEXT($D$1742,\"0\")&TEXT($E$1742,\"0000\")&TEXT($F$1742,\"0000\")","v":"4480025021105260014"},4480025021,null,1,526,14,"526-14","대",66,null,null,null,"경기도여주군가남면신해리620-17동남아파트102-401","전용복",null,null,null,null,null,null,null,null,null,null,3120012000,"북구","명촌동"]
[{"$f":"LEFT($B$1743,10)&TEXT($D$1743,\"0\")&TEXT($E$1743,\"0000\")&TEXT($F$1743,\"0000\")","v":"4480025021105260015"},4480025021,null,1,526,15,"526-15","대",109,null,null,null,"홍성군","국",null,null,null,null,null,null,null,null,null,null,3120012100,"북구","진장동"]
[{"$f":"LEFT($B$1744,10)&TEXT($D$1744,\"0\")&TEXT($E$1744,\"0000\")&TEXT($F$1744,\"0000\")","v":"4480025021105260017"},4480025021,null,1,526,17,"526-17","대",76,null,null,null,"홍성군","국",null,null,null,null,null,null,null,null,null,null,3120012200,"북구","연암동"]
[{"$f":"LEFT($B$1745,10)&TEXT($D$1745,\"0\")&TEXT($E$1745,\"0000\")&TEXT($F$1745,\"0000\")","v":"4480025021105260018"},4480025021,null,1,526,18,"526-18","대",2,null,null,null,"홍성군","국",null,null,null,null,null,null,null,null,null,null,3120012300,"북구","효문동"]
[{"$f":"LEFT($B$1746,10)&TEXT($D$1746,\"0\")&TEXT($E$1746,\"0000\")&TEXT($F$1746,\"0000\")","v":"4480025021105260019"},4480025021,null,1,526,19,"526-19","대",84,null,null,null,"홍성군","국",null,null,null,null,null,null,null,null,null,null,3120012400,"북구","양정동"]
[{"$f":"LEFT($B$1747,10)&TEXT($D$1747,\"0\")&TEXT($E$1747,\"0000\")&TEXT($F$1747,\"0000\")","v":"4480025021105260021"},4480025021,null,1,526,21,"526-21","대",3,null,null,null,"홍성군","국",null,null,null,null,null,null,null,null,null,null,3120012500,"북구","화봉동"]
[{"$f":"LEFT($B$1748,10)&TEXT($D$1748,\"0\")&TEXT($E$1748,\"0000\")&TEXT($F$1748,\"0000\")","v":"4480025021105270002"},4480025021,null,1,527,2,"527-2","대",114,null,null,null,"서부면어사리731","김동근",null,null,null,null,null,null,null,null,null,null,3120012600,"북구","송정동"]
[{"$f":"LEFT($B$1749,10)&TEXT($D$1749,\"0\")&TEXT($E$1749,\"0000\")&TEXT($F$1749,\"0000\")","v":"4480025021105270004"},4480025021,null,1,527,4,"527-4","대",161,null,null,null,"충청남도홍성군홍성읍오관리527-4","이종화",null,null,null,null,null,null,null,null,null,null,3120012700,"북구","염포동"]
[{"$f":"LEFT($B$1750,10)&TEXT($D$1750,\"0\")&TEXT($E$1750,\"0000\")&TEXT($F$1750,\"0000\")","v":"4480025021105270006"},4480025021,null,1,527,6,"527-6","대",809,null,null,null,"527-6","박상만",null,null,null,null,null,null,null,null,null,null,3171025000,"울주군","온산읍"]
[{"$f":"LEFT($B$1751,10)&TEXT($D$1751,\"0\")&TEXT($E$1751,\"0000\")&TEXT($F$1751,\"0000\")","v":"4480025021105270008"},4480025021,null,1,527,8,"527-8","전",139,null,null,null,"527-5","주식회사호서택시",null,null,null,null,null,null,null,null,null,null,3171025021,"울주군","온산읍","화산리"]
[{"$f":"LEFT($B$1752,10)&TEXT($D$1752,\"0\")&TEXT($E$1752,\"0000\")&TEXT($F$1752,\"0000\")","v":"4480025021105270009"},4480025021,null,1,527,9,"527-9","대",198,null,null,null,"527-5","주식회사호서택시",null,null,null,null,null,null,null,null,null,null,3171025022,"울주군","온산읍","삼평리"]
[{"$f":"LEFT($B$1753,10)&TEXT($D$1753,\"0\")&TEXT($E$1753,\"0000\")&TEXT($F$1753,\"0000\")","v":"4480025021105270012"},4480025021,null,1,527,12,"527-12","대",90,null,null,null,"홍성군","국",null,null,null,null,null,null,null,null,null,null,3171025023,"울주군","온산읍","강양리"]
[{"$f":"LEFT($B$1754,10)&TEXT($D$1754,\"0\")&TEXT($E$1754,\"0000\")&TEXT($F$1754,\"0000\")","v":"4480025021105270013"},4480025021,null,1,527,13,"527-13","대",6,null,null,null,"홍성군홍성읍오관리479","노금분",null,null,null,null,null,null,null,null,null,null,3171025024,"울주군","온산읍","우봉리"]
[{"$f":"LEFT($B$1755,10)&TEXT($D$1755,\"0\")&TEXT($E$1755,\"0000\")&TEXT($F$1755,\"0000\")","v":"4480025021105270017"},4480025021,null,1,527,17,"527-17","대",597,null,null,null,null,null,null,null,null,null,null,null,null,null,null,null,3171025025,"울주군","온산읍","당월리"]
[{"$f":"LEFT($B$1756,10)&TEXT($D$1756,\"0\")&TEXT($E$1756,\"0000\")&TEXT($F$1756,\"0000\")","v":"4480025021105270018"},4480025021,null,1,527,18,"527-18","대",204,null,null,null,"갈산면가곡리436","박종용",null,null,null,null,null,null,null,null,null,null,3171025026,"울주군","온산읍","처용리"]
[{"$f":"LEFT($B$1757,10)&TEXT($D$1757,\"0\")&TEXT($E$1757,\"0000\")&TEXT($F$1757,\"0000\")","v":"4480025021105270020"},4480025021,null,1,527,20,"527-20","대",263,null,null,null,"경기도고양시일산서구법곳동1754","허정선",null,null,null,null,null,null,null,null,null,null,3171025027,"울주군","온산읍","산암리"]
[{"$f":"LEFT($B$1758,10)&TEXT($D$1758,\"0\")&TEXT($E$1758,\"0000\")&TEXT($F$1758,\"0000\")","v":"4480025021105270021"},4480025021,null,1,527,21,"527-21","전",186,null,null,null,501,"오세권",null,null,null,null,null,null,null,null,null,null,3171025028,"울주군","온산읍","대정리"]
[{"$f":"LEFT($B$1759,10)&TEXT($D$1759,\"0\")&TEXT($E$1759,\"0000\")&TEXT($F$1759,\"0000\")","v":"4480025021105270026"},4480025021,null,1,527,26,"527-26","전",137,null,null,null,"527-6","박상만",null,null,null,null,null,null,null,null,null,null,3171025029,"울주군","온산읍","방도리"]
[{"$f":"LEFT($B$1760,10)&TEXT($D$1760,\"0\")&TEXT($E$1760,\"0000\")&TEXT($F$1760,\"0000\")","v":"4480025021105270027"},4480025021,null,1,527,27,"527-27","전",43,null,null,null,"인천시계양구용종동213-2초정마을두산아파트301-402","한재현",null,null,null,null,null,null,null,null,null,null,3171025030,"울주군","온산읍","이진리"]
[{"$f":"LEFT($B$1761,10)&TEXT($D$1761,\"0\")&TEXT($E$1761,\"0000\")&TEXT($F$1761,\"0000\")","v":"4480025021105270028"},4480025021,null,1,527,28,"527-28","전",449,null,null,null,"인천시계양구용종동213-2초정마을두산아파트301-402","한재현",null,null,null,null,null,null,null,null,null,null,3171025031,"울주군","온산읍","원산리"]
[{"$f":"LEFT($B$1762,10)&TEXT($D$1762,\"0\")&TEXT($E$1762,\"0000\")&TEXT($F$1762,\"0000\")","v":"4480025021105270029"},4480025021,null,1,527,29,"527-29","대",9,null,null,null,"홍성군","국",null,null,null,null,null,null,null,null,null,null,3171025032,"울주군","온산읍","덕신리"]
[{"$f":"LEFT($B$1763,10)&TEXT($D$1763,\"0\")&TEXT($E$1763,\"0000\")&TEXT($F$1763,\"0000\")","v":"4480025021105270031"},4480025021,null,1,527,31,"527-31","대",16,null,null,null,"홍성군","국",null,null,null,null,null,null,null,null,null,null,3171025033,"울주군","온산읍","학남리"]
[{"$f":"LEFT($B$1764,10)&TEXT($D$1764,\"0\")&TEXT($E$1764,\"0000\")&TEXT($F$1764,\"0000\")","v":"4480025021105270032"},4480025021,null,1,527,32,"527-32","대",1,null,null,null,"홍성군홍성읍오관리479","노금분",null,null,null,null,null,null,null,null,null,null,3171025300,"울주군","언양읍"]
[{"$f":"LEFT($B$1765,10)&TEXT($D$1765,\"0\")&TEXT($E$1765,\"0000\")&TEXT($F$1765,\"0000\")","v":"4480025021105270034"},4480025021,null,1,527,34,"527-34","전",188,null,null,null,"충청남도홍성군홍성읍오관리527-4","이종화",null,null,null,null,null,null,null,null,null,null,3171025321,"울주군","언양읍","반송리"]
[{"$f":"LEFT($B$1766,10)&TEXT($D$1766,\"0\")&TEXT($E$1766,\"0000\")&TEXT($F$1766,\"0000\")","v":"4480025021105270035"},4480025021,null,1,527,35,"527-35","대",14,null,null,null,"홍성군","국",null,null,null,null,null,null,null,null,null,null,3171025322,"울주군","언양읍","반천리"]
[{"$f":"LEFT($B$1767,10)&TEXT($D$1767,\"0\")&TEXT($E$1767,\"0000\")&TEXT($F$1767,\"0000\")","v":"4480025021105280005"},4480025021,null,1,528,5,"528-5","대",225,null,null,null,"홍성군홍성읍오관리528-5","서성철",null,null,null,null,null,null,null,null,null,null,3171025323,"울주군","언양읍","반곡리"]
[{"$f":"LEFT($B$1768,10)&TEXT($D$1768,\"0\")&TEXT($E$1768,\"0000\")&TEXT($F$1768,\"0000\")","v":"4480025021105280006"},4480025021,null,1,528,6,"528-6","대",215,null,null,null,"충청남도홍성군홍성읍문화로90번길34-13","유재택",null,null,null,null,null,null,null,null,null,null,3171025324,"울주군","언양읍","어음리"]
[{"$f":"LEFT($B$1769,10)&TEXT($D$1769,\"0\")&TEXT($E$1769,\"0000\")&TEXT($F$1769,\"0000\")","v":"4480025021105280007"},4480025021,null,1,528,7,"528-7","대",786,null,null,null,"528-3","백성현",null,null,null,null,null,null,null,null,null,null,3171025325,"울주군","언양읍","송대리"]
[{"$f":"LEFT($B$1770,10)&TEXT($D$1770,\"0\")&TEXT($E$1770,\"0000\")&TEXT($F$1770,\"0000\")","v":"4480025021105280008"},4480025021,null,1,528,8,"528-8","대",192,null,null,null,"528-8","이덕행",null,null,null,null,null,null,null,null,null,null,3171025326,"울주군","언양읍","평리"]
[{"$f":"LEFT($B$1771,10)&TEXT($D$1771,\"0\")&TEXT($E$1771,\"0000\")&TEXT($F$1771,\"0000\")","v":"4480025021105280010"},4480025021,null,1,528,10,"528-10","대",152,null,null,null,"2019-11-01","허인식",null,null,null,null,null,null,null,null,null,null,3171025327,"울주군","언양읍","다개리"]
[{"$f":"LEFT($B$1772,10)&TEXT($D$1772,\"0\")&TEXT($E$1772,\"0000\")&TEXT($F$1772,\"0000\")","v":"4480025021105280013"},4480025021,null,1,528,13,"528-13","대",169,null,null,null,"충청남도홍성군홍성읍문화로90번길40-9","엄남월",null,null,null,null,null,null,null,null,null,null,3171025328,"울주군","언양읍","대곡리"]
[{"$f":"LEFT($B$1773,10)&TEXT($D$1773,\"0\")&TEXT($E$1773,\"0000\")&TEXT($F$1773,\"0000\")","v":"4480025021105280014"},4480025021,null,1,528,14,"528-14","전",175,null,null,null,"장곡면월계리485","오영학",null,null,null,null,null,null,null,null,null,null,3171025329,"울주군","언양읍","직동리"]
[{"$f":"LEFT($B$1774,10)&TEXT($D$1774,\"0\")&TEXT($E$1774,\"0000\")&TEXT($F$1774,\"0000\")","v":"4480025021105280015"},4480025021,null,1,528,15,"528-15","대",132,null,null,null,"충청남도홍성군홍성읍문화로90번길40-6","이현승",null,null,null,null,null,null,null,null,null,null,3171025330,"울주군","언양읍","동부리"]
[{"$f":"LEFT($B$1775,10)&TEXT($D$1775,\"0\")&TEXT($E$1775,\"0000\")&TEXT($F$1775,\"0000\")","v":"4480025021105280017"},4480025021,null,1,528,17,"528-17","대",149,null,null,null,"오관리528-17","한창수",null,null,null,null,null,null,null,null,null,null,3171025331,"울주군","언양읍","서부리"]
[{"$f":"LEFT($B$1776,10)&TEXT($D$1776,\"0\")&TEXT($E$1776,\"0000\")&TEXT($F$1776,\"0000\")","v":"4480025021105280018"},4480025021,null,1,528,18,"528-18","대",139,null,null,null,"충청남도홍성군홍성읍오관리528-18","박노순",null,null,null,null,null,null,null,null,null,null,3171025332,"울주군","언양읍","남부리"]
[{"$f":"LEFT($B$1777,10)&TEXT($D$1777,\"0\")&TEXT($E$1777,\"0000\")&TEXT($F$1777,\"0000\")","v":"4480025021105280019"},4480025021,null,1,528,19,"528-19","대",142,null,null,null,"홍성군홍성읍오관리276-3신천아파트다-307","이흥순",null,null,null,null,null,null,null,null,null,null,3171025333,"울주군","언양읍","반연리"]
[{"$f":"LEFT($B$1778,10)&TEXT($D$1778,\"0\")&TEXT($E$1778,\"0000\")&TEXT($F$1778,\"0000\")","v":"4480025021105280021"},4480025021,null,1,528,21,"528-21","전",17,null,null,null,"홍성군","국",null,null,null,null,null,null,null,null,null,null,3171025334,"울주군","언양읍","태기리"]
[{"$f":"LEFT($B$1779,10)&TEXT($D$1779,\"0\")&TEXT($E$1779,\"0000\")&TEXT($F$1779,\"0000\")","v":"4480025021105280023"},4480025021,null,1,528,23,"528-23","대",14,null,null,null,"홍성군","국",null,null,null,null,null,null,null,null,null,null,3171025335,"울주군","언양읍","구수리"]
[{"$f":"LEFT($B$1780,10)&TEXT($D$1780,\"0\")&TEXT($E$1780,\"0000\")&TEXT($F$1780,\"0000\")","v":"4480025021105280024"},4480025021,null,1,528,24,"528-24","전",17,null,null,null,"홍성군","국",null,null,null,null,null,null,null,null,null,null,3171025600,"울주군","온양읍"]
[{"$f":"LEFT($B$1781,10)&TEXT($D$1781,\"0\")&TEXT($E$1781,\"0000\")&TEXT($F$1781,\"0000\")","v":"4480025021105290007"},4480025021,null,1,529,7,"529-7","대",208,null,null,null,"529-7","염원선",null,null,null,null,null,null,null,null,null,null,3171025621,"울주군","온양읍","발리"]
[{"$f":"LEFT($B$1782,10)&TEXT($D$1782,\"0\")&TEXT($E$1782,\"0000\")&TEXT($F$1782,\"0000\")","v":"4480025021105290008"},4480025021,null,1,529,8,"529-8","대",38,null,null,null,"광천읍운용리223","김문호",null,null,null,null,null,null,null,null,null,null,3171025622,"울주군","온양읍","대안리"]
[{"$f":"LEFT($B$1783,10)&TEXT($D$1783,\"0\")&TEXT($E$1783,\"0000\")&TEXT($F$1783,\"0000\")","v":"4480025021105290009"},4480025021,null,1,529,9,"529-9","대",29,null,null,null,"홍성군","국",null,null,null,null,null,null,null,null,null,null,3171025623,"울주군","온양읍","망양리"]
[{"$f":"LEFT($B$1784,10)&TEXT($D$1784,\"0\")&TEXT($E$1784,\"0000\")&TEXT($F$1784,\"0000\")","v":"4480025021105290010"},4480025021,null,1,529,10,"529-10","대",5,null,null,null,"홍성군","국",null,null,null,null,null,null,null,null,null,null,3171025624,"울주군","온양읍","남창리"]
[{"$f":"LEFT($B$1785,10)&TEXT($D$1785,\"0\")&TEXT($E$1785,\"0000\")&TEXT($F$1785,\"0000\")","v":"4480025021105300002"},4480025021,null,1,530,2,"530-2","대",403,null,null,null,"530-2","김동준",null,null,null,null,null,null,null,null,null,null,3171025625,"울주군","온양읍","동상리"]
[{"$f":"LEFT($B$1786,10)&TEXT($D$1786,\"0\")&TEXT($E$1786,\"0000\")&TEXT($F$1786,\"0000\")","v":"4480025021105300004"},4480025021,null,1,530,4,"530-4","대",3,null,null,null,"홍성군갈산면동성리201","우종태",null,null,null,null,null,null,null,null,null,null,3171025626,"울주군","온양읍","삼광리"]
[{"$f":"LEFT($B$1787,10)&TEXT($D$1787,\"0\")&TEXT($E$1787,\"0000\")&TEXT($F$1787,\"0000\")","v":"4480025021105300005"},4480025021,null,1,530,5,"530-5","대",122,null,null,null,"충청남도홍성군구항면충서로1060-21305호(무지개아파트)","김영창",null,null,null,null,null,null,null,null,null,null,3171025627,"울주군","온양읍","내광리"]
[{"$f":"LEFT($B$1788,10)&TEXT($D$1788,\"0\")&TEXT($E$1788,\"0000\")&TEXT($F$1788,\"0000\")","v":"4480025021105300007"},4480025021,null,1,530,7,"530-7","대",7,null,null,null,"오관리369","이종태",null,null,null,null,null,null,null,null,null,null,3171025628,"울주군","온양읍","외광리"]
[{"$f":"LEFT($B$1789,10)&TEXT($D$1789,\"0\")&TEXT($E$1789,\"0000\")&TEXT($F$1789,\"0000\")","v":"4480025021105300008"},4480025021,null,1,530,8,"530-8","전",385,null,null,null,"서울시송파구신천동11장미아파트26동1112호","김동우",null,null,null,null,null,null,null,null,null,null,3171025629,"울주군","온양읍","운화리"]
[{"$f":"LEFT($B$1790,10)&TEXT($D$1790,\"0\")&TEXT($E$1790,\"0000\")&TEXT($F$1790,\"0000\")","v":"4480025021105300011"},4480025021,null,1,530,11,"530-11","전",60,null,null,null,"서울시송파구신천동11장미아파트26동1112호","김동우",null,null,null,null,null,null,null,null,null,null,3171025630,"울주군","온양읍","고산리"]
[{"$f":"LEFT($B$1791,10)&TEXT($D$1791,\"0\")&TEXT($E$1791,\"0000\")&TEXT($F$1791,\"0000\")","v":"4480025021105300012"},4480025021,null,1,530,12,"530-12","대",277,null,null,null,"530-12","김홍소",null,null,null,null,null,null,null,null,null,null,3171025900,"울주군","범서읍"]
[{"$f":"LEFT($B$1792,10)&TEXT($D$1792,\"0\")&TEXT($E$1792,\"0000\")&TEXT($F$1792,\"0000\")","v":"4480025021105300015"},4480025021,null,1,530,15,"530-15","대",232,null,null,null,"예산군예산읍대회리222-2","임철용",null,null,null,null,null,null,null,null,null,null,3171025921,"울주군","범서읍","사연리"]
[{"$f":"LEFT($B$1793,10)&TEXT($D$1793,\"0\")&TEXT($E$1793,\"0000\")&TEXT($F$1793,\"0000\")","v":"4480025021105310000"},4480025021,null,1,531,0,531,"전",622,null,null,null,"서울시송파구신천동11장미아파트26동1112호","김동우",null,null,null,null,null,null,null,null,null,null,3171025922,"울주군","범서읍","천상리"]
[{"$f":"LEFT($B$1794,10)&TEXT($D$1794,\"0\")&TEXT($E$1794,\"0000\")&TEXT($F$1794,\"0000\")","v":"4480025021105320002"},4480025021,null,1,532,2,"532-2","대",1085,null,null,null,"충청남도홍성군홍성읍문화로80번길31","고명숙",null,null,null,null,null,null,null,null,null,null,3171025923,"울주군","범서읍","입암리"]
[{"$f":"LEFT($B$1795,10)&TEXT($D$1795,\"0\")&TEXT($E$1795,\"0000\")&TEXT($F$1795,\"0000\")","v":"4480025021105320003"},4480025021,null,1,532,3,"532-3","대",319,null,null,null,"금마면화양리410","박장상",null,null,null,null,null,null,null,null,null,null,3171025924,"울주군","범서읍","굴화리"]
[{"$f":"LEFT($B$1796,10)&TEXT($D$1796,\"0\")&TEXT($E$1796,\"0000\")&TEXT($F$1796,\"0000\")","v":"4480025021105320007"},4480025021,null,1,532,7,"532-7","전",168,null,null,null,"충청남도홍성군홍성읍충절로953번길20112동303호(신동아파밀리에아파트)","이연성",null,null,null,null,null,null,null,null,null,null,3171025925,"울주군","범서읍","서사리"]
[{"$f":"LEFT($B$1797,10)&TEXT($D$1797,\"0\")&TEXT($E$1797,\"0000\")&TEXT($F$1797,\"0000\")","v":"4480025021105320009"},4480025021,null,1,532,9,"532-9","종",5,null,null,null,"532-21","고용석",null,null,null,null,null,null,null,null,null,null,3171025926,"울주군","범서읍","두산리"]
[{"$f":"LEFT($B$1798,10)&TEXT($D$1798,\"0\")&TEXT($E$1798,\"0000\")&TEXT($F$1798,\"0000\")","v":"4480025021105320010"},4480025021,null,1,532,10,"532-10","도",16,null,null,null,"오관리532-3","이창래",null,null,null,null,null,null,null,null,null,null,3171025927,"울주군","범서읍","구영리"]
[{"$f":"LEFT($B$1799,10)&TEXT($D$1799,\"0\")&TEXT($E$1799,\"0000\")&TEXT($F$1799,\"0000\")","v":"4480025021105320011"},4480025021,null,1,532,11,"532-11","도",105,null,null,null,"충청남도홍성군홍성읍남장리515주공그린빌112-1205","이연성",null,null,null,null,null,null,null,null,null,null,3171025928,"울주군","범서읍","중리"]
[{"$f":"LEFT($B$1800,10)&TEXT($D$1800,\"0\")&TEXT($E$1800,\"0000\")&TEXT($F$1800,\"0000\")","v":"4480025021105320013"},4480025021,null,1,532,13,"532-13","전",198,null,null,null,"서울특별시서대문구홍제동267-1402층-201","이예성",null,null,null,null,null,null,null,null,null,null,3171025929,"울주군","범서읍","망성리"]
[{"$f":"LEFT($B$1801,10)&TEXT($D$1801,\"0\")&TEXT($E$1801,\"0000\")&TEXT($F$1801,\"0000\")","v":"4480025021105320021"},4480025021,null,1,532,21,"532-21","종",1376,null,null,null,"예산군삽교읍신리355-13","재단법인대한예수교장노회충남노회유지재단",null,null,null,null,null,null,null,null,null,null,3171025930,"울주군","범서읍","척과리"]
[{"$f":"LEFT($B$1802,10)&TEXT($D$1802,\"0\")&TEXT($E$1802,\"0000\")&TEXT($F$1802,\"0000\")","v":"4480025021105320022"},4480025021,null,1,532,22,"532-22","전",326,null,null,null,"충청남도홍성군홍성읍문화로80번길31","고용석",null,null,null,null,null,null,null,null,null,null,3171031000,"울주군","서생면"]
[{"$f":"LEFT($B$1803,10)&TEXT($D$1803,\"0\")&TEXT($E$1803,\"0000\")&TEXT($F$1803,\"0000\")","v":"4480025021105320023"},4480025021,null,1,532,23,"532-23","도",11,null,null,null,"532-21","고용석",null,null,null,null,null,null,null,null,null,null,3171031021,"울주군","서생면","신암리"]
[{"$f":"LEFT($B$1804,10)&TEXT($D$1804,\"0\")&TEXT($E$1804,\"0000\")&TEXT($F$1804,\"0000\")","v":"4480025021105320024"},4480025021,null,1,532,24,"532-24","전",79,null,null,null,"532-21","고용석",null,null,null,null,null,null,null,null,null,null,3171031022,"울주군","서생면","명산리"]
[{"$f":"LEFT($B$1805,10)&TEXT($D$1805,\"0\")&TEXT($E$1805,\"0000\")&TEXT($F$1805,\"0000\")","v":"4480025021105320025"},4480025021,null,1,532,25,"532-25","종",29,null,null,null,"부여군외산면만수리19","재단법인대한예수교장노회충남노회유지재단",null,null,null,null,null,null,null,null,null,null,3171031023,"울주군","서생면","나사리"]
[{"$f":"LEFT($B$1806,10)&TEXT($D$1806,\"0\")&TEXT($E$1806,\"0000\")&TEXT($F$1806,\"0000\")","v":"4480025021105320026"},4480025021,null,1,532,26,"532-26","대",102,null,null,null,"홍성군","국",null,null,null,null,null,null,null,null,null,null,3171031024,"울주군","서생면","화산리"]
[{"$f":"LEFT($B$1807,10)&TEXT($D$1807,\"0\")&TEXT($E$1807,\"0000\")&TEXT($F$1807,\"0000\")","v":"4480025021105330003"},4480025021,null,1,533,3,"533-3","대",137,null,null,null,"예산군오가면원평리423","이옥금",null,null,null,null,null,null,null,null,null,null,3171031025,"울주군","서생면","대송리"]
[{"$f":"LEFT($B$1808,10)&TEXT($D$1808,\"0\")&TEXT($E$1808,\"0000\")&TEXT($F$1808,\"0000\")","v":"4480025021105330004"},4480025021,null,1,533,4,"533-4","대",345,null,null,null,"충청남도홍성군홍성읍충절로953번길20108동1202호(신동아파밀리에아파트)","김동민",null,null,null,null,null,null,null,null,null,null,3171031026,"울주군","서생면","용리"]
[{"$f":"LEFT($B$1809,10)&TEXT($D$1809,\"0\")&TEXT($E$1809,\"0000\")&TEXT($F$1809,\"0000\")","v":"4480025021105330007"},4480025021,null,1,533,7,"533-7","전",162,null,null,null,"충청남도예산군오가면원평1길26-3","최현수",null,null,null,null,null,null,null,null,null,null,3171031027,"울주군","서생면","서생리"]
[{"$f":"LEFT($B$1810,10)&TEXT($D$1810,\"0\")&TEXT($E$1810,\"0000\")&TEXT($F$1810,\"0000\")","v":"4480025021105330009"},4480025021,null,1,533,9,"533-9","전",247,null,null,null,"충청남도홍성군홍성읍문화로90번길62-3","김복순",null,null,null,null,null,null,null,null,null,null,3171031028,"울주군","서생면","진하리"]
[{"$f":"LEFT($B$1811,10)&TEXT($D$1811,\"0\")&TEXT($E$1811,\"0000\")&TEXT($F$1811,\"0000\")","v":"4480025021105330010"},4480025021,null,1,533,10,"533-10","전",278,null,null,null,"533-10","서용식",null,null,null,null,null,null,null,null,null,null,3171031029,"울주군","서생면","화정리"]
[{"$f":"LEFT($B$1812,10)&TEXT($D$1812,\"0\")&TEXT($E$1812,\"0000\")&TEXT($F$1812,\"0000\")","v":"4480025021105330013"},4480025021,null,1,533,13,"533-13","전",266,null,null,null,"충청남도홍성군홍성읍문화로90번길62-11","최대현",null,null,null,null,null,null,null,null,null,null,3171031030,"울주군","서생면","위양리"]
[{"$f":"LEFT($B$1813,10)&TEXT($D$1813,\"0\")&TEXT($E$1813,\"0000\")&TEXT($F$1813,\"0000\")","v":"4480025021105330014"},4480025021,null,1,533,14,"533-14","전",343,null,null,null,"533-14","이번자",null,null,null,null,null,null,null,null,null,null,3171033000,"울주군","청량면"]
[{"$f":"LEFT($B$1814,10)&TEXT($D$1814,\"0\")&TEXT($E$1814,\"0000\")&TEXT($F$1814,\"0000\")","v":"4480025021105330016"},4480025021,null,1,533,16,"533-16","대",99,null,null,null,"홍성군홍동면금당리127-1","신동창",null,null,null,null,null,null,null,null,null,null,3171033021,"울주군","청량면","덕하리"]
[{"$f":"LEFT($B$1815,10)&TEXT($D$1815,\"0\")&TEXT($E$1815,\"0000\")&TEXT($F$1815,\"0000\")","v":"4480025021105330017"},4480025021,null,1,533,17,"533-17","대",27,null,null,null,"홍성군","국",null,null,null,null,null,null,null,null,null,null,3171033022,"울주군","청량면","동천리"]
[{"$f":"LEFT($B$1816,10)&TEXT($D$1816,\"0\")&TEXT($E$1816,\"0000\")&TEXT($F$1816,\"0000\")","v":"4480025021105330018"},4480025021,null,1,533,18,"533-18","전",38,null,null,null,"홍성군","국",null,null,null,null,null,null,null,null,null,null,3171033023,"울주군","청량면","상남리"]
[{"$f":"LEFT($B$1817,10)&TEXT($D$1817,\"0\")&TEXT($E$1817,\"0000\")&TEXT($F$1817,\"0000\")","v":"4480025021105330019"},4480025021,null,1,533,19,"533-19","전",8,null,null,null,"홍성군","국",null,null,null,null,null,null,null,null,null,null,3171033024,"울주군","청량면","개곡리"]
[{"$f":"LEFT($B$1818,10)&TEXT($D$1818,\"0\")&TEXT($E$1818,\"0000\")&TEXT($F$1818,\"0000\")","v":"4480025021105340001"},4480025021,null,1,534,1,"534-1","대",35,null,null,null,"충청남도홍성군홍성읍문화로90번길50-1","장금자",null,null,null,null,null,null,null,null,null,null,3171033025,"울주군","청량면","중리"]
[{"$f":"LEFT($B$1819,10)&TEXT($D$1819,\"0\")&TEXT($E$1819,\"0000\")&TEXT($F$1819,\"0000\")","v":"4480025021105340004"},4480025021,null,1,534,4,"534-4","도",308,null,null,null,"오관리302","박용구",null,null,null,null,null,null,null,null,null,null,3171033026,"울주군","청량면","문죽리"]
[{"$f":"LEFT($B$1820,10)&TEXT($D$1820,\"0\")&TEXT($E$1820,\"0000\")&TEXT($F$1820,\"0000\")","v":"4480025021105340007"},4480025021,null,1,534,7,"534-7","대",149,null,null,null,"534-7","이승자",null,null,null,null,null,null,null,null,null,null,3171033027,"울주군","청량면","삼정리"]
[{"$f":"LEFT($B$1821,10)&TEXT($D$1821,\"0\")&TEXT($E$1821,\"0000\")&TEXT($F$1821,\"0000\")","v":"4480025021105340009"},4480025021,null,1,534,9,"534-9","대",225,null,null,null,"충청남도홍성군홍성읍옥암리298-4","조순열",null,null,null,null,null,null,null,null,null,null,3171033028,"울주군","청량면","율리"]
[{"$f":"LEFT($B$1822,10)&TEXT($D$1822,\"0\")&TEXT($E$1822,\"0000\")&TEXT($F$1822,\"0000\")","v":"4480025021105340017"},4480025021,null,1,534,17,"534-17","대",36,null,null,null,"결성면읍내리373","이희진",null,null,null,null,null,null,null,null,null,null,3171033029,"울주군","청량면","용암리"]
[{"$f":"LEFT($B$1823,10)&TEXT($D$1823,\"0\")&TEXT($E$1823,\"0000\")&TEXT($F$1823,\"0000\")","v":"4480025021105340018"},4480025021,null,1,534,18,"534-18","대",141,null,null,null,"충청남도홍성군홍성읍문화로90번길50-22","조복순",null,null,null,null,null,null,null,null,null,null,3171034000,"울주군","웅촌면"]
[{"$f":"LEFT($B$1824,10)&TEXT($D$1824,\"0\")&TEXT($E$1824,\"0000\")&TEXT($F$1824,\"0000\")","v":"4480025021105340019"},4480025021,null,1,534,19,"534-19","대",248,null,null,null,"534-19","허명욱",null,null,null,null,null,null,null,null,null,null,3171034021,"울주군","웅촌면","초천리"]
[{"$f":"LEFT($B$1825,10)&TEXT($D$1825,\"0\")&TEXT($E$1825,\"0000\")&TEXT($F$1825,\"0000\")","v":"4480025021105340020"},4480025021,null,1,534,20,"534-20","대",147,null,null,null,"534-20","모종순",null,null,null,null,null,null,null,null,null,null,3171034022,"울주군","웅촌면","석천리"]
[{"$f":"LEFT($B$1826,10)&TEXT($D$1826,\"0\")&TEXT($E$1826,\"0000\")&TEXT($F$1826,\"0000\")","v":"4480025021105340022"},4480025021,null,1,534,22,"534-22","대",149,null,null,null,"오관리534-22","최순희",null,null,null,null,null,null,null,null,null,null,3171034023,"울주군","웅촌면","곡천리"]
[{"$f":"LEFT($B$1827,10)&TEXT($D$1827,\"0\")&TEXT($E$1827,\"0000\")&TEXT($F$1827,\"0000\")","v":"4480025021105340023"},4480025021,null,1,534,23,"534-23","대",221,null,null,null,"오관리534-23","오석도",null,null,null,null,null,null,null,null,null,null,3171034024,"울주군","웅촌면","검단리"]
[{"$f":"LEFT($B$1828,10)&TEXT($D$1828,\"0\")&TEXT($E$1828,\"0000\")&TEXT($F$1828,\"0000\")","v":"4480025021105340026"},4480025021,null,1,534,26,"534-26","대",188,null,null,null,"2019-11-01","박상열",null,null,null,null,null,null,null,null,null,null,3171034025,"울주군","웅촌면","은현리"]
[{"$f":"LEFT($B$1829,10)&TEXT($D$1829,\"0\")&TEXT($E$1829,\"0000\")&TEXT($F$1829,\"0000\")","v":"4480025021105340029"},4480025021,null,1,534,29,"534-29","대",198,null,null,null,"홍성군홍성읍오관리534-29","이춘희",null,null,null,null,null,null,null,null,null,null,3171034026,"울주군","웅촌면","고연리"]
[{"$f":"LEFT($B$1830,10)&TEXT($D$1830,\"0\")&TEXT($E$1830,\"0000\")&TEXT($F$1830,\"0000\")","v":"4480025021105340030"},4480025021,null,1,534,30,"534-30","대",185,null,null,null,"충청남도홍성군홍성읍문화로90번길50-31","전용연",null,null,null,null,null,null,null,null,null,null,3171034027,"울주군","웅촌면","대대리"]
[{"$f":"LEFT($B$1831,10)&TEXT($D$1831,\"0\")&TEXT($E$1831,\"0000\")&TEXT($F$1831,\"0000\")","v":"4480025021105340031"},4480025021,null,1,534,31,"534-31","대",248,null,null,null,"534-31","윤순희",null,null,null,null,null,null,null,null,null,null,3171034028,"울주군","웅촌면","통천리"]
[{"$f":"LEFT($B$1832,10)&TEXT($D$1832,\"0\")&TEXT($E$1832,\"0000\")&TEXT($F$1832,\"0000\")","v":"4480025021105340043"},4480025021,null,1,534,43,"534-43","대",29,null,null,null,"536-2","김용문",null,null,null,null,null,null,null,null,null,null,3171034029,"울주군","웅촌면","대복리"]
[{"$f":"LEFT($B$1833,10)&TEXT($D$1833,\"0\")&TEXT($E$1833,\"0000\")&TEXT($F$1833,\"0000\")","v":"4480025021105340045"},4480025021,null,1,534,45,"534-45","대",19,null,null,null,"홍성군","국",null,null,null,null,null,null,null,null,null,null,3171036000,"울주군","두동면"]
[{"$f":"LEFT($B$1834,10)&TEXT($D$1834,\"0\")&TEXT($E$1834,\"0000\")&TEXT($F$1834,\"0000\")","v":"4480025021105350002"},4480025021,null,1,535,2,"535-2","전",73,null,null,null,"충청남도홍성군홍성읍문화로90번길50-1","장금자",null,null,null,null,null,null,null,null,null,null,3171036021,"울주군","두동면","만화리"]
[{"$f":"LEFT($B$1835,10)&TEXT($D$1835,\"0\")&TEXT($E$1835,\"0000\")&TEXT($F$1835,\"0000\")","v":"4480025021105350004"},4480025021,null,1,535,4,"535-4","대",212,null,null,null,"홍성군홍성읍오관리535-4","김영화",null,null,null,null,null,null,null,null,null,null,3171036022,"울주군","두동면","구미리"]
[{"$f":"LEFT($B$1836,10)&TEXT($D$1836,\"0\")&TEXT($E$1836,\"0000\")&TEXT($F$1836,\"0000\")","v":"4480025021105350005"},4480025021,null,1,535,5,"535-5","대",66,null,null,null,"534-42","강영미",null,null,null,null,null,null,null,null,null,null,3171036023,"울주군","두동면","월평리"]
[{"$f":"LEFT($B$1837,10)&TEXT($D$1837,\"0\")&TEXT($E$1837,\"0000\")&TEXT($F$1837,\"0000\")","v":"4480025021105350008"},4480025021,null,1,535,8,"535-8","대",235,null,null,null,"276-3신천아파트다동505호","김명수",null,null,null,null,null,null,null,null,null,null,3171036024,"울주군","두동면","삼정리"]
[{"$f":"LEFT($B$1838,10)&TEXT($D$1838,\"0\")&TEXT($E$1838,\"0000\")&TEXT($F$1838,\"0000\")","v":"4480025021105350009"},4480025021,null,1,535,9,"535-9","전",16,null,null,null,"홍성군","국",null,null,null,null,null,null,null,null,null,null,3171036025,"울주군","두동면","이전리"]
[{"$f":"LEFT($B$1839,10)&TEXT($D$1839,\"0\")&TEXT($E$1839,\"0000\")&TEXT($F$1839,\"0000\")","v":"4480025021105360001"},4480025021,null,1,536,1,"536-1","대",116,null,null,null,"536-1","장영구",null,null,null,null,null,null,null,null,null,null,3171036026,"울주군","두동면","봉계리"]
[{"$f":"LEFT($B$1840,10)&TEXT($D$1840,\"0\")&TEXT($E$1840,\"0000\")&TEXT($F$1840,\"0000\")","v":"4480025021105360002"},4480025021,null,1,536,2,"536-2","대",204,null,null,null,"536-2","김홍환",null,null,null,null,null,null,null,null,null,null,3171036027,"울주군","두동면","천전리"]
[{"$f":"LEFT($B$1841,10)&TEXT($D$1841,\"0\")&TEXT($E$1841,\"0000\")&TEXT($F$1841,\"0000\")","v":"4480025021105360005"},4480025021,null,1,536,5,"536-5","대",168,null,null,null,"360-8","김기문",null,null,null,null,null,null,null,null,null,null,3171036028,"울주군","두동면","은편리"]
[{"$f":"LEFT($B$1842,10)&TEXT($D$1842,\"0\")&TEXT($E$1842,\"0000\")&TEXT($F$1842,\"0000\")","v":"4480025021105360006"},4480025021,null,1,536,6,"536-6","대",175,null,null,null,"고암리252-1","유기남",null,null,null,null,null,null,null,null,null,null,3171037000,"울주군","두서면"]
[{"$f":"LEFT($B$1843,10)&TEXT($D$1843,\"0\")&TEXT($E$1843,\"0000\")&TEXT($F$1843,\"0000\")","v":"4480025021105360007"},4480025021,null,1,536,7,"536-7","대",152,null,null,null,"충청남도홍성군홍성읍간동1길11-17","이상태",null,null,null,null,null,null,null,null,null,null,3171037021,"울주군","두서면","차리"]
[{"$f":"LEFT($B$1844,10)&TEXT($D$1844,\"0\")&TEXT($E$1844,\"0000\")&TEXT($F$1844,\"0000\")","v":"4480025021105360008"},4480025021,null,1,536,8,"536-8","전",215,null,null,null,"서울특별시서초구서초대로12길44-81층102호(방배동)","이예순",null,null,null,null,null,null,null,null,null,null,3171037022,"울주군","두서면","구량리"]
[{"$f":"LEFT($B$1845,10)&TEXT($D$1845,\"0\")&TEXT($E$1845,\"0000\")&TEXT($F$1845,\"0000\")","v":"4480025021105360009"},4480025021,null,1,536,9,"536-9","대",345,null,null,null,"536-9","이태화",null,null,null,null,null,null,null,null,null,null,3171037023,"울주군","두서면","복안리"]
[{"$f":"LEFT($B$1846,10)&TEXT($D$1846,\"0\")&TEXT($E$1846,\"0000\")&TEXT($F$1846,\"0000\")","v":"4480025021105360012"},4480025021,null,1,536,12,"536-12","대",13,null,null,null,"오관리537-9","김창호",null,null,null,null,null,null,null,null,null,null,3171037024,"울주군","두서면","미호리"]
[{"$f":"LEFT($B$1847,10)&TEXT($D$1847,\"0\")&TEXT($E$1847,\"0000\")&TEXT($F$1847,\"0000\")","v":"4480025021105360013"},4480025021,null,1,536,13,"536-13","전",248,null,null,null,"태안군근흥면용신리402-6","옥창식",null,null,null,null,null,null,null,null,null,null,3171037025,"울주군","두서면","활천리"]
[{"$f":"LEFT($B$1848,10)&TEXT($D$1848,\"0\")&TEXT($E$1848,\"0000\")&TEXT($F$1848,\"0000\")","v":"4480025021105360015"},4480025021,null,1,536,15,"536-15","전",38,null,null,null,"536-9","이태화",null,null,null,null,null,null,null,null,null,null,3171037026,"울주군","두서면","내와리"]
[{"$f":"LEFT($B$1849,10)&TEXT($D$1849,\"0\")&TEXT($E$1849,\"0000\")&TEXT($F$1849,\"0000\")","v":"4480025021105360016"},4480025021,null,1,536,16,"536-16","대",20,null,null,null,"홍성군","국",null,null,null,null,null,null,null,null,null,null,3171037027,"울주군","두서면","전읍리"]
[{"$f":"LEFT($B$1850,10)&TEXT($D$1850,\"0\")&TEXT($E$1850,\"0000\")&TEXT($F$1850,\"0000\")","v":"4480025021105360017"},4480025021,null,1,536,17,"536-17","대",24,null,null,null,"홍성군","국",null,null,null,null,null,null,null,null,null,null,3171037028,"울주군","두서면","인보리"]
[{"$f":"LEFT($B$1851,10)&TEXT($D$1851,\"0\")&TEXT($E$1851,\"0000\")&TEXT($F$1851,\"0000\")","v":"4480025021105360018"},4480025021,null,1,536,18,"536-18","대",4,null,null,null,"홍성군","국",null,null,null,null,null,null,null,null,null,null,3171037029,"울주군","두서면","서하리"]
[{"$f":"LEFT($B$1852,10)&TEXT($D$1852,\"0\")&TEXT($E$1852,\"0000\")&TEXT($F$1852,\"0000\")","v":"4480025021105370000"},4480025021,null,1,537,0,537,"대",254,null,null,null,537,"이정직",null,null,null,null,null,null,null,null,null,null,3171038000,"울주군","상북면"]
[{"$f":"LEFT($B$1853,10)&TEXT($D$1853,\"0\")&TEXT($E$1853,\"0000\")&TEXT($F$1853,\"0000\")","v":"4480025021105370001"},4480025021,null,1,537,1,"537-1","대",164,null,null,null,"537-1","정규석",null,null,null,null,null,null,null,null,null,null,3171038021,"울주군","상북면","지내리"]
[{"$f":"LEFT($B$1854,10)&TEXT($D$1854,\"0\")&TEXT($E$1854,\"0000\")&TEXT($F$1854,\"0000\")","v":"4480025021105370002"},4480025021,null,1,537,2,"537-2","잡",11,null,null,null,"홍성군","국",null,null,null,null,null,null,null,null,null,null,3171038022,"울주군","상북면","양등리"]
[{"$f":"LEFT($B$1855,10)&TEXT($D$1855,\"0\")&TEXT($E$1855,\"0000\")&TEXT($F$1855,\"0000\")","v":"4480025021105370003"},4480025021,null,1,537,3,"537-3","대",70,null,null,null,"충청남도홍성군홍성읍오관리537-3","우종건",null,null,null,null,null,null,null,null,null,null,3171038023,"울주군","상북면","산전리"]
[{"$f":"LEFT($B$1856,10)&TEXT($D$1856,\"0\")&TEXT($E$1856,\"0000\")&TEXT($F$1856,\"0000\")","v":"4480025021105370007"},4480025021,null,1,537,7,"537-7","대",183,null,null,null,"537-7","전인석",null,null,null,null,null,null,null,null,null,null,3171038024,"울주군","상북면","길천리"]
[{"$f":"LEFT($B$1857,10)&TEXT($D$1857,\"0\")&TEXT($E$1857,\"0000\")&TEXT($F$1857,\"0000\")","v":"4480025021105370008"},4480025021,null,1,537,8,"537-8","잡",147,null,null,null,"충청남도홍성군홍북읍신대로33104동1401호(극동스타클래스센트럴)","김영범",null,null,null,null,null,null,null,null,null,null,3171038025,"울주군","상북면","이천리"]
[{"$f":"LEFT($B$1858,10)&TEXT($D$1858,\"0\")&TEXT($E$1858,\"0000\")&TEXT($F$1858,\"0000\")","v":"4480025021105370009"},4480025021,null,1,537,9,"537-9","대",175,null,null,null,"오관리537-9","김창호",null,null,null,null,null,null,null,null,null,null,3171038026,"울주군","상북면","덕현리"]
[{"$f":"LEFT($B$1859,10)&TEXT($D$1859,\"0\")&TEXT($E$1859,\"0000\")&TEXT($F$1859,\"0000\")","v":"4480025021105370011"},4480025021,null,1,537,11,"537-11","대",37,null,null,null,"서울특별시강서구공항대로8길76(공항동)","조진행",null,null,null,null,null,null,null,null,null,null,3171038027,"울주군","상북면","명촌리"]
[{"$f":"LEFT($B$1860,10)&TEXT($D$1860,\"0\")&TEXT($E$1860,\"0000\")&TEXT($F$1860,\"0000\")","v":"4480025021105370012"},4480025021,null,1,537,12,"537-12","대",64,null,null,null,"홍성군","국",null,null,null,null,null,null,null,null,null,null,3171038028,"울주군","상북면","천전리"]
[{"$f":"LEFT($B$1861,10)&TEXT($D$1861,\"0\")&TEXT($E$1861,\"0000\")&TEXT($F$1861,\"0000\")","v":"4480025021105370014"},4480025021,null,1,537,14,"537-14","대",24,null,null,null,"홍성군","국",null,null,null,null,null,null,null,null,null,null,3171038029,"울주군","상북면","거리"]
[{"$f":"LEFT($B$1862,10)&TEXT($D$1862,\"0\")&TEXT($E$1862,\"0000\")&TEXT($F$1862,\"0000\")","v":"4480025021105370016"},4480025021,null,1,537,16,"537-16","잡",133,null,null,null,"홍성군홍성읍오관리537-2","조미애",null,null,null,null,null,null,null,null,null,null,3171038030,"울주군","상북면","궁근정리"]
[{"$f":"LEFT($B$1863,10)&TEXT($D$1863,\"0\")&TEXT($E$1863,\"0000\")&TEXT($F$1863,\"0000\")","v":"4480025021105370017"},4480025021,null,1,537,17,"537-17","잡",1,null,null,null,"홍성군","국",null,null,null,null,null,null,null,null,null,null,3171038032,"울주군","상북면","향산리"]
[{"$f":"LEFT($B$1864,10)&TEXT($D$1864,\"0\")&TEXT($E$1864,\"0000\")&TEXT($F$1864,\"0000\")","v":"4480025021105370018"},4480025021,null,1,537,18,"537-18","대",26,null,null,null,"홍성군","국",null,null,null,null,null,null,null,null,null,null,3171038033,"울주군","상북면","소호리"]
[{"$f":"LEFT($B$1865,10)&TEXT($D$1865,\"0\")&TEXT($E$1865,\"0000\")&TEXT($F$1865,\"0000\")","v":"4480025021105370019"},4480025021,null,1,537,19,"537-19","대",88,null,null,null,"홍성군","국",null,null,null,null,null,null,null,null,null,null,3171038034,"울주군","상북면","등억알프스리"]
[{"$f":"LEFT($B$1866,10)&TEXT($D$1866,\"0\")&TEXT($E$1866,\"0000\")&TEXT($F$1866,\"0000\")","v":"4480025021105370021"},4480025021,null,1,537,21,"537-21","잡",2,null,null,null,"홍성군","국",null,null,null,null,null,null,null,null,null,null,3171039000,"울주군","삼남면"]
[{"$f":"LEFT($B$1867,10)&TEXT($D$1867,\"0\")&TEXT($E$1867,\"0000\")&TEXT($F$1867,\"0000\")","v":"4480025021105370022"},4480025021,null,1,537,22,"537-22","잡",283,null,null,null,"홍성군","국",null,null,null,null,null,null,null,null,null,null,3171039021,"울주군","삼남면","교동리"]
[{"$f":"LEFT($B$1868,10)&TEXT($D$1868,\"0\")&TEXT($E$1868,\"0000\")&TEXT($F$1868,\"0000\")","v":"4480025021105370024"},4480025021,null,1,537,24,"537-24","대",255,null,null,null,"홍성군","국",null,null,null,null,null,null,null,null,null,null,3171039022,"울주군","삼남면","상천리"]
[{"$f":"LEFT($B$1869,10)&TEXT($D$1869,\"0\")&TEXT($E$1869,\"0000\")&TEXT($F$1869,\"0000\")","v":"4480025021105370025"},4480025021,null,1,537,25,"537-25","대",106,null,null,null,"서울특별시강서구공항대로8길76(공항동)","조진행",null,null,null,null,null,null,null,null,null,null,3171039023,"울주군","삼남면","신화리"]
[{"$f":"LEFT($B$1870,10)&TEXT($D$1870,\"0\")&TEXT($E$1870,\"0000\")&TEXT($F$1870,\"0000\")","v":"4480025021105370026"},4480025021,null,1,537,26,"537-26","대",161,null,null,null,"홍성군","국",null,null,null,null,null,null,null,null,null,null,3171039024,"울주군","삼남면","방기리"]
[{"$f":"LEFT($B$1871,10)&TEXT($D$1871,\"0\")&TEXT($E$1871,\"0000\")&TEXT($F$1871,\"0000\")","v":"4480025021105370028"},4480025021,null,1,537,28,"537-28","잡",9,null,null,null,"홍성군","국",null,null,null,null,null,null,null,null,null,null,3171039025,"울주군","삼남면","가천리"]
[{"$f":"LEFT($B$1872,10)&TEXT($D$1872,\"0\")&TEXT($E$1872,\"0000\")&TEXT($F$1872,\"0000\")","v":"4480025021105370029"},4480025021,null,1,537,29,"537-29","잡",76,null,null,null,"홍성군","국",null,null,null,null,null,null,null,null,null,null,3171040000,"울주군","삼동면"]
[{"$f":"LEFT($B$1873,10)&TEXT($D$1873,\"0\")&TEXT($E$1873,\"0000\")&TEXT($F$1873,\"0000\")","v":"4480025021105380001"},4480025021,null,1,538,1,"538-1","전",275,null,null,null,"홍성군","국",null,null,null,null,null,null,null,null,null,null,3171040021,"울주군","삼동면","둔기리"]
[{"$f":"LEFT($B$1874,10)&TEXT($D$1874,\"0\")&TEXT($E$1874,\"0000\")&TEXT($F$1874,\"0000\")","v":"4480025021105380004"},4480025021,null,1,538,4,"538-4","전",112,null,null,null,"홍성군","국",null,null,null,null,null,null,null,null,null,null,3171040022,"울주군","삼동면","조일리"]
[{"$f":"LEFT($B$1875,10)&TEXT($D$1875,\"0\")&TEXT($E$1875,\"0000\")&TEXT($F$1875,\"0000\")","v":"4480025021105380005"},4480025021,null,1,538,5,"538-5","전",49,null,null,null,"홍동면금당리737","조석현",null,null,null,null,null,null,null,null,null,null,3171040023,"울주군","삼동면","출강리"]
[{"$f":"LEFT($B$1876,10)&TEXT($D$1876,\"0\")&TEXT($E$1876,\"0000\")&TEXT($F$1876,\"0000\")","v":"4480025021105380009"},4480025021,null,1,538,9,"538-9","대",258,null,null,null,"오관리538-9","장문혁",null,null,null,null,null,null,null,null,null,null,3171040024,"울주군","삼동면","작동리"]
[{"$f":"LEFT($B$1877,10)&TEXT($D$1877,\"0\")&TEXT($E$1877,\"0000\")&TEXT($F$1877,\"0000\")","v":"4480025021105380010"},4480025021,null,1,538,10,"538-10","대",258,null,null,null,"천안시다가동362-5","염귀덕",null,null,null,null,null,null,null,null,null,null,3171040025,"울주군","삼동면","보은리"]
[{"$f":"LEFT($B$1878,10)&TEXT($D$1878,\"0\")&TEXT($E$1878,\"0000\")&TEXT($F$1878,\"0000\")","v":"4480025021105380011"},4480025021,null,1,538,11,"538-11","전",264,null,null,null,"대교리401","김화숙",null,null,null,null,null,null,null,null,null,null,3171040026,"울주군","삼동면","하잠리"]
[{"$f":"LEFT($B$1879,10)&TEXT($D$1879,\"0\")&TEXT($E$1879,\"0000\")&TEXT($F$1879,\"0000\")","v":"4480025021105380012"},4480025021,null,1,538,12,"538-12","대",247,null,null,null,"홍동면금당리737","조석현",null,null,null,null,null,null,null,null,null,null,3171040027,"울주군","삼동면","금곡리"]
[{"$f":"LEFT($B$1880,10)&TEXT($D$1880,\"0\")&TEXT($E$1880,\"0000\")&TEXT($F$1880,\"0000\")","v":"4480025021105380014"},4480025021,null,1,538,14,"538-14","전",109,null,null,null,"홍성군","국",null,null,null,null,null,null,null,null,null,null,3611025021,"조치원읍","원리"]
[{"$f":"LEFT($B$1881,10)&TEXT($D$1881,\"0\")&TEXT($E$1881,\"0000\")&TEXT($F$1881,\"0000\")","v":"4480025021105380015"},4480025021,null,1,538,15,"538-15","전",185,null,null,null,"홍성군","국",null,null,null,null,null,null,null,null,null,null,3611025022,"조치원읍","상리"]
[{"$f":"LEFT($B$1882,10)&TEXT($D$1882,\"0\")&TEXT($E$1882,\"0000\")&TEXT($F$1882,\"0000\")","v":"4480025021105380018"},4480025021,null,1,538,18,"538-18","대",18,null,null,null,"홍성군","국",null,null,null,null,null,null,null,null,null,null,3611025023,"조치원읍","평리"]
[{"$f":"LEFT($B$1883,10)&TEXT($D$1883,\"0\")&TEXT($E$1883,\"0000\")&TEXT($F$1883,\"0000\")","v":"4480025021105390003"},4480025021,null,1,539,3,"539-3","대",413,null,null,null,"539-3","김금순",null,null,null,null,null,null,null,null,null,null,3611025024,"조치원읍","교리"]
[{"$f":"LEFT($B$1884,10)&TEXT($D$1884,\"0\")&TEXT($E$1884,\"0000\")&TEXT($F$1884,\"0000\")","v":"4480025021105390005"},4480025021,null,1,539,5,"539-5","대",265,null,null,null,"465-2유지빌라303호","채효청",null,null,null,null,null,null,null,null,null,null,3611025025,"조치원읍","정리"]
[{"$f":"LEFT($B$1885,10)&TEXT($D$1885,\"0\")&TEXT($E$1885,\"0000\")&TEXT($F$1885,\"0000\")","v":"4480025021105390007"},4480025021,null,1,539,7,"539-7","전",145,null,null,null,"539-7","김해자",null,null,null,null,null,null,null,null,null,null,3611025026,"조치원읍","명리"]
[{"$f":"LEFT($B$1886,10)&TEXT($D$1886,\"0\")&TEXT($E$1886,\"0000\")&TEXT($F$1886,\"0000\")","v":"4480025021105400003"},4480025021,null,1,540,3,"540-3","전",180,null,null,null,"천안시와촌동173신동아파밀리에111-801","최종원",null,null,null,null,null,null,null,null,null,null,3611025027,"조치원읍","남리"]
[{"$f":"LEFT($B$1887,10)&TEXT($D$1887,\"0\")&TEXT($E$1887,\"0000\")&TEXT($F$1887,\"0000\")","v":"4480025021105400007"},4480025021,null,1,540,7,"540-7","대",223,null,null,null,"갈산면행산리387","이상돈",null,null,null,null,null,null,null,null,null,null,3611025028,"조치원읍","침산리"]
[{"$f":"LEFT($B$1888,10)&TEXT($D$1888,\"0\")&TEXT($E$1888,\"0000\")&TEXT($F$1888,\"0000\")","v":"4480025021105400013"},4480025021,null,1,540,13,"540-13","대",91,null,null,null,"경기도안양시만안구박달우회로150번길13-23비동402호(안양동우성아트빌라)","김인원",null,null,null,null,null,null,null,null,null,null,3611025029,"조치원읍","신흥리"]
[{"$f":"LEFT($B$1889,10)&TEXT($D$1889,\"0\")&TEXT($E$1889,\"0000\")&TEXT($F$1889,\"0000\")","v":"4480025021105410000"},4480025021,null,1,541,0,541,"전",88,null,null,null,"충청남도예산군응봉면응봉로131","충남엽연초생산협동조합",null,null,null,null,null,null,null,null,null,null,3611025030,"조치원읍","죽림리"]
[{"$f":"LEFT($B$1890,10)&TEXT($D$1890,\"0\")&TEXT($E$1890,\"0000\")&TEXT($F$1890,\"0000\")","v":"4480025021105410009"},4480025021,null,1,541,9,"541-9","전",388,null,null,null,"홍성군","국",null,null,null,null,null,null,null,null,null,null,3611025031,"조치원읍","번암리"]
[{"$f":"LEFT($B$1891,10)&TEXT($D$1891,\"0\")&TEXT($E$1891,\"0000\")&TEXT($F$1891,\"0000\")","v":"4480025021105420001"},4480025021,null,1,542,1,"542-1","전",33,null,null,null,"충청남도홍성군장곡면장곡동길229번길34-14","이순숙",null,null,null,null,null,null,null,null,null,null,3611025032,"조치원읍","신안리"]
[{"$f":"LEFT($B$1892,10)&TEXT($D$1892,\"0\")&TEXT($E$1892,\"0000\")&TEXT($F$1892,\"0000\")","v":"4480025021105420002"},4480025021,null,1,542,2,"542-2","대",274,null,null,null,"542-6","조목원",null,null,null,null,null,null,null,null,null,null,3611025033,"조치원읍","봉산리"]
[{"$f":"LEFT($B$1893,10)&TEXT($D$1893,\"0\")&TEXT($E$1893,\"0000\")&TEXT($F$1893,\"0000\")","v":"4480025021105420003"},4480025021,null,1,542,3,"542-3","대",521,null,null,null,"충청남도홍성군홍성읍충절로1053번길86-17","편영범",null,null,null,null,null,null,null,null,null,null,3611025034,"조치원읍","서창리"]
[{"$f":"LEFT($B$1894,10)&TEXT($D$1894,\"0\")&TEXT($E$1894,\"0000\")&TEXT($F$1894,\"0000\")","v":"4480025021105420007"},4480025021,null,1,542,7,"542-7","대",182,null,null,null,"홍성군","국",null,null,null,null,null,null,null,null,null,null,3611031021,"연기면","연기리"]
[{"$f":"LEFT($B$1895,10)&TEXT($D$1895,\"0\")&TEXT($E$1895,\"0000\")&TEXT($F$1895,\"0000\")","v":"4480025021105420008"},4480025021,null,1,542,8,"542-8","대",138,null,null,null,"홍성군","국",null,null,null,null,null,null,null,null,null,null,3611031022,"연기면","보통리"]
[{"$f":"LEFT($B$1896,10)&TEXT($D$1896,\"0\")&TEXT($E$1896,\"0000\")&TEXT($F$1896,\"0000\")","v":"4480025021105420009"},4480025021,null,1,542,9,"542-9","전",245,null,null,null,"충청남도홍성군홍성읍충절로1053번길86-10","김일순",null,null,null,null,null,null,null,null,null,null,3611031023,"연기면","눌왕리"]
[{"$f":"LEFT($B$1897,10)&TEXT($D$1897,\"0\")&TEXT($E$1897,\"0000\")&TEXT($F$1897,\"0000\")","v":"4480025021105420014"},4480025021,null,1,542,14,"542-14","전",208,null,null,null,"충청남도예산군응봉면응봉로131","충남엽연초생산협동조합",null,null,null,null,null,null,null,null,null,null,3611031024,"연기면","수산리"]
[{"$f":"LEFT($B$1898,10)&TEXT($D$1898,\"0\")&TEXT($E$1898,\"0000\")&TEXT($F$1898,\"0000\")","v":"4480025021105420015"},4480025021,null,1,542,15,"542-15","대",125,null,null,null,"충청남도홍성군홍성읍간동1길42-1","정충현",null,null,null,null,null,null,null,null,null,null,3611031025,"연기면","세종리"]
[{"$f":"LEFT($B$1899,10)&TEXT($D$1899,\"0\")&TEXT($E$1899,\"0000\")&TEXT($F$1899,\"0000\")","v":"4480025021105420017"},4480025021,null,1,542,17,"542-17","대",257,null,null,null,"542-17","유병우",null,null,null,null,null,null,null,null,null,null,3611031026,"연기면","누리리"]
[{"$f":"LEFT($B$1900,10)&TEXT($D$1900,\"0\")&TEXT($E$1900,\"0000\")&TEXT($F$1900,\"0000\")","v":"4480025021105420020"},4480025021,null,1,542,20,"542-20","전",134,null,null,null,"충청남도예산군응봉면응봉로131","충남엽연초생산협동조합",null,null,null,null,null,null,null,null,null,null,3611031027,"연기면","한별리"]
[{"$f":"LEFT($B$1901,10)&TEXT($D$1901,\"0\")&TEXT($E$1901,\"0000\")&TEXT($F$1901,\"0000\")","v":"4480025021105430001"},4480025021,null,1,543,1,"543-1","도",149,null,null,null,"홍성군","국",null,null,null,null,null,null,null,null,null,null,3611031028,"연기면","산울리"]
[{"$f":"LEFT($B$1902,10)&TEXT($D$1902,\"0\")&TEXT($E$1902,\"0000\")&TEXT($F$1902,\"0000\")","v":"4480025021105430002"},4480025021,null,1,543,2,"543-2","장",255,null,null,null,"오관리542-6","조목원",null,null,null,null,null,null,null,null,null,null,3611031029,"연기면","해밀리"]
[{"$f":"LEFT($B$1903,10)&TEXT($D$1903,\"0\")&TEXT($E$1903,\"0000\")&TEXT($F$1903,\"0000\")","v":"4480025021105430003"},4480025021,null,1,543,3,"543-3","대",240,null,null,null,"543-3","고형자",null,null,null,null,null,null,null,null,null,null,3611032021,"연동면","내판리"]
[{"$f":"LEFT($B$1904,10)&TEXT($D$1904,\"0\")&TEXT($E$1904,\"0000\")&TEXT($F$1904,\"0000\")","v":"4480025021105430004"},4480025021,null,1,543,4,"543-4","전",14,null,null,null,"539-3","김금순",null,null,null,null,null,null,null,null,null,null,3611032022,"연동면","문주리"]
[{"$f":"LEFT($B$1905,10)&TEXT($D$1905,\"0\")&TEXT($E$1905,\"0000\")&TEXT($F$1905,\"0000\")","v":"4480025021105430005"},4480025021,null,1,543,5,"543-5","대",219,null,null,null,"충청남도홍성군홍성읍문화로90번길80-20","구인회",null,null,null,null,null,null,null,null,null,null,3611032023,"연동면","명학리"]
[{"$f":"LEFT($B$1906,10)&TEXT($D$1906,\"0\")&TEXT($E$1906,\"0000\")&TEXT($F$1906,\"0000\")","v":"4480025021105430006"},4480025021,null,1,543,6,"543-6","대",387,null,null,null,"월산리2홍성향촌현대아파트102-708","허훈욱",null,null,null,null,null,null,null,null,null,null,3611032024,"연동면","응암리"]
[{"$f":"LEFT($B$1907,10)&TEXT($D$1907,\"0\")&TEXT($E$1907,\"0000\")&TEXT($F$1907,\"0000\")","v":"4480025021105430007"},4480025021,null,1,543,7,"543-7","대",69,null,null,null,"543-3","고형자",null,null,null,null,null,null,null,null,null,null,3611032025,"연동면","노송리"]
[{"$f":"LEFT($B$1908,10)&TEXT($D$1908,\"0\")&TEXT($E$1908,\"0000\")&TEXT($F$1908,\"0000\")","v":"4480025021105430009"},4480025021,null,1,543,9,"543-9","도",7,null,null,null,"서울성동구신당동산37","정인화",null,null,null,null,null,null,null,null,null,null,3611032026,"연동면","예양리"]
[{"$f":"LEFT($B$1909,10)&TEXT($D$1909,\"0\")&TEXT($E$1909,\"0000\")&TEXT($F$1909,\"0000\")","v":"4480025021105430013"},4480025021,null,1,543,13,"543-13","도",311,null,null,null,"고암리602","김윤중",null,null,null,null,null,null,null,null,null,null,3611032027,"연동면","송용리"]
[{"$f":"LEFT($B$1910,10)&TEXT($D$1910,\"0\")&TEXT($E$1910,\"0000\")&TEXT($F$1910,\"0000\")","v":"4480025021105430014"},4480025021,null,1,543,14,"543-14","대",271,null,null,null,"543-15","윤건식",null,null,null,null,null,null,null,null,null,null,3611032028,"연동면","합강리"]
[{"$f":"LEFT($B$1911,10)&TEXT($D$1911,\"0\")&TEXT($E$1911,\"0000\")&TEXT($F$1911,\"0000\")","v":"4480025021105430015"},4480025021,null,1,543,15,"543-15","대",258,null,null,null,"543-15","윤건식",null,null,null,null,null,null,null,null,null,null,3611032029,"연동면","다솜리"]
[{"$f":"LEFT($B$1912,10)&TEXT($D$1912,\"0\")&TEXT($E$1912,\"0000\")&TEXT($F$1912,\"0000\")","v":"4480025021105430018"},4480025021,null,1,543,18,"543-18","대",298,null,null,null,"충청남도홍성군홍성읍충절로1053번길58-5","이순복",null,null,null,null,null,null,null,null,null,null,3611032030,"연동면","용호리"]
[{"$f":"LEFT($B$1913,10)&TEXT($D$1913,\"0\")&TEXT($E$1913,\"0000\")&TEXT($F$1913,\"0000\")","v":"4480025021105430020"},4480025021,null,1,543,20,"543-20","대",237,null,null,null,"오관리543-20","천인숙",null,null,null,null,null,null,null,null,null,null,3611033021,"부강면","부강리"]
[{"$f":"LEFT($B$1914,10)&TEXT($D$1914,\"0\")&TEXT($E$1914,\"0000\")&TEXT($F$1914,\"0000\")","v":"4480025021105430023"},4480025021,null,1,543,23,"543-23","대",320,null,null,null,"333우주은하아파트에이동1406호","모성순",null,null,null,null,null,null,null,null,null,null,3611033022,"부강면","행산리"]
[{"$f":"LEFT($B$1915,10)&TEXT($D$1915,\"0\")&TEXT($E$1915,\"0000\")&TEXT($F$1915,\"0000\")","v":"4480025021105430024"},4480025021,null,1,543,24,"543-24","답",280,null,null,null,"충청남도홍성군홍성읍충절로1053번길86-8","주정낙",null,null,null,null,null,null,null,null,null,null,3611033023,"부강면","산수리"]
[{"$f":"LEFT($B$1916,10)&TEXT($D$1916,\"0\")&TEXT($E$1916,\"0000\")&TEXT($F$1916,\"0000\")","v":"4480025021105430025"},4480025021,null,1,543,25,"543-25","대",165,null,null,null,"충청남도홍성군홍성읍조양로65번길331층","이후철",null,null,null,null,null,null,null,null,null,null,3611033024,"부강면","갈산리"]
[{"$f":"LEFT($B$1917,10)&TEXT($D$1917,\"0\")&TEXT($E$1917,\"0000\")&TEXT($F$1917,\"0000\")","v":"4480025021105430028"},4480025021,null,1,543,28,"543-28","대",123,null,null,null,"543-25","김학자",null,null,null,null,null,null,null,null,null,null,3611033025,"부강면","문곡리"]
[{"$f":"LEFT($B$1918,10)&TEXT($D$1918,\"0\")&TEXT($E$1918,\"0000\")&TEXT($F$1918,\"0000\")","v":"4480025021105430029"},4480025021,null,1,543,29,"543-29","대",180,null,null,null,"충청남도홍성군홍성읍오관리543-29","이춘자",null,null,null,null,null,null,null,null,null,null,3611033026,"부강면","등곡리"]
[{"$f":"LEFT($B$1919,10)&TEXT($D$1919,\"0\")&TEXT($E$1919,\"0000\")&TEXT($F$1919,\"0000\")","v":"4480025021105430032"},4480025021,null,1,543,32,"543-32","대",480,null,null,null,"539-3","김금순",null,null,null,null,null,null,null,null,null,null,3611033027,"부강면","노호리"]
[{"$f":"LEFT($B$1920,10)&TEXT($D$1920,\"0\")&TEXT($E$1920,\"0000\")&TEXT($F$1920,\"0000\")","v":"4480025021105430034"},4480025021,null,1,543,34,"543-34","답",15,null,null,null,"충청남도홍성군홍성읍충절로1053번길86-5","김명애",null,null,null,null,null,null,null,null,null,null,3611033028,"부강면","금호리"]
[{"$f":"LEFT($B$1921,10)&TEXT($D$1921,\"0\")&TEXT($E$1921,\"0000\")&TEXT($F$1921,\"0000\")","v":"4480025021105440001"},4480025021,null,1,544,1,"544-1","대",78,null,null,null,"충청남도홍성군홍북면내용길265번길22","김영태",null,null,null,null,null,null,null,null,null,null,3611034021,"금남면","용포리"]
[{"$f":"LEFT($B$1922,10)&TEXT($D$1922,\"0\")&TEXT($E$1922,\"0000\")&TEXT($F$1922,\"0000\")","v":"4480025021105440002"},4480025021,null,1,544,2,"544-2","도",126,null,null,null,"홍성군","국",null,null,null,null,null,null,null,null,null,null,3611034022,"금남면","발산리"]
[{"$f":"LEFT($B$1923,10)&TEXT($D$1923,\"0\")&TEXT($E$1923,\"0000\")&TEXT($F$1923,\"0000\")","v":"4480025021105440003"},4480025021,null,1,544,3,"544-3","전",201,null,null,null,"오관리544-3","유은형",null,null,null,null,null,null,null,null,null,null,3611034023,"금남면","감성리"]
[{"$f":"LEFT($B$1924,10)&TEXT($D$1924,\"0\")&TEXT($E$1924,\"0000\")&TEXT($F$1924,\"0000\")","v":"4480025021105450000"},4480025021,null,1,545,0,545,"전",559,null,null,null,"충청남도홍성군홍성읍문화로72번길92112동1205호(주공그린빌)","이연성",null,null,null,null,null,null,null,null,null,null,3611034024,"금남면","두만리"]
[{"$f":"LEFT($B$1925,10)&TEXT($D$1925,\"0\")&TEXT($E$1925,\"0000\")&TEXT($F$1925,\"0000\")","v":"4480025021105460001"},4480025021,null,1,546,1,"546-1","전",199,null,null,null,"546-1","엄기자",null,null,null,null,null,null,null,null,null,null,3611034025,"금남면","용담리"]
[{"$f":"LEFT($B$1926,10)&TEXT($D$1926,\"0\")&TEXT($E$1926,\"0000\")&TEXT($F$1926,\"0000\")","v":"4480025021105460003"},4480025021,null,1,546,3,"546-3","전",96,null,null,null,"충청남도홍성군홍동면홍동길351","김춘식",null,null,null,null,null,null,null,null,null,null,3611034026,"금남면","축산리"]
[{"$f":"LEFT($B$1927,10)&TEXT($D$1927,\"0\")&TEXT($E$1927,\"0000\")&TEXT($F$1927,\"0000\")","v":"4480025021105470000"},4480025021,null,1,547,0,547,"전",416,null,null,null,"337-7","권태자",null,null,null,null,null,null,null,null,null,null,3611034027,"금남면","금천리"]
[{"$f":"LEFT($B$1928,10)&TEXT($D$1928,\"0\")&TEXT($E$1928,\"0000\")&TEXT($F$1928,\"0000\")","v":"4480025021105470001"},4480025021,null,1,547,1,"547-1","대",170,null,null,null,"남장리112-12대우아파트101-404","조미자",null,null,null,null,null,null,null,null,null,null,3611034028,"금남면","영치리"]
[{"$f":"LEFT($B$1929,10)&TEXT($D$1929,\"0\")&TEXT($E$1929,\"0000\")&TEXT($F$1929,\"0000\")","v":"4480025021105470002"},4480025021,null,1,547,2,"547-2","전",186,null,null,null,"홍성군홍성읍오관리547-2","박재형",null,null,null,null,null,null,null,null,null,null,3611034029,"금남면","남곡리"]
[{"$f":"LEFT($B$1930,10)&TEXT($D$1930,\"0\")&TEXT($E$1930,\"0000\")&TEXT($F$1930,\"0000\")","v":"4480025021105470005"},4480025021,null,1,547,5,"547-5","대",147,null,null,null,"충청남도홍성군홍성읍충절로1053번길83-82층","신명철",null,null,null,null,null,null,null,null,null,null,3611034030,"금남면","황용리"]
[{"$f":"LEFT($B$1931,10)&TEXT($D$1931,\"0\")&TEXT($E$1931,\"0000\")&TEXT($F$1931,\"0000\")","v":"4480025021105470006"},4480025021,null,1,547,6,"547-6","대",173,null,null,null,"충청남도홍성군홍성읍도청대로34","박상순",null,null,null,null,null,null,null,null,null,null,3611034031,"금남면","영대리"]
[{"$f":"LEFT($B$1932,10)&TEXT($D$1932,\"0\")&TEXT($E$1932,\"0000\")&TEXT($F$1932,\"0000\")","v":"4480025021105470009"},4480025021,null,1,547,9,"547-9","대",196,null,null,null,"충청남도홍성군홍성읍조양로17번길324동102호(도림주택)","김태주",null,null,null,null,null,null,null,null,null,null,3611034032,"금남면","달전리"]
[{"$f":"LEFT($B$1933,10)&TEXT($D$1933,\"0\")&TEXT($E$1933,\"0000\")&TEXT($F$1933,\"0000\")","v":"4480025021105470010"},4480025021,null,1,547,10,"547-10","대",233,null,null,null,"546-2","김희대",null,null,null,null,null,null,null,null,null,null,3611034033,"금남면","박산리"]
[{"$f":"LEFT($B$1934,10)&TEXT($D$1934,\"0\")&TEXT($E$1934,\"0000\")&TEXT($F$1934,\"0000\")","v":"4480025021105470012"},4480025021,null,1,547,12,"547-12","전",150,null,null,null,"547-12","홍보순",null,null,null,null,null,null,null,null,null,null,3611034034,"금남면","대박리"]
[{"$f":"LEFT($B$1935,10)&TEXT($D$1935,\"0\")&TEXT($E$1935,\"0000\")&TEXT($F$1935,\"0000\")","v":"4480025021105480002"},4480025021,null,1,548,2,"548-2","대",400,null,null,null,null,null,null,null,null,null,null,null,null,null,null,null,3611034035,"금남면","부용리"]
[{"$f":"LEFT($B$1936,10)&TEXT($D$1936,\"0\")&TEXT($E$1936,\"0000\")&TEXT($F$1936,\"0000\")","v":"4480025021105480004"},4480025021,null,1,548,4,"548-4","도",12,null,null,null,"홍성군","국",null,null,null,null,null,null,null,null,null,null,3611034036,"금남면","장재리"]
[{"$f":"LEFT($B$1937,10)&TEXT($D$1937,\"0\")&TEXT($E$1937,\"0000\")&TEXT($F$1937,\"0000\")","v":"4480025021105480005"},4480025021,null,1,548,5,"548-5","도",4,null,null,null,"홍성군","국",null,null,null,null,null,null,null,null,null,null,3611034037,"금남면","호탄리"]
[{"$f":"LEFT($B$1938,10)&TEXT($D$1938,\"0\")&TEXT($E$1938,\"0000\")&TEXT($F$1938,\"0000\")","v":"4480025021105480010"},4480025021,null,1,548,10,"548-10","전",16,null,null,null,"경기도안양시동안구동안로28313동1101호(비산동뉴타운아파트)","정선형",null,null,null,null,null,null,null,null,null,null,3611034038,"금남면","신촌리"]
[{"$f":"LEFT($B$1939,10)&TEXT($D$1939,\"0\")&TEXT($E$1939,\"0000\")&TEXT($F$1939,\"0000\")","v":"4480025021105480012"},4480025021,null,1,548,12,"548-12","전",56,null,null,null,"경기도안양시동안구동안로28313동1101호(비산동뉴타운아파트)","정선형",null,null,null,null,null,null,null,null,null,null,3611034039,"금남면","도암리"]
[{"$f":"LEFT($B$1940,10)&TEXT($D$1940,\"0\")&TEXT($E$1940,\"0000\")&TEXT($F$1940,\"0000\")","v":"4480025021105490001"},4480025021,null,1,549,1,"549-1","전",201,null,null,null,"고암리532","박규동",null,null,null,null,null,null,null,null,null,null,3611034040,"금남면","성덕리"]
[{"$f":"LEFT($B$1941,10)&TEXT($D$1941,\"0\")&TEXT($E$1941,\"0000\")&TEXT($F$1941,\"0000\")","v":"4480025021105490003"},4480025021,null,1,549,3,"549-3","전",245,null,null,null,"충청남도홍성군홍성읍충절로1053번길105-4","강명주",null,null,null,null,null,null,null,null,null,null,3611034041,"금남면","영곡리"]
[{"$f":"LEFT($B$1942,10)&TEXT($D$1942,\"0\")&TEXT($E$1942,\"0000\")&TEXT($F$1942,\"0000\")","v":"4480025021105490008"},4480025021,null,1,549,8,"549-8","전",208,null,null,null,"오관리333-7우주은하아파트비동601호","박충규",null,null,null,null,null,null,null,null,null,null,3611034042,"금남면","성강리"]
[{"$f":"LEFT($B$1943,10)&TEXT($D$1943,\"0\")&TEXT($E$1943,\"0000\")&TEXT($F$1943,\"0000\")","v":"4480025021105490010"},4480025021,null,1,549,10,"549-10","전",122,null,null,null,"오관리333-7우주은하아파트비동601호","박충규",null,null,null,null,null,null,null,null,null,null,3611034043,"금남면","봉암리"]
[{"$f":"LEFT($B$1944,10)&TEXT($D$1944,\"0\")&TEXT($E$1944,\"0000\")&TEXT($F$1944,\"0000\")","v":"4480025021105490011"},4480025021,null,1,549,11,"549-11","전",463,null,null,null,"충청남도홍성군홍성읍남장리95-52미성아파트비-111","이용근",null,null,null,null,null,null,null,null,null,null,3611034044,"금남면","국곡리"]
[{"$f":"LEFT($B$1945,10)&TEXT($D$1945,\"0\")&TEXT($E$1945,\"0000\")&TEXT($F$1945,\"0000\")","v":"4480025021105490012"},4480025021,null,1,549,12,"549-12","전",201,null,null,null,"경기도화성시마도면청원로77-12","홍순학",null,null,null,null,null,null,null,null,null,null,3611034045,"금남면","원봉리"]
[{"$f":"LEFT($B$1946,10)&TEXT($D$1946,\"0\")&TEXT($E$1946,\"0000\")&TEXT($F$1946,\"0000\")","v":"4480025021105500002"},4480025021,null,1,550,2,"550-2","전",1264,null,null,null,"서울송파구잠실동86아시아선수촌아파트8동704호","임철섭",null,null,null,null,null,null,null,null,null,null,3611034046,"금남면","도남리"]
[{"$f":"LEFT($B$1947,10)&TEXT($D$1947,\"0\")&TEXT($E$1947,\"0000\")&TEXT($F$1947,\"0000\")","v":"4480025021105500004"},4480025021,null,1,550,4,"550-4","전",345,null,null,null,"서울마포구하중동71-2","권태평",null,null,null,null,null,null,null,null,null,null,3611034047,"금남면","집현리"]
[{"$f":"LEFT($B$1948,10)&TEXT($D$1948,\"0\")&TEXT($E$1948,\"0000\")&TEXT($F$1948,\"0000\")","v":"4480025021105500007"},4480025021,null,1,550,7,"550-7","대",487,null,null,null,"518경성큰마을아파트103-404","구홍서",null,null,null,null,null,null,null,null,null,null,3611035021,"장군면","도계리"]
[{"$f":"LEFT($B$1949,10)&TEXT($D$1949,\"0\")&TEXT($E$1949,\"0000\")&TEXT($F$1949,\"0000\")","v":"4480025021105500008"},4480025021,null,1,550,8,"550-8","전",208,null,null,null,"충청남도홍성군갈산면행산리212-5","강순희",null,null,null,null,null,null,null,null,null,null,3611035022,"장군면","평기리"]
[{"$f":"LEFT($B$1950,10)&TEXT($D$1950,\"0\")&TEXT($E$1950,\"0000\")&TEXT($F$1950,\"0000\")","v":"4480025021105510001"},4480025021,null,1,551,1,"551-1","전",1154,null,null,null,null,null,null,null,null,null,null,null,null,null,null,null,3611035023,"장군면","대교리"]
[{"$f":"LEFT($B$1951,10)&TEXT($D$1951,\"0\")&TEXT($E$1951,\"0000\")&TEXT($F$1951,\"0000\")","v":"4480025021105510002"},4480025021,null,1,551,2,"551-2","대",180,null,null,null,"홍동면운월리298-6","최재성",null,null,null,null,null,null,null,null,null,null,3611035024,"장군면","봉안리"]
[{"$f":"LEFT($B$1952,10)&TEXT($D$1952,\"0\")&TEXT($E$1952,\"0000\")&TEXT($F$1952,\"0000\")","v":"4480025021105510003"},4480025021,null,1,551,3,"551-3","전",437,null,null,null,"홍동면효학리411","이경하",null,null,null,null,null,null,null,null,null,null,3611035025,"장군면","금암리"]
[{"$f":"LEFT($B$1953,10)&TEXT($D$1953,\"0\")&TEXT($E$1953,\"0000\")&TEXT($F$1953,\"0000\")","v":"4480025021105510005"},4480025021,null,1,551,5,"551-5","도",136,null,null,null,"홍성군","국",null,null,null,null,null,null,null,null,null,null,3611035026,"장군면","하봉리"]
[{"$f":"LEFT($B$1954,10)&TEXT($D$1954,\"0\")&TEXT($E$1954,\"0000\")&TEXT($F$1954,\"0000\")","v":"4480025021105510006"},4480025021,null,1,551,6,"551-6","도",182,null,null,null,"홍성군","국",null,null,null,null,null,null,null,null,null,null,3611035027,"장군면","은용리"]
[{"$f":"LEFT($B$1955,10)&TEXT($D$1955,\"0\")&TEXT($E$1955,\"0000\")&TEXT($F$1955,\"0000\")","v":"4480025021105510007"},4480025021,null,1,551,7,"551-7","도",88,null,null,null,"홍성군","국",null,null,null,null,null,null,null,null,null,null,3611035028,"장군면","산학리"]
[{"$f":"LEFT($B$1956,10)&TEXT($D$1956,\"0\")&TEXT($E$1956,\"0000\")&TEXT($F$1956,\"0000\")","v":"4480025021105510008"},4480025021,null,1,551,8,"551-8","대",72,null,null,null,"홍동면효학리411","이경하",null,null,null,null,null,null,null,null,null,null,3611035029,"장군면","송문리"]
[{"$f":"LEFT($B$1957,10)&TEXT($D$1957,\"0\")&TEXT($E$1957,\"0000\")&TEXT($F$1957,\"0000\")","v":"4480025021105510009"},4480025021,null,1,551,9,"551-9","대",370,null,null,null,"551-9","최승호",null,null,null,null,null,null,null,null,null,null,3611035030,"장군면","송정리"]
[{"$f":"LEFT($B$1958,10)&TEXT($D$1958,\"0\")&TEXT($E$1958,\"0000\")&TEXT($F$1958,\"0000\")","v":"4480025021105510010"},4480025021,null,1,551,10,"551-10","대",325,null,null,null,"551-10","김영자",null,null,null,null,null,null,null,null,null,null,3611035031,"장군면","송학리"]
[{"$f":"LEFT($B$1959,10)&TEXT($D$1959,\"0\")&TEXT($E$1959,\"0000\")&TEXT($F$1959,\"0000\")","v":"4480025021105510012"},4480025021,null,1,551,12,"551-12","도",714,null,null,null,"홍성군","국",null,null,null,null,null,null,null,null,null,null,3611035032,"장군면","용현리"]
[{"$f":"LEFT($B$1960,10)&TEXT($D$1960,\"0\")&TEXT($E$1960,\"0000\")&TEXT($F$1960,\"0000\")","v":"4480025021105510014"},4480025021,null,1,551,14,"551-14","도",17,null,null,null,"홍성군","국",null,null,null,null,null,null,null,null,null,null,3611035033,"장군면","용암리"]
[{"$f":"LEFT($B$1961,10)&TEXT($D$1961,\"0\")&TEXT($E$1961,\"0000\")&TEXT($F$1961,\"0000\")","v":"4480025021105510015"},4480025021,null,1,551,15,"551-15","도",41,null,null,null,"홍성군","국",null,null,null,null,null,null,null,null,null,null,3611035034,"장군면","태산리"]
[{"$f":"LEFT($B$1962,10)&TEXT($D$1962,\"0\")&TEXT($E$1962,\"0000\")&TEXT($F$1962,\"0000\")","v":"4480025021105510017"},4480025021,null,1,551,17,"551-17","도",24,null,null,null,"홍성군","국",null,null,null,null,null,null,null,null,null,null,3611036021,"연서면","월하리"]
[{"$f":"LEFT($B$1963,10)&TEXT($D$1963,\"0\")&TEXT($E$1963,\"0000\")&TEXT($F$1963,\"0000\")","v":"4480025021105510018"},4480025021,null,1,551,18,"551-18","도",11,null,null,null,"홍성군","국",null,null,null,null,null,null,null,null,null,null,3611036022,"연서면","쌍전리"]
[{"$f":"LEFT($B$1964,10)&TEXT($D$1964,\"0\")&TEXT($E$1964,\"0000\")&TEXT($F$1964,\"0000\")","v":"4480025021105520001"},4480025021,null,1,552,1,"552-1","도",2731,null,null,null,"홍성군","국",null,null,null,null,null,null,null,null,null,null,3611036023,"연서면","성제리"]
[{"$f":"LEFT($B$1965,10)&TEXT($D$1965,\"0\")&TEXT($E$1965,\"0000\")&TEXT($F$1965,\"0000\")","v":"4480025021105520003"},4480025021,null,1,552,3,"552-3","전",212,null,null,null,426,"이익로",null,null,null,null,null,null,null,null,null,null,3611036024,"연서면","고복리"]
[{"$f":"LEFT($B$1966,10)&TEXT($D$1966,\"0\")&TEXT($E$1966,\"0000\")&TEXT($F$1966,\"0000\")","v":"4480025021105520007"},4480025021,null,1,552,7,"552-7","대",285,null,null,null,"오관리552-7","나기원",null,null,null,null,null,null,null,null,null,null,3611036025,"연서면","용암리"]
[{"$f":"LEFT($B$1967,10)&TEXT($D$1967,\"0\")&TEXT($E$1967,\"0000\")&TEXT($F$1967,\"0000\")","v":"4480025021105520010"},4480025021,null,1,552,10,"552-10","전",229,null,null,null,"297-45","박정빈",null,null,null,null,null,null,null,null,null,null,3611036026,"연서면","쌍류리"]
[{"$f":"LEFT($B$1968,10)&TEXT($D$1968,\"0\")&TEXT($E$1968,\"0000\")&TEXT($F$1968,\"0000\")","v":"4480025021105520012"},4480025021,null,1,552,12,"552-12","전",195,null,null,null,"충청남도홍성군홍성읍오관리552-12","조정분",null,null,null,null,null,null,null,null,null,null,3611036027,"연서면","청라리"]
[{"$f":"LEFT($B$1969,10)&TEXT($D$1969,\"0\")&TEXT($E$1969,\"0000\")&TEXT($F$1969,\"0000\")","v":"4480025021105520014"},4480025021,null,1,552,14,"552-14","도",7,null,null,null,"홍성군","국",null,null,null,null,null,null,null,null,null,null,3611036028,"연서면","기룡리"]
[{"$f":"LEFT($B$1970,10)&TEXT($D$1970,\"0\")&TEXT($E$1970,\"0000\")&TEXT($F$1970,\"0000\")","v":"4480025021105520015"},4480025021,null,1,552,15,"552-15","대",233,null,null,null,"552-15","모종찬",null,null,null,null,null,null,null,null,null,null,3611036029,"연서면","신대리"]
[{"$f":"LEFT($B$1971,10)&TEXT($D$1971,\"0\")&TEXT($E$1971,\"0000\")&TEXT($F$1971,\"0000\")","v":"4480025021105520016"},4480025021,null,1,552,16,"552-16","도",2,null,null,null,"홍성군","국",null,null,null,null,null,null,null,null,null,null,3611036030,"연서면","국촌리"]
[{"$f":"LEFT($B$1972,10)&TEXT($D$1972,\"0\")&TEXT($E$1972,\"0000\")&TEXT($F$1972,\"0000\")","v":"4480025021105520017"},4480025021,null,1,552,17,"552-17","전",206,null,null,null,"청양군청양읍읍내리246-47","윤영수",null,null,null,null,null,null,null,null,null,null,3611036031,"연서면","와촌리"]
[{"$f":"LEFT($B$1973,10)&TEXT($D$1973,\"0\")&TEXT($E$1973,\"0000\")&TEXT($F$1973,\"0000\")","v":"4480025021105520018"},4480025021,null,1,552,18,"552-18","전",231,null,null,null,"충청남도홍성군홍성읍오관리552-18","박근춘",null,null,null,null,null,null,null,null,null,null,3611036032,"연서면","부동리"]
[{"$f":"LEFT($B$1974,10)&TEXT($D$1974,\"0\")&TEXT($E$1974,\"0000\")&TEXT($F$1974,\"0000\")","v":"4480025021105520021"},4480025021,null,1,552,21,"552-21","전",198,null,null,null,"552-21","심석문",null,null,null,null,null,null,null,null,null,null,3611036033,"연서면","봉암리"]
[{"$f":"LEFT($B$1975,10)&TEXT($D$1975,\"0\")&TEXT($E$1975,\"0000\")&TEXT($F$1975,\"0000\")","v":"4480025021105530002"},4480025021,null,1,553,2,"553-2","대",177,null,null,null,"홍성군홍북면내덕리550","구본우",null,null,null,null,null,null,null,null,null,null,3611037021,"전의면","읍내리"]
[{"$f":"LEFT($B$1976,10)&TEXT($D$1976,\"0\")&TEXT($E$1976,\"0000\")&TEXT($F$1976,\"0000\")","v":"4480025021105530006"},4480025021,null,1,553,6,"553-6","도",1,null,null,null,"홍성군","국",null,null,null,null,null,null,null,null,null,null,3611037022,"전의면","동교리"]
[{"$f":"LEFT($B$1977,10)&TEXT($D$1977,\"0\")&TEXT($E$1977,\"0000\")&TEXT($F$1977,\"0000\")","v":"4480025021105530013"},4480025021,null,1,553,13,"553-13","전",63,null,null,null,"647-2","이기상",null,null,null,null,null,null,null,null,null,null,3611037023,"전의면","서정리"]
[{"$f":"LEFT($B$1978,10)&TEXT($D$1978,\"0\")&TEXT($E$1978,\"0000\")&TEXT($F$1978,\"0000\")","v":"4480025021105530018"},4480025021,null,1,553,18,"553-18","도",7,null,null,null,"홍성군","국",null,null,null,null,null,null,null,null,null,null,3611037024,"전의면","원성리"]
[{"$f":"LEFT($B$1979,10)&TEXT($D$1979,\"0\")&TEXT($E$1979,\"0000\")&TEXT($F$1979,\"0000\")","v":"4480025021105530019"},4480025021,null,1,553,19,"553-19","도",29,null,null,null,"홍성군","국",null,null,null,null,null,null,null,null,null,null,3611037025,"전의면","신흥리"]
[{"$f":"LEFT($B$1980,10)&TEXT($D$1980,\"0\")&TEXT($E$1980,\"0000\")&TEXT($F$1980,\"0000\")","v":"4480025021105530020"},4480025021,null,1,553,20,"553-20","임",799,null,null,null,"국(재무부)","국",null,null,null,null,null,null,null,null,null,null,3611037026,"전의면","유천리"]
[{"$f":"LEFT($B$1981,10)&TEXT($D$1981,\"0\")&TEXT($E$1981,\"0000\")&TEXT($F$1981,\"0000\")","v":"4480025021105530022"},4480025021,null,1,553,22,"553-22","대",72,null,null,null,"홍성군홍성읍오관리553-2","송영자",null,null,null,null,null,null,null,null,null,null,3611037027,"전의면","관정리"]
[{"$f":"LEFT($B$1982,10)&TEXT($D$1982,\"0\")&TEXT($E$1982,\"0000\")&TEXT($F$1982,\"0000\")","v":"4480025021105540000"},4480025021,null,1,554,0,554,"대",270,null,null,null,"충청남도홍성군갈산면운곡5길84","정계순",null,null,null,null,null,null,null,null,null,null,3611037028,"전의면","신정리"]
[{"$f":"LEFT($B$1983,10)&TEXT($D$1983,\"0\")&TEXT($E$1983,\"0000\")&TEXT($F$1983,\"0000\")","v":"4480025021105540001"},4480025021,null,1,554,1,"554-1","전",226,null,null,null,"554-1","김창석",null,null,null,null,null,null,null,null,null,null,3611037029,"전의면","노곡리"]
[{"$f":"LEFT($B$1984,10)&TEXT($D$1984,\"0\")&TEXT($E$1984,\"0000\")&TEXT($F$1984,\"0000\")","v":"4480025021105540002"},4480025021,null,1,554,2,"554-2","도",358,null,null,null,"홍성군","국",null,null,null,null,null,null,null,null,null,null,3611037030,"전의면","신방리"]
[{"$f":"LEFT($B$1985,10)&TEXT($D$1985,\"0\")&TEXT($E$1985,\"0000\")&TEXT($F$1985,\"0000\")","v":"4480025021105540004"},4480025021,null,1,554,4,"554-4","대",349,null,null,null,"554-4","오윤석",null,null,null,null,null,null,null,null,null,null,3611037031,"전의면","영당리"]
[{"$f":"LEFT($B$1986,10)&TEXT($D$1986,\"0\")&TEXT($E$1986,\"0000\")&TEXT($F$1986,\"0000\")","v":"4480025021105540006"},4480025021,null,1,554,6,"554-6","도",72,null,null,null,"충청남도홍성군홍성읍월산리850부영아파트102-1406","안경숙",null,null,null,null,null,null,null,null,null,null,3611037032,"전의면","양곡리"]
[{"$f":"LEFT($B$1987,10)&TEXT($D$1987,\"0\")&TEXT($E$1987,\"0000\")&TEXT($F$1987,\"0000\")","v":"4480025021105540007"},4480025021,null,1,554,7,"554-7","전",275,null,null,null,"554-7","주선웅",null,null,null,null,null,null,null,null,null,null,3611037033,"전의면","달전리"]
[{"$f":"LEFT($B$1988,10)&TEXT($D$1988,\"0\")&TEXT($E$1988,\"0000\")&TEXT($F$1988,\"0000\")","v":"4480025021105540008"},4480025021,null,1,554,8,"554-8","전",247,null,null,null,"충청남도홍성군홍성읍고암리607-100","정만규",null,null,null,null,null,null,null,null,null,null,3611037034,"전의면","금사리"]
[{"$f":"LEFT($B$1989,10)&TEXT($D$1989,\"0\")&TEXT($E$1989,\"0000\")&TEXT($F$1989,\"0000\")","v":"4480025021105550001"},4480025021,null,1,555,1,"555-1","전",483,null,null,null,"성남시태평2동3292","이정희",null,null,null,null,null,null,null,null,null,null,3611037035,"전의면","다방리"]
[{"$f":"LEFT($B$1990,10)&TEXT($D$1990,\"0\")&TEXT($E$1990,\"0000\")&TEXT($F$1990,\"0000\")","v":"4480025021105550004"},4480025021,null,1,555,4,"555-4","전",330,null,null,null,"555-4","고재순",null,null,null,null,null,null,null,null,null,null,3611038021,"전동면","노장리"]
[{"$f":"LEFT($B$1991,10)&TEXT($D$1991,\"0\")&TEXT($E$1991,\"0000\")&TEXT($F$1991,\"0000\")","v":"4480025021105560000"},4480025021,null,1,556,0,556,"대",268,null,null,null,556,"신길웅",null,null,null,null,null,null,null,null,null,null,3611038022,"전동면","봉대리"]
[{"$f":"LEFT($B$1992,10)&TEXT($D$1992,\"0\")&TEXT($E$1992,\"0000\")&TEXT($F$1992,\"0000\")","v":"4480025021105560001"},4480025021,null,1,556,1,"556-1","전",1084,null,null,null,"서울시강서구화곡동24-62","이효범",null,null,null,null,null,null,null,null,null,null,3611038023,"전동면","청송리"]
[{"$f":"LEFT($B$1993,10)&TEXT($D$1993,\"0\")&TEXT($E$1993,\"0000\")&TEXT($F$1993,\"0000\")","v":"4480025021105560004"},4480025021,null,1,556,4,"556-4","전",376,null,null,null,"355-9","박춘순",null,null,null,null,null,null,null,null,null,null,3611038024,"전동면","석곡리"]
[{"$f":"LEFT($B$1994,10)&TEXT($D$1994,\"0\")&TEXT($E$1994,\"0000\")&TEXT($F$1994,\"0000\")","v":"4480025021105560005"},4480025021,null,1,556,5,"556-5","전",901,null,null,null,null,null,null,null,null,null,null,null,null,null,null,null,3611038025,"전동면","보덕리"]
[{"$f":"LEFT($B$1995,10)&TEXT($D$1995,\"0\")&TEXT($E$1995,\"0000\")&TEXT($F$1995,\"0000\")","v":"4480025021105560006"},4480025021,null,1,556,6,"556-6","전",169,null,null,null,"홍성군홍성읍고암리647","이기상",null,null,null,null,null,null,null,null,null,null,3611038026,"전동면","송곡리"]
[{"$f":"LEFT($B$1996,10)&TEXT($D$1996,\"0\")&TEXT($E$1996,\"0000\")&TEXT($F$1996,\"0000\")","v":"4480025021105560012"},4480025021,null,1,556,12,"556-12","전",290,null,null,null,null,null,null,null,null,null,null,null,null,null,null,null,3611038027,"전동면","송정리"]
[{"$f":"LEFT($B$1997,10)&TEXT($D$1997,\"0\")&TEXT($E$1997,\"0000\")&TEXT($F$1997,\"0000\")","v":"4480025021105560013"},4480025021,null,1,556,13,"556-13","전",313,null,null,null,null,null,null,null,null,null,null,null,null,null,null,null,3611038028,"전동면","청람리"]
[{"$f":"LEFT($B$1998,10)&TEXT($D$1998,\"0\")&TEXT($E$1998,\"0000\")&TEXT($F$1998,\"0000\")","v":"4480025021105560018"},4480025021,null,1,556,18,"556-18","전",129,null,null,null,null,null,null,null,null,null,null,null,null,null,null,null,3611038029,"전동면","미곡리"]
[{"$f":"LEFT($B$1999,10)&TEXT($D$1999,\"0\")&TEXT($E$1999,\"0000\")&TEXT($F$1999,\"0000\")","v":"4480025021105560019"},4480025021,null,1,556,19,"556-19","전",198,null,null,null,"고암리607-166","우선희",null,null,null,null,null,null,null,null,null,null,3611038030,"전동면","송성리"]
[{"$f":"LEFT($B$2000,10)&TEXT($D$2000,\"0\")&TEXT($E$2000,\"0000\")&TEXT($F$2000,\"0000\")","v":"4480025021105560021"},4480025021,null,1,556,21,"556-21","전",128,null,null,null,"오관리543-3","신길웅",null,null,null,null,null,null,null,null,null,null,3611038031,"전동면","심중리"]
[{"$f":"LEFT($B$2089,10)&TEXT($D$2089,\"0\")&TEXT($E$2089,\"0000\")&TEXT($F$2089,\"0000\")","v":"4480025021105790010"},4480025021,null,1,579,10,"579-10","대",106,null,null,null,"579-7","최풍시",null,null,null,null,null,null,null,null,null,null,4113310700,"성남시","중원구","도촌동"]
[{"$f":"LEFT($B$2226,10)&TEXT($D$2226,\"0\")&TEXT($E$2226,\"0000\")&TEXT($F$2226,\"0000\")","v":"4480025021106210001"},4480025021,null,1,621,1,"621-1","대",112,null,null,null,"홍성군","국",null,null,null,null,null,null,null,null,null,null,4122025327,"평택시","안중읍","덕우리"]
[{"$f":"LEFT($B$2278,10)&TEXT($D$2278,\"0\")&TEXT($E$2278,\"0000\")&TEXT($F$2278,\"0000\")","v":"4480025021106410015"},4480025021,null,1,641,15,"641-15","대",12,null,null,null,"경기도부천시원미구역곡동48-20삼성홈맨션나-501","가낭현",null,null,null,null,null,null,null,null,null,null,4122033021,"평택시","고덕면","당현리"]
[{"$f":"LEFT($B$2451,10)&TEXT($D$2451,\"0\")&TEXT($E$2451,\"0000\")&TEXT($F$2451,\"0000\")","v":"4480025021106760018"},4480025021,null,1,676,18,"676-18","도",267,null,null,null,"홍성군","국",null,null,null,null,null,null,null,null,null,null,4136025325,"남양주시","진접읍","부평리"]
[{"$f":"LEFT($B$2556,10)&TEXT($D$2556,\"0\")&TEXT($E$2556,\"0000\")&TEXT($F$2556,\"0000\")","v":"4480025021107150026"},4480025021,null,1,715,26,"715-26","대",178,null,null,null,"경기도안산시상록구해양로16907동1102호(사동안산고잔9차푸르지오)","박기배",null,null,null,null,null,null,null,null,null,null,4141010500,"군포시","금정동"]
[{"$f":"LEFT($B$2672,10)&TEXT($D$2672,\"0\")&TEXT($E$2672,\"0000\")&TEXT($F$2672,\"0000\")","v":"4480025021108040008"},4480025021,null,1,804,8,"804-8","전",750,null,null,null,"충청남도홍성군홍성읍오관리804-8","유금연",null,null,null,null,null,null,null,null,null,null,4146135031,"용인시","처인구","백암면"]
[{"$f":"LEFT($B$2781,10)&TEXT($D$2781,\"0\")&TEXT($E$2781,\"0000\")&TEXT($F$2781,\"0000\")","v":"4480025021108580007"},4480025021,null,1,858,7,"858-7","전",142,null,null,null,"홍성군","국",null,null,null,null,null,null,null,null,null,null,4148032022,"파주시","탄현면","법흥리"]
[{"$f":"LEFT($B$2886,10)&TEXT($D$2886,\"0\")&TEXT($E$2886,\"0000\")&TEXT($F$2886,\"0000\")","v":"4480025022100090023"},4480025022,null,1,9,23,"9-23","철",84,null,null,null,"국(국토교통부)","국",null,null,null,null,null,null,null,null,null,null,4150025325,"이천시","부발읍","대관리"]
[{"$f":"LEFT($B$2965,10)&TEXT($D$2965,\"0\")&TEXT($E$2965,\"0000\")&TEXT($F$2965,\"0000\")","v":"4480025022100240002"},4480025022,null,1,24,2,"24-2","도",7,null,null,null,"충청남도홍성군홍성읍대교길65","이찬규",null,null,null,null,null,null,null,null,null,null,4150036027,"이천시","모가면","원두리"]
[{"$f":"LEFT($B$3111,10)&TEXT($D$3111,\"0\")&TEXT($E$3111,\"0000\")&TEXT($F$3111,\"0000\")","v":"4480025022100670020"},4480025022,null,1,67,20,"67-20","답",240,null,null,null,"국(재무부)","국",null,null,null,null,null,null,null,null,null,null,4155035023,"안성시","대덕면","모산리"]
[{"$f":"LEFT($B$3216,10)&TEXT($D$3216,\"0\")&TEXT($E$3216,\"0000\")&TEXT($F$3216,\"0000\")","v":"4480025022101270011"},4480025022,null,1,127,11,"127-11","전",3,null,null,null,"오관리499-74","조문식",null,null,null,null,null,null,null,null,null,null,4157025300,"김포시","고촌읍"]
[{"$f":"LEFT($B$3359,10)&TEXT($D$3359,\"0\")&TEXT($E$3359,\"0000\")&TEXT($F$3359,\"0000\")","v":"4480025022101930004"},4480025022,null,1,193,4,"193-4","전",162,null,null,null,"충청남도홍성군홍성읍대내길35","김경재",null,null,null,null,null,null,null,null,null,null,4159031025,"화성시","매송면","야목리"]
[{"$f":"LEFT($B$3441,10)&TEXT($D$3441,\"0\")&TEXT($E$3441,\"0000\")&TEXT($F$3441,\"0000\")","v":"4480025022102180001"},4480025022,null,1,218,1,"218-1","전",1367,null,null,null,"충청남도홍성군홍성읍도청대로93번길23","이근택",null,null,null,null,null,null,null,null,null,null,4159040022,"화성시","양감면","사창리"]
[{"$f":"LEFT($B$3649,10)&TEXT($D$3649,\"0\")&TEXT($E$3649,\"0000\")&TEXT($F$3649,\"0000\")","v":"4480025022102850001"},4480025022,null,1,285,1,"285-1","대",800,null,null,null,"경기양평군단월면향소리912","방좌현",null,null,null,null,null,null,null,null,null,null,4165032000,"포천시","내촌면"]
[{"$f":"LEFT($B$3786,10)&TEXT($D$3786,\"0\")&TEXT($E$3786,\"0000\")&TEXT($F$3786,\"0000\")","v":"4480025022103430003"},4480025022,null,1,343,3,"343-3","학",51490,null,null,null,"충청남도(교육감)","국",null,null,null,null,null,null,null,null,null,null,4167032022,"여주시","흥천면","계신리"]
[{"$f":"LEFT($B$3891,10)&TEXT($D$3891,\"0\")&TEXT($E$3891,\"0000\")&TEXT($F$3891,\"0000\")","v":"4480025022103730005"},4480025022,null,1,373,5,"373-5","주",1280,null,null,null,"홍성군","국",null,null,null,null,null,null,null,null,null,null,4180025321,"연천군","전곡읍","전곡리"]
[{"$f":"LEFT($B$3942,10)&TEXT($D$3942,\"0\")&TEXT($E$3942,\"0000\")&TEXT($F$3942,\"0000\")","v":"4480025022103880010"},4480025022,null,1,388,10,"388-10","대",261,null,null,null,"충청남도홍성군홍성읍충절로953번길20107동1002호(신동아파밀리에아파트)","최재영",null,null,null,null,null,null,null,null,null,null,4180034027,"연천군","미산면","우정리"]
[{"$f":"LEFT($B$4116,10)&TEXT($D$4116,\"0\")&TEXT($E$4116,\"0000\")&TEXT($F$4116,\"0000\")","v":"4480025022104220012"},4480025022,null,1,422,12,"422-12","대",303,null,null,null,"홍성군홍성읍월산리851부영아파트202-1202","모미자",null,null,null,null,null,null,null,null,null,null,4183036023,"양평군","단월면","봉상리"]
[{"$f":"LEFT($B$4221,10)&TEXT($D$4221,\"0\")&TEXT($E$4221,\"0000\")&TEXT($F$4221,\"0000\")","v":"4480025022104560005"},4480025022,null,1,456,5,"456-5","천",2618,null,null,null,"국(건설부)","국",null,null,null,null,null,null,null,null,null,null,4211031023,"춘천시","동면","장학리"]
[{"$f":"LEFT($B$4336,10)&TEXT($D$4336,\"0\")&TEXT($E$4336,\"0000\")&TEXT($F$4336,\"0000\")","v":"4480025022105860000"},4480025022,null,1,586,0,586,"대",556.5,null,null,null,"오관리8-5신천아파트306","김민태",null,null,null,null,null,null,null,null,null,null,4213032000,"원주시","호저면"]
[{"$f":"LEFT($B$4446,10)&TEXT($D$4446,\"0\")&TEXT($E$4446,\"0000\")&TEXT($F$4446,\"0000\")","v":"4480025022200340006"},4480025022,null,2,34,6,"34-6","임",198,null,null,null,306,"김기정",null,null,null,null,null,null,null,null,null,null,4215032026,"강릉시","왕산면","대기리"]
[{"$f":"LEFT($B$4567,10)&TEXT($D$4567,\"0\")&TEXT($E$4567,\"0000\")&TEXT($F$4567,\"0000\")","v":"4480025023100470002"},4480025023,null,1,47,2,"47-2","답",34,null,null,null,"48-2","김상근",null,null,null,null,null,null,null,null,null,null,4223010500,"삼척시","당저동"]
[{"$f":"LEFT($B$4730,10)&TEXT($D$4730,\"0\")&TEXT($E$4730,\"0000\")&TEXT($F$4730,\"0000\")","v":"4480025023100990002"},4480025023,null,1,99,2,"99-2","과",165,null,null,null,"오관리766","유병우",null,null,null,null,null,null,null,null,null,null,4272032025,"홍천군","두촌면","원동리"]
[{"$f":"LEFT($B$4776,10)&TEXT($D$4776,\"0\")&TEXT($E$4776,\"0000\")&TEXT($F$4776,\"0000\")","v":"4480025023101300002"},4480025023,null,1,130,2,"130-2","답",1846,null,null,null,"충청남도홍성군홍성읍오관리808세광엔리치타워106-1404","윤동빈",null,null,null,null,null,null,null,null,null,null,4272037021,"홍천군","서면","반곡리"]
[{"$f":"LEFT($B$4919,10)&TEXT($D$4919,\"0\")&TEXT($E$4919,\"0000\")&TEXT($F$4919,\"0000\")","v":"4480025023101940000"},4480025023,null,1,194,0,194,"대",982,null,null,null,"충청남도홍성군홍성읍소향길92번길19-8","최병제",null,null,null,null,null,null,null,null,null,null,4273036036,"횡성군","공근면","수백리"]
[{"$f":"LEFT($B$5001,10)&TEXT($D$5001,\"0\")&TEXT($E$5001,\"0000\")&TEXT($F$5001,\"0000\")","v":"4480025023102260006"},4480025023,null,1,226,6,"226-6","전",776,null,null,null,"충청남도홍성군홍성읍도청대로93번길81-7","양광희",null,null,null,null,null,null,null,null,null,null,4276025022,"평창군","평창읍","중리"]
[{"$f":"LEFT($B$5226,10)&TEXT($D$5226,\"0\")&TEXT($E$5226,\"0000\")&TEXT($F$5226,\"0000\")","v":"4480025023102830002"},4480025023,null,1,283,2,"283-2","전",179,null,null,null,"국(기획재정부)","국",null,null,null,null,null,null,null,null,null,null,4278033021,"철원군","근북면","유곡리"]
[{"$f":"LEFT($B$5313,10)&TEXT($D$5313,\"0\")&TEXT($E$5313,\"0000\")&TEXT($F$5313,\"0000\")","v":"4480025023102990008"},4480025023,null,1,299,8,"299-8","잡",89,null,null,null,"충청남도홍성군홍성읍소향리255-10","이영순",null,null,null,null,null,null,null,null,null,null,4280025033,"양구군","양구읍","동수리"]
[{"$f":"LEFT($B$5451,10)&TEXT($D$5451,\"0\")&TEXT($E$5451,\"0000\")&TEXT($F$5451,\"0000\")","v":"4480025023103610004"},4480025023,null,1,361,4,"361-4","대",145,null,null,null,"충청남도홍성군홍성읍소향길101","김재홍",null,null,null,null,null,null,null,null,null,null,4282031000,"고성군","현내면"]
[{"$f":"LEFT($B$5572,10)&TEXT($D$5572,\"0\")&TEXT($E$5572,\"0000\")&TEXT($F$5572,\"0000\")","v":"4480025023103970063"},4480025023,null,1,397,63,"397-63","임",5440,null,null,null,"홍성군","국",null,null,null,null,null,null,null,null,null,null,4283032042,"양양군","손양면","상운리"]
[{"$f":"LEFT($B$5707,10)&TEXT($D$5707,\"0\")&TEXT($E$5707,\"0000\")&TEXT($F$5707,\"0000\")","v":"4480025023103980090"},4480025023,null,1,398,90,"398-90","대",600,null,null,null,"산37","이기자",null,null,null,null,null,null,null,null,null,null,4311133027,"청주시","상당구","가덕면"]
[{"$f":"LEFT($B$5781,10)&TEXT($D$5781,\"0\")&TEXT($E$5781,\"0000\")&TEXT($F$5781,\"0000\")","v":"4480025023200160010"},4480025023,null,2,16,10,"16-10","임",496,null,null,null,"서울강남구개포동185주공아파트704동101호","나해철",null,null,null,null,null,null,null,null,null,null,4311231036,"청주시","서원구","남이면"]
[{"$f":"LEFT($B$5902,10)&TEXT($D$5902,\"0\")&TEXT($E$5902,\"0000\")&TEXT($F$5902,\"0000\")","v":"4480025024100580003"},4480025024,null,1,58,3,"58-3","도",17,null,null,null,"홍성군","국",null,null,null,null,null,null,null,null,null,null,4311425029,"청주시","청원구","내수읍"]
[{"$f":"LEFT($B$5982,10)&TEXT($D$5982,\"0\")&TEXT($E$5982,\"0000\")&TEXT($F$5982,\"0000\")","v":"4480025024100880000"},4480025024,null,1,88,0,88,"전",2658,null,null,null,"충청남도홍성군홍성읍월산로50번길66-9","김갑진",null,null,null,null,null,null,null,null,null,null,4313010600,"충주시","용산동"]
[{"$f":"LEFT($B$6111,10)&TEXT($D$6111,\"0\")&TEXT($E$6111,\"0000\")&TEXT($F$6111,\"0000\")","v":"4480025024101590002"},4480025024,null,1,159,2,"159-2","전",1239,null,null,null,150,"이환규",null,null,null,null,null,null,null,null,null,null,4313040000,"충주시","동량면"]
[{"$f":"LEFT($B$6290,10)&TEXT($D$6290,\"0\")&TEXT($E$6290,\"0000\")&TEXT($F$6290,\"0000\")","v":"4480025024102850003"},4480025024,null,1,285,3,"285-3","창",365,null,null,null,"오관리435-8","홍성축산업협동조합",null,null,null,null,null,null,null,null,null,null,4315036028,"제천시","백운면","애련리"]
[{"$f":"LEFT($B$6336,10)&TEXT($D$6336,\"0\")&TEXT($E$6336,\"0000\")&TEXT($F$6336,\"0000\")","v":"4480025024103180001"},4480025024,null,1,318,1,"318-1","대",896,null,null,null,"충청남도홍성군홍성읍내포로146번길6103호(광성하이츠빌라)","이화자",null,null,null,null,null,null,null,null,null,null,4372031526,"보은군","속리산면","백현리"]
[{"$f":"LEFT($B$6457,10)&TEXT($D$6457,\"0\")&TEXT($E$6457,\"0000\")&TEXT($F$6457,\"0000\")","v":"4480025024104290001"},4480025024,null,1,429,1,"429-1","전",66,null,null,null,"충청남도홍성군홍성읍월산로30번길38204동507호(부영아파트)","조재남",null,null,null,null,null,null,null,null,null,null,4372039031,"보은군","내북면","동산리"]
[{"$f":"LEFT($B$6565,10)&TEXT($D$6565,\"0\")&TEXT($E$6565,\"0000\")&TEXT($F$6565,\"0000\")","v":"4480025024105070000"},4480025024,null,1,507,0,507,"대",454,null,null,null,"월산리503","장광훈",null,null,null,null,null,null,null,null,null,null,4373035026,"옥천군","청산면","대덕리"]
[{"$f":"LEFT($B$6666,10)&TEXT($D$6666,\"0\")&TEXT($E$6666,\"0000\")&TEXT($F$6666,\"0000\")","v":"4480025024105390005"},4480025024,null,1,539,5,"539-5","전",126,null,null,null,"충청남도홍성군홍성읍소향길92번길19-1","최옥순",null,null,null,null,null,null,null,null,null,null,4374032029,"영동군","황간면","금계리"]
[{"$f":"LEFT($B$6787,10)&TEXT($D$6787,\"0\")&TEXT($E$6787,\"0000\")&TEXT($F$6787,\"0000\")","v":"4480025024106140019"},4480025024,null,1,614,19,"614-19","도",1,null,null,null,"충청남도홍성군홍북읍용봉산3길120","유정은",null,null,null,null,null,null,null,null,null,null,4374531024,"증평군","도안면","송정리"]
[{"$f":"LEFT($B$6959,10)&TEXT($D$6959,\"0\")&TEXT($E$6959,\"0000\")&TEXT($F$6959,\"0000\")","v":"4480025024106560003"},4480025024,null,1,656,3,"656-3","답",760,null,null,null,"홍성군홍성읍월산리124","홍명자",null,null,null,null,null,null,null,null,null,null,4376036036,"괴산군","청천면","부성리"]
[{"$f":"LEFT($B$7132,10)&TEXT($D$7132,\"0\")&TEXT($E$7132,\"0000\")&TEXT($F$7132,\"0000\")","v":"4480025024107840005"},4480025024,null,1,784,5,"784-5","목",3306,null,null,null,"충청남도홍성군홍성읍구항길371-152","조병남",null,null,null,null,null,null,null,null,null,null,4377037023,"음성군","감곡면","원당리"]
[{"$f":"LEFT($B$7237,10)&TEXT($D$7237,\"0\")&TEXT($E$7237,\"0000\")&TEXT($F$7237,\"0000\")","v":"4480025024108340008"},4480025024,null,1,834,8,"834-8","대",243.7,null,null,null,"충청남도홍성군홍성읍월산1길47-71동402호(월산빌라)","오희숙",null,null,null,null,null,null,null,null,null,null,4380035028,"단양군","적성면","각기리"]
[{"$f":"LEFT($B$7353,10)&TEXT($D$7353,\"0\")&TEXT($E$7353,\"0000\")&TEXT($F$7353,\"0000\")","v":"4480025024108640005"},4480025024,null,1,864,5,"864-5","대",388.3,null,null,null,"서울시양천구목동902목동신시가지아파트231-101","장혜린",null,null,null,null,null,null,null,null,null,null,4413136023,"천안시","동남구","병천면"]
[{"$f":"LEFT($B$7462,10)&TEXT($D$7462,\"0\")&TEXT($E$7462,\"0000\")&TEXT($F$7462,\"0000\")","v":"4480025024200770001"},4480025024,null,2,77,1,"77-1","임",26182,null,null,null,588,"홍순택",null,null,null,null,null,null,null,null,null,null,4415011200,"공주시","주미동"]
[{"$f":"LEFT($B$7567,10)&TEXT($D$7567,\"0\")&TEXT($E$7567,\"0000\")&TEXT($F$7567,\"0000\")","v":"4480025025100060006"},4480025025,null,1,6,6,"6-6","전",838,null,null,null,7,"박인성",null,null,null,null,null,null,null,null,null,null,4415036027,"공주시","의당면","유계리"]
[{"$f":"LEFT($B$7628,10)&TEXT($D$7628,\"0\")&TEXT($E$7628,\"0000\")&TEXT($F$7628,\"0000\")","v":"4480025025100430001"},4480025025,null,1,43,1,"43-1","대",61,null,null,null,"서울특별시동대문구답십리동990두산아파트108동306호","윤형춘",null,null,null,null,null,null,null,null,null,null,4415039028,"공주시","사곡면","가교리"]
[{"$f":"LEFT($B$7792,10)&TEXT($D$7792,\"0\")&TEXT($E$7792,\"0000\")&TEXT($F$7792,\"0000\")","v":"4480025025100980000"},4480025025,null,1,98,0,98,"전",192,null,null,null,"홍성군","국",null,null,null,null,null,null,null,null,null,null,4420025022,"아산시","염치읍","강청리"]
[{"$f":"LEFT($B$7936,10)&TEXT($D$7936,\"0\")&TEXT($E$7936,\"0000\")&TEXT($F$7936,\"0000\")","v":"4480025025102070004"},4480025025,null,1,207,4,"207-4","전",126,null,null,null,"안양시동안구호계동813호계이편한세상111-602","이순부",null,null,null,null,null,null,null,null,null,null,4420041024,"아산시","신창면","황산리"]
[{"$f":"LEFT($B$8017,10)&TEXT($D$8017,\"0\")&TEXT($E$8017,\"0000\")&TEXT($F$8017,\"0000\")","v":"4480025025102460010"},4480025025,null,1,246,10,"246-10","대",248,null,null,null,"경기도수원시권선구권선로694번길25207동803호(권선동권선에스케이뷰)","정승택",null,null,null,null,null,null,null,null,null,null,4421036021,"서산시","성연면","일람리"]
[{"$f":"LEFT($B$8122,10)&TEXT($D$8122,\"0\")&TEXT($E$8122,\"0000\")&TEXT($F$8122,\"0000\")","v":"4480025025102690011"},4480025025,null,1,269,11,"269-11","전",26,null,null,null,"충청남도홍성군홍성읍오관리187-58","전용완",null,null,null,null,null,null,null,null,null,null,4423025323,"논산시","연무읍","금곡리"]
[{"$f":"LEFT($B$8330,10)&TEXT($D$8330,\"0\")&TEXT($E$8330,\"0000\")&TEXT($F$8330,\"0000\")","v":"4480025025103930003"},4480025025,null,1,393,3,"393-3","도",53,null,null,null,"국(건설부)","국",null,null,null,null,null,null,null,null,null,null,4427025029,"당진시","합덕읍","신리"]
[{"$f":"LEFT($B$8347,10)&TEXT($D$8347,\"0\")&TEXT($E$8347,\"0000\")&TEXT($F$8347,\"0000\")","v":"4480025025103970002"},4480025025,null,1,397,2,"397-2","도",4,null,null,null,397,"마학순",null,null,null,null,null,null,null,null,null,null,4427025331,"당진시","송악읍","전대리"]
[{"$f":"LEFT($B$8572,10)&TEXT($D$8572,\"0\")&TEXT($E$8572,\"0000\")&TEXT($F$8572,\"0000\")","v":"4480025025105300001"},4480025025,null,1,530,1,"530-1","도",36,null,null,null,"월산리484","장하연",null,null,null,null,null,null,null,null,null,null,4471038027,"금산군","복수면","구례리"]
[{"$f":"LEFT($B$8623,10)&TEXT($D$8623,\"0\")&TEXT($E$8623,\"0000\")&TEXT($F$8623,\"0000\")","v":"4480025025105620016"},4480025025,null,1,562,16,"562-16","전",30,null,null,null,"아산시권곡동531-2양우아파트-105","장광호",null,null,null,null,null,null,null,null,null,null,4476031034,"부여군","규암면","내리"]
[{"$f":"LEFT($B$8797,10)&TEXT($D$8797,\"0\")&TEXT($E$8797,\"0000\")&TEXT($F$8797,\"0000\")","v":"4480025025106690001"},4480025025,null,1,669,1,"669-1","전",479,null,null,null,"경기도수원시장안구수성로245번길21323동501호(정자동두견마을한솔아파트)","김순영",null,null,null,null,null,null,null,null,null,null,4477025024,"서천군","장항읍","신창리"]
[{"$f":"LEFT($B$8902,10)&TEXT($D$8902,\"0\")&TEXT($E$8902,\"0000\")&TEXT($F$8902,\"0000\")","v":"4480025025107520000"},4480025025,null,1,752,0,752,"전",278,null,null,null,"대구수성구황금동743-11신한빌라503","장정숙",null,null,null,null,null,null,null,null,null,null,4477035030,"서천군","마산면","군간리"]
[{"$f":"LEFT($B$9017,10)&TEXT($D$9017,\"0\")&TEXT($E$9017,\"0000\")&TEXT($F$9017,\"0000\")","v":"4480025025107950005"},4480025025,null,1,795,5,"795-5","답",45,null,null,null,"국(건설교통부)","국",null,null,null,null,null,null,null,null,null,null,4479033000,"청양군","정산면"]
[{"$f":"LEFT($B$9127,10)&TEXT($D$9127,\"0\")&TEXT($E$9127,\"0000\")&TEXT($F$9127,\"0000\")","v":"4480025025108720003"},4480025025,null,1,872,3,"872-3","임",4131,null,null,null,"오관리324-1","정명호",null,null,null,null,null,null,null,null,null,null,4480025331,"홍성군","광천읍","운용리"]
[{"$f":"LEFT($B$9188,10)&TEXT($D$9188,\"0\")&TEXT($E$9188,\"0000\")&TEXT($F$9188,\"0000\")","v":"4480025025109050000"},4480025025,null,1,905,0,905,"구",121,null,null,null,"국(건설부)","국",null,null,null,null,null,null,null,null,null,null,4480034035,"홍성군","장곡면","대현리"]
[{"$f":"LEFT($B$9352,10)&TEXT($D$9352,\"0\")&TEXT($E$9352,\"0000\")&TEXT($F$9352,\"0000\")","v":"4480025025111250000"},4480025025,null,1,1125,0,1125,"대",424.6,null,null,null,"서울시강남구대치동633청실아파트10-201","김경옥",null,null,null,null,null,null,null,null,null,null,4481034030,"예산군","대흥면","탄방리"]
[{"$f":"LEFT($B$9457,10)&TEXT($D$9457,\"0\")&TEXT($E$9457,\"0000\")&TEXT($F$9457,\"0000\")","v":"4480025025112980000"},4480025025,null,1,1298,0,1298,"대",295.39999999999998,null,null,null,"대전서구관저동990대자연마을아파트107-606","백장현",null,null,null,null,null,null,null,null,null,null,4482525033,"태안군","태안읍","삭선리"]
[{"$f":"LEFT($B$9600,10)&TEXT($D$9600,\"0\")&TEXT($E$9600,\"0000\")&TEXT($F$9600,\"0000\")","v":"4480025025200770000"},4480025025,null,2,77,0,77,"임",7834,null,null,null,706,"김용우",null,null,null,null,null,null,null,null,null,null,4511313600,"전주시","덕진구","도덕동"]
[{"$f":"LEFT($B$9682,10)&TEXT($D$9682,\"0\")&TEXT($E$9682,\"0000\")&TEXT($F$9682,\"0000\")","v":"4480025026100750010"},4480025026,null,1,75,10,"75-10","대",290,null,null,null,"충청남도홍성군홍성읍홍장북로420","박희영",null,null,null,null,null,null,null,null,null,null,4513033025,"군산시","임피면","술산리"]
[{"$f":"LEFT($B$9787,10)&TEXT($D$9787,\"0\")&TEXT($E$9787,\"0000\")&TEXT($F$9787,\"0000\")","v":"4480025026100970004"},4480025026,null,1,97,4,"97-4","대",30,null,null,null,"충청남도홍성군홍성읍대학길78-22층호","이병식",null,null,null,null,null,null,null,null,null,null,4514031023,"익산시","오산면","영만리"]
[{"$f":"LEFT($B$9994,10)&TEXT($D$9994,\"0\")&TEXT($E$9994,\"0000\")&TEXT($F$9994,\"0000\")","v":"4480025026101700005"},4480025026,null,1,170,5,"170-5","대",521,null,null,null,"충청남도홍성군홍성읍충절로953번길20112동801호(신동아파밀리에아파트)","임영미",null,null,null,null,null,null,null,null,null,null,4518035022,"정읍시","영원면","신영리"]
[{"$f":"LEFT($B$10132,10)&TEXT($D$10132,\"0\")&TEXT($E$10132,\"0000\")&TEXT($F$10132,\"0000\")","v":"4480025026102220002"},4480025026,null,1,222,2,"222-2","도",3,null,null,null,"홍성군","국",null,null,null,null,null,null,null,null,null,null,4519031022,"남원시","주천면","배덕리"]
[{"$f":"LEFT($B$10237,10)&TEXT($D$10237,\"0\")&TEXT($E$10237,\"0000\")&TEXT($F$10237,\"0000\")","v":"4480025026102850001"},4480025026,null,1,285,1,"285-1","전",70,null,null,null,"홍성군홍성읍남장리산16","학교법인혜전학원",null,null,null,null,null,null,null,null,null,null,4519041022,"남원시","산동면","식련리"]
[{"$f":"LEFT($B$10269,10)&TEXT($D$10269,\"0\")&TEXT($E$10269,\"0000\")&TEXT($F$10269,\"0000\")","v":"4480025026103000001"},4480025026,null,1,300,1,"300-1","도",1327,null,null,null,"산16","학교법인혜전학원",null,null,null,null,null,null,null,null,null,null,4519046023,"남원시","산내면","대정리"]
[{"$f":"LEFT($B$10462,10)&TEXT($D$10462,\"0\")&TEXT($E$10462,\"0000\")&TEXT($F$10462,\"0000\")","v":"4480025026104070002"},4480025026,null,1,407,2,"407-2","잡",988,null,null,null,"충청남도홍성군홍성읍오관리8-3신천무궁화아파트-706","김미숙",null,null,null,null,null,null,null,null,null,null,4571025300,"완주군","봉동읍"]
[{"$f":"LEFT($B$10577,10)&TEXT($D$10577,\"0\")&TEXT($E$10577,\"0000\")&TEXT($F$10577,\"0000\")","v":"4480025026104470008"},4480025026,null,1,447,8,"447-8","전",196,null,null,null,"서울영등포구대림동851-74","김종건",null,null,null,null,null,null,null,null,null,null,4572025027,"진안군","진안읍","오천리"]
[{"$f":"LEFT($B$10687,10)&TEXT($D$10687,\"0\")&TEXT($E$10687,\"0000\")&TEXT($F$10687,\"0000\")","v":"4480025026104920000"},4480025026,null,1,492,0,492,"도",175,null,null,null,"국(건설부)","국",null,null,null,null,null,null,null,null,null,null,4573033000,"무주군","적상면"]
[{"$f":"LEFT($B$10792,10)&TEXT($D$10792,\"0\")&TEXT($E$10792,\"0000\")&TEXT($F$10792,\"0000\")","v":"4480025026106300000"},4480025026,null,1,630,0,630,"도",2907.4,null,null,null,"홍성군","국",null,null,null,null,null,null,null,null,null,null,4575025000,"임실군","임실읍"]
[{"$f":"LEFT($B$10971,10)&TEXT($D$10971,\"0\")&TEXT($E$10971,\"0000\")&TEXT($F$10971,\"0000\")","v":"4480025027100900002"},4480025027,null,1,90,2,"90-2","답",2261,null,null,null,"충청남도홍성군홍성읍오관리8-5신천아파트가-302","조한군",null,null,null,null,null,null,null,null,null,null,4577033021,"순창군","풍산면","반월리"]
[{"$f":"LEFT($B$11017,10)&TEXT($D$11017,\"0\")&TEXT($E$11017,\"0000\")&TEXT($F$11017,\"0000\")","v":"4480025027101260003"},4480025027,null,1,126,3,"126-3","철",1343,null,null,null,"국(국토교통부)","국",null,null,null,null,null,null,null,null,null,null,4577036030,"순창군","쌍치면","학선리"]
[{"$f":"LEFT($B$11138,10)&TEXT($D$11138,\"0\")&TEXT($E$11138,\"0000\")&TEXT($F$11138,\"0000\")","v":"4480025027102120001"},4480025027,null,1,212,1,"212-1","철",307,null,null,null,"국(국토교통부)","국",null,null,null,null,null,null,null,null,null,null,4579033030,"고창군","무장면","고라리"]
[{"$f":"LEFT($B$11246,10)&TEXT($D$11246,\"0\")&TEXT($E$11246,\"0000\")&TEXT($F$11246,\"0000\")","v":"4480025027102660001"},4480025027,null,1,266,1,"266-1","대",532,null,null,null,265,"강희학",null,null,null,null,null,null,null,null,null,null,4579041029,"고창군","성내면","옥제리"]
[{"$f":"LEFT($B$11347,10)&TEXT($D$11347,\"0\")&TEXT($E$11347,\"0000\")&TEXT($F$11347,\"0000\")","v":"4480025027103180000"},4480025027,null,1,318,0,318,"대",628,null,null,null,null,null,null,null,null,null,null,null,null,null,null,null,4580037024,"부안군","진서면","곰소리"]
[{"$f":"LEFT($B$11468,10)&TEXT($D$11468,\"0\")&TEXT($E$11468,\"0000\")&TEXT($F$11468,\"0000\")","v":"4480025027103730005"},4480025027,null,1,373,5,"373-5","철",7425,null,null,null,"국(국토교통부)","국",null,null,null,null,null,null,null,null,null,null,4613011300,"여수시","서교동"]
[{"$f":"LEFT($B$11640,10)&TEXT($D$11640,\"0\")&TEXT($E$11640,\"0000\")&TEXT($F$11640,\"0000\")","v":"4480025027104740008"},4480025027,null,1,474,8,"474-8","대",775,null,null,null,"충청남도홍성군홍성읍남학길172-28","최재근",null,null,null,null,null,null,null,null,null,null,4615031035,"순천시","해룡면","선학리"]
[{"$f":"LEFT($B$11797,10)&TEXT($D$11797,\"0\")&TEXT($E$11797,\"0000\")&TEXT($F$11797,\"0000\")","v":"4480025027105480005"},4480025027,null,1,548,5,"548-5","대",381,null,null,null,"서울특별시은평구연서로70-4201호(역촌동홍일빌라)","박영례",null,null,null,null,null,null,null,null,null,null,4617011400,"나주시","성북동"]
[{"$f":"LEFT($B$11829,10)&TEXT($D$11829,\"0\")&TEXT($E$11829,\"0000\")&TEXT($F$11829,\"0000\")","v":"4480025027105680001"},4480025027,null,1,568,1,"568-1","대",786,null,null,null,"충청남도홍성군홍성읍월산리851부영아파트206-1401","강희기",null,null,null,null,null,null,null,null,null,null,4617025031,"나주시","남평읍","풍림리"]
[{"$f":"LEFT($B$12022,10)&TEXT($D$12022,\"0\")&TEXT($E$12022,\"0000\")&TEXT($F$12022,\"0000\")","v":"4480025027201340002"},4480025027,null,2,134,2,"134-2","철",992,null,null,null,"국(국토교통부)","국",null,null,null,null,null,null,null,null,null,null,4623032023,"광양시","옥룡면","추산리"]
[{"$f":"LEFT($B$12143,10)&TEXT($D$12143,\"0\")&TEXT($E$12143,\"0000\")&TEXT($F$12143,\"0000\")","v":"4480025028100630001"},4480025028,null,1,63,1,"63-1","천",2649,null,null,null,"국(농림수산부)","국",null,null,null,null,null,null,null,null,null,null,4671036025,"담양군","무정면","성도리"]
[{"$f":"LEFT($B$12223,10)&TEXT($D$12223,\"0\")&TEXT($E$12223,\"0000\")&TEXT($F$12223,\"0000\")","v":"4480025028101600004"},4480025028,null,1,160,4,"160-4","전",274,null,null,null,"대교리392-9","주혜영",null,null,null,null,null,null,null,null,null,null,4672025032,"곡성군","곡성읍","장선리"]
[{"$f":"LEFT($B$12352,10)&TEXT($D$12352,\"0\")&TEXT($E$12352,\"0000\")&TEXT($F$12352,\"0000\")","v":"4480025028102890002"},4480025028,null,1,289,2,"289-2","도",132,null,null,null,"고암리292","한용규",null,null,null,null,null,null,null,null,null,null,4673025025,"구례군","구례읍","신월리"]
[{"$f":"LEFT($B$12473,10)&TEXT($D$12473,\"0\")&TEXT($E$12473,\"0000\")&TEXT($F$12473,\"0000\")","v":"4480025028103240026"},4480025028,null,1,324,26,"324-26","전",73,null,null,null,"충청남도홍성군홍성읍신성2길28","정재영",null,null,null,null,null,null,null,null,null,null,4677034023,"고흥군","도화면","사덕리"]
[{"$f":"LEFT($B$12617,10)&TEXT($D$12617,\"0\")&TEXT($E$12617,\"0000\")&TEXT($F$12617,\"0000\")","v":"4480025028104290006"},4480025028,null,1,429,6,"429-6","임",3306,null,null,null,"충청남도예산군덕산면읍내리363-17","박성원",null,null,null,null,null,null,null,null,null,null,4678032022,"보성군","미력면","미력리"]
[{"$f":"LEFT($B$12682,10)&TEXT($D$12682,\"0\")&TEXT($E$12682,\"0000\")&TEXT($F$12682,\"0000\")","v":"4480025028105120002"},4480025028,null,1,512,2,"512-2","답",2898.6,null,null,null,237,"장춘자",null,null,null,null,null,null,null,null,null,null,4678038023,"보성군","득량면","예당리"]
[{"$f":"LEFT($B$12803,10)&TEXT($D$12803,\"0\")&TEXT($E$12803,\"0000\")&TEXT($F$12803,\"0000\")","v":"4480025029100430001"},4480025029,null,1,43,1,"43-1","제",19,null,null,null,"국(건설교통부)","국",null,null,null,null,null,null,null,null,null,null,4679035031,"화순군","능주면","만수리"]
[{"$f":"LEFT($B$12892,10)&TEXT($D$12892,\"0\")&TEXT($E$12892,\"0000\")&TEXT($F$12892,\"0000\")","v":"4480025029101170000"},4480025029,null,1,117,0,117,"답",1838,null,null,null,"산62","윤광수",null,null,null,null,null,null,null,null,null,null,4679041035,"화순군","남면","용리"]
[{"$f":"LEFT($B$13028,10)&TEXT($D$13028,\"0\")&TEXT($E$13028,\"0000\")&TEXT($F$13028,\"0000\")","v":"4480025029102230000"},4480025029,null,1,223,0,223,"전",1256,null,null,null,"충청남도홍성군홍성읍송월리296","윤경호",null,null,null,null,null,null,null,null,null,null,4680035025,"장흥군","유치면","늑용리"]
[{"$f":"LEFT($B$13133,10)&TEXT($D$13133,\"0\")&TEXT($E$13133,\"0000\")&TEXT($F$13133,\"0000\")","v":"4480025029103180002"},4480025029,null,1,318,2,"318-2","도",112,null,null,null,"296-1","윤종철",null,null,null,null,null,null,null,null,null,null,4681036026,"강진군","성전면","명산리"]
[{"$f":"LEFT($B$13286,10)&TEXT($D$13286,\"0\")&TEXT($E$13286,\"0000\")&TEXT($F$13286,\"0000\")","v":"4480025029104830000"},4480025029,null,1,483,0,483,"답",1351.5,null,null,null,393,"이석호",null,null,null,null,null,null,null,null,null,null,4682038021,"해남군","계곡면","성진리"]
[{"$f":"LEFT($B$13478,10)&TEXT($D$13478,\"0\")&TEXT($E$13478,\"0000\")&TEXT($F$13478,\"0000\")","v":"4480025030100140003"},4480025030,null,1,14,3,"14-3","제",51,null,null,null,"국(건설부)","국",null,null,null,null,null,null,null,null,null,null,4683037027,"영암군","서호면","소산리"]
[{"$f":"LEFT($B$13594,10)&TEXT($D$13594,\"0\")&TEXT($E$13594,\"0000\")&TEXT($F$13594,\"0000\")","v":"4480025030100450003"},4480025030,null,1,45,3,"45-3","답",1511,null,null,null,"홍성군홍성읍고암리645-4","주명수",null,null,null,null,null,null,null,null,null,null,4684036022,"무안군","해제면","용학리"]
[{"$f":"LEFT($B$13703,10)&TEXT($D$13703,\"0\")&TEXT($E$13703,\"0000\")&TEXT($F$13703,\"0000\")","v":"4480025030100890003"},4480025030,null,1,89,3,"89-3","전",1035,null,null,null,"청양군화성면수정리549","최태수",null,null,null,null,null,null,null,null,null,null,4686036034,"함평군","나산면","덕림리"]
[{"$f":"LEFT($B$13808,10)&TEXT($D$13808,\"0\")&TEXT($E$13808,\"0000\")&TEXT($F$13808,\"0000\")","v":"4480025030101380011"},4480025030,null,1,138,11,"138-11","임",357,null,null,null,"충청남도","국",null,null,null,null,null,null,null,null,null,null,4687034000,"영광군","군서면"]
[{"$f":"LEFT($B$13869,10)&TEXT($D$13869,\"0\")&TEXT($E$13869,\"0000\")&TEXT($F$13869,\"0000\")","v":"4480025030101710005"},4480025030,null,1,171,5,"171-5","전",347,null,null,null,117,"이승세",null,null,null,null,null,null,null,null,null,null,4688025023,"장성군","장성읍","유탕리"]
[{"$f":"LEFT($B$14033,10)&TEXT($D$14033,\"0\")&TEXT($E$14033,\"0000\")&TEXT($F$14033,\"0000\")","v":"4480025030102310000"},4480025030,null,1,231,0,231,"대",645,null,null,null,"235-5","함용석",null,null,null,null,null,null,null,null,null,null,4689031021,"완도군","군외면","영풍리"]
[{"$f":"LEFT($B$14138,10)&TEXT($D$14138,\"0\")&TEXT($E$14138,\"0000\")&TEXT($F$14138,\"0000\")","v":"4480025030102990002"},4480025030,null,1,299,2,"299-2","전",457,null,null,null,"충청남도예산군예산읍창신로553동1202호(현대아파트)","강훈욱",null,null,null,null,null,null,null,null,null,null,4690033022,"진도군","의신면","침계리"]
[{"$f":"LEFT($B$14263,10)&TEXT($D$14263,\"0\")&TEXT($E$14263,\"0000\")&TEXT($F$14263,\"0000\")","v":"4480025030103520001"},4480025030,null,1,352,1,"352-1","도",17,null,null,null,"국(건설부)","국",null,null,null,null,null,null,null,null,null,null,4691034026,"신안군","비금면","지당리"]
[{"$f":"LEFT($B$14363,10)&TEXT($D$14363,\"0\")&TEXT($E$14363,\"0000\")&TEXT($F$14363,\"0000\")","v":"4480025030103980005"},4480025030,null,1,398,5,"398-5","철",23,null,null,null,"국(국토교통부)","국",null,null,null,null,null,null,null,null,null,null,4711100000,"포항시","남구"]
[{"$f":"LEFT($B$14468,10)&TEXT($D$14468,\"0\")&TEXT($E$14468,\"0000\")&TEXT($F$14468,\"0000\")","v":"4480025030104250004"},4480025030,null,1,425,4,"425-4","답",808,null,null,null,"충청남도홍성군홍성읍충절로818번길62","김종",null,null,null,null,null,null,null,null,null,null,4711135021,"포항시","남구","호미곶면"]
[{"$f":"LEFT($B$14675,10)&TEXT($D$14675,\"0\")&TEXT($E$14675,\"0000\")&TEXT($F$14675,\"0000\")","v":"4480025030104900017"},4480025030,null,1,490,17,"490-17","도",104,null,null,null,"국(건설부)","국",null,null,null,null,null,null,null,null,null,null,4713025325,"경주시","안강읍","근계리"]
[{"$f":"LEFT($B$14693,10)&TEXT($D$14693,\"0\")&TEXT($E$14693,\"0000\")&TEXT($F$14693,\"0000\")","v":"4480025030104920003"},4480025030,null,1,492,3,"492-3","주",539,null,null,null,"충청남도홍성군장곡면홍남동로503-40","임정순",null,null,null,null,null,null,null,null,null,null,4713025627,"경주시","건천읍","모량리"]
[{"$f":"LEFT($B$14846,10)&TEXT($D$14846,\"0\")&TEXT($E$14846,\"0000\")&TEXT($F$14846,\"0000\")","v":"4480025030105400006"},4480025030,null,1,540,6,"540-6","대",274,null,null,null,"652-5","김성호",null,null,null,null,null,null,null,null,null,null,4715031021,"김천시","농소면","입석리"]
[{"$f":"LEFT($B$15038,10)&TEXT($D$15038,\"0\")&TEXT($E$15038,\"0000\")&TEXT($F$15038,\"0000\")","v":"4480025030105840009"},4480025030,null,1,584,9,"584-9","대",199,null,null,null,"서울특별시강남구테헤란로41920층(삼성동)","국제자산신탁주식회사",null,null,null,null,null,null,null,null,null,null,4717014000,"안동시","정하동"]
[{"$f":"LEFT($B$15143,10)&TEXT($D$15143,\"0\")&TEXT($E$15143,\"0000\")&TEXT($F$15143,\"0000\")","v":"4480025030106070085"},4480025030,null,1,607,85,"607-85","전",350,null,null,null,"서울특별시도봉구도당로13바길113302호(방학동)","이명균",null,null,null,null,null,null,null,null,null,null,4717037000,"안동시","남선면"]
[{"$f":"LEFT($B$15258,10)&TEXT($D$15258,\"0\")&TEXT($E$15258,\"0000\")&TEXT($F$15258,\"0000\")","v":"4480025030106190013"},4480025030,null,1,619,13,"619-13","전",201,null,null,null,"626-9","김승언",null,null,null,null,null,null,null,null,null,null,4719012900,"구미시","구포동"]
[{"$f":"LEFT($B$15368,10)&TEXT($D$15368,\"0\")&TEXT($E$15368,\"0000\")&TEXT($F$15368,\"0000\")","v":"4480025030106410001"},4480025030,null,1,641,1,"641-1","대",121,null,null,null,"642-8","임경숙",null,null,null,null,null,null,null,null,null,null,4721010300,"영주시","하망동"]
[{"$f":"LEFT($B$15473,10)&TEXT($D$15473,\"0\")&TEXT($E$15473,\"0000\")&TEXT($F$15473,\"0000\")","v":"4480025030106810012"},4480025030,null,1,681,12,"681-12","임",1552,null,null,null,"충청남도홍성군홍성읍고암리540-2","홍성고암리2구운영회",null,null,null,null,null,null,null,null,null,null,4721039021,"영주시","부석면","남대리"]
[{"$f":"LEFT($B$15533,10)&TEXT($D$15533,\"0\")&TEXT($E$15533,\"0000\")&TEXT($F$15533,\"0000\")","v":"4480025030107100008"},4480025030,null,1,710,8,"710-8","전",245,null,null,null,"남장리95-2","이기형",null,null,null,null,null,null,null,null,null,null,4723025040,"영천시","금호읍","삼호리"]
[{"$f":"LEFT($B$15698,10)&TEXT($D$15698,\"0\")&TEXT($E$15698,\"0000\")&TEXT($F$15698,\"0000\")","v":"4480025030107890001"},4480025030,null,1,789,1,"789-1","답",36,null,null,null,"경성부관훈동84","이석구",null,null,null,null,null,null,null,null,null,null,4723040030,"영천시","대창면","구지리"]
[{"$f":"LEFT($B$15803,10)&TEXT($D$15803,\"0\")&TEXT($E$15803,\"0000\")&TEXT($F$15803,\"0000\")","v":"4480025030108290004"},4480025030,null,1,829,4,"829-4","도",186,null,null,null,"홍성군","국",null,null,null,null,null,null,null,null,null,null,4725034026,"상주시","청리면","가천리"]
[{"$f":"LEFT($B$15927,10)&TEXT($D$15927,\"0\")&TEXT($E$15927,\"0000\")&TEXT($F$15927,\"0000\")","v":"4480025030108560002"},4480025030,null,1,856,2,"856-2","도",268,null,null,null,"학계리470","오석환",null,null,null,null,null,null,null,null,null,null,4725045021,"상주시","공검면","부곡리"]
[{"$f":"LEFT($B$16028,10)&TEXT($D$16028,\"0\")&TEXT($E$16028,\"0000\")&TEXT($F$16028,\"0000\")","v":"4480025030108950000"},4480025030,null,1,895,0,895,"답",3274,null,null,null,"홍성군홍성읍고암리188","이복주",null,null,null,null,null,null,null,null,null,null,4728032034,"문경시","산양면","평지리"]
[{"$f":"LEFT($B$16235,10)&TEXT($D$16235,\"0\")&TEXT($E$16235,\"0000\")&TEXT($F$16235,\"0000\")","v":"4480025030110410000"},4480025030,null,1,1041,0,1041,"대",266.60000000000002,null,null,null,"홍성군","국",null,null,null,null,null,null,null,null,null,null,4729035035,"경산시","남산면","반곡리"]
[{"$f":"LEFT($B$16253,10)&TEXT($D$16253,\"0\")&TEXT($E$16253,\"0000\")&TEXT($F$16253,\"0000\")","v":"4480025030110670000"},4480025030,null,1,1067,0,1067,"대",218,null,null,null,"서울시서초구잠원동66반포한양아파트2-505","이경옥",null,null,null,null,null,null,null,null,null,null,4729036034,"경산시","압량면","백안리"]
[{"$f":"LEFT($B$16358,10)&TEXT($D$16358,\"0\")&TEXT($E$16358,\"0000\")&TEXT($F$16358,\"0000\")","v":"4480025031100100003"},4480025031,null,1,10,3,"10-3","답",2670,null,null,null,"충청남도홍성군홍성읍도청대로53번길17-10","방윤석",null,null,null,null,null,null,null,null,null,null,4772037032,"군위군","고로면","화수리"]
[{"$f":"LEFT($B$16510,10)&TEXT($D$16510,\"0\")&TEXT($E$16510,\"0000\")&TEXT($F$16510,\"0000\")","v":"4480025031100620001"},4480025031,null,1,62,1,"62-1","답",1154,null,null,null,"충청남도홍성군홍성읍충서로1575번길169","이기호",null,null,null,null,null,null,null,null,null,null,4773042031,"의성군","단북면","연제리"]
[{"$f":"LEFT($B$16703,10)&TEXT($D$16703,\"0\")&TEXT($E$16703,\"0000\")&TEXT($F$16703,\"0000\")","v":"4480025031101130001"},4480025031,null,1,113,1,"113-1","대",83,null,null,null,"116-7","김인규",null,null,null,null,null,null,null,null,null,null,4776032043,"영양군","청기면","행화리"]
[{"$f":"LEFT($B$16808,10)&TEXT($D$16808,\"0\")&TEXT($E$16808,\"0000\")&TEXT($F$16808,\"0000\")","v":"4480025031101250013"},4480025031,null,1,125,13,"125-13","대",18,null,null,null,"국(국토교통부)","국",null,null,null,null,null,null,null,null,null,null,4777034046,"영덕군","지품면","수암리"]
[{"$f":"LEFT($B$16904,10)&TEXT($D$16904,\"0\")&TEXT($E$16904,\"0000\")&TEXT($F$16904,\"0000\")","v":"4480025031101490000"},4480025031,null,1,149,0,149,"답",460,null,null,null,"충청남도홍성군홍성읍충서로1707번길281","주숙진",null,null,null,null,null,null,null,null,null,null,4782025336,"청도군","청도읍","평양리"]
[{"$f":"LEFT($B$17033,10)&TEXT($D$17033,\"0\")&TEXT($E$17033,\"0000\")&TEXT($F$17033,\"0000\")","v":"4480025031101750001"},4480025031,null,1,175,1,"175-1","답",353,null,null,null,"충청남도공주시의당면유계길41-22","이경희",null,null,null,null,null,null,null,null,null,null,4783032031,"고령군","운수면","대평리"]
[{"$f":"LEFT($B$17154,10)&TEXT($D$17154,\"0\")&TEXT($E$17154,\"0000\")&TEXT($F$17154,\"0000\")","v":"4480025031102150010"},4480025031,null,1,215,10,"215-10","답",2313,null,null,null,"충청남도홍성군홍성읍대교길93-7","이병욱",null,null,null,null,null,null,null,null,null,null,4784032058,"성주군","용암면","죽전리"]
[{"$f":"LEFT($B$17298,10)&TEXT($D$17298,\"0\")&TEXT($E$17298,\"0000\")&TEXT($F$17298,\"0000\")","v":"4480025031102850060"},4480025031,null,1,285,60,"285-60","도",75,null,null,null,"국(건설교통부)","국",null,null,null,null,null,null,null,null,null,null,4785036029,"칠곡군","약목면","동안리"]
[{"$f":"LEFT($B$17363,10)&TEXT($D$17363,\"0\")&TEXT($E$17363,\"0000\")&TEXT($F$17363,\"0000\")","v":"4480025031103000005"},4480025031,null,1,300,5,"300-5","답",1008,null,null,null,"충청남도홍성군홍성읍도청대로96번길29","기쁜소식홍성교회",null,null,null,null,null,null,null,null,null,null,4790034048,"예천군","감천면","대맥리"]
[{"$f":"LEFT($B$17484,10)&TEXT($D$17484,\"0\")&TEXT($E$17484,\"0000\")&TEXT($F$17484,\"0000\")","v":"4480025031103560003"},4480025031,null,1,356,3,"356-3","전",998,null,null,null,"경기도김포시북변동802풍년마을313-1702","이종환",null,null,null,null,null,null,null,null,null,null,4790042029,"예천군","효자면","석묘리"]
[{"$f":"LEFT($B$17573,10)&TEXT($D$17573,\"0\")&TEXT($E$17573,\"0000\")&TEXT($F$17573,\"0000\")","v":"4480025031103890002"},4480025031,null,1,389,2,"389-2","대",169,null,null,null,"홍성읍대교리","장본금평",null,null,null,null,null,null,null,null,null,null,4792038027,"봉화군","상운면","설매리"]
[{"$f":"LEFT($B$17709,10)&TEXT($D$17709,\"0\")&TEXT($E$17709,\"0000\")&TEXT($F$17709,\"0000\")","v":"4480025031104080004"},4480025031,null,1,408,4,"408-4","전",873,null,null,null,"충청남도홍성군홍성읍월계2길25-3303호(풍경빌딩)","김철한",null,null,null,null,null,null,null,null,null,null,4812112700,"창원시","의창구","봉곡동"]
[{"$f":"LEFT($B$17881,10)&TEXT($D$17881,\"0\")&TEXT($E$17881,\"0000\")&TEXT($F$17881,\"0000\")","v":"4480025031200460000"},4480025031,null,2,46,0,46,"임",7140,null,null,null,"서울시양천구신월동133-29","이종진",null,null,null,null,null,null,null,null,null,null,4812532029,"창원시","마산합포구","진동면"]
[{"$f":"LEFT($B$17918,10)&TEXT($D$17918,\"0\")&TEXT($E$17918,\"0000\")&TEXT($F$17918,\"0000\")","v":"4480025031200810000"},4480025031,null,2,81,0,81,"구",5357,null,null,null,"국(건설부)","국",null,null,null,null,null,null,null,null,null,null,4812710100,"창원시","마산회원구","구암동"]
[{"$f":"LEFT($B$18039,10)&TEXT($D$18039,\"0\")&TEXT($E$18039,\"0000\")&TEXT($F$18039,\"0000\")","v":"4480025032100830010"},4480025032,null,1,83,10,"83-10","임",171,null,null,null,"홍성군","국",null,null,null,null,null,null,null,null,null,null,4817025023,"진주시","문산읍","삼곡리"]
[{"$f":"LEFT($B$18156,10)&TEXT($D$18156,\"0\")&TEXT($E$18156,\"0000\")&TEXT($F$18156,\"0000\")","v":"4480025032101360002"},4480025032,null,1,136,2,"136-2","전",1289,null,null,null,251,"이환일",null,null,null,null,null,null,null,null,null,null,4817044028,"진주시","명석면","오미리"]
[{"$f":"LEFT($B$18368,10)&TEXT($D$18368,\"0\")&TEXT($E$18368,\"0000\")&TEXT($F$18368,\"0000\")","v":"4480025032102630002"},4480025032,null,1,263,2,"263-2","전",941,null,null,null,"충청남도홍성군홍성읍월산로30번길39101동809호(부영아파트)","장은율",null,null,null,null,null,null,null,null,null,null,4824037024,"사천시","서포면","조도리"]
[{"$f":"LEFT($B$18489,10)&TEXT($D$18489,\"0\")&TEXT($E$18489,\"0000\")&TEXT($F$18489,\"0000\")","v":"4480025032103570000"},4480025032,null,1,357,0,357,"천",4436,null,null,null,"국(건설부)","국",null,null,null,null,null,null,null,null,null,null,4827010700,"밀양시","활성동"]
[{"$f":"LEFT($B$18550,10)&TEXT($D$18550,\"0\")&TEXT($E$18550,\"0000\")&TEXT($F$18550,\"0000\")","v":"4480025032103760011"},4480025032,null,1,376,11,"376-11","답",734,null,null,null,"국(건설부)","국",null,null,null,null,null,null,null,null,null,null,4827034023,"밀양시","산내면","용전리"]
[{"$f":"LEFT($B$18714,10)&TEXT($D$18714,\"0\")&TEXT($E$18714,\"0000\")&TEXT($F$18714,\"0000\")","v":"4480025032104240080"},4480025032,null,1,424,80,"424-80","전",172,null,null,null,"경기도광주시오포읍신현리713-3","박칠종",null,null,null,null,null,null,null,null,null,null,4831039026,"거제시","장목면","장목리"]
[{"$f":"LEFT($B$18819,10)&TEXT($D$18819,\"0\")&TEXT($E$18819,\"0000\")&TEXT($F$18819,\"0000\")","v":"4480025032104620002"},4480025032,null,1,462,2,"462-2","제",147,null,null,null,"국(건설부)","국",null,null,null,null,null,null,null,null,null,null,4872033029,"의령군","대의면","천곡리"]
[{"$f":"LEFT($B$18944,10)&TEXT($D$18944,\"0\")&TEXT($E$18944,\"0000\")&TEXT($F$18944,\"0000\")","v":"4480025032105400001"},4480025032,null,1,540,1,"540-1","답",3,null,null,null,"국(건설교통부)","국",null,null,null,null,null,null,null,null,null,null,4873032023,"함안군","군북면","소포리"]
[{"$f":"LEFT($B$19044,10)&TEXT($D$19044,\"0\")&TEXT($E$19044,\"0000\")&TEXT($F$19044,\"0000\")","v":"4480025032106290000"},4480025032,null,1,629,0,629,"답",1421,null,null,null,285,"김용세",null,null,null,null,null,null,null,null,null,null,4874031022,"창녕군","고암면","억만리"]
[{"$f":"LEFT($B$19133,10)&TEXT($D$19133,\"0\")&TEXT($E$19133,\"0000\")&TEXT($F$19133,\"0000\")","v":"4480025032200110002"},4480025032,null,2,11,2,"11-2","임",2876,null,null,null,"서울특별시성북구종암동130아이파크종암동103-203","임태수",null,null,null,null,null,null,null,null,null,null,4874039025,"창녕군","장마면","산지리"]
[{"$f":"LEFT($B$19269,10)&TEXT($D$19269,\"0\")&TEXT($E$19269,\"0000\")&TEXT($F$19269,\"0000\")","v":"4480025321100730003"},4480025321,null,1,73,3,"73-3","전",2618,null,null,null,"충청남도보령시천북면천궁안길91","안지혜",null,null,null,null,null,null,null,null,null,null,4882041024,"고성군","마암면","화산리"]
[{"$f":"LEFT($B$19374,10)&TEXT($D$19374,\"0\")&TEXT($E$19374,\"0000\")&TEXT($F$19374,\"0000\")","v":"4480025321101040009"},4480025321,null,1,104,9,"104-9","전",130,null,null,null,"385-7","김재수",null,null,null,null,null,null,null,null,null,null,4884039027,"남해군","창선면","광천리"]
[{"$f":"LEFT($B$19527,10)&TEXT($D$19527,\"0\")&TEXT($E$19527,\"0000\")&TEXT($F$19527,\"0000\")","v":"4480025321101680004"},4480025321,null,1,168,4,"168-4","전",877,null,null,null,"충청남도홍성군광천읍광천로440번길42","전영수",null,null,null,null,null,null,null,null,null,null,4886031027,"산청군","차황면","신기리"]
[{"$f":"LEFT($B$19599,10)&TEXT($D$19599,\"0\")&TEXT($E$19599,\"0000\")&TEXT($F$19599,\"0000\")","v":"4480025321102000011"},4480025321,null,1,200,11,"200-11","창",60,null,null,null,"충청남도홍성군광천읍오서길62번길19","명청숙",null,null,null,null,null,null,null,null,null,null,4886037031,"산청군","단성면","소남리"]
[{"$f":"LEFT($B$19824,10)&TEXT($D$19824,\"0\")&TEXT($E$19824,\"0000\")&TEXT($F$19824,\"0000\")","v":"4480025321103100011"},4480025321,null,1,310,11,"310-11","잡",377,null,null,null,"충청남도홍성군광천읍광천리244-7","권영기",null,null,null,null,null,null,null,null,null,null,4888038024,"거창군","남하면","지산리"]
[{"$f":"LEFT($B$19921,10)&TEXT($D$19921,\"0\")&TEXT($E$19921,\"0000\")&TEXT($F$19921,\"0000\")","v":"4480025321103370070"},4480025321,null,1,337,70,"337-70","대",327,null,null,null,"337-70","손영순",null,null,null,null,null,null,null,null,null,null,4889035023,"합천군","율곡면","두사리"]
[{"$f":"LEFT($B$20049,10)&TEXT($D$20049,\"0\")&TEXT($E$20049,\"0000\")&TEXT($F$20049,\"0000\")","v":"4480025321103710073"},4480025321,null,1,371,73,"371-73","전",198,null,null,null,"371-73","장정숙",null,null,null,null,null,null,null,null,null,null,4889046022,"합천군","용주면","황계리"]
[{"$f":"LEFT($B$20154,10)&TEXT($D$20154,\"0\")&TEXT($E$20154,\"0000\")&TEXT($F$20154,\"0000\")","v":"4480025321103850055"},4480025321,null,1,385,55,"385-55","도",12,null,null,null,"홍성군","국",null,null,null,null,null,null,null,null,null,null,5011025627,"제주시","구좌읍","행원리"]
[{"$f":"LEFT($B$20214,10)&TEXT($D$20214,\"0\")&TEXT($E$20214,\"0000\")&TEXT($F$20214,\"0000\")","v":"4480025321103940009"},4480025321,null,1,394,9,"394-9","도",10,null,null,null,"국(건설부)","국",null,null,null,null,null,null,null,null,null,null,5013011600,"서귀포시","강정동"]
[{"$f":"LEFT($B$20379,10)&TEXT($D$20379,\"0\")&TEXT($E$20379,\"0000\")&TEXT($F$20379,\"0000\")","v":"4480025321104100036"},4480025321,null,1,410,36,"410-36","대",146,null,null,null,"충청남도홍성군광천읍신진리406-4","이훈영"]
[{"$f":"LEFT($B$20504,10)&TEXT($D$20504,\"0\")&TEXT($E$20504,\"0000\")&TEXT($F$20504,\"0000\")","v":"4480025321104290010"},4480025321,null,1,429,10,"429-10","대",274,null,null,null,"423-4","장호일"]
[{"$f":"LEFT($B$20604,10)&TEXT($D$20604,\"0\")&TEXT($E$20604,\"0000\")&TEXT($F$20604,\"0000\")","v":"4480025321104530001"},4480025321,null,1,453,1,"453-1","대",2132,null,null,null,"충청남도보령시천북면천광로730","주식회사농업회사법인삼화원종"]
[{"$f":"LEFT($B$20709,10)&TEXT($D$20709,\"0\")&TEXT($E$20709,\"0000\")&TEXT($F$20709,\"0000\")","v":"4480025321104830003"},4480025321,null,1,483,3,"483-3","대",707,null,null,null,"충청남도홍성군광천읍광천로359번길55-6","박성준"]
[{"$f":"LEFT($B$20898,10)&TEXT($D$20898,\"0\")&TEXT($E$20898,\"0000\")&TEXT($F$20898,\"0000\")","v":"4480025321105210003"},4480025321,null,1,521,3,"521-3","도",56,null,null,null,"홍성군","국"]
[{"$f":"LEFT($B$20934,10)&TEXT($D$20934,\"0\")&TEXT($E$20934,\"0000\")&TEXT($F$20934,\"0000\")","v":"4480025321105260005"},4480025321,null,1,526,5,"526-5","대",2796]
[{"$f":"LEFT($B$21039,10)&TEXT($D$21039,\"0\")&TEXT($E$21039,\"0000\")&TEXT($F$21039,\"0000\")","v":"4480025321105560012"},4480025321,null,1,556,12,"556-12","전",843,null,null,null,"충청남도홍성군광천읍홍남로620번길71","고성규"]
[{"$f":"LEFT($B$21191,10)&TEXT($D$21191,\"0\")&TEXT($E$21191,\"0000\")&TEXT($F$21191,\"0000\")","v":"4480025321105880001"},4480025321,null,1,588,1,"588-1","구",39,null,null,null,"국(건설부)","국"]
[{"$f":"LEFT($B$21264,10)&TEXT($D$21264,\"0\")&TEXT($E$21264,\"0000\")&TEXT($F$21264,\"0000\")","v":"4480025321200430022"},4480025321,null,2,43,22,"43-22","임",1289,null,null,null,"충청남도서산시부석면강수리45","고현태"]
[{"$f":"LEFT($B$21489,10)&TEXT($D$21489,\"0\")&TEXT($E$21489,\"0000\")&TEXT($F$21489,\"0000\")","v":"4480025322100660001"},4480025322,null,1,66,1,"66-1","도",132,null,null,null,"국(건설부)","국"]
[{"$f":"LEFT($B$21585,10)&TEXT($D$21585,\"0\")&TEXT($E$21585,\"0000\")&TEXT($F$21585,\"0000\")","v":"4480025322101010009"},4480025322,null,1,101,9,"101-9","대",179,null,null,null,"충청남도홍성군광천읍광천리101-3","정광석"]
[{"$f":"LEFT($B$21714,10)&TEXT($D$21714,\"0\")&TEXT($E$21714,\"0000\")&TEXT($F$21714,\"0000\")","v":"4480025322101370003"},4480025322,null,1,137,3,"137-3","대",76,null,null,null,"충청남도홍성군광천읍광천리137-3","오정헌"]
[{"$f":"LEFT($B$21774,10)&TEXT($D$21774,\"0\")&TEXT($E$21774,\"0000\")&TEXT($F$21774,\"0000\")","v":"4480025322101500000"},4480025322,null,1,150,0,150,"전",1369,null,null,null,"서울강남구도곡동228-3개포2차우성아파트13동1006호","김하자"]
[{"$f":"LEFT($B$21939,10)&TEXT($D$21939,\"0\")&TEXT($E$21939,\"0000\")&TEXT($F$21939,\"0000\")","v":"4480025322101770004"},4480025322,null,1,177,4,"177-4","대",128,null,null,null,"177-4","유춘순"]
[{"$f":"LEFT($B$22044,10)&TEXT($D$22044,\"0\")&TEXT($E$22044,\"0000\")&TEXT($F$22044,\"0000\")","v":"4480025322101890048"},4480025322,null,1,189,48,"189-48","대",20,null,null,null,189,"황창희"]
[{"$f":"LEFT($B$22168,10)&TEXT($D$22168,\"0\")&TEXT($E$22168,\"0000\")&TEXT($F$22168,\"0000\")","v":"4480025322102020005"},4480025322,null,1,202,5,"202-5","도",61,null,null,null,"국(건설교통부)","국"]
[{"$f":"LEFT($B$22269,10)&TEXT($D$22269,\"0\")&TEXT($E$22269,\"0000\")&TEXT($F$22269,\"0000\")","v":"4480025322102300036"},4480025322,null,1,230,36,"230-36","잡",107,null,null,null,232,"김을제"]
[{"$f":"LEFT($B$22374,10)&TEXT($D$22374,\"0\")&TEXT($E$22374,\"0000\")&TEXT($F$22374,\"0000\")","v":"4480025322102440009"},4480025322,null,1,244,9,"244-9","대",237,null,null,null,"충청남도","국"]
[{"$f":"LEFT($B$22562,10)&TEXT($D$22562,\"0\")&TEXT($E$22562,\"0000\")&TEXT($F$22562,\"0000\")","v":"4480025322102740128"},4480025322,null,1,274,128,"274-128","대",5,null,null,null,"홍성군","국"]
[{"$f":"LEFT($B$22599,10)&TEXT($D$22599,\"0\")&TEXT($E$22599,\"0000\")&TEXT($F$22599,\"0000\")","v":"4480025322102750008"},4480025322,null,1,275,8,"275-8","대",62,null,null,null,"서울강남구삼성동99-3","한성원"]
[{"$f":"LEFT($B$22720,10)&TEXT($D$22720,\"0\")&TEXT($E$22720,\"0000\")&TEXT($F$22720,\"0000\")","v":"4480025322102940010"},4480025322,null,1,294,10,"294-10","대",179,null,null,null,"365-3","신명범"]
[{"$f":"LEFT($B$22837,10)&TEXT($D$22837,\"0\")&TEXT($E$22837,\"0000\")&TEXT($F$22837,\"0000\")","v":"4480025322103290047"},4480025322,null,1,329,47,"329-47","대",360,null,null,null,"홍성군","국"]
[{"$f":"LEFT($B$23049,10)&TEXT($D$23049,\"0\")&TEXT($E$23049,\"0000\")&TEXT($F$23049,\"0000\")","v":"4480025322103890002"},4480025322,null,1,389,2,"389-2","대",66,null,null,null,"충청남도홍성군광천읍광천리392-10","김정자"]
[{"$f":"LEFT($B$23170,10)&TEXT($D$23170,\"0\")&TEXT($E$23170,\"0000\")&TEXT($F$23170,\"0000\")","v":"4480025322104380001"},4480025322,null,1,438,1,"438-1","답",307,null,null,null,"홍성군","국"]
[{"$f":"LEFT($B$23231,10)&TEXT($D$23231,\"0\")&TEXT($E$23231,\"0000\")&TEXT($F$23231,\"0000\")","v":"4480025322104620002"},4480025322,null,1,462,2,"462-2","답",513,null,null,null,205,"유성조"]
[{"$f":"LEFT($B$23379,10)&TEXT($D$23379,\"0\")&TEXT($E$23379,\"0000\")&TEXT($F$23379,\"0000\")","v":"4480025323100800003"},4480025323,null,1,80,3,"80-3","답",274,null,null,null,"담산리58","표길훈"]
[{"$f":"LEFT($B$23420,10)&TEXT($D$23420,\"0\")&TEXT($E$23420,\"0000\")&TEXT($F$23420,\"0000\")","v":"4480025323101120004"},4480025323,null,1,112,4,"112-4","전",575,null,null,null,"109-1","권오윤"]
[{"$f":"LEFT($B$23604,10)&TEXT($D$23604,\"0\")&TEXT($E$23604,\"0000\")&TEXT($F$23604,\"0000\")","v":"4480025323102800003"},4480025323,null,1,280,3,"280-3","임",77,null,null,null,"광천리185-29","정응모"]
[{"$f":"LEFT($B$23725,10)&TEXT($D$23725,\"0\")&TEXT($E$23725,\"0000\")&TEXT($F$23725,\"0000\")","v":"4480025323103810000"},4480025323,null,1,381,0,381,"답",215,null,null,null,371,"이종배"]
[{"$f":"LEFT($B$23814,10)&TEXT($D$23814,\"0\")&TEXT($E$23814,\"0000\")&TEXT($F$23814,\"0000\")","v":"4480025323104510005"},4480025323,null,1,451,5,"451-5","임",13640,null,null,null,456,"이종석"]
[{"$f":"LEFT($B$23934,10)&TEXT($D$23934,\"0\")&TEXT($E$23934,\"0000\")&TEXT($F$23934,\"0000\")","v":"4480025323105520001"},4480025323,null,1,552,1,"552-1","도",3,null,null,null,"소암리325","권철수"]
[{"$f":"LEFT($B$24055,10)&TEXT($D$24055,\"0\")&TEXT($E$24055,\"0000\")&TEXT($F$24055,\"0000\")","v":"4480025323106590004"},4480025323,null,1,659,4,"659-4","답",1203,null,null,null,"충청남도홍성군광천읍담산리659-2","이애령"]
[{"$f":"LEFT($B$24208,10)&TEXT($D$24208,\"0\")&TEXT($E$24208,\"0000\")&TEXT($F$24208,\"0000\")","v":"4480025323108110002"},4480025323,null,1,811,2,"811-2","도",93,null,null,null,812,"김정철"]
[{"$f":"LEFT($B$24280,10)&TEXT($D$24280,\"0\")&TEXT($E$24280,\"0000\")&TEXT($F$24280,\"0000\")","v":"4480025323108790000"},4480025323,null,1,879,0,879,"천",618,null,null,null,"경기도수원시팔달구화서동646화서주공아파트302-1304","김기창"]
[{"$f":"LEFT($B$24385,10)&TEXT($D$24385,\"0\")&TEXT($E$24385,\"0000\")&TEXT($F$24385,\"0000\")","v":"4480025323109190001"},4480025323,null,1,919,1,"919-1","도",105,null,null,null,"국(건설부)","국"]
[{"$f":"LEFT($B$24602,10)&TEXT($D$24602,\"0\")&TEXT($E$24602,\"0000\")&TEXT($F$24602,\"0000\")","v":"4480025323201020001"},4480025323,null,2,102,1,"102-1","임",9917,null,null,null,"광천리274","최종익"]
[{"$f":"LEFT($B$24730,10)&TEXT($D$24730,\"0\")&TEXT($E$24730,\"0000\")&TEXT($F$24730,\"0000\")","v":"4480025324100680010"},4480025324,null,1,68,10,"68-10","답",95,null,null,null,"홍성군","국"]
[{"$f":"LEFT($B$24791,10)&TEXT($D$24791,\"0\")&TEXT($E$24791,\"0000\")&TEXT($F$24791,\"0000\")","v":"4480025324100940006"},4480025324,null,1,94,6,"94-6","답",2485,null,null,null,"충청남도홍성군광천읍광천리370-11","류예희"]
[{"$f":"LEFT($B$24939,10)&TEXT($D$24939,\"0\")&TEXT($E$24939,\"0000\")&TEXT($F$24939,\"0000\")","v":"4480025324101960001"},4480025324,null,1,196,1,"196-1","대",79,null,null,null,197,"박용진"]
[{"$f":"LEFT($B$25060,10)&TEXT($D$25060,\"0\")&TEXT($E$25060,\"0000\")&TEXT($F$25060,\"0000\")","v":"4480025324103430003"},4480025324,null,1,343,3,"343-3","답",15,null,null,null,"충청남도홍성군광천읍가정리399","김현섭"]
[{"$f":"LEFT($B$25185,10)&TEXT($D$25185,\"0\")&TEXT($E$25185,\"0000\")&TEXT($F$25185,\"0000\")","v":"4480025324104610003"},4480025324,null,1,461,3,"461-3","전",430,null,null,null,"서울특별시중구청구로6길8301호(신당동타워아파트)","손흥국"]
[{"$f":"LEFT($B$25285,10)&TEXT($D$25285,\"0\")&TEXT($E$25285,\"0000\")&TEXT($F$25285,\"0000\")","v":"4480025324105960006"},4480025324,null,1,596,6,"596-6","전",1554,null,null,null,"서울특별시강서구화곡동927-1순영아파트-1105","정순옥"]
[{"$f":"LEFT($B$25390,10)&TEXT($D$25390,\"0\")&TEXT($E$25390,\"0000\")&TEXT($F$25390,\"0000\")","v":"4480025324200340008"},4480025324,null,2,34,8,"34-8","임",367,null,null,null,"홍성읍고암리586-5","이승재"]
[{"$f":"LEFT($B$25460,10)&TEXT($D$25460,\"0\")&TEXT($E$25460,\"0000\")&TEXT($F$25460,\"0000\")","v":"4480025325100210001"},4480025325,null,1,21,1,"21-1","전",2370,null,null,null,"신진리78-1","장원국"]
[{"$f":"LEFT($B$25615,10)&TEXT($D$25615,\"0\")&TEXT($E$25615,\"0000\")&TEXT($F$25615,\"0000\")","v":"4480025325101670001"},4480025325,null,1,167,1,"167-1","구",56,null,null,null,"홍성군","국"]
[{"$f":"LEFT($B$25720,10)&TEXT($D$25720,\"0\")&TEXT($E$25720,\"0000\")&TEXT($F$25720,\"0000\")","v":"4480025325102850000"},4480025325,null,1,285,0,285,"대",393,null,null,null,"내죽리287","김진국"]
[{"$f":"LEFT($B$25872,10)&TEXT($D$25872,\"0\")&TEXT($E$25872,\"0000\")&TEXT($F$25872,\"0000\")","v":"4480025325104310001"},4480025325,null,1,431,1,"431-1","창",650,null,null,null,"충청남도홍성군광천읍내죽리431-5","정건일"]
[{"$f":"LEFT($B$25945,10)&TEXT($D$25945,\"0\")&TEXT($E$25945,\"0000\")&TEXT($F$25945,\"0000\")","v":"4480025325105170002"},4480025325,null,1,517,2,"517-2","답",2085,null,null,null,291,"김진철"]
[{"$f":"LEFT($B$26162,10)&TEXT($D$26162,\"0\")&TEXT($E$26162,\"0000\")&TEXT($F$26162,\"0000\")","v":"4480025326100300000"},4480025326,null,1,30,0,30,"전",261,null,null,null,29,"박화양"]
[{"$f":"LEFT($B$26170,10)&TEXT($D$26170,\"0\")&TEXT($E$26170,\"0000\")&TEXT($F$26170,\"0000\")","v":"4480025326100360002"},4480025326,null,1,36,2,"36-2","전",294,null,null,null,"인천광역시남구소성로120110동1402호(학익동동아풍림아파트)","이순아"]
[{"$f":"LEFT($B$26395,10)&TEXT($D$26395,\"0\")&TEXT($E$26395,\"0000\")&TEXT($F$26395,\"0000\")","v":"4480025326102140002"},4480025326,null,1,214,2,"214-2","답",2615,null,null,null,79,"이영"]
[{"$f":"LEFT($B$26437,10)&TEXT($D$26437,\"0\")&TEXT($E$26437,\"0000\")&TEXT($F$26437,\"0000\")","v":"4480025326102640008"},4480025326,null,1,264,8,"264-8","답",7,null,null,null,"홍성군","국"]
[{"$f":"LEFT($B$26620,10)&TEXT($D$26620,\"0\")&TEXT($E$26620,\"0000\")&TEXT($F$26620,\"0000\")","v":"4480025326103830001"},4480025326,null,1,383,1,"383-1","대",406,null,null,null,"충청남도홍성군광천읍홍남로652번길5","박정규"]
[{"$f":"LEFT($B$26725,10)&TEXT($D$26725,\"0\")&TEXT($E$26725,\"0000\")&TEXT($F$26725,\"0000\")","v":"4480025327100040001"},4480025327,null,1,4,1,"4-1","전",694,null,null,null,"서울중구장충동1가38-6","백애경"]
[{"$f":"LEFT($B$26849,10)&TEXT($D$26849,\"0\")&TEXT($E$26849,\"0000\")&TEXT($F$26849,\"0000\")","v":"4480025327101270003"},4480025327,null,1,127,3,"127-3","전",737,null,null,null,"충청남도홍성군광천읍월림1길20-14","김건태"]
[{"$f":"LEFT($B$26950,10)&TEXT($D$26950,\"0\")&TEXT($E$26950,\"0000\")&TEXT($F$26950,\"0000\")","v":"4480025327102140004"},4480025327,null,1,214,4,"214-4","전",833,null,null,null,"갈산면기산리479-1","최진석"]
[{"$f":"LEFT($B$27055,10)&TEXT($D$27055,\"0\")&TEXT($E$27055,\"0000\")&TEXT($F$27055,\"0000\")","v":"4480025327103260001"},4480025327,null,1,326,1,"326-1","답",1253,null,null,null,"충청남도홍성군홍성읍남장리115주공그린빌110-1506","김천호"]
[{"$f":"LEFT($B$27243,10)&TEXT($D$27243,\"0\")&TEXT($E$27243,\"0000\")&TEXT($F$27243,\"0000\")","v":"4480025327105350001"},4480025327,null,1,535,1,"535-1","답",2322,null,null,null,"경성부당주동","이효직"]
[{"$f":"LEFT($B$27280,10)&TEXT($D$27280,\"0\")&TEXT($E$27280,\"0000\")&TEXT($F$27280,\"0000\")","v":"4480025327105420001"},4480025327,null,1,542,1,"542-1","답",2751.6,null,null,null,"64-1","권영철"]
[{"$f":"LEFT($B$27385,10)&TEXT($D$27385,\"0\")&TEXT($E$27385,\"0000\")&TEXT($F$27385,\"0000\")","v":"4480025327200850006"},4480025327,null,2,85,6,"85-6","임",23603,null,null,null,"안산시본오동871신안아파트116동104호","최성필"]
[{"$f":"LEFT($B$27518,10)&TEXT($D$27518,\"0\")&TEXT($E$27518,\"0000\")&TEXT($F$27518,\"0000\")","v":"4480025328101540011"},4480025328,null,1,154,11,"154-11","도",298,null,null,null,"경기도부천시원미구길주로911701호(상동비잔티움상동웨스트타워)","차태훈"]
[{"$f":"LEFT($B$27610,10)&TEXT($D$27610,\"0\")&TEXT($E$27610,\"0000\")&TEXT($F$27610,\"0000\")","v":"4480025328102130001"},4480025328,null,1,213,1,"213-1","도",30,null,null,null,"국(건설부)","국"]
[{"$f":"LEFT($B$27826,10)&TEXT($D$27826,\"0\")&TEXT($E$27826,\"0000\")&TEXT($F$27826,\"0000\")","v":"4480025328103840006"},4480025328,null,1,384,6,"384-6","도",23,null,null,null,396,"성기수"]
[{"$f":"LEFT($B$27955,10)&TEXT($D$27955,\"0\")&TEXT($E$27955,\"0000\")&TEXT($F$27955,\"0000\")","v":"4480025328104660004"},4480025328,null,1,466,4,"466-4","전",1190,null,null,null,"대전대덕구석봉동203-4","서호모"]
[{"$f":"LEFT($B$28060,10)&TEXT($D$28060,\"0\")&TEXT($E$28060,\"0000\")&TEXT($F$28060,\"0000\")","v":"4480025328105520003"},4480025328,null,1,552,3,"552-3","전",886,null,null,null,"경기도파주시월롱면덕은리1253엘지디스플레이정다운마을102-1106","조대성"]
[{"$f":"LEFT($B$28101,10)&TEXT($D$28101,\"0\")&TEXT($E$28101,\"0000\")&TEXT($F$28101,\"0000\")","v":"4480025328105920024"},4480025328,null,1,592,24,"592-24","도",1,null,null,null,"홍성군","국"]
[{"$f":"LEFT($B$28285,10)&TEXT($D$28285,\"0\")&TEXT($E$28285,\"0000\")&TEXT($F$28285,\"0000\")","v":"4480025328108100000"},4480025328,null,1,810,0,810,"도",321,null,null,null,"국(농수산부)","국"]
[{"$f":"LEFT($B$28406,10)&TEXT($D$28406,\"0\")&TEXT($E$28406,\"0000\")&TEXT($F$28406,\"0000\")","v":"4480025328200340000"},4480025328,null,2,34,0,34,"임",1586,null,null,null,"경기도파주시월롱면덕은리1253엘지디스플레이정다운마을102-1106","조대성"]
[{"$f":"LEFT($B$28495,10)&TEXT($D$28495,\"0\")&TEXT($E$28495,\"0000\")&TEXT($F$28495,\"0000\")","v":"4480025328200980005"},4480025328,null,2,98,5,"98-5","임",2777,null,null,null,"경기도성남시분당구이매동141아름마을508-1701","진병수"]
[{"$f":"LEFT($B$28615,10)&TEXT($D$28615,\"0\")&TEXT($E$28615,\"0000\")&TEXT($F$28615,\"0000\")","v":"4480025329100460003"},4480025329,null,1,46,3,"46-3","답",1494,null,null,null,"서울특별시성북구종암동3-347","정해청"]
[{"$f":"LEFT($B$28736,10)&TEXT($D$28736,\"0\")&TEXT($E$28736,\"0000\")&TEXT($F$28736,\"0000\")","v":"4480025329101050000"},4480025329,null,1,105,0,105,"전",893,null,null,null,"인천광역시중구신도시북로68626동203호(운서동풍림아이원아파트)","전관옥"]
[{"$f":"LEFT($B$28889,10)&TEXT($D$28889,\"0\")&TEXT($E$28889,\"0000\")&TEXT($F$28889,\"0000\")","v":"4480025329102160004"},4480025329,null,1,216,4,"216-4","전",1027,null,null,null,"인천광역시부평구산곡동145-7경남아파트308-1601","유재달"]
[{"$f":"LEFT($B$28945,10)&TEXT($D$28945,\"0\")&TEXT($E$28945,\"0000\")&TEXT($F$28945,\"0000\")","v":"4480025329102640007"},4480025329,null,1,264,7,"264-7","전",234,null,null,null,"264-2","권석구"]
[{"$f":"LEFT($B$29078,10)&TEXT($D$29078,\"0\")&TEXT($E$29078,\"0000\")&TEXT($F$29078,\"0000\")","v":"4480025329103230003"},4480025329,null,1,323,3,"323-3","도",49,null,null,null,"대전광역시서구괴정로98번길87가동301호(괴정동)","이준길"]
[{"$f":"LEFT($B$29170,10)&TEXT($D$29170,\"0\")&TEXT($E$29170,\"0000\")&TEXT($F$29170,\"0000\")","v":"4480025329103780002"},4480025329,null,1,378,2,"378-2","도",72,null,null,null,"충청남도홍성군광천읍상정1길143-59","정광호"]
[{"$f":"LEFT($B$29291,10)&TEXT($D$29291,\"0\")&TEXT($E$29291,\"0000\")&TEXT($F$29291,\"0000\")","v":"4480025329104290005"},4480025329,null,1,429,5,"429-5","답",1318,null,null,null,"대전광역시중구평촌로111108동905호(태평동태평아파트)","최인희"]
[{"$f":"LEFT($B$29472,10)&TEXT($D$29472,\"0\")&TEXT($E$29472,\"0000\")&TEXT($F$29472,\"0000\")","v":"4480025329105720000"},4480025329,null,1,572,0,572,"전",1414,null,null,null,"충남홍성군광천읍광천리183","고호재"]
[{"$f":"LEFT($B$29620,10)&TEXT($D$29620,\"0\")&TEXT($E$29620,\"0000\")&TEXT($F$29620,\"0000\")","v":"4480025329107050006"},4480025329,null,1,705,6,"705-6","임",6530,null,null,null,689,"조인수"]
[{"$f":"LEFT($B$29741,10)&TEXT($D$29741,\"0\")&TEXT($E$29741,\"0000\")&TEXT($F$29741,\"0000\")","v":"4480025329107700002"},4480025329,null,1,770,2,"770-2","전",1788,null,null,null,"충청남도홍성군광천읍상정리749-3","조영복"]
[{"$f":"LEFT($B$29866,10)&TEXT($D$29866,\"0\")&TEXT($E$29866,\"0000\")&TEXT($F$29866,\"0000\")","v":"4480025330100210001"},4480025330,null,1,21,1,"21-1","전",1038,null,null,null,"경기도의왕시포일동487","한국농어촌공사"]
[{"$f":"LEFT($B$29950,10)&TEXT($D$29950,\"0\")&TEXT($E$29950,\"0000\")&TEXT($F$29950,\"0000\")","v":"4480025330100910005"},4480025330,null,1,91,5,"91-5","전",536,null,null,null,"국(기획재정부)","국"]
[{"$f":"LEFT($B$30071,10)&TEXT($D$30071,\"0\")&TEXT($E$30071,\"0000\")&TEXT($F$30071,\"0000\")","v":"4480025330101070004"},4480025330,null,1,107,4,"107-4","대",87,null,null,null,"108-5","강정우"]
[{"$f":"LEFT($B$30141,10)&TEXT($D$30141,\"0\")&TEXT($E$30141,\"0000\")&TEXT($F$30141,\"0000\")","v":"4480025330101470002"},4480025330,null,1,147,2,"147-2","답",192,null,null,null,"아산시모종동576-1한라동백아파트102-1804","민석기"]
[{"$f":"LEFT($B$30296,10)&TEXT($D$30296,\"0\")&TEXT($E$30296,\"0000\")&TEXT($F$30296,\"0000\")","v":"4480025330102370001"},4480025330,null,1,237,1,"237-1","답",635,null,null,null,"옹암리279","장두연"]
[{"$f":"LEFT($B$30449,10)&TEXT($D$30449,\"0\")&TEXT($E$30449,\"0000\")&TEXT($F$30449,\"0000\")","v":"4480025330103200002"},4480025330,null,1,320,2,"320-2","도",198,null,null,null,"경성부봉익동8","김병정"]
[{"$f":"LEFT($B$30505,10)&TEXT($D$30505,\"0\")&TEXT($E$30505,\"0000\")&TEXT($F$30505,\"0000\")","v":"4480025330103400003"},4480025330,null,1,340,3,"340-3","잡",1680,null,null,null,"342-2","김혜영"]
[{"$f":"LEFT($B$30626,10)&TEXT($D$30626,\"0\")&TEXT($E$30626,\"0000\")&TEXT($F$30626,\"0000\")","v":"4480025330104290001"},4480025330,null,1,429,1,"429-1","대",83,null,null,null,"충청남도홍성군광천읍광천리232-5","허니"]
[{"$f":"LEFT($B$30724,10)&TEXT($D$30724,\"0\")&TEXT($E$30724,\"0000\")&TEXT($F$30724,\"0000\")","v":"4480025330104950001"},4480025330,null,1,495,1,"495-1","전",2608,null,null,null,"서울광진구구의동611현대아파트207-1702","현석두"]
[{"$f":"LEFT($B$30851,10)&TEXT($D$30851,\"0\")&TEXT($E$30851,\"0000\")&TEXT($F$30851,\"0000\")","v":"4480025330105450005"},4480025330,null,1,545,5,"545-5","전",992,null,null,null,null,"조봉득"]
[{"$f":"LEFT($B$30956,10)&TEXT($D$30956,\"0\")&TEXT($E$30956,\"0000\")&TEXT($F$30956,\"0000\")","v":"4480025330106010000"},4480025330,null,1,601,0,601,"전",2256,null,null,null,"596-1","주정태"]
[{"$f":"LEFT($B$31118,10)&TEXT($D$31118,\"0\")&TEXT($E$31118,\"0000\")&TEXT($F$31118,\"0000\")","v":"4480025331100270003"},4480025331,null,1,27,3,"27-3","전",36,null,null,null,"홍동면홍원리1070-10","이혜숙"]
[{"$f":"LEFT($B$31301,10)&TEXT($D$31301,\"0\")&TEXT($E$31301,\"0000\")&TEXT($F$31301,\"0000\")","v":"4480025331102390002"},4480025331,null,1,239,2,"239-2","대",159,null,null,null,"경기도군포시금정동주공아파트112-501","김호균"]
[{"$f":"LEFT($B$31406,10)&TEXT($D$31406,\"0\")&TEXT($E$31406,\"0000\")&TEXT($F$31406,\"0000\")","v":"4480025331103400002"},4480025331,null,1,340,2,"340-2","대",172,null,null,null,335,"김태호"]
[{"$f":"LEFT($B$31512,10)&TEXT($D$31512,\"0\")&TEXT($E$31512,\"0000\")&TEXT($F$31512,\"0000\")","v":"4480025331104150000"},4480025331,null,1,415,0,415,"전",512,null,null,null,"광천읍내죽리","김봉이"]
[{"$f":"LEFT($B$31631,10)&TEXT($D$31631,\"0\")&TEXT($E$31631,\"0000\")&TEXT($F$31631,\"0000\")","v":"4480025331105670004"},4480025331,null,1,567,4,"567-4","임",184,null,null,null,"운용리181","이규연"]
[{"$f":"LEFT($B$31701,10)&TEXT($D$31701,\"0\")&TEXT($E$31701,\"0000\")&TEXT($F$31701,\"0000\")","v":"4480025331105890000"},4480025331,null,1,589,0,589,"임",485,null,null,null,"충청남도홍성군광천읍광천리64-1","강선호"]
[{"$f":"LEFT($B$31856,10)&TEXT($D$31856,\"0\")&TEXT($E$31856,\"0000\")&TEXT($F$31856,\"0000\")","v":"4480025331106580001"},4480025331,null,1,658,1,"658-1","도",157,null,null,null,"충청남도","국"]
[{"$f":"LEFT($B$31961,10)&TEXT($D$31961,\"0\")&TEXT($E$31961,\"0000\")&TEXT($F$31961,\"0000\")","v":"4480025331200890000"},4480025331,null,2,89,0,89,"임",1388,null,null,null,"경기도광주시초월읍경충대로1067203동405호(초월롯데낙천대아파트)","구영민"]
[{"$f":"LEFT($B$32095,10)&TEXT($D$32095,\"0\")&TEXT($E$32095,\"0000\")&TEXT($F$32095,\"0000\")","v":"4480025332101020003"},4480025332,null,1,102,3,"102-3","전",1412,null,null,null,"성남시분당구정자동110한솔마을106-1504","정도균"]
[{"$f":"LEFT($B$32186,10)&TEXT($D$32186,\"0\")&TEXT($E$32186,\"0000\")&TEXT($F$32186,\"0000\")","v":"4480025332101890016"},4480025332,null,1,189,16,"189-16","전",325,null,null,null,155,"이용직"]
[{"$f":"LEFT($B$32291,10)&TEXT($D$32291,\"0\")&TEXT($E$32291,\"0000\")&TEXT($F$32291,\"0000\")","v":"4480025332103370003"},4480025332,null,1,337,3,"337-3","도",17,null,null,null,"충청남도","국"]
[{"$f":"LEFT($B$32507,10)&TEXT($D$32507,\"0\")&TEXT($E$32507,\"0000\")&TEXT($F$32507,\"0000\")","v":"4480025332105400001"},4480025332,null,1,540,1,"540-1","전",1730,null,null,null,"대전대덕구덕암동62-2262-18.22금성백조아파트비-504","주정미"]
[{"$f":"LEFT($B$32516,10)&TEXT($D$32516,\"0\")&TEXT($E$32516,\"0000\")&TEXT($F$32516,\"0000\")","v":"4480025332105440004"},4480025332,null,1,544,4,"544-4","도",31,null,null,null,"홍성군","국"]
[{"$f":"LEFT($B$32741,10)&TEXT($D$32741,\"0\")&TEXT($E$32741,\"0000\")&TEXT($F$32741,\"0000\")","v":"4480025332106690008"},4480025332,null,1,669,8,"669-8","구",2030,null,null,null,"국(농림축산식품부)","국"]
[{"$f":"LEFT($B$32782,10)&TEXT($D$32782,\"0\")&TEXT($E$32782,\"0000\")&TEXT($F$32782,\"0000\")","v":"4480025332107260000"},4480025332,null,1,726,0,726,"답",2635,null,null,null,"충청남도홍성군광천읍홍남동로121-48","장용순"]
[{"$f":"LEFT($B$32966,10)&TEXT($D$32966,\"0\")&TEXT($E$32966,\"0000\")&TEXT($F$32966,\"0000\")","v":"4480025333101130002"},4480025333,null,1,113,2,"113-2","답",1223,null,null,null,134,"우종두"]
[{"$f":"LEFT($B$33071,10)&TEXT($D$33071,\"0\")&TEXT($E$33071,\"0000\")&TEXT($F$33071,\"0000\")","v":"4480025333101950002"},4480025333,null,1,195,2,"195-2","도",60,null,null,null,"홍성군","국"]
[{"$f":"LEFT($B$33176,10)&TEXT($D$33176,\"0\")&TEXT($E$33176,\"0000\")&TEXT($F$33176,\"0000\")","v":"4480025333102800006"},4480025333,null,1,280,6,"280-6","도",2,null,null,null,"경기도수원시권선구고색로66번길14-15202호(고색동)","양병초"]
[{"$f":"LEFT($B$33296,10)&TEXT($D$33296,\"0\")&TEXT($E$33296,\"0000\")&TEXT($F$33296,\"0000\")","v":"4480025333103910002"},4480025333,null,1,391,2,"391-2","대",1051,null,null,null,"서울특별시서대문구모래내로4601101호(홍제동홍제그린아파트)","이하영"]
[{"$f":"LEFT($B$33365,10)&TEXT($D$33365,\"0\")&TEXT($E$33365,\"0000\")&TEXT($F$33365,\"0000\")","v":"4480025333104810001"},4480025333,null,1,481,1,"481-1","전",5705,null,null,null,134,"이범수"]
[{"$f":"LEFT($B$33521,10)&TEXT($D$33521,\"0\")&TEXT($E$33521,\"0000\")&TEXT($F$33521,\"0000\")","v":"4480025333106020003"},4480025333,null,1,602,3,"602-3","전",215,null,null,null,"홍성군","국"]
[{"$f":"LEFT($B$33626,10)&TEXT($D$33626,\"0\")&TEXT($E$33626,\"0000\")&TEXT($F$33626,\"0000\")","v":"4480025333106920000"},4480025333,null,1,692,0,692,"구",115,null,null,null,"국(건설부)","국"]
[{"$f":"LEFT($B33759,10)&TEXT($D33759,\"0\")&TEXT($E33759,\"0000\")&TEXT($F33759,\"0000\")","v":"4480025333107510002"},4480025333,null,1,751,2,"751-2","임",113,null,null,null,"서울시송파구풍납동225-7","이병의"]
[{"$f":"LEFT($B33851,10)&TEXT($D33851,\"0\")&TEXT($E33851,\"0000\")&TEXT($F33851,\"0000\")","v":"4480025333107770002"},4480025333,null,1,777,2,"777-2","전",7608,null,null,null,"서울특별시마포구월드컵북로47길37102동1802호(상암동상암카이저팰리스클래식)","황선관"]
[{"$f":"LEFT($B33956,10)&TEXT($D33956,\"0\")&TEXT($E33956,\"0000\")&TEXT($F33956,\"0000\")","v":"4480025333108100007"},4480025333,null,1,810,7,"810-7","답",963.1,null,null,null,"경기도수원시장안구장안로232102동905호(정자동동신아파트)","최선순"]
[{"$f":"LEFT($B34153,10)&TEXT($D34153,\"0\")&TEXT($E34153,\"0000\")&TEXT($F34153,\"0000\")","v":"4480025621100030008"},4480025621,null,1,3,8,"3-8","임",2904,null,null,null,"상하리179","한운선"]
[{"$f":"LEFT($B34301,10)&TEXT($D34301,\"0\")&TEXT($E34301,\"0000\")&TEXT($F34301,\"0000\")","v":"4480025621100900007"},4480025621,null,1,90,7,"90-7","임",739,null,null,null,"대동리123-1","이석두"]
[{"$f":"LEFT($B34422,10)&TEXT($D34422,\"0\")&TEXT($E34422,\"0000\")&TEXT($F34422,\"0000\")","v":"4480025621101360003"},4480025621,null,1,136,3,"136-3","천",107,null,null,null,"인천광역시계양구마장로543번길1237동201호(효성동굿모닝빌)","권영희"]
[{"$f":"LEFT($B34428,10)&TEXT($D34428,\"0\")&TEXT($E34428,\"0000\")&TEXT($F34428,\"0000\")","v":"4480025621101370000"},4480025621,null,1,137,0,137,"대",116,null,null,null,"충청남도홍성군홍성읍내포로146번길18-31동402호(종로빌라)","박상준"]
[{"$f":"LEFT($B34631,10)&TEXT($D34631,\"0\")&TEXT($E34631,\"0000\")&TEXT($F34631,\"0000\")","v":"4480025621102840005"},4480025621,null,1,284,5,"284-5","대",563,null,null,null,"충청남도홍성군홍북면중계리284-5","방정일"]
[{"$f":"LEFT($B34736,10)&TEXT($D34736,\"0\")&TEXT($E34736,\"0000\")&TEXT($F34736,\"0000\")","v":"4480025621103940000"},4480025621,null,1,394,0,394,"답",2313,null,null,null,"충청남도홍성군홍성읍홍성천길154-22203호(유지빌라)","김정오"]
[{"$f":"LEFT($B34856,10)&TEXT($D34856,\"0\")&TEXT($E34856,\"0000\")&TEXT($F34856,\"0000\")","v":"4480025621104780002"},4480025621,null,1,478,2,"478-2","임",16029,null,null,null,"홍성군","국"]
[{"$f":"LEFT($B34977,10)&TEXT($D34977,\"0\")&TEXT($E34977,\"0000\")&TEXT($F34977,\"0000\")","v":"4480025621105340001"},4480025621,null,1,534,1,"534-1","전",840,null,null,null,"홍성읍오관리542-6","가송호"]
[{"$f":"LEFT($B35130,10)&TEXT($D35130,\"0\")&TEXT($E35130,\"0000\")&TEXT($F35130,\"0000\")","v":"4480025621105990022"},4480025621,null,1,599,22,"599-22","임",149,null,null,null,"수원시권선구구운동462삼환아파트1-508","박덕선"]
[{"$f":"LEFT($B35186,10)&TEXT($D35186,\"0\")&TEXT($E35186,\"0000\")&TEXT($F35186,\"0000\")","v":"4480025621106220012"},4480025621,null,1,622,12,"622-12","천",252,null,null,null,"국(건설교통부)","국"]
[{"$f":"LEFT($B35307,10)&TEXT($D35307,\"0\")&TEXT($E35307,\"0000\")&TEXT($F35307,\"0000\")","v":"4480025621106730003"},4480025621,null,1,673,3,"673-3","답",1931.5,null,null,null,"89-4","장기만"]
[{"$f":"LEFT($B35405,10)&TEXT($D35405,\"0\")&TEXT($E35405,\"0000\")&TEXT($F35405,\"0000\")","v":"4480025621106900010"},4480025621,null,1,690,10,"690-10","답",781.7,null,null,null,"홍성읍오관리417-1","장현순"]
[{"$f":"LEFT($B35516,10)&TEXT($D35516,\"0\")&TEXT($E35516,\"0000\")&TEXT($F35516,\"0000\")","v":"4480025621200010001"},4480025621,null,2,1,1,"1-1","임",459685,null,null,null,"서울특별시강남구남부순환로378길111201호(도곡동로덴하우스웨스트빌리지)","곽수일"]
[{"$f":"LEFT($B35637,10)&TEXT($D35637,\"0\")&TEXT($E35637,\"0000\")&TEXT($F35637,\"0000\")","v":"4480025621201330001"},4480025621,null,2,133,1,"133-1","임",3768,null,null,null,"충청남도홍성군홍북면홍천문화1길28","이순용"]
[{"$f":"LEFT($B35799,10)&TEXT($D35799,\"0\")&TEXT($E35799,\"0000\")&TEXT($F35799,\"0000\")","v":"4480025622100290002"},4480025622,null,1,29,2,"29-2","답",4056,null,null,null,"홍성읍오관리361-23","이의웅"]
[{"$f":"LEFT($B35862,10)&TEXT($D35862,\"0\")&TEXT($E35862,\"0000\")&TEXT($F35862,\"0000\")","v":"4480025622100360009"},4480025622,null,1,36,9,"36-9","대",575,null,null,null,"경기도안양시만안구박달로4202동604호(박달동신안아파트)","양영권"]
[{"$f":"LEFT($B35988,10)&TEXT($D35988,\"0\")&TEXT($E35988,\"0000\")&TEXT($F35988,\"0000\")","v":"4480025622100720010"},4480025622,null,1,72,10,"72-10","도",265,null,null,null,"국(농림축산식품부)","국"]
[{"$f":"LEFT($B36191,10)&TEXT($D36191,\"0\")&TEXT($E36191,\"0000\")&TEXT($F36191,\"0000\")","v":"4480025622101130003"},4480025622,null,1,113,3,"113-3","대",945,null,null,null,"충청남도홍성군홍북면용봉산3길60-18","조계연"]
[{"$f":"LEFT($B36312,10)&TEXT($D36312,\"0\")&TEXT($E36312,\"0000\")&TEXT($F36312,\"0000\")","v":"4480025622101620003"},4480025622,null,1,162,3,"162-3","답",2156,null,null,null,"국(기획재정부)","국"]
[{"$f":"LEFT($B36382,10)&TEXT($D36382,\"0\")&TEXT($E36382,\"0000\")&TEXT($F36382,\"0000\")","v":"4480025622101880003"},4480025622,null,1,188,3,"188-3","대",337,null,null,null,"세종특별자치시마음로1811010동1802호(고운동가락마을아파트)","신선영"]
[{"$f":"LEFT($B36537,10)&TEXT($D36537,\"0\")&TEXT($E36537,\"0000\")&TEXT($F36537,\"0000\")","v":"4480025622103470002"},4480025622,null,1,347,2,"347-2","전",49,null,null,null,"충청남도홍성군홍북읍도청대로93번길239-14","박수완"]
[{"$f":"LEFT($B36642,10)&TEXT($D36642,\"0\")&TEXT($E36642,\"0000\")&TEXT($F36642,\"0000\")","v":"4480025622103860006"},4480025622,null,1,386,6,"386-6","창",4945,null,null,null,"충청남도홍성군홍북면이응노로213","순정"]
[{"$f":"LEFT($B36776,10)&TEXT($D36776,\"0\")&TEXT($E36776,\"0000\")&TEXT($F36776,\"0000\")","v":"4480025622104540016"},4480025622,null,1,454,16,"454-16","천",11,null,null,null,"국(건설교통부)","국"]
[{"$f":"LEFT($B36867,10)&TEXT($D36867,\"0\")&TEXT($E36867,\"0000\")&TEXT($F36867,\"0000\")","v":"4480025622104920001"},4480025622,null,1,492,1,"492-1","전",50,null,null,null,"홍성군","국"]
[{"$f":"LEFT($B36972,10)&TEXT($D36972,\"0\")&TEXT($E36972,\"0000\")&TEXT($F36972,\"0000\")","v":"4480025622105500000"},4480025622,null,1,550,0,550,"답",5244,null,null,null,"충청남도홍성군홍북면도청대로93번길299-78","김종금"]
[{"$f":"LEFT($B37170,10)&TEXT($D37170,\"0\")&TEXT($E37170,\"0000\")&TEXT($F37170,\"0000\")","v":"4480025623100090050"},4480025623,null,1,9,50,"9-50","전",536,null,null,null,"산25-1","백수기"]
[{"$f":"LEFT($B37197,10)&TEXT($D37197,\"0\")&TEXT($E37197,\"0000\")&TEXT($F37197,\"0000\")","v":"4480025623100100028"},4480025623,null,1,10,28,"10-28","도",500,null,null,null,"강원도영월군영월읍은행나무7길10","유순자"]
[{"$f":"LEFT($B37359,10)&TEXT($D37359,\"0\")&TEXT($E37359,\"0000\")&TEXT($F37359,\"0000\")","v":"4480025623100460023"},4480025623,null,1,46,23,"46-23","전",466,null,null,null,"서울특별시영등포구영신로191101동404호(당산동3가동부센트레빌)","이분숙"]
[{"$f":"LEFT($B37422,10)&TEXT($D37422,\"0\")&TEXT($E37422,\"0000\")&TEXT($F37422,\"0000\")","v":"4480025623100640027"},4480025623,null,1,64,27,"64-27","전",2010,null,null,null,"55-3","조태원"]
[{"$f":"LEFT($B37647,10)&TEXT($D37647,\"0\")&TEXT($E37647,\"0000\")&TEXT($F37647,\"0000\")","v":"4480025623101620003"},4480025623,null,1,162,3,"162-3","도",38,null,null,null,"홍성군","국"]
[{"$f":"LEFT($B37753,10)&TEXT($D37753,\"0\")&TEXT($E37753,\"0000\")&TEXT($F37753,\"0000\")","v":"4480025623101970040"},4480025623,null,1,197,40,"197-40","답",19,null,null,null,"국(건설교통부)","국"]
[{"$f":"LEFT($B37872,10)&TEXT($D37872,\"0\")&TEXT($E37872,\"0000\")&TEXT($F37872,\"0000\")","v":"4480025623102270001"},4480025623,null,1,227,1,"227-1","답",33,null,null,null,"봉신리282","이성래"]
[{"$f":"LEFT($B37977,10)&TEXT($D37977,\"0\")&TEXT($E37977,\"0000\")&TEXT($F37977,\"0000\")","v":"4480025623102560004"},4480025623,null,1,256,4,"256-4","과",1646,null,null,null,"충청남도홍성군홍북면봉신리256-3","전원근"]
[{"$f":"LEFT($B38028,10)&TEXT($D38028,\"0\")&TEXT($E38028,\"0000\")&TEXT($F38028,\"0000\")","v":"4480025623102640009"},4480025623,null,1,264,9,"264-9","도",17,null,null,null,"266-7","이한목"]
[{"$f":"LEFT($B38202,10)&TEXT($D38202,\"0\")&TEXT($E38202,\"0000\")&TEXT($F38202,\"0000\")","v":"4480025623103200001"},4480025623,null,1,320,1,"320-1","구",307,null,null,null,"경기도의왕시포일동487","한국농어촌공사"]
[{"$f":"LEFT($B38307,10)&TEXT($D38307,\"0\")&TEXT($E38307,\"0000\")&TEXT($F38307,\"0000\")","v":"4480025623103760016"},4480025623,null,1,376,16,"376-16","임",19205,null,null,null,"충청남도홍성군홍북면봉신리376-3","옥천전씨판서공파흥창조후손홍성종회"]
[{"$f":"LEFT($B38440,10)&TEXT($D38440,\"0\")&TEXT($E38440,\"0000\")&TEXT($F38440,\"0000\")","v":"4480025623104310002"},4480025623,null,1,431,2,"431-2","구",1848,null,null,null,"국(건설교통부)","국"]
[{"$f":"LEFT($B38532,10)&TEXT($D38532,\"0\")&TEXT($E38532,\"0000\")&TEXT($F38532,\"0000\")","v":"4480025623200540003"},4480025623,null,2,54,3,"54-3","임",1778,null,null,null,387,"임재식"]
[{"$f":"LEFT($B38637,10)&TEXT($D38637,\"0\")&TEXT($E38637,\"0000\")&TEXT($F38637,\"0000\")","v":"4480025624100110001"},4480025624,null,1,11,1,"11-1","답",2930,null,null,null,"울산남구무거동1543무거한라3차아파트1005","최경욱"]
[{"$f":"LEFT($B38834,10)&TEXT($D38834,\"0\")&TEXT($E38834,\"0000\")&TEXT($F38834,\"0000\")","v":"4480025624100850009"},4480025624,null,1,85,9,"85-9","답",3828,null,null,null,"충청남도당진시우강면평야2로54-6","손인석"]
[{"$f":"LEFT($B38862,10)&TEXT($D38862,\"0\")&TEXT($E38862,\"0000\")&TEXT($F38862,\"0000\")","v":"4480025624100970001"},4480025624,null,1,97,1,"97-1","제",392,null,null,null,"국(국세청)","국"]
[{"$f":"LEFT($B39023,10)&TEXT($D39023,\"0\")&TEXT($E39023,\"0000\")&TEXT($F39023,\"0000\")","v":"4480025624101910000"},4480025624,null,1,191,0,191,"전",314,null,null,null,"경기도안양시동안구포도원로17번길3-1(호계동)","오병근"]
[{"$f":"LEFT($B39207,10)&TEXT($D39207,\"0\")&TEXT($E39207,\"0000\")&TEXT($F39207,\"0000\")","v":"4480025624102830003"},4480025624,null,1,283,3,"283-3","답",980,null,null,null,"홍성읍옥암리688-2","이군호"]
[{"$f":"LEFT($B39312,10)&TEXT($D39312,\"0\")&TEXT($E39312,\"0000\")&TEXT($F39312,\"0000\")","v":"4480025624103210054"},4480025624,null,1,321,54,"321-54","임",992,null,null,null,"충청남도보령시상설시장길7(대천동)","손옥자"]
[{"$f":"LEFT($B39417,10)&TEXT($D39417,\"0\")&TEXT($E39417,\"0000\")&TEXT($F39417,\"0000\")","v":"4480025624103270090"},4480025624,null,1,327,90,"327-90","목",662,null,null,null,"서울시구로구개봉동327-35","박전규"]
[{"$f":"LEFT($B39537,10)&TEXT($D39537,\"0\")&TEXT($E39537,\"0000\")&TEXT($F39537,\"0000\")","v":"4480025624103330020"},4480025624,null,1,333,20,"333-20","임",1028,null,null,null,"인천부평구부평동70-5동아아파트26-805","권희범"]
[{"$f":"LEFT($B39642,10)&TEXT($D39642,\"0\")&TEXT($E39642,\"0000\")&TEXT($F39642,\"0000\")","v":"4480025624103940000"},4480025624,null,1,394,0,394,"대",344,null,null,null,"경기도남양주시별내3로633707동703호(별내동쌍용예가아파트)","이재남"]
[{"$f":"LEFT($B39692,10)&TEXT($D39692,\"0\")&TEXT($E39692,\"0000\")&TEXT($F39692,\"0000\")","v":"4480025624104200022"},4480025624,null,1,420,22,"420-22","전",57,null,null,null,"홍성군홍북면내덕리420-12","김진성"]
[{"$f":"LEFT($B39867,10)&TEXT($D39867,\"0\")&TEXT($E39867,\"0000\")&TEXT($F39867,\"0000\")","v":"4480025624105240003"},4480025624,null,1,524,3,"524-3","묘",572,null,null,null,521,"방연수"]
[{"$f":"LEFT($B39988,10)&TEXT($D39988,\"0\")&TEXT($E39988,\"0000\")&TEXT($F39988,\"0000\")","v":"4480025624106020005"},4480025624,null,1,602,5,"602-5","답",3916,null,null,null,"홍성읍내법리349","박덕규"]
[{"$f":"LEFT($B40086,10)&TEXT($D40086,\"0\")&TEXT($E40086,\"0000\")&TEXT($F40086,\"0000\")","v":"4480025624106500001"},4480025624,null,1,650,1,"650-1","전",1451,null,null,null,"당진군우강면성원리4","이숙재"]
[{"$f":"LEFT($B40197,10)&TEXT($D40197,\"0\")&TEXT($E40197,\"0000\")&TEXT($F40197,\"0000\")","v":"4480025624106900008"},4480025624,null,1,690,8,"690-8","전",620,null,null,null,"국(국토교통부)","국"]
[{"$f":"LEFT($B40394,10)&TEXT($D40394,\"0\")&TEXT($E40394,\"0000\")&TEXT($F40394,\"0000\")","v":"4480025624107180002"},4480025624,null,1,718,2,"718-2","임",330,null,null,null,"서울시서대문구홍은동402-33","양정복"]
[{"$f":"LEFT($B40422,10)&TEXT($D40422,\"0\")&TEXT($E40422,\"0000\")&TEXT($F40422,\"0000\")","v":"4480025624107230015"},4480025624,null,1,723,15,"723-15","임",661,null,null,null,"안성시공도읍진사리36-1주은청설아파트108-1805","김민수"]
[{"$f":"LEFT($B40527,10)&TEXT($D40527,\"0\")&TEXT($E40527,\"0000\")&TEXT($F40527,\"0000\")","v":"4480025624107620041"},4480025624,null,1,762,41,"762-41","도",71,null,null,null,"국(농림수산부)","국"]
[{"$f":"LEFT($B40669,10)&TEXT($D40669,\"0\")&TEXT($E40669,\"0000\")&TEXT($F40669,\"0000\")","v":"4480025624200010085"},4480025624,null,2,1,85,"1-85","구",372,null,null,null,"경기도의왕시포일동487","한국농어촌공사"]
[{"$f":"LEFT($B40872,10)&TEXT($D40872,\"0\")&TEXT($E40872,\"0000\")&TEXT($F40872,\"0000\")","v":"4480025625101870002"},4480025625,null,1,187,2,"187-2","전",150,null,null,null,"경기도성남시분당구돌마로172(정자동)","한국토지주택공사"]
[{"$f":"LEFT($B40993,10)&TEXT($D40993,\"0\")&TEXT($E40993,\"0000\")&TEXT($F40993,\"0000\")","v":"4480025625105100057"},4480025625,null,1,510,57,"510-57","임",302,null,null,null,"충청남도홍성군홍성읍문화로109","충청남도개발공사"]
[{"$f":"LEFT($B41063,10)&TEXT($D41063,\"0\")&TEXT($E41063,\"0000\")&TEXT($F41063,\"0000\")","v":"4480025625105660000"},4480025625,null,1,566,0,566,"대",1529.6,null,null,null,"충청남도예산군덕산면덕산온천로21-11101동702호(아람파크빌)","백설희"]
[{"$f":"LEFT($B41202,10)&TEXT($D41202,\"0\")&TEXT($E41202,\"0000\")&TEXT($F41202,\"0000\")","v":"4480025625107800000"},4480025625,null,1,780,0,780,"대",269.7,null,null,null,"대전광역시서구만년남로8107동202호(만년동상록수아파트)","김영선"]
[{"$f":"LEFT($B41323,10)&TEXT($D41323,\"0\")&TEXT($E41323,\"0000\")&TEXT($F41323,\"0000\")","v":"4480025625109700000"},4480025625,null,1,970,0,970,"대",255,null,null,null,"경상남도창원시마산회원구회원동로76(회원동)","김해경"]
[{"$f":"LEFT($B41457,10)&TEXT($D41457,\"0\")&TEXT($E41457,\"0000\")&TEXT($F41457,\"0000\")","v":"4480025625111660000"},4480025625,null,1,1166,0,1166,"잡",1738.3,null,null,null,"경상남도진주시충의로19(충무공동)","한국토지주택공사"]
[{"$f":"LEFT($B41548,10)&TEXT($D41548,\"0\")&TEXT($E41548,\"0000\")&TEXT($F41548,\"0000\")","v":"4480025625112900000"},4480025625,null,1,1290,0,1290,"대",248,null,null,null,"경상남도진주시충의로19(충무공동)","한국토지주택공사"]
[{"$f":"LEFT($B41646,10)&TEXT($D41646,\"0\")&TEXT($E41646,\"0000\")&TEXT($F41646,\"0000\")","v":"4480025625114370000"},4480025625,null,1,1437,0,1437,"대",236,null,null,null,"부산광역시북구화명신도시로39704동906호(화명동대림쌍용강변타운)","전관규"]
[{"$f":"LEFT($B41757,10)&TEXT($D41757,\"0\")&TEXT($E41757,\"0000\")&TEXT($F41757,\"0000\")","v":"4480025625117530000"},4480025625,null,1,1753,0,1753,"도",150.6,null,null,null,"홍성군","국"]
[{"$f":"LEFT($B41878,10)&TEXT($D41878,\"0\")&TEXT($E41878,\"0000\")&TEXT($F41878,\"0000\")","v":"4480025625119770000"},4480025625,null,1,1977,0,1977,"도",4935.8,null,null,null,"홍성군","국"]
[{"$f":"LEFT($B42040,10)&TEXT($D42040,\"0\")&TEXT($E42040,\"0000\")&TEXT($F42040,\"0000\")","v":"4480025626100280041"},4480025626,null,1,28,41,"28-41","전",912,null,null,null,"용인시상현동851상현마을현대성우아파트299-901","장길영"]
[{"$f":"LEFT($B42087,10)&TEXT($D42087,\"0\")&TEXT($E42087,\"0000\")&TEXT($F42087,\"0000\")","v":"4480025626100380009"},4480025626,null,1,38,9,"38-9","임",872,null,null,null,"대전광역시중구과례로66이동406호(문화동홍익빌라)","이정희"]
[{"$f":"LEFT($B42208,10)&TEXT($D42208,\"0\")&TEXT($E42208,\"0000\")&TEXT($F42208,\"0000\")","v":"4480025626100680045"},4480025626,null,1,68,45,"68-45","대",364,null,null,null,"충청남도홍성군홍북면신대로33109동1305호(극동스타클래스센트럴)","함을진"]
[{"$f":"LEFT($B42434,10)&TEXT($D42434,\"0\")&TEXT($E42434,\"0000\")&TEXT($F42434,\"0000\")","v":"4480025626101820001"},4480025626,null,1,182,1,"182-1","구",241,null,null,null,"경기도의왕시포일동487","한국농어촌공사"]
[{"$f":"LEFT($B42553,10)&TEXT($D42553,\"0\")&TEXT($E42553,\"0000\")&TEXT($F42553,\"0000\")","v":"4480025626102120005"},4480025626,null,1,212,5,"212-5","구",638,null,null,null,"경기도의왕시포일동487","한국농어촌공사"]
[{"$f":"LEFT($B42658,10)&TEXT($D42658,\"0\")&TEXT($E42658,\"0000\")&TEXT($F42658,\"0000\")","v":"4480025626102830000"},4480025626,null,1,283,0,283,"묘",1914,null,null,null,"대지리","고연식"]
[{"$f":"LEFT($B42709,10)&TEXT($D42709,\"0\")&TEXT($E42709,\"0000\")&TEXT($F42709,\"0000\")","v":"4480025626103100001"},4480025626,null,1,310,1,"310-1","전",258,null,null,null,"충청남도예산군덕산면둔리503-6","문현철"]
[{"$f":"LEFT($B42883,10)&TEXT($D42883,\"0\")&TEXT($E42883,\"0000\")&TEXT($F42883,\"0000\")","v":"4480025626104860007"},4480025626,null,1,486,7,"486-7","답",2739.8,null,null,null,"충청남도예산군예산읍역전로160번길16304동1105호(예산한신아파트)","김경균"]
[{"$f":"LEFT($B42988,10)&TEXT($D42988,\"0\")&TEXT($E42988,\"0000\")&TEXT($F42988,\"0000\")","v":"4480025626200840008"},4480025626,null,2,84,8,"84-8","임",3893,null,null,null,84,"임장순"]
[{"$f":"LEFT($B43121,10)&TEXT($D43121,\"0\")&TEXT($E43121,\"0000\")&TEXT($F43121,\"0000\")","v":"4480025627100510006"},4480025627,null,1,51,6,"51-6","천",43,null,null,null,"국(건설부)","국"]
[{"$f":"LEFT($B43213,10)&TEXT($D43213,\"0\")&TEXT($E43213,\"0000\")&TEXT($F43213,\"0000\")","v":"4480025627100940000"},4480025627,null,1,94,0,94,"전",466,null,null,null,"경기도안산시상록구예술광장1로1313동1406호(성포동선경아파트)","최한묵"]
[{"$f":"LEFT($B43292,10)&TEXT($D43292,\"0\")&TEXT($E43292,\"0000\")&TEXT($F43292,\"0000\")","v":"4480025627101450004"},4480025627,null,1,145,4,"145-4","답",845,null,null,null,"국(건설부)","국"]
[{"$f":"LEFT($B43438,10)&TEXT($D43438,\"0\")&TEXT($E43438,\"0000\")&TEXT($F43438,\"0000\")","v":"4480025627102560002"},4480025627,null,1,256,2,"256-2","답",2959,null,null,null,"천안시원성동443-3초원주택에이-401","장인자"]
[{"$f":"LEFT($B43543,10)&TEXT($D43543,\"0\")&TEXT($E43543,\"0000\")&TEXT($F43543,\"0000\")","v":"4480025627103210007"},4480025627,null,1,321,7,"321-7","천",146,null,null,null,"국(건설부)","국"]
[{"$f":"LEFT($B43686,10)&TEXT($D43686,\"0\")&TEXT($E43686,\"0000\")&TEXT($F43686,\"0000\")","v":"4480025627104140001"},4480025627,null,1,414,1,"414-1","대",325,null,null,null,"414-1","박성복"]
[{"$f":"LEFT($B43768,10)&TEXT($D43768,\"0\")&TEXT($E43768,\"0000\")&TEXT($F43768,\"0000\")","v":"4480025627104550005"},4480025627,null,1,455,5,"455-5","임",409,null,null,null,"홍성읍오관리716","이성자"]
[{"$f":"LEFT($B43993,10)&TEXT($D43993,\"0\")&TEXT($E43993,\"0000\")&TEXT($F43993,\"0000\")","v":"4480025627106060012"},4480025627,null,1,606,12,"606-12","전",115,null,null,null,"국(국토교통부)","국"]
[{"$f":"LEFT($B44098,10)&TEXT($D44098,\"0\")&TEXT($E44098,\"0000\")&TEXT($F44098,\"0000\")","v":"4480025627106350005"},4480025627,null,1,635,5,"635-5","전",1590,null,null,null,"홍성군","국"]
[{"$f":"LEFT($B44218,10)&TEXT($D44218,\"0\")&TEXT($E44218,\"0000\")&TEXT($F44218,\"0000\")","v":"4480025627107020001"},4480025627,null,1,702,1,"702-1","답",2302,null,null,null,"경기도부천시원미구심곡동799우민늘사랑아파트-1205","김혜환"]
[{"$f":"LEFT($B44323,10)&TEXT($D44323,\"0\")&TEXT($E44323,\"0000\")&TEXT($F44323,\"0000\")","v":"4480025627107290001"},4480025627,null,1,729,1,"729-1","도",1178,null,null,null,"국(농림수산부)","국"]
[{"$f":"LEFT($B44373,10)&TEXT($D44373,\"0\")&TEXT($E44373,\"0000\")&TEXT($F44373,\"0000\")","v":"4480025627200310005"},4480025627,null,2,31,5,"31-5","임",254,null,null,null,395,"김남환"]
[{"$f":"LEFT($B44548,10)&TEXT($D44548,\"0\")&TEXT($E44548,\"0000\")&TEXT($F44548,\"0000\")","v":"4480025628100490001"},4480025628,null,1,49,1,"49-1","답",2835,null,null,null,"대구시달서구상인동1473-1청자아파트3동503호","정성윤"]
[{"$f":"LEFT($B44663,10)&TEXT($D44663,\"0\")&TEXT($E44663,\"0000\")&TEXT($F44663,\"0000\")","v":"4480025628101410000"},4480025628,null,1,141,0,141,"도",7882,null,null,null,"국(농림수산부)","국"]
[{"$f":"LEFT($B44773,10)&TEXT($D44773,\"0\")&TEXT($E44773,\"0000\")&TEXT($F44773,\"0000\")","v":"4480025628102790001"},4480025628,null,1,279,1,"279-1","제",176,null,null,null,"국(건설부)","국"]
[{"$f":"LEFT($B44878,10)&TEXT($D44878,\"0\")&TEXT($E44878,\"0000\")&TEXT($F44878,\"0000\")","v":"4480025628103590007"},4480025628,null,1,359,7,"359-7","대",149,null,null,null,"서울시강북구수유동704-31","이영석"]
[{"$f":"LEFT($B44956,10)&TEXT($D44956,\"0\")&TEXT($E44956,\"0000\")&TEXT($F44956,\"0000\")","v":"4480025628103720024"},4480025628,null,1,372,24,"372-24","과",2379,null,null,null,"국(국토교통부)","국"]
[{"$f":"LEFT($B45103,10)&TEXT($D45103,\"0\")&TEXT($E45103,\"0000\")&TEXT($F45103,\"0000\")","v":"4480025629100200005"},4480025629,null,1,20,5,"20-5","답",2648,null,null,null,"신정리325","하갑수"]
[{"$f":"LEFT($B45208,10)&TEXT($D45208,\"0\")&TEXT($E45208,\"0000\")&TEXT($F45208,\"0000\")","v":"4480025629101000014"},4480025629,null,1,100,14,"100-14","임",373,null,null,null,"100-3","이재현"]
[{"$f":"LEFT($B45350,10)&TEXT($D45350,\"0\")&TEXT($E45350,\"0000\")&TEXT($F45350,\"0000\")","v":"4480025629101260009"},4480025629,null,1,126,9,"126-9","답",4095,null,null,null,"인천부평구부개동500-1주공아파트511-502","이환영"]
[{"$f":"LEFT($B45433,10)&TEXT($D45433,\"0\")&TEXT($E45433,\"0000\")&TEXT($F45433,\"0000\")","v":"4480025629101450015"},4480025629,null,1,145,15,"145-15","답",4797,null,null,null,"충청남도천안시서북구개목2길35402호(성정동서연빌)","이출세"]
[{"$f":"LEFT($B45554,10)&TEXT($D45554,\"0\")&TEXT($E45554,\"0000\")&TEXT($F45554,\"0000\")","v":"4480025629101910003"},4480025629,null,1,191,3,"191-3","답",1100,null,null,null,308,"이정대"]
[{"$f":"LEFT($B45744,10)&TEXT($D45744,\"0\")&TEXT($E45744,\"0000\")&TEXT($F45744,\"0000\")","v":"4480025629102200001"},4480025629,null,1,220,1,"220-1","구",113,null,null,null,"경기도의왕시포일동487","한국농어촌공사"]
[{"$f":"LEFT($B45883,10)&TEXT($D45883,\"0\")&TEXT($E45883,\"0000\")&TEXT($F45883,\"0000\")","v":"4480025629102820000"},4480025629,null,1,282,0,282,"답",2733,null,null,null,"충청남도홍성군홍북면금북로440-5","이재희"]
[{"$f":"LEFT($B45933,10)&TEXT($D45933,\"0\")&TEXT($E45933,\"0000\")&TEXT($F45933,\"0000\")","v":"4480025629103070007"},4480025629,null,1,307,7,"307-7","도",53,null,null,null,"예산군고덕면사리576","김광배"]
[{"$f":"LEFT($B46108,10)&TEXT($D46108,\"0\")&TEXT($E46108,\"0000\")&TEXT($F46108,\"0000\")","v":"4480025629105940000"},4480025629,null,1,594,0,594,"도",443,null,null,null,"국(농수산부)","국"]
[{"$f":"LEFT($B46213,10)&TEXT($D46213,\"0\")&TEXT($E46213,\"0000\")&TEXT($F46213,\"0000\")","v":"4480025630100010012"},4480025630,null,1,1,12,"1-12","전",623,null,null,null,"서울시영등포구대림동607-1코오롱아파트103-702","조태근"]
[{"$f":"LEFT($B46327,10)&TEXT($D46327,\"0\")&TEXT($E46327,\"0000\")&TEXT($F46327,\"0000\")","v":"4480025630101000000"},4480025630,null,1,100,0,100,"대",112,null,null,null,"인천광역시연수구송도과학로27번길70104동2602호(송도동롯데캐슬)","임실영"]
[{"$f":"LEFT($B46438,10)&TEXT($D46438,\"0\")&TEXT($E46438,\"0000\")&TEXT($F46438,\"0000\")","v":"4480025630101810005"},4480025630,null,1,181,5,"181-5","구",132,null,null,null,"경기도의왕시포일동487","한국농어촌공사"]
[{"$f":"LEFT($B46559,10)&TEXT($D46559,\"0\")&TEXT($E46559,\"0000\")&TEXT($F46559,\"0000\")","v":"4480025630102490003"},4480025630,null,1,249,3,"249-3","답",2367,null,null,null,"서울특별시성동구동호로84102동1601호(금호동4가금호동롯데아파트)","박혜주"]
[{"$f":"LEFT($B46721,10)&TEXT($D46721,\"0\")&TEXT($E46721,\"0000\")&TEXT($F46721,\"0000\")","v":"4480025630103260000"},4480025630,null,1,326,0,326,"임",2906,null,null,null,"예산군신암면별리177","현승원"]
[{"$f":"LEFT($B46768,10)&TEXT($D46768,\"0\")&TEXT($E46768,\"0000\")&TEXT($F46768,\"0000\")","v":"4480025630103650012"},4480025630,null,1,365,12,"365-12","전",1151,null,null,null,"홍성읍옥암리482","장유분"]
[{"$f":"LEFT($B46889,10)&TEXT($D46889,\"0\")&TEXT($E46889,\"0000\")&TEXT($F46889,\"0000\")","v":"4480025630104750001"},4480025630,null,1,475,1,"475-1","답",23,null,null,null,"홍성군","국"]
[{"$f":"LEFT($B46996,10)&TEXT($D46996,\"0\")&TEXT($E46996,\"0000\")&TEXT($F46996,\"0000\")","v":"4480025630105510001"},4480025630,null,1,551,1,"551-1","전",9917,null,null,null,"예산군응봉면계정리390","김주호"]
[{"$f":"LEFT($B47114,10)&TEXT($D47114,\"0\")&TEXT($E47114,\"0000\")&TEXT($F47114,\"0000\")","v":"4480025630200990002"},4480025630,null,2,99,2,"99-2","임",4215,null,null,null,"충청남도아산시배방읍배방로201번길10101동1205호(금호어울림아파트)","정명환"]
[{"$f":"LEFT($B47304,10)&TEXT($D47304,\"0\")&TEXT($E47304,\"0000\")&TEXT($F47304,\"0000\")","v":"4480025631100720006"},4480025631,null,1,72,6,"72-6","도",10,null,null,null,"홍성군","국"]
[{"$f":"LEFT($B47443,10)&TEXT($D47443,\"0\")&TEXT($E47443,\"0000\")&TEXT($F47443,\"0000\")","v":"4480025631101240007"},4480025631,null,1,124,7,"124-7","철",25,null,null,null,"국(국토해양부)","국"]
[{"$f":"LEFT($B47564,10)&TEXT($D47564,\"0\")&TEXT($E47564,\"0000\")&TEXT($F47564,\"0000\")","v":"4480025631101810010"},4480025631,null,1,181,10,"181-10","철",474,null,null,null,"국(국토해양부)","국"]
[{"$f":"LEFT($B47698,10)&TEXT($D47698,\"0\")&TEXT($E47698,\"0000\")&TEXT($F47698,\"0000\")","v":"4480025631102510000"},4480025631,null,1,251,0,251,"답",1164,null,null,null,"수원시팔달구화서동184-132","문옥자"]
[{"$f":"LEFT($B47773,10)&TEXT($D47773,\"0\")&TEXT($E47773,\"0000\")&TEXT($F47773,\"0000\")","v":"4480025631103260010"},4480025631,null,1,326,10,"326-10","구",48,null,null,null,"경기도의왕시포일동487","한국농어촌공사"]
[{"$f":"LEFT($B47894,10)&TEXT($D47894,\"0\")&TEXT($E47894,\"0000\")&TEXT($F47894,\"0000\")","v":"4480025631104120005"},4480025631,null,1,412,5,"412-5","임",26,null,null,null,"노은리167","안덕래"]
[{"$f":"LEFT($B47973,10)&TEXT($D47973,\"0\")&TEXT($E47973,\"0000\")&TEXT($F47973,\"0000\")","v":"4480025631104570007"},4480025631,null,1,457,7,"457-7","답",845,null,null,null,"신정리526","장동선"]
[{"$f":"LEFT($B48119,10)&TEXT($D48119,\"0\")&TEXT($E48119,\"0000\")&TEXT($F48119,\"0000\")","v":"4480025632100310003"},4480025632,null,1,31,3,"31-3","대",770,null,null,null,30,"김승태"]
[{"$f":"LEFT($B48224,10)&TEXT($D48224,\"0\")&TEXT($E48224,\"0000\")&TEXT($F48224,\"0000\")","v":"4480025632100850001"},4480025632,null,1,85,1,"85-1","임",2984,null,null,null,"수원시팔달구인계동209-7씨제이아파트101동1012호","이용진"]
[{"$f":"LEFT($B48367,10)&TEXT($D48367,\"0\")&TEXT($E48367,\"0000\")&TEXT($F48367,\"0000\")","v":"4480025632101910000"},4480025632,null,1,191,0,191,"전",1868,null,null,null,167,"안장환"]
[{"$f":"LEFT($B48449,10)&TEXT($D48449,\"0\")&TEXT($E48449,\"0000\")&TEXT($F48449,\"0000\")","v":"4480025632102410013"},4480025632,null,1,241,13,"241-13","철",340,null,null,null,"국(국토교통부)","국"]
[{"$f":"LEFT($B48554,10)&TEXT($D48554,\"0\")&TEXT($E48554,\"0000\")&TEXT($F48554,\"0000\")","v":"4480025632103060004"},4480025632,null,1,306,4,"306-4","도",3,null,null,null,15,"오필영"]
[{"$f":"LEFT($B48761,10)&TEXT($D48761,\"0\")&TEXT($E48761,\"0000\")&TEXT($F48761,\"0000\")","v":"4480025632103590004"},4480025632,null,1,359,4,"359-4","답",727,null,null,null,"국(국토교통부)","국"]
[{"$f":"LEFT($B48779,10)&TEXT($D48779,\"0\")&TEXT($E48779,\"0000\")&TEXT($F48779,\"0000\")","v":"4480025632103650005"},4480025632,null,1,365,5,"365-5","도",11,null,null,null,"홍성군","국"]
[{"$f":"LEFT($B48950,10)&TEXT($D48950,\"0\")&TEXT($E48950,\"0000\")&TEXT($F48950,\"0000\")","v":"4480025633100020021"},4480025633,null,1,2,21,"2-21","답",116,null,null,null,"충청남도예산군예산읍창말로60번길8","고광채"]
[{"$f":"LEFT($B49124,10)&TEXT($D49124,\"0\")&TEXT($E49124,\"0000\")&TEXT($F49124,\"0000\")","v":"4480025633100870004"},4480025633,null,1,87,4,"87-4","도",17,null,null,null,"국(건설교통부)","국"]
[{"$f":"LEFT($B49229,10)&TEXT($D49229,\"0\")&TEXT($E49229,\"0000\")&TEXT($F49229,\"0000\")","v":"4480025633101510001"},4480025633,null,1,151,1,"151-1","구",26,null,null,null,"경기도의왕시포일동487","한국농어촌공사"]
[{"$f":"LEFT($B49344,10)&TEXT($D49344,\"0\")&TEXT($E49344,\"0000\")&TEXT($F49344,\"0000\")","v":"4480025633102280001"},4480025633,null,1,228,1,"228-1","도",188,null,null,null,null,"홍주군향교재단"]
[{"$f":"LEFT($B49454,10)&TEXT($D49454,\"0\")&TEXT($E49454,\"0000\")&TEXT($F49454,\"0000\")","v":"4480025633102800003"},4480025633,null,1,280,3,"280-3","도",129,null,null,null,"국(건설부)","국"]
[{"$f":"LEFT($B49559,10)&TEXT($D49559,\"0\")&TEXT($E49559,\"0000\")&TEXT($F49559,\"0000\")","v":"4480025633103230002"},4480025633,null,1,323,2,"323-2","도",26,null,null,null,"국(건설부)","국"]
[{"$f":"LEFT($B49637,10)&TEXT($D49637,\"0\")&TEXT($E49637,\"0000\")&TEXT($F49637,\"0000\")","v":"4480025633103520007"},4480025633,null,1,352,7,"352-7","전",1026,null,null,null,"금마면부평리35번지","이재근"]
[{"$f":"LEFT($B49784,10)&TEXT($D49784,\"0\")&TEXT($E49784,\"0000\")&TEXT($F49784,\"0000\")","v":"4480025633104240000"},4480025633,null,1,424,0,424,"대",738,null,null,null,"서울특별시노원구중계동154-11","방선희"]
[{"$f":"LEFT($B49889,10)&TEXT($D49889,\"0\")&TEXT($E49889,\"0000\")&TEXT($F49889,\"0000\")","v":"4480025633105160005"},4480025633,null,1,516,5,"516-5","구",72,null,null,null,"국(농수산부)","국"]
[{"$f":"LEFT($B50031,10)&TEXT($D50031,\"0\")&TEXT($E50031,\"0000\")&TEXT($F50031,\"0000\")","v":"4480025633105820002"},4480025633,null,1,582,2,"582-2","전",155,null,null,null,"충청남도홍성군갈산면내갈리71-6","한양조씨수의공파문중"]
[{"$f":"LEFT($B50114,10)&TEXT($D50114,\"0\")&TEXT($E50114,\"0000\")&TEXT($F50114,\"0000\")","v":"4480025633106520001"},4480025633,null,1,652,1,"652-1","답",953,null,null,null,603,"이환구"]
[{"$f":"LEFT($B50321,10)&TEXT($D50321,\"0\")&TEXT($E50321,\"0000\")&TEXT($F50321,\"0000\")","v":"4480025633200880006"},4480025633,null,2,88,6,"88-6","임",771,null,null,null,"국(건설부)","국"]
[{"$f":"LEFT($B50339,10)&TEXT($D50339,\"0\")&TEXT($E50339,\"0000\")&TEXT($F50339,\"0000\")","v":"4480025633200990007"},4480025633,null,2,99,7,"99-7","임",1276,null,null,null,"충청남도예산군고덕면예덕로895-1","복창순"]
[{"$f":"LEFT($B50564,10)&TEXT($D50564,\"0\")&TEXT($E50564,\"0000\")&TEXT($F50564,\"0000\")","v":"4480032021101810001"},4480032021,null,1,181,1,"181-1","답",2370,null,null,null,"예산군광시면관음리산13-2","오수만"]
[{"$f":"LEFT($B50614,10)&TEXT($D50614,\"0\")&TEXT($E50614,\"0000\")&TEXT($F50614,\"0000\")","v":"4480032021102180000"},4480032021,null,1,218,0,218,"답",178,null,null,null,"충청남도홍성군금마면봉수산로418번길88-24","오세동"]
[{"$f":"LEFT($B50789,10)&TEXT($D50789,\"0\")&TEXT($E50789,\"0000\")&TEXT($F50789,\"0000\")","v":"4480032021103840000"},4480032021,null,1,384,0,384,"대",731,null,null,null,"대전시중구유천동10-18현대아파트115-901","오은정"]
[{"$f":"LEFT($B50894,10)&TEXT($D50894,\"0\")&TEXT($E50894,\"0000\")&TEXT($F50894,\"0000\")","v":"4480032021104890000"},4480032021,null,1,489,0,489,"답",2331,null,null,null,"418-2","복효순"]
[{"$f":"LEFT($B51008,10)&TEXT($D51008,\"0\")&TEXT($E51008,\"0000\")&TEXT($F51008,\"0000\")","v":"4480032021106680007"},4480032021,null,1,668,7,"668-7","대",589,null,null,null,"668-7","권혁종"]
[{"$f":"LEFT($B51119,10)&TEXT($D51119,\"0\")&TEXT($E51119,\"0000\")&TEXT($F51119,\"0000\")","v":"4480032021107820000"},4480032021,null,1,782,0,782,"답",2376,null,null,null,619,"박하양"]
[{"$f":"LEFT($B51224,10)&TEXT($D51224,\"0\")&TEXT($E51224,\"0000\")&TEXT($F51224,\"0000\")","v":"4480032021108820006"},4480032021,null,1,882,6,"882-6","답",1809.7,null,null,null,406,"오세채"]
[{"$f":"LEFT($B51402,10)&TEXT($D51402,\"0\")&TEXT($E51402,\"0000\")&TEXT($F51402,\"0000\")","v":"4480032021201470004"},4480032021,null,2,147,4,"147-4","임",9620,null,null,null,"충청남도아산시남부로321-8108동601호(풍기동아산아이파크아파트)","최병택"]
[{"$f":"LEFT($B51449,10)&TEXT($D51449,\"0\")&TEXT($E51449,\"0000\")&TEXT($F51449,\"0000\")","v":"4480032022100020000"},4480032022,null,1,2,0,2,"답",221,null,null,null,"산89-1","김연욱"]
[{"$f":"LEFT($B51591,10)&TEXT($D51591,\"0\")&TEXT($E51591,\"0000\")&TEXT($F51591,\"0000\")","v":"4480032022101010000"},4480032022,null,1,101,0,101,"전",493,null,null,null,"인산리13","장영훈"]
[{"$f":"LEFT($B51674,10)&TEXT($D51674,\"0\")&TEXT($E51674,\"0000\")&TEXT($F51674,\"0000\")","v":"4480032022101610004"},4480032022,null,1,161,4,"161-4","제",757,null,null,null,"홍성군","국"]
[{"$f":"LEFT($B51779,10)&TEXT($D51779,\"0\")&TEXT($E51779,\"0000\")&TEXT($F51779,\"0000\")","v":"4480032022102580001"},4480032022,null,1,258,1,"258-1","도",7,null,null,null,"홍성군","국"]
[{"$f":"LEFT($B51985,10)&TEXT($D51985,\"0\")&TEXT($E51985,\"0000\")&TEXT($F51985,\"0000\")","v":"4480032022105350000"},4480032022,null,1,535,0,535,"전",866,null,null,null,"경기도안양시동안구일동로1242동212호(관양동남광아파트)","김흥미"]
[{"$f":"LEFT($B52124,10)&TEXT($D52124,\"0\")&TEXT($E52124,\"0000\")&TEXT($F52124,\"0000\")","v":"4480032022106270002"},4480032022,null,1,627,2,"627-2","도",119,null,null,null,"홍성군","국"]
[{"$f":"LEFT($B52245,10)&TEXT($D52245,\"0\")&TEXT($E52245,\"0000\")&TEXT($F52245,\"0000\")","v":"4480032022107170000"},4480032022,null,1,717,0,717,"구",349,null,null,null,"국(농림수산부)","국"]
[{"$f":"LEFT($B52260,10)&TEXT($D52260,\"0\")&TEXT($E52260,\"0000\")&TEXT($F52260,\"0000\")","v":"4480032022107570003"},4480032022,null,1,757,3,"757-3","도",7,null,null,null,"홍성군","국"]
[{"$f":"LEFT($B52454,10)&TEXT($D52454,\"0\")&TEXT($E52454,\"0000\")&TEXT($F52454,\"0000\")","v":"4480032022200680003"},4480032022,null,2,68,3,"68-3","유",527,null,null,null,"경기도의왕시포일동487","한국농어촌공사"]
[{"$f":"LEFT($B52575,10)&TEXT($D52575,\"0\")&TEXT($E52575,\"0000\")&TEXT($F52575,\"0000\")","v":"4480032023100540003"},4480032023,null,1,54,3,"54-3","임",372,null,null,null,"충청남도홍성군금마면인산리57-1","박혁희"]
[{"$f":"LEFT($B52654,10)&TEXT($D52654,\"0\")&TEXT($E52654,\"0000\")&TEXT($F52654,\"0000\")","v":"4480032023101240000"},4480032023,null,1,124,0,124,"답",479,null,null,null,128,"박종학"]
[{"$f":"LEFT($B52784,10)&TEXT($D52784,\"0\")&TEXT($E52784,\"0000\")&TEXT($F52784,\"0000\")","v":"4480032023102590006"},4480032023,null,1,259,6,"259-6","전",1084,null,null,null,"495-1","임규영"]
[{"$f":"LEFT($B52905,10)&TEXT($D52905,\"0\")&TEXT($E52905,\"0000\")&TEXT($F52905,\"0000\")","v":"4480032023103300011"},4480032023,null,1,330,11,"330-11","답",2139,null,null,null,"충청남도홍성군금마면금마로497번길74-3","이종예"]
[{"$f":"LEFT($B53048,10)&TEXT($D53048,\"0\")&TEXT($E53048,\"0000\")&TEXT($F53048,\"0000\")","v":"4480032023104930002"},4480032023,null,1,493,2,"493-2","도",83,null,null,null,"홍성군","국"]
[{"$f":"LEFT($B53130,10)&TEXT($D53130,\"0\")&TEXT($E53130,\"0000\")&TEXT($F53130,\"0000\")","v":"4480032023105630008"},4480032023,null,1,563,8,"563-8","도",1617,null,null,null,"국(농림수산부)","국"]
[{"$f":"LEFT($B53237,10)&TEXT($D53237,\"0\")&TEXT($E53237,\"0000\")&TEXT($F53237,\"0000\")","v":"4480032023200390000"},4480032023,null,2,39,0,39,"임",892,null,null,null,"평택군팽성읍본정리102-8","표성열"]
[{"$f":"LEFT($B53339,10)&TEXT($D53339,\"0\")&TEXT($E53339,\"0000\")&TEXT($F53339,\"0000\")","v":"4480032024100530003"},4480032024,null,1,53,3,"53-3","답",2517,null,null,null,"충청남도홍성군홍성읍오관리8-5신천아파트가-306","유영희"]
[{"$f":"LEFT($B53460,10)&TEXT($D53460,\"0\")&TEXT($E53460,\"0000\")&TEXT($F53460,\"0000\")","v":"4480032024101830000"},4480032024,null,1,183,0,183,"전",301,null,null,null,"충청남도홍성군금마면가산1길62","이정옥"]
[{"$f":"LEFT($B53631,10)&TEXT($D53631,\"0\")&TEXT($E53631,\"0000\")&TEXT($F53631,\"0000\")","v":"4480032024103400001"},4480032024,null,1,340,1,"340-1","임",195,null,null,null,"충청남도홍성군금마면가산리307","김영철"]
[{"$f":"LEFT($B53685,10)&TEXT($D53685,\"0\")&TEXT($E53685,\"0000\")&TEXT($F53685,\"0000\")","v":"4480032024103740008"},4480032024,null,1,374,8,"374-8","전",113,null,null,null,318,"김영삼"]
[{"$f":"LEFT($B53910,10)&TEXT($D53910,\"0\")&TEXT($E53910,\"0000\")&TEXT($F53910,\"0000\")","v":"4480032024104850002"},4480032024,null,1,485,2,"485-2","천",128,null,null,null,"국(건설교통부)","국"]
[{"$f":"LEFT($B54025,10)&TEXT($D54025,\"0\")&TEXT($E54025,\"0000\")&TEXT($F54025,\"0000\")","v":"4480032024200610002"},4480032024,null,2,61,2,"61-2","임",3573,null,null,null,"서울특별시송파구석촌호수로12길223층302호(잠실동)","명재복"]
[{"$f":"LEFT($B54135,10)&TEXT($D54135,\"0\")&TEXT($E54135,\"0000\")&TEXT($F54135,\"0000\")","v":"4480032025100670004"},4480032025,null,1,67,4,"67-4","구",6,null,null,null,"경기도의왕시포일동487","한국농어촌공사"]
[{"$f":"LEFT($B54240,10)&TEXT($D54240,\"0\")&TEXT($E54240,\"0000\")&TEXT($F54240,\"0000\")","v":"4480032025101340002"},4480032025,null,1,134,2,"134-2","전",886,null,null,null,"경기도수원시권선구하탑로53번길8-15비동202호(탑동보람아파트)","김태율"]
[{"$f":"LEFT($B54300,10)&TEXT($D54300,\"0\")&TEXT($E54300,\"0000\")&TEXT($F54300,\"0000\")","v":"4480032025101910000"},4480032025,null,1,191,0,191,"대",99,null,null,null,"충청남도홍성군금마면광금북로482번길179-3","정운모"]
[{"$f":"LEFT($B54465,10)&TEXT($D54465,\"0\")&TEXT($E54465,\"0000\")&TEXT($F54465,\"0000\")","v":"4480032025103310000"},4480032025,null,1,331,0,331,"전",2446,null,null,null,"서울특별시광진구중곡동101-26","이승희"]
[{"$f":"LEFT($B54608,10)&TEXT($D54608,\"0\")&TEXT($E54608,\"0000\")&TEXT($F54608,\"0000\")","v":"4480032025104610001"},4480032025,null,1,461,1,"461-1","임",744,null,null,null,"충청남도홍성군금마면부평리480","이병기"]
[{"$f":"LEFT($B54690,10)&TEXT($D54690,\"0\")&TEXT($E54690,\"0000\")&TEXT($F54690,\"0000\")","v":"4480032025105570028"},4480032025,null,1,557,28,"557-28","도",279,null,null,null,"홍성군","국"]
[{"$f":"LEFT($B54795,10)&TEXT($D54795,\"0\")&TEXT($E54795,\"0000\")&TEXT($F54795,\"0000\")","v":"4480032025106670000"},4480032025,null,1,667,0,667,"전",1770,null,null,null,"부평리356","이복영"]
[{"$f":"LEFT($B54883,10)&TEXT($D54883,\"0\")&TEXT($E54883,\"0000\")&TEXT($F54883,\"0000\")","v":"4480032025107150001"},4480032025,null,1,715,1,"715-1","천",1144,null,null,null,"국(건설부)","국"]
[{"$f":"LEFT($B55020,10)&TEXT($D55020,\"0\")&TEXT($E55020,\"0000\")&TEXT($F55020,\"0000\")","v":"4480032025107560002"},4480032025,null,1,756,2,"756-2","답",1601,null,null,null,"대전서구도마동95-5","이용욱"]
[{"$f":"LEFT($B55125,10)&TEXT($D55125,\"0\")&TEXT($E55125,\"0000\")&TEXT($F55125,\"0000\")","v":"4480032025201170012"},4480032025,null,2,117,12,"117-12","임",1341,null,null,null,"충청남도청양군청남면아산리115","한양조씨대호군정산파종중"]
[{"$f":"LEFT($B55277,10)&TEXT($D55277,\"0\")&TEXT($E55277,\"0000\")&TEXT($F55277,\"0000\")","v":"4480032026100910000"},4480032026,null,1,91,0,91,"전",1613,null,null,null,351,"김금배"]
[{"$f":"LEFT($B55470,10)&TEXT($D55470,\"0\")&TEXT($E55470,\"0000\")&TEXT($F55470,\"0000\")","v":"4480032026103090000"},4480032026,null,1,309,0,309,"전",1137,null,null,null,"경기도성남시수정구수진동4090","권혁수"]
[{"$f":"LEFT($B55575,10)&TEXT($D55575,\"0\")&TEXT($E55575,\"0000\")&TEXT($F55575,\"0000\")","v":"4480032026104360002"},4480032026,null,1,436,2,"436-2","도",36,null,null,null,"인산리93","윤식"]
[{"$f":"LEFT($B55689,10)&TEXT($D55689,\"0\")&TEXT($E55689,\"0000\")&TEXT($F55689,\"0000\")","v":"4480032026105140003"},4480032026,null,1,514,3,"514-3","도",1261,null,null,null,"충청남도","국"]
[{"$f":"LEFT($B55800,10)&TEXT($D55800,\"0\")&TEXT($E55800,\"0000\")&TEXT($F55800,\"0000\")","v":"4480032026105590001"},4480032026,null,1,559,1,"559-1","도",3,null,null,null,"용흥리245","주영일"]
[{"$f":"LEFT($B55860,10)&TEXT($D55860,\"0\")&TEXT($E55860,\"0000\")&TEXT($F55860,\"0000\")","v":"4480032026106040002"},4480032026,null,1,604,2,"604-2","도",1869,null,null,null,"홍성군","국"]
[{"$f":"LEFT($B56025,10)&TEXT($D56025,\"0\")&TEXT($E56025,\"0000\")&TEXT($F56025,\"0000\")","v":"4480032026107900000"},4480032026,null,1,790,0,790,"답",2789,null,null,null,594,"권오덕"]
[{"$f":"LEFT($B56130,10)&TEXT($D56130,\"0\")&TEXT($E56130,\"0000\")&TEXT($F56130,\"0000\")","v":"4480032026200900001"},4480032026,null,2,90,1,"90-1","임",1091,null,null,null,"서울시중랑구면목동191-51","한동희"]
[{"$f":"LEFT($B56272,10)&TEXT($D56272,\"0\")&TEXT($E56272,\"0000\")&TEXT($F56272,\"0000\")","v":"4480032027100500008"},4480032027,null,1,50,8,"50-8","답",820,null,null,null,262,"주영옥"]
[{"$f":"LEFT($B56355,10)&TEXT($D56355,\"0\")&TEXT($E56355,\"0000\")&TEXT($F56355,\"0000\")","v":"4480032027101000000"},4480032027,null,1,100,0,100,"대",863,null,null,null,"99-5","이동하"]
[{"$f":"LEFT($B56460,10)&TEXT($D56460,\"0\")&TEXT($E56460,\"0000\")&TEXT($F56460,\"0000\")","v":"4480032027101970001"},4480032027,null,1,197,1,"197-1","답",3035,null,null,null,"경기도광명시하안동702고층주공아파트517-1504","주진오"]
[{"$f":"LEFT($B56666,10)&TEXT($D56666,\"0\")&TEXT($E56666,\"0000\")&TEXT($F56666,\"0000\")","v":"4480032027103320000"},4480032027,null,1,332,0,332,"전",496,null,null,null,"인천계양구박촌동310한화꿈에그린아파트101-1304","조항만"]
[{"$f":"LEFT($B56685,10)&TEXT($D56685,\"0\")&TEXT($E56685,\"0000\")&TEXT($F56685,\"0000\")","v":"4480032027103470004"},4480032027,null,1,347,4,"347-4","답",206,null,null,null,"홍성군","국"]
[{"$f":"LEFT($B56910,10)&TEXT($D56910,\"0\")&TEXT($E56910,\"0000\")&TEXT($F56910,\"0000\")","v":"4480032027200830005"},4480032027,null,2,83,5,"83-5","임",11008,null,null,null,"서울시금천구시흥동811-15","이원구"]
[{"$f":"LEFT($B56941,10)&TEXT($D56941,\"0\")&TEXT($E56941,\"0000\")&TEXT($F56941,\"0000\")","v":"4480032028100120003"},4480032028,null,1,12,3,"12-3","전",641,null,null,null,105,"권영필"]
[{"$f":"LEFT($B57135,10)&TEXT($D57135,\"0\")&TEXT($E57135,\"0000\")&TEXT($F57135,\"0000\")","v":"4480032028101590002"},4480032028,null,1,159,2,"159-2","전",853,null,null,null,"서울특별시강서구공항동17-10화이트빌라501호","채찬모"]
[{"$f":"LEFT($B57249,10)&TEXT($D57249,\"0\")&TEXT($E57249,\"0000\")&TEXT($F57249,\"0000\")","v":"4480032028102350003"},4480032028,null,1,235,3,"235-3","임",6293,null,null,null,"용흥리382","정항모"]
[{"$f":"LEFT($B57360,10)&TEXT($D57360,\"0\")&TEXT($E57360,\"0000\")&TEXT($F57360,\"0000\")","v":"4480032028103590000"},4480032028,null,1,359,0,359,"전",66,null,null,null,"송암리356","김성천"]
[{"$f":"LEFT($B57465,10)&TEXT($D57465,\"0\")&TEXT($E57465,\"0000\")&TEXT($F57465,\"0000\")","v":"4480032028104290006"},4480032028,null,1,429,6,"429-6","전",647,null,null,null,432,"이기옥"]
[{"$f":"LEFT($B57524,10)&TEXT($D57524,\"0\")&TEXT($E57524,\"0000\")&TEXT($F57524,\"0000\")","v":"4480032028104710001"},4480032028,null,1,471,1,"471-1","전",2681,null,null,null,569,"윤태근"]
[{"$f":"LEFT($B57690,10)&TEXT($D57690,\"0\")&TEXT($E57690,\"0000\")&TEXT($F57690,\"0000\")","v":"4480032028106010004"},4480032028,null,1,601,4,"601-4","도",16,null,null,null,"국(농림부)","국"]
[{"$f":"LEFT($B57795,10)&TEXT($D57795,\"0\")&TEXT($E57795,\"0000\")&TEXT($F57795,\"0000\")","v":"4480032028106510000"},4480032028,null,1,651,0,651,"구",2939.5,null,null,null,"국(농림부)","국"]
[{"$f":"LEFT($B57918,10)&TEXT($D57918,\"0\")&TEXT($E57918,\"0000\")&TEXT($F57918,\"0000\")","v":"4480032029100060000"},4480032029,null,1,6,0,6,"대",562,null,null,null,"홍성군금마면장성리6","면천복씨도사공파문중"]
[{"$f":"LEFT($B58020,10)&TEXT($D58020,\"0\")&TEXT($E58020,\"0000\")&TEXT($F58020,\"0000\")","v":"4480032029100690001"},4480032029,null,1,69,1,"69-1","전",539,null,null,null,"충청남도천안시서북구늘푸른1길45203동602호(두정동세광엔리치빌)","김성영"]
[{"$f":"LEFT($B58141,10)&TEXT($D58141,\"0\")&TEXT($E58141,\"0000\")&TEXT($F58141,\"0000\")","v":"4480032029101230001"},4480032029,null,1,123,1,"123-1","전",701,null,null,null,"132-2","최석낙"]
[{"$f":"LEFT($B58312,10)&TEXT($D58312,\"0\")&TEXT($E58312,\"0000\")&TEXT($F58312,\"0000\")","v":"4480032029101790000"},4480032029,null,1,179,0,179,"대",401,null,null,null,"충청남도홍성군금마면홍양길79번길9-19","강완기"]
[{"$f":"LEFT($B58350,10)&TEXT($D58350,\"0\")&TEXT($E58350,\"0000\")&TEXT($F58350,\"0000\")","v":"4480032029101970001"},4480032029,null,1,197,1,"197-1","전",83,null,null,null,"198-9","조미자"]
[{"$f":"LEFT($B58471,10)&TEXT($D58471,\"0\")&TEXT($E58471,\"0000\")&TEXT($F58471,\"0000\")","v":"4480032029102440002"},4480032029,null,1,244,2,"244-2","전",1197,null,null,null,"경기도남양주시와부읍덕소로270108동1903호(한강우성아파트)","김용기"]
[{"$f":"LEFT($B58706,10)&TEXT($D58706,\"0\")&TEXT($E58706,\"0000\")&TEXT($F58706,\"0000\")","v":"4480032029103660022"},4480032029,null,1,366,22,"366-22","구",28,null,null,null,"국(농수산부)","국"]
[{"$f":"LEFT($B58816,10)&TEXT($D58816,\"0\")&TEXT($E58816,\"0000\")&TEXT($F58816,\"0000\")","v":"4480032029104020011"},4480032029,null,1,402,11,"402-11","답",3038,null,null,null,"충청남도홍성군홍성읍의사로43번길7-7","황인경"]
[{"$f":"LEFT($B58895,10)&TEXT($D58895,\"0\")&TEXT($E58895,\"0000\")&TEXT($F58895,\"0000\")","v":"4480032029104100010"},4480032029,null,1,410,10,"410-10","답",3052,null,null,null,"충청남도홍성군홍성읍조양로151번길64","이학순"]
[{"$f":"LEFT($B59025,10)&TEXT($D59025,\"0\")&TEXT($E59025,\"0000\")&TEXT($F59025,\"0000\")","v":"4480032029105450018"},4480032029,null,1,545,18,"545-18","답",83,null,null,null,"홍성군","국"]
[{"$f":"LEFT($B59146,10)&TEXT($D59146,\"0\")&TEXT($E59146,\"0000\")&TEXT($F59146,\"0000\")","v":"4480032029106730026"},4480032029,null,1,673,26,"673-26","전",116,null,null,null,"국(기획재정부)","국"]
[{"$f":"LEFT($B59289,10)&TEXT($D59289,\"0\")&TEXT($E59289,\"0000\")&TEXT($F59289,\"0000\")","v":"4480032030100260006"},4480032030,null,1,26,6,"26-6","임",12372,null,null,null,"충청남도홍성군홍성읍오관리808세광엔리치타워105-1005","장래수"]
[{"$f":"LEFT($B59355,10)&TEXT($D59355,\"0\")&TEXT($E59355,\"0000\")&TEXT($F59355,\"0000\")","v":"4480032030100810007"},4480032030,null,1,81,7,"81-7","대",592,null,null,null,"충청남도홍성군금마면신곡1길18","최정섭"]
[{"$f":"LEFT($B59476,10)&TEXT($D59476,\"0\")&TEXT($E59476,\"0000\")&TEXT($F59476,\"0000\")","v":"4480032030101280003"},4480032030,null,1,128,3,"128-3","목",841,null,null,null,270,"전기홍"]
[{"$f":"LEFT($B59564,10)&TEXT($D59564,\"0\")&TEXT($E59564,\"0000\")&TEXT($F59564,\"0000\")","v":"4480032030101890000"},4480032030,null,1,189,0,189,"대",605,null,null,null,"충청남도홍성군금마면신곡리196-2","이산옥"]
[{"$f":"LEFT($B59701,10)&TEXT($D59701,\"0\")&TEXT($E59701,\"0000\")&TEXT($F59701,\"0000\")","v":"4480032030102270005"},4480032030,null,1,227,5,"227-5","답",3031,null,null,null,"충청남도홍성군구항면구항길57번길25102동103호(구항온누리아파트)","복진선"]
[{"$f":"LEFT($B59806,10)&TEXT($D59806,\"0\")&TEXT($E59806,\"0000\")&TEXT($F59806,\"0000\")","v":"4480032030102370006"},4480032030,null,1,237,6,"237-6","답",912,null,null,null,"장성리195","차정환"]
[{"$f":"LEFT($B59958,10)&TEXT($D59958,\"0\")&TEXT($E59958,\"0000\")&TEXT($F59958,\"0000\")","v":"4480032030103140000"},4480032030,null,1,314,0,314,"도",198,null,null,null,"국(건설부)","국"]
[{"$f":"LEFT($B60031,10)&TEXT($D60031,\"0\")&TEXT($E60031,\"0000\")&TEXT($F60031,\"0000\")","v":"4480032030103450005"},4480032030,null,1,345,5,"345-5","도",176,null,null,null,"국(건설부)","국"]
[{"$f":"LEFT($B60147,10)&TEXT($D60147,\"0\")&TEXT($E60147,\"0000\")&TEXT($F60147,\"0000\")","v":"4480032030104320005"},4480032030,null,1,432,5,"432-5","제",1192,null,null,null,"국(기획재정부)","국"]
[{"$f":"LEFT($B60376,10)&TEXT($D60376,\"0\")&TEXT($E60376,\"0000\")&TEXT($F60376,\"0000\")","v":"4480032030200650008"},4480032030,null,2,65,8,"65-8","임",298,null,null,null,"신곡리110","최재민"]
[{"$f":"LEFT($B60481,10)&TEXT($D60481,\"0\")&TEXT($E60481,\"0000\")&TEXT($F60481,\"0000\")","v":"4480032031100610001"},4480032031,null,1,61,1,"61-1","전",1812,null,null,null,"충청남도서산시해미면삼송학당길5-34","최동현"]
[{"$f":"LEFT($B60541,10)&TEXT($D60541,\"0\")&TEXT($E60541,\"0000\")&TEXT($F60541,\"0000\")","v":"4480032031100820046"},4480032031,null,1,82,46,"82-46","대",38,null,null,null,"청양군청양읍읍내리377-5천강아파트1702","김광수"]
[{"$f":"LEFT($B60706,10)&TEXT($D60706,\"0\")&TEXT($E60706,\"0000\")&TEXT($F60706,\"0000\")","v":"4480032031101350002"},4480032031,null,1,135,2,"135-2","대",4264,null,null,null,"135-2","김관희"]
[{"$f":"LEFT($B60811,10)&TEXT($D60811,\"0\")&TEXT($E60811,\"0000\")&TEXT($F60811,\"0000\")","v":"4480032031102170009"},4480032031,null,1,217,9,"217-9","대",284,null,null,null,93,"이경선"]
[{"$f":"LEFT($B60935,10)&TEXT($D60935,\"0\")&TEXT($E60935,\"0000\")&TEXT($F60935,\"0000\")","v":"4480032031102760003"},4480032031,null,1,276,3,"276-3","전",425,null,null,null,"서울특별시관악구봉천로45길21-6(봉천동)","이홍범"]
[{"$f":"LEFT($B61036,10)&TEXT($D61036,\"0\")&TEXT($E61036,\"0000\")&TEXT($F61036,\"0000\")","v":"4480032031103330001"},4480032031,null,1,333,1,"333-1","과",298,null,null,null,"서울특별시송파구신천동20파크리오229-1202","이재환"]
[{"$f":"LEFT($B61141,10)&TEXT($D61141,\"0\")&TEXT($E61141,\"0000\")&TEXT($F61141,\"0000\")","v":"4480032031103910001"},4480032031,null,1,391,1,"391-1","도",10,null,null,null,"국(건설부)","국"]
[{"$f":"LEFT($B61228,10)&TEXT($D61228,\"0\")&TEXT($E61228,\"0000\")&TEXT($F61228,\"0000\")","v":"4480032031104310001"},4480032031,null,1,431,1,"431-1","철",8480,null,null,null,"국(국토교통부)","국"]
[{"$f":"LEFT($B61366,10)&TEXT($D61366,\"0\")&TEXT($E61366,\"0000\")&TEXT($F61366,\"0000\")","v":"4480032031105670002"},4480032031,null,1,567,2,"567-2","제",270,null,null,null,"국(건설부)","국"]
[{"$f":"LEFT($B61518,10)&TEXT($D61518,\"0\")&TEXT($E61518,\"0000\")&TEXT($F61518,\"0000\")","v":"4480032031107180001"},4480032031,null,1,718,1,"718-1","도",88,null,null,null,"국(건설교통부)","국"]
[{"$f":"LEFT($B61591,10)&TEXT($D61591,\"0\")&TEXT($E61591,\"0000\")&TEXT($F61591,\"0000\")","v":"4480032031108130000"},4480032031,null,1,813,0,813,"답",2396,null,null,null,52,"김용화"]
[{"$f":"LEFT($B61816,10)&TEXT($D61816,\"0\")&TEXT($E61816,\"0000\")&TEXT($F61816,\"0000\")","v":"4480032031110540002"},4480032031,null,1,1054,2,"1054-2","구",1654.2,null,null,null,"국(농림부)","국"]
[{"$f":"LEFT($B61912,10)&TEXT($D61912,\"0\")&TEXT($E61912,\"0000\")&TEXT($F61912,\"0000\")","v":"4480032031200630000"},4480032031,null,2,63,0,63,"도",3042,null,null,null,"국(건설부)","국"]
[{"$f":"LEFT($B62041,10)&TEXT($D62041,\"0\")&TEXT($E62041,\"0000\")&TEXT($F62041,\"0000\")","v":"4480032032100880003"},4480032032,null,1,88,3,"88-3","도",68,null,null,null,"홍성군","국"]
[{"$f":"LEFT($B62146,10)&TEXT($D62146,\"0\")&TEXT($E62146,\"0000\")&TEXT($F62146,\"0000\")","v":"4480032032101370003"},4480032032,null,1,137,3,"137-3","대",731,null,null,null,"대전시동구인동179-1현대아파트101-506","정재영"]
[{"$f":"LEFT($B62205,10)&TEXT($D62205,\"0\")&TEXT($E62205,\"0000\")&TEXT($F62205,\"0000\")","v":"4480032032101660005"},4480032032,null,1,166,5,"166-5","도",99,null,null,null,9,"민병완"]
[{"$f":"LEFT($B62371,10)&TEXT($D62371,\"0\")&TEXT($E62371,\"0000\")&TEXT($F62371,\"0000\")","v":"4480032032102250001"},4480032032,null,1,225,1,"225-1","전",1732,null,null,null,"충청남도홍성군금마면화양리225-2","김기덕"]
[{"$f":"LEFT($B62476,10)&TEXT($D62476,\"0\")&TEXT($E62476,\"0000\")&TEXT($F62476,\"0000\")","v":"4480032032102780003"},4480032032,null,1,278,3,"278-3","도",4,null,null,null,"충청남도홍성군금마면금북로165번길27","유창동"]
[{"$f":"LEFT($B62599,10)&TEXT($D62599,\"0\")&TEXT($E62599,\"0000\")&TEXT($F62599,\"0000\")","v":"4480032032103170009"},4480032032,null,1,317,9,"317-9","장",7834,null,null,null,"충청남도홍성군금마면철마산길149-14","주식회사천일휘드캄"]
[{"$f":"LEFT($B62701,10)&TEXT($D62701,\"0\")&TEXT($E62701,\"0000\")&TEXT($F62701,\"0000\")","v":"4480032032103340004"},4480032032,null,1,334,4,"334-4","도",739,null,null,null,"국(건설부)","국"]
[{"$f":"LEFT($B62788,10)&TEXT($D62788,\"0\")&TEXT($E62788,\"0000\")&TEXT($F62788,\"0000\")","v":"4480032032103990043"},4480032032,null,1,399,43,"399-43","대",235.6,null,null,null,"홍성군금마면부평리255","금마농업협동조합"]
[{"$f":"LEFT($B62926,10)&TEXT($D62926,\"0\")&TEXT($E62926,\"0000\")&TEXT($F62926,\"0000\")","v":"4480032032104950003"},4480032032,null,1,495,3,"495-3","대",423,null,null,null,25,"이영석"]
[{"$f":"LEFT($B63031,10)&TEXT($D63031,\"0\")&TEXT($E63031,\"0000\")&TEXT($F63031,\"0000\")","v":"4480032032106400007"},4480032032,null,1,640,7,"640-7","도",18,null,null,null,"국(건설부)","국"]
[{"$f":"LEFT($B63182,10)&TEXT($D63182,\"0\")&TEXT($E63182,\"0000\")&TEXT($F63182,\"0000\")","v":"4480032032108230003"},4480032032,null,1,823,3,"823-3","도",13,null,null,null,"국(농림수산부)","국"]
[{"$f":"LEFT($B63256,10)&TEXT($D63256,\"0\")&TEXT($E63256,\"0000\")&TEXT($F63256,\"0000\")","v":"4480032032109450000"},4480032032,null,1,945,0,945,"답",3160.2,null,null,null,"충청남도홍성군금마면화양리149-4","윤의선"]
[{"$f":"LEFT($B63481,10)&TEXT($D63481,\"0\")&TEXT($E63481,\"0000\")&TEXT($F63481,\"0000\")","v":"4480032032200320009"},4480032032,null,2,32,9,"32-9","구",151,null,null,null,"경기도의왕시포일동487","한국농어촌공사"]
[{"$f":"LEFT($B63576,10)&TEXT($D63576,\"0\")&TEXT($E63576,\"0000\")&TEXT($F63576,\"0000\")","v":"4480032033100320002"},4480032033,null,1,32,2,"32-2","전",3101,null,null,null,"홍성군홍성읍남장리356","최홍종"]
[{"$f":"LEFT($B63706,10)&TEXT($D63706,\"0\")&TEXT($E63706,\"0000\")&TEXT($F63706,\"0000\")","v":"4480032033101560000"},4480032033,null,1,156,0,156,"전",598,null,null,null,"충청남도홍성군금마면금북로126번길65-55","유경애"]
[{"$f":"LEFT($B63827,10)&TEXT($D63827,\"0\")&TEXT($E63827,\"0000\")&TEXT($F63827,\"0000\")","v":"4480032033102590003"},4480032033,null,1,259,3,"259-3","대",264,null,null,null,"홍성읍대교리390-13","이기택"]
[{"$f":"LEFT($B63970,10)&TEXT($D63970,\"0\")&TEXT($E63970,\"0000\")&TEXT($F63970,\"0000\")","v":"4480033021100930000"},4480033021,null,1,93,0,93,"구",1590,null,null,null,"국(농수산부)","국"]
[{"$f":"LEFT($B64036,10)&TEXT($D64036,\"0\")&TEXT($E64036,\"0000\")&TEXT($F64036,\"0000\")","v":"4480033021103120002"},4480033021,null,1,312,2,"312-2","대",23,null,null,null,"홍성군홍동면운월리313-1","홍동농업협동조합"]
[{"$f":"LEFT($B64157,10)&TEXT($D64157,\"0\")&TEXT($E64157,\"0000\")&TEXT($F64157,\"0000\")","v":"4480033021103490010"},4480033021,null,1,349,10,"349-10","답",1707,null,null,null,"홍성군홍동면월현리567","김우석"]
[{"$f":"LEFT($B64245,10)&TEXT($D64245,\"0\")&TEXT($E64245,\"0000\")&TEXT($F64245,\"0000\")","v":"4480033021103800000"},4480033021,null,1,380,0,380,"답",1119.5999999999999,null,null,null,"충청남도홍성군홍동면운월리448","주일남"]
[{"$f":"LEFT($B64382,10)&TEXT($D64382,\"0\")&TEXT($E64382,\"0000\")&TEXT($F64382,\"0000\")","v":"4480033021105360001"},4480033021,null,1,536,1,"536-1","전",231.5,null,null,null,"운월리523","주흥섭"]
[{"$f":"LEFT($B64553,10)&TEXT($D64553,\"0\")&TEXT($E64553,\"0000\")&TEXT($F64553,\"0000\")","v":"4480033021107450004"},4480033021,null,1,745,4,"745-4","전",597.6,null,null,null,"충청남도홍성군홍동면운월리541","주용수"]
[{"$f":"LEFT($B64591,10)&TEXT($D64591,\"0\")&TEXT($E64591,\"0000\")&TEXT($F64591,\"0000\")","v":"4480033021107690003"},4480033021,null,1,769,3,"769-3","임",1634.1,null,null,null,"대전광역시서구용문동259-14","주윤택"]
[{"$f":"LEFT($B64712,10)&TEXT($D64712,\"0\")&TEXT($E64712,\"0000\")&TEXT($F64712,\"0000\")","v":"4480033021108070000"},4480033021,null,1,807,0,807,"창",2210,null,null,null,"충청남도홍성군홍동면광금남로539번길11-14","주한준"]
[{"$f":"LEFT($B64828,10)&TEXT($D64828,\"0\")&TEXT($E64828,\"0000\")&TEXT($F64828,\"0000\")","v":"4480033022100260003"},4480033022,null,1,26,3,"26-3","임",29,null,null,null,"국(건설교통부)","국"]
[{"$f":"LEFT($B65041,10)&TEXT($D65041,\"0\")&TEXT($E65041,\"0000\")&TEXT($F65041,\"0000\")","v":"4480033022102890004"},4480033022,null,1,289,4,"289-4","임",4519,null,null,null,276,"정경진"]
[{"$f":"LEFT($B65162,10)&TEXT($D65162,\"0\")&TEXT($E65162,\"0000\")&TEXT($F65162,\"0000\")","v":"4480033022104240000"},4480033022,null,1,424,0,424,"목",1593,null,null,null,263,"주윤택"]
[{"$f":"LEFT($B65222,10)&TEXT($D65222,\"0\")&TEXT($E65222,\"0000\")&TEXT($F65222,\"0000\")","v":"4480033022104580001"},4480033022,null,1,458,1,"458-1","답",1421,null,null,null,"대전광역시중구목중로54번길1013동406호(중촌동주공아파트)","한인재"]
[{"$f":"LEFT($B65387,10)&TEXT($D65387,\"0\")&TEXT($E65387,\"0000\")&TEXT($F65387,\"0000\")","v":"4480033022106950003"},4480033022,null,1,695,3,"695-3","임",1936,null,null,null,247,"한상봉"]
[{"$f":"LEFT($B65492,10)&TEXT($D65492,\"0\")&TEXT($E65492,\"0000\")&TEXT($F65492,\"0000\")","v":"4480033022200410001"},4480033022,null,2,41,1,"41-1","임",7024,null,null,null,"대전광역시동구우암로246번길75102호(가양동)","한학재"]
[{"$f":"LEFT($B65616,10)&TEXT($D65616,\"0\")&TEXT($E65616,\"0000\")&TEXT($F65616,\"0000\")","v":"4480033023100620000"},4480033023,null,1,62,0,62,"전",701,null,null,null,"충청남도홍성군홍북면신경리507-3","최은식"]
[{"$f":"LEFT($B65717,10)&TEXT($D65717,\"0\")&TEXT($E65717,\"0000\")&TEXT($F65717,\"0000\")","v":"4480033023101710002"},4480033023,null,1,171,2,"171-2","임",655,null,null,null,"충청남도홍성군홍동면광금남로63번길351","성주이씨승지공14세손세천문중"]
[{"$f":"LEFT($B65805,10)&TEXT($D65805,\"0\")&TEXT($E65805,\"0000\")&TEXT($F65805,\"0000\")","v":"4480033023102700003"},4480033023,null,1,270,3,"270-3","전",681,null,null,null,254,"창원황씨이산공파문중"]
[{"$f":"LEFT($B65926,10)&TEXT($D65926,\"0\")&TEXT($E65926,\"0000\")&TEXT($F65926,\"0000\")","v":"4480033023103800001"},4480033023,null,1,380,1,"380-1","임",1934,null,null,null,"홍성읍남장리515주공그린빌101-302","전근수"]
[{"$f":"LEFT($B66047,10)&TEXT($D66047,\"0\")&TEXT($E66047,\"0000\")&TEXT($F66047,\"0000\")","v":"4480033023105100011"},4480033023,null,1,510,11,"510-11","임",862,null,null,null,254,"창원황씨이산공파문중"]
[{"$f":"LEFT($B66199,10)&TEXT($D66199,\"0\")&TEXT($E66199,\"0000\")&TEXT($F66199,\"0000\")","v":"4480033023107030000"},4480033023,null,1,703,0,703,"구",809.8,null,null,null,"국(농림수산부)","국"]
[{"$f":"LEFT($B66272,10)&TEXT($D66272,\"0\")&TEXT($E66272,\"0000\")&TEXT($F66272,\"0000\")","v":"4480033023201200000"},4480033023,null,2,120,0,120,"구",1223,null,null,null,"국(건설부)","국"]
[{"$f":"LEFT($B66377,10)&TEXT($D66377,\"0\")&TEXT($E66377,\"0000\")&TEXT($F66377,\"0000\")","v":"4480033024100480000"},4480033024,null,1,48,0,48,"전",1392.4,null,null,null,"충청남도홍성군홍동면홍원리43","한만규"]
[{"$f":"LEFT($B66593,10)&TEXT($D66593,\"0\")&TEXT($E66593,\"0000\")&TEXT($F66593,\"0000\")","v":"4480033024103920001"},4480033024,null,1,392,1,"392-1","전",797,null,null,null,"청양군화성면용당리220","윤현구"]
[{"$f":"LEFT($B66722,10)&TEXT($D66722,\"0\")&TEXT($E66722,\"0000\")&TEXT($F66722,\"0000\")","v":"4480033024105420001"},4480033024,null,1,542,1,"542-1","전",2228,null,null,null,"542-1","이옥윤"]
[{"$f":"LEFT($B66827,10)&TEXT($D66827,\"0\")&TEXT($E66827,\"0000\")&TEXT($F66827,\"0000\")","v":"4480033024106930000"},4480033024,null,1,693,0,693,"전",261,null,null,null,"서울특별시구로구오류동340삼천리아파트103-2103","신민호"]
[{"$f":"LEFT($B66886,10)&TEXT($D66886,\"0\")&TEXT($E66886,\"0000\")&TEXT($F66886,\"0000\")","v":"4480033024107400000"},4480033024,null,1,740,0,740,"답",1174,null,null,null,"충청남도홍성군홍동면광금남로469번길27-36","주만탁"]
[{"$f":"LEFT($B67052,10)&TEXT($D67052,\"0\")&TEXT($E67052,\"0000\")&TEXT($F67052,\"0000\")","v":"4480033024108460001"},4480033024,null,1,846,1,"846-1","전",743,null,null,null,839,"송용진"]
[{"$f":"LEFT($B67176,10)&TEXT($D67176,\"0\")&TEXT($E67176,\"0000\")&TEXT($F67176,\"0000\")","v":"4480033024109710002"},4480033024,null,1,971,2,"971-2","답",1474,null,null,null,"홍원리1070-10","김기일"]
[{"$f":"LEFT($B67277,10)&TEXT($D67277,\"0\")&TEXT($E67277,\"0000\")&TEXT($F67277,\"0000\")","v":"4480033024110290001"},4480033024,null,1,1029,1,"1029-1","전",594,null,null,null,"화신리303","이상각"]
[{"$f":"LEFT($B67382,10)&TEXT($D67382,\"0\")&TEXT($E67382,\"0000\")&TEXT($F67382,\"0000\")","v":"4480033024110580000"},4480033024,null,1,1058,0,1058,"임",1648,null,null,null,"광천읍운용리170","영광김씨경파운용문중"]
[{"$f":"LEFT($B67451,10)&TEXT($D67451,\"0\")&TEXT($E67451,\"0000\")&TEXT($F67451,\"0000\")","v":"4480033024110770000"},4480033024,null,1,1077,0,1077,"임",1201,null,null,null,"116-3","박상태"]
[{"$f":"LEFT($B67607,10)&TEXT($D67607,\"0\")&TEXT($E67607,\"0000\")&TEXT($F67607,\"0000\")","v":"4480033024111110014"},4480033024,null,1,1111,14,"1111-14","답",1058.2,null,null,null,"충청남도홍성군홍성읍월계천길41-11104동502호(홍성향촌현대아파트)","우종학"]
[{"$f":"LEFT($B67712,10)&TEXT($D67712,\"0\")&TEXT($E67712,\"0000\")&TEXT($F67712,\"0000\")","v":"4480033024111360004"},4480033024,null,1,1136,4,"1136-4","답",1184.9000000000001,null,null,null,"인천광역시남구용현동627-79대림아파트8-304","박성구"]
[{"$f":"LEFT($B67863,10)&TEXT($D67863,\"0\")&TEXT($E67863,\"0000\")&TEXT($F67863,\"0000\")","v":"4480033025100510001"},4480033025,null,1,51,1,"51-1","임",50,null,null,null,"경기도의왕시포일동487","한국농어촌공사"]
[{"$f":"LEFT($B67937,10)&TEXT($D67937,\"0\")&TEXT($E67937,\"0000\")&TEXT($F67937,\"0000\")","v":"4480033025101490001"},4480033025,null,1,149,1,"149-1","전",20,null,null,null,155,"권영관"]
[{"$f":"LEFT($B68042,10)&TEXT($D68042,\"0\")&TEXT($E68042,\"0000\")&TEXT($F68042,\"0000\")","v":"4480033025102140000"},4480033025,null,1,214,0,214,"제",287,null,null,null,"국(농수산부)","국"]
[{"$f":"LEFT($B68257,10)&TEXT($D68257,\"0\")&TEXT($E68257,\"0000\")&TEXT($F68257,\"0000\")","v":"4480033025104460000"},4480033025,null,1,446,0,446,"전",700,null,null,null,"홍원리787","김기홍"]
[{"$f":"LEFT($B68387,10)&TEXT($D68387,\"0\")&TEXT($E68387,\"0000\")&TEXT($F68387,\"0000\")","v":"4480033026100010010"},4480033026,null,1,1,10,"1-10","임",4551,null,null,null,"효학리422","심효섭"]
[{"$f":"LEFT($B68492,10)&TEXT($D68492,\"0\")&TEXT($E68492,\"0000\")&TEXT($F68492,\"0000\")","v":"4480033026101490000"},4480033026,null,1,149,0,149,"목",787,null,null,null,165,"김중호"]
[{"$f":"LEFT($B68532,10)&TEXT($D68532,\"0\")&TEXT($E68532,\"0000\")&TEXT($F68532,\"0000\")","v":"4480033026101770006"},4480033026,null,1,177,6,"177-6","천",136,null,null,null,"경기도부천시원미구부천로86번길27에이동102호(원미동하나맨션)","김락호"]
[{"$f":"LEFT($B68717,10)&TEXT($D68717,\"0\")&TEXT($E68717,\"0000\")&TEXT($F68717,\"0000\")","v":"4480033026104130002"},4480033026,null,1,413,2,"413-2","구",830,null,null,null,"경기도의왕시포일동487","한국농어촌공사"]
[{"$f":"LEFT($B68840,10)&TEXT($D68840,\"0\")&TEXT($E68840,\"0000\")&TEXT($F68840,\"0000\")","v":"4480033026105260000"},4480033026,null,1,526,0,526,"답",2965,null,null,null,"운월리448","이정심"]
[{"$f":"LEFT($B68942,10)&TEXT($D68942,\"0\")&TEXT($E68942,\"0000\")&TEXT($F68942,\"0000\")","v":"4480033026106880000"},4480033026,null,1,688,0,688,"답",1595,null,null,null,"홍성읍대교리283","청주이씨운헌파문중"]
[{"$f":"LEFT($B69047,10)&TEXT($D69047,\"0\")&TEXT($E69047,\"0000\")&TEXT($F69047,\"0000\")","v":"4480033026107330005"},4480033026,null,1,733,5,"733-5","답",960.7,null,null,null,"충청남도천안시동남구목천읍신계5길47102동906호(목천신도브래뉴1차아파트)","김미경"]
[{"$f":"LEFT($B69234,10)&TEXT($D69234,\"0\")&TEXT($E69234,\"0000\")&TEXT($F69234,\"0000\")","v":"4480033027100600006"},4480033027,null,1,60,6,"60-6","전",176,null,null,null,"60-3","최경이"]
[{"$f":"LEFT($B69272,10)&TEXT($D69272,\"0\")&TEXT($E69272,\"0000\")&TEXT($F69272,\"0000\")","v":"4480033027101170002"},4480033027,null,1,117,2,"117-2","대",145,null,null,null,"경기도군포시산본천로34645동1204호(산본동세종아파트)","장보라"]
[{"$f":"LEFT($B69393,10)&TEXT($D69393,\"0\")&TEXT($E69393,\"0000\")&TEXT($F69393,\"0000\")","v":"4480033027102570004"},4480033027,null,1,257,4,"257-4","장",4671,null,null,null,223,"풀무환경농업영농조합법인"]
[{"$f":"LEFT($B69509,10)&TEXT($D69509,\"0\")&TEXT($E69509,\"0000\")&TEXT($F69509,\"0000\")","v":"4480033027103300004"},4480033027,null,1,330,4,"330-4","도",466,null,null,null,"364-2","이기양"]
[{"$f":"LEFT($B69602,10)&TEXT($D69602,\"0\")&TEXT($E69602,\"0000\")&TEXT($F69602,\"0000\")","v":"4480033027103950044"},4480033027,null,1,395,44,"395-44","전",2131,null,null,null,"금평리424","유효진"]
[{"$f":"LEFT($B69723,10)&TEXT($D69723,\"0\")&TEXT($E69723,\"0000\")&TEXT($F69723,\"0000\")","v":"4480033027104920000"},4480033027,null,1,492,0,492,"답",1730,null,null,null,272,"이기선"]
[{"$f":"LEFT($B69903,10)&TEXT($D69903,\"0\")&TEXT($E69903,\"0000\")&TEXT($F69903,\"0000\")","v":"4480033027106690010"},4480033027,null,1,669,10,"669-10","답",3243.1,null,null,null,"전라남도나주시그린로20(빛가람동)","한국농어촌공사"]
[{"$f":"LEFT($B70052,10)&TEXT($D70052,\"0\")&TEXT($E70052,\"0000\")&TEXT($F70052,\"0000\")","v":"4480033028100090000"},4480033028,null,1,9,0,9,"답",1666,null,null,null,12,"송홍석"]
[{"$f":"LEFT($B70092,10)&TEXT($D70092,\"0\")&TEXT($E70092,\"0000\")&TEXT($F70092,\"0000\")","v":"4480033028100550005"},4480033028,null,1,55,5,"55-5","전",600,null,null,null,"충청남도홍성군홍동면홍동길79번길53-11","김흥중"]
[{"$f":"LEFT($B70277,10)&TEXT($D70277,\"0\")&TEXT($E70277,\"0000\")&TEXT($F70277,\"0000\")","v":"4480033028102250011"},4480033028,null,1,225,11,"225-11","도",366,null,null,null,"구정리210","강인구"]
[{"$f":"LEFT($B70398,10)&TEXT($D70398,\"0\")&TEXT($E70398,\"0000\")&TEXT($F70398,\"0000\")","v":"4480033028103380008"},4480033028,null,1,338,8,"338-8","임",485,null,null,null,"충청남도홍성군홍동면광금남로787-57","이석인"]
[{"$f":"LEFT($B70486,10)&TEXT($D70486,\"0\")&TEXT($E70486,\"0000\")&TEXT($F70486,\"0000\")","v":"4480033028104090000"},4480033028,null,1,409,0,409,"전",281,null,null,null,"홍성읍고암리568-4","강광식"]
[{"$f":"LEFT($B70607,10)&TEXT($D70607,\"0\")&TEXT($E70607,\"0000\")&TEXT($F70607,\"0000\")","v":"4480033028105370001"},4480033028,null,1,537,1,"537-1","대",1240,null,null,null,"충청남도홍성군홍동면홍동길16번길60-20","김경순"]
[{"$f":"LEFT($B70728,10)&TEXT($D70728,\"0\")&TEXT($E70728,\"0000\")&TEXT($F70728,\"0000\")","v":"4480033028106780000"},4480033028,null,1,678,0,678,"답",1620,null,null,null,"경기도군포시군포로490번길22102동906호(당동동아아파트)","주홍철"]
[{"$f":"LEFT($B70880,10)&TEXT($D70880,\"0\")&TEXT($E70880,\"0000\")&TEXT($F70880,\"0000\")","v":"4480033028107790001"},4480033028,null,1,779,1,"779-1","답",3419.5,null,null,null,"충청남도홍성군홍동면홍동길137번길65-54","최호일"]
[{"$f":"LEFT($B70953,10)&TEXT($D70953,\"0\")&TEXT($E70953,\"0000\")&TEXT($F70953,\"0000\")","v":"4480033028200390002"},4480033028,null,2,39,2,"39-2","임",992,null,null,null,438,"해주최씨문정공파종중"]
[{"$f":"LEFT($B71058,10)&TEXT($D71058,\"0\")&TEXT($E71058,\"0000\")&TEXT($F71058,\"0000\")","v":"4480033029100460003"},4480033029,null,1,46,3,"46-3","전",1091,null,null,null,"경기도평택시비전동923솔매마을한일유앤아이아파트103-403","이인용"]
[{"$f":"LEFT($B71155,10)&TEXT($D71155,\"0\")&TEXT($E71155,\"0000\")&TEXT($F71155,\"0000\")","v":"4480033029101340000"},4480033029,null,1,134,0,134,"답",178,null,null,null,"서울특별시성북구정릉동1028정릉이편한세상106-205","이화용"]
[{"$f":"LEFT($B71283,10)&TEXT($D71283,\"0\")&TEXT($E71283,\"0000\")&TEXT($F71283,\"0000\")","v":"4480033029103400001"},4480033029,null,1,340,1,"340-1","전",1097,null,null,null,"충청남도홍성군홍동면충절로512-41","이환엽"]
[{"$f":"LEFT($B71463,10)&TEXT($D71463,\"0\")&TEXT($E71463,\"0000\")&TEXT($F71463,\"0000\")","v":"4480033029104050000"},4480033029,null,1,405,0,405,"전",1960,null,null,null,"충청남도홍성군홍동면광금북로17번길41-13","김동영"]
[{"$f":"LEFT($B71612,10)&TEXT($D71612,\"0\")&TEXT($E71612,\"0000\")&TEXT($F71612,\"0000\")","v":"4480033029105560002"},4480033029,null,1,556,2,"556-2","전",1924,null,null,null,"경기도양주시화합로1426번길39106동504호(덕정동은동마을)","최은숙"]
[{"$f":"LEFT($B71733,10)&TEXT($D71733,\"0\")&TEXT($E71733,\"0000\")&TEXT($F71733,\"0000\")","v":"4480033029106290008"},4480033029,null,1,629,8,"629-8","임",2035,null,null,null,725,"정영섭"]
[{"$f":"LEFT($B71857,10)&TEXT($D71857,\"0\")&TEXT($E71857,\"0000\")&TEXT($F71857,\"0000\")","v":"4480033029107330002"},4480033029,null,1,733,2,"733-2","전",817,null,null,null,"신기리728","임병철"]
[{"$f":"LEFT($B71958,10)&TEXT($D71958,\"0\")&TEXT($E71958,\"0000\")&TEXT($F71958,\"0000\")","v":"4480033029108200001"},4480033029,null,1,820,1,"820-1","대",764,null,null,null,802,"담양전씨보령공파구제공문중"]
[{"$f":"LEFT($B72063,10)&TEXT($D72063,\"0\")&TEXT($E72063,\"0000\")&TEXT($F72063,\"0000\")","v":"4480033029109590000"},4480033029,null,1,959,0,959,"답",2720,null,null,null,"충청남도홍성군홍동면충절로430번길78","조천현"]
[{"$f":"LEFT($B72132,10)&TEXT($D72132,\"0\")&TEXT($E72132,\"0000\")&TEXT($F72132,\"0000\")","v":"4480033029110450005"},4480033029,null,1,1045,5,"1045-5","구",138.30000000000001,null,null,null,"국(농림수산부)","국"]
[{"$f":"LEFT($B72288,10)&TEXT($D72288,\"0\")&TEXT($E72288,\"0000\")&TEXT($F72288,\"0000\")","v":"4480033029200560000"},4480033029,null,2,56,0,56,"임",4364,null,null,null,131,"유호원"]
[{"$f":"LEFT($B72393,10)&TEXT($D72393,\"0\")&TEXT($E72393,\"0000\")&TEXT($F72393,\"0000\")","v":"4480033029201810000"},4480033029,null,2,181,0,181,"도",1025,null,null,null,"국(건설부)","국"]
[{"$f":"LEFT($B72526,10)&TEXT($D72526,\"0\")&TEXT($E72526,\"0000\")&TEXT($F72526,\"0000\")","v":"4480033030101890001"},4480033030,null,1,189,1,"189-1","대",454,null,null,null,"충청남도홍성군홍동면광금북로114번길248","김영만"]
[{"$f":"LEFT($B72618,10)&TEXT($D72618,\"0\")&TEXT($E72618,\"0000\")&TEXT($F72618,\"0000\")","v":"4480033030102780001"},4480033030,null,1,278,1,"278-1","전",863,null,null,null,279,"유을동"]
[{"$f":"LEFT($B72715,10)&TEXT($D72715,\"0\")&TEXT($E72715,\"0000\")&TEXT($F72715,\"0000\")","v":"4480033030104100000"},4480033030,null,1,410,0,410,"대",655,null,null,null,"안산시상록구건건동648-2대성빌라204","한동겸"]
[{"$f":"LEFT($B72843,10)&TEXT($D72843,\"0\")&TEXT($E72843,\"0000\")&TEXT($F72843,\"0000\")","v":"4480033030105330002"},4480033030,null,1,533,2,"533-2","전",1554,null,null,null,"충청남도홍성군홍동면수란리524-1","송희석"]
[{"$f":"LEFT($B72948,10)&TEXT($D72948,\"0\")&TEXT($E72948,\"0000\")&TEXT($F72948,\"0000\")","v":"4480033030106290003"},4480033030,null,1,629,3,"629-3","임",2327,null,null,null,"충청남도홍성군홍동면충절로448번길110-28","이찬우"]
[{"$f":"LEFT($B73109,10)&TEXT($D73109,\"0\")&TEXT($E73109,\"0000\")&TEXT($F73109,\"0000\")","v":"4480033030107940002"},4480033030,null,1,794,2,"794-2","답",1934.7,null,null,null,"인천광역시서구서곶로818101동1103호(당하동영남탑스빌아파트)","조성수"]
[{"$f":"LEFT($B73293,10)&TEXT($D73293,\"0\")&TEXT($E73293,\"0000\")&TEXT($F73293,\"0000\")","v":"4480033030201480002"},4480033030,null,2,148,2,"148-2","임",29256,null,null,null,"충청남도홍성군홍성읍고암리552-49","온양정씨도원도찰방공파산양종중"]
[{"$f":"LEFT($B73398,10)&TEXT($D73398,\"0\")&TEXT($E73398,\"0000\")&TEXT($F73398,\"0000\")","v":"4480033031100430000"},4480033031,null,1,43,0,43,"답",215,null,null,null,362,"이하용"]
[{"$f":"LEFT($B73521,10)&TEXT($D73521,\"0\")&TEXT($E73521,\"0000\")&TEXT($F73521,\"0000\")","v":"4480033031101810003"},4480033031,null,1,181,3,"181-3","전",3212,null,null,null,"경기도남양주군구리읍교문리217-9","장동수"]
[{"$f":"LEFT($B73623,10)&TEXT($D73623,\"0\")&TEXT($E73623,\"0000\")&TEXT($F73623,\"0000\")","v":"4480033031102620001"},4480033031,null,1,262,1,"262-1","전",1712,null,null,null,283,"홍기성"]
[{"$f":"LEFT($B73728,10)&TEXT($D73728,\"0\")&TEXT($E73728,\"0000\")&TEXT($F73728,\"0000\")","v":"4480033031103620001"},4480033031,null,1,362,1,"362-1","대",566,null,null,null,381,"유태철"]
[{"$f":"LEFT($B73796,10)&TEXT($D73796,\"0\")&TEXT($E73796,\"0000\")&TEXT($F73796,\"0000\")","v":"4480033031104310002"},4480033031,null,1,431,2,"431-2","전",3052,null,null,null,31,"유석동"]
[{"$f":"LEFT($B73953,10)&TEXT($D73953,\"0\")&TEXT($E73953,\"0000\")&TEXT($F73953,\"0000\")","v":"4480033031105730001"},4480033031,null,1,573,1,"573-1","대",551,null,null,null,"산84-1","오연석"]
[{"$f":"LEFT($B74058,10)&TEXT($D74058,\"0\")&TEXT($E74058,\"0000\")&TEXT($F74058,\"0000\")","v":"4480033031106780000"},4480033031,null,1,678,0,678,"대",234,null,null,null,"광천읍광천리356-1","강춘길"]
[{"$f":"LEFT($B74190,10)&TEXT($D74190,\"0\")&TEXT($E74190,\"0000\")&TEXT($F74190,\"0000\")","v":"4480033031107920001"},4480033031,null,1,792,1,"792-1","도",713,null,null,null,"국(건설부)","국"]
[{"$f":"LEFT($B74283,10)&TEXT($D74283,\"0\")&TEXT($E74283,\"0000\")&TEXT($F74283,\"0000\")","v":"4480033031109090000"},4480033031,null,1,909,0,909,"답",695,null,null,null,729,"조진수"]
[{"$f":"LEFT($B74498,10)&TEXT($D74498,\"0\")&TEXT($E74498,\"0000\")&TEXT($F74498,\"0000\")","v":"4480033031200770000"},4480033031,null,2,77,0,77,"임",13388,null,null,null,"경기도안양시동안구호계동1056-6무궁화아파트504-502","조기행"]
[{"$f":"LEFT($B74508,10)&TEXT($D74508,\"0\")&TEXT($E74508,\"0000\")&TEXT($F74508,\"0000\")","v":"4480033031200840013"},4480033031,null,2,84,13,"84-13","임",793,null,null,null,291,"이기양"]
[{"$f":"LEFT($B74733,10)&TEXT($D74733,\"0\")&TEXT($E74733,\"0000\")&TEXT($F74733,\"0000\")","v":"4480033032101110001"},4480033032,null,1,111,1,"111-1","임",895,null,null,null,"천안시성환읍매주리332-42","이석우"]
[{"$f":"LEFT($B74773,10)&TEXT($D74773,\"0\")&TEXT($E74773,\"0000\")&TEXT($F74773,\"0000\")","v":"4480033032101510003"},4480033032,null,1,151,3,"151-3","답",3629,null,null,null,"산64-2","이도연"]
[{"$f":"LEFT($B74958,10)&TEXT($D74958,\"0\")&TEXT($E74958,\"0000\")&TEXT($F74958,\"0000\")","v":"4480033032102760000"},4480033032,null,1,276,0,276,"전",1868,null,null,null,276,"이용득"]
[{"$f":"LEFT($B75063,10)&TEXT($D75063,\"0\")&TEXT($E75063,\"0000\")&TEXT($F75063,\"0000\")","v":"4480033032103920000"},4480033032,null,1,392,0,392,"전",1074,null,null,null,"충청남도보령시옥갓티2길10-5(대천동)","이곤학"]
[{"$f":"LEFT($B75167,10)&TEXT($D75167,\"0\")&TEXT($E75167,\"0000\")&TEXT($F75167,\"0000\")","v":"4480033032105040000"},4480033032,null,1,504,0,504,"답",2552,null,null,null,"충청남도홍성군홍동면효학리283","조희자"]
[{"$f":"LEFT($B75288,10)&TEXT($D75288,\"0\")&TEXT($E75288,\"0000\")&TEXT($F75288,\"0000\")","v":"4480033032200560000"},4480033032,null,2,56,0,56,"임",1700,null,null,null,"평택시신장동297-155","최규호"]
[{"$f":"LEFT($B75409,10)&TEXT($D75409,\"0\")&TEXT($E75409,\"0000\")&TEXT($F75409,\"0000\")","v":"4480033033101030001"},4480033033,null,1,103,1,"103-1","전",379,null,null,null,"국(건설부)","국"]
[{"$f":"LEFT($B75561,10)&TEXT($D75561,\"0\")&TEXT($E75561,\"0000\")&TEXT($F75561,\"0000\")","v":"4480033033102180002"},4480033033,null,1,218,2,"218-2","전",1398,null,null,null,"대영리172","이정호"]
[{"$f":"LEFT($B75618,10)&TEXT($D75618,\"0\")&TEXT($E75618,\"0000\")&TEXT($F75618,\"0000\")","v":"4480033033102720001"},4480033033,null,1,272,1,"272-1","대",221,null,null,null,"충청남도홍성군홍동면충절로281번길15-14","김순남"]
[{"$f":"LEFT($B75750,10)&TEXT($D75750,\"0\")&TEXT($E75750,\"0000\")&TEXT($F75750,\"0000\")","v":"4480033033104190002"},4480033033,null,1,419,2,"419-2","전",334,null,null,null,420,"장인학"]
[{"$f":"LEFT($B75843,10)&TEXT($D75843,\"0\")&TEXT($E75843,\"0000\")&TEXT($F75843,\"0000\")","v":"4480033033105150009"},4480033033,null,1,515,9,"515-9","답",266.7,null,null,null,"국(국토해양부)","국"]
[{"$f":"LEFT($B75964,10)&TEXT($D75964,\"0\")&TEXT($E75964,\"0000\")&TEXT($F75964,\"0000\")","v":"4480033033200150000"},4480033033,null,2,15,0,15,"임",2182,null,null,null,"예산읍예산리416","이성우"]
[{"$f":"LEFT($B76144,10)&TEXT($D76144,\"0\")&TEXT($E76144,\"0000\")&TEXT($F76144,\"0000\")","v":"4480033034101070001"},4480033034,null,1,107,1,"107-1","대",868,null,null,null,"충청남도홍성군홍동면광금남로699번길178-40","이병희"]
[{"$f":"LEFT($B76293,10)&TEXT($D76293,\"0\")&TEXT($E76293,\"0000\")&TEXT($F76293,\"0000\")","v":"4480033034102200003"},4480033034,null,1,220,3,"220-3","전",2405,null,null,null,"성남시분당구이매동123이매촌607-1102","김정희"]
[{"$f":"LEFT($B76414,10)&TEXT($D76414,\"0\")&TEXT($E76414,\"0000\")&TEXT($F76414,\"0000\")","v":"4480033034103550001"},4480033034,null,1,355,1,"355-1","전",625,null,null,null,"금마면송암리240","김기봉"]
[{"$f":"LEFT($B76419,10)&TEXT($D76419,\"0\")&TEXT($E76419,\"0000\")&TEXT($F76419,\"0000\")","v":"4480033034103560004"},4480033034,null,1,356,4,"356-4","임",429,null,null,null,"국(국토해양부)","국"]
[{"$f":"LEFT($B76623,10)&TEXT($D76623,\"0\")&TEXT($E76623,\"0000\")&TEXT($F76623,\"0000\")","v":"4480033034105350000"},4480033034,null,1,535,0,535,"답",1487,null,null,null,"충청남도홍성군홍성읍문화로72번길41102동805호(대우아파트)","김혜숙"]
[{"$f":"LEFT($B76744,10)&TEXT($D76744,\"0\")&TEXT($E76744,\"0000\")&TEXT($F76744,\"0000\")","v":"4480033034106630002"},4480033034,null,1,663,2,"663-2","대",264,null,null,null,633,"박성목"]
[{"$f":"LEFT($B76813,10)&TEXT($D76813,\"0\")&TEXT($E76813,\"0000\")&TEXT($F76813,\"0000\")","v":"4480033034107190001"},4480033034,null,1,719,1,"719-1","답",470.3,null,null,null,"국(건설교통부)","국"]
[{"$f":"LEFT($B76969,10)&TEXT($D76969,\"0\")&TEXT($E76969,\"0000\")&TEXT($F76969,\"0000\")","v":"4480033034200670000"},4480033034,null,2,67,0,67,"임",5455,null,null,null,429,"이동원"]
[{"$f":"LEFT($B77121,10)&TEXT($D77121,\"0\")&TEXT($E77121,\"0000\")&TEXT($F77121,\"0000\")","v":"4480034021100770002"},4480034021,null,1,77,2,"77-2","답",150,null,null,null,"충청남도홍성군장곡면홍장남로144번길15","안병인"]
[{"$f":"LEFT($B77178,10)&TEXT($D77178,\"0\")&TEXT($E77178,\"0000\")&TEXT($F77178,\"0000\")","v":"4480034021101280000"},4480034021,null,1,128,0,128,"유",4645,null,null,null,"경기도의왕시포일동487","한국농어촌공사"]
[{"$f":"LEFT($B77299,10)&TEXT($D77299,\"0\")&TEXT($E77299,\"0000\")&TEXT($F77299,\"0000\")","v":"4480034021102760005"},4480034021,null,1,276,5,"276-5","답",1660,null,null,null,"화계리70","유창돈"]
[{"$f":"LEFT($B77396,10)&TEXT($D77396,\"0\")&TEXT($E77396,\"0000\")&TEXT($F77396,\"0000\")","v":"4480034021103200002"},4480034021,null,1,320,2,"320-2","전",2448,null,null,null,"충청남도홍성군장곡면홍남동로524-9","송의찬"]
[{"$f":"LEFT($B77524,10)&TEXT($D77524,\"0\")&TEXT($E77524,\"0000\")&TEXT($F77524,\"0000\")","v":"4480034021104110007"},4480034021,null,1,411,7,"411-7","전",283,null,null,null,"410-1","성락천"]
[{"$f":"LEFT($B77629,10)&TEXT($D77629,\"0\")&TEXT($E77629,\"0000\")&TEXT($F77629,\"0000\")","v":"4480034021104730003"},4480034021,null,1,473,3,"473-3","도",307,null,null,null,"지정리85","안병태"]
[{"$f":"LEFT($B77790,10)&TEXT($D77790,\"0\")&TEXT($E77790,\"0000\")&TEXT($F77790,\"0000\")","v":"4480034021105600000"},4480034021,null,1,560,0,560,"도",646,null,null,null,"국(농림수산부)","국"]
[{"$f":"LEFT($B77854,10)&TEXT($D77854,\"0\")&TEXT($E77854,\"0000\")&TEXT($F77854,\"0000\")","v":"4480034021200060001"},4480034021,null,2,6,1,"6-1","임",2655,null,null,null,"신풍리428","박정완"]
[{"$f":"LEFT($B78079,10)&TEXT($D78079,\"0\")&TEXT($E78079,\"0000\")&TEXT($F78079,\"0000\")","v":"4480034022100790007"},4480034022,null,1,79,7,"79-7","답",145,null,null,null,"전라남도나주시그린로20(빛가람동)","한국농어촌공사"]
[{"$f":"LEFT($B78184,10)&TEXT($D78184,\"0\")&TEXT($E78184,\"0000\")&TEXT($F78184,\"0000\")","v":"4480034022101050012"},4480034022,null,1,105,12,"105-12","천",60,null,null,null,"홍성군","국"]
[{"$f":"LEFT($B78304,10)&TEXT($D78304,\"0\")&TEXT($E78304,\"0000\")&TEXT($F78304,\"0000\")","v":"4480034022102520001"},4480034022,null,1,252,1,"252-1","대",867,null,null,null,246,"김봉옥"]
[{"$f":"LEFT($B78409,10)&TEXT($D78409,\"0\")&TEXT($E78409,\"0000\")&TEXT($F78409,\"0000\")","v":"4480034022103920001"},4480034022,null,1,392,1,"392-1","전",499,null,null,null,354,"장창호"]
[{"$f":"LEFT($B78477,10)&TEXT($D78477,\"0\")&TEXT($E78477,\"0000\")&TEXT($F78477,\"0000\")","v":"4480034022104300002"},4480034022,null,1,430,2,"430-2","도",744,null,null,null,"홍성군","국"]
[{"$f":"LEFT($B78634,10)&TEXT($D78634,\"0\")&TEXT($E78634,\"0000\")&TEXT($F78634,\"0000\")","v":"4480034022106300005"},4480034022,null,1,630,5,"630-5","목",3036,null,null,null,"충청남도홍성군장곡면장곡길534번길78-72","최영욱"]
[{"$f":"LEFT($B78767,10)&TEXT($D78767,\"0\")&TEXT($E78767,\"0000\")&TEXT($F78767,\"0000\")","v":"4480034022107400005"},4480034022,null,1,740,5,"740-5","유",71,null,null,null,"홍성군","국"]
[{"$f":"LEFT($B78859,10)&TEXT($D78859,\"0\")&TEXT($E78859,\"0000\")&TEXT($F78859,\"0000\")","v":"4480034022108290000"},4480034022,null,1,829,0,829,"구",5092,null,null,null,"국(건설부)","국"]
[{"$f":"LEFT($B78964,10)&TEXT($D78964,\"0\")&TEXT($E78964,\"0000\")&TEXT($F78964,\"0000\")","v":"4480034022200810004"},4480034022,null,2,81,4,"81-4","임",8484,null,null,null,"충청남도천안시서북구성거읍석교2길34-67동303호(유원빌라트)","정해천"]
[{"$f":"LEFT($B79161,10)&TEXT($D79161,\"0\")&TEXT($E79161,\"0000\")&TEXT($F79161,\"0000\")","v":"4480034023101980002"},4480034023,null,1,198,2,"198-2","도",33,null,null,null,"충청남도홍성군장곡면화계리25","김옥환"]
[{"$f":"LEFT($B79189,10)&TEXT($D79189,\"0\")&TEXT($E79189,\"0000\")&TEXT($F79189,\"0000\")","v":"4480034023102300000"},4480034023,null,1,230,0,230,"전",417,null,null,null,223,"최채선"]
[{"$f":"LEFT($B79294,10)&TEXT($D79294,\"0\")&TEXT($E79294,\"0000\")&TEXT($F79294,\"0000\")","v":"4480034023104120001"},4480034023,null,1,412,1,"412-1","유",1494,null,null,null,"경기도의왕시포일동487","한국농어촌공사"]
[{"$f":"LEFT($B79454,10)&TEXT($D79454,\"0\")&TEXT($E79454,\"0000\")&TEXT($F79454,\"0000\")","v":"4480034023105820001"},4480034023,null,1,582,1,"582-1","답",2862.4,null,null,null,"60-1","윤주신"]
[{"$f":"LEFT($B79639,10)&TEXT($D79639,\"0\")&TEXT($E79639,\"0000\")&TEXT($F79639,\"0000\")","v":"4480034023200170002"},4480034023,null,2,17,2,"17-2","임",12047,null,null,null,70,"유창수"]
[{"$f":"LEFT($B79744,10)&TEXT($D79744,\"0\")&TEXT($E79744,\"0000\")&TEXT($F79744,\"0000\")","v":"4480034024100400003"},4480034024,null,1,40,3,"40-3","대",57.4,null,null,null,"홍성군","국"]
[{"$f":"LEFT($B79848,10)&TEXT($D79848,\"0\")&TEXT($E79848,\"0000\")&TEXT($F79848,\"0000\")","v":"4480034024101350001"},4480034024,null,1,135,1,"135-1","대",301.2,null,null,null,"홍성군장곡면광성리135-1","장곡면광성리3구마을회"]
[{"$f":"LEFT($B79969,10)&TEXT($D79969,\"0\")&TEXT($E79969,\"0000\")&TEXT($F79969,\"0000\")","v":"4480034024102410000"},4480034024,null,1,241,0,241,"도",496,null,null,null,"홍성군","국"]
[{"$f":"LEFT($B80037,10)&TEXT($D80037,\"0\")&TEXT($E80037,\"0000\")&TEXT($F80037,\"0000\")","v":"4480034024103100000"},4480034024,null,1,310,0,310,"답",1349,null,null,null,"서울시동대문구답십리동25-91","서이석"]
[{"$f":"LEFT($B80194,10)&TEXT($D80194,\"0\")&TEXT($E80194,\"0000\")&TEXT($F80194,\"0000\")","v":"4480034024106350000"},4480034024,null,1,635,0,635,"전",1798,null,null,null,"충청남도홍성군장곡면장곡길434번길70","김주범"]
[{"$f":"LEFT($B80299,10)&TEXT($D80299,\"0\")&TEXT($E80299,\"0000\")&TEXT($F80299,\"0000\")","v":"4480034024108480000"},4480034024,null,1,848,0,848,"임",1385,null,null,null,"충청남도홍성군장곡면장곡길434번길101-45","윤종택"]
[{"$f":"LEFT($B80431,10)&TEXT($D80431,\"0\")&TEXT($E80431,\"0000\")&TEXT($F80431,\"0000\")","v":"4480034024109850002"},4480034024,null,1,985,2,"985-2","답",3250.1,null,null,null,767,"김정식"]
[{"$f":"LEFT($B80524,10)&TEXT($D80524,\"0\")&TEXT($E80524,\"0000\")&TEXT($F80524,\"0000\")","v":"4480034024110080008"},4480034024,null,1,1008,8,"1008-8","답",2324.9,null,null,null,"충청남도홍성군장곡면장곡길318번길168","윤복순"]
[{"$f":"LEFT($B80629,10)&TEXT($D80629,\"0\")&TEXT($E80629,\"0000\")&TEXT($F80629,\"0000\")","v":"4480034024110700000"},4480034024,null,1,1070,0,1070,"구",1403,null,null,null,"국(농림부)","국"]
[{"$f":"LEFT($B80825,10)&TEXT($D80825,\"0\")&TEXT($E80825,\"0000\")&TEXT($F80825,\"0000\")","v":"4480034025100970000"},4480034025,null,1,97,0,97,"전",1792,null,null,null,"충청남도홍성군장곡면오성1길13","한금전"]
[{"$f":"LEFT($B80854,10)&TEXT($D80854,\"0\")&TEXT($E80854,\"0000\")&TEXT($F80854,\"0000\")","v":"4480034025101250004"},4480034025,null,1,125,4,"125-4","전",1261,null,null,null,"충청남도홍성군장곡면장곡길250번길92","이순재"]
[{"$f":"LEFT($B80975,10)&TEXT($D80975,\"0\")&TEXT($E80975,\"0000\")&TEXT($F80975,\"0000\")","v":"4480034025103120004"},4480034025,null,1,312,4,"312-4","도",122,null,null,null,"경기도의왕시포일동487","한국농어촌공사"]
[{"$f":"LEFT($B81100,10)&TEXT($D81100,\"0\")&TEXT($E81100,\"0000\")&TEXT($F81100,\"0000\")","v":"4480034025104370001"},4480034025,null,1,437,1,"437-1","구",46,null,null,null,"국(재무부)","국"]
[{"$f":"LEFT($B81304,10)&TEXT($D81304,\"0\")&TEXT($E81304,\"0000\")&TEXT($F81304,\"0000\")","v":"4480034025105420000"},4480034025,null,1,542,0,542,"답",985,null,null,null,"경기도수원시권선구매실로70111동1304호(호매실동호매실지에스아파트)","김진택"]
[{"$f":"LEFT($B81408,10)&TEXT($D81408,\"0\")&TEXT($E81408,\"0000\")&TEXT($F81408,\"0000\")","v":"4480034025201010000"},4480034025,null,2,101,0,101,"구",430,null,null,null,"국(건설부)","국"]
[{"$f":"LEFT($B81529,10)&TEXT($D81529,\"0\")&TEXT($E81529,\"0000\")&TEXT($F81529,\"0000\")","v":"4480034026103300000"},4480034026,null,1,330,0,330,"전",55,null,null,null,"광천읍내죽리10","이덕호"]
[{"$f":"LEFT($B81650,10)&TEXT($D81650,\"0\")&TEXT($E81650,\"0000\")&TEXT($F81650,\"0000\")","v":"4480034026104780000"},4480034026,null,1,478,0,478,"답",598,null,null,null,"경기도의왕시포일동487","한국농어촌공사"]
[{"$f":"LEFT($B81683,10)&TEXT($D81683,\"0\")&TEXT($E81683,\"0000\")&TEXT($F81683,\"0000\")","v":"4480034026104940004"},4480034026,null,1,494,4,"494-4","도",26,null,null,null,"홍성군","국"]
[{"$f":"LEFT($B81859,10)&TEXT($D81859,\"0\")&TEXT($E81859,\"0000\")&TEXT($F81859,\"0000\")","v":"4480034026107200000"},4480034026,null,1,720,0,720,"답",4050,null,null,null,"충청남도홍성군장곡면가송리192-3","이재홍"]
[{"$f":"LEFT($B81980,10)&TEXT($D81980,\"0\")&TEXT($E81980,\"0000\")&TEXT($F81980,\"0000\")","v":"4480034026109140000"},4480034026,null,1,914,0,914,"구",510.1,null,null,null,"국(농림부)","국"]
[{"$f":"LEFT($B82077,10)&TEXT($D82077,\"0\")&TEXT($E82077,\"0000\")&TEXT($F82077,\"0000\")","v":"4480034027100560006"},4480034027,null,1,56,6,"56-6","임",1490,null,null,null,"충청남도홍성군홍성읍도청대로14","정영남"]
[{"$f":"LEFT($B82189,10)&TEXT($D82189,\"0\")&TEXT($E82189,\"0000\")&TEXT($F82189,\"0000\")","v":"4480034027101220003"},4480034027,null,1,122,3,"122-3","대",321,null,null,null,"도산리270","임규철"]
[{"$f":"LEFT($B82310,10)&TEXT($D82310,\"0\")&TEXT($E82310,\"0000\")&TEXT($F82310,\"0000\")","v":"4480034027102300001"},4480034027,null,1,230,1,"230-1","도",63,null,null,null,"죽전리253","황만동"]
[{"$f":"LEFT($B82471,10)&TEXT($D82471,\"0\")&TEXT($E82471,\"0000\")&TEXT($F82471,\"0000\")","v":"4480034027103910000"},4480034027,null,1,391,0,391,"대",413,null,null,null,391,"김병환"]
[{"$f":"LEFT($B82535,10)&TEXT($D82535,\"0\")&TEXT($E82535,\"0000\")&TEXT($F82535,\"0000\")","v":"4480034027104480000"},4480034027,null,1,448,0,448,"답",1038,null,null,null,"수원시권선구서둔동33-14","장양순"]
[{"$f":"LEFT($B82660,10)&TEXT($D82660,\"0\")&TEXT($E82660,\"0000\")&TEXT($F82660,\"0000\")","v":"4480034027107530002"},4480034027,null,1,753,2,"753-2","구",751,null,null,null,"국(건설부)","국"]
[{"$f":"LEFT($B82864,10)&TEXT($D82864,\"0\")&TEXT($E82864,\"0000\")&TEXT($F82864,\"0000\")","v":"4480034027109710000"},4480034027,null,1,971,0,971,"답",1831.6,null,null,null,"홍성군장곡면가송리287","윤세중"]
[{"$f":"LEFT($B82985,10)&TEXT($D82985,\"0\")&TEXT($E82985,\"0000\")&TEXT($F82985,\"0000\")","v":"4480034027200610001"},4480034027,null,2,61,1,"61-1","임",5058,null,null,null,"경기도고양시일산동구중산동1555중산마을103-601","윤경중"]
[{"$f":"LEFT($B83054,10)&TEXT($D83054,\"0\")&TEXT($E83054,\"0000\")&TEXT($F83054,\"0000\")","v":"4480034028100700006"},4480034028,null,1,70,6,"70-6","전",280,null,null,null,74,"김의섭"]
[{"$f":"LEFT($B83194,10)&TEXT($D83194,\"0\")&TEXT($E83194,\"0000\")&TEXT($F83194,\"0000\")","v":"4480034028102730002"},4480034028,null,1,273,2,"273-2","답",203,null,null,null,326,"이병환"]
[{"$f":"LEFT($B83315,10)&TEXT($D83315,\"0\")&TEXT($E83315,\"0000\")&TEXT($F83315,\"0000\")","v":"4480034028104340001"},4480034028,null,1,434,1,"434-1","전",512,null,null,null,302,"이상두"]
[{"$f":"LEFT($B83448,10)&TEXT($D83448,\"0\")&TEXT($E83448,\"0000\")&TEXT($F83448,\"0000\")","v":"4480034028105030010"},4480034028,null,1,503,10,"503-10","답",1218,null,null,null,46,"김만섭"]
[{"$f":"LEFT($B83540,10)&TEXT($D83540,\"0\")&TEXT($E83540,\"0000\")&TEXT($F83540,\"0000\")","v":"4480034028200620000"},4480034028,null,2,62,0,62,"임",4364,null,null,null,"대전시중구산성동37-65","홍정기"]
[{"$f":"LEFT($B83645,10)&TEXT($D83645,\"0\")&TEXT($E83645,\"0000\")&TEXT($F83645,\"0000\")","v":"4480034029101060019"},4480034029,null,1,106,19,"106-19","전",63,null,null,null,"국(기획재정부)","국"]
[{"$f":"LEFT($B83723,10)&TEXT($D83723,\"0\")&TEXT($E83723,\"0000\")&TEXT($F83723,\"0000\")","v":"4480034029102390000"},4480034029,null,1,239,0,239,"대",869,null,null,null,"충청남도홍성군장곡면홍장남로144번길100","장경자"]
[{"$f":"LEFT($B83870,10)&TEXT($D83870,\"0\")&TEXT($E83870,\"0000\")&TEXT($F83870,\"0000\")","v":"4480034029104700000"},4480034029,null,1,470,0,470,"전",1137,null,null,null,"528-16","김영호"]
[{"$f":"LEFT($B83975,10)&TEXT($D83975,\"0\")&TEXT($E83975,\"0000\")&TEXT($F83975,\"0000\")","v":"4480034029105610000"},4480034029,null,1,561,0,561,"대",294,null,null,null,"지정리561","김기만"]
[{"$f":"LEFT($B84135,10)&TEXT($D84135,\"0\")&TEXT($E84135,\"0000\")&TEXT($F84135,\"0000\")","v":"4480034029106930000"},4480034029,null,1,693,0,693,"답",1937,null,null,null,"지정리694","황규철"]
[{"$f":"LEFT($B84200,10)&TEXT($D84200,\"0\")&TEXT($E84200,\"0000\")&TEXT($F84200,\"0000\")","v":"4480034029107130001"},4480034029,null,1,713,1,"713-1","전",1927,null,null,null,"충청남도홍성군광천읍신진리395-29","안병국"]
[{"$f":"LEFT($B84425,10)&TEXT($D84425,\"0\")&TEXT($E84425,\"0000\")&TEXT($F84425,\"0000\")","v":"4480034029107880001"},4480034029,null,1,788,1,"788-1","답",1102,null,null,null,"서울특별시도봉구도당로17길40(방학동)","이재헌"]
[{"$f":"LEFT($B84545,10)&TEXT($D84545,\"0\")&TEXT($E84545,\"0000\")&TEXT($F84545,\"0000\")","v":"4480034029201060001"},4480034029,null,2,106,1,"106-1","임",10909,null,null,null,656,"조병기"]
[{"$f":"LEFT($B84650,10)&TEXT($D84650,\"0\")&TEXT($E84650,\"0000\")&TEXT($F84650,\"0000\")","v":"4480034030100730002"},4480034030,null,1,73,2,"73-2","전",1376,null,null,null,"충청남도홍성군장곡면월계리78-1","최동식"]
[{"$f":"LEFT($B84700,10)&TEXT($D84700,\"0\")&TEXT($E84700,\"0000\")&TEXT($F84700,\"0000\")","v":"4480034030101190001"},4480034030,null,1,119,1,"119-1","전",347,null,null,null,105,"오흥민"]
[{"$f":"LEFT($B84875,10)&TEXT($D84875,\"0\")&TEXT($E84875,\"0000\")&TEXT($F84875,\"0000\")","v":"4480034030102980001"},4480034030,null,1,298,1,"298-1","대",1064,null,null,null,292,"채용목"]
[{"$f":"LEFT($B84980,10)&TEXT($D84980,\"0\")&TEXT($E84980,\"0000\")&TEXT($F84980,\"0000\")","v":"4480034030104350002"},4480034030,null,1,435,2,"435-2","구",298,null,null,null,"홍동면금평리","신한식"]
[{"$f":"LEFT($B85112,10)&TEXT($D85112,\"0\")&TEXT($E85112,\"0000\")&TEXT($F85112,\"0000\")","v":"4480034030106090002"},4480034030,null,1,609,2,"609-2","전",1934,null,null,null,"서울시송파구잠실동44아파트442-306","박호용"]
[{"$f":"LEFT($B85205,10)&TEXT($D85205,\"0\")&TEXT($E85205,\"0000\")&TEXT($F85205,\"0000\")","v":"4480034030107260001"},4480034030,null,1,726,1,"726-1","전",299.5,null,null,null,"국(국토해양부)","국"]
[{"$f":"LEFT($B85310,10)&TEXT($D85310,\"0\")&TEXT($E85310,\"0000\")&TEXT($F85310,\"0000\")","v":"4480034030107540003"},4480034030,null,1,754,3,"754-3","답",1613.2,null,null,null,"충청남도홍성군장곡면홍장남로272번길408-169","이종우"]
[{"$f":"LEFT($B85506,10)&TEXT($D85506,\"0\")&TEXT($E85506,\"0000\")&TEXT($F85506,\"0000\")","v":"4480034030200530000"},4480034030,null,2,53,0,53,"임",15669,null,null,null,"서울광진구중곡동254-2","청주이씨찬규공파문중"]
[{"$f":"LEFT($B85535,10)&TEXT($D85535,\"0\")&TEXT($E85535,\"0000\")&TEXT($F85535,\"0000\")","v":"4480034030200780005"},4480034030,null,2,78,5,"78-5","임",4552,null,null,null,"월계리443","오서구"]
[{"$f":"LEFT($B85677,10)&TEXT($D85677,\"0\")&TEXT($E85677,\"0000\")&TEXT($F85677,\"0000\")","v":"4480034031100340004"},4480034031,null,1,34,4,"34-4","천",1788,null,null,null,"경기도의왕시포일동487","한국농어촌공사"]
[{"$f":"LEFT($B85760,10)&TEXT($D85760,\"0\")&TEXT($E85760,\"0000\")&TEXT($F85760,\"0000\")","v":"4480034031101050002"},4480034031,null,1,105,2,"105-2","답",1170,null,null,null,"경기도의왕시포일동487","한국농어촌공사"]
[{"$f":"LEFT($B85985,10)&TEXT($D85985,\"0\")&TEXT($E85985,\"0000\")&TEXT($F85985,\"0000\")","v":"4480034031102620001"},4480034031,null,1,262,1,"262-1","전",1421,null,null,null,"홍성읍오관리555-3","김민규"]
[{"$f":"LEFT($B86089,10)&TEXT($D86089,\"0\")&TEXT($E86089,\"0000\")&TEXT($F86089,\"0000\")","v":"4480034031104240002"},4480034031,null,1,424,2,"424-2","전",721,null,null,null,"충청남도홍성군장곡면행정리222","원성준"]
[{"$f":"LEFT($B86210,10)&TEXT($D86210,\"0\")&TEXT($E86210,\"0000\")&TEXT($F86210,\"0000\")","v":"4480034031105550002"},4480034031,null,1,555,2,"555-2","답",1875,null,null,null,"경기도의왕시포일동487","한국농어촌공사"]
[{"$f":"LEFT($B86315,10)&TEXT($D86315,\"0\")&TEXT($E86315,\"0000\")&TEXT($F86315,\"0000\")","v":"4480034031106460000"},4480034031,null,1,646,0,646,"전",936,null,null,null,744,"이강연"]
[{"$f":"LEFT($B86364,10)&TEXT($D86364,\"0\")&TEXT($E86364,\"0000\")&TEXT($F86364,\"0000\")","v":"4480034031107520000"},4480034031,null,1,752,0,752,"전",202,null,null,null,17,"박상수"]
[{"$f":"LEFT($B86540,10)&TEXT($D86540,\"0\")&TEXT($E86540,\"0000\")&TEXT($F86540,\"0000\")","v":"4480034031108540008"},4480034031,null,1,854,8,"854-8","답",2766.1,null,null,null,"충청남도홍성군장곡면장곡동길229번길39","이정자"]
[{"$f":"LEFT($B86661,10)&TEXT($D86661,\"0\")&TEXT($E86661,\"0000\")&TEXT($F86661,\"0000\")","v":"4480034031200710001"},4480034031,null,2,71,1,"71-1","임",19934,null,null,null,511,"여산송씨익수공파종중"]
[{"$f":"LEFT($B86758,10)&TEXT($D86758,\"0\")&TEXT($E86758,\"0000\")&TEXT($F86758,\"0000\")","v":"4480034032100170014"},4480034032,null,1,17,14,"17-14","도",24,null,null,null,"2019-02-04","장교순"]
[{"$f":"LEFT($B86870,10)&TEXT($D86870,\"0\")&TEXT($E86870,\"0000\")&TEXT($F86870,\"0000\")","v":"4480034032101150003"},4480034032,null,1,115,3,"115-3","대",671,null,null,null,"서울특별시동대문구사가정로148114동1202호(전농동전농에스케이아파트)","정옥희"]
[{"$f":"LEFT($B86947,10)&TEXT($D86947,\"0\")&TEXT($E86947,\"0000\")&TEXT($F86947,\"0000\")","v":"4480034032101690003"},4480034032,null,1,169,3,"169-3","대",20,null,null,null,"서울특별시구로구궁동213-21우신빌라5-110","오규행"]
[{"$f":"LEFT($B87095,10)&TEXT($D87095,\"0\")&TEXT($E87095,\"0000\")&TEXT($F87095,\"0000\")","v":"4480034032102570002"},4480034032,null,1,257,2,"257-2","답",26,null,null,null,"국(건설교통부)","국"]
[{"$f":"LEFT($B87200,10)&TEXT($D87200,\"0\")&TEXT($E87200,\"0000\")&TEXT($F87200,\"0000\")","v":"4480034032103020013"},4480034032,null,1,302,13,"302-13","답",47,null,null,null,"경기도의왕시포일동487","한국농어촌공사"]
[{"$f":"LEFT($B87341,10)&TEXT($D87341,\"0\")&TEXT($E87341,\"0000\")&TEXT($F87341,\"0000\")","v":"4480034032103740003"},4480034032,null,1,374,3,"374-3","답",1839,null,null,null,"562-2","이응소"]
[{"$f":"LEFT($B87425,10)&TEXT($D87425,\"0\")&TEXT($E87425,\"0000\")&TEXT($F87425,\"0000\")","v":"4480034032104810002"},4480034032,null,1,481,2,"481-2","대",177,null,null,null,"충청남도홍성군장곡면무한로1181번길45-18","탁옥순"]
[{"$f":"LEFT($B87546,10)&TEXT($D87546,\"0\")&TEXT($E87546,\"0000\")&TEXT($F87546,\"0000\")","v":"4480034032105430000"},4480034032,null,1,543,0,543,"전",1276,null,null,null,"성남시분당구서현동92현대아파트413-1301","이문세"]
[{"$f":"LEFT($B87735,10)&TEXT($D87735,\"0\")&TEXT($E87735,\"0000\")&TEXT($F87735,\"0000\")","v":"4480034032106860000"},4480034032,null,1,686,0,686,"구",1803,null,null,null,"국(농림부)","국"]
[{"$f":"LEFT($B87875,10)&TEXT($D87875,\"0\")&TEXT($E87875,\"0000\")&TEXT($F87875,\"0000\")","v":"4480034032200510008"},4480034032,null,2,51,8,"51-8","임",4760,null,null,null,"청양군정산면서정리315","이상욱"]
[{"$f":"LEFT($B87996,10)&TEXT($D87996,\"0\")&TEXT($E87996,\"0000\")&TEXT($F87996,\"0000\")","v":"4480034033100960000"},4480034033,null,1,96,0,96,"전",440,null,null,null,96,"이현춘"]
[{"$f":"LEFT($B88129,10)&TEXT($D88129,\"0\")&TEXT($E88129,\"0000\")&TEXT($F88129,\"0000\")","v":"4480034033101960023"},4480034033,null,1,196,23,"196-23","제",484,null,null,null,"국(건설부)","국"]
[{"$f":"LEFT($B88221,10)&TEXT($D88221,\"0\")&TEXT($E88221,\"0000\")&TEXT($F88221,\"0000\")","v":"4480034033102600001"},4480034033,null,1,260,1,"260-1","유",2516,null,null,null,"충청남도홍성군장곡면산성리265-4","임동한"]
[{"$f":"LEFT($B88318,10)&TEXT($D88318,\"0\")&TEXT($E88318,\"0000\")&TEXT($F88318,\"0000\")","v":"4480034033103140004"},4480034033,null,1,314,4,"314-4","도",6,null,null,null,"충청남도","국"]
[{"$f":"LEFT($B88430,10)&TEXT($D88430,\"0\")&TEXT($E88430,\"0000\")&TEXT($F88430,\"0000\")","v":"4480034033103960000"},4480034033,null,1,396,0,396,"답",3072,null,null,null,"서울특별시마포구서강로9길19101동1104호(창전동신촌금호아파트)","이건순"]
[{"$f":"LEFT($B88551,10)&TEXT($D88551,\"0\")&TEXT($E88551,\"0000\")&TEXT($F88551,\"0000\")","v":"4480034034100110004"},4480034034,null,1,11,4,"11-4","답",232,null,null,null,"국(건설교통부)","국"]
[{"$f":"LEFT($B88712,10)&TEXT($D88712,\"0\")&TEXT($E88712,\"0000\")&TEXT($F88712,\"0000\")","v":"4480034034100830000"},4480034034,null,1,83,0,83,"전",674,null,null,null,"청양군비봉면녹평리307","이권희"]
[{"$f":"LEFT($B88760,10)&TEXT($D88760,\"0\")&TEXT($E88760,\"0000\")&TEXT($F88760,\"0000\")","v":"4480034034101200000"},4480034034,null,1,120,0,120,"과",1515,null,null,null,"아산시배방면구령리372","최윤섭"]
[{"$f":"LEFT($B88881,10)&TEXT($D88881,\"0\")&TEXT($E88881,\"0000\")&TEXT($F88881,\"0000\")","v":"4480034034102210002"},4480034034,null,1,221,2,"221-2","천",265,null,null,null,"국(건설교통부)","국"]
[{"$f":"LEFT($B88987,10)&TEXT($D88987,\"0\")&TEXT($E88987,\"0000\")&TEXT($F88987,\"0000\")","v":"4480034034103560005"},4480034034,null,1,356,5,"356-5","제",152,null,null,null,316,"이해숭"]
[{"$f":"LEFT($B89106,10)&TEXT($D89106,\"0\")&TEXT($E89106,\"0000\")&TEXT($F89106,\"0000\")","v":"4480034034104520001"},4480034034,null,1,452,1,"452-1","답",2633.4,null,null,null,"충청남도보령시대청로344(화산동)","남성희"]
[{"$f":"LEFT($B89331,10)&TEXT($D89331,\"0\")&TEXT($E89331,\"0000\")&TEXT($F89331,\"0000\")","v":"4480034035100160000"},4480034035,null,1,16,0,16,"전",2899,null,null,null,"상송리605","광주안씨홍주파휘정보공종중"]
[{"$f":"LEFT($B89381,10)&TEXT($D89381,\"0\")&TEXT($E89381,\"0000\")&TEXT($F89381,\"0000\")","v":"4480034035100760006"},4480034035,null,1,76,6,"76-6","도",60,null,null,null,"충청남도","국"]
[{"$f":"LEFT($B89556,10)&TEXT($D89556,\"0\")&TEXT($E89556,\"0000\")&TEXT($F89556,\"0000\")","v":"4480034035102930001"},4480034035,null,1,293,1,"293-1","구",304,null,null,null,"서울계동종로구계동67-26","이종혁"]
[{"$f":"LEFT($B89661,10)&TEXT($D89661,\"0\")&TEXT($E89661,\"0000\")&TEXT($F89661,\"0000\")","v":"4480034035103810003"},4480034035,null,1,381,3,"381-3","전",152,null,null,null,381,"강태수"]
[{"$f":"LEFT($B89775,10)&TEXT($D89775,\"0\")&TEXT($E89775,\"0000\")&TEXT($F89775,\"0000\")","v":"4480034035104980001"},4480034035,null,1,498,1,"498-1","전",1421,null,null,null,"청양군적곡면분향리","임성재"]
[{"$f":"LEFT($B89886,10)&TEXT($D89886,\"0\")&TEXT($E89886,\"0000\")&TEXT($F89886,\"0000\")","v":"4480034035106470000"},4480034035,null,1,647,0,647,"답",1866.5,null,null,null,340,"정상진"]
[{"$f":"LEFT($B89964,10)&TEXT($D89964,\"0\")&TEXT($E89964,\"0000\")&TEXT($F89964,\"0000\")","v":"4480034035200220009"},4480034035,null,2,22,9,"22-9","임",1785,null,null,null,"경기도고양시일산서구일현로97-11103동3508호(탄현동두산위브더제니스)","임광희"]
[{"$f":"LEFT($B90111,10)&TEXT($D90111,\"0\")&TEXT($E90111,\"0000\")&TEXT($F90111,\"0000\")","v":"4480034036101100003"},4480034036,null,1,110,3,"110-3","임",1294,null,null,null,"인천연수구동춘동931무지개마을15-806","박병철"]
[{"$f":"LEFT($B90216,10)&TEXT($D90216,\"0\")&TEXT($E90216,\"0000\")&TEXT($F90216,\"0000\")","v":"4480034036101730000"},4480034036,null,1,173,0,173,"전",436,null,null,null,"안양시만안구석수동346-3화창연립나동201","방의수"]
[{"$f":"LEFT($B90358,10)&TEXT($D90358,\"0\")&TEXT($E90358,\"0000\")&TEXT($F90358,\"0000\")","v":"4480034036102550009"},4480034036,null,1,255,9,"255-9","답",3932,null,null,null,"서울성북구성북동113-86","이충형"]
[{"$f":"LEFT($B90441,10)&TEXT($D90441,\"0\")&TEXT($E90441,\"0000\")&TEXT($F90441,\"0000\")","v":"4480034036102970002"},4480034036,null,1,297,2,"297-2","답",1294,null,null,null,"수원시장안구정자동44-45","백승구"]
[{"$f":"LEFT($B90546,10)&TEXT($D90546,\"0\")&TEXT($E90546,\"0000\")&TEXT($F90546,\"0000\")","v":"4480034036103860001"},4480034036,null,1,386,1,"386-1","답",1414,null,null,null,"인천광역시남구한나루로458번길64-8(주안동)","신춘국"]
[{"$f":"LEFT($B90770,10)&TEXT($D90770,\"0\")&TEXT($E90770,\"0000\")&TEXT($F90770,\"0000\")","v":"4480034036106800008"},4480034036,null,1,680,8,"680-8","도",345,null,null,null,"홍성군","국"]
[{"$f":"LEFT($B90891,10)&TEXT($D90891,\"0\")&TEXT($E90891,\"0000\")&TEXT($F90891,\"0000\")","v":"4480034036107620000"},4480034036,null,1,762,0,762,"답",2760,null,null,null,"김제시백산면부거리61-1","이미형"]
[{"$f":"LEFT($B90996,10)&TEXT($D90996,\"0\")&TEXT($E90996,\"0000\")&TEXT($F90996,\"0000\")","v":"4480034036109130000"},4480034036,null,1,913,0,913,"도",17220,null,null,null,"국(농림수산부)","국"]
[{"$f":"LEFT($B91045,10)&TEXT($D91045,\"0\")&TEXT($E91045,\"0000\")&TEXT($F91045,\"0000\")","v":"4480034036200410002"},4480034036,null,2,41,2,"41-2","임",3868,null,null,null,"경기도성남시분당구야탑동536탑마을102-1304","윤종태"]
[{"$f":"LEFT($B91221,10)&TEXT($D91221,\"0\")&TEXT($E91221,\"0000\")&TEXT($F91221,\"0000\")","v":"4480035021100640000"},4480035021,null,1,64,0,64,"대",1187,null,null,null,64,"최익수"]
[{"$f":"LEFT($B91335,10)&TEXT($D91335,\"0\")&TEXT($E91335,\"0000\")&TEXT($F91335,\"0000\")","v":"4480035021101570000"},4480035021,null,1,157,0,157,"대",212,null,null,null,"충청남도홍성군은하면대천리234-6","은하면대천리대천부락마을회"]
[{"$f":"LEFT($B91446,10)&TEXT($D91446,\"0\")&TEXT($E91446,\"0000\")&TEXT($F91446,\"0000\")","v":"4480035021102350007"},4480035021,null,1,235,7,"235-7","대",153,null,null,null,"235-3","이월선"]
[{"$f":"LEFT($B91551,10)&TEXT($D91551,\"0\")&TEXT($E91551,\"0000\")&TEXT($F91551,\"0000\")","v":"4480035021102850002"},4480035021,null,1,285,2,"285-2","묘",278,null,null,null,35,"김지돈"]
[{"$f":"LEFT($B91628,10)&TEXT($D91628,\"0\")&TEXT($E91628,\"0000\")&TEXT($F91628,\"0000\")","v":"4480035021103430000"},4480035021,null,1,343,0,343,"전",1593,null,null,null,"홍성읍오관리335-8","이영숙"]
[{"$f":"LEFT($B91776,10)&TEXT($D91776,\"0\")&TEXT($E91776,\"0000\")&TEXT($F91776,\"0000\")","v":"4480035021105040001"},4480035021,null,1,504,1,"504-1","전",223,null,null,null,507,"연산서씨좌랑공파문중"]
[{"$f":"LEFT($B91881,10)&TEXT($D91881,\"0\")&TEXT($E91881,\"0000\")&TEXT($F91881,\"0000\")","v":"4480035021105770003"},4480035021,null,1,577,3,"577-3","도",8341,null,null,null,"국(건설교통부)","국"]
[{"$f":"LEFT($B92022,10)&TEXT($D92022,\"0\")&TEXT($E92022,\"0000\")&TEXT($F92022,\"0000\")","v":"4480035021201130002"},4480035021,null,2,113,2,"113-2","임",694,null,null,null,385,"이우성"]
[{"$f":"LEFT($B92106,10)&TEXT($D92106,\"0\")&TEXT($E92106,\"0000\")&TEXT($F92106,\"0000\")","v":"4480035022100610001"},4480035022,null,1,61,1,"61-1","대",390,null,null,null,"서울마포구연남동564-6","박철순"]
[{"$f":"LEFT($B92227,10)&TEXT($D92227,\"0\")&TEXT($E92227,\"0000\")&TEXT($F92227,\"0000\")","v":"4480035022101690007"},4480035022,null,1,169,7,"169-7","도",472,null,null,null,"홍성군","국"]
[{"$f":"LEFT($B92416,10)&TEXT($D92416,\"0\")&TEXT($E92416,\"0000\")&TEXT($F92416,\"0000\")","v":"4480035022102600001"},4480035022,null,1,260,1,"260-1","답",1664,null,null,null,"충청남도홍성군은하면홍남로68번길104","김경태"]
[{"$f":"LEFT($B92556,10)&TEXT($D92556,\"0\")&TEXT($E92556,\"0000\")&TEXT($F92556,\"0000\")","v":"4480035022104050003"},4480035022,null,1,405,3,"405-3","전",2040,null,null,null,"홍성읍고암리532-2","정진승"]
[{"$f":"LEFT($B92605,10)&TEXT($D92605,\"0\")&TEXT($E92605,\"0000\")&TEXT($F92605,\"0000\")","v":"4480035022104580000"},4480035022,null,1,458,0,458,"대",1276,null,null,null,"유송리458","유대근"]
[{"$f":"LEFT($B92781,10)&TEXT($D92781,\"0\")&TEXT($E92781,\"0000\")&TEXT($F92781,\"0000\")","v":"4480035023100530000"},4480035023,null,1,53,0,53,"답",2172,null,null,null,"충청남도홍성군은하면은하로406번길176-81","인동욱"]
[{"$f":"LEFT($B92886,10)&TEXT($D92886,\"0\")&TEXT($E92886,\"0000\")&TEXT($F92886,\"0000\")","v":"4480035023101370000"},4480035023,null,1,137,0,137,"대",518,null,null,null,"충청남도홍성군은하면은하로404번길119","전용자"]
[{"$f":"LEFT($B92999,10)&TEXT($D92999,\"0\")&TEXT($E92999,\"0000\")&TEXT($F92999,\"0000\")","v":"4480035023102610001"},4480035023,null,1,261,1,"261-1","도",339,null,null,null,"홍성군","국"]
[{"$f":"LEFT($B93111,10)&TEXT($D93111,\"0\")&TEXT($E93111,\"0000\")&TEXT($F93111,\"0000\")","v":"4480035023103800000"},4480035023,null,1,380,0,380,"전",2417,null,null,null,"충청남도홍성군홍성읍문화로80번길32-14101동302호(경성큰마을아파트)","전영철"]
[{"$f":"LEFT($B93232,10)&TEXT($D93232,\"0\")&TEXT($E93232,\"0000\")&TEXT($F93232,\"0000\")","v":"4480035023105640003"},4480035023,null,1,564,3,"564-3","대",496,null,null,null,"홍성군은하면장곡리566","전용하"]
[{"$f":"LEFT($B93393,10)&TEXT($D93393,\"0\")&TEXT($E93393,\"0000\")&TEXT($F93393,\"0000\")","v":"4480035023106870005"},4480035023,null,1,687,5,"687-5","도",655.6,null,null,null,"홍성군","국"]
[{"$f":"LEFT($B93441,10)&TEXT($D93441,\"0\")&TEXT($E93441,\"0000\")&TEXT($F93441,\"0000\")","v":"4480035023106980006"},4480035023,null,1,698,6,"698-6","답",2139.1999999999998,null,null,null,"서울특별시구로구오리로1160","이전희"]
[{"$f":"LEFT($B93562,10)&TEXT($D93562,\"0\")&TEXT($E93562,\"0000\")&TEXT($F93562,\"0000\")","v":"4480035023200110000"},4480035023,null,2,11,0,11,"임",2082,null,null,null,"서울시서초구서초동1444-9","가갑손"]
[{"$f":"LEFT($B93668,10)&TEXT($D93668,\"0\")&TEXT($E93668,\"0000\")&TEXT($F93668,\"0000\")","v":"4480035023201510006"},4480035023,null,2,151,6,"151-6","임",9124,null,null,null,"유송리135","김용태"]
[{"$f":"LEFT($B93771,10)&TEXT($D93771,\"0\")&TEXT($E93771,\"0000\")&TEXT($F93771,\"0000\")","v":"4480035024100510002"},4480035024,null,1,51,2,"51-2","잡",531,null,null,null,"전라북도전주시덕진구백제대로555501호(금암동)","주식회사자혜태양광"]
[{"$f":"LEFT($B93892,10)&TEXT($D93892,\"0\")&TEXT($E93892,\"0000\")&TEXT($F93892,\"0000\")","v":"4480035024100760003"},4480035024,null,1,76,3,"76-3","답",1873,null,null,null,119,"전솔순"]
[{"$f":"LEFT($B94062,10)&TEXT($D94062,\"0\")&TEXT($E94062,\"0000\")&TEXT($F94062,\"0000\")","v":"4480035024101910004"},4480035024,null,1,191,4,"191-4","임",259,null,null,null,"경기도안양시동안구호계동893-1한마음2차아파트202-1404","박영열"]
[{"$f":"LEFT($B94237,10)&TEXT($D94237,\"0\")&TEXT($E94237,\"0000\")&TEXT($F94237,\"0000\")","v":"4480035024103460000"},4480035024,null,1,346,0,346,"답",2476,null,null,null,"경기도오산시운암로90309동604호(부산동주공아파트)","황정연"]
[{"$f":"LEFT($B94251,10)&TEXT($D94251,\"0\")&TEXT($E94251,\"0000\")&TEXT($F94251,\"0000\")","v":"4480035024103610000"},4480035024,null,1,361,0,361,"전",585,null,null,null,"충청남도홍성군은하면백야로68번길16","최은진"]
[{"$f":"LEFT($B94446,10)&TEXT($D94446,\"0\")&TEXT($E94446,\"0000\")&TEXT($F94446,\"0000\")","v":"4480035024105250000"},4480035024,null,1,525,0,525,"도",873,null,null,null,"국(농림수산부)","국"]
[{"$f":"LEFT($B94567,10)&TEXT($D94567,\"0\")&TEXT($E94567,\"0000\")&TEXT($F94567,\"0000\")","v":"4480035025100170014"},4480035025,null,1,17,14,"17-14","임",12263,null,null,null,"충청남도홍성군은하면백야로68번길16","주식회사태한산업"]
[{"$f":"LEFT($B94645,10)&TEXT($D94645,\"0\")&TEXT($E94645,\"0000\")&TEXT($F94645,\"0000\")","v":"4480035025100590000"},4480035025,null,1,59,0,59,"전",1451,null,null,null,"서울특별시광진구군자로12길46102동1612호(군자동일성파크아파트)","김안중"]
[{"$f":"LEFT($B94792,10)&TEXT($D94792,\"0\")&TEXT($E94792,\"0000\")&TEXT($F94792,\"0000\")","v":"4480035025102330001"},4480035025,null,1,233,1,"233-1","도",142,null,null,null,"금국리540","이혜숙"]
[{"$f":"LEFT($B94897,10)&TEXT($D94897,\"0\")&TEXT($E94897,\"0000\")&TEXT($F94897,\"0000\")","v":"4480035025103000015"},4480035025,null,1,300,15,"300-15","임",1195,null,null,null,3,"조병규"]
[{"$f":"LEFT($B95039,10)&TEXT($D95039,\"0\")&TEXT($E95039,\"0000\")&TEXT($F95039,\"0000\")","v":"4480035025104340000"},4480035025,null,1,434,0,434,"전",883,null,null,null,"충청남도천안시동남구원성2길12305호(원성동한신아파트)","전권수"]
[{"$f":"LEFT($B95122,10)&TEXT($D95122,\"0\")&TEXT($E95122,\"0000\")&TEXT($F95122,\"0000\")","v":"4480035025105330000"},4480035025,null,1,533,0,533,"전",2509,null,null,null,"홍성군은하면대천리454","유기선"]
[{"$f":"LEFT($B95227,10)&TEXT($D95227,\"0\")&TEXT($E95227,\"0000\")&TEXT($F95227,\"0000\")","v":"4480035025106520019"},4480035025,null,1,652,19,"652-19","임",1430,null,null,null,"경기도화성시영통로50번길27111동801호(반월동반달마을두산위브아파트)","황상영"]
[{"$f":"LEFT($B95433,10)&TEXT($D95433,\"0\")&TEXT($E95433,\"0000\")&TEXT($F95433,\"0000\")","v":"4480035025108950000"},4480035025,null,1,895,0,895,"답",2123,null,null,null,535,"류원구"]
[{"$f":"LEFT($B95452,10)&TEXT($D95452,\"0\")&TEXT($E95452,\"0000\")&TEXT($F95452,\"0000\")","v":"4480035025109150000"},4480035025,null,1,915,0,915,"답",1759.8,null,null,null,"경기도의왕시포일동487","한국농어촌공사"]
[{"$f":"LEFT($B95622,10)&TEXT($D95622,\"0\")&TEXT($E95622,\"0000\")&TEXT($F95622,\"0000\")","v":"4480035026100010000"},4480035026,null,1,1,0,1,"대",1268,null,null,null,"서울특별시은평구불광로145-12(불광동)","류신"]
[{"$f":"LEFT($B95677,10)&TEXT($D95677,\"0\")&TEXT($E95677,\"0000\")&TEXT($F95677,\"0000\")","v":"4480035026100520001"},4480035026,null,1,52,1,"52-1","전",1924,null,null,null,"보령군오천면외연도리221","최대윤"]
[{"$f":"LEFT($B95902,10)&TEXT($D95902,\"0\")&TEXT($E95902,\"0000\")&TEXT($F95902,\"0000\")","v":"4480035026102600000"},4480035026,null,1,260,0,260,"전",763,null,null,null,"충청남도홍성군홍성읍내포로146번길46102동1805호(미림청솔아파트)","방창석"]
[{"$f":"LEFT($B96016,10)&TEXT($D96016,\"0\")&TEXT($E96016,\"0000\")&TEXT($F96016,\"0000\")","v":"4480035026103290004"},4480035026,null,1,329,4,"329-4","답",1231,null,null,null,"인천광역시부평구청천동200금호타운108-1103","이재택"]
[{"$f":"LEFT($B96127,10)&TEXT($D96127,\"0\")&TEXT($E96127,\"0000\")&TEXT($F96127,\"0000\")","v":"4480035026104930001"},4480035026,null,1,493,1,"493-1","답",1230,null,null,null,"학산리647-1","김숙자"]
[{"$f":"LEFT($B96232,10)&TEXT($D96232,\"0\")&TEXT($E96232,\"0000\")&TEXT($F96232,\"0000\")","v":"4480035026106450004"},4480035026,null,1,645,4,"645-4","대",651,null,null,null,"충청남도홍성군은하면학산리646","장기순"]
[{"$f":"LEFT($B96291,10)&TEXT($D96291,\"0\")&TEXT($E96291,\"0000\")&TEXT($F96291,\"0000\")","v":"4480035026106820006"},4480035026,null,1,682,6,"682-6","도",10,null,null,null,690,"정용해"]
[{"$f":"LEFT($B96457,10)&TEXT($D96457,\"0\")&TEXT($E96457,\"0000\")&TEXT($F96457,\"0000\")","v":"4480035026108310010"},4480035026,null,1,831,10,"831-10","전",1638,null,null,null,"홍성군은하면학산리831-1","김철영"]
[{"$f":"LEFT($B96562,10)&TEXT($D96562,\"0\")&TEXT($E96562,\"0000\")&TEXT($F96562,\"0000\")","v":"4480035026108840000"},4480035026,null,1,884,0,884,"구",1061,null,null,null,"국(건설부)","국"]
[{"$f":"LEFT($B96703,10)&TEXT($D96703,\"0\")&TEXT($E96703,\"0000\")&TEXT($F96703,\"0000\")","v":"4480035026110470001"},4480035026,null,1,1047,1,"1047-1","답",2548.1,null,null,null,"345-2","박하규"]
[{"$f":"LEFT($B96787,10)&TEXT($D96787,\"0\")&TEXT($E96787,\"0000\")&TEXT($F96787,\"0000\")","v":"4480035026201060001"},4480035026,null,2,106,1,"106-1","임",6071,null,null,null,"경기도안양시동안구호계동941-24","정충섭"]
[{"$f":"LEFT($B96874,10)&TEXT($D96874,\"0\")&TEXT($E96874,\"0000\")&TEXT($F96874,\"0000\")","v":"4480035027100180005"},4480035027,null,1,18,5,"18-5","도",90,null,null,null,"충청남도","국"]
[{"$f":"LEFT($B97012,10)&TEXT($D97012,\"0\")&TEXT($E97012,\"0000\")&TEXT($F97012,\"0000\")","v":"4480035027101120000"},4480035027,null,1,112,0,112,"전",390,null,null,null,"장곡면광성리132","송건호"]
[{"$f":"LEFT($B97117,10)&TEXT($D97117,\"0\")&TEXT($E97117,\"0000\")&TEXT($F97117,\"0000\")","v":"4480035027101870001"},4480035027,null,1,187,1,"187-1","도",420,null,null,null,"충청남도","국"]
[{"$f":"LEFT($B97286,10)&TEXT($D97286,\"0\")&TEXT($E97286,\"0000\")&TEXT($F97286,\"0000\")","v":"4480035027103510000"},4480035027,null,1,351,0,351,"전",532,null,null,null,"서울영등포구신길동4766-3","김승호"]
[{"$f":"LEFT($B97462,10)&TEXT($D97462,\"0\")&TEXT($E97462,\"0000\")&TEXT($F97462,\"0000\")","v":"4480035027104430002"},4480035027,null,1,443,2,"443-2","도",67,null,null,null,"국(건설부)","국"]
[{"$f":"LEFT($B97567,10)&TEXT($D97567,\"0\")&TEXT($E97567,\"0000\")&TEXT($F97567,\"0000\")","v":"4480035028100010002"},4480035028,null,1,1,2,"1-2","답",2361,null,null,null,"서울특별시종로구돈화문로80-1(와룡동)","박주열"]
[{"$f":"LEFT($B97680,10)&TEXT($D97680,\"0\")&TEXT($E97680,\"0000\")&TEXT($F97680,\"0000\")","v":"4480035028101140001"},4480035028,null,1,114,1,"114-1","전",787,null,null,null,"홍성군","국"]
[{"$f":"LEFT($B97792,10)&TEXT($D97792,\"0\")&TEXT($E97792,\"0000\")&TEXT($F97792,\"0000\")","v":"4480035028101740003"},4480035028,null,1,174,3,"174-3","답",1878,null,null,null,"충청남도홍성군홍성읍문화로72번길41101동108호(대우아파트)","정기원"]
[{"$f":"LEFT($B97897,10)&TEXT($D97897,\"0\")&TEXT($E97897,\"0000\")&TEXT($F97897,\"0000\")","v":"4480035028102470001"},4480035028,null,1,247,1,"247-1","목",231,null,null,null,246,"박영규"]
[{"$f":"LEFT($B97955,10)&TEXT($D97955,\"0\")&TEXT($E97955,\"0000\")&TEXT($F97955,\"0000\")","v":"4480035028102820014"},4480035028,null,1,282,14,"282-14","답",811,null,null,null,100,"박명규"]
[{"$f":"LEFT($B98122,10)&TEXT($D98122,\"0\")&TEXT($E98122,\"0000\")&TEXT($F98122,\"0000\")","v":"4480035028200050004"},4480035028,null,2,5,4,"5-4","임",1289,null,null,null,"충청남도천안시동남구북면납안6길27-8","김규숙"]
[{"$f":"LEFT($B98263,10)&TEXT($D98263,\"0\")&TEXT($E98263,\"0000\")&TEXT($F98263,\"0000\")","v":"4480035029101100013"},4480035029,null,1,110,13,"110-13","임",137,null,null,null,"충청남도홍성군은하면홍남로22번길149","이종태"]
[{"$f":"LEFT($B98347,10)&TEXT($D98347,\"0\")&TEXT($E98347,\"0000\")&TEXT($F98347,\"0000\")","v":"4480035029101660001"},4480035029,null,1,166,1,"166-1","답",3722,null,null,null,173,"김상선"]
[{"$f":"LEFT($B98452,10)&TEXT($D98452,\"0\")&TEXT($E98452,\"0000\")&TEXT($F98452,\"0000\")","v":"4480035029102390002"},4480035029,null,1,239,2,"239-2","유",1045,null,null,null,"국(농림부)","국"]
[{"$f":"LEFT($B98657,10)&TEXT($D98657,\"0\")&TEXT($E98657,\"0000\")&TEXT($F98657,\"0000\")","v":"4480035029103800010"},4480035029,null,1,380,10,"380-10","답",130,null,null,null,"충청남도","국"]
[{"$f":"LEFT($B98677,10)&TEXT($D98677,\"0\")&TEXT($E98677,\"0000\")&TEXT($F98677,\"0000\")","v":"4480035029103870015"},4480035029,null,1,387,15,"387-15","구",1740,null,null,null,"국(건설부)","국"]
[{"$f":"LEFT($B98798,10)&TEXT($D98798,\"0\")&TEXT($E98798,\"0000\")&TEXT($F98798,\"0000\")","v":"4480035029200310011"},4480035029,null,2,31,11,"31-11","임",636,null,null,null,"천안시봉명동110-4공작아파트나동106호","오남근"]
[{"$f":"LEFT($B98932,10)&TEXT($D98932,\"0\")&TEXT($E98932,\"0000\")&TEXT($F98932,\"0000\")","v":"4480035030100710008"},4480035030,null,1,71,8,"71-8","답",2955,null,null,null,529,"정익훈"]
[{"$f":"LEFT($B99127,10)&TEXT($D99127,\"0\")&TEXT($E99127,\"0000\")&TEXT($F99127,\"0000\")","v":"4480035030102140000"},4480035030,null,1,214,0,214,"전",278,null,null,null,"충청남도홍성군은하면화봉리228","신용규"]
[{"$f":"LEFT($B99248,10)&TEXT($D99248,\"0\")&TEXT($E99248,\"0000\")&TEXT($F99248,\"0000\")","v":"4480035030103090008"},4480035030,null,1,309,8,"309-8","도",83,null,null,null,"충청남도","국"]
[{"$f":"LEFT($B99326,10)&TEXT($D99326,\"0\")&TEXT($E99326,\"0000\")&TEXT($F99326,\"0000\")","v":"4480035030103850001"},4480035030,null,1,385,1,"385-1","전",555,null,null,null,"서울특별시송파구오금로4328동704호(가락동삼환가락아파트)","김연화"]
[{"$f":"LEFT($B99457,10)&TEXT($D99457,\"0\")&TEXT($E99457,\"0000\")&TEXT($F99457,\"0000\")","v":"4480035030104720002"},4480035030,null,1,472,2,"472-2","도",132,null,null,null,"홍성군","국"]
[{"$f":"LEFT($B99578,10)&TEXT($D99578,\"0\")&TEXT($E99578,\"0000\")&TEXT($F99578,\"0000\")","v":"4480035030105760000"},4480035030,null,1,576,0,576,"전",1402,null,null,null,"용인시기흥읍고매리385-1세원아파트101동406호","손승한"]
[{"$f":"LEFT($B99720,10)&TEXT($D99720,\"0\")&TEXT($E99720,\"0000\")&TEXT($F99720,\"0000\")","v":"4480035030107560001"},4480035030,null,1,756,1,"756-1","전",388,null,null,null,499,"장인순"]
[{"$f":"LEFT($B99803,10)&TEXT($D99803,\"0\")&TEXT($E99803,\"0000\")&TEXT($F99803,\"0000\")","v":"4480035030108680001"},4480035030,null,1,868,1,"868-1","임",10529,null,null,null,"충청남도홍성군은하면홍남로71번길2-9","백승녀"]
[{"$f":"LEFT($B99909,10)&TEXT($D99909,\"0\")&TEXT($E99909,\"0000\")&TEXT($F99909,\"0000\")","v":"4480035030109680008"},4480035030,null,1,968,8,"968-8","답",912.5,null,null,null,402,"김기생"]
[{"$f":"LEFT($B100012,10)&TEXT($D100012,\"0\")&TEXT($E100012,\"0000\")&TEXT($F100012,\"0000\")","v":"4480035030200460001"},4480035030,null,2,46,1,"46-1","임",1785,null,null,null,"광천읍신진리480-3","안두성"]
[{"$f":"LEFT($B100133,10)&TEXT($D100133,\"0\")&TEXT($E100133,\"0000\")&TEXT($F100133,\"0000\")","v":"4480035031100330000"},4480035031,null,1,33,0,33,"대",4907,null,null,null,"충청남도서천군서면서인로471번길72","최성배"]
[{"$f":"LEFT($B100303,10)&TEXT($D100303,\"0\")&TEXT($E100303,\"0000\")&TEXT($F100303,\"0000\")","v":"4480035031101620001"},4480035031,null,1,162,1,"162-1","전",1709,null,null,null,"162-1","장기순"]
[{"$f":"LEFT($B100462,10)&TEXT($D100462,\"0\")&TEXT($E100462,\"0000\")&TEXT($F100462,\"0000\")","v":"4480035031103250000"},4480035031,null,1,325,0,325,"유",3164,null,null,null,"국(기획재정부)","국"]
[{"$f":"LEFT($B100463,10)&TEXT($D100463,\"0\")&TEXT($E100463,\"0000\")&TEXT($F100463,\"0000\")","v":"4480035031103260000"},4480035031,null,1,326,0,326,"유",298,null,null,null,"국(기획재정부)","국"]
[{"$f":"LEFT($B100697,10)&TEXT($D100697,\"0\")&TEXT($E100697,\"0000\")&TEXT($F100697,\"0000\")","v":"4480035031105650000"},4480035031,null,1,565,0,565,"전",2628,null,null,null,"충청남도홍성군은하면장척리820","이순자"]
[{"$f":"LEFT($B100808,10)&TEXT($D100808,\"0\")&TEXT($E100808,\"0000\")&TEXT($F100808,\"0000\")","v":"4480035031106410002"},4480035031,null,1,641,2,"641-2","도",26,null,null,null,"충청남도","국"]
[{"$f":"LEFT($B100913,10)&TEXT($D100913,\"0\")&TEXT($E100913,\"0000\")&TEXT($F100913,\"0000\")","v":"4480035031107090001"},4480035031,null,1,709,1,"709-1","전",436,null,null,null,"장척리716","노재두"]
[{"$f":"LEFT($B100972,10)&TEXT($D100972,\"0\")&TEXT($E100972,\"0000\")&TEXT($F100972,\"0000\")","v":"4480035031107560001"},4480035031,null,1,756,1,"756-1","도",192,null,null,null,"충청남도","국"]
[{"$f":"LEFT($B101138,10)&TEXT($D101138,\"0\")&TEXT($E101138,\"0000\")&TEXT($F101138,\"0000\")","v":"4480035031109060010"},4480035031,null,1,906,10,"906-10","구",285,null,null,null,"국(농림수산부)","국"]
[{"$f":"LEFT($B101280,10)&TEXT($D101280,\"0\")&TEXT($E101280,\"0000\")&TEXT($F101280,\"0000\")","v":"4480035031110090000"},4480035031,null,1,1009,0,1009,"목",1626,null,null,null,"충청남도홍성군은하면홍남로71번길37","정인철"]
[{"$f":"LEFT($B101363,10)&TEXT($D101363,\"0\")&TEXT($E101363,\"0000\")&TEXT($F101363,\"0000\")","v":"4480035031110410001"},4480035031,null,1,1041,1,"1041-1","답",3871,null,null,null,"천안시두정동958-1희망빌-401","김기홍"]
[{"$f":"LEFT($B101468,10)&TEXT($D101468,\"0\")&TEXT($E101468,\"0000\")&TEXT($F101468,\"0000\")","v":"4480035031111340003"},4480035031,null,1,1134,3,"1134-3","답",5710.3,null,null,null,"충청남도보령시천북면동막원안길144","김성환"]
[{"$f":"LEFT($B101555,10)&TEXT($D101555,\"0\")&TEXT($E101555,\"0000\")&TEXT($F101555,\"0000\")","v":"4480035031200860006"},4480035031,null,2,86,6,"86-6","임",1683,null,null,null,"서울강남구신사동558-5","김지환"]
[{"$f":"LEFT($B101693,10)&TEXT($D101693,\"0\")&TEXT($E101693,\"0000\")&TEXT($F101693,\"0000\")","v":"4480036021100740001"},4480036021,null,1,74,1,"74-1","대",228,null,null,null,"서울시동대문구회기동66","재단법인제칠일안식일예수재림교한국연합회유지재단"]
[{"$f":"LEFT($B101798,10)&TEXT($D101798,\"0\")&TEXT($E101798,\"0000\")&TEXT($F101798,\"0000\")","v":"4480036021101560001"},4480036021,null,1,156,1,"156-1","도",36,null,null,null,"국(국세청)","국"]
[{"$f":"LEFT($B101949,10)&TEXT($D101949,\"0\")&TEXT($E101949,\"0000\")&TEXT($F101949,\"0000\")","v":"4480036021103170001"},4480036021,null,1,317,1,"317-1","전",1428,null,null,null,"충청남도(교육감)","국"]
[{"$f":"LEFT($B102023,10)&TEXT($D102023,\"0\")&TEXT($E102023,\"0000\")&TEXT($F102023,\"0000\")","v":"4480036021103770007"},4480036021,null,1,377,7,"377-7","도",4,null,null,null,"홍성군","국"]
[{"$f":"LEFT($B102248,10)&TEXT($D102248,\"0\")&TEXT($E102248,\"0000\")&TEXT($F102248,\"0000\")","v":"4480036021105500000"},4480036021,null,1,550,0,550,"전",1174,null,null,null,"서울특별시금천구독산동711-2금천현대아파트105-1901","김성수"]
[{"$f":"LEFT($B102361,10)&TEXT($D102361,\"0\")&TEXT($E102361,\"0000\")&TEXT($F102361,\"0000\")","v":"4480036021106630004"},4480036021,null,1,663,4,"663-4","도",70,null,null,null,"홍성군","국"]
[{"$f":"LEFT($B102473,10)&TEXT($D102473,\"0\")&TEXT($E102473,\"0000\")&TEXT($F102473,\"0000\")","v":"4480036021200290000"},4480036021,null,2,29,0,29,"임",15868,null,null,null,"충청남도홍성군홍성읍남장리112-12대우아파트102-1003","이충진"]
[{"$f":"LEFT($B102532,10)&TEXT($D102532,\"0\")&TEXT($E102532,\"0000\")&TEXT($F102532,\"0000\")","v":"4480036022100720000"},4480036022,null,1,72,0,72,"전",301,null,null,null,"대전광역시서구도마동211경남아파트102-806","송지영"]
[{"$f":"LEFT($B102698,10)&TEXT($D102698,\"0\")&TEXT($E102698,\"0000\")&TEXT($F102698,\"0000\")","v":"4480036022102520002"},4480036022,null,1,252,2,"252-2","도",179,null,null,null,"충청남도","국"]
[{"$f":"LEFT($B102803,10)&TEXT($D102803,\"0\")&TEXT($E102803,\"0000\")&TEXT($F102803,\"0000\")","v":"4480036022103250004"},4480036022,null,1,325,4,"325-4","전",317,null,null,null,"충청남도","국"]
[{"$f":"LEFT($B102926,10)&TEXT($D102926,\"0\")&TEXT($E102926,\"0000\")&TEXT($F102926,\"0000\")","v":"4480036022104450006"},4480036022,null,1,445,6,"445-6","답",433,null,null,null,"서울시노원구중계동366신동아중계동아파트112-503","박만희"]
[{"$f":"LEFT($B103028,10)&TEXT($D103028,\"0\")&TEXT($E103028,\"0000\")&TEXT($F103028,\"0000\")","v":"4480036022105800004"},4480036022,null,1,580,4,"580-4","대",115,null,null,null,580,"이남준"]
[{"$f":"LEFT($B103133,10)&TEXT($D103133,\"0\")&TEXT($E103133,\"0000\")&TEXT($F103133,\"0000\")","v":"4480036022106820001"},4480036022,null,1,682,1,"682-1","전",901,null,null,null,"홍성군결성면성호리893","강병오"]
[{"$f":"LEFT($B103219,10)&TEXT($D103219,\"0\")&TEXT($E103219,\"0000\")&TEXT($F103219,\"0000\")","v":"4480036022107930000"},4480036022,null,1,793,0,793,"묘",602,null,null,null,1067,"김신제"]
[{"$f":"LEFT($B103358,10)&TEXT($D103358,\"0\")&TEXT($E103358,\"0000\")&TEXT($F103358,\"0000\")","v":"4480036022109850000"},4480036022,null,1,985,0,985,"전",79,null,null,null,985,"이계순"]
[{"$f":"LEFT($B103463,10)&TEXT($D103463,\"0\")&TEXT($E103463,\"0000\")&TEXT($F103463,\"0000\")","v":"4480036022110830002"},4480036022,null,1,1083,2,"1083-2","전",36,null,null,null,"성호리1050","김화규"]
[{"$f":"LEFT($B103613,10)&TEXT($D103613,\"0\")&TEXT($E103613,\"0000\")&TEXT($F103613,\"0000\")","v":"4480036022111630005"},4480036022,null,1,1163,5,"1163-5","답",1997.7,null,null,null,507,"박규준"]
[{"$f":"LEFT($B103808,10)&TEXT($D103808,\"0\")&TEXT($E103808,\"0000\")&TEXT($F103808,\"0000\")","v":"4480036022200430000"},4480036022,null,2,43,0,43,"임",1984,null,null,null,"인천남동구만수동901-26미림아파트506","맹정희"]
[{"$f":"LEFT($B103929,10)&TEXT($D103929,\"0\")&TEXT($E103929,\"0000\")&TEXT($F103929,\"0000\")","v":"4480036023100020075"},4480036023,null,1,2,75,"2-75","제",293,null,null,null,"인천시계양구작전동636-7","김기승"]
[{"$f":"LEFT($B104007,10)&TEXT($D104007,\"0\")&TEXT($E104007,\"0000\")&TEXT($F104007,\"0000\")","v":"4480036023101030000"},4480036023,null,1,103,0,103,"전",1521,null,null,null,"대구광역시동구송라로14길132102동1901호(신천동신천청아람)","정두화"]
[{"$f":"LEFT($B104138,10)&TEXT($D104138,\"0\")&TEXT($E104138,\"0000\")&TEXT($F104138,\"0000\")","v":"4480036023102670000"},4480036023,null,1,267,0,267,"대",483,null,null,null,"인천광역시계양구효성동321-37미래골든타운1-402","서영자"]
[{"$f":"LEFT($B104196,10)&TEXT($D104196,\"0\")&TEXT($E104196,\"0000\")&TEXT($F104196,\"0000\")","v":"4480036023103300000"},4480036023,null,1,330,0,330,"전",575,null,null,null,"오관리354","이우진"]
[{"$f":"LEFT($B104363,10)&TEXT($D104363,\"0\")&TEXT($E104363,\"0000\")&TEXT($F104363,\"0000\")","v":"4480036023105750005"},4480036023,null,1,575,5,"575-5","도",17,null,null,null,248,"김동수"]
[{"$f":"LEFT($B104468,10)&TEXT($D104468,\"0\")&TEXT($E104468,\"0000\")&TEXT($F104468,\"0000\")","v":"4480036023106950000"},4480036023,null,1,695,0,695,"전",1355,null,null,null,"충청남도홍성군결성면성남리662","최승섭"]
[{"$f":"LEFT($B104590,10)&TEXT($D104590,\"0\")&TEXT($E104590,\"0000\")&TEXT($F104590,\"0000\")","v":"4480036023108530000"},4480036023,null,1,853,0,853,"대",268,null,null,null,970,"이정훈"]
[{"$f":"LEFT($B104693,10)&TEXT($D104693,\"0\")&TEXT($E104693,\"0000\")&TEXT($F104693,\"0000\")","v":"4480036023110100000"},4480036023,null,1,1010,0,1010,"대",660,null,null,null,"충청남도홍성군홍성읍홍장북로441번길25-9비동404호(거성아파트)","오세홍"]
[{"$f":"LEFT($B104814,10)&TEXT($D104814,\"0\")&TEXT($E104814,\"0000\")&TEXT($F104814,\"0000\")","v":"4480036023111090000"},4480036023,null,1,1109,0,1109,"전",830,null,null,null,"서울특별시종로구북촌로11다길19(삼청동)","이주경"]
[{"$f":"LEFT($B104984,10)&TEXT($D104984,\"0\")&TEXT($E104984,\"0000\")&TEXT($F104984,\"0000\")","v":"4480036023112000000"},4480036023,null,1,1200,0,1200,"답",3680.8,null,null,null,"홍성군결성면성남리541","최광위"]
[{"$f":"LEFT($B105023,10)&TEXT($D105023,\"0\")&TEXT($E105023,\"0000\")&TEXT($F105023,\"0000\")","v":"4480036023112280000"},4480036023,null,1,1228,0,1228,"구",1558.9,null,null,null,"국(농림수산식품부)","국"]
[{"$f":"LEFT($B105144,10)&TEXT($D105144,\"0\")&TEXT($E105144,\"0000\")&TEXT($F105144,\"0000\")","v":"4480036024100130008"},4480036024,null,1,13,8,"13-8","임",3456,null,null,null,"충청남도홍성군결성면홍남서로843번길110-21","맹영호"]
[{"$f":"LEFT($B105259,10)&TEXT($D105259,\"0\")&TEXT($E105259,\"0000\")&TEXT($F105259,\"0000\")","v":"4480036024100720003"},4480036024,null,1,72,3,"72-3","답",3131,null,null,null,"강원도철원군동송읍금학로136번길18816호(한국개나리아파트)","서영현"]
[{"$f":"LEFT($B105369,10)&TEXT($D105369,\"0\")&TEXT($E105369,\"0000\")&TEXT($F105369,\"0000\")","v":"4480036024100890005"},4480036024,null,1,89,5,"89-5","답",2128,null,null,null,"충청남도홍성군결성면홍남서로843번길110-5","맹영호"]
[{"$f":"LEFT($B105567,10)&TEXT($D105567,\"0\")&TEXT($E105567,\"0000\")&TEXT($F105567,\"0000\")","v":"4480036024102160000"},4480036024,null,1,216,0,216,"구",9046,null,null,null,"국(농림수산부)","국"]
[{"$f":"LEFT($B105698,10)&TEXT($D105698,\"0\")&TEXT($E105698,\"0000\")&TEXT($F105698,\"0000\")","v":"4480036024104370002"},4480036024,null,1,437,2,"437-2","전",5,null,null,null,151,"박상욱"]
[{"$f":"LEFT($B105819,10)&TEXT($D105819,\"0\")&TEXT($E105819,\"0000\")&TEXT($F105819,\"0000\")","v":"4480036024105540026"},4480036024,null,1,554,26,"554-26","제",45,null,null,null,"국(건설부)","국"]
[{"$f":"LEFT($B105961,10)&TEXT($D105961,\"0\")&TEXT($E105961,\"0000\")&TEXT($F105961,\"0000\")","v":"4480036024107120001"},4480036024,null,1,712,1,"712-1","전",212,null,null,null,"충청남도홍성군결성면만해로14번길114-23","황경복"]
[{"$f":"LEFT($B106028,10)&TEXT($D106028,\"0\")&TEXT($E106028,\"0000\")&TEXT($F106028,\"0000\")","v":"4480036024107860004"},4480036024,null,1,786,4,"786-4","대",410,null,null,null,"서울특별시동작구사당동105극동아파트101-105","최광신"]
[{"$f":"LEFT($B106149,10)&TEXT($D106149,\"0\")&TEXT($E106149,\"0000\")&TEXT($F106149,\"0000\")","v":"4480036024108560012"},4480036024,null,1,856,12,"856-12","답",130,null,null,null,"충청남도","국"]
[{"$f":"LEFT($B106236,10)&TEXT($D106236,\"0\")&TEXT($E106236,\"0000\")&TEXT($F106236,\"0000\")","v":"4480036025100150000"},4480036025,null,1,15,0,15,"전",2238,null,null,null,"충청남도홍성군결성면산업로35번길18","이정범"]
[{"$f":"LEFT($B106374,10)&TEXT($D106374,\"0\")&TEXT($E106374,\"0000\")&TEXT($F106374,\"0000\")","v":"4480036025100610002"},4480036025,null,1,61,2,"61-2","임",529,null,null,null,"충청남도홍성군홍성읍내포로146번길46101동405호(미림청솔아파트)","송영수"]
[{"$f":"LEFT($B106479,10)&TEXT($D106479,\"0\")&TEXT($E106479,\"0000\")&TEXT($F106479,\"0000\")","v":"4480036025101080001"},4480036025,null,1,108,1,"108-1","대",330,null,null,null,"108-1","윤정자"]
[{"$f":"LEFT($B106630,10)&TEXT($D106630,\"0\")&TEXT($E106630,\"0000\")&TEXT($F106630,\"0000\")","v":"4480036025102090000"},4480036025,null,1,209,0,209,"전",2258,null,null,null,"경기도부천시원미구중동1041덕유마을209-2206","이재영"]
[{"$f":"LEFT($B106704,10)&TEXT($D106704,\"0\")&TEXT($E106704,\"0000\")&TEXT($F106704,\"0000\")","v":"4480036025102570003"},4480036025,null,1,257,3,"257-3","답",2230,null,null,null,28,"이석우"]
[{"$f":"LEFT($B106819,10)&TEXT($D106819,\"0\")&TEXT($E106819,\"0000\")&TEXT($F106819,\"0000\")","v":"4480036025103840002"},4480036025,null,1,384,2,"384-2","도",7,null,null,null,"충청남도홍성군결성면성곡리380-2","이산월"]
[{"$f":"LEFT($B107033,10)&TEXT($D107033,\"0\")&TEXT($E107033,\"0000\")&TEXT($F107033,\"0000\")","v":"4480036025105460003"},4480036025,null,1,546,3,"546-3","도",79,null,null,null,"홍성군결성면성곡리551","고중일"]
[{"$f":"LEFT($B107154,10)&TEXT($D107154,\"0\")&TEXT($E107154,\"0000\")&TEXT($F107154,\"0000\")","v":"4480036025200410000"},4480036025,null,2,41,0,41,"임",6546,null,null,null,"경기도의왕시흥안대로456번길125105동1105호(포일동동아에코빌아파트)","장민성"]
[{"$f":"LEFT($B107213,10)&TEXT($D107213,\"0\")&TEXT($E107213,\"0000\")&TEXT($F107213,\"0000\")","v":"4480036025201200002"},4480036025,null,2,120,2,"120-2","도",1309,null,null,null,"서울특별시강남구대치동511한보미도맨션102-210","김채동"]
[{"$f":"LEFT($B107379,10)&TEXT($D107379,\"0\")&TEXT($E107379,\"0000\")&TEXT($F107379,\"0000\")","v":"4480036026100670006"},4480036026,null,1,67,6,"67-6","답",1884,null,null,null,"충청남도홍성군결성면만해로115번길43","장욱진"]
[{"$f":"LEFT($B107484,10)&TEXT($D107484,\"0\")&TEXT($E107484,\"0000\")&TEXT($F107484,\"0000\")","v":"4480036026101560000"},4480036026,null,1,156,0,156,"구",697,null,null,null,"국(농림수산부)","국"]
[{"$f":"LEFT($B107607,10)&TEXT($D107607,\"0\")&TEXT($E107607,\"0000\")&TEXT($F107607,\"0000\")","v":"4480036026102380000"},4480036026,null,1,238,0,238,"목",159,null,null,null,"경기도부천시원미구옥산로831008동1004호(중동꿈마을)","김용환"]
[{"$f":"LEFT($B107709,10)&TEXT($D107709,\"0\")&TEXT($E107709,\"0000\")&TEXT($F107709,\"0000\")","v":"4480036026103800050"},4480036026,null,1,380,50,"380-50","잡",1591,null,null,null,"전라북도전주시덕진구두간6길9102동704호(송천동1가케이제이라미안아파트)","최미녀"]
[{"$f":"LEFT($B107814,10)&TEXT($D107814,\"0\")&TEXT($E107814,\"0000\")&TEXT($F107814,\"0000\")","v":"4480036026104520000"},4480036026,null,1,452,0,452,"전",506,null,null,null,"충청남도홍성군결성면만해로169-36","장옥희"]
[{"$f":"LEFT($B107900,10)&TEXT($D107900,\"0\")&TEXT($E107900,\"0000\")&TEXT($F107900,\"0000\")","v":"4480036026105290000"},4480036026,null,1,529,0,529,"전",496,null,null,null,550,"김수동"]
[{"$f":"LEFT($B108039,10)&TEXT($D108039,\"0\")&TEXT($E108039,\"0000\")&TEXT($F108039,\"0000\")","v":"4480036026200190010"},4480036026,null,2,19,10,"19-10","임",792,null,null,null,"대전광역시중구계백로1686번길513동606호(문화동상아아파트)","최순이"]
[{"$f":"LEFT($B108190,10)&TEXT($D108190,\"0\")&TEXT($E108190,\"0000\")&TEXT($F108190,\"0000\")","v":"4480036027100540003"},4480036027,null,1,54,3,"54-3","답",1102,null,null,null,702,"김정국"]
[{"$f":"LEFT($B108264,10)&TEXT($D108264,\"0\")&TEXT($E108264,\"0000\")&TEXT($F108264,\"0000\")","v":"4480036027101080001"},4480036027,null,1,108,1,"108-1","도",50,null,null,null,"홍성군","국"]
[{"$f":"LEFT($B108369,10)&TEXT($D108369,\"0\")&TEXT($E108369,\"0000\")&TEXT($F108369,\"0000\")","v":"4480036027101560020"},4480036027,null,1,156,20,"156-20","답",650,null,null,null,"갈산면오두리17","김은학"]
[{"$f":"LEFT($B108584,10)&TEXT($D108584,\"0\")&TEXT($E108584,\"0000\")&TEXT($F108584,\"0000\")","v":"4480036027103580001"},4480036027,null,1,358,1,"358-1","도",238,null,null,null,117,"임영호"]
[{"$f":"LEFT($B108714,10)&TEXT($D108714,\"0\")&TEXT($E108714,\"0000\")&TEXT($F108714,\"0000\")","v":"4480036027104580001"},4480036027,null,1,458,1,"458-1","임",806,null,null,null,"충청남도홍성군결성면교항리산118-","김문숙"]
[{"$f":"LEFT($B108819,10)&TEXT($D108819,\"0\")&TEXT($E108819,\"0000\")&TEXT($F108819,\"0000\")","v":"4480036027105240006"},4480036027,null,1,524,6,"524-6","도",71,null,null,null,"충청남도","국"]
[{"$f":"LEFT($B108877,10)&TEXT($D108877,\"0\")&TEXT($E108877,\"0000\")&TEXT($F108877,\"0000\")","v":"4480036027106060000"},4480036027,null,1,606,0,606,"전",1540,null,null,null,495,"최명규"]
[{"$f":"LEFT($B109044,10)&TEXT($D109044,\"0\")&TEXT($E109044,\"0000\")&TEXT($F109044,\"0000\")","v":"4480036027107820001"},4480036027,null,1,782,1,"782-1","도",572,null,null,null,"홍성군","국"]
[{"$f":"LEFT($B109149,10)&TEXT($D109149,\"0\")&TEXT($E109149,\"0000\")&TEXT($F109149,\"0000\")","v":"4480036027109250002"},4480036027,null,1,925,2,"925-2","답",93,null,null,null,"성남시분당구서현동96우성아파트222-1605","구자서"]
[{"$f":"LEFT($B109271,10)&TEXT($D109271,\"0\")&TEXT($E109271,\"0000\")&TEXT($F109271,\"0000\")","v":"4480036027110780009"},4480036027,null,1,1078,9,"1078-9","답",2198.4,null,null,null,"홍성군결성면교항리497","이광원"]
[{"$f":"LEFT($B109374,10)&TEXT($D109374,\"0\")&TEXT($E109374,\"0000\")&TEXT($F109374,\"0000\")","v":"4480036027200350000"},4480036027,null,2,35,0,35,"임",5950,null,null,null,82,"이준식"]
[{"$f":"LEFT($B109495,10)&TEXT($D109495,\"0\")&TEXT($E109495,\"0000\")&TEXT($F109495,\"0000\")","v":"4480036028100400007"},4480036028,null,1,40,7,"40-7","답",46,null,null,null,"결성면형산리132","박한수"]
[{"$f":"LEFT($B109665,10)&TEXT($D109665,\"0\")&TEXT($E109665,\"0000\")&TEXT($F109665,\"0000\")","v":"4480036028101940001"},4480036028,null,1,194,1,"194-1","도",64,null,null,null,"홍성군","국"]
[{"$f":"LEFT($B109704,10)&TEXT($D109704,\"0\")&TEXT($E109704,\"0000\")&TEXT($F109704,\"0000\")","v":"4480036028102230000"},4480036028,null,1,223,0,223,"답",58,null,null,null,"경기도의정부시신곡동682동신아파트101-104","임은덕"]
[{"$f":"LEFT($B109854,10)&TEXT($D109854,\"0\")&TEXT($E109854,\"0000\")&TEXT($F109854,\"0000\")","v":"4480036028103480000"},4480036028,null,1,348,0,348,"전",1293,null,null,null,"용호리328","장기수"]
[{"$f":"LEFT($B109929,10)&TEXT($D109929,\"0\")&TEXT($E109929,\"0000\")&TEXT($F109929,\"0000\")","v":"4480036028104210001"},4480036028,null,1,421,1,"421-1","도",5,null,null,null,"홍성군","국"]
[{"$f":"LEFT($B110034,10)&TEXT($D110034,\"0\")&TEXT($E110034,\"0000\")&TEXT($F110034,\"0000\")","v":"4480036028105070016"},4480036028,null,1,507,16,"507-16","답",2990,null,null,null,"충청남도홍성군홍성읍남학길208-13","박상동"]
[{"$f":"LEFT($B110248,10)&TEXT($D110248,\"0\")&TEXT($E110248,\"0000\")&TEXT($F110248,\"0000\")","v":"4480036028106850010"},4480036028,null,1,685,10,"685-10","답",1537,null,null,null,"충청남도홍성군홍북면이응노로183번길219","양봉규"]
[{"$f":"LEFT($B110379,10)&TEXT($D110379,\"0\")&TEXT($E110379,\"0000\")&TEXT($F110379,\"0000\")","v":"4480036029100200005"},4480036029,null,1,20,5,"20-5","답",1914,null,null,null,"아산시음봉면산동리427-1삼일원앙아파트102-216","임재희"]
[{"$f":"LEFT($B110500,10)&TEXT($D110500,\"0\")&TEXT($E110500,\"0000\")&TEXT($F110500,\"0000\")","v":"4480036029100510002"},4480036029,null,1,51,2,"51-2","답",2958,null,null,null,475,"조두행"]
[{"$f":"LEFT($B110523,10)&TEXT($D110523,\"0\")&TEXT($E110523,\"0000\")&TEXT($F110523,\"0000\")","v":"4480036029100680000"},4480036029,null,1,68,0,68,"대",357,null,null,null,395,"조병로"]
[{"$f":"LEFT($B110709,10)&TEXT($D110709,\"0\")&TEXT($E110709,\"0000\")&TEXT($F110709,\"0000\")","v":"4480036029102170004"},4480036029,null,1,217,4,"217-4","임",507,null,null,null,"충청남도홍성군결성면백야로121","박종미"]
[{"$f":"LEFT($B110830,10)&TEXT($D110830,\"0\")&TEXT($E110830,\"0000\")&TEXT($F110830,\"0000\")","v":"4480036029103320003"},4480036029,null,1,332,3,"332-3","임",1116,null,null,null,"국(건설교통부)","국"]
[{"$f":"LEFT($B110917,10)&TEXT($D110917,\"0\")&TEXT($E110917,\"0000\")&TEXT($F110917,\"0000\")","v":"4480036029104020007"},4480036029,null,1,402,7,"402-7","대",399,null,null,null,"경기도구리시동구릉로238번길20101동1204호(인창동한진아파트)","엄희주"]
[{"$f":"LEFT($B111039,10)&TEXT($D111039,\"0\")&TEXT($E111039,\"0000\")&TEXT($F111039,\"0000\")","v":"4480036029105320000"},4480036029,null,1,532,0,532,"답",655,null,null,null,"구항면남산리240","이봉영"]
[{"$f":"LEFT($B111225,10)&TEXT($D111225,\"0\")&TEXT($E111225,\"0000\")&TEXT($F111225,\"0000\")","v":"4480036029106720003"},4480036029,null,1,672,3,"672-3","전",2574,null,null,null,354,"김달순"]
[{"$f":"LEFT($B111264,10)&TEXT($D111264,\"0\")&TEXT($E111264,\"0000\")&TEXT($F111264,\"0000\")","v":"4480036029106870016"},4480036029,null,1,687,16,"687-16","구",81,null,null,null,"국(건설교통부)","국"]
[{"$f":"LEFT($B111385,10)&TEXT($D111385,\"0\")&TEXT($E111385,\"0000\")&TEXT($F111385,\"0000\")","v":"4480036029200890000"},4480036029,null,2,89,0,89,"임",4562,null,null,null,"홍성군결성면형산리404","조철희"]
[{"$f":"LEFT($B111500,10)&TEXT($D111500,\"0\")&TEXT($E111500,\"0000\")&TEXT($F111500,\"0000\")","v":"4480037021100080007"},4480037021,null,1,8,7,"8-7","전",108,null,null,null,"인천계양구작전동915-1까치마을태화아파트603-909","김순옥"]
[{"$f":"LEFT($B111594,10)&TEXT($D111594,\"0\")&TEXT($E111594,\"0000\")&TEXT($F111594,\"0000\")","v":"4480037021100880011"},4480037021,null,1,88,11,"88-11","도",61,null,null,null,"울산광역시남구삼산로26811호(신정동공업탑하트랜드)","임규태"]
[{"$f":"LEFT($B111715,10)&TEXT($D111715,\"0\")&TEXT($E111715,\"0000\")&TEXT($F111715,\"0000\")","v":"4480037021101370000"},4480037021,null,1,137,0,137,"답",453,null,null,null,"경기도부천시소사구심곡로67번길17(심곡본동)","이현수"]
[{"$f":"LEFT($B111894,10)&TEXT($D111894,\"0\")&TEXT($E111894,\"0000\")&TEXT($F111894,\"0000\")","v":"4480037021102150007"},4480037021,null,1,215,7,"215-7","도",126,null,null,null,"충청남도","국"]
[{"$f":"LEFT($B112060,10)&TEXT($D112060,\"0\")&TEXT($E112060,\"0000\")&TEXT($F112060,\"0000\")","v":"4480037021102780025"},4480037021,null,1,278,25,"278-25","전",366,null,null,null,"충청남도홍성군서부면이호길37-24","박인규"]
[{"$f":"LEFT($B112165,10)&TEXT($D112165,\"0\")&TEXT($E112165,\"0000\")&TEXT($F112165,\"0000\")","v":"4480037021103410000"},4480037021,null,1,341,0,341,"대",377,null,null,null,341,"이원복"]
[{"$f":"LEFT($B112288,10)&TEXT($D112288,\"0\")&TEXT($E112288,\"0000\")&TEXT($F112288,\"0000\")","v":"4480037021104400004"},4480037021,null,1,440,4,"440-4","전",106,null,null,null,444,"박길수"]
[{"$f":"LEFT($B112390,10)&TEXT($D112390,\"0\")&TEXT($E112390,\"0000\")&TEXT($F112390,\"0000\")","v":"4480037021105370014"},4480037021,null,1,537,14,"537-14","전",71,null,null,null,"홍성군","국"]
[{"$f":"LEFT($B112477,10)&TEXT($D112477,\"0\")&TEXT($E112477,\"0000\")&TEXT($F112477,\"0000\")","v":"4480037021105960005"},4480037021,null,1,596,5,"596-5","임",780,null,null,null,"수원시권선구고등동34-22","천경하"]
[{"$f":"LEFT($B112599,10)&TEXT($D112599,\"0\")&TEXT($E112599,\"0000\")&TEXT($F112599,\"0000\")","v":"4480037021106750006"},4480037021,null,1,675,6,"675-6","묘",268,null,null,null,"서울시송파구가락동140가락쌍용아파트203-1709","정병운"]
[{"$f":"LEFT($B112720,10)&TEXT($D112720,\"0\")&TEXT($E112720,\"0000\")&TEXT($F112720,\"0000\")","v":"4480037021107850000"},4480037021,null,1,785,0,785,"답",1072,null,null,null,"서울특별시동대문구전농동60-98","최재경"]
[{"$f":"LEFT($B112871,10)&TEXT($D112871,\"0\")&TEXT($E112871,\"0000\")&TEXT($F112871,\"0000\")","v":"4480037021200410001"},4480037021,null,2,41,1,"41-1","임",9421,null,null,null,"이호리480","박종규"]
[{"$f":"LEFT($B112945,10)&TEXT($D112945,\"0\")&TEXT($E112945,\"0000\")&TEXT($F112945,\"0000\")","v":"4480037022100040000"},4480037022,null,1,4,0,4,"전",1699,null,null,null,"인천서구가정동544조광아파트606","박계한"]
[{"$f":"LEFT($B113050,10)&TEXT($D113050,\"0\")&TEXT($E113050,\"0000\")&TEXT($F113050,\"0000\")","v":"4480037022100420011"},4480037022,null,1,42,11,"42-11","전",1988,null,null,null,"서울시성북구하월곡동82-100","박재순"]
[{"$f":"LEFT($B113146,10)&TEXT($D113146,\"0\")&TEXT($E113146,\"0000\")&TEXT($F113146,\"0000\")","v":"4480037022101130003"},4480037022,null,1,113,3,"113-3","대",76,null,null,null,"홍성군","국"]
[{"$f":"LEFT($B113275,10)&TEXT($D113275,\"0\")&TEXT($E113275,\"0000\")&TEXT($F113275,\"0000\")","v":"4480037022101900002"},4480037022,null,1,190,2,"190-2","종",450,null,null,null,"서울시중구태평로1가64-8","재단법인기독교대한감리회유지재단"]
[{"$f":"LEFT($B113500,10)&TEXT($D113500,\"0\")&TEXT($E113500,\"0000\")&TEXT($F113500,\"0000\")","v":"4480037022104150002"},4480037022,null,1,415,2,"415-2","답",1008,null,null,null,449,"이찬구"]
[{"$f":"LEFT($B113540,10)&TEXT($D113540,\"0\")&TEXT($E113540,\"0000\")&TEXT($F113540,\"0000\")","v":"4480037022104470004"},4480037022,null,1,447,4,"447-4","임",1352,null,null,null,"금마면부평리260-3","조한길"]
[{"$f":"LEFT($B113725,10)&TEXT($D113725,\"0\")&TEXT($E113725,\"0000\")&TEXT($F113725,\"0000\")","v":"4480037022106240000"},4480037022,null,1,624,0,624,"답",12568.6,null,null,null,"충청남도홍성군홍성읍충서로1506105동1502호(세광엔리치타워)","이두원"]
[{"$f":"LEFT($B113848,10)&TEXT($D113848,\"0\")&TEXT($E113848,\"0000\")&TEXT($F113848,\"0000\")","v":"4480037022107060002"},4480037022,null,1,706,2,"706-2","답",2242,null,null,null,271,"이계원"]
[{"$f":"LEFT($B113950,10)&TEXT($D113950,\"0\")&TEXT($E113950,\"0000\")&TEXT($F113950,\"0000\")","v":"4480037022107300002"},4480037022,null,1,730,2,"730-2","답",3919.8,null,null,null,"충청남도홍성군서부면서부로767번길24","문동현"]
[{"$f":"LEFT($B114055,10)&TEXT($D114055,\"0\")&TEXT($E114055,\"0000\")&TEXT($F114055,\"0000\")","v":"4480037022200490001"},4480037022,null,2,49,1,"49-1","임",3471,null,null,null,"대전시중구목동132현대아파트103-402","한산이씨석노공파종중"]
[{"$f":"LEFT($B114123,10)&TEXT($D114123,\"0\")&TEXT($E114123,\"0000\")&TEXT($F114123,\"0000\")","v":"4480037022201070001"},4480037022,null,2,107,1,"107-1","임",8628,null,null,null,"인천광역시연수구해돋이로120번길16208동1904호(송도동풍림아이원아파트)","이일형"]
[{"$f":"LEFT($B114280,10)&TEXT($D114280,\"0\")&TEXT($E114280,\"0000\")&TEXT($F114280,\"0000\")","v":"4480037023100880004"},4480037023,null,1,88,4,"88-4","임",4815,null,null,null,"충청남도홍성군서부면서부서길386-39","유용근"]
[{"$f":"LEFT($B114385,10)&TEXT($D114385,\"0\")&TEXT($E114385,\"0000\")&TEXT($F114385,\"0000\")","v":"4480037023101390002"},4480037023,null,1,139,2,"139-2","도",60,null,null,null,"홍성군","국"]
[{"$f":"LEFT($B114535,10)&TEXT($D114535,\"0\")&TEXT($E114535,\"0000\")&TEXT($F114535,\"0000\")","v":"4480037023102370000"},4480037023,null,1,237,0,237,"전",2581,null,null,null,"충청남도홍성군서부면서부서길256","강중근"]
[{"$f":"LEFT($B114610,10)&TEXT($D114610,\"0\")&TEXT($E114610,\"0000\")&TEXT($F114610,\"0000\")","v":"4480037023103000000"},4480037023,null,1,300,0,300,"대",97,null,null,null,"충청남도","국"]
[{"$f":"LEFT($B114715,10)&TEXT($D114715,\"0\")&TEXT($E114715,\"0000\")&TEXT($F114715,\"0000\")","v":"4480037023103510014"},4480037023,null,1,351,14,"351-14","임",2003,null,null,null,"산63","박병희"]
[{"$f":"LEFT($B114929,10)&TEXT($D114929,\"0\")&TEXT($E114929,\"0000\")&TEXT($F114929,\"0000\")","v":"4480037023104920005"},4480037023,null,1,492,5,"492-5","전",555,null,null,null,"인천시남구관교동13-6삼환아파트103-903","구정자"]
[{"$f":"LEFT($B114940,10)&TEXT($D114940,\"0\")&TEXT($E114940,\"0000\")&TEXT($F114940,\"0000\")","v":"4480037023104960004"},4480037023,null,1,496,4,"496-4","답",45,null,null,null,"충청남도홍성군서부면서부서길551-13","최장을"]
[{"$f":"LEFT($B115165,10)&TEXT($D115165,\"0\")&TEXT($E115165,\"0000\")&TEXT($F115165,\"0000\")","v":"4480037023105670000"},4480037023,null,1,567,0,567,"전",1193,null,null,null,569,"김금준"]
[{"$f":"LEFT($B115204,10)&TEXT($D115204,\"0\")&TEXT($E115204,\"0000\")&TEXT($F115204,\"0000\")","v":"4480037023106090000"},4480037023,null,1,609,0,609,"대",364,null,null,null,"군포시금정동754-12","노동옥"]
[{"$f":"LEFT($B115390,10)&TEXT($D115390,\"0\")&TEXT($E115390,\"0000\")&TEXT($F115390,\"0000\")","v":"4480037023107280000"},4480037023,null,1,728,0,728,"도",4096,null,null,null,"국(건설부)","국"]
[{"$f":"LEFT($B115512,10)&TEXT($D115512,\"0\")&TEXT($E115512,\"0000\")&TEXT($F115512,\"0000\")","v":"4480037023108550000"},4480037023,null,1,855,0,855,"답",14572.3,null,null,null,"예산군덕산면내라리70","윤병남"]
[{"$f":"LEFT($B115615,10)&TEXT($D115615,\"0\")&TEXT($E115615,\"0000\")&TEXT($F115615,\"0000\")","v":"4480037023109620000"},4480037023,null,1,962,0,962,"답",15081,null,null,null,"광명시광명동713중앙하이츠아파트201-1404","문한욱"]
[{"$f":"LEFT($B115720,10)&TEXT($D115720,\"0\")&TEXT($E115720,\"0000\")&TEXT($F115720,\"0000\")","v":"4480037023200230000"},4480037023,null,2,23,0,23,"임",5950,null,null,null,79,"이영진"]
[{"$f":"LEFT($B115787,10)&TEXT($D115787,\"0\")&TEXT($E115787,\"0000\")&TEXT($F115787,\"0000\")","v":"4480037023201370001"},4480037023,null,2,137,1,"137-1","임",16562,null,null,null,"당진군당진읍원당리312청구아파트102-1202","임승숙"]
[{"$f":"LEFT($B115945,10)&TEXT($D115945,\"0\")&TEXT($E115945,\"0000\")&TEXT($F115945,\"0000\")","v":"4480037024100900000"},4480037024,null,1,90,0,90,"전",2593,null,null,null,"서울시도봉구쌍문동56삼익세라믹아파트110-903","이혁로"]
[{"$f":"LEFT($B116066,10)&TEXT($D116066,\"0\")&TEXT($E116066,\"0000\")&TEXT($F116066,\"0000\")","v":"4480037024102190002"},4480037024,null,1,219,2,"219-2","전",420,null,null,null,"충청남도홍성군서부면서부서길618-14","장순화"]
[{"$f":"LEFT($B116181,10)&TEXT($D116181,\"0\")&TEXT($E116181,\"0000\")&TEXT($F116181,\"0000\")","v":"4480037024103570000"},4480037024,null,1,357,0,357,"전",101,null,null,null,"서울시송파구오금동79-14","김찬"]
[{"$f":"LEFT($B116275,10)&TEXT($D116275,\"0\")&TEXT($E116275,\"0000\")&TEXT($F116275,\"0000\")","v":"4480037024104410000"},4480037024,null,1,441,0,441,"전",1813,null,null,null,442,"박동식"]
[{"$f":"LEFT($B116396,10)&TEXT($D116396,\"0\")&TEXT($E116396,\"0000\")&TEXT($F116396,\"0000\")","v":"4480037024106050003"},4480037024,null,1,605,3,"605-3","대",241,null,null,null,"충청남도홍성군서부면서부서길612","이미자"]
[{"$f":"LEFT($B116575,10)&TEXT($D116575,\"0\")&TEXT($E116575,\"0000\")&TEXT($F116575,\"0000\")","v":"4480037024108110000"},4480037024,null,1,811,0,811,"답",1296.5,null,null,null,"서부면이호리626-2","김성섭"]
[{"$f":"LEFT($B116725,10)&TEXT($D116725,\"0\")&TEXT($E116725,\"0000\")&TEXT($F116725,\"0000\")","v":"4480037024200710001"},4480037024,null,2,71,1,"71-1","임",29256,null,null,null,"구항면황곡리253","전영수"]
[{"$f":"LEFT($B116764,10)&TEXT($D116764,\"0\")&TEXT($E116764,\"0000\")&TEXT($F116764,\"0000\")","v":"4480037025100200001"},4480037025,null,1,20,1,"20-1","전",4798,null,null,null,"어사리105","민병준"]
[{"$f":"LEFT($B116950,10)&TEXT($D116950,\"0\")&TEXT($E116950,\"0000\")&TEXT($F116950,\"0000\")","v":"4480037025101790000"},4480037025,null,1,179,0,179,"전",759,null,null,null,"이호리260-1","이선영"]
[{"$f":"LEFT($B117071,10)&TEXT($D117071,\"0\")&TEXT($E117071,\"0000\")&TEXT($F117071,\"0000\")","v":"4480037025103080000"},4480037025,null,1,308,0,308,"임",585,null,null,null,"충청남도홍성군서부면거차리291","김기철"]
[{"$f":"LEFT($B117158,10)&TEXT($D117158,\"0\")&TEXT($E117158,\"0000\")&TEXT($F117158,\"0000\")","v":"4480037025103970000"},4480037025,null,1,397,0,397,"대",195,null,null,null,"거차리398","엄광섭"]
[{"$f":"LEFT($B117280,10)&TEXT($D117280,\"0\")&TEXT($E117280,\"0000\")&TEXT($F117280,\"0000\")","v":"4480037025104720005"},4480037025,null,1,472,5,"472-5","도",17388,null,null,null,"홍성군","국"]
[{"$f":"LEFT($B117401,10)&TEXT($D117401,\"0\")&TEXT($E117401,\"0000\")&TEXT($F117401,\"0000\")","v":"4480037025200680004"},4480037025,null,2,68,4,"68-4","임",595,null,null,null,123,"김봉환"]
[{"$f":"LEFT($B117552,10)&TEXT($D117552,\"0\")&TEXT($E117552,\"0000\")&TEXT($F117552,\"0000\")","v":"4480037026100510002"},4480037026,null,1,51,2,"51-2","대",159,null,null,null,"충청남도홍성군서부면서부로346","김희경"]
[{"$f":"LEFT($B117610,10)&TEXT($D117610,\"0\")&TEXT($E117610,\"0000\")&TEXT($F117610,\"0000\")","v":"4480037026100830015"},4480037026,null,1,83,15,"83-15","전",331,null,null,null,176,"양영식"]
[{"$f":"LEFT($B117731,10)&TEXT($D117731,\"0\")&TEXT($E117731,\"0000\")&TEXT($F117731,\"0000\")","v":"4480037026101790003"},4480037026,null,1,179,3,"179-3","전",225,null,null,null,"충청남도홍성군서부면서부로192번길17-13","양오식"]
[{"$f":"LEFT($B117827,10)&TEXT($D117827,\"0\")&TEXT($E117827,\"0000\")&TEXT($F117827,\"0000\")","v":"4480037026102170007"},4480037026,null,1,217,7,"217-7","답",1523,null,null,null,"거차리476","박태희"]
[{"$f":"LEFT($B117956,10)&TEXT($D117956,\"0\")&TEXT($E117956,\"0000\")&TEXT($F117956,\"0000\")","v":"4480037026102950003"},4480037026,null,1,295,3,"295-3","답",106,null,null,null,"인천시중구신흥동3가21","이환복"]
[{"$f":"LEFT($B118135,10)&TEXT($D118135,\"0\")&TEXT($E118135,\"0000\")&TEXT($F118135,\"0000\")","v":"4480037026104490002"},4480037026,null,1,449,2,"449-2","전",2086,null,null,null,"홍성군서부면거차리393","김광수"]
[{"$f":"LEFT($B118285,10)&TEXT($D118285,\"0\")&TEXT($E118285,\"0000\")&TEXT($F118285,\"0000\")","v":"4480037026105530002"},4480037026,null,1,553,2,"553-2","전",202,null,null,null,543,"김정태"]
[{"$f":"LEFT($B118406,10)&TEXT($D118406,\"0\")&TEXT($E118406,\"0000\")&TEXT($F118406,\"0000\")","v":"4480037026106550002"},4480037026,null,1,655,2,"655-2","도",240,null,null,null,"국(건설부)","국"]
[{"$f":"LEFT($B118410,10)&TEXT($D118410,\"0\")&TEXT($E118410,\"0000\")&TEXT($F118410,\"0000\")","v":"4480037026106610002"},4480037026,null,1,661,2,"661-2","전",1970,null,null,null,722,"최장훈"]
[{"$f":"LEFT($B118631,10)&TEXT($D118631,\"0\")&TEXT($E118631,\"0000\")&TEXT($F118631,\"0000\")","v":"4480037026107820000"},4480037026,null,1,782,0,782,"구",186,null,null,null,"국(농림수산부)","국"]
[{"$f":"LEFT($B118736,10)&TEXT($D118736,\"0\")&TEXT($E118736,\"0000\")&TEXT($F118736,\"0000\")","v":"4480037026200790002"},4480037026,null,2,79,2,"79-2","임",1431,null,null,null,"인천시연수구연수동579대우1차아파트105동501호","이미숙"]
[{"$f":"LEFT($B118804,10)&TEXT($D118804,\"0\")&TEXT($E118804,\"0000\")&TEXT($F118804,\"0000\")","v":"4480037027100450000"},4480037027,null,1,45,0,45,"전",231,null,null,null,149,"박종팔"]
[{"$f":"LEFT($B118961,10)&TEXT($D118961,\"0\")&TEXT($E118961,\"0000\")&TEXT($F118961,\"0000\")","v":"4480037027101190007"},4480037027,null,1,119,7,"119-7","대",502,null,null,null,"충청남도홍성군홍북면신대로34109동904호(내포신도시롯데캐슬)","한유숙"]
[{"$f":"LEFT($B119066,10)&TEXT($D119066,\"0\")&TEXT($E119066,\"0000\")&TEXT($F119066,\"0000\")","v":"4480037027101600006"},4480037027,null,1,160,6,"160-6","잡",73,null,null,null,"논산시양촌면도평리389","정성자"]
[{"$f":"LEFT($B119198,10)&TEXT($D119198,\"0\")&TEXT($E119198,\"0000\")&TEXT($F119198,\"0000\")","v":"4480037027101730018"},4480037027,null,1,173,18,"173-18","답",145,null,null,null,"국(국토교통부)","국"]
[{"$f":"LEFT($B119291,10)&TEXT($D119291,\"0\")&TEXT($E119291,\"0000\")&TEXT($F119291,\"0000\")","v":"4480037027102120001"},4480037027,null,1,212,1,"212-1","답",33,null,null,null,"충청남도아산시방축동134-1남산현대아파트101-506","한득전"]
[{"$f":"LEFT($B119396,10)&TEXT($D119396,\"0\")&TEXT($E119396,\"0000\")&TEXT($F119396,\"0000\")","v":"4480037027102580016"},4480037027,null,1,258,16,"258-16","임",1608,null,null,null,"경기도의왕시포일동487","한국농어촌공사"]
[{"$f":"LEFT($B119491,10)&TEXT($D119491,\"0\")&TEXT($E119491,\"0000\")&TEXT($F119491,\"0000\")","v":"4480037027103290000"},4480037027,null,1,329,0,329,"답",252,null,null,null,309,"이필화"]
[{"$f":"LEFT($B119621,10)&TEXT($D119621,\"0\")&TEXT($E119621,\"0000\")&TEXT($F119621,\"0000\")","v":"4480037027104230053"},4480037027,null,1,423,53,"423-53","답",629,null,null,null,"서울시중구신당동844남산타운아파트15동1204호","이기팔"]
[{"$f":"LEFT($B119781,10)&TEXT($D119781,\"0\")&TEXT($E119781,\"0000\")&TEXT($F119781,\"0000\")","v":"4480037027104920000"},4480037027,null,1,492,0,492,"전",215,null,null,null,501,"한만희"]
[{"$f":"LEFT($B119846,10)&TEXT($D119846,\"0\")&TEXT($E119846,\"0000\")&TEXT($F119846,\"0000\")","v":"4480037027105240005"},4480037027,null,1,524,5,"524-5","전",120,null,null,null,"국(국토교통부)","국"]
[{"$f":"LEFT($B120071,10)&TEXT($D120071,\"0\")&TEXT($E120071,\"0000\")&TEXT($F120071,\"0000\")","v":"4480037027107070012"},4480037027,null,1,707,12,"707-12","임",920,null,null,null,"서울시양천구신정동328목동신시가지아파트1325-1401","이재서"]
[{"$f":"LEFT($B120193,10)&TEXT($D120193,\"0\")&TEXT($E120193,\"0000\")&TEXT($F120193,\"0000\")","v":"4480037027107980010"},4480037027,null,1,798,10,"798-10","임",758,null,null,null,"서울특별시송파구풍납동219미성아파트5-1002","이열"]
[{"$f":"LEFT($B120296,10)&TEXT($D120296,\"0\")&TEXT($E120296,\"0000\")&TEXT($F120296,\"0000\")","v":"4480037027108610002"},4480037027,null,1,861,2,"861-2","잡",1580.6,null,null,null,"국(해양수산부)","국"]
[{"$f":"LEFT($B120401,10)&TEXT($D120401,\"0\")&TEXT($E120401,\"0000\")&TEXT($F120401,\"0000\")","v":"4480037028100050004"},4480037028,null,1,5,4,"5-4","대",459,null,null,null,"충청남도홍성군서부면홍남서로274","오창영"]
[{"$f":"LEFT($B120468,10)&TEXT($D120468,\"0\")&TEXT($E120468,\"0000\")&TEXT($F120468,\"0000\")","v":"4480037028100630001"},4480037028,null,1,63,1,"63-1","전",21,null,null,null,"양곡리207","이인요"]
[{"$f":"LEFT($B120626,10)&TEXT($D120626,\"0\")&TEXT($E120626,\"0000\")&TEXT($F120626,\"0000\")","v":"4480037028102380000"},4480037028,null,1,238,0,238,"전",740,null,null,null,239,"이달화"]
[{"$f":"LEFT($B120731,10)&TEXT($D120731,\"0\")&TEXT($E120731,\"0000\")&TEXT($F120731,\"0000\")","v":"4480037028103080004"},4480037028,null,1,308,4,"308-4","창",617,null,null,null,203,"이명학"]
[{"$f":"LEFT($B120862,10)&TEXT($D120862,\"0\")&TEXT($E120862,\"0000\")&TEXT($F120862,\"0000\")","v":"4480037028103690001"},4480037028,null,1,369,1,"369-1","답",1904,null,null,null,"충청남도천안시서북구성정로75122동306호(성정동주공아파트)","이미영"]
[{"$f":"LEFT($B120956,10)&TEXT($D120956,\"0\")&TEXT($E120956,\"0000\")&TEXT($F120956,\"0000\")","v":"4480037028104310009"},4480037028,null,1,431,9,"431-9","전",4860,null,null,null,493,"이대원"]
[{"$f":"LEFT($B121051,10)&TEXT($D121051,\"0\")&TEXT($E121051,\"0000\")&TEXT($F121051,\"0000\")","v":"4480037028104710009"},4480037028,null,1,471,9,"471-9","임",5006,null,null,null,"경기도의왕시포일동487","농어촌진흥공사"]
[{"$f":"LEFT($B121181,10)&TEXT($D121181,\"0\")&TEXT($E121181,\"0000\")&TEXT($F121181,\"0000\")","v":"4480037028105760002"},4480037028,null,1,576,2,"576-2","대",529,null,null,null,"576-2","이은상"]
[{"$f":"LEFT($B121286,10)&TEXT($D121286,\"0\")&TEXT($E121286,\"0000\")&TEXT($F121286,\"0000\")","v":"4480037028106230008"},4480037028,null,1,623,8,"623-8","답",619.70000000000005,null,null,null,"홍성군서부면신리261","청주이씨선자남자파문중"]
[{"$f":"LEFT($B121445,10)&TEXT($D121445,\"0\")&TEXT($E121445,\"0000\")&TEXT($F121445,\"0000\")","v":"4480037029100160002"},4480037029,null,1,16,2,"16-2","대",612,null,null,null,"고양시덕양구토당동888-8","정상문"]
[{"$f":"LEFT($B121631,10)&TEXT($D121631,\"0\")&TEXT($E121631,\"0000\")&TEXT($F121631,\"0000\")","v":"4480037029101520016"},4480037029,null,1,152,16,"152-16","대",81,null,null,null,"홍성군","국"]
[{"$f":"LEFT($B121736,10)&TEXT($D121736,\"0\")&TEXT($E121736,\"0000\")&TEXT($F121736,\"0000\")","v":"4480037029102570001"},4480037029,null,1,257,1,"257-1","도",22,null,null,null,"신리216","이광옥"]
[{"$f":"LEFT($B121839,10)&TEXT($D121839,\"0\")&TEXT($E121839,\"0000\")&TEXT($F121839,\"0000\")","v":"4480037029103760000"},4480037029,null,1,376,0,376,"구",861,null,null,null,"국(건설부)","국"]
[{"$f":"LEFT($B121961,10)&TEXT($D121961,\"0\")&TEXT($E121961,\"0000\")&TEXT($F121961,\"0000\")","v":"4480037029200130003"},4480037029,null,2,13,3,"13-3","임",32132,null,null,null,"서울시강서구화곡동353-97","이기철"]
[{"$f":"LEFT($B122082,10)&TEXT($D122082,\"0\")&TEXT($E122082,\"0000\")&TEXT($F122082,\"0000\")","v":"4480037030100750001"},4480037030,null,1,75,1,"75-1","전",671,null,null,null,"충청남도홍성군서부면판교1길1","배형진"]
[{"$f":"LEFT($B122233,10)&TEXT($D122233,\"0\")&TEXT($E122233,\"0000\")&TEXT($F122233,\"0000\")","v":"4480037030103210000"},4480037030,null,1,321,0,321,"전",312,null,null,null,271,"제주고씨영곡공파문중"]
[{"$f":"LEFT($B122291,10)&TEXT($D122291,\"0\")&TEXT($E122291,\"0000\")&TEXT($F122291,\"0000\")","v":"4480037030104000000"},4480037030,null,1,400,0,400,"전",850,null,null,null,482,"결성장씨제언파종회"]
[{"$f":"LEFT($B122422,10)&TEXT($D122422,\"0\")&TEXT($E122422,\"0000\")&TEXT($F122422,\"0000\")","v":"4480037030105400002"},4480037030,null,1,540,2,"540-2","도",50,null,null,null,"국(국세청)","국"]
[{"$f":"LEFT($B122516,10)&TEXT($D122516,\"0\")&TEXT($E122516,\"0000\")&TEXT($F122516,\"0000\")","v":"4480037030106200003"},4480037030,null,1,620,3,"620-3","답",332,null,null,null,"충청남도","국"]
[{"$f":"LEFT($B122637,10)&TEXT($D122637,\"0\")&TEXT($E122637,\"0000\")&TEXT($F122637,\"0000\")","v":"4480037030106910000"},4480037030,null,1,691,0,691,"전",896,null,null,null,"대전시대덕구법동285-1유원아파트2동504호","백승철"]
[{"$f":"LEFT($B122816,10)&TEXT($D122816,\"0\")&TEXT($E122816,\"0000\")&TEXT($F122816,\"0000\")","v":"4480037030108660002"},4480037030,null,1,866,2,"866-2","대",625,null,null,null,"홍성읍오관리259","성기팔"]
[{"$f":"LEFT($B122846,10)&TEXT($D122846,\"0\")&TEXT($E122846,\"0000\")&TEXT($F122846,\"0000\")","v":"4480037030108790000"},4480037030,null,1,879,0,879,"대",122,null,null,null,876,"이경선"]
[{"$f":"LEFT($B122967,10)&TEXT($D122967,\"0\")&TEXT($E122967,\"0000\")&TEXT($F122967,\"0000\")","v":"4480037030110020003"},4480037030,null,1,1002,3,"1002-3","잡",13,null,null,null,911,"김완규"]
[{"$f":"LEFT($B123091,10)&TEXT($D123091,\"0\")&TEXT($E123091,\"0000\")&TEXT($F123091,\"0000\")","v":"4480037030110660010"},4480037030,null,1,1066,10,"1066-10","답",1919.7,null,null,null,"충청남도홍성군결성면성남길29번길135","박정옥"]
[{"$f":"LEFT($B123296,10)&TEXT($D123296,\"0\")&TEXT($E123296,\"0000\")&TEXT($F123296,\"0000\")","v":"4480037031100470004"},4480037031,null,1,47,4,"47-4","임",1025,null,null,null,61,"한경차"]
[{"$f":"LEFT($B123417,10)&TEXT($D123417,\"0\")&TEXT($E123417,\"0000\")&TEXT($F123417,\"0000\")","v":"4480037031101550010"},4480037031,null,1,155,10,"155-10","임",1321,null,null,null,"서울시강남구대치동902동아아파트가동203호","임철환"]
[{"$f":"LEFT($B123485,10)&TEXT($D123485,\"0\")&TEXT($E123485,\"0000\")&TEXT($F123485,\"0000\")","v":"4480037031102000003"},4480037031,null,1,200,3,"200-3","임",1897,null,null,null,"충청남도홍성군서부면와룡로72번길18-31","고영두"]
[{"$f":"LEFT($B123642,10)&TEXT($D123642,\"0\")&TEXT($E123642,\"0000\")&TEXT($F123642,\"0000\")","v":"4480037031104280004"},4480037031,null,1,428,4,"428-4","임",912,null,null,null,"충청남도홍성군서부면홍남서로375번길329-65","오학근"]
[{"$f":"LEFT($B123674,10)&TEXT($D123674,\"0\")&TEXT($E123674,\"0000\")&TEXT($F123674,\"0000\")","v":"4480037031104870001"},4480037031,null,1,487,1,"487-1","도",60,null,null,null,"홍성군","국"]
[{"$f":"LEFT($B123851,10)&TEXT($D123851,\"0\")&TEXT($E123851,\"0000\")&TEXT($F123851,\"0000\")","v":"4480037031106440000"},4480037031,null,1,644,0,644,"도",757,null,null,null,"국(건설부)","국"]
[{"$f":"LEFT($B123972,10)&TEXT($D123972,\"0\")&TEXT($E123972,\"0000\")&TEXT($F123972,\"0000\")","v":"4480037031108390000"},4480037031,null,1,839,0,839,"답",720.3,null,null,null,24,"최광룡"]
[{"$f":"LEFT($B124068,10)&TEXT($D124068,\"0\")&TEXT($E124068,\"0000\")&TEXT($F124068,\"0000\")","v":"4480037031109130000"},4480037031,null,1,913,0,913,"도",2963.7,null,null,null,"국(농림부)","국"]
[{"$f":"LEFT($B124181,10)&TEXT($D124181,\"0\")&TEXT($E124181,\"0000\")&TEXT($F124181,\"0000\")","v":"4480037031201460000"},4480037031,null,2,146,0,146,"임",2479,null,null,null,"충청남도홍성군서부면중리409","이광수"]
[{"$f":"LEFT($B124302,10)&TEXT($D124302,\"0\")&TEXT($E124302,\"0000\")&TEXT($F124302,\"0000\")","v":"4480038021100450011"},4480038021,null,1,45,11,"45-11","임",2149,null,null,null,"경기도고양시덕양구주교동615대동피렌체-1607","주미선"]
[{"$f":"LEFT($B124462,10)&TEXT($D124462,\"0\")&TEXT($E124462,\"0000\")&TEXT($F124462,\"0000\")","v":"4480038021101260001"},4480038021,null,1,126,1,"126-1","답",1643,null,null,null,"충청남도홍성군갈산면내갈리130-2","최익순"]
[{"$f":"LEFT($B124527,10)&TEXT($D124527,\"0\")&TEXT($E124527,\"0000\")&TEXT($F124527,\"0000\")","v":"4480038021101570002"},4480038021,null,1,157,2,"157-2","답",20,null,null,null,"경기도부천시원미구부천로379비01호(도당동)","최훈숙"]
[{"$f":"LEFT($B124632,10)&TEXT($D124632,\"0\")&TEXT($E124632,\"0000\")&TEXT($F124632,\"0000\")","v":"4480038021101740065"},4480038021,null,1,174,65,"174-65","잡",18,null,null,null,"홍성군","국"]
[{"$f":"LEFT($B124856,10)&TEXT($D124856,\"0\")&TEXT($E124856,\"0000\")&TEXT($F124856,\"0000\")","v":"4480038021102410002"},4480038021,null,1,241,2,"241-2","대",327,null,null,null,"충청남도홍성군갈산면갈산로197번길65","김경진"]
[{"$f":"LEFT($B124977,10)&TEXT($D124977,\"0\")&TEXT($E124977,\"0000\")&TEXT($F124977,\"0000\")","v":"4480038021102910003"},4480038021,null,1,291,3,"291-3","도",69,null,null,null,"경성부봉인동8","김봉진"]
[{"$f":"LEFT($B125082,10)&TEXT($D125082,\"0\")&TEXT($E125082,\"0000\")&TEXT($F125082,\"0000\")","v":"4480038021103420000"},4480038021,null,1,342,0,342,"대",430,null,null,null,"홍성군갈산면상촌리342","이기성"]
[{"$f":"LEFT($B125149,10)&TEXT($D125149,\"0\")&TEXT($E125149,\"0000\")&TEXT($F125149,\"0000\")","v":"4480038021103730008"},4480038021,null,1,373,8,"373-8","답",209,null,null,null,"홍성읍옥암리967","박완이"]
[{"$f":"LEFT($B125307,10)&TEXT($D125307,\"0\")&TEXT($E125307,\"0000\")&TEXT($F125307,\"0000\")","v":"4480038021104270009"},4480038021,null,1,427,9,"427-9","답",1417,null,null,null,"충청남도","국"]
[{"$f":"LEFT($B125439,10)&TEXT($D125439,\"0\")&TEXT($E125439,\"0000\")&TEXT($F125439,\"0000\")","v":"4480038021200150001"},4480038021,null,2,15,1,"15-1","임",18041,null,null,null,"서울시강서구화곡동61-51","김명진"]
[{"$f":"LEFT($B125532,10)&TEXT($D125532,\"0\")&TEXT($E125532,\"0000\")&TEXT($F125532,\"0000\")","v":"4480038022101050015"},4480038022,null,1,105,15,"105-15","임",906,null,null,null,"충청남도홍성군홍성읍문화로72번길41102동705호(대우아파트)","장현복"]
[{"$f":"LEFT($B125637,10)&TEXT($D125637,\"0\")&TEXT($E125637,\"0000\")&TEXT($F125637,\"0000\")","v":"4480038022102050004"},4480038022,null,1,205,4,"205-4","대",105,null,null,null,"홍성군갈산면내갈리157-1","강을산"]
[{"$f":"LEFT($B125714,10)&TEXT($D125714,\"0\")&TEXT($E125714,\"0000\")&TEXT($F125714,\"0000\")","v":"4480038022102340008"},4480038022,null,1,234,8,"234-8","답",1260,null,null,null,205,"강을산"]
[{"$f":"LEFT($B125862,10)&TEXT($D125862,\"0\")&TEXT($E125862,\"0000\")&TEXT($F125862,\"0000\")","v":"4480038022103400006"},4480038022,null,1,340,6,"340-6","답",145,null,null,null,372,"최재율"]
[{"$f":"LEFT($B125967,10)&TEXT($D125967,\"0\")&TEXT($E125967,\"0000\")&TEXT($F125967,\"0000\")","v":"4480038022103790000"},4480038022,null,1,379,0,379,"답",599,null,null,null,"경상북도경산시중산동35-3신성아파트104-603","임경미"]
[{"$f":"LEFT($B126126,10)&TEXT($D126126,\"0\")&TEXT($E126126,\"0000\")&TEXT($F126126,\"0000\")","v":"4480038022105060002"},4480038022,null,1,506,2,"506-2","전",335,null,null,null,"내갈리506-1","이석연"]
[{"$f":"LEFT($B126192,10)&TEXT($D126192,\"0\")&TEXT($E126192,\"0000\")&TEXT($F126192,\"0000\")","v":"4480038022105820000"},4480038022,null,1,582,0,582,"대",628,null,null,null,"홍성읍고암리556-7미주아파트103-301","김두기"]
[{"$f":"LEFT($B126417,10)&TEXT($D126417,\"0\")&TEXT($E126417,\"0000\")&TEXT($F126417,\"0000\")","v":"4480038023100070005"},4480038023,null,1,7,5,"7-5","대",1170,null,null,null,"서울시강남구개포동12대치아파트103-6","김동우"]
[{"$f":"LEFT($B126520,10)&TEXT($D126520,\"0\")&TEXT($E126520,\"0000\")&TEXT($F126520,\"0000\")","v":"4480038023100570002"},4480038023,null,1,57,2,"57-2","전",1442,null,null,null,"57-1","신영수"]
[{"$f":"LEFT($B126642,10)&TEXT($D126642,\"0\")&TEXT($E126642,\"0000\")&TEXT($F126642,\"0000\")","v":"4480038023101390004"},4480038023,null,1,139,4,"139-4","전",117,null,null,null,"충청남도홍성군갈산면신안리139-4","박채순"]
[{"$f":"LEFT($B126709,10)&TEXT($D126709,\"0\")&TEXT($E126709,\"0000\")&TEXT($F126709,\"0000\")","v":"4480038023101780001"},4480038023,null,1,178,1,"178-1","답",1010,null,null,null,218,"김진성"]
[{"$f":"LEFT($B126867,10)&TEXT($D126867,\"0\")&TEXT($E126867,\"0000\")&TEXT($F126867,\"0000\")","v":"4480038023102900000"},4480038023,null,1,290,0,290,"답",1590,null,null,null,"341-3","조상경"]
[{"$f":"LEFT($B126972,10)&TEXT($D126972,\"0\")&TEXT($E126972,\"0000\")&TEXT($F126972,\"0000\")","v":"4480038023103830002"},4480038023,null,1,383,2,"383-2","도",99,null,null,null,383,"전상봉"]
[{"$f":"LEFT($B127103,10)&TEXT($D127103,\"0\")&TEXT($E127103,\"0000\")&TEXT($F127103,\"0000\")","v":"4480038023104690001"},4480038023,null,1,469,1,"469-1","대",380,null,null,null,468,"임민순"]
[{"$f":"LEFT($B127197,10)&TEXT($D127197,\"0\")&TEXT($E127197,\"0000\")&TEXT($F127197,\"0000\")","v":"4480038023105670002"},4480038023,null,1,567,2,"567-2","임",1276,null,null,null,"서울특별시성북구장위동64-37","박인호"]
[{"$f":"LEFT($B127302,10)&TEXT($D127302,\"0\")&TEXT($E127302,\"0000\")&TEXT($F127302,\"0000\")","v":"4480038023107130000"},4480038023,null,1,713,0,713,"답",1084,null,null,null,"충청남도홍성군홍성읍월산리439-4","장충원"]
[{"$f":"LEFT($B127497,10)&TEXT($D127497,\"0\")&TEXT($E127497,\"0000\")&TEXT($F127497,\"0000\")","v":"4480038024100530003"},4480038024,null,1,53,3,"53-3","전",805,null,null,null,"인천광역시부평구동수천로118712동1802호(부개동주공아파트)","전복순"]
[{"$f":"LEFT($B127527,10)&TEXT($D127527,\"0\")&TEXT($E127527,\"0000\")&TEXT($F127527,\"0000\")","v":"4480038024100780000"},4480038024,null,1,78,0,78,"유",1891,null,null,null,"경기도의왕시포일동487","한국농어촌공사"]
[{"$f":"LEFT($B127648,10)&TEXT($D127648,\"0\")&TEXT($E127648,\"0000\")&TEXT($F127648,\"0000\")","v":"4480038024101630000"},4480038024,null,1,163,0,163,"제",1183,null,null,null,"경기도의왕시포일동487","한국농어촌공사"]
[{"$f":"LEFT($B127772,10)&TEXT($D127772,\"0\")&TEXT($E127772,\"0000\")&TEXT($F127772,\"0000\")","v":"4480038024102490000"},4480038024,null,1,249,0,249,"대",496,null,null,null,"충청남도홍성군갈산면수덕사로317번길75","이연자"]
[{"$f":"LEFT($B127977,10)&TEXT($D127977,\"0\")&TEXT($E127977,\"0000\")&TEXT($F127977,\"0000\")","v":"4480038024103590005"},4480038024,null,1,359,5,"359-5","답",1220,null,null,null,"대구광역시달서구감삼동130-3","이동주"]
[{"$f":"LEFT($B128080,10)&TEXT($D128080,\"0\")&TEXT($E128080,\"0000\")&TEXT($F128080,\"0000\")","v":"4480038024104150003"},4480038024,null,1,415,3,"415-3","대",390,null,null,null,"충청남도홍성군갈산면가곡리387","송미숙"]
[{"$f":"LEFT($B128202,10)&TEXT($D128202,\"0\")&TEXT($E128202,\"0000\")&TEXT($F128202,\"0000\")","v":"4480038024200440000"},4480038024,null,2,44,0,44,"유",2479,null,null,null,"경기도의왕시포일동487","한국농어촌공사"]
[{"$f":"LEFT($B128307,10)&TEXT($D128307,\"0\")&TEXT($E128307,\"0000\")&TEXT($F128307,\"0000\")","v":"4480038025100190001"},4480038025,null,1,19,1,"19-1","제",20,null,null,null,"홍성군홍성읍월산리113","이종록"]
[{"$f":"LEFT($B128355,10)&TEXT($D128355,\"0\")&TEXT($E128355,\"0000\")&TEXT($F128355,\"0000\")","v":"4480038025100580000"},4480038025,null,1,58,0,58,"전",258,null,null,null,"서울특별시강남구개포로3108동106호(개포동주공아파트)","최승윤"]
[{"$f":"LEFT($B128532,10)&TEXT($D128532,\"0\")&TEXT($E128532,\"0000\")&TEXT($F128532,\"0000\")","v":"4480038025200470000"},4480038025,null,2,47,0,47,"임",5058,null,null,null,"경기도안성시공도읍마정강변길33203동803호(임광그대가아파트2단지)","김명숙"]
[{"$f":"LEFT($B128653,10)&TEXT($D128653,\"0\")&TEXT($E128653,\"0000\")&TEXT($F128653,\"0000\")","v":"4480038026100700000"},4480038026,null,1,70,0,70,"대",434,null,null,null,"부천시오정구오정동574-2대하화인빌2-201","이수용"]
[{"$f":"LEFT($B128749,10)&TEXT($D128749,\"0\")&TEXT($E128749,\"0000\")&TEXT($F128749,\"0000\")","v":"4480038026102070000"},4480038026,null,1,207,0,207,"전",717,null,null,null,"홍성군갈산면동산리209","강송희"]
[{"$f":"LEFT($B128862,10)&TEXT($D128862,\"0\")&TEXT($E128862,\"0000\")&TEXT($F128862,\"0000\")","v":"4480038026103150004"},4480038026,null,1,315,4,"315-4","전",294,null,null,null,315,"이창영"]
[{"$f":"LEFT($B128983,10)&TEXT($D128983,\"0\")&TEXT($E128983,\"0000\")&TEXT($F128983,\"0000\")","v":"4480038026103920003"},4480038026,null,1,392,3,"392-3","답",129,null,null,null,"홍성군","국"]
[{"$f":"LEFT($B129143,10)&TEXT($D129143,\"0\")&TEXT($E129143,\"0000\")&TEXT($F129143,\"0000\")","v":"4480038026106220002"},4480038026,null,1,622,2,"622-2","도",66,null,null,null,"서산군고북면남정리","박기준"]
[{"$f":"LEFT($B129208,10)&TEXT($D129208,\"0\")&TEXT($E129208,\"0000\")&TEXT($F129208,\"0000\")","v":"4480038026107110000"},4480038026,null,1,711,0,711,"답",2925,null,null,null,"전라남도나주시그린로20(빛가람동)","한국농어촌공사"]
[{"$f":"LEFT($B129313,10)&TEXT($D129313,\"0\")&TEXT($E129313,\"0000\")&TEXT($F129313,\"0000\")","v":"4480038026108650000"},4480038026,null,1,865,0,865,"답",1380,null,null,null,"충청남도홍성군갈산면내포로852번길68-38","천용연"]
[{"$f":"LEFT($B129418,10)&TEXT($D129418,\"0\")&TEXT($E129418,\"0000\")&TEXT($F129418,\"0000\")","v":"4480038026109700000"},4480038026,null,1,970,0,970,"답",2225,null,null,null,"쌍천리33-1","이상대"]
[{"$f":"LEFT($B129538,10)&TEXT($D129538,\"0\")&TEXT($E129538,\"0000\")&TEXT($F129538,\"0000\")","v":"4480038026200080001"},4480038026,null,2,8,1,"8-1","임",16089,null,null,null,"충청남도천안시신부동672대림한숲아파트301-403","이병민"]
[{"$f":"LEFT($B129726,10)&TEXT($D129726,\"0\")&TEXT($E129726,\"0000\")&TEXT($F129726,\"0000\")","v":"4480038027101240001"},4480038027,null,1,124,1,"124-1","천",56,null,null,null,"홍성군","국"]
[{"$f":"LEFT($B129867,10)&TEXT($D129867,\"0\")&TEXT($E129867,\"0000\")&TEXT($F129867,\"0000\")","v":"4480038027103190000"},4480038027,null,1,319,0,319,"도",55,null,null,null,"국(농수산부)","국"]
[{"$f":"LEFT($B129988,10)&TEXT($D129988,\"0\")&TEXT($E129988,\"0000\")&TEXT($F129988,\"0000\")","v":"4480038028100480004"},4480038028,null,1,48,4,"48-4","도",46,null,null,null,"홍성군","국"]
[{"$f":"LEFT($B130120,10)&TEXT($D130120,\"0\")&TEXT($E130120,\"0000\")&TEXT($F130120,\"0000\")","v":"4480038028101830000"},4480038028,null,1,183,0,183,"전",1293,null,null,null,"상촌리235","이석민"]
[{"$f":"LEFT($B130213,10)&TEXT($D130213,\"0\")&TEXT($E130213,\"0000\")&TEXT($F130213,\"0000\")","v":"4480038028102480006"},4480038028,null,1,248,6,"248-6","도",487,null,null,null,"홍성군","국"]
[{"$f":"LEFT($B130318,10)&TEXT($D130318,\"0\")&TEXT($E130318,\"0000\")&TEXT($F130318,\"0000\")","v":"4480038028103330010"},4480038028,null,1,333,10,"333-10","도",102,null,null,null,"홍성군","국"]
[{"$f":"LEFT($B130395,10)&TEXT($D130395,\"0\")&TEXT($E130395,\"0000\")&TEXT($F130395,\"0000\")","v":"4480038028104010000"},4480038028,null,1,401,0,401,"전",1010,null,null,null,"384-1","이환구"]
[{"$f":"LEFT($B130543,10)&TEXT($D130543,\"0\")&TEXT($E130543,\"0000\")&TEXT($F130543,\"0000\")","v":"4480038028104730000"},4480038028,null,1,473,0,473,"구",805.3,null,null,null,"국(농림부)","국"]
[{"$f":"LEFT($B130648,10)&TEXT($D130648,\"0\")&TEXT($E130648,\"0000\")&TEXT($F130648,\"0000\")","v":"4480038029100400013"},4480038029,null,1,40,13,"40-13","답",87,null,null,null,"서울특별시영등포구가마산로48길8(대림동)","최금인"]
[{"$f":"LEFT($B130789,10)&TEXT($D130789,\"0\")&TEXT($E130789,\"0000\")&TEXT($F130789,\"0000\")","v":"4480038029101990034"},4480038029,null,1,199,34,"199-34","임",4290,null,null,null,"경기도양주시은현면그루고개로490번길147","박재홍"]
[{"$f":"LEFT($B130873,10)&TEXT($D130873,\"0\")&TEXT($E130873,\"0000\")&TEXT($F130873,\"0000\")","v":"4480038029102580002"},4480038029,null,1,258,2,"258-2","도",23,null,null,null,"홍성군","국"]
[{"$f":"LEFT($B130978,10)&TEXT($D130978,\"0\")&TEXT($E130978,\"0000\")&TEXT($F130978,\"0000\")","v":"4480038029103090044"},4480038029,null,1,309,44,"309-44","답",982,null,null,null,"충청남도","국"]
[{"$f":"LEFT($B131098,10)&TEXT($D131098,\"0\")&TEXT($E131098,\"0000\")&TEXT($F131098,\"0000\")","v":"4480038029103850001"},4480038029,null,1,385,1,"385-1","전",2066,null,null,null,"충청남도홍성군홍성읍충서로1506102동203호(세광엔리치타워)","이길하"]
[{"$f":"LEFT($B131323,10)&TEXT($D131323,\"0\")&TEXT($E131323,\"0000\")&TEXT($F131323,\"0000\")","v":"4480038029105430017"},4480038029,null,1,543,17,"543-17","도",346.2,null,null,null,"홍성군","국"]
[{"$f":"LEFT($B131372,10)&TEXT($D131372,\"0\")&TEXT($E131372,\"0000\")&TEXT($F131372,\"0000\")","v":"4480038029105580006"},4480038029,null,1,558,6,"558-6","답",1726.7,null,null,null,150,"전은길"]
[{"$f":"LEFT($B131548,10)&TEXT($D131548,\"0\")&TEXT($E131548,\"0000\")&TEXT($F131548,\"0000\")","v":"4480038030100640000"},4480038030,null,1,64,0,64,"전",171,null,null,null,"충청남도홍성군홍성읍충절로953번길20107동503호(신동아파밀리에아파트)","김성호"]
[{"$f":"LEFT($B131653,10)&TEXT($D131653,\"0\")&TEXT($E131653,\"0000\")&TEXT($F131653,\"0000\")","v":"4480038030101920000"},4480038030,null,1,192,0,192,"대",800,null,null,null,237,"김완규"]
[{"$f":"LEFT($B131784,10)&TEXT($D131784,\"0\")&TEXT($E131784,\"0000\")&TEXT($F131784,\"0000\")","v":"4480038030103510002"},4480038030,null,1,351,2,"351-2","도",72,null,null,null,"홍성군","국"]
[{"$f":"LEFT($B131878,10)&TEXT($D131878,\"0\")&TEXT($E131878,\"0000\")&TEXT($F131878,\"0000\")","v":"4480038030105020011"},4480038030,null,1,502,11,"502-11","도",290,null,null,null,"충청남도홍성군갈산면갈산서길170번길51","최미경"]
[{"$f":"LEFT($B131983,10)&TEXT($D131983,\"0\")&TEXT($E131983,\"0000\")&TEXT($F131983,\"0000\")","v":"4480038030105970000"},4480038030,null,1,597,0,597,"전",1005,null,null,null,"충청남도홍성군갈산면부기리597","김영희"]
[{"$f":"LEFT($B132059,10)&TEXT($D132059,\"0\")&TEXT($E132059,\"0000\")&TEXT($F132059,\"0000\")","v":"4480038030106800003"},4480038030,null,1,680,3,"680-3","도",203,null,null,null,"홍성군","국"]
[{"$f":"LEFT($B132208,10)&TEXT($D132208,\"0\")&TEXT($E132208,\"0000\")&TEXT($F132208,\"0000\")","v":"4480038030107860006"},4480038030,null,1,786,6,"786-6","답",4274.8,null,null,null,"충청남도홍성군갈산면갈산서길170번길51-8","최준기"]
[{"$f":"LEFT($B132349,10)&TEXT($D132349,\"0\")&TEXT($E132349,\"0000\")&TEXT($F132349,\"0000\")","v":"4480038030200700002"},4480038030,null,2,70,2,"70-2","임",99,null,null,null,"경기도광명시금당로13706동1005호(하안동고층주공아파트)","김민철"]
[{"$f":"LEFT($B132433,10)&TEXT($D132433,\"0\")&TEXT($E132433,\"0000\")&TEXT($F132433,\"0000\")","v":"4480038031100140004"},4480038031,null,1,14,4,"14-4","도",622,null,null,null,"홍성군","국"]
[{"$f":"LEFT($B132538,10)&TEXT($D132538,\"0\")&TEXT($E132538,\"0000\")&TEXT($F132538,\"0000\")","v":"4480038031100900001"},4480038031,null,1,90,1,"90-1","전",229,null,null,null,91,"장흥석"]
[{"$f":"LEFT($B132761,10)&TEXT($D132761,\"0\")&TEXT($E132761,\"0000\")&TEXT($F132761,\"0000\")","v":"4480038031103080000"},4480038031,null,1,308,0,308,"전",3142,null,null,null,309,"유영식"]
[{"$f":"LEFT($B132883,10)&TEXT($D132883,\"0\")&TEXT($E132883,\"0000\")&TEXT($F132883,\"0000\")","v":"4480038031104170003"},4480038031,null,1,417,3,"417-3","답",483,null,null,null,"충청남도서산시고북면신상리1215","홍현숙"]
[{"$f":"LEFT($B132988,10)&TEXT($D132988,\"0\")&TEXT($E132988,\"0000\")&TEXT($F132988,\"0000\")","v":"4480038031104880003"},4480038031,null,1,488,3,"488-3","전",1056,null,null,null,"산22-4","유영일"]
[{"$f":"LEFT($B133036,10)&TEXT($D133036,\"0\")&TEXT($E133036,\"0000\")&TEXT($F133036,\"0000\")","v":"4480038031105130005"},4480038031,null,1,513,5,"513-5","임",1281,null,null,null,"홍성군갈산면동성리330","장동제"]
[{"$f":"LEFT($B133213,10)&TEXT($D133213,\"0\")&TEXT($E133213,\"0000\")&TEXT($F133213,\"0000\")","v":"4480038031107160001"},4480038031,null,1,716,1,"716-1","답",822.6,null,null,null,"경기도의왕시안양판교로98(포일동)","한국농어촌공사"]
[{"$f":"LEFT($B133334,10)&TEXT($D133334,\"0\")&TEXT($E133334,\"0000\")&TEXT($F133334,\"0000\")","v":"4480038031108830000"},4480038031,null,1,883,0,883,"답",14387.5,null,null,null,"동성리304","이남진"]
[{"$f":"LEFT($B133430,10)&TEXT($D133430,\"0\")&TEXT($E133430,\"0000\")&TEXT($F133430,\"0000\")","v":"4480038031109860006"},4480038031,null,1,986,6,"986-6","답",54.1,null,null,null,"천안시봉명동217-8","장의석"]
[{"$f":"LEFT($B133543,10)&TEXT($D133543,\"0\")&TEXT($E133543,\"0000\")&TEXT($F133543,\"0000\")","v":"4480038031200370005"},4480038031,null,2,37,5,"37-5","임",2281,null,null,null,"충청남도서산시해미면휴암2길5301호(정아트빌라)","유창수"]
[{"$f":"LEFT($B133619,10)&TEXT($D133619,\"0\")&TEXT($E133619,\"0000\")&TEXT($F133619,\"0000\")","v":"4480038032100370002"},4480038032,null,1,37,2,"37-2","도",169,null,null,null,"홍성군","국"]
[{"$f":"LEFT($B133768,10)&TEXT($D133768,\"0\")&TEXT($E133768,\"0000\")&TEXT($F133768,\"0000\")","v":"4480038032101100047"},4480038032,null,1,110,47,"110-47","도",530,null,null,null,"홍성군","국"]
[{"$f":"LEFT($B133873,10)&TEXT($D133873,\"0\")&TEXT($E133873,\"0000\")&TEXT($F133873,\"0000\")","v":"4480038032101510001"},4480038032,null,1,151,1,"151-1","답",965,null,null,null,"서울중랑구상봉동279-34","유문환"]
[{"$f":"LEFT($B134013,10)&TEXT($D134013,\"0\")&TEXT($E134013,\"0000\")&TEXT($F134013,\"0000\")","v":"4480038032102780002"},4480038032,null,1,278,2,"278-2","전",807,null,null,null,"경기도부천시소사구소삼로47106동1102호(소사본동부천소사역푸르지오)","송명수"]
[{"$f":"LEFT($B134098,10)&TEXT($D134098,\"0\")&TEXT($E134098,\"0000\")&TEXT($F134098,\"0000\")","v":"4480038032103330004"},4480038032,null,1,333,4,"333-4","구",362,null,null,null,"경기도의왕시포일동487","한국농어촌공사"]
[{"$f":"LEFT($B134219,10)&TEXT($D134219,\"0\")&TEXT($E134219,\"0000\")&TEXT($F134219,\"0000\")","v":"4480038032104150000"},4480038032,null,1,415,0,415,"답",1421,null,null,null,"기산리29","신윤식"]
[{"$f":"LEFT($B134407,10)&TEXT($D134407,\"0\")&TEXT($E134407,\"0000\")&TEXT($F134407,\"0000\")","v":"4480038033100550000"},4480038033,null,1,55,0,55,"대",1107,null,null,null,"서울마포구서교동382-3","이헌제"]
[{"$f":"LEFT($B134548,10)&TEXT($D134548,\"0\")&TEXT($E134548,\"0000\")&TEXT($F134548,\"0000\")","v":"4480038033101050017"},4480038033,null,1,105,17,"105-17","도",474,null,null,null,"88-2","유영우"]
[{"$f":"LEFT($B134669,10)&TEXT($D134669,\"0\")&TEXT($E134669,\"0000\")&TEXT($F134669,\"0000\")","v":"4480038033101510004"},4480038033,null,1,151,4,"151-4","수",792,null,null,null,"국(환경부)","국"]
[{"$f":"LEFT($B134682,10)&TEXT($D134682,\"0\")&TEXT($E134682,\"0000\")&TEXT($F134682,\"0000\")","v":"4480038033101630000"},4480038033,null,1,163,0,163,"전",569,null,null,null,368,"이기남"]
[{"$f":"LEFT($B134878,10)&TEXT($D134878,\"0\")&TEXT($E134878,\"0000\")&TEXT($F134878,\"0000\")","v":"4480038033102620004"},4480038033,null,1,262,4,"262-4","답",1502,null,null,null,"충청남도홍성군갈산면내포로1664","이은수"]
[{"$f":"LEFT($B134999,10)&TEXT($D134999,\"0\")&TEXT($E134999,\"0000\")&TEXT($F134999,\"0000\")","v":"4480038033104070002"},4480038033,null,1,407,2,"407-2","대",450,null,null,null,"충청남도홍성군갈산면내포로1582","농업회사법인주식회사화천"]
[{"$f":"LEFT($B135076,10)&TEXT($D135076,\"0\")&TEXT($E135076,\"0000\")&TEXT($F135076,\"0000\")","v":"4480038033104650002"},4480038033,null,1,465,2,"465-2","임",424,null,null,null,"부기리193","이석남"]
[{"$f":"LEFT($B135224,10)&TEXT($D135224,\"0\")&TEXT($E135224,\"0000\")&TEXT($F135224,\"0000\")","v":"4480038033200120020"},4480038033,null,2,12,20,"12-20","임",793,null,null,null,"홍성군","국"]
[{"$f":"LEFT($B135384,10)&TEXT($D135384,\"0\")&TEXT($E135384,\"0000\")&TEXT($F135384,\"0000\")","v":"4480038034100580003"},4480038034,null,1,58,3,"58-3","도",179,null,null,null,21,"이인길"]
[{"$f":"LEFT($B135433,10)&TEXT($D135433,\"0\")&TEXT($E135433,\"0000\")&TEXT($F135433,\"0000\")","v":"4480038034101020001"},4480038034,null,1,102,1,"102-1","도",29,null,null,null,"인천광역시남구주승로2313동702호(관교동쌍용아파트)","유금환"]
[{"$f":"LEFT($B135554,10)&TEXT($D135554,\"0\")&TEXT($E135554,\"0000\")&TEXT($F135554,\"0000\")","v":"4480038034101970002"},4480038034,null,1,197,2,"197-2","답",1335,null,null,null,"운곡리31","이봉엽"]
[{"$f":"LEFT($B135659,10)&TEXT($D135659,\"0\")&TEXT($E135659,\"0000\")&TEXT($F135659,\"0000\")","v":"4480038034103310005"},4480038034,null,1,331,5,"331-5","종",195,null,null,null,"충청남도홍성군갈산면운곡1길39-15","대한불교조계종능인사"]
[{"$f":"LEFT($B135779,10)&TEXT($D135779,\"0\")&TEXT($E135779,\"0000\")&TEXT($F135779,\"0000\")","v":"4480038034104080011"},4480038034,null,1,408,11,"408-11","전",307,null,null,null,"운곡리408-10","이환필"]
[{"$f":"LEFT($B135884,10)&TEXT($D135884,\"0\")&TEXT($E135884,\"0000\")&TEXT($F135884,\"0000\")","v":"4480038034104300061"},4480038034,null,1,430,61,"430-61","답",84,null,null,null,"국(건설교통부)","국"]
[{"$f":"LEFT($B136053,10)&TEXT($D136053,\"0\")&TEXT($E136053,\"0000\")&TEXT($F136053,\"0000\")","v":"4480038034105290002"},4480038034,null,1,529,2,"529-2","답",2648,null,null,null,"논산시양촌면인천리324-1","황인혁"]
[{"$f":"LEFT($B136229,10)&TEXT($D136229,\"0\")&TEXT($E136229,\"0000\")&TEXT($F136229,\"0000\")","v":"4480038034107100001"},4480038034,null,1,710,1,"710-1","도",125,null,null,null,"국(건설부)","국"]
[{"$f":"LEFT($B136334,10)&TEXT($D136334,\"0\")&TEXT($E136334,\"0000\")&TEXT($F136334,\"0000\")","v":"4480038034200480002"},4480038034,null,2,48,2,"48-2","도",396,null,null,null,455,"유문규"]
[{"$f":"LEFT($B136447,10)&TEXT($D136447,\"0\")&TEXT($E136447,\"0000\")&TEXT($F136447,\"0000\")","v":"4480038035100310001"},4480038035,null,1,31,1,"31-1","대",93,null,null,null,"21-4","김봉학"]
[{"$f":"LEFT($B136559,10)&TEXT($D136559,\"0\")&TEXT($E136559,\"0000\")&TEXT($F136559,\"0000\")","v":"4480038035101030001"},4480038035,null,1,103,1,"103-1","답",1006,null,null,null,421,"전용해"]
[{"$f":"LEFT($B136636,10)&TEXT($D136636,\"0\")&TEXT($E136636,\"0000\")&TEXT($F136636,\"0000\")","v":"4480038035101480003"},4480038035,null,1,148,3,"148-3","전",604,null,null,null,"충청남도서산시서령로1379동701호(동문동삼성아파트)","전문수"]
[{"$f":"LEFT($B136784,10)&TEXT($D136784,\"0\")&TEXT($E136784,\"0000\")&TEXT($F136784,\"0000\")","v":"4480038035102310008"},4480038035,null,1,231,8,"231-8","답",2130,null,null,null,537,"박진규"]
[{"$f":"LEFT($B136889,10)&TEXT($D136889,\"0\")&TEXT($E136889,\"0000\")&TEXT($F136889,\"0000\")","v":"4480038035103830000"},4480038035,null,1,383,0,383,"답",1587,null,null,null,"348-1","박수창"]
[{"$f":"LEFT($B137030,10)&TEXT($D137030,\"0\")&TEXT($E137030,\"0000\")&TEXT($F137030,\"0000\")","v":"4480038035104540006"},4480038035,null,1,454,6,"454-6","답",1157,null,null,null,"경기도수원시장안구정조로958번길4(영화동)","송길석"]
[{"$f":"LEFT($B137114,10)&TEXT($D137114,\"0\")&TEXT($E137114,\"0000\")&TEXT($F137114,\"0000\")","v":"4480038035105350001"},4480038035,null,1,535,1,"535-1","전",99,null,null,null,536,"박병규"]
[{"$f":"LEFT($B137219,10)&TEXT($D137219,\"0\")&TEXT($E137219,\"0000\")&TEXT($F137219,\"0000\")","v":"4480038035106340005"},4480038035,null,1,634,5,"634-5","답",949.3,null,null,null,365,"박진화"]
[{"$f":"LEFT($B137323,10)&TEXT($D137323,\"0\")&TEXT($E137323,\"0000\")&TEXT($F137323,\"0000\")","v":"4480038035106470006"},4480038035,null,1,647,6,"647-6","답",1850.8,null,null,null,"충청남도홍성군갈산면와리15","유종곤"]
[{"$f":"LEFT($B137444,10)&TEXT($D137444,\"0\")&TEXT($E137444,\"0000\")&TEXT($F137444,\"0000\")","v":"4480038036100300000"},4480038036,null,1,30,0,30,"답",2698,null,null,null,"충청남도홍성군갈산면대사리63","최진순"]
[{"$f":"LEFT($B137669,10)&TEXT($D137669,\"0\")&TEXT($E137669,\"0000\")&TEXT($F137669,\"0000\")","v":"4480038036102830006"},4480038036,null,1,283,6,"283-6","답",2000,null,null,null,326,"임공욱"]
[{"$f":"LEFT($B137717,10)&TEXT($D137717,\"0\")&TEXT($E137717,\"0000\")&TEXT($F137717,\"0000\")","v":"4480038036103350017"},4480038036,null,1,335,17,"335-17","구",181,null,null,null,"서산시동문동804-6","서산농지개량조합"]
[{"$f":"LEFT($B137894,10)&TEXT($D137894,\"0\")&TEXT($E137894,\"0000\")&TEXT($F137894,\"0000\")","v":"4480038036104040001"},4480038036,null,1,404,1,"404-1","구",4,null,null,null,"충청남도홍성군갈산면내포로1604-27","김기수"]
[{"$f":"LEFT($B138007,10)&TEXT($D138007,\"0\")&TEXT($E138007,\"0000\")&TEXT($F138007,\"0000\")","v":"4480038036105580000"},4480038036,null,1,558,0,558,"도",250,null,null,null,"국(농림수산부)","국"]
[{"$f":"LEFT($B138119,10)&TEXT($D138119,\"0\")&TEXT($E138119,\"0000\")&TEXT($F138119,\"0000\")","v":"4480038036200910001"},4480038036,null,2,91,1,"91-1","임",3604,null,null,null,"성남시중원구금광동1626","이기세"]
[{"$f":"LEFT($B138224,10)&TEXT($D138224,\"0\")&TEXT($E138224,\"0000\")&TEXT($F138224,\"0000\")","v":"4480039021100540000"},4480039021,null,1,54,0,54,"답",1035,null,null,null,"홍성군홍성읍남장리515주공그린빌108-201","엄기분"]
[{"$f":"LEFT($B138300,10)&TEXT($D138300,\"0\")&TEXT($E138300,\"0000\")&TEXT($F138300,\"0000\")","v":"4480039021100920000"},4480039021,null,1,92,0,92,"대",555,null,null,null,"대전시유성구어은동99한빛아파트120동1006호","전일수"]
[{"$f":"LEFT($B138449,10)&TEXT($D138449,\"0\")&TEXT($E138449,\"0000\")&TEXT($F138449,\"0000\")","v":"4480039021102510001"},4480039021,null,1,251,1,"251-1","답",631,null,null,null,"황곡리260","전기수"]
[{"$f":"LEFT($B138554,10)&TEXT($D138554,\"0\")&TEXT($E138554,\"0000\")&TEXT($F138554,\"0000\")","v":"4480039021103140000"},4480039021,null,1,314,0,314,"전",446,null,null,null,373,"이석철"]
[{"$f":"LEFT($B138694,10)&TEXT($D138694,\"0\")&TEXT($E138694,\"0000\")&TEXT($F138694,\"0000\")","v":"4480039021104280023"},4480039021,null,1,428,23,"428-23","임",17196,null,null,null,"평택시포승면방림리53-6","박태옥"]
[{"$f":"LEFT($B138779,10)&TEXT($D138779,\"0\")&TEXT($E138779,\"0000\")&TEXT($F138779,\"0000\")","v":"4480039021104790002"},4480039021,null,1,479,2,"479-2","대",165,null,null,null,"서울영등포구신길동355-184","성락침례교회"]
[{"$f":"LEFT($B138884,10)&TEXT($D138884,\"0\")&TEXT($E138884,\"0000\")&TEXT($F138884,\"0000\")","v":"4480039021105700001"},4480039021,null,1,570,1,"570-1","구",152,null,null,null,"국(건설부)","국"]
[{"$f":"LEFT($B139088,10)&TEXT($D139088,\"0\")&TEXT($E139088,\"0000\")&TEXT($F139088,\"0000\")","v":"4480039021201880012"},4480039021,null,2,188,12,"188-12","임",3868,null,null,null,"충청남도홍성군구항면황곡리427","정병섭"]
[{"$f":"LEFT($B139109,10)&TEXT($D139109,\"0\")&TEXT($E139109,\"0000\")&TEXT($F139109,\"0000\")","v":"4480039022100030000"},4480039022,null,1,3,0,3,"전",1478,null,null,null,"충청남도홍성군갈산면갈오1길2","이석창"]
[{"$f":"LEFT($B139277,10)&TEXT($D139277,\"0\")&TEXT($E139277,\"0000\")&TEXT($F139277,\"0000\")","v":"4480039022101200000"},4480039022,null,1,120,0,120,"답",3068,null,null,null,29,"김우기"]
[{"$f":"LEFT($B139454,10)&TEXT($D139454,\"0\")&TEXT($E139454,\"0000\")&TEXT($F139454,\"0000\")","v":"4480039022101720010"},4480039022,null,1,172,10,"172-10","임",1310,null,null,null,"충청남도예산군삽교읍신촌길4-7","정재영"]
[{"$f":"LEFT($B139559,10)&TEXT($D139559,\"0\")&TEXT($E139559,\"0000\")&TEXT($F139559,\"0000\")","v":"4480039022102330001"},4480039022,null,1,233,1,"233-1","목",47,null,null,null,274,"최삼숙"]
[{"$f":"LEFT($B139671,10)&TEXT($D139671,\"0\")&TEXT($E139671,\"0000\")&TEXT($F139671,\"0000\")","v":"4480039022103090042"},4480039022,null,1,309,42,"309-42","대",668,null,null,null,"서울특별시광진구동일로24길57(화양동)","강봉화"]
[{"$f":"LEFT($B139784,10)&TEXT($D139784,\"0\")&TEXT($E139784,\"0000\")&TEXT($F139784,\"0000\")","v":"4480039022104120000"},4480039022,null,1,412,0,412,"답",3157,null,null,null,159,"이흥배"]
[{"$f":"LEFT($B139905,10)&TEXT($D139905,\"0\")&TEXT($E139905,\"0000\")&TEXT($F139905,\"0000\")","v":"4480039022104930001"},4480039022,null,1,493,1,"493-1","전",2455,null,null,null,253,"박갑순"]
[{"$f":"LEFT($B139946,10)&TEXT($D139946,\"0\")&TEXT($E139946,\"0000\")&TEXT($F139946,\"0000\")","v":"4480039022105130002"},4480039022,null,1,513,2,"513-2","답",916,null,null,null,"서울특별시양천구목동중앙로79201동1704호(목동목동2차아이파트아파트)","정낙승"]
[{"$f":"LEFT($B140114,10)&TEXT($D140114,\"0\")&TEXT($E140114,\"0000\")&TEXT($F140114,\"0000\")","v":"4480039022106440009"},4480039022,null,1,644,9,"644-9","전",306,null,null,null,"충청남도홍성군구항면구항길57번길2","강병기"]
[{"$f":"LEFT($B140235,10)&TEXT($D140235,\"0\")&TEXT($E140235,\"0000\")&TEXT($F140235,\"0000\")","v":"4480039022106880004"},4480039022,null,1,688,4,"688-4","답",99,null,null,null,"국(기획재정부)","국"]
[{"$f":"LEFT($B140340,10)&TEXT($D140340,\"0\")&TEXT($E140340,\"0000\")&TEXT($F140340,\"0000\")","v":"4480039022107500005"},4480039022,null,1,750,5,"750-5","도",56,null,null,null,"국(기획재정부)","국"]
[{"$f":"LEFT($B140444,10)&TEXT($D140444,\"0\")&TEXT($E140444,\"0000\")&TEXT($F140444,\"0000\")","v":"4480039022107900005"},4480039022,null,1,790,5,"790-5","답",196,null,null,null,"홍성군","국"]
[{"$f":"LEFT($B140565,10)&TEXT($D140565,\"0\")&TEXT($E140565,\"0000\")&TEXT($F140565,\"0000\")","v":"4480039022200630011"},4480039022,null,2,63,11,"63-11","임",331,null,null,null,"충청남도홍성군구항면구성북로328-32","기독교한국침례회축복침례교회"]
[{"$f":"LEFT($B140734,10)&TEXT($D140734,\"0\")&TEXT($E140734,\"0000\")&TEXT($F140734,\"0000\")","v":"4480039023101270001"},4480039023,null,1,127,1,"127-1","전",1712,null,null,null,130,"김종군"]
[{"$f":"LEFT($B140790,10)&TEXT($D140790,\"0\")&TEXT($E140790,\"0000\")&TEXT($F140790,\"0000\")","v":"4480039023101710002"},4480039023,null,1,171,2,"171-2","전",344,null,null,null,"서울시서초구서초동1685삼풍아파트13-905","정은숙"]
[{"$f":"LEFT($B140923,10)&TEXT($D140923,\"0\")&TEXT($E140923,\"0000\")&TEXT($F140923,\"0000\")","v":"4480039023102700000"},4480039023,null,1,270,0,270,"전",255,null,null,null,"서울시성동구행당동347행당대림아파트130-405","경주김씨계성군파중감찰공파문중"]
[{"$f":"LEFT($B141119,10)&TEXT($D141119,\"0\")&TEXT($E141119,\"0000\")&TEXT($F141119,\"0000\")","v":"4480039023104280001"},4480039023,null,1,428,1,"428-1","답",397,null,null,null,"457-1","황선국"]
[{"$f":"LEFT($B141240,10)&TEXT($D141240,\"0\")&TEXT($E141240,\"0000\")&TEXT($F141240,\"0000\")","v":"4480039023105270005"},4480039023,null,1,527,5,"527-5","답",2684,null,null,null,"102-5","김기섭"]
[{"$f":"LEFT($B141317,10)&TEXT($D141317,\"0\")&TEXT($E141317,\"0000\")&TEXT($F141317,\"0000\")","v":"4480039023200540002"},4480039023,null,2,54,2,"54-2","임",3095,null,null,null,"홍성읍남장리407-10","오경섭"]
[{"$f":"LEFT($B141449,10)&TEXT($D141449,\"0\")&TEXT($E141449,\"0000\")&TEXT($F141449,\"0000\")","v":"4480039024100510007"},4480039024,null,1,51,7,"51-7","도",175,null,null,null,"홍성군","국"]
[{"$f":"LEFT($B141570,10)&TEXT($D141570,\"0\")&TEXT($E141570,\"0000\")&TEXT($F141570,\"0000\")","v":"4480039024101320000"},4480039024,null,1,132,0,132,"전",1560,null,null,null,134,"이문순"]
[{"$f":"LEFT($B141711,10)&TEXT($D141711,\"0\")&TEXT($E141711,\"0000\")&TEXT($F141711,\"0000\")","v":"4480039024102440000"},4480039024,null,1,244,0,244,"전",979,null,null,null,241,"이인영"]
[{"$f":"LEFT($B141795,10)&TEXT($D141795,\"0\")&TEXT($E141795,\"0000\")&TEXT($F141795,\"0000\")","v":"4480039024103180000"},4480039024,null,1,318,0,318,"답",3469.2,null,null,null,"경기도양주시덕계동855현진에버빌아파트108-602","이진화"]
[{"$f":"LEFT($B141900,10)&TEXT($D141900,\"0\")&TEXT($E141900,\"0000\")&TEXT($F141900,\"0000\")","v":"4480039025100490004"},4480039025,null,1,49,4,"49-4","전",1373,null,null,null,"홍성군구항면장양리49-1","임인성"]
[{"$f":"LEFT($B141986,10)&TEXT($D141986,\"0\")&TEXT($E141986,\"0000\")&TEXT($F141986,\"0000\")","v":"4480039025100800001"},4480039025,null,1,80,1,"80-1","전",1336,null,null,null,"서울동작구사당동181-255","전병복"]
[{"$f":"LEFT($B142125,10)&TEXT($D142125,\"0\")&TEXT($E142125,\"0000\")&TEXT($F142125,\"0000\")","v":"4480039025102030001"},4480039025,null,1,203,1,"203-1","전",623,null,null,null,"서울특별시동작구남부순환로265나길17101호(사당동금강빌라)","이석권"]
[{"$f":"LEFT($B142294,10)&TEXT($D142294,\"0\")&TEXT($E142294,\"0000\")&TEXT($F142294,\"0000\")","v":"4480039025103690003"},4480039025,null,1,369,3,"369-3","전",823,null,null,null,"장양리370","박민순"]
[{"$f":"LEFT($B142350,10)&TEXT($D142350,\"0\")&TEXT($E142350,\"0000\")&TEXT($F142350,\"0000\")","v":"4480039025104520003"},4480039025,null,1,452,3,"452-3","대",374,null,null,null,"부산시남구용호동176-30엘지메트로시티128-2202","최민섭"]
[{"$f":"LEFT($B142575,10)&TEXT($D142575,\"0\")&TEXT($E142575,\"0000\")&TEXT($F142575,\"0000\")","v":"4480039025106420005"},4480039025,null,1,642,5,"642-5","전",304,null,null,null,"642-2","김다순"]
[{"$f":"LEFT($B142688,10)&TEXT($D142688,\"0\")&TEXT($E142688,\"0000\")&TEXT($F142688,\"0000\")","v":"4480039025107750000"},4480039025,null,1,775,0,775,"구",4419,null,null,null,"국(농림부)","국"]
[{"$f":"LEFT($B142800,10)&TEXT($D142800,\"0\")&TEXT($E142800,\"0000\")&TEXT($F142800,\"0000\")","v":"4480039025201230007"},4480039025,null,2,123,7,"123-7","임",2370,null,null,null,"갈산면가곡리288","김동휴"]
[{"$f":"LEFT($B142905,10)&TEXT($D142905,\"0\")&TEXT($E142905,\"0000\")&TEXT($F142905,\"0000\")","v":"4480039026100720000"},4480039026,null,1,72,0,72,"대",711,null,null,null,"충청남도홍성군구항면태봉리72-2","이재환"]
[{"$f":"LEFT($B142963,10)&TEXT($D142963,\"0\")&TEXT($E142963,\"0000\")&TEXT($F142963,\"0000\")","v":"4480039026101560000"},4480039026,null,1,156,0,156,"전",423,null,null,null,155,"담양전씨양현공파문중"]
[{"$f":"LEFT($B143130,10)&TEXT($D143130,\"0\")&TEXT($E143130,\"0000\")&TEXT($F143130,\"0000\")","v":"4480039026103500001"},4480039026,null,1,350,1,"350-1","전",3321,null,null,null,349,"이석모"]
[{"$f":"LEFT($B143235,10)&TEXT($D143235,\"0\")&TEXT($E143235,\"0000\")&TEXT($F143235,\"0000\")","v":"4480039026104420006"},4480039026,null,1,442,6,"442-6","임",298,null,null,null,"충청남도홍성군구항면구항남길439-98","하옥주"]
[{"$f":"LEFT($B143375,10)&TEXT($D143375,\"0\")&TEXT($E143375,\"0000\")&TEXT($F143375,\"0000\")","v":"4480039026200030001"},4480039026,null,2,3,1,"3-1","도",331,null,null,null,"충청남도","국"]
[{"$f":"LEFT($B143460,10)&TEXT($D143460,\"0\")&TEXT($E143460,\"0000\")&TEXT($F143460,\"0000\")","v":"4480039027100040012"},4480039027,null,1,4,12,"4-12","임",2579,null,null,null,"인천광역시옹진군영흥면내리14-13","김순희"]
[{"$f":"LEFT($B143546,10)&TEXT($D143546,\"0\")&TEXT($E143546,\"0000\")&TEXT($F143546,\"0000\")","v":"4480039027100690002"},4480039027,null,1,69,2,"69-2","대",664,null,null,null,"70-2","전영수"]
[{"$f":"LEFT($B143685,10)&TEXT($D143685,\"0\")&TEXT($E143685,\"0000\")&TEXT($F143685,\"0000\")","v":"4480039027101700002"},4480039027,null,1,170,2,"170-2","창",2118,null,null,null,"강원도원주시남원로441202동1201호(명륜동청구아파트)","전병훈"]
[{"$f":"LEFT($B143790,10)&TEXT($D143790,\"0\")&TEXT($E143790,\"0000\")&TEXT($F143790,\"0000\")","v":"4480039027102420000"},4480039027,null,1,242,0,242,"전",3289,null,null,null,"서울특별시구로구고척동162-50","권오승"]
[{"$f":"LEFT($B143958,10)&TEXT($D143958,\"0\")&TEXT($E143958,\"0000\")&TEXT($F143958,\"0000\")","v":"4480039027103530000"},4480039027,null,1,353,0,353,"대",5574,null,null,null,353,"전용상"]
[{"$f":"LEFT($B144015,10)&TEXT($D144015,\"0\")&TEXT($E144015,\"0000\")&TEXT($F144015,\"0000\")","v":"4480039027103930002"},4480039027,null,1,393,2,"393-2","전",1379,null,null,null,270,"전현수"]
[{"$f":"LEFT($B144240,10)&TEXT($D144240,\"0\")&TEXT($E144240,\"0000\")&TEXT($F144240,\"0000\")","v":"4480039027106010000"},4480039027,null,1,601,0,601,"대",284,null,null,null,"충청남도홍성군구항면거북로445번길143-8","김용재"]
[{"$f":"LEFT($B144352,10)&TEXT($D144352,\"0\")&TEXT($E144352,\"0000\")&TEXT($F144352,\"0000\")","v":"4480039027107480000"},4480039027,null,1,748,0,748,"구",3022.8,null,null,null,"국(농림부)","국"]
[{"$f":"LEFT($B144465,10)&TEXT($D144465,\"0\")&TEXT($E144465,\"0000\")&TEXT($F144465,\"0000\")","v":"4480039027201090000"},4480039027,null,2,109,0,109,"임",12099,null,null,null,"경기도용인시수지구풍덕천로160번길19-11동비06호(풍덕천동월드빌)","양정모"]
[{"$f":"LEFT($B144570,10)&TEXT($D144570,\"0\")&TEXT($E144570,\"0000\")&TEXT($F144570,\"0000\")","v":"4480034029100300000"},4480034029,null,1,30,0,30,"답",544,null,null,null,77,"장래용"]
[{"$f":"LEFT($B144627,10)&TEXT($D144627,\"0\")&TEXT($E144627,\"0000\")&TEXT($F144627,\"0000\")","v":"4480034029100520002"},4480034029,null,1,52,2,"52-2","도",218,null,null,null,"국(건설부)","국"]
[{"$f":"LEFT($B144795,10)&TEXT($D144795,\"0\")&TEXT($E144795,\"0000\")&TEXT($F144795,\"0000\")","v":"4480034029102250000"},4480034029,null,1,225,0,225,"답",917,null,null,null,"충청남도예산군예산읍무한산성3길28-5","장은아"]
[{"$f":"LEFT($B144916,10)&TEXT($D144916,\"0\")&TEXT($E144916,\"0000\")&TEXT($F144916,\"0000\")","v":"4480034029103710001"},4480034029,null,1,371,1,"371-1","전",444,null,null,null,371,"이병옥"]
[{"$f":"LEFT($B145021,10)&TEXT($D145021,\"0\")&TEXT($E145021,\"0000\")&TEXT($F145021,\"0000\")","v":"4480034029104400000"},4480034029,null,1,440,0,440,"대",956,null,null,null,"경기도고양시일산서구후곡로10902동501호(일산동후곡마을)","서대원"]
[{"$f":"LEFT($B145125,10)&TEXT($D145125,\"0\")&TEXT($E145125,\"0000\")&TEXT($F145125,\"0000\")","v":"4480034029105250002"},4480034029,null,1,525,2,"525-2","도",205,null,null,null,"홍성군","국"]
[{"$f":"LEFT($B145210,10)&TEXT($D145210,\"0\")&TEXT($E145210,\"0000\")&TEXT($F145210,\"0000\")","v":"4480034029106040000"},4480034029,null,1,604,0,604,"전",952,null,null,null,736,"채영숙"]
[{"$f":"LEFT($B145350,10)&TEXT($D145350,\"0\")&TEXT($E145350,\"0000\")&TEXT($F145350,\"0000\")","v":"4480034029107840000"},4480034029,null,1,784,0,784,"전",876,null,null,null,"수원시권선구호매실동377엘지삼익아파트108동1601호","김범식"]
[{"$f":"LEFT($B145455,10)&TEXT($D145455,\"0\")&TEXT($E145455,\"0000\")&TEXT($F145455,\"0000\")","v":"4480034029108920004"},4480034029,null,1,892,4,"892-4","대",483,null,null,null,"충청남도홍성군구항면거북로175번길83-15","박동철"]
[{"$f":"LEFT($B145604,10)&TEXT($D145604,\"0\")&TEXT($E145604,\"0000\")&TEXT($F145604,\"0000\")","v":"4480034029110840000"},4480034029,null,1,1084,0,1084,"답",1374.5,null,null,null,"경기도시흥시신천동845-7인화빌라102","서용철"]
[{"$f":"LEFT($B145800,10)&TEXT($D145800,\"0\")&TEXT($E145800,\"0000\")&TEXT($F145800,\"0000\")","v":"4480034029200720000"},4480034029,null,2,72,0,72,"임",5750,null,null,null,"충청남도홍성군구항면거북로8번길5-30","장래용"]
[{"$f":"LEFT($B145921,10)&TEXT($D145921,\"0\")&TEXT($E145921,\"0000\")&TEXT($F145921,\"0000\")","v":"4480039029100360004"},4480039029,null,1,36,4,"36-4","유",1477,null,null,null,"경기도의왕시포일동487","한국농어촌공사"]
[{"$f":"LEFT($B145998,10)&TEXT($D145998,\"0\")&TEXT($E145998,\"0000\")&TEXT($F145998,\"0000\")","v":"4480039029101090000"},4480039029,null,1,109,0,109,"대",330,null,null,null,"충청남도홍성군구항면대정리108","이옥분"]
[{"$f":"LEFT($B146130,10)&TEXT($D146130,\"0\")&TEXT($E146130,\"0000\")&TEXT($F146130,\"0000\")","v":"4480039029102730001"},4480039029,null,1,273,1,"273-1","답",4526,null,null,null,"충청남도홍성군구항면구항남길128번길76","경희진"]
[{"$f":"LEFT($B146251,10)&TEXT($D146251,\"0\")&TEXT($E146251,\"0000\")&TEXT($F146251,\"0000\")","v":"4480032030100010002"},4480032030,null,1,1,2,"1-2","도",398,null,null,null,"홍성군","국"]
[{"$f":"LEFT($B146392,10)&TEXT($D146392,\"0\")&TEXT($E146392,\"0000\")&TEXT($F146392,\"0000\")","v":"4480032030101150000"},4480032030,null,1,115,0,115,"임",3086,null,null,null,"은하면학산리698","안동김씨동래공파종중"]
[{"$f":"LEFT($B146476,10)&TEXT($D146476,\"0\")&TEXT($E146476,\"0000\")&TEXT($F146476,\"0000\")","v":"4480032030102080004"},4480032030,null,1,208,4,"208-4","임",4784,null,null,null,"경기도평택시지제2길33-18(지제동)","김양준"]
[{"$f":"LEFT($B146581,10)&TEXT($D146581,\"0\")&TEXT($E146581,\"0000\")&TEXT($F146581,\"0000\")","v":"4480032030103720001"},4480032030,null,1,372,1,"372-1","전",185,null,null,null,"경기도안양시동안구호계동969-3삼덕아파트비-203","김기흥"]
[{"$f":"LEFT($B146685,10)&TEXT($D146685,\"0\")&TEXT($E146685,\"0000\")&TEXT($F146685,\"0000\")","v":"4480032030104650000"},4480032030,null,1,465,0,465,"전",942,null,null,null,479,"복진열"]
[{"$f":"LEFT($B146806,10)&TEXT($D146806,\"0\")&TEXT($E146806,\"0000\")&TEXT($F146806,\"0000\")","v":"4480032030105970000"},4480032030,null,1,597,0,597,"답",1335,null,null,null,"대정리73","서인철"]
[{"$f":"LEFT($B146975,10)&TEXT($D146975,\"0\")&TEXT($E146975,\"0000\")&TEXT($F146975,\"0000\")","v":"4480032030107340000"},4480032030,null,1,734,0,734,"구",25,null,null,null,"국(농림부)","국"]
[{"$f":"LEFT($B147015,10)&TEXT($D147015,\"0\")&TEXT($E147015,\"0000\")&TEXT($F147015,\"0000\")","v":"4480032030200330003"},4480032030,null,2,33,3,"33-3","임",2281,null,null,null,"경기도수원시권선구서부로1534101동1409호(고색동대한아파트)","이점순"]
[{"$f":"LEFT($B147136,10)&TEXT($D147136,\"0\")&TEXT($E147136,\"0000\")&TEXT($F147136,\"0000\")","v":"4480039031100600006"},4480039031,null,1,60,6,"60-6","임",5432,null,null,null,"홍성읍학계리206","김진섭"]
[{"$f":"LEFT($B147250,10)&TEXT($D147250,\"0\")&TEXT($E147250,\"0000\")&TEXT($F147250,\"0000\")","v":"4480039031101830001"},4480039031,null,1,183,1,"183-1","임",4009,null,null,null,"196-2","김용구"]
[{"$f":"LEFT($B147361,10)&TEXT($D147361,\"0\")&TEXT($E147361,\"0000\")&TEXT($F147361,\"0000\")","v":"4480039031102460002"},4480039031,null,1,246,2,"246-2","도",53,null,null,null,"국(건설부)","국"]
[{"$f":"LEFT($B147586,10)&TEXT($D147586,\"0\")&TEXT($E147586,\"0000\")&TEXT($F147586,\"0000\")","v":"4480039031103680002"},4480039031,null,1,368,2,"368-2","전",247,null,null,null,"충청남도홍성군구항면충서로848","김보경"]
[{"$f":"LEFT($B147644,10)&TEXT($D147644,\"0\")&TEXT($E147644,\"0000\")&TEXT($F147644,\"0000\")","v":"4480039031103880002"},4480039031,null,1,388,2,"388-2","도",43,null,null,null,"서울시서대문구연희동172-44","심태웅"]
[{"$f":"LEFT($B147811,10)&TEXT($D147811,\"0\")&TEXT($E147811,\"0000\")&TEXT($F147811,\"0000\")","v":"4480039031105070000"},4480039031,null,1,507,0,507,"전",278,null,null,null,506,"김상배"]
[{"$f":"LEFT($B147952,10)&TEXT($D147952,\"0\")&TEXT($E147952,\"0000\")&TEXT($F147952,\"0000\")","v":"4480039031105720018"},4480039031,null,1,572,18,"572-18","전",116,null,null,null,"서울특별시도봉구해등로50317동101호(창동주공아파트)","김종묵"]
[{"$f":"LEFT($B148020,10)&TEXT($D148020,\"0\")&TEXT($E148020,\"0000\")&TEXT($F148020,\"0000\")","v":"4480039031105900003"},4480039031,null,1,590,3,"590-3","대",598,null,null,null,"목산군일서면송기동","박영태"]
[{"$f":"LEFT($B148141,10)&TEXT($D148141,\"0\")&TEXT($E148141,\"0000\")&TEXT($F148141,\"0000\")","v":"4480039031200120000"},4480039031,null,2,12,0,12,"임",8529,null,null,null,"예산군광시면광시리88","한희손"]
[{"$f":"LEFT($B148227,10)&TEXT($D148227,\"0\")&TEXT($E148227,\"0000\")&TEXT($F148227,\"0000\")","v":"4480039031201100001"},4480039031,null,2,110,1,"110-1","임",12387,null,null,null,"대구광역시수성구달구벌대로2435105동403호(범어동두산위브더제니스)","허성열"]
[{"$f":"LEFT($B148366,10)&TEXT($D148366,\"0\")&TEXT($E148366,\"0000\")&TEXT($F148366,\"0000\")","v":"4480039032100110019"},4480039032,null,1,11,19,"11-19","도",6126,null,null,null,"국(건설교통부)","국"]
[{"$f":"LEFT($B148471,10)&TEXT($D148471,\"0\")&TEXT($E148471,\"0000\")&TEXT($F148471,\"0000\")","v":"4480039032100600001"},4480039032,null,1,60,1,"60-1","답",858,null,null,null,"광천리247","김태영"]
[{"$f":"LEFT($B148621,10)&TEXT($D148621,\"0\")&TEXT($E148621,\"0000\")&TEXT($F148621,\"0000\")","v":"4480039032101720007"},4480039032,null,1,172,7,"172-7","전",192,null,null,null,"서울시영등포구신길동9224층","김기숙"]
[{"$f":"LEFT($B148696,10)&TEXT($D148696,\"0\")&TEXT($E148696,\"0000\")&TEXT($F148696,\"0000\")","v":"4480039032102400000"},4480039032,null,1,240,0,240,"전",453,null,null,null,252,"황봉로"]
[{"$f":"LEFT($B148801,10)&TEXT($D148801,\"0\")&TEXT($E148801,\"0000\")&TEXT($F148801,\"0000\")","v":"4480039032103000006"},4480039032,null,1,300,6,"300-6","답",2718,null,null,null,"충청남도홍성군홍성읍월산리851부영아파트203-601","김윤근"]
[{"$f":"LEFT($B149033,10)&TEXT($D149033,\"0\")&TEXT($E149033,\"0000\")&TEXT($F149033,\"0000\")","v":"4480039032104930000"},4480039032,null,1,493,0,493,"답",1602,null,null,null,"충청남도홍성군홍성읍문화로80번길43503호(청원태영아파트)","김기찬"]
[{"$f":"LEFT($B149146,10)&TEXT($D149146,\"0\")&TEXT($E149146,\"0000\")&TEXT($F149146,\"0000\")","v":"4480039032105910004"},4480039032,null,1,591,4,"591-4","수",71,null,null,null,"국(환경부)","국"]
[{"$f":"LEFT($B149204,10)&TEXT($D149204,\"0\")&TEXT($E149204,\"0000\")&TEXT($F149204,\"0000\")","v":"4480039032200410002"},4480039032,null,2,41,2,"41-2","임",5470,null,null,null,"경기도안산시단원구안산천남로245904동503호(고잔동주공그린빌아파트)","강인규"]
[{"$f":"LEFT($B149371,10)&TEXT($D149371,\"0\")&TEXT($E149371,\"0000\")&TEXT($F149371,\"0000\")","v":"4480025625101980131"},4480025625,null,1,198,131,"198-131","임",1941,null,null,null,"경기도성남시분당구구미동175","대한주택공사"]
[{"$f":"LEFT($B149476,10)&TEXT($D149476,\"0\")&TEXT($E149476,\"0000\")&TEXT($F149476,\"0000\")","v":"4480033022100150001"},4480033022,null,1,15,1,"15-1","전",29,null,null,null,"충청남도홍성군홍동면홍장남로671-29","로젠캠프구지"]
[{"$f":"LEFT($B149598,10)&TEXT($D149598,\"0\")&TEXT($E149598,\"0000\")&TEXT($F149598,\"0000\")","v":"4480025625105090041"},4480025625,null,1,509,41,"509-41","답",104,null,null,null,"경기도성남시분당구구미동175","대한주택공사"]
[{"$f":"LEFT($B149701,10)&TEXT($D149701,\"0\")&TEXT($E149701,\"0000\")&TEXT($F149701,\"0000\")","v":"4480037021101230003"},4480037021,null,1,123,3,"123-3","답",377,null,null,null,"강원도원주시무실로382101동1304호(무실동무실세영리첼1차아파트)","지윤정"]
[{"$f":"LEFT($B149806,10)&TEXT($D149806,\"0\")&TEXT($E149806,\"0000\")&TEXT($F149806,\"0000\")","v":"4480036025105750005"},4480036025,null,1,575,5,"575-5","도",316,null,null,null,"국(건설부)","국"]
[{"$f":"LEFT($B149891,10)&TEXT($D149891,\"0\")&TEXT($E149891,\"0000\")&TEXT($F149891,\"0000\")","v":"4480025030111890000"},4480025030,null,1,1189,0,1189,"공",111.4,null,null,null,"홍성군","국"]
[{"$f":"LEFT($B150031,10)&TEXT($D150031,\"0\")&TEXT($E150031,\"0000\")&TEXT($F150031,\"0000\")","v":"4480037025102830003"},4480037025,null,1,283,3,"283-3","전",362,null,null,null,"충청남도홍성군서부면서부로85번길135","표재덕"]
[{"$f":"LEFT($B150136,10)&TEXT($D150136,\"0\")&TEXT($E150136,\"0000\")&TEXT($F150136,\"0000\")","v":"4480037023105790006"},4480037023,null,1,579,6,"579-6","전",726,null,null,null,"충청남도홍성군홍성읍월산로30번길39104동404호(부영아파트)","최영선"]
[{"$f":"LEFT($B150285,10)&TEXT($D150285,\"0\")&TEXT($E150285,\"0000\")&TEXT($F150285,\"0000\")","v":"4480037021100930007"},4480037021,null,1,93,7,"93-7","답",432,null,null,null,"안양시만안구석수동373-3백조아파트205-205","김영환"]
[{"$f":"LEFT($B150361,10)&TEXT($D150361,\"0\")&TEXT($E150361,\"0000\")&TEXT($F150361,\"0000\")","v":"4480025625102060027"},4480025625,null,1,206,27,"206-27","구",74,null,null,null,"충청남도홍성군홍성읍문화로109","충청남도개발공사"]
[{"$f":"LEFT($B150482,10)&TEXT($D150482,\"0\")&TEXT($E150482,\"0000\")&TEXT($F150482,\"0000\")","v":"4480025625105090009"},4480025625,null,1,509,9,"509-9","과",3021,null,null,null,"경기도성남시분당구구미동175","대한주택공사"]
[{"$f":"LEFT($B150679,10)&TEXT($D150679,\"0\")&TEXT($E150679,\"0000\")&TEXT($F150679,\"0000\")","v":"4480025625101980048"},4480025625,null,1,198,48,"198-48","답",1018,null,null,null,"경기도성남시분당구구미동175","대한주택공사"]
[{"$f":"LEFT($B150811,10)&TEXT($D150811,\"0\")&TEXT($E150811,\"0000\")&TEXT($F150811,\"0000\")","v":"4480025021101130038"},4480025021,null,1,113,38,"113-38","대",33,null,null,null,"경상북도영천시대창면신광리349","김광국"]
[{"$f":"LEFT($B150868,10)&TEXT($D150868,\"0\")&TEXT($E150868,\"0000\")&TEXT($F150868,\"0000\")","v":"4480025021103330019"},4480025021,null,1,333,19,"333-19","임",400,null,null,null,"충청남도홍성군홍성읍대교리17-1","청주이씨윤남파홍성종회"]
[{"$f":"LEFT($B151036,10)&TEXT($D151036,\"0\")&TEXT($E151036,\"0000\")&TEXT($F151036,\"0000\")","v":"4480025021106700003"},4480025021,null,1,670,3,"670-3","도",1087,null,null,null,"홍성군","국"]
[{"$f":"LEFT($B151141,10)&TEXT($D151141,\"0\")&TEXT($E151141,\"0000\")&TEXT($F151141,\"0000\")","v":"4480025022101440000"},4480025022,null,1,144,0,144,"전",340,null,null,null,"경기도안양시동안구관평로305번길9-162층(관양동)","박재덕"]
[{"$f":"LEFT($B151262,10)&TEXT($D151262,\"0\")&TEXT($E151262,\"0000\")&TEXT($F151262,\"0000\")","v":"4480025023100020001"},4480025023,null,1,2,1,"2-1","전",724,null,null,null,"옥암리443-2","장영섭"]
[{"$f":"LEFT($B151366,10)&TEXT($D151366,\"0\")&TEXT($E151366,\"0000\")&TEXT($F151366,\"0000\")","v":"4480025023103670001"},4480025023,null,1,367,1,"367-1","전",1494,null,null,null,"충청남도홍성군홍성읍홍장북로442-20","조성애"]
[{"$f":"LEFT($B151487,10)&TEXT($D151487,\"0\")&TEXT($E151487,\"0000\")&TEXT($F151487,\"0000\")","v":"4480025024106350008"},4480025024,null,1,635,8,"635-8","임",572,null,null,null,"충청남도보령시청라면원모루2길65","강은숙"]
[{"$f":"LEFT($B151656,10)&TEXT($D151656,\"0\")&TEXT($E151656,\"0000\")&TEXT($F151656,\"0000\")","v":"4480025025104560015"},4480025025,null,1,456,15,"456-15","전",317,null,null,null,"홍성군홍성읍오관리154-2","박현순"]
[{"$f":"LEFT($B151696,10)&TEXT($D151696,\"0\")&TEXT($E151696,\"0000\")&TEXT($F151696,\"0000\")","v":"4480025025107570003"},4480025025,null,1,757,3,"757-3","도",136,null,null,null,"국(건설교통부)","국"]
[{"$f":"LEFT($B151817,10)&TEXT($D151817,\"0\")&TEXT($E151817,\"0000\")&TEXT($F151817,\"0000\")","v":"4480025026101800010"},4480025026,null,1,180,10,"180-10","임",716,null,null,null,"부산해운대구좌동1450해운대주공아파트(3)단지311-803","주정대"]
[{"$f":"LEFT($B151931,10)&TEXT($D151931,\"0\")&TEXT($E151931,\"0000\")&TEXT($F151931,\"0000\")","v":"4480025027101850000"},4480025027,null,1,185,0,185,"답",633,null,null,null,"홍성군홍성읍학계리181","강환부"]
[{"$f":"LEFT($B152146,10)&TEXT($D152146,\"0\")&TEXT($E152146,\"0000\")&TEXT($F152146,\"0000\")","v":"4480025029102160004"},4480025029,null,1,216,4,"216-4","도",408,null,null,null,"홍성군","국"]
[{"$f":"LEFT($B152239,10)&TEXT($D152239,\"0\")&TEXT($E152239,\"0000\")&TEXT($F152239,\"0000\")","v":"4480025030101550001"},4480025030,null,1,155,1,"155-1","철",170,null,null,null,"국(국토교통부)","국"]
[{"$f":"LEFT($B152371,10)&TEXT($D152371,\"0\")&TEXT($E152371,\"0000\")&TEXT($F152371,\"0000\")","v":"4480025030106070056"},4480025030,null,1,607,56,"607-56","대",916,null,null,null,"서울특별시강남구테헤란로41920층(삼성동)","국제자산신탁주식회사"]
[{"$f":"LEFT($B152492,10)&TEXT($D152492,\"0\")&TEXT($E152492,\"0000\")&TEXT($F152492,\"0000\")","v":"4480025030200630001"},4480025030,null,2,63,1,"63-1","임",2082,null,null,null,"충청남도예산군예산읍석양길42","김종희"]
[{"$f":"LEFT($B152514,10)&TEXT($D152514,\"0\")&TEXT($E152514,\"0000\")&TEXT($F152514,\"0000\")","v":"4480025031100230032"},4480025031,null,1,23,32,"23-32","전",14,null,null,null,"홍성군","국"]
[{"$f":"LEFT($B152701,10)&TEXT($D152701,\"0\")&TEXT($E152701,\"0000\")&TEXT($F152701,\"0000\")","v":"4480025032101290001"},4480025032,null,1,129,1,"129-1","임",2357,null,null,null,"의왕시내손동624주공아파트121-202","김준영"]
[{"$f":"LEFT($B152822,10)&TEXT($D152822,\"0\")&TEXT($E152822,\"0000\")&TEXT($F152822,\"0000\")","v":"4480025321101350004"},4480025321,null,1,135,4,"135-4","도",122,null,null,null,"국(건설부)","국"]
[{"$f":"LEFT($B152908,10)&TEXT($D152908,\"0\")&TEXT($E152908,\"0000\")&TEXT($F152908,\"0000\")","v":"4480025321104010048"},4480025321,null,1,401,48,"401-48","대",14,null,null,null,"광천리298-4","김주윤"]
[{"$f":"LEFT($B153047,10)&TEXT($D153047,\"0\")&TEXT($E153047,\"0000\")&TEXT($F153047,\"0000\")","v":"4480025322101460029"},4480025322,null,1,146,29,"146-29","대",172,null,null,null,"126-1","김은구"]
[{"$f":"LEFT($B153152,10)&TEXT($D153152,\"0\")&TEXT($E153152,\"0000\")&TEXT($F153152,\"0000\")","v":"4480025322103030007"},4480025322,null,1,303,7,"303-7","대",79,null,null,null,"198-2","문주호"]
[{"$f":"LEFT($B153302,10)&TEXT($D153302,\"0\")&TEXT($E153302,\"0000\")&TEXT($F153302,\"0000\")","v":"4480025323107760000"},4480025323,null,1,776,0,776,"전",1420,null,null,null,"경기도군포시산본동1102-1203호","주정노"]
[{"$f":"LEFT($B153377,10)&TEXT($D153377,\"0\")&TEXT($E153377,\"0000\")&TEXT($F153377,\"0000\")","v":"4480025324104390002"},4480025324,null,1,439,2,"439-2","전",1418,null,null,null,"홍성읍고암리586-5","이승재"]
[{"$f":"LEFT($B153491,10)&TEXT($D153491,\"0\")&TEXT($E153491,\"0000\")&TEXT($F153491,\"0000\")","v":"4480025326101340001"},4480025326,null,1,134,1,"134-1","도",40,null,null,null,"국(건설부)","국"]
[{"$f":"LEFT($B153586,10)&TEXT($D153586,\"0\")&TEXT($E153586,\"0000\")&TEXT($F153586,\"0000\")","v":"4480025327104850000"},4480025327,null,1,485,0,485,"답",3055,null,null,null,"매현리295","황규만"]
[{"$f":"LEFT($B153707,10)&TEXT($D153707,\"0\")&TEXT($E153707,\"0000\")&TEXT($F153707,\"0000\")","v":"4480025328200160000"},4480025328,null,2,16,0,16,"임",6744,null,null,null,"인천광역시서구원당대로427번길91-1(왕길동)","김평순"]
[{"$f":"LEFT($B153885,10)&TEXT($D153885,\"0\")&TEXT($E153885,\"0000\")&TEXT($F153885,\"0000\")","v":"4480025330101630000"},4480025330,null,1,163,0,163,"답",1549,null,null,null,"충청남도홍성군홍성읍월산리850부영아파트105-804","강영수"]
[{"$f":"LEFT($B154052,10)&TEXT($D154052,\"0\")&TEXT($E154052,\"0000\")&TEXT($F154052,\"0000\")","v":"4480025331106060009"},4480025331,null,1,606,9,"606-9","도",8,null,null,null,"홍성군","국"]
[{"$f":"LEFT($B154157,10)&TEXT($D154157,\"0\")&TEXT($E154157,\"0000\")&TEXT($F154157,\"0000\")","v":"4480025332106620001"},4480025332,null,1,662,1,"662-1","임",5381,null,null,null,"인천광역시서구도요지로15102동603호(경서동태평샹베르아파트)","주성택"]
[{"$f":"LEFT($B154279,10)&TEXT($D154279,\"0\")&TEXT($E154279,\"0000\")&TEXT($F154279,\"0000\")","v":"4480025333108010010"},4480025333,null,1,801,10,"801-10","답",1343.8,null,null,null,"충청남도홍성군광천읍광금남로197번길13","나종월"]
[{"$f":"LEFT($B154382,10)&TEXT($D154382,\"0\")&TEXT($E154382,\"0000\")&TEXT($F154382,\"0000\")","v":"4480025621105320000"},4480025621,null,1,532,0,532,"전",347,null,null,null,"서울특별시강남구압구정동490한양아파트9-1012","이종숙"]
[{"$f":"LEFT($B154487,10)&TEXT($D154487,\"0\")&TEXT($E154487,\"0000\")&TEXT($F154487,\"0000\")","v":"4480025622100670003"},4480025622,null,1,67,3,"67-3","답",2815,null,null,null,"충청남도홍성군홍북읍신대로54104동1304호(효성해링턴플레이스)","송미규"]
[{"$f":"LEFT($B154572,10)&TEXT($D154572,\"0\")&TEXT($E154572,\"0000\")&TEXT($F154572,\"0000\")","v":"4480025622104900016"},4480025622,null,1,490,16,"490-16","전",438,null,null,null,"충청남도홍성군홍북면용봉산3길136-7","이병윤"]
[{"$f":"LEFT($B154712,10)&TEXT($D154712,\"0\")&TEXT($E154712,\"0000\")&TEXT($F154712,\"0000\")","v":"4480025623103710000"},4480025623,null,1,371,0,371,"도",1602,null,null,null,"국(농림수산부)","국"]
[{"$f":"LEFT($B154817,10)&TEXT($D154817,\"0\")&TEXT($E154817,\"0000\")&TEXT($F154817,\"0000\")","v":"4480025624103770000"},4480025624,null,1,377,0,377,"대",374,null,null,null,327,"윤창기"]
[{"$f":"LEFT($B154966,10)&TEXT($D154966,\"0\")&TEXT($E154966,\"0000\")&TEXT($F154966,\"0000\")","v":"4480025625105390000"},4480025625,null,1,539,0,539,"공",13238.4,null,null,null,"충청남도","국"]
[{"$f":"LEFT($B155042,10)&TEXT($D155042,\"0\")&TEXT($E155042,\"0000\")&TEXT($F155042,\"0000\")","v":"4480025626100050005"},4480025626,null,1,5,5,"5-5","임",1652,null,null,null,"서울시영등포구신길동4904-2","이영해"]
[{"$f":"LEFT($B155256,10)&TEXT($D155256,\"0\")&TEXT($E155256,\"0000\")&TEXT($F155256,\"0000\")","v":"4480025627106660000"},4480025627,null,1,666,0,666,"답",5002,null,null,null,"홍성군홍북면석택리449-2","김영환"]
[{"$f":"LEFT($B155267,10)&TEXT($D155267,\"0\")&TEXT($E155267,\"0000\")&TEXT($F155267,\"0000\")","v":"4480025627107080023"},4480025627,null,1,708,23,"708-23","답",200,null,null,null,"국(건설교통부)","국"]
[{"$f":"LEFT($B155492,10)&TEXT($D155492,\"0\")&TEXT($E155492,\"0000\")&TEXT($F155492,\"0000\")","v":"4480025630102000003"},4480025630,null,1,200,3,"200-3","답",2861,null,null,null,"54-3","최창례"]
[{"$f":"LEFT($B155549,10)&TEXT($D155549,\"0\")&TEXT($E155549,\"0000\")&TEXT($F155549,\"0000\")","v":"4480025630200300001"},4480025630,null,2,30,1,"30-1","임",159,null,null,null,"국(산림청)","국"]
[{"$f":"LEFT($B155717,10)&TEXT($D155717,\"0\")&TEXT($E155717,\"0000\")&TEXT($F155717,\"0000\")","v":"4480025632103580003"},4480025632,null,1,358,3,"358-3","답",3276,null,null,null,15,"오필영"]
[{"$f":"LEFT($B155822,10)&TEXT($D155822,\"0\")&TEXT($E155822,\"0000\")&TEXT($F155822,\"0000\")","v":"4480025633103580004"},4480025633,null,1,358,4,"358-4","전",108,null,null,null,"대전대덕구법동190삼익소월아파트102동404호","임희복"]
[{"$f":"LEFT($B155943,10)&TEXT($D155943,\"0\")&TEXT($E155943,\"0000\")&TEXT($F155943,\"0000\")","v":"4480032021104320002"},4480032021,null,1,432,2,"432-2","전",309,null,null,null,416,"복금동"]
[{"$f":"LEFT($B156047,10)&TEXT($D156047,\"0\")&TEXT($E156047,\"0000\")&TEXT($F156047,\"0000\")","v":"4480032022102230003"},4480032022,null,1,223,3,"223-3","전",324,null,null,null,"홍성군금마면봉서리324-1","박윤수"]
[{"$f":"LEFT($B156152,10)&TEXT($D156152,\"0\")&TEXT($E156152,\"0000\")&TEXT($F156152,\"0000\")","v":"4480032023102760001"},4480032023,null,1,276,1,"276-1","대",893,null,null,null,"충청남도홍성군홍성읍월산로30번길38204동705호(부영아파트)","박정훈"]
[{"$f":"LEFT($B156218,10)&TEXT($D156218,\"0\")&TEXT($E156218,\"0000\")&TEXT($F156218,\"0000\")","v":"4480032024101080001"},4480032024,null,1,108,1,"108-1","대",69,null,null,null,46,"김철현"]
[{"$f":"LEFT($B156377,10)&TEXT($D156377,\"0\")&TEXT($E156377,\"0000\")&TEXT($F156377,\"0000\")","v":"4480032025106880000"},4480032025,null,1,688,0,688,"전",298,null,null,null,"충청남도홍성군금마면부평리356","이병국"]
[{"$f":"LEFT($B156526,10)&TEXT($D156526,\"0\")&TEXT($E156526,\"0000\")&TEXT($F156526,\"0000\")","v":"4480032027101500006"},4480032027,null,1,150,6,"150-6","대",509,null,null,null,189,"주돈규"]
[{"$f":"LEFT($B156602,10)&TEXT($D156602,\"0\")&TEXT($E156602,\"0000\")&TEXT($F156602,\"0000\")","v":"4480032028100900004"},4480032028,null,1,90,4,"90-4","전",3170,null,null,null,"송암리97","이만순"]
[{"$f":"LEFT($B156707,10)&TEXT($D156707,\"0\")&TEXT($E156707,\"0000\")&TEXT($F156707,\"0000\")","v":"4480032029101950005"},4480032029,null,1,195,5,"195-5","전",529,null,null,null,178,"김근환"]
[{"$f":"LEFT($B156920,10)&TEXT($D156920,\"0\")&TEXT($E156920,\"0000\")&TEXT($F156920,\"0000\")","v":"4480032031101140007"},4480032031,null,1,114,7,"114-7","구",112,null,null,null,"국(농수산부)","국"]
[{"$f":"LEFT($B156932,10)&TEXT($D156932,\"0\")&TEXT($E156932,\"0000\")&TEXT($F156932,\"0000\")","v":"4480032031101830001"},4480032031,null,1,183,1,"183-1","대",68,null,null,null,"죽림리183","이창근"]
[{"$f":"LEFT($B157053,10)&TEXT($D157053,\"0\")&TEXT($E157053,\"0000\")&TEXT($F157053,\"0000\")","v":"4480032032101170000"},4480032032,null,1,117,0,117,"답",2020,null,null,null,101,"오명곤"]
[{"$f":"LEFT($B157195,10)&TEXT($D157195,\"0\")&TEXT($E157195,\"0000\")&TEXT($F157195,\"0000\")","v":"4480032033100840006"},4480032033,null,1,84,6,"84-6","전",3271,null,null,null,"서울특별시구로구구로동685-222구로주공아파트104-1205","김홍선"]
[{"$f":"LEFT($B157382,10)&TEXT($D157382,\"0\")&TEXT($E157382,\"0000\")&TEXT($F157382,\"0000\")","v":"4480033023100030000"},4480033023,null,1,3,0,3,"전",521,null,null,null,"예산군예산읍창소리35-10청천아파트405","김명자"]
[{"$f":"LEFT($B157503,10)&TEXT($D157503,\"0\")&TEXT($E157503,\"0000\")&TEXT($F157503,\"0000\")","v":"4480033024105850006"},4480033024,null,1,585,6,"585-6","임",704,null,null,null,"충청남도홍성군홍동면홍원리218-1","김인환"]
[{"$f":"LEFT($B157589,10)&TEXT($D157589,\"0\")&TEXT($E157589,\"0000\")&TEXT($F157589,\"0000\")","v":"4480033024111200006"},4480033024,null,1,1120,6,"1120-6","답",1104.9000000000001,null,null,null,90,"정재진"]
[{"$f":"LEFT($B157712,10)&TEXT($D157712,\"0\")&TEXT($E157712,\"0000\")&TEXT($F157712,\"0000\")","v":"4480033026103060000"},4480033026,null,1,306,0,306,"묘",7557,null,null,null,"충청남도홍성군홍동면수란리696","조성을"]
[{"$f":"LEFT($B157778,10)&TEXT($D157778,\"0\")&TEXT($E157778,\"0000\")&TEXT($F157778,\"0000\")","v":"4480033027102560000"},4480033027,null,1,256,0,256,"대",344,null,null,null,"금평리256","이기영"]
[{"$f":"LEFT($B157937,10)&TEXT($D157937,\"0\")&TEXT($E157937,\"0000\")&TEXT($F157937,\"0000\")","v":"4480033029102040003"},4480033029,null,1,204,3,"204-3","대",152,null,null,null,202,"조규호"]
[{"$f":"LEFT($B158058,10)&TEXT($D158058,\"0\")&TEXT($E158058,\"0000\")&TEXT($F158058,\"0000\")","v":"4480033030101660000"},4480033030,null,1,166,0,166,"전",1484,null,null,null,"홍성군홍동면수란리190","이희봉"]
[{"$f":"LEFT($B158172,10)&TEXT($D158172,\"0\")&TEXT($E158172,\"0000\")&TEXT($F158172,\"0000\")","v":"4480033031102250001"},4480033031,null,1,225,1,"225-1","답",1521,null,null,null,126,"신순옥"]
[{"$f":"LEFT($B158267,10)&TEXT($D158267,\"0\")&TEXT($E158267,\"0000\")&TEXT($F158267,\"0000\")","v":"4480033031201190006"},4480033031,null,2,119,6,"119-6","임",595,null,null,null,"홍성군","국"]
[{"$f":"LEFT($B158388,10)&TEXT($D158388,\"0\")&TEXT($E158388,\"0000\")&TEXT($F158388,\"0000\")","v":"4480033033102730000"},4480033033,null,1,273,0,273,"대",237,null,null,null,"충청남도홍성군홍동면충절로281번길15-14","김순남"]
[{"$f":"LEFT($B158566,10)&TEXT($D158566,\"0\")&TEXT($E158566,\"0000\")&TEXT($F158566,\"0000\")","v":"4480034021104780003"},4480034021,null,1,478,3,"478-3","구",192,null,null,null,"488-1","신현국"]
[{"$f":"LEFT($B158717,10)&TEXT($D158717,\"0\")&TEXT($E158717,\"0000\")&TEXT($F158717,\"0000\")","v":"4480034023102340000"},4480034023,null,1,234,0,234,"전",2331,null,null,null,240,"유명원"]
[{"$f":"LEFT($B158838,10)&TEXT($D158838,\"0\")&TEXT($E158838,\"0000\")&TEXT($F158838,\"0000\")","v":"4480034024109490001"},4480034024,null,1,949,1,"949-1","답",340,null,null,null,"경기도광주시남종면산수로2331","박정인"]
[{"$f":"LEFT($B158960,10)&TEXT($D158960,\"0\")&TEXT($E158960,\"0000\")&TEXT($F158960,\"0000\")","v":"4480034026102620001"},4480034026,null,1,262,1,"262-1","답",202,null,null,null,255,"김종필"]
[{"$f":"LEFT($B159063,10)&TEXT($D159063,\"0\")&TEXT($E159063,\"0000\")&TEXT($F159063,\"0000\")","v":"4480034027104560000"},4480034027,null,1,456,0,456,"전",1732,null,null,null,"서울구로구궁동197-1궁동빌라나동202호","주성환"]
[{"$f":"LEFT($B159149,10)&TEXT($D159149,\"0\")&TEXT($E159149,\"0000\")&TEXT($F159149,\"0000\")","v":"4480034028104800002"},4480034028,null,1,480,2,"480-2","임",91,null,null,null,"충청남도홍성군홍동면홍남동로357번길253-11","오필승"]
[{"$f":"LEFT($B159272,10)&TEXT($D159272,\"0\")&TEXT($E159272,\"0000\")&TEXT($F159272,\"0000\")","v":"4480034030100970000"},4480034030,null,1,97,0,97,"전",377,null,null,null,"예산군광시면대리415","평양조씨문중"]
[{"$f":"LEFT($B159393,10)&TEXT($D159393,\"0\")&TEXT($E159393,\"0000\")&TEXT($F159393,\"0000\")","v":"4480034031102220000"},4480034031,null,1,222,0,222,"전",568,null,null,null,222,"김의환"]
[{"$f":"LEFT($B159543,10)&TEXT($D159543,\"0\")&TEXT($E159543,\"0000\")&TEXT($F159543,\"0000\")","v":"4480034032103170004"},4480034032,null,1,317,4,"317-4","천",464,null,null,null,"국(건설교통부)","국"]
[{"$f":"LEFT($B159618,10)&TEXT($D159618,\"0\")&TEXT($E159618,\"0000\")&TEXT($F159618,\"0000\")","v":"4480034033100060000"},4480034033,null,1,6,0,6,"전",856,null,null,null,6,"이응칠"]
[{"$f":"LEFT($B159723,10)&TEXT($D159723,\"0\")&TEXT($E159723,\"0000\")&TEXT($F159723,\"0000\")","v":"4480034034104360008"},4480034034,null,1,436,8,"436-8","도",117,null,null,null,"국(건설교통부)","국"]
[{"$f":"LEFT($B159818,10)&TEXT($D159818,\"0\")&TEXT($E159818,\"0000\")&TEXT($F159818,\"0000\")","v":"4480034035200080000"},4480034035,null,2,8,0,8,"임",3372,null,null,null,"홍성군광천읍월림리132","양주조씨참의공파의교수공파종회"]
[{"$f":"LEFT($B159948,10)&TEXT($D159948,\"0\")&TEXT($E159948,\"0000\")&TEXT($F159948,\"0000\")","v":"4480035021102090002"},4480035021,null,1,209,2,"209-2","답",1803,null,null,null,393,"오광석"]
[{"$f":"LEFT($B160053,10)&TEXT($D160053,\"0\")&TEXT($E160053,\"0000\")&TEXT($F160053,\"0000\")","v":"4480035022102600004"},4480035022,null,1,260,4,"260-4","답",1082,null,null,null,"충청남도홍성군은하면홍남로68번길104","김경태"]
[{"$f":"LEFT($B160212,10)&TEXT($D160212,\"0\")&TEXT($E160212,\"0000\")&TEXT($F160212,\"0000\")","v":"4480035024102470000"},4480035024,null,1,247,0,247,"대",952,null,null,null,"충청남도홍성군은하면대율리156-5","장래진"]
[{"$f":"LEFT($B160398,10)&TEXT($D160398,\"0\")&TEXT($E160398,\"0000\")&TEXT($F160398,\"0000\")","v":"4480035026103220002"},4480035026,null,1,322,2,"322-2","대",409,null,null,null,"충청남도홍성군은하면은하로129번길302","방달석"]
[{"$f":"LEFT($B160503,10)&TEXT($D160503,\"0\")&TEXT($E160503,\"0000\")&TEXT($F160503,\"0000\")","v":"4480035027101180003"},4480035027,null,1,118,3,"118-3","목",2369,null,null,null,"충청남도홍성군은하면홍남로22번길33","최정일"]
[{"$f":"LEFT($B160624,10)&TEXT($D160624,\"0\")&TEXT($E160624,\"0000\")&TEXT($F160624,\"0000\")","v":"4480035029101310000"},4480035029,null,1,131,0,131,"전",678,null,null,null,"충청남도홍성군은하면홍남서로886번길187-9","이종복"]
[{"$f":"LEFT($B160728,10)&TEXT($D160728,\"0\")&TEXT($E160728,\"0000\")&TEXT($F160728,\"0000\")","v":"4480035030102260000"},4480035030,null,1,226,0,226,"대",681,null,null,null,"화봉리226","신준규"]
[{"$f":"LEFT($B160795,10)&TEXT($D160795,\"0\")&TEXT($E160795,\"0000\")&TEXT($F160795,\"0000\")","v":"4480035030108700000"},4480035030,null,1,870,0,870,"답",3964,null,null,null,"충청남도홍성군은하면홍남로192번길40","박원진"]
[{"$f":"LEFT($B160953,10)&TEXT($D160953,\"0\")&TEXT($E160953,\"0000\")&TEXT($F160953,\"0000\")","v":"4480035031109200002"},4480035031,null,1,920,2,"920-2","전",1488,null,null,null,null,"배성모"]
[{"$f":"LEFT($B161058,10)&TEXT($D161058,\"0\")&TEXT($E161058,\"0000\")&TEXT($F161058,\"0000\")","v":"4480036021105420000"},4480036021,null,1,542,0,542,"전",1792,null,null,null,586,"김창수"]
[{"$f":"LEFT($B161207,10)&TEXT($D161207,\"0\")&TEXT($E161207,\"0000\")&TEXT($F161207,\"0000\")","v":"4480036022111780007"},4480036022,null,1,1178,7,"1178-7","답",1929.9,null,null,null,"충청남도홍성군결성면성호길233번길20","김계화"]
[{"$f":"LEFT($B161283,10)&TEXT($D161283,\"0\")&TEXT($E161283,\"0000\")&TEXT($F161283,\"0000\")","v":"4480036023106390000"},4480036023,null,1,639,0,639,"전",588,null,null,null,"경기도남양주시도농로34209동1702호(다산동부영그린타운)","김문환"]
[{"$f":"LEFT($B161388,10)&TEXT($D161388,\"0\")&TEXT($E161388,\"0000\")&TEXT($F161388,\"0000\")","v":"4480036024100960004"},4480036024,null,1,96,4,"96-4","답",1998,null,null,null,"충청남도홍성군결성면홍남서로755","이풍원"]
[{"$f":"LEFT($B161482,10)&TEXT($D161482,\"0\")&TEXT($E161482,\"0000\")&TEXT($F161482,\"0000\")","v":"4480036025100920013"},4480036025,null,1,92,13,"92-13","답",1032,null,null,null,"경기도시흥시검바위2로15나동202호(은행동대영파크타운)","함선란"]
[{"$f":"LEFT($B161613,10)&TEXT($D161613,\"0\")&TEXT($E161613,\"0000\")&TEXT($F161613,\"0000\")","v":"4480036026103800005"},4480036026,null,1,380,5,"380-5","답",2701,null,null,null,"국(기획재정부)","국"]
[{"$f":"LEFT($B161718,10)&TEXT($D161718,\"0\")&TEXT($E161718,\"0000\")&TEXT($F161718,\"0000\")","v":"4480036027104500003"},4480036027,null,1,450,3,"450-3","전",336,null,null,null,"충청남도홍성군결성면교항리438","박종돈"]
[{"$f":"LEFT($B161876,10)&TEXT($D161876,\"0\")&TEXT($E161876,\"0000\")&TEXT($F161876,\"0000\")","v":"4480036028106820013"},4480036028,null,1,682,13,"682-13","답",40,null,null,null,"의왕시포일동487","한국농촌공사"]
[{"$f":"LEFT($B162063,10)&TEXT($D162063,\"0\")&TEXT($E162063,\"0000\")&TEXT($F162063,\"0000\")","v":"4480037021102140002"},4480037021,null,1,214,2,"214-2","도",1,null,null,null,"충청남도","국"]
[{"$f":"LEFT($B162184,10)&TEXT($D162184,\"0\")&TEXT($E162184,\"0000\")&TEXT($F162184,\"0000\")","v":"4480037022101390004"},4480037022,null,1,139,4,"139-4","임",760,null,null,null,"대전서구둔산동17블럭크로바아파트117동1005호","박호일"]
[{"$f":"LEFT($B162288,10)&TEXT($D162288,\"0\")&TEXT($E162288,\"0000\")&TEXT($F162288,\"0000\")","v":"4480037023100570000"},4480037023,null,1,57,0,57,"전",188,null,null,null,"인천광역시부평구삼산동453-1삼산타운704-401","송지호"]
[{"$f":"LEFT($B162393,10)&TEXT($D162393,\"0\")&TEXT($E162393,\"0000\")&TEXT($F162393,\"0000\")","v":"4480037023107380001"},4480037023,null,1,738,1,"738-1","답",322,null,null,null,"경기도의왕시안양판교로98(포일동)","한국농어촌공사"]
[{"$f":"LEFT($B162459,10)&TEXT($D162459,\"0\")&TEXT($E162459,\"0000\")&TEXT($F162459,\"0000\")","v":"4480037024102460001"},4480037024,null,1,246,1,"246-1","대",248,null,null,null,"충청남도홍성군서부면상황리249","이정학"]
[{"$f":"LEFT($B162618,10)&TEXT($D162618,\"0\")&TEXT($E162618,\"0000\")&TEXT($F162618,\"0000\")","v":"4480037026101260005"},4480037026,null,1,126,5,"126-5","도",201,null,null,null,"충청남도","국"]
[{"$f":"LEFT($B162723,10)&TEXT($D162723,\"0\")&TEXT($E162723,\"0000\")&TEXT($F162723,\"0000\")","v":"4480037026200410002"},4480037026,null,2,41,2,"41-2","임",18697,null,null,null,"충청남도홍성군서부면홍남서로56-18","이기민"]
[{"$f":"LEFT($B162853,10)&TEXT($D162853,\"0\")&TEXT($E162853,\"0000\")&TEXT($F162853,\"0000\")","v":"4480037027107000000"},4480037027,null,1,700,0,700,"전",1154,null,null,null,"충청남도홍성군홍성읍월산로50번길29","농업회사법인골든시드주식회사"]
[{"$f":"LEFT($B162948,10)&TEXT($D162948,\"0\")&TEXT($E162948,\"0000\")&TEXT($F162948,\"0000\")","v":"4480037028104350013"},4480037028,null,1,435,13,"435-13","전",917,null,null,null,"국(국토교통부)","국"]
[{"$f":"LEFT($B163069,10)&TEXT($D163069,\"0\")&TEXT($E163069,\"0000\")&TEXT($F163069,\"0000\")","v":"4480037030102090000"},4480037030,null,1,209,0,209,"전",608,null,null,null,"서울시노원구상계똥169-474","고언한"]
[{"$f":"LEFT($B163247,10)&TEXT($D163247,\"0\")&TEXT($E163247,\"0000\")&TEXT($F163247,\"0000\")","v":"4480037031106210002"},4480037031,null,1,621,2,"621-2","전",5356,null,null,null,"충청남도홍성군서부면홍남서로375번길255-39","임일영"]
[{"$f":"LEFT($B163278,10)&TEXT($D163278,\"0\")&TEXT($E163278,\"0000\")&TEXT($F163278,\"0000\")","v":"4480037031108940000"},4480037031,null,1,894,0,894,"답",4631,null,null,null,"충청남도홍성군결성면교항리438","임관영"]
[{"$f":"LEFT($B163436,10)&TEXT($D163436,\"0\")&TEXT($E163436,\"0000\")&TEXT($F163436,\"0000\")","v":"4480038022101440000"},4480038022,null,1,144,0,144,"전",2327,null,null,null,"충청남도보령시현충탑길65107동1104호(궁촌동에스케이뷰아파트)","박진여"]
[{"$f":"LEFT($B163623,10)&TEXT($D163623,\"0\")&TEXT($E163623,\"0000\")&TEXT($F163623,\"0000\")","v":"4480038023104750000"},4480038023,null,1,475,0,475,"전",757,null,null,null,459,"김준호"]
[{"$f":"LEFT($B163744,10)&TEXT($D163744,\"0\")&TEXT($E163744,\"0000\")&TEXT($F163744,\"0000\")","v":"4480038025100520002"},4480038025,null,1,52,2,"52-2","답",548,null,null,null,"충청남도천안시서북구쌍용17길52402동704호(쌍용동상로수현대아파트)","조은구"]
[{"$f":"LEFT($B163830,10)&TEXT($D163830,\"0\")&TEXT($E163830,\"0000\")&TEXT($F163830,\"0000\")","v":"4480038026108740000"},4480038026,null,1,874,0,874,"답",2480,null,null,null,"전라남도나주시그린로20(빛가람동)","한국농어촌공사"]
[{"$f":"LEFT($B163953,10)&TEXT($D163953,\"0\")&TEXT($E163953,\"0000\")&TEXT($F163953,\"0000\")","v":"4480038028103550003"},4480038028,null,1,355,3,"355-3","답",1985,null,null,null,"국(건설교통부)","국"]
[{"$f":"LEFT($B164074,10)&TEXT($D164074,\"0\")&TEXT($E164074,\"0000\")&TEXT($F164074,\"0000\")","v":"4480038030100440001"},4480038030,null,1,44,1,"44-1","답",588,null,null,null,"산87","김기찬"]
[{"$f":"LEFT($B164224,10)&TEXT($D164224,\"0\")&TEXT($E164224,\"0000\")&TEXT($F164224,\"0000\")","v":"4480038031104780012"},4480038031,null,1,478,12,"478-12","전",140,null,null,null,"홍성군","국"]
[{"$f":"LEFT($B164283,10)&TEXT($D164283,\"0\")&TEXT($E164283,\"0000\")&TEXT($F164283,\"0000\")","v":"4480038031109940007"},4480038031,null,1,994,7,"994-7","도",1090.9000000000001,null,null,null,"홍성군","국"]
[{"$f":"LEFT($B164404,10)&TEXT($D164404,\"0\")&TEXT($E164404,\"0000\")&TEXT($F164404,\"0000\")","v":"4480038033101370005"},4480038033,null,1,137,5,"137-5","도",218,null,null,null,"국(건설부)","국"]
[{"$f":"LEFT($B164499,10)&TEXT($D164499,\"0\")&TEXT($E164499,\"0000\")&TEXT($F164499,\"0000\")","v":"4480038034101490003"},4480038034,null,1,149,3,"149-3","답",1260,null,null,null,"충청남도홍성군갈산면운곡리32-2","이기문"]
[{"$f":"LEFT($B164629,10)&TEXT($D164629,\"0\")&TEXT($E164629,\"0000\")&TEXT($F164629,\"0000\")","v":"4480038035103190000"},4480038035,null,1,319,0,319,"전",2621,null,null,null,"충청남도홍성군갈산면백야로347번길38","오화순"]
[{"$f":"LEFT($B164807,10)&TEXT($D164807,\"0\")&TEXT($E164807,\"0000\")&TEXT($F164807,\"0000\")","v":"4480039021104050000"},4480039021,null,1,405,0,405,"대",321,null,null,null,"406-2","오기영"]
[{"$f":"LEFT($B164838,10)&TEXT($D164838,\"0\")&TEXT($E164838,\"0000\")&TEXT($F164838,\"0000\")","v":"4480039021200390000"},4480039021,null,2,39,0,39,"임",7736,null,null,null,"서울구로구오류동336동부아파트103-104","최용희"]
[{"$f":"LEFT($B164959,10)&TEXT($D164959,\"0\")&TEXT($E164959,\"0000\")&TEXT($F164959,\"0000\")","v":"4480039022106300004"},4480039022,null,1,630,4,"630-4","대",560,null,null,null,"630-4","변진섭"]
[{"$f":"LEFT($B165082,10)&TEXT($D165082,\"0\")&TEXT($E165082,\"0000\")&TEXT($F165082,\"0000\")","v":"4480039023103690002"},4480039023,null,1,369,2,"369-2","도",7,null,null,null,"국(건설부)","국"]
[{"$f":"LEFT($B165304,10)&TEXT($D165304,\"0\")&TEXT($E165304,\"0000\")&TEXT($F165304,\"0000\")","v":"4480039026103480002"},4480039026,null,1,348,2,"348-2","답",1388,null,null,null,"장양리102","이석준"]
[{"$f":"LEFT($B165409,10)&TEXT($D165409,\"0\")&TEXT($E165409,\"0000\")&TEXT($F165409,\"0000\")","v":"4480039027107380000"},4480039027,null,1,738,0,738,"천",2923.2,null,null,null,"홍성군","국"]
[{"$f":"LEFT($B165476,10)&TEXT($D165476,\"0\")&TEXT($E165476,\"0000\")&TEXT($F165476,\"0000\")","v":"4480034029102900000"},4480034029,null,1,290,0,290,"답",1320,null,null,null,"서울특별시강서구곰달래로96615호(화곡동유림노르웨이숲아파트)","최정숙"]
[{"$f":"LEFT($B165634,10)&TEXT($D165634,\"0\")&TEXT($E165634,\"0000\")&TEXT($F165634,\"0000\")","v":"4480039029200130000"},4480039029,null,2,13,0,13,"임",7834,null,null,null,"서울특별시관악구봉천동645-54","서용만"]
[{"$f":"LEFT($B165739,10)&TEXT($D165739,\"0\")&TEXT($E165739,\"0000\")&TEXT($F165739,\"0000\")","v":"4480039031101620007"},4480039031,null,1,162,7,"162-7","임",9360,null,null,null,"충청남도홍성군구항면충서로872번길47","장휘대"]
[{"$f":"LEFT($B165870,10)&TEXT($D165870,\"0\")&TEXT($E165870,\"0000\")&TEXT($F165870,\"0000\")","v":"4480039032100960001"},4480039032,null,1,96,1,"96-1","도",66,null,null,null,30,"김영로"]
[{"$f":"LEFT($B165964,10)&TEXT($D165964,\"0\")&TEXT($E165964,\"0000\")&TEXT($F165964,\"0000\")","v":"4480025030103070015"},4480025030,null,1,307,15,"307-15","도",34,null,null,null,"충청남도홍성군홍성읍문화로72번길92103동504호(주공그린빌)","오문영"]
[{"$f":"LEFT($B166069,10)&TEXT($D166069,\"0\")&TEXT($E166069,\"0000\")&TEXT($F166069,\"0000\")","v":"4480035024101160004"},4480035024,null,1,116,4,"116-4","대",519,null,null,null,116,"전도수"]
[{"$f":"LEFT($B166163,10)&TEXT($D166163,\"0\")&TEXT($E166163,\"0000\")&TEXT($F166163,\"0000\")","v":"4480025021102710001"},4480025021,null,1,271,1,"271-1","대",117,null,null,null,188,"서재홍"]
[{"$f":"LEFT($B166294,10)&TEXT($D166294,\"0\")&TEXT($E166294,\"0000\")&TEXT($F166294,\"0000\")","v":"4480025021105430027"},4480025021,null,1,543,27,"543-27","대",229,null,null,null,"충청남도홍성군홍성읍충절로1053번길86","이창현"]
[{"$f":"LEFT($B166453,10)&TEXT($D166453,\"0\")&TEXT($E166453,\"0000\")&TEXT($F166453,\"0000\")","v":"4480025022102420012"},4480025022,null,1,242,12,"242-12","전",1160,null,null,null,"오관리572-12성하하이츠이동301호","유병우"]
[{"$f":"LEFT($B166519,10)&TEXT($D166519,\"0\")&TEXT($E166519,\"0000\")&TEXT($F166519,\"0000\")","v":"4480025022104650000"},4480025022,null,1,465,0,465,"대",232.4,null,null,null,465,"이용우"]
[{"$f":"LEFT($B166624,10)&TEXT($D166624,\"0\")&TEXT($E166624,\"0000\")&TEXT($F166624,\"0000\")","v":"4480025023102910020"},4480025023,null,1,291,20,"291-20","전",1051,null,null,null,"충청남도홍성군홍성읍청기3길35","김옥순"]
[{"$f":"LEFT($B166847,10)&TEXT($D166847,\"0\")&TEXT($E166847,\"0000\")&TEXT($F166847,\"0000\")","v":"4480025024200710005"},4480025024,null,2,71,5,"71-5","임",22612,null,null,null,"국(산림청)","국"]
[{"$f":"LEFT($B166969,10)&TEXT($D166969,\"0\")&TEXT($E166969,\"0000\")&TEXT($F166969,\"0000\")","v":"4480025025105620003"},4480025025,null,1,562,3,"562-3","전",175,null,null,null,"충청남도홍성군홍성읍내포로293번길42","장광호"]
[{"$f":"LEFT($B167074,10)&TEXT($D167074,\"0\")&TEXT($E167074,\"0000\")&TEXT($F167074,\"0000\")","v":"4480025025201450005"},4480025025,null,2,145,5,"145-5","임",892,null,null,null,"오관리399","홍화식"]
[{"$f":"LEFT($B167140,10)&TEXT($D167140,\"0\")&TEXT($E167140,\"0000\")&TEXT($F167140,\"0000\")","v":"4480025026103590003"},4480025026,null,1,359,3,"359-3","도",33,null,null,null,"홍성군홍성읍남장리460-1","모종택"]
[{"$f":"LEFT($B167299,10)&TEXT($D167299,\"0\")&TEXT($E167299,\"0000\")&TEXT($F167299,\"0000\")","v":"4480025027104550000"},4480025027,null,1,455,0,455,"대",704,null,null,null,"서울시마포구성산동157-83층나-402","박순자"]
[{"$f":"LEFT($B167404,10)&TEXT($D167404,\"0\")&TEXT($E167404,\"0000\")&TEXT($F167404,\"0000\")","v":"4480025029100440001"},4480025029,null,1,44,1,"44-1","제",110,null,null,null,"국(건설교통부)","국"]
[{"$f":"LEFT($B167534,10)&TEXT($D167534,\"0\")&TEXT($E167534,\"0000\")&TEXT($F167534,\"0000\")","v":"4480025030102420001"},4480025030,null,1,242,1,"242-1","철",738,null,null,null,"국(국토교통부)","국"]
[{"$f":"LEFT($B167629,10)&TEXT($D167629,\"0\")&TEXT($E167629,\"0000\")&TEXT($F167629,\"0000\")","v":"4480025030105520078"},4480025030,null,1,552,78,"552-78","전",95,null,null,null,"홍성군홍성읍고암리552-78","박순예"]
[{"$f":"LEFT($B167723,10)&TEXT($D167723,\"0\")&TEXT($E167723,\"0000\")&TEXT($F167723,\"0000\")","v":"4480025030108430012"},4480025030,null,1,843,12,"843-12","도",137,null,null,null,"충청남도","국"]
[{"$f":"LEFT($B167854,10)&TEXT($D167854,\"0\")&TEXT($E167854,\"0000\")&TEXT($F167854,\"0000\")","v":"4480025031102850048"},4480025031,null,1,285,48,"285-48","전",795,null,null,null,"서울특별시영등포구영신로9다길7(도림동)","신정은"]
[{"$f":"LEFT($B167959,10)&TEXT($D167959,\"0\")&TEXT($E167959,\"0000\")&TEXT($F167959,\"0000\")","v":"4480025032102490003"},4480025032,null,1,249,3,"249-3","도",179,null,null,null,"홍성군","국"]
[{"$f":"LEFT($B168117,10)&TEXT($D168117,\"0\")&TEXT($E168117,\"0000\")&TEXT($F168117,\"0000\")","v":"4480025321103370117"},4480025321,null,1,337,117,"337-117","도",328,null,null,null,"국(건설교통부)","국"]
[{"$f":"LEFT($B168184,10)&TEXT($D168184,\"0\")&TEXT($E168184,\"0000\")&TEXT($F168184,\"0000\")","v":"4480025321104730003"},4480025321,null,1,473,3,"473-3","대",482]
[{"$f":"LEFT($B168409,10)&TEXT($D168409,\"0\")&TEXT($E168409,\"0000\")&TEXT($F168409,\"0000\")","v":"4480025322103530004"},4480025322,null,1,353,4,"353-4","전",509,null,null,null,365,"김갑손"]
[{"$f":"LEFT($B168511,10)&TEXT($D168511,\"0\")&TEXT($E168511,\"0000\")&TEXT($F168511,\"0000\")","v":"4480025323106580000"},4480025323,null,1,658,0,658,"답",2188,null,null,null,"경기도화성시기안동910신일해피트리아파트102-1104","권춘남"]
[{"$f":"LEFT($B168634,10)&TEXT($D168634,\"0\")&TEXT($E168634,\"0000\")&TEXT($F168634,\"0000\")","v":"4480025324106410000"},4480025324,null,1,641,0,641,"도",854,null,null,null,"국(농림수산부)","국"]
[{"$f":"LEFT($B168755,10)&TEXT($D168755,\"0\")&TEXT($E168755,\"0000\")&TEXT($F168755,\"0000\")","v":"4480025326103110001"},4480025326,null,1,311,1,"311-1","대",340,null,null,null,"311-1","최광윤"]
[{"$f":"LEFT($B168786,10)&TEXT($D168786,\"0\")&TEXT($E168786,\"0000\")&TEXT($F168786,\"0000\")","v":"4480025327100690001"},4480025327,null,1,69,1,"69-1","임",662,null,null,null,"충청남도홍성군광천읍매현리347-4","무주김씨도계시정창암공파종중"]
[{"$f":"LEFT($B168964,10)&TEXT($D168964,\"0\")&TEXT($E168964,\"0000\")&TEXT($F168964,\"0000\")","v":"4480025328201150012"},4480025328,null,2,115,12,"115-12","임",10368,null,null,null,"홍성군광천읍광천리194","장일천"]
[{"$f":"LEFT($B169094,10)&TEXT($D169094,\"0\")&TEXT($E169094,\"0000\")&TEXT($F169094,\"0000\")","v":"4480025330100910059"},4480025330,null,1,91,59,"91-59","전",1140,null,null,null,"국(기획재정부)","국"]
[{"$f":"LEFT($B169189,10)&TEXT($D169189,\"0\")&TEXT($E169189,\"0000\")&TEXT($F169189,\"0000\")","v":"4480025330106310000"},4480025330,null,1,631,0,631,"묘",3815,null,null,null,"안산시초지동731호수마을아파트112-401","함명규"]
[{"$f":"LEFT($B169294,10)&TEXT($D169294,\"0\")&TEXT($E169294,\"0000\")&TEXT($F169294,\"0000\")","v":"4480025331106890000"},4480025331,null,1,689,0,689,"답",1995,null,null,null,"경기도안양시만안구석수동791-2명지빌라302","김재복"]
[{"$f":"LEFT($B169488,10)&TEXT($D169488,\"0\")&TEXT($E169488,\"0000\")&TEXT($F169488,\"0000\")","v":"4480025333107600001"},4480025333,null,1,760,1,"760-1","도",2482,null,null,null,"국(농수산부)","국"]
[{"$f":"LEFT($B169519,10)&TEXT($D169519,\"0\")&TEXT($E169519,\"0000\")&TEXT($F169519,\"0000\")","v":"4480025333200340003"},4480025333,null,2,34,3,"34-3","도",677,null,null,null,"홍성군","국"]
[{"$f":"LEFT($B169640,10)&TEXT($D169640,\"0\")&TEXT($E169640,\"0000\")&TEXT($F169640,\"0000\")","v":"4480025621106800002"},4480025621,null,1,680,2,"680-2","답",2599.8000000000002,null,null,null,"733-3","유광옥"]
[{"$f":"LEFT($B169763,10)&TEXT($D169763,\"0\")&TEXT($E169763,\"0000\")&TEXT($F169763,\"0000\")","v":"4480025622103870002"},4480025622,null,1,387,2,"387-2","도",69,null,null,null,"홍성군","국"]
[{"$f":"LEFT($B169969,10)&TEXT($D169969,\"0\")&TEXT($E169969,\"0000\")&TEXT($F169969,\"0000\")","v":"4480025624100640006"},4480025624,null,1,64,6,"64-6","답",3296,null,null,null,"충청남도홍성군결성면성남길278","김혜환"]
[{"$f":"LEFT($B170090,10)&TEXT($D170090,\"0\")&TEXT($E170090,\"0000\")&TEXT($F170090,\"0000\")","v":"4480025624106320002"},4480025624,null,1,632,2,"632-2","답",1512,null,null,null,"시흥시정왕동1420-3302","양승진"]
[{"$f":"LEFT($B170157,10)&TEXT($D170157,\"0\")&TEXT($E170157,\"0000\")&TEXT($F170157,\"0000\")","v":"4480025624200010088"},4480025624,null,2,1,88,"1-88","구",128,null,null,null,"경기도의왕시포일동487","한국농어촌공사"]
[{"$f":"LEFT($B170315,10)&TEXT($D170315,\"0\")&TEXT($E170315,\"0000\")&TEXT($F170315,\"0000\")","v":"4480025626101700023"},4480025626,null,1,170,23,"170-23","대",995,null,null,null,"경기도의정부시범골로30번길15501동301호(호원동호원가든5차아파트)","이준식"]
[{"$f":"LEFT($B170420,10)&TEXT($D170420,\"0\")&TEXT($E170420,\"0000\")&TEXT($F170420,\"0000\")","v":"4480025627102400001"},4480025627,null,1,240,1,"240-1","답",2760,null,null,null,"충청남도보령시천변남길2723동301호(동대동국민주택)","남상온"]
[{"$f":"LEFT($B170551,10)&TEXT($D170551,\"0\")&TEXT($E170551,\"0000\")&TEXT($F170551,\"0000\")","v":"4480025628101760000"},4480025628,null,1,176,0,176,"제",1013,null,null,null,"국(건설부)","국"]
[{"$f":"LEFT($B170645,10)&TEXT($D170645,\"0\")&TEXT($E170645,\"0000\")&TEXT($F170645,\"0000\")","v":"4480025629102160002"},4480025629,null,1,216,2,"216-2","구",612,null,null,null,"경기도의왕시포일동487","한국농어촌공사"]
[{"$f":"LEFT($B170740,10)&TEXT($D170740,\"0\")&TEXT($E170740,\"0000\")&TEXT($F170740,\"0000\")","v":"4480025630102840003"},4480025630,null,1,284,3,"284-3","답",2429,null,null,null,"324-1","김종성"]
[{"$f":"LEFT($B170854,10)&TEXT($D170854,\"0\")&TEXT($E170854,\"0000\")&TEXT($F170854,\"0000\")","v":"4480025631102360001"},4480025631,null,1,236,1,"236-1","전",29,null,null,null,237,"강사봉"]
[{"$f":"LEFT($B170975,10)&TEXT($D170975,\"0\")&TEXT($E170975,\"0000\")&TEXT($F170975,\"0000\")","v":"4480025633100370003"},4480025633,null,1,37,3,"37-3","도",13,null,null,null,"국(건설부)","국"]
[{"$f":"LEFT($B171134,10)&TEXT($D171134,\"0\")&TEXT($E171134,\"0000\")&TEXT($F171134,\"0000\")","v":"4480032021100140006"},4480032021,null,1,14,6,"14-6","전",175,null,null,null,"전라남도해남군현산면탑동리길91-32","이진영"]
[{"$f":"LEFT($B171200,10)&TEXT($D171200,\"0\")&TEXT($E171200,\"0000\")&TEXT($F171200,\"0000\")","v":"4480032021108680005"},4480032021,null,1,868,5,"868-5","답",2072.3000000000002,null,null,null,370,"오수련"]
[{"$f":"LEFT($B171305,10)&TEXT($D171305,\"0\")&TEXT($E171305,\"0000\")&TEXT($F171305,\"0000\")","v":"4480032022106860006"},4480032022,null,1,686,6,"686-6","답",3015,null,null,null,"768-2","정규환"]
[{"$f":"LEFT($B171409,10)&TEXT($D171409,\"0\")&TEXT($E171409,\"0000\")&TEXT($F171409,\"0000\")","v":"4480032023106260000"},4480032023,null,1,626,0,626,"답",3447,null,null,null,"충청남도홍성군금마면인산리129","조점자"]
[{"$f":"LEFT($B171530,10)&TEXT($D171530,\"0\")&TEXT($E171530,\"0000\")&TEXT($F171530,\"0000\")","v":"4480032025102350001"},4480032025,null,1,235,1,"235-1","전",1716,null,null,null,"서울관악구신림동1640-29","최명묵"]
[{"$f":"LEFT($B171755,10)&TEXT($D171755,\"0\")&TEXT($E171755,\"0000\")&TEXT($F171755,\"0000\")","v":"4480032027103340000"},4480032027,null,1,334,0,334,"전",2287,null,null,null,"충청남도홍성군금마면홍양길461-28","이규자"]
[{"$f":"LEFT($B171821,10)&TEXT($D171821,\"0\")&TEXT($E171821,\"0000\")&TEXT($F171821,\"0000\")","v":"4480032028104170002"},4480032028,null,1,417,2,"417-2","답",1386,null,null,null,"인천광역시서구장고개로309번길247동802호(가좌동진주아파트)","안영애"]
[{"$f":"LEFT($B171980,10)&TEXT($D171980,\"0\")&TEXT($E171980,\"0000\")&TEXT($F171980,\"0000\")","v":"4480032029104100016"},4480032029,null,1,410,16,"410-16","답",2050,null,null,null,"서울특별시구로구공원로7길112003호(구로동종인아네스트)","서대원"]
[{"$f":"LEFT($B172111,10)&TEXT($D172111,\"0\")&TEXT($E172111,\"0000\")&TEXT($F172111,\"0000\")","v":"4480032030104290003"},4480032030,null,1,429,3,"429-3","천",1047,null,null,null,"국(건설부)","국"]
[{"$f":"LEFT($B172205,10)&TEXT($D172205,\"0\")&TEXT($E172205,\"0000\")&TEXT($F172205,\"0000\")","v":"4480032031104470001"},4480032031,null,1,447,1,"447-1","도",1108,null,null,null,"국(건설부)","국"]
[{"$f":"LEFT($B172310,10)&TEXT($D172310,\"0\")&TEXT($E172310,\"0000\")&TEXT($F172310,\"0000\")","v":"4480032032102240000"},4480032032,null,1,224,0,224,"전",962,null,null,null,"경기도수원시영통구봉영로1744번길11223동901호(영통동황골마을벽산아파트)","전필정"]
[{"$f":"LEFT($B172386,10)&TEXT($D172386,\"0\")&TEXT($E172386,\"0000\")&TEXT($F172386,\"0000\")","v":"4480032032107900013"},4480032032,null,1,790,13,"790-13","구",466,null,null,null,"국(농수산부)","국"]
[{"$f":"LEFT($B172535,10)&TEXT($D172535,\"0\")&TEXT($E172535,\"0000\")&TEXT($F172535,\"0000\")","v":"4480033021107830001"},4480033021,null,1,783,1,"783-1","임",395,null,null,null,"충청남도홍성군홍동면운월리596","주항노"]
[{"$f":"LEFT($B172640,10)&TEXT($D172640,\"0\")&TEXT($E172640,\"0000\")&TEXT($F172640,\"0000\")","v":"4480033023100880003"},4480033023,null,1,88,3,"88-3","대",181,null,null,null,"경기도안양시만안구석천로168(석수동)","김명재"]
[{"$f":"LEFT($B172798,10)&TEXT($D172798,\"0\")&TEXT($E172798,\"0000\")&TEXT($F172798,\"0000\")","v":"4480033024109900000"},4480033024,null,1,990,0,990,"도",605,null,null,null,"국(건설부)","국"]
[{"$f":"LEFT($B172865,10)&TEXT($D172865,\"0\")&TEXT($E172865,\"0000\")&TEXT($F172865,\"0000\")","v":"4480033025100490004"},4480033025,null,1,49,4,"49-4","전",250,null,null,null,"충청남도","국"]
[{"$f":"LEFT($B172970,10)&TEXT($D172970,\"0\")&TEXT($E172970,\"0000\")&TEXT($F172970,\"0000\")","v":"4480033026105000002"},4480033026,null,1,500,2,"500-2","도",66,null,null,null,"홍성군","국"]
[{"$f":"LEFT($B173192,10)&TEXT($D173192,\"0\")&TEXT($E173192,\"0000\")&TEXT($F173192,\"0000\")","v":"4480033028107720003"},4480033028,null,1,772,3,"772-3","답",2955.2,null,null,null,203,"최범노"]
[{"$f":"LEFT($B173315,10)&TEXT($D173315,\"0\")&TEXT($E173315,\"0000\")&TEXT($F173315,\"0000\")","v":"4480033029108150007"},4480033029,null,1,815,7,"815-7","과",571,null,null,null,"국(국토해양부)","국"]
[{"$f":"LEFT($B173363,10)&TEXT($D173363,\"0\")&TEXT($E173363,\"0000\")&TEXT($F173363,\"0000\")","v":"4480033029201820000"},4480033029,null,2,182,0,182,"도",2414,null,null,null,"국(건설부)","국"]
[{"$f":"LEFT($B173540,10)&TEXT($D173540,\"0\")&TEXT($E173540,\"0000\")&TEXT($F173540,\"0000\")","v":"4480033031108890000"},4480033031,null,1,889,0,889,"도",2663,null,null,null,"국(건설부)","국"]
[{"$f":"LEFT($B173645,10)&TEXT($D173645,\"0\")&TEXT($E173645,\"0000\")&TEXT($F173645,\"0000\")","v":"4480033032105130004"},4480033032,null,1,513,4,"513-4","답",2162,null,null,null,"충청남도홍성군홍성읍문화로33번길11108동1101호(홍성옥암하늘채아파트)","조중현"]
[{"$f":"LEFT($B173775,10)&TEXT($D173775,\"0\")&TEXT($E173775,\"0000\")&TEXT($F173775,\"0000\")","v":"4480033034103560002"},4480033034,null,1,356,2,"356-2","전",1613,null,null,null,"홍성읍대교리344-2샛별주택2차가동402호","조성대"]
[{"$f":"LEFT($B173870,10)&TEXT($D173870,\"0\")&TEXT($E173870,\"0000\")&TEXT($F173870,\"0000\")","v":"4480034021102830000"},4480034021,null,1,283,0,283,"대",660,null,null,null,"충청남도홍성군장곡면홍남동로473번길74-20","강준식"]
[{"$f":"LEFT($B173975,10)&TEXT($D173975,\"0\")&TEXT($E173975,\"0000\")&TEXT($F173975,\"0000\")","v":"4480034022103890000"},4480034022,null,1,389,0,389,"전",803,null,null,null,428,"김귀림"]
[{"$f":"LEFT($B174050,10)&TEXT($D174050,\"0\")&TEXT($E174050,\"0000\")&TEXT($F174050,\"0000\")","v":"4480034023102120001"},4480034023,null,1,212,1,"212-1","도",96,null,null,null,"홍성군광천읍광천리182-20","최을예"]
[{"$f":"LEFT($B174200,10)&TEXT($D174200,\"0\")&TEXT($E174200,\"0000\")&TEXT($F174200,\"0000\")","v":"4480034025100940000"},4480034025,null,1,94,0,94,"전",1428,null,null,null,"광천면담산리815","김운학"]
[{"$f":"LEFT($B174321,10)&TEXT($D174321,\"0\")&TEXT($E174321,\"0000\")&TEXT($F174321,\"0000\")","v":"4480034027100740006"},4480034027,null,1,74,6,"74-6","목",4764,null,null,null,290,"이천행"]
[{"$f":"LEFT($B174444,10)&TEXT($D174444,\"0\")&TEXT($E174444,\"0000\")&TEXT($F174444,\"0000\")","v":"4480034029100540002"},4480034029,null,1,54,2,"54-2","대",169,null,null,null,"지정리85","김혁재"]
[{"$f":"LEFT($B174530,10)&TEXT($D174530,\"0\")&TEXT($E174530,\"0000\")&TEXT($F174530,\"0000\")","v":"4480034029200780003"},4480034029,null,2,78,3,"78-3","임",3862,null,null,null,656,"조병기"]
[{"$f":"LEFT($B174752,10)&TEXT($D174752,\"0\")&TEXT($E174752,\"0000\")&TEXT($F174752,\"0000\")","v":"4480034032100480005"},4480034032,null,1,48,5,"48-5","도",301,null,null,null,"충청남도","국"]
[{"$f":"LEFT($B174875,10)&TEXT($D174875,\"0\")&TEXT($E174875,\"0000\")&TEXT($F174875,\"0000\")","v":"4480034033100160002"},4480034033,null,1,16,2,"16-2","답",756,null,null,null,"인천광역시남동구구월동1105-26","이경진"]
[{"$f":"LEFT($B174980,10)&TEXT($D174980,\"0\")&TEXT($E174980,\"0000\")&TEXT($F174980,\"0000\")","v":"4480034034101480001"},4480034034,null,1,148,1,"148-1","전",628,null,null,null,"청양군비봉면방한리","이제형"]
[{"$f":"LEFT($B175027,10)&TEXT($D175027,\"0\")&TEXT($E175027,\"0000\")&TEXT($F175027,\"0000\")","v":"4480034034105310000"},4480034034,null,1,531,0,531,"구",128.9,null,null,null,"국(농림부)","국"]
[{"$f":"LEFT($B175205,10)&TEXT($D175205,\"0\")&TEXT($E175205,\"0000\")&TEXT($F175205,\"0000\")","v":"4480034036106980001"},4480034036,null,1,698,1,"698-1","대",1355,null,null,null,"698-1","박병구"]
[{"$f":"LEFT($B175326,10)&TEXT($D175326,\"0\")&TEXT($E175326,\"0000\")&TEXT($F175326,\"0000\")","v":"4480035022101000000"},4480035022,null,1,100,0,100,"답",1947,null,null,null,"충청남도홍성군은하면은하로346번길42-6","김동례"]
[{"$f":"LEFT($B175421,10)&TEXT($D175421,\"0\")&TEXT($E175421,\"0000\")&TEXT($F175421,\"0000\")","v":"4480035023104910004"},4480035023,null,1,491,4,"491-4","도",34,null,null,null,"홍성군","국"]
[{"$f":"LEFT($B175535,10)&TEXT($D175535,\"0\")&TEXT($E175535,\"0000\")&TEXT($F175535,\"0000\")","v":"4480035024104040000"},4480035024,null,1,404,0,404,"답",2936,null,null,null,"충청남도홍성군은하면대율리422-2","김영자"]
[{"$f":"LEFT($B175656,10)&TEXT($D175656,\"0\")&TEXT($E175656,\"0000\")&TEXT($F175656,\"0000\")","v":"4480035025201200000"},4480035025,null,2,120,0,120,"임",7736,null,null,null,"홍성읍소향리15-2","방윤석"]
[{"$f":"LEFT($B175815,10)&TEXT($D175815,\"0\")&TEXT($E175815,\"0000\")&TEXT($F175815,\"0000\")","v":"4480035027102120005"},4480035027,null,1,212,5,"212-5","구",484,null,null,null,"홍성군","국"]
[{"$f":"LEFT($B175865,10)&TEXT($D175865,\"0\")&TEXT($E175865,\"0000\")&TEXT($F175865,\"0000\")","v":"4480035028100290000"},4480035028,null,1,29,0,29,"전",3372,null,null,null,"충청남도홍성군은하면대판리375","안명호"]
[{"$f":"LEFT($B175986,10)&TEXT($D175986,\"0\")&TEXT($E175986,\"0000\")&TEXT($F175986,\"0000\")","v":"4480035030100440006"},4480035030,null,1,44,6,"44-6","도",38,null,null,null,"홍성군","국"]
[{"$f":"LEFT($B176090,10)&TEXT($D176090,\"0\")&TEXT($E176090,\"0000\")&TEXT($F176090,\"0000\")","v":"4480035030200260008"},4480035030,null,2,26,8,"26-8","도",1099,null,null,null,"충청남도","국"]
[{"$f":"LEFT($B176211,10)&TEXT($D176211,\"0\")&TEXT($E176211,\"0000\")&TEXT($F176211,\"0000\")","v":"4480035031109830000"},4480035031,null,1,983,0,983,"전",625,null,null,null,"충청남도보령시천북면숙굴길237-4","배선인"]
[{"$f":"LEFT($B176398,10)&TEXT($D176398,\"0\")&TEXT($E176398,\"0000\")&TEXT($F176398,\"0000\")","v":"4480036022106050000"},4480036022,null,1,605,0,605,"전",1369,null,null,null,"부천시원미구원미동182-19","강숙"]
[{"$f":"LEFT($B176540,10)&TEXT($D176540,\"0\")&TEXT($E176540,\"0000\")&TEXT($F176540,\"0000\")","v":"4480036023110260000"},4480036023,null,1,1026,0,1026,"전",648,null,null,null,"경기도파주시조리읍닻고개길61-12","최견수"]
[{"$f":"LEFT($B176661,10)&TEXT($D176661,\"0\")&TEXT($E176661,\"0000\")&TEXT($F176661,\"0000\")","v":"4480036024106410000"},4480036024,null,1,641,0,641,"전",2138,null,null,null,"금곡리468","이옥준"]
[{"$f":"LEFT($B176673,10)&TEXT($D176673,\"0\")&TEXT($E176673,\"0000\")&TEXT($F176673,\"0000\")","v":"4480036024107150000"},4480036024,null,1,715,0,715,"대",436,null,null,null,"충청남도홍성군결성면금곡리775","최광돈"]
[{"$f":"LEFT($B176886,10)&TEXT($D176886,\"0\")&TEXT($E176886,\"0000\")&TEXT($F176886,\"0000\")","v":"4480036026106150003"},4480036026,null,1,615,3,"615-3","전",1679,null,null,null,"읍내리440","김성배"]
[{"$f":"LEFT($B176991,10)&TEXT($D176991,\"0\")&TEXT($E176991,\"0000\")&TEXT($F176991,\"0000\")","v":"4480036027108240002"},4480036027,null,1,824,2,"824-2","답",2757,null,null,null,"와리376","김석진"]
[{"$f":"LEFT($B177067,10)&TEXT($D177067,\"0\")&TEXT($E177067,\"0000\")&TEXT($F177067,\"0000\")","v":"4480036028102250001"},4480036028,null,1,225,1,"225-1","전",1274,null,null,null,405,"김종호"]
[{"$f":"LEFT($B177216,10)&TEXT($D177216,\"0\")&TEXT($E177216,\"0000\")&TEXT($F177216,\"0000\")","v":"4480036029105960002"},4480036029,null,1,596,2,"596-2","답",945,null,null,null,"남산리227-2","조인기"]
[{"$f":"LEFT($B177321,10)&TEXT($D177321,\"0\")&TEXT($E177321,\"0000\")&TEXT($F177321,\"0000\")","v":"4480037021103240002"},4480037021,null,1,324,2,"324-2","대",1111,null,null,null,280,"광산김씨이호공종중"]
[{"$f":"LEFT($B177461,10)&TEXT($D177461,\"0\")&TEXT($E177461,\"0000\")&TEXT($F177461,\"0000\")","v":"4480037022104610003"},4480037022,null,1,461,3,"461-3","답",56,null,null,null,"충청남도홍성군서부면광리451-2","전흥점"]
[{"$f":"LEFT($B177546,10)&TEXT($D177546,\"0\")&TEXT($E177546,\"0000\")&TEXT($F177546,\"0000\")","v":"4480037023102290003"},4480037023,null,1,229,3,"229-3","도",512,null,null,null,"홍성군","국"]
[{"$f":"LEFT($B177650,10)&TEXT($D177650,\"0\")&TEXT($E177650,\"0000\")&TEXT($F177650,\"0000\")","v":"4480037023108460000"},4480037023,null,1,846,0,846,"답",14499.4,null,null,null,"충청남도홍성군서부면궁리580","최용선"]
[{"$f":"LEFT($B177771,10)&TEXT($D177771,\"0\")&TEXT($E177771,\"0000\")&TEXT($F177771,\"0000\")","v":"4480037025100420000"},4480037025,null,1,42,0,42,"답",4214,null,null,null,251,"민경현"]
[{"$f":"LEFT($B177876,10)&TEXT($D177876,\"0\")&TEXT($E177876,\"0000\")&TEXT($F177876,\"0000\")","v":"4480037026102170006"},4480037026,null,1,217,6,"217-6","답",1453,null,null,null,"충청남도홍성군서부면서부로43번길64","김경순"]
[{"$f":"LEFT($B178044,10)&TEXT($D178044,\"0\")&TEXT($E178044,\"0000\")&TEXT($F178044,\"0000\")","v":"4480037027103320008"},4480037027,null,1,332,8,"332-8","답",2116,null,null,null,298,"박정옥"]
[{"$f":"LEFT($B178221,10)&TEXT($D178221,\"0\")&TEXT($E178221,\"0000\")&TEXT($F178221,\"0000\")","v":"4480037028200340001"},4480037028,null,2,34,1,"34-1","임",184562,null,null,null,198,"청주한씨문순공파문중"]
[{"$f":"LEFT($B178326,10)&TEXT($D178326,\"0\")&TEXT($E178326,\"0000\")&TEXT($F178326,\"0000\")","v":"4480037030105390003"},4480037030,null,1,539,3,"539-3","도",446,null,null,null,"충청남도","국"]
[{"$f":"LEFT($B178456,10)&TEXT($D178456,\"0\")&TEXT($E178456,\"0000\")&TEXT($F178456,\"0000\")","v":"4480037031104300001"},4480037031,null,1,430,1,"430-1","전",694,null,null,null,429,"장재한"]
[{"$f":"LEFT($B178551,10)&TEXT($D178551,\"0\")&TEXT($E178551,\"0000\")&TEXT($F178551,\"0000\")","v":"4480038021101820001"},4480038021,null,1,182,1,"182-1","도",50,null,null,null,"국(건설부)","국"]
[{"$f":"LEFT($B178656,10)&TEXT($D178656,\"0\")&TEXT($E178656,\"0000\")&TEXT($F178656,\"0000\")","v":"4480038022103070001"},4480038022,null,1,307,1,"307-1","도",40,null,null,null,"홍성군갈산면내갈리236","이상천"]
[{"$f":"LEFT($B178731,10)&TEXT($D178731,\"0\")&TEXT($E178731,\"0000\")&TEXT($F178731,\"0000\")","v":"4480038023101140039"},4480038023,null,1,114,39,"114-39","도",50,null,null,null,"2019-06-01","유진규"]
[{"$f":"LEFT($B178881,10)&TEXT($D178881,\"0\")&TEXT($E178881,\"0000\")&TEXT($F178881,\"0000\")","v":"4480038024104280002"},4480038024,null,1,428,2,"428-2","전",28,null,null,null,330,"이구인"]
[{"$f":"LEFT($B179021,10)&TEXT($D179021,\"0\")&TEXT($E179021,\"0000\")&TEXT($F179021,\"0000\")","v":"4480038027101190015"},4480038027,null,1,119,15,"119-15","임",974,null,null,null,"충청남도홍성군갈산면쌍천리119-12","최기훈"]
[{"$f":"LEFT($B179106,10)&TEXT($D179106,\"0\")&TEXT($E179106,\"0000\")&TEXT($F179106,\"0000\")","v":"4480038029100120004"},4480038029,null,1,12,4,"12-4","도",169,null,null,null,"홍성군","국"]
[{"$f":"LEFT($B179211,10)&TEXT($D179211,\"0\")&TEXT($E179211,\"0000\")&TEXT($F179211,\"0000\")","v":"4480038030101420000"},4480038030,null,1,142,0,142,"전",445,null,null,null,"171-2","정미화"]
[{"$f":"LEFT($B179314,10)&TEXT($D179314,\"0\")&TEXT($E179314,\"0000\")&TEXT($F179314,\"0000\")","v":"4480038031101830000"},4480038031,null,1,183,0,183,"전",1124,null,null,null,"서산군운산면상성리223","유세종"]
[{"$f":"LEFT($B179436,10)&TEXT($D179436,\"0\")&TEXT($E179436,\"0000\")&TEXT($F179436,\"0000\")","v":"4480038032101370006"},4480038032,null,1,137,6,"137-6","도",248,null,null,null,"95-1","이갑수"]
[{"$f":"LEFT($B179661,10)&TEXT($D179661,\"0\")&TEXT($E179661,\"0000\")&TEXT($F179661,\"0000\")","v":"4480038034104230000"},4480038034,null,1,423,0,423,"답",19,null,null,null,"홍성군갈산면운곡리435","유윤진"]
[{"$f":"LEFT($B179708,10)&TEXT($D179708,\"0\")&TEXT($E179708,\"0000\")&TEXT($F179708,\"0000\")","v":"4480038034107350000"},4480038034,null,1,735,0,735,"구",623,null,null,null,"국(농림수산부)","국"]
[{"$f":"LEFT($B179886,10)&TEXT($D179886,\"0\")&TEXT($E179886,\"0000\")&TEXT($F179886,\"0000\")","v":"4480038036104680003"},4480038036,null,1,468,3,"468-3","대",239,null,null,null,"충청남도홍성군갈산면내포로1390번길27-38","이미순"]
[{"$f":"LEFT($B179991,10)&TEXT($D179991,\"0\")&TEXT($E179991,\"0000\")&TEXT($F179991,\"0000\")","v":"4480039021200540003"},4480039021,null,2,54,3,"54-3","도",992,null,null,null,"국(건설부)","국"]
[{"$f":"LEFT($B180102,10)&TEXT($D180102,\"0\")&TEXT($E180102,\"0000\")&TEXT($F180102,\"0000\")","v":"4480039022106380002"},4480039022,null,1,638,2,"638-2","답",2195,null,null,null,"천안시원성동228-22금호빌라101호","이영애"]
[{"$f":"LEFT($B180216,10)&TEXT($D180216,\"0\")&TEXT($E180216,\"0000\")&TEXT($F180216,\"0000\")","v":"4480039023103940000"},4480039023,null,1,394,0,394,"답",925,null,null,null,"홍성군구항면공리130","김종군"]
[{"$f":"LEFT($B180337,10)&TEXT($D180337,\"0\")&TEXT($E180337,\"0000\")&TEXT($F180337,\"0000\")","v":"4480039025104740000"},4480039025,null,1,474,0,474,"전",1321,null,null,null,"충청남도홍성군홍성읍월산로30번길39102동709호(부영아파트)","박주학"]
[{"$f":"LEFT($B180496,10)&TEXT($D180496,\"0\")&TEXT($E180496,\"0000\")&TEXT($F180496,\"0000\")","v":"4480039027103350003"},4480039027,null,1,335,3,"335-3","도",16,null,null,null,"홍성군","국"]
[{"$f":"LEFT($B180546,10)&TEXT($D180546,\"0\")&TEXT($E180546,\"0000\")&TEXT($F180546,\"0000\")","v":"4480039027201600000"},4480039027,null,2,160,0,160,"임",3745,null,null,null,"서울시성동구자양동232-31","조병춘"]
[{"$f":"LEFT($B180685,10)&TEXT($D180685,\"0\")&TEXT($E180685,\"0000\")&TEXT($F180685,\"0000\")","v":"4480034029112530000"},4480034029,null,1,1253,0,1253,"구",2305.4,null,null,null,"국(농림부)","국"]
[{"$f":"LEFT($B180771,10)&TEXT($D180771,\"0\")&TEXT($E180771,\"0000\")&TEXT($F180771,\"0000\")","v":"4480032030103080010"},4480032030,null,1,308,10,"308-10","대",257,null,null,null,"308-10","주명노"]
[{"$f":"LEFT($B180892,10)&TEXT($D180892,\"0\")&TEXT($E180892,\"0000\")&TEXT($F180892,\"0000\")","v":"4480039031103960002"},4480039031,null,1,396,2,"396-2","도",99,null,null,null,"광천읍신진리411-29","최순자"]
[{"$f":"LEFT($B181079,10)&TEXT($D181079,\"0\")&TEXT($E181079,\"0000\")&TEXT($F181079,\"0000\")","v":"4480037030110430020"},4480037030,null,1,1043,20,"1043-20","답",106.5,null,null,null,142,"임우영"]
[{"$f":"LEFT($B181101,10)&TEXT($D181101,\"0\")&TEXT($E181101,\"0000\")&TEXT($F181101,\"0000\")","v":"4480025022100140001"},4480025022,null,1,14,1,"14-1","장",21,null,null,null,"홍성군","국"]
[{"$f":"LEFT($B181222,10)&TEXT($D181222,\"0\")&TEXT($E181222,\"0000\")&TEXT($F181222,\"0000\")","v":"4480025021100800005"},4480025021,null,1,80,5,"80-5","대",155,null,null,null,"오관리80-5","대한예수교장로회홍성중앙교회(합동측)"]
[{"$f":"LEFT($B181354,10)&TEXT($D181354,\"0\")&TEXT($E181354,\"0000\")&TEXT($F181354,\"0000\")","v":"4480025021104640032"},4480025021,null,1,464,32,"464-32","답",499,null,null,null,"충청남도홍성군홍성읍월계천길165-253동302호(한진에버빌)","이미용"]
[{"$f":"LEFT($B181551,10)&TEXT($D181551,\"0\")&TEXT($E181551,\"0000\")&TEXT($F181551,\"0000\")","v":"4480025022101750001"},4480025022,null,1,175,1,"175-1","전",1408,null,null,null,"서울특별시금천구벚꽃로73106동1405호(독산동금천현대아파트)","김윤환"]
[{"$f":"LEFT($B181672,10)&TEXT($D181672,\"0\")&TEXT($E181672,\"0000\")&TEXT($F181672,\"0000\")","v":"4480025023101130000"},4480025023,null,1,113,0,113,"종",2112,null,null,null,"서울강남구대치동890-56","재단법인대한성결교회유지재단"]
[{"$f":"LEFT($B181748,10)&TEXT($D181748,\"0\")&TEXT($E181748,\"0000\")&TEXT($F181748,\"0000\")","v":"4480025023103370001"},4480025023,null,1,337,1,"337-1","답",1706,null,null,null,"경기도시흥시정왕동1867-1옥구마을건영아파트101-802","김금복"]
[{"$f":"LEFT($B181897,10)&TEXT($D181897,\"0\")&TEXT($E181897,\"0000\")&TEXT($F181897,\"0000\")","v":"4480025024106870000"},4480025024,null,1,687,0,687,"답",2159,null,null,null,715,"장환섭"]
[{"$f":"LEFT($B181937,10)&TEXT($D181937,\"0\")&TEXT($E181937,\"0000\")&TEXT($F181937,\"0000\")","v":"4480025024108780000"},4480025024,null,1,878,0,878,"도",4583.3999999999996,null,null,null,"홍성군","국"]
[{"$f":"LEFT($B182106,10)&TEXT($D182106,\"0\")&TEXT($E182106,\"0000\")&TEXT($F182106,\"0000\")","v":"4480025025108500000"},4480025025,null,1,850,0,850,"전",998,null,null,null,"충청남도아산시신창면남성길198102동403호(다소미아파트)","이규창"]
[{"$f":"LEFT($B182227,10)&TEXT($D182227,\"0\")&TEXT($E182227,\"0000\")&TEXT($F182227,\"0000\")","v":"4480025026102330000"},4480025026,null,1,233,0,233,"전",817,null,null,null,"홍성군홍성읍옥암리1105홍성옥암하늘채아파트101-1202","임홍빈"]
[{"$f":"LEFT($B182331,10)&TEXT($D182331,\"0\")&TEXT($E182331,\"0000\")&TEXT($F182331,\"0000\")","v":"4480025027102140003"},4480025027,null,1,214,3,"214-3","전",1300,null,null,null,"경기도광명시광명동158-751한신빌라-301","김용석"]
[{"$f":"LEFT($B182452,10)&TEXT($D182452,\"0\")&TEXT($E182452,\"0000\")&TEXT($F182452,\"0000\")","v":"4480025028103180001"},4480025028,null,1,318,1,"318-1","목",840,null,null,null,212,"김재원"]
[{"$f":"LEFT($B182557,10)&TEXT($D182557,\"0\")&TEXT($E182557,\"0000\")&TEXT($F182557,\"0000\")","v":"4480025030100410006"},4480025030,null,1,41,6,"41-6","답",36,null,null,null,"국(기획재정부)","국"]
[{"$f":"LEFT($B182725,10)&TEXT($D182725,\"0\")&TEXT($E182725,\"0000\")&TEXT($F182725,\"0000\")","v":"4480025030106510006"},4480025030,null,1,651,6,"651-6","대",4,null,null,null,"홍성군","국"]
[{"$f":"LEFT($B182782,10)&TEXT($D182782,\"0\")&TEXT($E182782,\"0000\")&TEXT($F182782,\"0000\")","v":"4480025030108510000"},4480025030,null,1,851,0,851,"답",1554,null,null,null,"충청남도홍성군홍성읍홍장북로244","유홍채"]
[{"$f":"LEFT($B183007,10)&TEXT($D183007,\"0\")&TEXT($E183007,\"0000\")&TEXT($F183007,\"0000\")","v":"4480025031200470001"},4480025031,null,2,47,1,"47-1","임",1785,null,null,null,"대교리306","김기정"]
[{"$f":"LEFT($B183119,10)&TEXT($D183119,\"0\")&TEXT($E183119,\"0000\")&TEXT($F183119,\"0000\")","v":"4480025032106430000"},4480025032,null,1,643,0,643,"답",1467,null,null,null,"고암리530-5","김행환"]
[{"$f":"LEFT($B183232,10)&TEXT($D183232,\"0\")&TEXT($E183232,\"0000\")&TEXT($F183232,\"0000\")","v":"4480025321103800017"},4480025321,null,1,380,17,"380-17","대",328,null,null,null,380,"고광우"]
[{"$f":"LEFT($B183308,10)&TEXT($D183308,\"0\")&TEXT($E183308,\"0000\")&TEXT($F183308,\"0000\")","v":"4480025321105130008"},4480025321,null,1,513,8,"513-8","대",100,null,null,null,"충청남도홍성군광천읍홍남로684-3","광천농업협동조합"]
[{"$f":"LEFT($B183457,10)&TEXT($D183457,\"0\")&TEXT($E183457,\"0000\")&TEXT($F183457,\"0000\")","v":"4480025322102370091"},4480025322,null,1,237,91,"237-91","대",66,null,null,null,"충청남도홍성군광천읍오서길16번길34","김영완"]
[{"$f":"LEFT($B183562,10)&TEXT($D183562,\"0\")&TEXT($E183562,\"0000\")&TEXT($F183562,\"0000\")","v":"4480025323101210000"},4480025323,null,1,121,0,121,"답",879,null,null,null,"담산리60","심현구"]
[{"$f":"LEFT($B183702,10)&TEXT($D183702,\"0\")&TEXT($E183702,\"0000\")&TEXT($F183702,\"0000\")","v":"4480025324101280006"},4480025324,null,1,128,6,"128-6","답",2910,null,null,null,198,"박준길"]
[{"$f":"LEFT($B183787,10)&TEXT($D183787,\"0\")&TEXT($E183787,\"0000\")&TEXT($F183787,\"0000\")","v":"4480025325102540000"},4480025325,null,1,254,0,254,"답",3005,null,null,null,"신진리381-17","김순애"]
[{"$f":"LEFT($B183892,10)&TEXT($D183892,\"0\")&TEXT($E183892,\"0000\")&TEXT($F183892,\"0000\")","v":"4480025327101180000"},4480025327,null,1,118,0,118,"답",1554,null,null,null,"충청남도홍성군광천읍월림1길20-14","김건태"]
[{"$f":"LEFT($B183977,10)&TEXT($D183977,\"0\")&TEXT($E183977,\"0000\")&TEXT($F183977,\"0000\")","v":"4480025328101910003"},4480025328,null,1,191,3,"191-3","도",10,null,null,null,"국(건설부)","국"]
[{"$f":"LEFT($B184117,10)&TEXT($D184117,\"0\")&TEXT($E184117,\"0000\")&TEXT($F184117,\"0000\")","v":"4480025329102610000"},4480025329,null,1,261,0,261,"대",628,null,null,null,"상정리261","홍수복"]
[{"$f":"LEFT($B184222,10)&TEXT($D184222,\"0\")&TEXT($E184222,\"0000\")&TEXT($F184222,\"0000\")","v":"4480025330100570001"},4480025330,null,1,57,1,"57-1","대",298,null,null,null,"57-1","남동석"]
[{"$f":"LEFT($B184389,10)&TEXT($D184389,\"0\")&TEXT($E184389,\"0000\")&TEXT($F184389,\"0000\")","v":"4480025331105590000"},4480025331,null,1,559,0,559,"도",1914,null,null,null,"국(농수산부)","국"]
[{"$f":"LEFT($B184567,10)&TEXT($D184567,\"0\")&TEXT($E184567,\"0000\")&TEXT($F184567,\"0000\")","v":"4480025333105290015"},4480025333,null,1,529,15,"529-15","잡",651,null,null,null,"529-8","유재호"]
[{"$f":"LEFT($B184679,10)&TEXT($D184679,\"0\")&TEXT($E184679,\"0000\")&TEXT($F184679,\"0000\")","v":"4480025621101360004"},4480025621,null,1,136,4,"136-4","대",1934,null,null,null,"136-4","이수정"]
[{"$f":"LEFT($B184792,10)&TEXT($D184792,\"0\")&TEXT($E184792,\"0000\")&TEXT($F184792,\"0000\")","v":"4480025622100170006"},4480025622,null,1,17,6,"17-6","답",890,null,null,null,"충청남도홍성군홍성읍문화로72번길92112동1006호(주공그린빌)","김미성"]
[{"$f":"LEFT($B184897,10)&TEXT($D184897,\"0\")&TEXT($E184897,\"0000\")&TEXT($F184897,\"0000\")","v":"4480025622104550006"},4480025622,null,1,455,6,"455-6","답",17,null,null,null,"홍성군홍북면상하리420-1","정태화"]
[{"$f":"LEFT($B184972,10)&TEXT($D184972,\"0\")&TEXT($E184972,\"0000\")&TEXT($F184972,\"0000\")","v":"4480025623100860009"},4480025623,null,1,86,9,"86-9","전",347,null,null,null,"부산시북구화명동898-9주공아파트13-501","김승희"]
[{"$f":"LEFT($B185122,10)&TEXT($D185122,\"0\")&TEXT($E185122,\"0000\")&TEXT($F185122,\"0000\")","v":"4480025624102980000"},4480025624,null,1,298,0,298,"전",3759,null,null,null,380,"이경덕"]
[{"$f":"LEFT($B185227,10)&TEXT($D185227,\"0\")&TEXT($E185227,\"0000\")&TEXT($F185227,\"0000\")","v":"4480025624106140002"},4480025624,null,1,614,2,"614-2","제",214,null,null,null,"국(건설부)","국"]
[{"$f":"LEFT($B185366,10)&TEXT($D185366,\"0\")&TEXT($E185366,\"0000\")&TEXT($F185366,\"0000\")","v":"4480025625112260000"},4480025625,null,1,1226,0,1226,"대",242,null,null,null,"경상남도진주시충의로19(충무공동)","한국토지주택공사"]
[{"$f":"LEFT($B185452,10)&TEXT($D185452,\"0\")&TEXT($E185452,\"0000\")&TEXT($F185452,\"0000\")","v":"4480025626101020002"},4480025626,null,1,102,2,"102-2","구",8955,null,null,null,"국(농림수산부)","국"]
[{"$f":"LEFT($B185557,10)&TEXT($D185557,\"0\")&TEXT($E185557,\"0000\")&TEXT($F185557,\"0000\")","v":"4480025627101370002"},4480025627,null,1,137,2,"137-2","답",2710,null,null,null,"충청남도홍성군홍북면홍북로502번길45-13","김영예"]
[{"$f":"LEFT($B185760,10)&TEXT($D185760,\"0\")&TEXT($E185760,\"0000\")&TEXT($F185760,\"0000\")","v":"4480025629100980002"},4480025629,null,1,98,2,"98-2","전",585,null,null,null,76,"이신영"]
[{"$f":"LEFT($B185782,10)&TEXT($D185782,\"0\")&TEXT($E185782,\"0000\")&TEXT($F185782,\"0000\")","v":"4480025629101260024"},4480025629,null,1,126,24,"126-24","답",663,null,null,null,"국(국토교통부)","국"]
[{"$f":"LEFT($B185903,10)&TEXT($D185903,\"0\")&TEXT($E185903,\"0000\")&TEXT($F185903,\"0000\")","v":"4480025630100810000"},4480025630,null,1,81,0,81,"전",212,null,null,null,"안산시상록구본오동757","김춘옥"]
[{"$f":"LEFT($B186035,10)&TEXT($D186035,\"0\")&TEXT($E186035,\"0000\")&TEXT($F186035,\"0000\")","v":"4480025631101610014"},4480025631,null,1,161,14,"161-14","답",10,null,null,null,"경기도부천시상동로117번길222327동502호(상동라일락마을)","강보희"]
[{"$f":"LEFT($B186232,10)&TEXT($D186232,\"0\")&TEXT($E186232,\"0000\")&TEXT($F186232,\"0000\")","v":"4480025633105580000"},4480025633,null,1,558,0,558,"대",572,null,null,null,"홍성군홍성읍오관리836","한양조씨대호군파종중"]
[{"$f":"LEFT($B186343,10)&TEXT($D186343,\"0\")&TEXT($E186343,\"0000\")&TEXT($F186343,\"0000\")","v":"4480032021108830004"},4480032021,null,1,883,4,"883-4","답",1694.5,null,null,null,"충청남도홍성군금마면월암리391-1","오용석"]
[{"$f":"LEFT($B186457,10)&TEXT($D186457,\"0\")&TEXT($E186457,\"0000\")&TEXT($F186457,\"0000\")","v":"4480032022107460000"},4480032022,null,1,746,0,746,"도",152,null,null,null,"국(농림수산부)","국"]
[{"$f":"LEFT($B186562,10)&TEXT($D186562,\"0\")&TEXT($E186562,\"0000\")&TEXT($F186562,\"0000\")","v":"4480032023200680000"},4480032023,null,2,68,0,68,"도",397,null,null,null,"국(건설부)","국"]
[{"$f":"LEFT($B186618,10)&TEXT($D186618,\"0\")&TEXT($E186618,\"0000\")&TEXT($F186618,\"0000\")","v":"4480032024104500013"},4480032024,null,1,450,13,"450-13","답",324,null,null,null,"충청남도홍성군금마면죽림리93-1","정철호"]
[{"$f":"LEFT($B186787,10)&TEXT($D186787,\"0\")&TEXT($E186787,\"0000\")&TEXT($F186787,\"0000\")","v":"4480032026104660002"},4480032026,null,1,466,2,"466-2","잡",860,null,null,null,"홍성군금마면덕정리497","안종숙"]
[{"$f":"LEFT($B186908,10)&TEXT($D186908,\"0\")&TEXT($E186908,\"0000\")&TEXT($F186908,\"0000\")","v":"4480032028100490000"},4480032028,null,1,49,0,49,"답",3150,null,null,null,"산79-1","권태식"]
[{"$f":"LEFT($B187012,10)&TEXT($D187012,\"0\")&TEXT($E187012,\"0000\")&TEXT($F187012,\"0000\")","v":"4480032029100140000"},4480032029,null,1,14,0,14,"유",331,null,null,null,"경기도의왕시포일동487","한국농어촌공사"]
[{"$f":"LEFT($B187117,10)&TEXT($D187117,\"0\")&TEXT($E187117,\"0000\")&TEXT($F187117,\"0000\")","v":"4480032029105660010"},4480032029,null,1,566,10,"566-10","잡",22,null,null,null,"서울시강남구청담동59-20","정신순"]
[{"$f":"LEFT($B187238,10)&TEXT($D187238,\"0\")&TEXT($E187238,\"0000\")&TEXT($F187238,\"0000\")","v":"4480032030105270003"},4480032030,null,1,527,3,"527-3","구",28,null,null,null,"국(건설교통부)","국"]
[{"$f":"LEFT($B187406,10)&TEXT($D187406,\"0\")&TEXT($E187406,\"0000\")&TEXT($F187406,\"0000\")","v":"4480032031110440000"},4480032031,null,1,1044,0,1044,"도",14.2,null,null,null,"국(농림부)","국"]
[{"$f":"LEFT($B187463,10)&TEXT($D187463,\"0\")&TEXT($E187463,\"0000\")&TEXT($F187463,\"0000\")","v":"4480032032102310012"},4480032032,null,1,231,12,"231-12","전",828,null,null,null,236,"이원표"]
[{"$f":"LEFT($B187595,10)&TEXT($D187595,\"0\")&TEXT($E187595,\"0000\")&TEXT($F187595,\"0000\")","v":"4480032033101490000"},4480032033,null,1,149,0,149,"대",340,null,null,null,"홍성군금마면송강리300","송산창열"]
[{"$f":"LEFT($B187792,10)&TEXT($D187792,\"0\")&TEXT($E187792,\"0000\")&TEXT($F187792,\"0000\")","v":"4480033022200910002"},4480033022,null,2,91,2,"91-2","임",694,null,null,null,"홍성군","국"]
[{"$f":"LEFT($B187913,10)&TEXT($D187913,\"0\")&TEXT($E187913,\"0000\")&TEXT($F187913,\"0000\")","v":"4480033024104850001"},4480033024,null,1,485,1,"485-1","전",1920,null,null,null,"충청남도홍성군홍성읍남장리95-41","김석환"]
[{"$f":"LEFT($B187989,10)&TEXT($D187989,\"0\")&TEXT($E187989,\"0000\")&TEXT($F187989,\"0000\")","v":"4480033024110790000"},4480033024,null,1,1079,0,1079,"임",1065,null,null,null,"충청남도홍성군홍동면홍원리704","신숙자"]
[{"$f":"LEFT($B188122,10)&TEXT($D188122,\"0\")&TEXT($E188122,\"0000\")&TEXT($F188122,\"0000\")","v":"4480033026105240001"},4480033026,null,1,524,1,"524-1","답",1415,null,null,null,"충청남도홍성군홍동면문당길104번길46-5","김중호"]
[{"$f":"LEFT($B188243,10)&TEXT($D188243,\"0\")&TEXT($E188243,\"0000\")&TEXT($F188243,\"0000\")","v":"4480033027200960000"},4480033027,null,2,96,0,96,"구",2282,null,null,null,"국(건설부)","국"]
[{"$f":"LEFT($B188383,10)&TEXT($D188383,\"0\")&TEXT($E188383,\"0000\")&TEXT($F188383,\"0000\")","v":"4480033029103370007"},4480033029,null,1,337,7,"337-7","대",205,null,null,null,"국(국토해양부)","국"]
[{"$f":"LEFT($B188468,10)&TEXT($D188468,\"0\")&TEXT($E188468,\"0000\")&TEXT($F188468,\"0000\")","v":"4480033029200460003"},4480033029,null,2,46,3,"46-3","도",531,null,null,null,"국(건설부)","국"]
[{"$f":"LEFT($B188573,10)&TEXT($D188573,\"0\")&TEXT($E188573,\"0000\")&TEXT($F188573,\"0000\")","v":"4480033030200980001"},4480033030,null,2,98,1,"98-1","임",4562,null,null,null,"충청남도홍성군홍성읍대교리280-6","김윤권"]
[{"$f":"LEFT($B188658,10)&TEXT($D188658,\"0\")&TEXT($E188658,\"0000\")&TEXT($F188658,\"0000\")","v":"4480033031109260001"},4480033031,null,1,926,1,"926-1","답",2647.4,null,null,null,443,"유효동"]
[{"$f":"LEFT($B188798,10)&TEXT($D188798,\"0\")&TEXT($E188798,\"0000\")&TEXT($F188798,\"0000\")","v":"4480033033102920000"},4480033033,null,1,292,0,292,"대",678,null,null,null,"홍성읍고암리632-4","이정록"]
[{"$f":"LEFT($B188966,10)&TEXT($D188966,\"0\")&TEXT($E188966,\"0000\")&TEXT($F188966,\"0000\")","v":"4480034021100490002"},4480034021,null,1,49,2,"49-2","답",1102,null,null,null,2,"장순갑"]
[{"$f":"LEFT($B189023,10)&TEXT($D189023,\"0\")&TEXT($E189023,\"0000\")&TEXT($F189023,\"0000\")","v":"4480034021104820015"},4480034021,null,1,482,15,"482-15","전",176,null,null,null,"충청남도홍성군홍성읍월산리851부영아파트202-701","이용화"]
[{"$f":"LEFT($B189128,10)&TEXT($D189128,\"0\")&TEXT($E189128,\"0000\")&TEXT($F189128,\"0000\")","v":"4480034022106200001"},4480034022,null,1,620,1,"620-1","임",664,null,null,null,"홍성군","국"]
[{"$f":"LEFT($B189241,10)&TEXT($D189241,\"0\")&TEXT($E189241,\"0000\")&TEXT($F189241,\"0000\")","v":"4480034024100740002"},4480034024,null,1,74,2,"74-2","대",400,null,null,null,"홍성군장곡면광성리159","박은배"]
[{"$f":"LEFT($B189473,10)&TEXT($D189473,\"0\")&TEXT($E189473,\"0000\")&TEXT($F189473,\"0000\")","v":"4480034027101950000"},4480034027,null,1,195,0,195,"전",717,null,null,null,"가송리198","김기영"]
[{"$f":"LEFT($B189578,10)&TEXT($D189578,\"0\")&TEXT($E189578,\"0000\")&TEXT($F189578,\"0000\")","v":"4480034028104960001"},4480034028,null,1,496,1,"496-1","답",1737.5,null,null,null,"충청남도홍성군장곡면홍남동로357번길231","이병권"]
[{"$f":"LEFT($B189635,10)&TEXT($D189635,\"0\")&TEXT($E189635,\"0000\")&TEXT($F189635,\"0000\")","v":"4480034029104910003"},4480034029,null,1,491,3,"491-3","전",102,null,null,null,469,"이치호"]
[{"$f":"LEFT($B189803,10)&TEXT($D189803,\"0\")&TEXT($E189803,\"0000\")&TEXT($F189803,\"0000\")","v":"4480034031100350001"},4480034031,null,1,35,1,"35-1","답",1501,null,null,null,"경기도의왕시포일동487","한국농어촌공사"]
[{"$f":"LEFT($B189908,10)&TEXT($D189908,\"0\")&TEXT($E189908,\"0000\")&TEXT($F189908,\"0000\")","v":"4480034032100160004"},4480034032,null,1,16,4,"16-4","대",690,null,null,null,"충청남도홍성군장곡면무한로1439번길70","권옥녀"]
[{"$f":"LEFT($B190047,10)&TEXT($D190047,\"0\")&TEXT($E190047,\"0000\")&TEXT($F190047,\"0000\")","v":"4480034033102670003"},4480034033,null,1,267,3,"267-3","전",317,null,null,null,265,"김동호"]
[{"$f":"LEFT($B190133,10)&TEXT($D190133,\"0\")&TEXT($E190133,\"0000\")&TEXT($F190133,\"0000\")","v":"4480034034104450007"},4480034034,null,1,445,7,"445-7","구",407,null,null,null,"국(건설교통부)","국"]
[{"$f":"LEFT($B190218,10)&TEXT($D190218,\"0\")&TEXT($E190218,\"0000\")&TEXT($F190218,\"0000\")","v":"4480034035104580011"},4480034035,null,1,458,11,"458-11","대",437,null,null,null,"충청남도홍성군장곡면대현리458-9","장곡면대현1구마을회"]
[{"$f":"LEFT($B190358,10)&TEXT($D190358,\"0\")&TEXT($E190358,\"0000\")&TEXT($F190358,\"0000\")","v":"4480034036201070000"},4480034036,null,2,107,0,107,"임",3074,null,null,null,"인천광역시남동구만수동932-1신태양다세대주택5-302","백승인"]
[{"$f":"LEFT($B190463,10)&TEXT($D190463,\"0\")&TEXT($E190463,\"0000\")&TEXT($F190463,\"0000\")","v":"4480035022101130016"},4480035022,null,1,113,16,"113-16","도",20,null,null,null,"홍성군","국"]
[{"$f":"LEFT($B190612,10)&TEXT($D190612,\"0\")&TEXT($E190612,\"0000\")&TEXT($F190612,\"0000\")","v":"4480035024100600003"},4480035024,null,1,60,3,"60-3","도",150,null,null,null,"충청남도","국"]
[{"$f":"LEFT($B190688,10)&TEXT($D190688,\"0\")&TEXT($E190688,\"0000\")&TEXT($F190688,\"0000\")","v":"4480035024200740000"},4480035024,null,2,74,0,74,"도",1785,null,null,null,"국(건설부)","국"]
[{"$f":"LEFT($B190793,10)&TEXT($D190793,\"0\")&TEXT($E190793,\"0000\")&TEXT($F190793,\"0000\")","v":"4480035025201680000"},4480035025,null,2,168,0,168,"도",231,null,null,null,"국(건설부)","국"]
[{"$f":"LEFT($B191024,10)&TEXT($D191024,\"0\")&TEXT($E191024,\"0000\")&TEXT($F191024,\"0000\")","v":"4480035028101300006"},4480035028,null,1,130,6,"130-6","답",2655,null,null,null,"376-1","김춘옥"]
[{"$f":"LEFT($B191138,10)&TEXT($D191138,\"0\")&TEXT($E191138,\"0000\")&TEXT($F191138,\"0000\")","v":"4480035030100860006"},4480035030,null,1,86,6,"86-6","목",951,null,null,null,"충청남도홍성군홍성읍내포로146번길46101동1703호(미림청솔아파트)","양미선"]
[{"$f":"LEFT($B191243,10)&TEXT($D191243,\"0\")&TEXT($E191243,\"0000\")&TEXT($F191243,\"0000\")","v":"4480035030200480002"},4480035030,null,2,48,2,"48-2","임",3074,null,null,null,"경기도부천시소사구양지로91번길20301호(범박동)","고태준"]
[{"$f":"LEFT($B191299,10)&TEXT($D191299,\"0\")&TEXT($E191299,\"0000\")&TEXT($F191299,\"0000\")","v":"4480035031103020001"},4480035031,null,1,302,1,"302-1","유",2060,null,null,null,"국(농림수산부)","국"]
[{"$f":"LEFT($B191468,10)&TEXT($D191468,\"0\")&TEXT($E191468,\"0000\")&TEXT($F191468,\"0000\")","v":"4480036021103130000"},4480036021,null,1,313,0,313,"전",433,null,null,null,313,"김철배"]
[{"$f":"LEFT($B191589,10)&TEXT($D191589,\"0\")&TEXT($E191589,\"0000\")&TEXT($F191589,\"0000\")","v":"4480036022107390001"},4480036022,null,1,739,1,"739-1","구",28,null,null,null,"국(건설부)","국"]
[{"$f":"LEFT($B191693,10)&TEXT($D191693,\"0\")&TEXT($E191693,\"0000\")&TEXT($F191693,\"0000\")","v":"4480036023104980000"},4480036023,null,1,498,0,498,"대",66,null,null,null,109,"이원형"]
[{"$f":"LEFT($B191798,10)&TEXT($D191798,\"0\")&TEXT($E191798,\"0000\")&TEXT($F191798,\"0000\")","v":"4480036024100900001"},4480036024,null,1,90,1,"90-1","답",2905,null,null,null,151,"박상욱"]
[{"$f":"LEFT($B191882,10)&TEXT($D191882,\"0\")&TEXT($E191882,\"0000\")&TEXT($F191882,\"0000\")","v":"4480036024108060001"},4480036024,null,1,806,1,"806-1","임",1934,null,null,null,794,"홍백훈"]
[{"$f":"LEFT($B192023,10)&TEXT($D192023,\"0\")&TEXT($E192023,\"0000\")&TEXT($F192023,\"0000\")","v":"4480036026100120023"},4480036026,null,1,12,23,"12-23","도",44,null,null,null,"홍성군","국"]
[{"$f":"LEFT($B192128,10)&TEXT($D192128,\"0\")&TEXT($E192128,\"0000\")&TEXT($F192128,\"0000\")","v":"4480036027101310006"},4480036027,null,1,131,6,"131-6","답",2673,null,null,null,"충청남도홍성군결성면교항리719","박춘자"]
[{"$f":"LEFT($B192276,10)&TEXT($D192276,\"0\")&TEXT($E192276,\"0000\")&TEXT($F192276,\"0000\")","v":"4480036028101980004"},4480036028,null,1,198,4,"198-4","대",273,null,null,null,"홍성군","국"]
[{"$f":"LEFT($B192353,10)&TEXT($D192353,\"0\")&TEXT($E192353,\"0000\")&TEXT($F192353,\"0000\")","v":"4480036029100510003"},4480036029,null,1,51,3,"51-3","답",2953,null,null,null,"충청남도예산군삽교읍신가꽃산길110","조순길"]
[{"$f":"LEFT($B192474,10)&TEXT($D192474,\"0\")&TEXT($E192474,\"0000\")&TEXT($F192474,\"0000\")","v":"4480037021101890002"},4480037021,null,1,189,2,"189-2","답",2084,null,null,null,"충청남도홍성군서부면서부로445-28","박헌규"]
[{"$f":"LEFT($B192670,10)&TEXT($D192670,\"0\")&TEXT($E192670,\"0000\")&TEXT($F192670,\"0000\")","v":"4480037022107220012"},4480037022,null,1,722,12,"722-12","답",37,null,null,null,"충청남도","국"]
[{"$f":"LEFT($B192803,10)&TEXT($D192803,\"0\")&TEXT($E192803,\"0000\")&TEXT($F192803,\"0000\")","v":"4480037023107560001"},4480037023,null,1,756,1,"756-1","답",297.89999999999998,null,null,null,"경기도의왕시안양판교로98(포일동)","한국농어촌공사"]
[{"$f":"LEFT($B192924,10)&TEXT($D192924,\"0\")&TEXT($E192924,\"0000\")&TEXT($F192924,\"0000\")","v":"4480037024107900000"},4480037024,null,1,790,0,790,"답",1130.7,null,null,null,"210-1","이희천"]
[{"$f":"LEFT($B192945,10)&TEXT($D192945,\"0\")&TEXT($E192945,\"0000\")&TEXT($F192945,\"0000\")","v":"4480037025101080001"},4480037025,null,1,108,1,"108-1","전",125,null,null,null,105,"강기호"]
[{"$f":"LEFT($B193133,10)&TEXT($D193133,\"0\")&TEXT($E193133,\"0000\")&TEXT($F193133,\"0000\")","v":"4480037027100730000"},4480037027,null,1,73,0,73,"대",678,null,null,null,73,"이기덕"]
[{"$f":"LEFT($B193253,10)&TEXT($D193253,\"0\")&TEXT($E193253,\"0000\")&TEXT($F193253,\"0000\")","v":"4480037027108080003"},4480037027,null,1,808,3,"808-3","전",893,null,null,null,"충청남도홍성군금마면홍양길43번길120-15","주성숙"]
[{"$f":"LEFT($B193358,10)&TEXT($D193358,\"0\")&TEXT($E193358,\"0000\")&TEXT($F193358,\"0000\")","v":"4480037028105940008"},4480037028,null,1,594,8,"594-8","임",3306,null,null,null,"홍성읍고암리419-4","김은자"]
[{"$f":"LEFT($B193479,10)&TEXT($D193479,\"0\")&TEXT($E193479,\"0000\")&TEXT($F193479,\"0000\")","v":"4480037030104670000"},4480037030,null,1,467,0,467,"대",208,null,null,null,"인천시서구석남동561-2한섬빌라비02호","장백현"]
[{"$f":"LEFT($B193647,10)&TEXT($D193647,\"0\")&TEXT($E193647,\"0000\")&TEXT($F193647,\"0000\")","v":"4480037032100510000"},4480037032,null,1,51,0,51,"전",690,null,null,null,"홍성읍오관리652미림청솔아파트102-1411","이정화"]
[{"$f":"LEFT($B193688,10)&TEXT($D193688,\"0\")&TEXT($E193688,\"0000\")&TEXT($F193688,\"0000\")","v":"4480038021102330006"},4480038021,null,1,233,6,"233-6","도",212,null,null,null,"국(건설부)","국"]
[{"$f":"LEFT($B193809,10)&TEXT($D193809,\"0\")&TEXT($E193809,\"0000\")&TEXT($F193809,\"0000\")","v":"4480038022105180000"},4480038022,null,1,518,0,518,"묘",678,null,null,null,524,"이소형"]
[{"$f":"LEFT($B193922,10)&TEXT($D193922,\"0\")&TEXT($E193922,\"0000\")&TEXT($F193922,\"0000\")","v":"4480038023106500001"},4480038023,null,1,650,1,"650-1","구",272,null,null,null,"국(건설부)","국"]
[{"$f":"LEFT($B194034,10)&TEXT($D194034,\"0\")&TEXT($E194034,\"0000\")&TEXT($F194034,\"0000\")","v":"4480038025101220000"},4480038025,null,1,122,0,122,"전",2036,null,null,null,"경기도화성시동탄반석로70432동902호(반송동동탄솔빛마을신도브래뉴아파트))","이환웅"]
[{"$f":"LEFT($B194259,10)&TEXT($D194259,\"0\")&TEXT($E194259,\"0000\")&TEXT($F194259,\"0000\")","v":"4480038028200370004"},4480038028,null,2,37,4,"37-4","임",2281,null,null,null,"충남홍성군광천읍광천리230-23","강방일"]
[{"$f":"LEFT($B194316,10)&TEXT($D194316,\"0\")&TEXT($E194316,\"0000\")&TEXT($F194316,\"0000\")","v":"4480038029104070000"},4480038029,null,1,407,0,407,"답",1692,null,null,null,"오두리337","오용섭"]
[{"$f":"LEFT($B194484,10)&TEXT($D194484,\"0\")&TEXT($E194484,\"0000\")&TEXT($F194484,\"0000\")","v":"4480038031101970001"},4480038031,null,1,197,1,"197-1","잡",600,null,null,null,"220-3","갈산면기산사천마을회"]
[{"$f":"LEFT($B194505,10)&TEXT($D194505,\"0\")&TEXT($E194505,\"0000\")&TEXT($F194505,\"0000\")","v":"4480038031102950001"},4480038031,null,1,295,1,"295-1","대",50,null,null,null,"홍성군","국"]
[{"$f":"LEFT($B194693,10)&TEXT($D194693,\"0\")&TEXT($E194693,\"0000\")&TEXT($F194693,\"0000\")","v":"4480038033100740005"},4480038033,null,1,74,5,"74-5","전",476,null,null,null,"경기도의왕시삼동130-1효성청솔아파트104-1601","이승전"]
[{"$f":"LEFT($B194814,10)&TEXT($D194814,\"0\")&TEXT($E194814,\"0000\")&TEXT($F194814,\"0000\")","v":"4480038034104300062"},4480038034,null,1,430,62,"430-62","답",30,null,null,null,"국(건설교통부)","국"]
[{"$f":"LEFT($B194899,10)&TEXT($D194899,\"0\")&TEXT($E194899,\"0000\")&TEXT($F194899,\"0000\")","v":"4480038035103540000"},4480038035,null,1,354,0,354,"전",3197,null,null,null,"충청남도홍성군갈산면백야로347번길56","박진화"]
[{"$f":"LEFT($B195039,10)&TEXT($D195039,\"0\")&TEXT($E195039,\"0000\")&TEXT($F195039,\"0000\")","v":"4480039021101150000"},4480039021,null,1,115,0,115,"전",506,null,null,null,"충청남도홍성군홍성읍오관리571-1평일빌라-207","박문자"]
[{"$f":"LEFT($B195144,10)&TEXT($D195144,\"0\")&TEXT($E195144,\"0000\")&TEXT($F195144,\"0000\")","v":"4480039022101630002"},4480039022,null,1,163,2,"163-2","대",465,null,null,null,"충청남도홍성군구항면구성북로202번길41-11","박태옥"]
[{"$f":"LEFT($B195293,10)&TEXT($D195293,\"0\")&TEXT($E195293,\"0000\")&TEXT($F195293,\"0000\")","v":"4480039023101340013"},4480039023,null,1,134,13,"134-13","도",1,null,null,null,"홍성군","국"]
[{"$f":"LEFT($B195369,10)&TEXT($D195369,\"0\")&TEXT($E195369,\"0000\")&TEXT($F195369,\"0000\")","v":"4480039024100840005"},4480039024,null,1,84,5,"84-5","대",539,null,null,null,"서울특별시용산구이촌동301-155수정아파트-1201","정호진"]
[{"$f":"LEFT($B195474,10)&TEXT($D195474,\"0\")&TEXT($E195474,\"0000\")&TEXT($F195474,\"0000\")","v":"4480039025105850000"},4480039025,null,1,585,0,585,"전",1350,null,null,null,"충청남도홍성군구항면백야로246번길250-10","윤병복"]
[{"$f":"LEFT($B195586,10)&TEXT($D195586,\"0\")&TEXT($E195586,\"0000\")&TEXT($F195586,\"0000\")","v":"4480039026200730001"},4480039026,null,2,73,1,"73-1","임",396,null,null,null,"충청남도홍성군구항면내현리279","담양전씨시걸공파종중"]
[{"$f":"LEFT($B195699,10)&TEXT($D195699,\"0\")&TEXT($E195699,\"0000\")&TEXT($F195699,\"0000\")","v":"4480034029100740000"},4480034029,null,1,74,0,74,"전",301,null,null,null,"경기도의왕시오전동216-1신안아파트2-1004","이선숙"]
[{"$f":"LEFT($B195924,10)&TEXT($D195924,\"0\")&TEXT($E195924,\"0000\")&TEXT($F195924,\"0000\")","v":"4480032030106010000"},4480032030,null,1,601,0,601,"답",1112,null,null,null,484,"이옥금"]
[{"$f":"LEFT($B195980,10)&TEXT($D195980,\"0\")&TEXT($E195980,\"0000\")&TEXT($F195980,\"0000\")","v":"4480039031102290003"},4480039031,null,1,229,3,"229-3","제",1329,null,null,null,"홍성군","국"]
[{"$f":"LEFT($B196149,10)&TEXT($D196149,\"0\")&TEXT($E196149,\"0000\")&TEXT($F196149,\"0000\")","v":"4480039032105060000"},4480039032,null,1,506,0,506,"답",641,null,null,null,"홍성읍오관리316","김해김씨절효공파소종회"]
[{"$f":"LEFT($B196270,10)&TEXT($D196270,\"0\")&TEXT($E196270,\"0000\")&TEXT($F196270,\"0000\")","v":"4480039025103390001"},4480039025,null,1,339,1,"339-1","임",628,null,null,null,348,"장희선"]
[{"$f":"LEFT($B196374,10)&TEXT($D196374,\"0\")&TEXT($E196374,\"0000\")&TEXT($F196374,\"0000\")","v":"4480025021102330000"},4480025021,null,1,233,0,233,"대",84,null,null,null,"충청남도홍성군홍성읍홍성천길154-19디동201호(일승주택)","이건호"]
[{"$f":"LEFT($B196479,10)&TEXT($D196479,\"0\")&TEXT($E196479,\"0000\")&TEXT($F196479,\"0000\")","v":"4480025021104670006"},4480025021,null,1,467,6,"467-6","전",158,null,null,null,"홍성군","국"]
[{"$f":"LEFT($B196563,10)&TEXT($D196563,\"0\")&TEXT($E196563,\"0000\")&TEXT($F196563,\"0000\")","v":"4480025021105950012"},4480025021,null,1,595,12,"595-12","대",36,null,null,null,"홍성군","국"]
[{"$f":"LEFT($B196704,10)&TEXT($D196704,\"0\")&TEXT($E196704,\"0000\")&TEXT($F196704,\"0000\")","v":"4480025022102920000"},4480025022,null,1,292,0,292,"전",347,null,null,null,"충청남도홍성군홍성읍문화로33번길11106동902호(홍성옥암하늘채아파트)","이용경"]
[{"$f":"LEFT($B196809,10)&TEXT($D196809,\"0\")&TEXT($E196809,\"0000\")&TEXT($F196809,\"0000\")","v":"4480025023101210000"},4480025023,null,1,121,0,121,"답",3762,null,null,null,"충청남도홍성군홍성읍조양로109","백승열"]
[{"$f":"LEFT($B196957,10)&TEXT($D196957,\"0\")&TEXT($E196957,\"0000\")&TEXT($F196957,\"0000\")","v":"4480025024102710003"},4480025024,null,1,271,3,"271-3","도",36,null,null,null,"국(건설부)","국"]
[{"$f":"LEFT($B197034,10)&TEXT($D197034,\"0\")&TEXT($E197034,\"0000\")&TEXT($F197034,\"0000\")","v":"4480025024107890005"},4480025024,null,1,789,5,"789-5","도",714,null,null,null,"국(건설부)","국"]
[{"$f":"LEFT($B197139,10)&TEXT($D197139,\"0\")&TEXT($E197139,\"0000\")&TEXT($F197139,\"0000\")","v":"4480025025102630060"},4480025025,null,1,263,60,"263-60","전",115,null,null,null,"홍성군","국"]
[{"$f":"LEFT($B197351,10)&TEXT($D197351,\"0\")&TEXT($E197351,\"0000\")&TEXT($F197351,\"0000\")","v":"4480025026101870002"},4480025026,null,1,187,2,"187-2","도",153,null,null,null,"옥암리41","김병열"]
[{"$f":"LEFT($B197484,10)&TEXT($D197484,\"0\")&TEXT($E197484,\"0000\")&TEXT($F197484,\"0000\")","v":"4480025027103390021"},4480025027,null,1,339,21,"339-21","임",233,null,null,null,"충청남도천안시동남구미나릿길41-1(영성동)","윤성근"]
[{"$f":"LEFT($B197540,10)&TEXT($D197540,\"0\")&TEXT($E197540,\"0000\")&TEXT($F197540,\"0000\")","v":"4480025027200490002"},4480025027,null,2,49,2,"49-2","임",60,null,null,null,"홍성군","국"]
[{"$f":"LEFT($B197709,10)&TEXT($D197709,\"0\")&TEXT($E197709,\"0000\")&TEXT($F197709,\"0000\")","v":"4480025030100620004"},4480025030,null,1,62,4,"62-4","제",46,null,null,null,"국(건설부)","국"]
[{"$f":"LEFT($B197814,10)&TEXT($D197814,\"0\")&TEXT($E197814,\"0000\")&TEXT($F197814,\"0000\")","v":"4480025030104920004"},4480025030,null,1,492,4,"492-4","답",1101,null,null,null,"오관리311-1","김광자"]
[{"$f":"LEFT($B197934,10)&TEXT($D197934,\"0\")&TEXT($E197934,\"0000\")&TEXT($F197934,\"0000\")","v":"4480025030108450003"},4480025030,null,1,845,3,"845-3","도",73,null,null,null,"국(건설교통부)","국"]
[{"$f":"LEFT($B198039,10)&TEXT($D198039,\"0\")&TEXT($E198039,\"0000\")&TEXT($F198039,\"0000\")","v":"4480025031101240025"},4480025031,null,1,124,25,"124-25","대",208,null,null,null,"국(국토교통부)","국"]
[{"$f":"LEFT($B198160,10)&TEXT($D198160,\"0\")&TEXT($E198160,\"0000\")&TEXT($F198160,\"0000\")","v":"4480025031200110005"},4480025031,null,2,11,5,"11-5","임",3174,null,null,null,"평택시동삭동340-6현대아파트102-1002","윤기선"]
[{"$f":"LEFT($B198209,10)&TEXT($D198209,\"0\")&TEXT($E198209,\"0000\")&TEXT($F198209,\"0000\")","v":"4480025032101820020"},4480025032,null,1,182,20,"182-20","도",77,null,null,null,"홍성군","국"]
[{"$f":"LEFT($B198369,10)&TEXT($D198369,\"0\")&TEXT($E198369,\"0000\")&TEXT($F198369,\"0000\")","v":"4480025321103900007"},4480025321,null,1,390,7,"390-7","대",72,null,null,null,"경기도군포시산본로296108동1109호(금정동주공아파트)","김수진"]
[{"$f":"LEFT($B198490,10)&TEXT($D198490,\"0\")&TEXT($E198490,\"0000\")&TEXT($F198490,\"0000\")","v":"4480025322100380003"},4480025322,null,1,38,3,"38-3","대",138,null,null,null,"충청남도홍성군광천읍홍남로744번길8","정규숙"]
[{"$f":"LEFT($B198603,10)&TEXT($D198603,\"0\")&TEXT($E198603,\"0000\")&TEXT($F198603,\"0000\")","v":"4480025322102750045"},4480025322,null,1,275,45,"275-45","대",74,null,null,null,"대전시중구선화동24","이용문"]
[{"$f":"LEFT($B198699,10)&TEXT($D198699,\"0\")&TEXT($E198699,\"0000\")&TEXT($F198699,\"0000\")","v":"4480025323102260001"},4480025323,null,1,226,1,"226-1","천",567,null,null,null,"국(국세청)","국"]
[{"$f":"LEFT($B198911,10)&TEXT($D198911,\"0\")&TEXT($E198911,\"0000\")&TEXT($F198911,\"0000\")","v":"4480025325101750000"},4480025325,null,1,175,0,175,"답",1520,null,null,null,"소암리118-3","송상기"]
[{"$f":"LEFT($B199044,10)&TEXT($D199044,\"0\")&TEXT($E199044,\"0000\")&TEXT($F199044,\"0000\")","v":"4480025327103300007"},4480025327,null,1,330,7,"330-7","대",687,null,null,null,"태안군태안읍장산리646-3장산혜성아파트-905","이정숙"]
[{"$f":"LEFT($B199045,10)&TEXT($D199045,\"0\")&TEXT($E199045,\"0000\")&TEXT($F199045,\"0000\")","v":"4480025327103610003"},4480025327,null,1,361,3,"361-3","답",1511,null,null,null,"벽계리374","김흥재"]
[{"$f":"LEFT($B199186,10)&TEXT($D199186,\"0\")&TEXT($E199186,\"0000\")&TEXT($F199186,\"0000\")","v":"4480025329100680002"},4480025329,null,1,68,2,"68-2","답",2043,null,null,null,"경기도화성시향남읍발안리286-103","한상년"]
[{"$f":"LEFT($B199374,10)&TEXT($D199374,\"0\")&TEXT($E199374,\"0000\")&TEXT($F199374,\"0000\")","v":"4480025330103410007"},4480025330,null,1,341,7,"341-7","잡",130,null,null,null,"충청남도홍성군광천읍옹암리342-2","김혜영"]
[{"$f":"LEFT($B199495,10)&TEXT($D199495,\"0\")&TEXT($E199495,\"0000\")&TEXT($F199495,\"0000\")","v":"4480025331105670005"},4480025331,null,1,567,5,"567-5","전",632,null,null,null,"경기도광주시회안대로621-21101동203호(장지동벽산블루밍아파트)","김재순"]
[{"$f":"LEFT($B199580,10)&TEXT($D199580,\"0\")&TEXT($E199580,\"0000\")&TEXT($F199580,\"0000\")","v":"4480025332105520001"},4480025332,null,1,552,1,"552-1","답",1380,null,null,null,215,"주황용"]
[{"$f":"LEFT($B199720,10)&TEXT($D199720,\"0\")&TEXT($E199720,\"0000\")&TEXT($F199720,\"0000\")","v":"4480025333200010000"},4480025333,null,2,1,0,1,"임",198,null,null,null,"서울시용산구동자동18-7","재단법인기독교한국침례회유지재단"]
[{"$f":"LEFT($B199825,10)&TEXT($D199825,\"0\")&TEXT($E199825,\"0000\")&TEXT($F199825,\"0000\")","v":"4480025621105750004"},4480025621,null,1,575,4,"575-4","답",407,null,null,null,"서울시동대문구휘경동179-67","유영순"]
[{"$f":"LEFT($B199974,10)&TEXT($D199974,\"0\")&TEXT($E199974,\"0000\")&TEXT($F199974,\"0000\")","v":"4480025622101800001"},4480025622,null,1,180,1,"180-1","대",45,null,null,null,"122-1","김진원"]
[{"$f":"LEFT($B200050,10)&TEXT($D200050,\"0\")&TEXT($E200050,\"0000\")&TEXT($F200050,\"0000\")","v":"4480025623100350010"},4480025623,null,1,35,10,"35-10","대",529,null,null,null,"중계리105","손영한"]
[{"$f":"LEFT($B200163,10)&TEXT($D200163,\"0\")&TEXT($E200163,\"0000\")&TEXT($F200163,\"0000\")","v":"4480025623103350009"},4480025623,null,1,335,9,"335-9","임",17,null,null,null,"충청남도홍성군홍북면봉신1길29","이환준"]
[{"$f":"LEFT($B200259,10)&TEXT($D200259,\"0\")&TEXT($E200259,\"0000\")&TEXT($F200259,\"0000\")","v":"4480025624103220001"},4480025624,null,1,322,1,"322-1","전",2337,null,null,null,369,"이원영"]
[{"$f":"LEFT($B200380,10)&TEXT($D200380,\"0\")&TEXT($E200380,\"0000\")&TEXT($F200380,\"0000\")","v":"4480025624108120000"},4480025624,null,1,812,0,812,"도",102,null,null,null,"국(건설부)","국"]
[{"$f":"LEFT($B200557,10)&TEXT($D200557,\"0\")&TEXT($E200557,\"0000\")&TEXT($F200557,\"0000\")","v":"4480025626102290002"},4480025626,null,1,229,2,"229-2","전",529,null,null,null,30,"한상칠"]
[{"$f":"LEFT($B200605,10)&TEXT($D200605,\"0\")&TEXT($E200605,\"0000\")&TEXT($F200605,\"0000\")","v":"4480025626200990011"},4480025626,null,2,99,11,"99-11","구",26,null,null,null,"경기도의왕시포일동487","한국농어촌공사"]
[{"$f":"LEFT($B200830,10)&TEXT($D200830,\"0\")&TEXT($E200830,\"0000\")&TEXT($F200830,\"0000\")","v":"4480025629101260014"},4480025629,null,1,126,14,"126-14","답",3370,null,null,null,"34-4","최맹수"]
[{"$f":"LEFT($B200951,10)&TEXT($D200951,\"0\")&TEXT($E200951,\"0000\")&TEXT($F200951,\"0000\")","v":"4480025630102490002"},4480025630,null,1,249,2,"249-2","답",2405,null,null,null,327,"김원환"]
[{"$f":"LEFT($B201055,10)&TEXT($D201055,\"0\")&TEXT($E201055,\"0000\")&TEXT($F201055,\"0000\")","v":"4480025631101670000"},4480025631,null,1,167,0,167,"전",565,null,null,null,"충청남도홍성군홍북면금북로440-5","이재희"]
[{"$f":"LEFT($B201160,10)&TEXT($D201160,\"0\")&TEXT($E201160,\"0000\")&TEXT($F201160,\"0000\")","v":"4480025632103440005"},4480025632,null,1,344,5,"344-5","전",129,null,null,null,"홍성군","국"]
[{"$f":"LEFT($B201226,10)&TEXT($D201226,\"0\")&TEXT($E201226,\"0000\")&TEXT($F201226,\"0000\")","v":"4480025633102370003"},4480025633,null,1,237,3,"237-3","전",4720,null,null,null,"갈산면가곡리47-1","고철헌"]
[{"$f":"LEFT($B201385,10)&TEXT($D201385,\"0\")&TEXT($E201385,\"0000\")&TEXT($F201385,\"0000\")","v":"4480032021106300000"},4480032021,null,1,630,0,630,"잡",698,null,null,null,"624-3","박승표"]
[{"$f":"LEFT($B201490,10)&TEXT($D201490,\"0\")&TEXT($E201490,\"0000\")&TEXT($F201490,\"0000\")","v":"4480032022105030004"},4480032022,null,1,503,4,"503-4","답",690,null,null,null,"인천광역시남동구만수로75번길74-2101호(만수동강남맨션110-1동)","장승훈"]
[{"$f":"LEFT($B201638,10)&TEXT($D201638,\"0\")&TEXT($E201638,\"0000\")&TEXT($F201638,\"0000\")","v":"4480032024101140000"},4480032024,null,1,114,0,114,"답",50,null,null,null,"475-3","김민태"]
[{"$f":"LEFT($B201715,10)&TEXT($D201715,\"0\")&TEXT($E201715,\"0000\")&TEXT($F201715,\"0000\")","v":"4480032025100740005"},4480032025,null,1,74,5,"74-5","구",16,null,null,null,"경기도의왕시포일동487","한국농어촌공사"]
[{"$f":"LEFT($B201809,10)&TEXT($D201809,\"0\")&TEXT($E201809,\"0000\")&TEXT($F201809,\"0000\")","v":"4480032025201310000"},4480032025,null,2,131,0,131,"구",231,null,null,null,"국(건설부)","국"]
[{"$f":"LEFT($B201940,10)&TEXT($D201940,\"0\")&TEXT($E201940,\"0000\")&TEXT($F201940,\"0000\")","v":"4480032027102600001"},4480032027,null,1,260,1,"260-1","전",750,null,null,null,"충청남도홍성군금마면봉수산로418번길94","주진자"]
[{"$f":"LEFT($B202045,10)&TEXT($D202045,\"0\")&TEXT($E202045,\"0000\")&TEXT($F202045,\"0000\")","v":"4480032028104800004"},4480032028,null,1,480,4,"480-4","대",694,null,null,null,"홍동면구룡리431","무송윤씨문중"]
[{"$f":"LEFT($B202221,10)&TEXT($D202221,\"0\")&TEXT($E202221,\"0000\")&TEXT($F202221,\"0000\")","v":"4480032029105650003"},4480032029,null,1,565,3,"565-3","천",298,null,null,null,"국(건설부)","국"]
[{"$f":"LEFT($B202390,10)&TEXT($D202390,\"0\")&TEXT($E202390,\"0000\")&TEXT($F202390,\"0000\")","v":"4480032031101460000"},4480032031,null,1,146,0,146,"답",1061,null,null,null,195,"이태근"]
[{"$f":"LEFT($B202495,10)&TEXT($D202495,\"0\")&TEXT($E202495,\"0000\")&TEXT($F202495,\"0000\")","v":"4480032031109290001"},4480032031,null,1,929,1,"929-1","철",1428.1,null,null,null,"국(국토교통부)","국"]
[{"$f":"LEFT($B202615,10)&TEXT($D202615,\"0\")&TEXT($E202615,\"0000\")&TEXT($F202615,\"0000\")","v":"4480032032107900010"},4480032032,null,1,790,10,"790-10","구",163,null,null,null,"국(농수산부)","국"]
[{"$f":"LEFT($B202720,10)&TEXT($D202720,\"0\")&TEXT($E202720,\"0000\")&TEXT($F202720,\"0000\")","v":"4480033021104550000"},4480033021,null,1,455,0,455,"전",265.10000000000002,null,null,null,"충청남도홍성군홍동면운월리534","주용대"]
[{"$f":"LEFT($B202825,10)&TEXT($D202825,\"0\")&TEXT($E202825,\"0000\")&TEXT($F202825,\"0000\")","v":"4480033022107100000"},4480033022,null,1,710,0,710,"구",5755,null,null,null,"국(농림수산부)","국"]
[{"$f":"LEFT($B202890,10)&TEXT($D202890,\"0\")&TEXT($E202890,\"0000\")&TEXT($F202890,\"0000\")","v":"4480033023105120018"},4480033023,null,1,512,18,"512-18","구",92,null,null,null,"국(농수산부)","국"]
[{"$f":"LEFT($B203050,10)&TEXT($D203050,\"0\")&TEXT($E203050,\"0000\")&TEXT($F203050,\"0000\")","v":"4480033024111110011"},4480033024,null,1,1111,11,"1111-11","답",3011.6,null,null,null,"대전시서구갈마동390-22갈마아파트105동301호","주장로"]
[{"$f":"LEFT($B203198,10)&TEXT($D203198,\"0\")&TEXT($E203198,\"0000\")&TEXT($F203198,\"0000\")","v":"4480033026107330010"},4480033026,null,1,733,10,"733-10","답",830.9,null,null,null,"경기도안산시단원구사세충열로2길3(와동)","김의식"]
[{"$f":"LEFT($B203275,10)&TEXT($D203275,\"0\")&TEXT($E203275,\"0000\")&TEXT($F203275,\"0000\")","v":"4480033027105120002"},4480033027,null,1,512,2,"512-2","답",2212,null,null,null,"인천광역시남동구석산로74번길24201호(간석동대창맨션)","주호웅"]
[{"$f":"LEFT($B203380,10)&TEXT($D203380,\"0\")&TEXT($E203380,\"0000\")&TEXT($F203380,\"0000\")","v":"4480033028200280000"},4480033028,null,2,28,0,28,"임",2833,null,null,null,"경기도파주시탄현면사슴벌레로45209동202호(유승앙브와즈2단지)","채천희"]
[{"$f":"LEFT($B203473,10)&TEXT($D203473,\"0\")&TEXT($E203473,\"0000\")&TEXT($F203473,\"0000\")","v":"4480033029106740000"},4480033029,null,1,674,0,674,"대",684,null,null,null,"충청남도홍성군홍성읍고암리598","김종옥"]
[{"$f":"LEFT($B203605,10)&TEXT($D203605,\"0\")&TEXT($E203605,\"0000\")&TEXT($F203605,\"0000\")","v":"4480033030106370000"},4480033030,null,1,637,0,637,"전",255,null,null,null,"홍성군홍동면금당리737","조남헌"]
[{"$f":"LEFT($B203830,10)&TEXT($D203830,\"0\")&TEXT($E203830,\"0000\")&TEXT($F203830,\"0000\")","v":"4480033032102110005"},4480033032,null,1,211,5,"211-5","묘",990,null,null,null,"충청남도홍성군홍북면신경리247-1","인동장씨태산경효문파신경종중"]
[{"$f":"LEFT($B203867,10)&TEXT($D203867,\"0\")&TEXT($E203867,\"0000\")&TEXT($F203867,\"0000\")","v":"4480033032200590003"},4480033032,null,2,59,3,"59-3","임",1525,null,null,null,"광천읍광천리300-3","윤희중"]
[{"$f":"LEFT($B204055,10)&TEXT($D204055,\"0\")&TEXT($E204055,\"0000\")&TEXT($F204055,\"0000\")","v":"4480034021102810005"},4480034021,null,1,281,5,"281-5","전",758,null,null,null,"홍성군장곡면도산리33","함병호"]
[{"$f":"LEFT($B204176,10)&TEXT($D204176,\"0\")&TEXT($E204176,\"0000\")&TEXT($F204176,\"0000\")","v":"4480034022106960000"},4480034022,null,1,696,0,696,"유",1233,null,null,null,"충청남도홍성군장곡면장곡길524번길54-30","노인근"]
[{"$f":"LEFT($B204261,10)&TEXT($D204261,\"0\")&TEXT($E204261,\"0000\")&TEXT($F204261,\"0000\")","v":"4480034023105790004"},4480034023,null,1,579,4,"579-4","답",1146.8,null,null,null,"55-3","이종구"]
[{"$f":"LEFT($B204385,10)&TEXT($D204385,\"0\")&TEXT($E204385,\"0000\")&TEXT($F204385,\"0000\")","v":"4480034025101960001"},4480034025,null,1,196,1,"196-1","대",565,null,null,null,"경기도성남시분당구내정로24602동504호(정자동정든마을)","김윤호"]
[{"$f":"LEFT($B204450,10)&TEXT($D204450,\"0\")&TEXT($E204450,\"0000\")&TEXT($F204450,\"0000\")","v":"4480034026102530000"},4480034026,null,1,253,0,253,"대",303,null,null,null,"경기도용인시수지구수지로342번길18109동504호(풍덕천동현대아파트)","이일용"]
[{"$f":"LEFT($B204610,10)&TEXT($D204610,\"0\")&TEXT($E204610,\"0000\")&TEXT($F204610,\"0000\")","v":"4480034027200770000"},4480034027,null,2,77,0,77,"임",14678,null,null,null,"충청남도청양군남양면온암리354","강원구"]
[{"$f":"LEFT($B204731,10)&TEXT($D204731,\"0\")&TEXT($E204731,\"0000\")&TEXT($F204731,\"0000\")","v":"4480034029105820002"},4480034029,null,1,582,2,"582-2","천",936,null,null,null,"예산군오가면원평리408","파평윤씨규자영자종중"]
[{"$f":"LEFT($B204844,10)&TEXT($D204844,\"0\")&TEXT($E204844,\"0000\")&TEXT($F204844,\"0000\")","v":"4480034030103150001"},4480034030,null,1,315,1,"315-1","전",397,null,null,null,248,"박삼화"]
[{"$f":"LEFT($B204940,10)&TEXT($D204940,\"0\")&TEXT($E204940,\"0000\")&TEXT($F204940,\"0000\")","v":"4480034031102450000"},4480034031,null,1,245,0,245,"대",357,null,null,null,470,"홍주이씨소곤리파종회"]
[{"$f":"LEFT($B205061,10)&TEXT($D205061,\"0\")&TEXT($E205061,\"0000\")&TEXT($F205061,\"0000\")","v":"4480034032102830001"},4480034032,null,1,283,1,"283-1","답",1853,null,null,null,473,"조원각"]
[{"$f":"LEFT($B205238,10)&TEXT($D205238,\"0\")&TEXT($E205238,\"0000\")&TEXT($F205238,\"0000\")","v":"4480034034102000007"},4480034034,null,1,200,7,"200-7","도",28,null,null,null,"충청남도","국"]
[{"$f":"LEFT($B205270,10)&TEXT($D205270,\"0\")&TEXT($E205270,\"0000\")&TEXT($F205270,\"0000\")","v":"4480034034104550001"},4480034034,null,1,455,1,"455-1","답",3114.1,null,null,null,"서울특별시양천구신정동333대림아파트101-507","한경숙"]
[{"$f":"LEFT($B205391,10)&TEXT($D205391,\"0\")&TEXT($E205391,\"0000\")&TEXT($F205391,\"0000\")","v":"4480034036102580003"},4480034036,null,1,258,3,"258-3","임",5874,null,null,null,"아산시인주면대음리218현대자동차아파트104-907","강영규"]
[{"$f":"LEFT($B205513,10)&TEXT($D205513,\"0\")&TEXT($E205513,\"0000\")&TEXT($F205513,\"0000\")","v":"4480035021102580004"},4480035021,null,1,258,4,"258-4","도",14,null,null,null,"충청남도","국"]
[{"$f":"LEFT($B205736,10)&TEXT($D205736,\"0\")&TEXT($E205736,\"0000\")&TEXT($F205736,\"0000\")","v":"4480035023200790002"},4480035023,null,2,79,2,"79-2","임",1955,null,null,null,"서울서대문구홍제4동174-23","최석기"]
[{"$f":"LEFT($B205841,10)&TEXT($D205841,\"0\")&TEXT($E205841,\"0000\")&TEXT($F205841,\"0000\")","v":"4480035025100230006"},4480035025,null,1,23,6,"23-6","전",370,null,null,null,"홍성군","국"]
[{"$f":"LEFT($B205907,10)&TEXT($D205907,\"0\")&TEXT($E205907,\"0000\")&TEXT($F205907,\"0000\")","v":"4480035025106930000"},4480035025,null,1,693,0,693,"도",344,null,null,null,"국(건설부)","국"]
[{"$f":"LEFT($B206066,10)&TEXT($D206066,\"0\")&TEXT($E206066,\"0000\")&TEXT($F206066,\"0000\")","v":"4480035027101270001"},4480035027,null,1,127,1,"127-1","구",416,null,null,null,"홍성군","국"]
[{"$f":"LEFT($B206215,10)&TEXT($D206215,\"0\")&TEXT($E206215,\"0000\")&TEXT($F206215,\"0000\")","v":"4480035029103850000"},4480035029,null,1,385,0,385,"답",836,null,null,null,181,"김상두"]
[{"$f":"LEFT($B206291,10)&TEXT($D206291,\"0\")&TEXT($E206291,\"0000\")&TEXT($F206291,\"0000\")","v":"4480035030106030001"},4480035030,null,1,603,1,"603-1","전",357,null,null,null,"충청남도홍성군은하면홍남로229번길144-23","최정분"]
[{"$f":"LEFT($B206396,10)&TEXT($D206396,\"0\")&TEXT($E206396,\"0000\")&TEXT($F206396,\"0000\")","v":"4480035031103920001"},4480035031,null,1,392,1,"392-1","전",581,null,null,null,"충청남도홍성군은하면천광로794번길74-30","이영직"]
[{"$f":"LEFT($B206490,10)&TEXT($D206490,\"0\")&TEXT($E206490,\"0000\")&TEXT($F206490,\"0000\")","v":"4480035031200350000"},4480035031,null,2,35,0,35,"임",1984,null,null,null,852,"김인월"]
[{"$f":"LEFT($B206621,10)&TEXT($D206621,\"0\")&TEXT($E206621,\"0000\")&TEXT($F206621,\"0000\")","v":"4480036022102780000"},4480036022,null,1,278,0,278,"전",433,null,null,null,290,"윤희석"]
[{"$f":"LEFT($B206726,10)&TEXT($D206726,\"0\")&TEXT($E206726,\"0000\")&TEXT($F206726,\"0000\")","v":"4480036022112070003"},4480036022,null,1,1207,3,"1207-3","답",2750.1,null,null,null,"경기도의왕시포일동487","한국농어촌공사"]
[{"$f":"LEFT($B206884,10)&TEXT($D206884,\"0\")&TEXT($E206884,\"0000\")&TEXT($F206884,\"0000\")","v":"4480036024100840002"},4480036024,null,1,84,2,"84-2","답",2725,null,null,null,"충청남도홍성군결성면금곡리775","최충수"]
[{"$f":"LEFT($B206951,10)&TEXT($D206951,\"0\")&TEXT($E206951,\"0000\")&TEXT($F206951,\"0000\")","v":"4480036024107840000"},4480036024,null,1,784,0,784,"전",1855,null,null,null,"서울특별시금천구독산동376-16","강인진"]
[{"$f":"LEFT($B207176,10)&TEXT($D207176,\"0\")&TEXT($E207176,\"0000\")&TEXT($F207176,\"0000\")","v":"4480036027100970003"},4480036027,null,1,97,3,"97-3","대",264,null,null,null,"충청남도홍성군결성면교항리96","이완억"]
[{"$f":"LEFT($B207296,10)&TEXT($D207296,\"0\")&TEXT($E207296,\"0000\")&TEXT($F207296,\"0000\")","v":"4480036028100540001"},4480036028,null,1,54,1,"54-1","도",6,null,null,null,"홍성군","국"]
[{"$f":"LEFT($B207401,10)&TEXT($D207401,\"0\")&TEXT($E207401,\"0000\")&TEXT($F207401,\"0000\")","v":"4480036029102100003"},4480036029,null,1,210,3,"210-3","도",10,null,null,null,"홍성군","국"]
[{"$f":"LEFT($B207467,10)&TEXT($D207467,\"0\")&TEXT($E207467,\"0000\")&TEXT($F207467,\"0000\")","v":"4480036029201020002"},4480036029,null,2,102,2,"102-2","임",5240,null,null,null,"형산리453","이종화"]
[{"$f":"LEFT($B207626,10)&TEXT($D207626,\"0\")&TEXT($E207626,\"0000\")&TEXT($F207626,\"0000\")","v":"4480037022100150003"},4480037022,null,1,15,3,"15-3","도",38,null,null,null,"홍성군","국"]
[{"$f":"LEFT($B207731,10)&TEXT($D207731,\"0\")&TEXT($E207731,\"0000\")&TEXT($F207731,\"0000\")","v":"4480037022107070003"},4480037022,null,1,707,3,"707-3","답",1736.3,null,null,null,"궁리59-4","이인홍"]
[{"$f":"LEFT($B207861,10)&TEXT($D207861,\"0\")&TEXT($E207861,\"0000\")&TEXT($F207861,\"0000\")","v":"4480037023105400105"},4480037023,null,1,540,105,"540-105","전",7,null,null,null,"충청남도홍성군서부면남당항로832","한재문"]
[{"$f":"LEFT($B207956,10)&TEXT($D207956,\"0\")&TEXT($E207956,\"0000\")&TEXT($F207956,\"0000\")","v":"4480037024102080009"},4480037024,null,1,208,9,"208-9","전",183,null,null,null,"충청남도홍성군서부면서부서길633-57","이춘학"]
[{"$f":"LEFT($B208061,10)&TEXT($D208061,\"0\")&TEXT($E208061,\"0000\")&TEXT($F208061,\"0000\")","v":"4480037025104690000"},4480037025,null,1,469,0,469,"전",631,null,null,null,"서울특별시강북구삼양로80길4(수유동)","이영진"]
[{"$f":"LEFT($B208154,10)&TEXT($D208154,\"0\")&TEXT($E208154,\"0000\")&TEXT($F208154,\"0000\")","v":"4480037026104880002"},4480037026,null,1,488,2,"488-2","전",353,null,null,null,"국(건설교통부)","국"]
[{"$f":"LEFT($B208286,10)&TEXT($D208286,\"0\")&TEXT($E208286,\"0000\")&TEXT($F208286,\"0000\")","v":"4480037027102050009"},4480037027,null,1,205,9,"205-9","도",145,null,null,null,"홍성읍고암리556-7미주아파트102-407","이재학"]
[{"$f":"LEFT($B208391,10)&TEXT($D208391,\"0\")&TEXT($E208391,\"0000\")&TEXT($F208391,\"0000\")","v":"4480037028100250000"},4480037028,null,1,25,0,25,"답",1101,null,null,null,"홍성군서부면신리115","이중균"]
[{"$f":"LEFT($B208548,10)&TEXT($D208548,\"0\")&TEXT($E208548,\"0000\")&TEXT($F208548,\"0000\")","v":"4480037029103870002"},4480037029,null,1,387,2,"387-2","답",2160.8000000000002,null,null,null,"서울시강서구화곡동1044-18","김명환"]
[{"$f":"LEFT($B208616,10)&TEXT($D208616,\"0\")&TEXT($E208616,\"0000\")&TEXT($F208616,\"0000\")","v":"4480037030105900001"},4480037030,null,1,590,1,"590-1","대",155,null,null,null,"충청남도홍성군서부면홍남서로375번길105-42","성두진"]
[{"$f":"LEFT($B208737,10)&TEXT($D208737,\"0\")&TEXT($E208737,\"0000\")&TEXT($F208737,\"0000\")","v":"4480037031104580002"},4480037031,null,1,458,2,"458-2","임",5320,null,null,null,"이호리147-2","전용권"]
[{"$f":"LEFT($B208961,10)&TEXT($D208961,\"0\")&TEXT($E208961,\"0000\")&TEXT($F208961,\"0000\")","v":"4480038022103670005"},4480038022,null,1,367,5,"367-5","대",660,null,null,null,"367-2","최재돈"]
[{"$f":"LEFT($B209066,10)&TEXT($D209066,\"0\")&TEXT($E209066,\"0000\")&TEXT($F209066,\"0000\")","v":"4480038023104320008"},4480038023,null,1,432,8,"432-8","임",515,null,null,null,"충청남도홍성군갈산면갈산서길203-88","조본행"]
[{"$f":"LEFT($B209131,10)&TEXT($D209131,\"0\")&TEXT($E209131,\"0000\")&TEXT($F209131,\"0000\")","v":"4480038024101850006"},4480038024,null,1,185,6,"185-6","장",460,null,null,null,"서울특별시서초구방배동884-21방배이-편한세상101-204","김정환"]
[{"$f":"LEFT($B209291,10)&TEXT($D209291,\"0\")&TEXT($E209291,\"0000\")&TEXT($F209291,\"0000\")","v":"4480038026109570000"},4480038026,null,1,957,0,957,"전",2277,null,null,null,"쌍천리77","이병완"]
[{"$f":"LEFT($B209396,10)&TEXT($D209396,\"0\")&TEXT($E209396,\"0000\")&TEXT($F209396,\"0000\")","v":"4480038028104000001"},4480038028,null,1,400,1,"400-1","전",105,null,null,null,"국(건설교통부)","국"]
[{"$f":"LEFT($B209525,10)&TEXT($D209525,\"0\")&TEXT($E209525,\"0000\")&TEXT($F209525,\"0000\")","v":"4480038030103160004"},4480038030,null,1,316,4,"316-4","대",116,null,null,null,"충청남도홍성군갈산면갈산서길250번길89-15","김연춘"]
[{"$f":"LEFT($B209621,10)&TEXT($D209621,\"0\")&TEXT($E209621,\"0000\")&TEXT($F209621,\"0000\")","v":"4480038031103000004"},4480038031,null,1,300,4,"300-4","전",220,null,null,null,"홍성군갈산면기산리309","유영모"]
[{"$f":"LEFT($B209742,10)&TEXT($D209742,\"0\")&TEXT($E209742,\"0000\")&TEXT($F209742,\"0000\")","v":"4480038032101460008"},4480038032,null,1,146,8,"146-8","답",665,null,null,null,"인천시계양구효성동25뉴서울아파트203동109호","이상기"]
[{"$f":"LEFT($B209919,10)&TEXT($D209919,\"0\")&TEXT($E209919,\"0000\")&TEXT($F209919,\"0000\")","v":"4480038034103310002"},4480038034,null,1,331,2,"331-2","전",701,null,null,null,"323-3","최창섭"]
[{"$f":"LEFT($B209951,10)&TEXT($D209951,\"0\")&TEXT($E209951,\"0000\")&TEXT($F209951,\"0000\")","v":"4480038034104830001"},4480038034,null,1,483,1,"483-1","답",6017,null,null,null,"경기도용인시수지구심곡로12-17(상현동)","이미숙"]
[{"$f":"LEFT($B210108,10)&TEXT($D210108,\"0\")&TEXT($E210108,\"0000\")&TEXT($F210108,\"0000\")","v":"4480038036103420003"},4480038036,null,1,342,3,"342-3","답",1507,null,null,null,"충청남도홍성군갈산면내포로1526번길35","장일희"]
[{"$f":"LEFT($B210176,10)&TEXT($D210176,\"0\")&TEXT($E210176,\"0000\")&TEXT($F210176,\"0000\")","v":"4480039021102760003"},4480039021,null,1,276,3,"276-3","전",704,null,null,null,"예산군예산읍신례원리520-1","이상규"]
[{"$f":"LEFT($B210297,10)&TEXT($D210297,\"0\")&TEXT($E210297,\"0000\")&TEXT($F210297,\"0000\")","v":"4480039022103090053"},4480039022,null,1,309,53,"309-53","임",70,null,null,null,"충청남도홍성군구항면구성북로159-23","김동배"]
[{"$f":"LEFT($B210502,10)&TEXT($D210502,\"0\")&TEXT($E210502,\"0000\")&TEXT($F210502,\"0000\")","v":"4480039024101960003"},4480039024,null,1,196,3,"196-3","전",1299,null,null,null,"서울특별시송파구오금로32길5211동1105호(송파동가락삼익맨숀)","이재룡"]
[{"$f":"LEFT($B210626,10)&TEXT($D210626,\"0\")&TEXT($E210626,\"0000\")&TEXT($F210626,\"0000\")","v":"4480039026101750001"},4480039026,null,1,175,1,"175-1","전",4377,null,null,null,"충청남도홍성군구항면구항남길540","송명복"]
[{"$f":"LEFT($B210747,10)&TEXT($D210747,\"0\")&TEXT($E210747,\"0000\")&TEXT($F210747,\"0000\")","v":"4480039027106750000"},4480039027,null,1,675,0,675,"답",2575.6999999999998,null,null,null,"경기도양주시고읍남로39번길48105동403호(광사동해동마을신도브래뉴아파트)","방승욱"]
[{"$f":"LEFT($B210777,10)&TEXT($D210777,\"0\")&TEXT($E210777,\"0000\")&TEXT($F210777,\"0000\")","v":"4480034029100040000"},4480034029,null,1,4,0,4,"전",916,null,null,null,"대정리95","연산서씨진사공파종친회"]
[{"$f":"LEFT($B210956,10)&TEXT($D210956,\"0\")&TEXT($E210956,\"0000\")&TEXT($F210956,\"0000\")","v":"4480032030101350002"},4480032030,null,1,135,2,"135-2","전",2109,null,null,null,null,"광촌창재"]
[{"$f":"LEFT($B211077,10)&TEXT($D211077,\"0\")&TEXT($E211077,\"0000\")&TEXT($F211077,\"0000\")","v":"4480039031103650003"},4480039031,null,1,365,3,"365-3","답",307,null,null,null,"서울관악구봉천동1699-4대원연립201호","김종군"]
[{"$f":"LEFT($B211171,10)&TEXT($D211171,\"0\")&TEXT($E211171,\"0000\")&TEXT($F211171,\"0000\")","v":"4480039032100940004"},4480039032,null,1,94,4,"94-4","도",50,null,null,null,"국(건설부)","국"]
[{"$f":"LEFT($B211302,10)&TEXT($D211302,\"0\")&TEXT($E211302,\"0000\")&TEXT($F211302,\"0000\")","v":"4480025321103980021"},4480025321,null,1,398,21,"398-21","대",4,null,null,null,"충청남도홍성군광천읍광천로363번길14","김진영"]
[{"$f":"LEFT($B211407,10)&TEXT($D211407,\"0\")&TEXT($E211407,\"0000\")&TEXT($F211407,\"0000\")","v":"4480025021100280007"},4480025021,null,1,28,7,"28-7","도",35,null,null,null,"홍성군","국"]
[{"$f":"LEFT($B211565,10)&TEXT($D211565,\"0\")&TEXT($E211565,\"0000\")&TEXT($F211565,\"0000\")","v":"4480025021105300013"},4480025021,null,1,530,13,"530-13","전",277,null,null,null,"서울시송파구신천동11장미아파트26동1112호","김동우"]
[{"$f":"LEFT($B211632,10)&TEXT($D211632,\"0\")&TEXT($E211632,\"0000\")&TEXT($F211632,\"0000\")","v":"4480025021106660016"},4480025021,null,1,666,16,"666-16","대",68,null,null,null,"홍성군","국"]
[{"$f":"LEFT($B211754,10)&TEXT($D211754,\"0\")&TEXT($E211754,\"0000\")&TEXT($F211754,\"0000\")","v":"4480025022103320011"},4480025022,null,1,332,11,"332-11","대",205,null,null,null,"충청남도홍성군홍성읍간동1길24-7","이희순"]
[{"$f":"LEFT($B211961,10)&TEXT($D211961,\"0\")&TEXT($E211961,\"0000\")&TEXT($F211961,\"0000\")","v":"4480025023103970155"},4480025023,null,1,397,155,"397-155","목",1532,null,null,null,"충청남도홍성군홍성읍의사로21번길15-4","김덕배"]
[{"$f":"LEFT($B212082,10)&TEXT($D212082,\"0\")&TEXT($E212082,\"0000\")&TEXT($F212082,\"0000\")","v":"4480025024106090001"},4480025024,null,1,609,1,"609-1","답",3213,null,null,null,"충청남도홍성군홍성읍조양로85번길101","전창수"]
[{"$f":"LEFT($B212148,10)&TEXT($D212148,\"0\")&TEXT($E212148,\"0000\")&TEXT($F212148,\"0000\")","v":"4480025024108660000"},4480025024,null,1,866,0,866,"천",13421.1,null,null,null,"홍성군","국"]
[{"$f":"LEFT($B212307,10)&TEXT($D212307,\"0\")&TEXT($E212307,\"0000\")&TEXT($F212307,\"0000\")","v":"4480025025108120000"},4480025025,null,1,812,0,812,"답",1236,null,null,null,"충청남도홍성군홍성읍오관리705-20홍성향촌현대아파트103-603","황미형"]
[{"$f":"LEFT($B212412,10)&TEXT($D212412,\"0\")&TEXT($E212412,\"0000\")&TEXT($F212412,\"0000\")","v":"4480025026101740003"},4480025026,null,1,174,3,"174-3","답",778,null,null,null,"홍성군","국"]
[{"$f":"LEFT($B212542,10)&TEXT($D212542,\"0\")&TEXT($E212542,\"0000\")&TEXT($F212542,\"0000\")","v":"4480025027103190001"},4480025027,null,1,319,1,"319-1","전",162,null,null,null,"국(건설교통부)","국"]
[{"$f":"LEFT($B212637,10)&TEXT($D212637,\"0\")&TEXT($E212637,\"0000\")&TEXT($F212637,\"0000\")","v":"4480025028101840002"},4480025028,null,1,184,2,"184-2","도",23,null,null,null,"홍성군","국"]
[{"$f":"LEFT($B212742,10)&TEXT($D212742,\"0\")&TEXT($E212742,\"0000\")&TEXT($F212742,\"0000\")","v":"4480025029200840002"},4480025029,null,2,84,2,"84-2","구",114,null,null,null,"국(건설부)","국"]
[{"$f":"LEFT($B212835,10)&TEXT($D212835,\"0\")&TEXT($E212835,\"0000\")&TEXT($F212835,\"0000\")","v":"4480025030103130002"},4480025030,null,1,313,2,"313-2","답",1183,null,null,null,"99-9","최종학"]
[{"$f":"LEFT($B212967,10)&TEXT($D212967,\"0\")&TEXT($E212967,\"0000\")&TEXT($F212967,\"0000\")","v":"4480025030107180001"},4480025030,null,1,718,1,"718-1","천",691,null,null,null,"홍성군","국"]
[{"$f":"LEFT($B213125,10)&TEXT($D213125,\"0\")&TEXT($E213125,\"0000\")&TEXT($F213125,\"0000\")","v":"4480025031102130001"},4480025031,null,1,213,1,"213-1","답",1532,null,null,null,"고암리607","김종선"]
[{"$f":"LEFT($B213192,10)&TEXT($D213192,\"0\")&TEXT($E213192,\"0000\")&TEXT($F213192,\"0000\")","v":"4480025031200110007"},4480025031,null,2,11,7,"11-7","임",4066,null,null,null,"평택시동삭동340-6현대아파트102-1002","윤기선"]
[{"$f":"LEFT($B213297,10)&TEXT($D213297,\"0\")&TEXT($E213297,\"0000\")&TEXT($F213297,\"0000\")","v":"4480025032104700002"},4480025032,null,1,470,2,"470-2","답",884,null,null,null,"국(건설교통부)","국"]
[{"$f":"LEFT($B213519,10)&TEXT($D213519,\"0\")&TEXT($E213519,\"0000\")&TEXT($F213519,\"0000\")","v":"4480025321105730000"},4480025321,null,1,573,0,573,"전",1398,null,null,null,"예산군예산읍주교리179-1까치마을유익아파트202-701","성시용"]
[{"$f":"LEFT($B213522,10)&TEXT($D213522,\"0\")&TEXT($E213522,\"0000\")&TEXT($F213522,\"0000\")","v":"4480025321105740012"},4480025321,null,1,574,12,"574-12","대",540]
[{"$f":"LEFT($B213747,10)&TEXT($D213747,\"0\")&TEXT($E213747,\"0000\")&TEXT($F213747,\"0000\")","v":"4480025323100170000"},4480025323,null,1,17,0,17,"답",2418,null,null,null,"충청남도홍성군광천읍담산리225-2","유관조"]
[{"$f":"LEFT($B213812,10)&TEXT($D213812,\"0\")&TEXT($E213812,\"0000\")&TEXT($F213812,\"0000\")","v":"4480025323106090009"},4480025323,null,1,609,9,"609-9","전",249,null,null,null,"홍성군","국"]
[{"$f":"LEFT($B213972,10)&TEXT($D213972,\"0\")&TEXT($E213972,\"0000\")&TEXT($F213972,\"0000\")","v":"4480025325103160002"},4480025325,null,1,316,2,"316-2","전",1560,null,null,null,"예산군예산읍예산리201-3","동래정씨철제공파문중"]
[{"$f":"LEFT($B214077,10)&TEXT($D214077,\"0\")&TEXT($E214077,\"0000\")&TEXT($F214077,\"0000\")","v":"4480025327100980000"},4480025327,null,1,98,0,98,"전",2337,null,null,null,293,"조한희"]
[{"$f":"LEFT($B214206,10)&TEXT($D214206,\"0\")&TEXT($E214206,\"0000\")&TEXT($F214206,\"0000\")","v":"4480025328107060000"},4480025328,null,1,706,0,706,"답",521,null,null,null,"매현리286","최봉운"]
[{"$f":"LEFT($B214302,10)&TEXT($D214302,\"0\")&TEXT($E214302,\"0000\")&TEXT($F214302,\"0000\")","v":"4480025329103890002"},4480025329,null,1,389,2,"389-2","답",1868,null,null,null,"경기도남양주시호평로33101동707호(호평동호평두산위브파크)","이미란"]
[{"$f":"LEFT($B214377,10)&TEXT($D214377,\"0\")&TEXT($E214377,\"0000\")&TEXT($F214377,\"0000\")","v":"4480025330100640001"},4480025330,null,1,64,1,"64-1","답",2410,null,null,null,"광천리199-27","윤경석"]
[{"$f":"LEFT($B214527,10)&TEXT($D214527,\"0\")&TEXT($E214527,\"0000\")&TEXT($F214527,\"0000\")","v":"4480025331103470000"},4480025331,null,1,347,0,347,"답",50,null,null,null,"충청남도홍성군광천읍홍남동로155번길178-51","구길순"]
[{"$f":"LEFT($B214632,10)&TEXT($D214632,\"0\")&TEXT($E214632,\"0000\")&TEXT($F214632,\"0000\")","v":"4480025332105690002"},4480025332,null,1,569,2,"569-2","도",354,null,null,null,"홍성군","국"]
[{"$f":"LEFT($B214789,10)&TEXT($D214789,\"0\")&TEXT($E214789,\"0000\")&TEXT($F214789,\"0000\")","v":"4480025333108020004"},4480025333,null,1,802,4,"802-4","답",1777.4,null,null,null,"대평리116","유광명"]
[{"$f":"LEFT($B214857,10)&TEXT($D214857,\"0\")&TEXT($E214857,\"0000\")&TEXT($F214857,\"0000\")","v":"4480025621101560003"},4480025621,null,1,156,3,"156-3","도",17,null,null,null,601,"백기복"]
[{"$f":"LEFT($B214962,10)&TEXT($D214962,\"0\")&TEXT($E214962,\"0000\")&TEXT($F214962,\"0000\")","v":"4480025621107330009"},4480025621,null,1,733,9,"733-9","대",381.3,null,null,null,"423-1","이영한"]
[{"$f":"LEFT($B215183,10)&TEXT($D215183,\"0\")&TEXT($E215183,\"0000\")&TEXT($F215183,\"0000\")","v":"4480025623102180002"},4480025623,null,1,218,2,"218-2","대",660,null,null,null,"충청남도홍성군홍북면봉신2길6","김영희"]
[{"$f":"LEFT($B215307,10)&TEXT($D215307,\"0\")&TEXT($E215307,\"0000\")&TEXT($F215307,\"0000\")","v":"4480025624103120000"},4480025624,null,1,312,0,312,"전",714,null,null,null,"충청남도홍성군홍성읍월산리851부영아파트207-702","박경석"]
[{"$f":"LEFT($B215428,10)&TEXT($D215428,\"0\")&TEXT($E215428,\"0000\")&TEXT($F215428,\"0000\")","v":"4480025624107550000"},4480025624,null,1,755,0,755,"목",473,null,null,null,"구항면오봉리산115-1","임정환"]
[{"$f":"LEFT($B215458,10)&TEXT($D215458,\"0\")&TEXT($E215458,\"0000\")&TEXT($F215458,\"0000\")","v":"4480025624201130010"},4480025624,null,2,113,10,"113-10","임",298,null,null,null,"홍성읍월산리산149-1","조병남"]
[{"$f":"LEFT($B215637,10)&TEXT($D215637,\"0\")&TEXT($E215637,\"0000\")&TEXT($F215637,\"0000\")","v":"4480025626102000001"},4480025626,null,1,200,1,"200-1","대",143,null,null,null,"홍성군","국"]
[{"$f":"LEFT($B215766,10)&TEXT($D215766,\"0\")&TEXT($E215766,\"0000\")&TEXT($F215766,\"0000\")","v":"4480025627104920001"},4480025627,null,1,492,1,"492-1","전",2717,null,null,null,"충청남도홍성군홍성읍아문길59","정예경"]
[{"$f":"LEFT($B215862,10)&TEXT($D215862,\"0\")&TEXT($E215862,\"0000\")&TEXT($F215862,\"0000\")","v":"4480025628102210002"},4480025628,null,1,221,2,"221-2","대",582,null,null,null,"충청남도홍성군홍북면내용길547번길5","조성환"]
[{"$f":"LEFT($B215967,10)&TEXT($D215967,\"0\")&TEXT($E215967,\"0000\")&TEXT($F215967,\"0000\")","v":"4480025629102190057"},4480025629,null,1,219,57,"219-57","임",463,null,null,null,"충청남도홍성군홍북면자경로17104동1105호(자경마을중흥에스클래스)","조성완"]
[{"$f":"LEFT($B216041,10)&TEXT($D216041,\"0\")&TEXT($E216041,\"0000\")&TEXT($F216041,\"0000\")","v":"4480025630102070004"},4480025630,null,1,207,4,"207-4","임",310,null,null,null,"충청남도홍성군홍북면신정리50","박희숙"]
[{"$f":"LEFT($B216192,10)&TEXT($D216192,\"0\")&TEXT($E216192,\"0000\")&TEXT($F216192,\"0000\")","v":"4480025631103800008"},4480025631,null,1,380,8,"380-8","답",1564,null,null,null,"대전광역시서구도마동359-27양지타운3-505","임계환"]
[{"$f":"LEFT($B216313,10)&TEXT($D216313,\"0\")&TEXT($E216313,\"0000\")&TEXT($F216313,\"0000\")","v":"4480025633101570001"},4480025633,null,1,157,1,"157-1","구",125,null,null,null,"경기도의왕시포일동487","한국농어촌공사"]
[{"$f":"LEFT($B216435,10)&TEXT($D216435,\"0\")&TEXT($E216435,\"0000\")&TEXT($F216435,\"0000\")","v":"4480032021101750000"},4480032021,null,1,175,0,175,"답",2426,null,null,null,"서울특별시동대문구왕산로2길19(신설동)","박순기"]
[{"$f":"LEFT($B216522,10)&TEXT($D216522,\"0\")&TEXT($E216522,\"0000\")&TEXT($F216522,\"0000\")","v":"4480032022100470002"},4480032022,null,1,47,2,"47-2","도",115,null,null,null,"충청남도","국"]
[{"$f":"LEFT($B216643,10)&TEXT($D216643,\"0\")&TEXT($E216643,\"0000\")&TEXT($F216643,\"0000\")","v":"4480032023101830000"},4480032023,null,1,183,0,183,"전",420,null,null,null,"화양리398-3","주호원"]
[{"$f":"LEFT($B216829,10)&TEXT($D216829,\"0\")&TEXT($E216829,\"0000\")&TEXT($F216829,\"0000\")","v":"4480032025106660000"},4480032025,null,1,666,0,666,"전",598,null,null,null,356,"이복영"]
[{"$f":"LEFT($B216988,10)&TEXT($D216988,\"0\")&TEXT($E216988,\"0000\")&TEXT($F216988,\"0000\")","v":"4480032027100500007"},4480032027,null,1,50,7,"50-7","답",1800,null,null,null,"충청남도홍성군금마면용흥리234","주진정"]
[{"$f":"LEFT($B217093,10)&TEXT($D217093,\"0\")&TEXT($E217093,\"0000\")&TEXT($F217093,\"0000\")","v":"4480032028104080004"},4480032028,null,1,408,4,"408-4","답",565,null,null,null,"홍성군","국"]
[{"$f":"LEFT($B217223,10)&TEXT($D217223,\"0\")&TEXT($E217223,\"0000\")&TEXT($F217223,\"0000\")","v":"4480032029103840002"},4480032029,null,1,384,2,"384-2","천",130,null,null,null,"국(건설부)","국"]
[{"$f":"LEFT($B217318,10)&TEXT($D217318,\"0\")&TEXT($E217318,\"0000\")&TEXT($F217318,\"0000\")","v":"4480032030102240040"},4480032030,null,1,224,40,"224-40","구",77,null,null,null,"국(농수산부)","국"]
[{"$f":"LEFT($B217412,10)&TEXT($D217412,\"0\")&TEXT($E217412,\"0000\")&TEXT($F217412,\"0000\")","v":"4480032031101350006"},4480032031,null,1,135,6,"135-6","대",350,null,null,null,"충청남도홍성군금마면충서로2036번길6","정자순"]
[{"$f":"LEFT($B217527,10)&TEXT($D217527,\"0\")&TEXT($E217527,\"0000\")&TEXT($F217527,\"0000\")","v":"4480032031200240006"},4480032031,null,2,24,6,"24-6","구",572,null,null,null,"경기도의왕시포일동487","한국농어촌공사"]
[{"$f":"LEFT($B217648,10)&TEXT($D217648,\"0\")&TEXT($E217648,\"0000\")&TEXT($F217648,\"0000\")","v":"4480032032109250001"},4480032032,null,1,925,1,"925-1","답",2643.8,null,null,null,"충청남도홍성군금마면화양리65","김기석"]
[{"$f":"LEFT($B217806,10)&TEXT($D217806,\"0\")&TEXT($E217806,\"0000\")&TEXT($F217806,\"0000\")","v":"4480033021107730002"},4480033021,null,1,773,2,"773-2","대",623,null,null,null,"충청남도홍성군홍동면광금남로572번길64","유정원"]
[{"$f":"LEFT($B217873,10)&TEXT($D217873,\"0\")&TEXT($E217873,\"0000\")&TEXT($F217873,\"0000\")","v":"4480033022105710000"},4480033022,null,1,571,0,571,"대",1240,null,null,null,"경기도부천시도약로206201동1102호(약대동부천두산위브트레지움)","정완진"]
[{"$f":"LEFT($B217978,10)&TEXT($D217978,\"0\")&TEXT($E217978,\"0000\")&TEXT($F217978,\"0000\")","v":"4480033023201170000"},4480033023,null,2,117,0,117,"구",132,null,null,null,"국(건설부)","국"]
[{"$f":"LEFT($B218081,10)&TEXT($D218081,\"0\")&TEXT($E218081,\"0000\")&TEXT($F218081,\"0000\")","v":"4480033024110620008"},4480033024,null,1,1062,8,"1062-8","목",625,null,null,null,725,"장병균"]
[{"$f":"LEFT($B218203,10)&TEXT($D218203,\"0\")&TEXT($E218203,\"0000\")&TEXT($F218203,\"0000\")","v":"4480033026100810000"},4480033026,null,1,81,0,81,"대",694,null,null,null,18,"남본공화"]
[{"$f":"LEFT($B218308,10)&TEXT($D218308,\"0\")&TEXT($E218308,\"0000\")&TEXT($F218308,\"0000\")","v":"4480033027102790006"},4480033027,null,1,279,6,"279-6","창",61,null,null,null,"대전시서구둔산동907샘머리아파트104-906호","이기제"]
[{"$f":"LEFT($B218475,10)&TEXT($D218475,\"0\")&TEXT($E218475,\"0000\")&TEXT($F218475,\"0000\")","v":"4480033028107690004"},4480033028,null,1,769,4,"769-4","답",2574.8000000000002,null,null,null,438,"최완섭"]
[{"$f":"LEFT($B218653,10)&TEXT($D218653,\"0\")&TEXT($E218653,\"0000\")&TEXT($F218653,\"0000\")","v":"4480033030102590000"},4480033030,null,1,259,0,259,"전",1379,null,null,null,207,"김녕김씨문중"]
[{"$f":"LEFT($B218783,10)&TEXT($D218783,\"0\")&TEXT($E218783,\"0000\")&TEXT($F218783,\"0000\")","v":"4480033031106170002"},4480033031,null,1,617,2,"617-2","도",190,null,null,null,"홍성군","국"]
[{"$f":"LEFT($B218878,10)&TEXT($D218878,\"0\")&TEXT($E218878,\"0000\")&TEXT($F218878,\"0000\")","v":"4480033032102410001"},4480033032,null,1,241,1,"241-1","대",188,null,null,null,null,"이현주"]
[{"$f":"LEFT($B218983,10)&TEXT($D218983,\"0\")&TEXT($E218983,\"0000\")&TEXT($F218983,\"0000\")","v":"4480033033200760000"},4480033033,null,2,76,0,76,"구",761,null,null,null,"국(건설부)","국"]
[{"$f":"LEFT($B219058,10)&TEXT($D219058,\"0\")&TEXT($E219058,\"0000\")&TEXT($F219058,\"0000\")","v":"4480033034107050000"},4480033034,null,1,705,0,705,"도",3506,null,null,null,"국(건설부)","국"]
[{"$f":"LEFT($B219208,10)&TEXT($D219208,\"0\")&TEXT($E219208,\"0000\")&TEXT($F219208,\"0000\")","v":"4480034022101900002"},4480034022,null,1,190,2,"190-2","목",1924,null,null,null,383,"장태현"]
[{"$f":"LEFT($B219313,10)&TEXT($D219313,\"0\")&TEXT($E219313,\"0000\")&TEXT($F219313,\"0000\")","v":"4480034023102200000"},4480034023,null,1,220,0,220,"대",255,null,null,null,null,"정인기"]
[{"$f":"LEFT($B219470,10)&TEXT($D219470,\"0\")&TEXT($E219470,\"0000\")&TEXT($F219470,\"0000\")","v":"4480034024200620000"},4480034024,null,2,62,0,62,"임",22528,null,null,null,"부천시원미구상동397반달마을1801-106","김연철"]
[{"$f":"LEFT($B219538,10)&TEXT($D219538,\"0\")&TEXT($E219538,\"0000\")&TEXT($F219538,\"0000\")","v":"4480034025105430006"},4480034025,null,1,543,6,"543-6","답",1564.9,null,null,null,"충청남도홍성군장곡면오성1길23","김원기"]
[{"$f":"LEFT($B219643,10)&TEXT($D219643,\"0\")&TEXT($E219643,\"0000\")&TEXT($F219643,\"0000\")","v":"4480034027102140002"},4480034027,null,1,214,2,"214-2","답",206,null,null,null,"충청남도홍성군장곡면가송리207","정점이"]
[{"$f":"LEFT($B219745,10)&TEXT($D219745,\"0\")&TEXT($E219745,\"0000\")&TEXT($F219745,\"0000\")","v":"4480034029100410000"},4480034029,null,1,41,0,41,"목",4609,null,null,null,"충청남도홍성군홍성읍충절로953번길20108동1402호(신동아파밀리에아파트)","이철영"]
[{"$f":"LEFT($B219868,10)&TEXT($D219868,\"0\")&TEXT($E219868,\"0000\")&TEXT($F219868,\"0000\")","v":"4480034030101290008"},4480034030,null,1,129,8,"129-8","임",2129,null,null,null,"경기도동두천시생연동531-4화성3차505","오장헌"]
[{"$f":"LEFT($B220035,10)&TEXT($D220035,\"0\")&TEXT($E220035,\"0000\")&TEXT($F220035,\"0000\")","v":"4480034031108720000"},4480034031,null,1,872,0,872,"구",943.3,null,null,null,"국(농림부)","국"]
[{"$f":"LEFT($B220213,10)&TEXT($D220213,\"0\")&TEXT($E220213,\"0000\")&TEXT($F220213,\"0000\")","v":"4480034033103440010"},4480034033,null,1,344,10,"344-10","구",24,null,null,null,"국(건설교통부)","국"]
[{"$f":"LEFT($B220318,10)&TEXT($D220318,\"0\")&TEXT($E220318,\"0000\")&TEXT($F220318,\"0000\")","v":"4480034034200430003"},4480034034,null,2,43,3,"43-3","임",7636,null,null,null,"충청남도홍성군광천읍신진리566-1","이진열"]
[{"$f":"LEFT($B220447,10)&TEXT($D220447,\"0\")&TEXT($E220447,\"0000\")&TEXT($F220447,\"0000\")","v":"4480034036102510004"},4480034036,null,1,251,4,"251-4","답",1743,null,null,null,368,"이상식"]
[{"$f":"LEFT($B220543,10)&TEXT($D220543,\"0\")&TEXT($E220543,\"0000\")&TEXT($F220543,\"0000\")","v":"4480034036201380000"},4480034036,null,2,138,0,138,"구",231,null,null,null,"국(건설부)","국"]
[{"$f":"LEFT($B220648,10)&TEXT($D220648,\"0\")&TEXT($E220648,\"0000\")&TEXT($F220648,\"0000\")","v":"4480035022101750002"},4480035022,null,1,175,2,"175-2","전",638,null,null,null,"충청남도홍성군은하면유송리171","천태영"]
[{"$f":"LEFT($B220722,10)&TEXT($D220722,\"0\")&TEXT($E220722,\"0000\")&TEXT($F220722,\"0000\")","v":"4480035023101960009"},4480035023,null,1,196,9,"196-9","도",311,null,null,null,"홍성군","국"]
[{"$f":"LEFT($B220873,10)&TEXT($D220873,\"0\")&TEXT($E220873,\"0000\")&TEXT($F220873,\"0000\")","v":"4480035024104740001"},4480035024,null,1,474,1,"474-1","대",28,null,null,null,"충청남도홍성군은하면은하로481번길18-17","이양희"]
[{"$f":"LEFT($B220978,10)&TEXT($D220978,\"0\")&TEXT($E220978,\"0000\")&TEXT($F220978,\"0000\")","v":"4480035026101930025"},4480035026,null,1,193,25,"193-25","전",619,null,null,null,"충청남도홍성군은하면학산리193-1","박상두"]
[{"$f":"LEFT($B221116,10)&TEXT($D221116,\"0\")&TEXT($E221116,\"0000\")&TEXT($F221116,\"0000\")","v":"4480035027104050001"},4480035027,null,1,405,1,"405-1","도",30,null,null,null,"결성면중리","최문봉"]
[{"$f":"LEFT($B221203,10)&TEXT($D221203,\"0\")&TEXT($E221203,\"0000\")&TEXT($F221203,\"0000\")","v":"4480035028200530002"},4480035028,null,2,53,2,"53-2","임",447,null,null,null,"충청남도천안시동남구청수로82-12203호(청수동)","강범석"]
[{"$f":"LEFT($B221324,10)&TEXT($D221324,\"0\")&TEXT($E221324,\"0000\")&TEXT($F221324,\"0000\")","v":"4480035030105140012"},4480035030,null,1,514,12,"514-12","임",5247,null,null,null,519,"정기동"]
[{"$f":"LEFT($B221510,10)&TEXT($D221510,\"0\")&TEXT($E221510,\"0000\")&TEXT($F221510,\"0000\")","v":"4480035031108280000"},4480035031,null,1,828,0,828,"대",1031,null,null,null,834,"배선학"]
[{"$f":"LEFT($B221653,10)&TEXT($D221653,\"0\")&TEXT($E221653,\"0000\")&TEXT($F221653,\"0000\")","v":"4480036021105680000"},4480036021,null,1,568,0,568,"답",2089,null,null,null,"590-1","김건수"]
[{"$f":"LEFT($B221699,10)&TEXT($D221699,\"0\")&TEXT($E221699,\"0000\")&TEXT($F221699,\"0000\")","v":"4480036022102470005"},4480036022,null,1,247,5,"247-5","답",339,null,null,null,"홍성읍오관리467-4","윤창숙"]
[{"$f":"LEFT($B221878,10)&TEXT($D221878,\"0\")&TEXT($E221878,\"0000\")&TEXT($F221878,\"0000\")","v":"4480036023108040001"},4480036023,null,1,804,1,"804-1","전",479,null,null,null,913,"김윤태"]
[{"$f":"LEFT($B221999,10)&TEXT($D221999,\"0\")&TEXT($E221999,\"0000\")&TEXT($F221999,\"0000\")","v":"4480036024103930002"},4480036024,null,1,393,2,"393-2","도",79,null,null,null,"홍성군","국"]
[{"$f":"LEFT($B222093,10)&TEXT($D222093,\"0\")&TEXT($E222093,\"0000\")&TEXT($F222093,\"0000\")","v":"4480036025102000000"},4480036025,null,1,200,0,200,"전",241,null,null,null,"서울시관악구봉천동46","정덕영"]
[{"$f":"LEFT($B222208,10)&TEXT($D222208,\"0\")&TEXT($E222208,\"0000\")&TEXT($F222208,\"0000\")","v":"4480036026104190012"},4480036026,null,1,419,12,"419-12","전",975,null,null,null,"읍내리380","박성호"]
[{"$f":"LEFT($B222329,10)&TEXT($D222329,\"0\")&TEXT($E222329,\"0000\")&TEXT($F222329,\"0000\")","v":"4480036027106590001"},4480036027,null,1,659,1,"659-1","임",10257,null,null,null,702,"김정국"]
[{"$f":"LEFT($B222487,10)&TEXT($D222487,\"0\")&TEXT($E222487,\"0000\")&TEXT($F222487,\"0000\")","v":"4480036028200160003"},4480036028,null,2,16,3,"16-3","임",298,null,null,null,"226-1","이병수"]
[{"$f":"LEFT($B222538,10)&TEXT($D222538,\"0\")&TEXT($E222538,\"0000\")&TEXT($F222538,\"0000\")","v":"4480036029102040000"},4480036029,null,1,204,0,204,"묘",3349,null,null,null,170,"김석권"]
[{"$f":"LEFT($B222659,10)&TEXT($D222659,\"0\")&TEXT($E222659,\"0000\")&TEXT($F222659,\"0000\")","v":"4480037021102650013"},4480037021,null,1,265,13,"265-13","대",165,null,null,null,265,"서부단위농업협동조합"]
[{"$f":"LEFT($B222762,10)&TEXT($D222762,\"0\")&TEXT($E222762,\"0000\")&TEXT($F222762,\"0000\")","v":"4480037022100680000"},4480037022,null,1,68,0,68,"답",2472,null,null,null,66,"허금순"]
[{"$f":"LEFT($B222884,10)&TEXT($D222884,\"0\")&TEXT($E222884,\"0000\")&TEXT($F222884,\"0000\")","v":"4480037022200510000"},4480037022,null,2,51,0,51,"임",1091,null,null,null,"대전광역시유성구송강로42번길61310동1508호(송강동청솔아파트)","박동호"]
[{"$f":"LEFT($B223070,10)&TEXT($D223070,\"0\")&TEXT($E223070,\"0000\")&TEXT($F223070,\"0000\")","v":"4480037023201540000"},4480037023,null,2,154,0,154,"임",7620,null,null,null,"인천시남구옥련동369-15","서영호"]
[{"$f":"LEFT($B223093,10)&TEXT($D223093,\"0\")&TEXT($E223093,\"0000\")&TEXT($F223093,\"0000\")","v":"4480037024101700001"},4480037024,null,1,170,1,"170-1","답",2218,null,null,null,"궁리520-5","서정욱"]
[{"$f":"LEFT($B223214,10)&TEXT($D223214,\"0\")&TEXT($E223214,\"0000\")&TEXT($F223214,\"0000\")","v":"4480037025104050043"},4480037025,null,1,405,43,"405-43","잡",808,null,null,null,"국(기획재정부)","국"]
[{"$f":"LEFT($B223345,10)&TEXT($D223345,\"0\")&TEXT($E223345,\"0000\")&TEXT($F223345,\"0000\")","v":"4480037026105910002"},4480037026,null,1,591,2,"591-2","답",1445,null,null,null,491,"김흥남"]
[{"$f":"LEFT($B223559,10)&TEXT($D223559,\"0\")&TEXT($E223559,\"0000\")&TEXT($F223559,\"0000\")","v":"4480037027108410002"},4480037027,null,1,841,2,"841-2","구",400,null,null,null,"국(농림수산부)","국"]
[{"$f":"LEFT($B223664,10)&TEXT($D223664,\"0\")&TEXT($E223664,\"0000\")&TEXT($F223664,\"0000\")","v":"4480037029100170007"},4480037029,null,1,17,7,"17-7","전",297,null,null,null,"홍성군","국"]
[{"$f":"LEFT($B223739,10)&TEXT($D223739,\"0\")&TEXT($E223739,\"0000\")&TEXT($F223739,\"0000\")","v":"4480037030102310000"},4480037030,null,1,231,0,231,"전",608,null,null,null,"경기도시흥시시흥대로1073번길40101동1004호(신천동산호아파트)","이영선"]
[{"$f":"LEFT($B223889,10)&TEXT($D223889,\"0\")&TEXT($E223889,\"0000\")&TEXT($F223889,\"0000\")","v":"4480037031105850001"},4480037031,null,1,585,1,"585-1","전",57,null,null,null,601,"이정구"]
[{"$f":"LEFT($B223994,10)&TEXT($D223994,\"0\")&TEXT($E223994,\"0000\")&TEXT($F223994,\"0000\")","v":"4480038021102760003"},4480038021,null,1,276,3,"276-3","도",56,null,null,null,"국(건설부)","국"]
[{"$f":"LEFT($B224133,10)&TEXT($D224133,\"0\")&TEXT($E224133,\"0000\")&TEXT($F224133,\"0000\")","v":"4480038022106160002"},4480038022,null,1,616,2,"616-2","도",56,null,null,null,"국(건설부)","국"]
[{"$f":"LEFT($B224219,10)&TEXT($D224219,\"0\")&TEXT($E224219,\"0000\")&TEXT($F224219,\"0000\")","v":"4480038023103280005"},4480038023,null,1,328,5,"328-5","도",160,null,null,null,"충청남도","국"]
[{"$f":"LEFT($B224322,10)&TEXT($D224322,\"0\")&TEXT($E224322,\"0000\")&TEXT($F224322,\"0000\")","v":"4480038024104330000"},4480038024,null,1,433,0,433,"전",512,null,null,null,"충청남도홍성군갈산면수덕사로261번길39","한재석"]
[{"$f":"LEFT($B224444,10)&TEXT($D224444,\"0\")&TEXT($E224444,\"0000\")&TEXT($F224444,\"0000\")","v":"4480038026107710000"},4480038026,null,1,771,0,771,"답",5075,null,null,null,"충청남도홍성군홍성읍충절로1053번길86-10","김상원"]
[{"$f":"LEFT($B224549,10)&TEXT($D224549,\"0\")&TEXT($E224549,\"0000\")&TEXT($F224549,\"0000\")","v":"4480038028103460003"},4480038028,null,1,346,3,"346-3","답",909,null,null,null,"상촌리243","김동규"]
[{"$f":"LEFT($B224716,10)&TEXT($D224716,\"0\")&TEXT($E224716,\"0000\")&TEXT($F224716,\"0000\")","v":"4480038030106030002"},4480038030,null,1,603,2,"603-2","답",1829,null,null,null,"부기리648","최관식"]
[{"$f":"LEFT($B224774,10)&TEXT($D224774,\"0\")&TEXT($E224774,\"0000\")&TEXT($F224774,\"0000\")","v":"4480038031102040000"},4480038031,null,1,204,0,204,"대",367,null,null,null,205,"유선근"]
[{"$f":"LEFT($B224999,10)&TEXT($D224999,\"0\")&TEXT($E224999,\"0000\")&TEXT($F224999,\"0000\")","v":"4480038033103830016"},4480038033,null,1,383,16,"383-16","수",53,null,null,null,"국(환경부)","국"]
[{"$f":"LEFT($B225110,10)&TEXT($D225110,\"0\")&TEXT($E225110,\"0000\")&TEXT($F225110,\"0000\")","v":"4480038034106040004"},4480038034,null,1,604,4,"604-4","전",109,null,null,null,"홍성군갈산면운곡리627","유응규"]
[{"$f":"LEFT($B225224,10)&TEXT($D225224,\"0\")&TEXT($E225224,\"0000\")&TEXT($F225224,\"0000\")","v":"4480038035200580004"},4480038035,null,2,58,4,"58-4","임",793,null,null,null,421,"이기남"]
[{"$f":"LEFT($B225329,10)&TEXT($D225329,\"0\")&TEXT($E225329,\"0000\")&TEXT($F225329,\"0000\")","v":"4480039021100890000"},4480039021,null,1,89,0,89,"잡",3109,null,null,null,89,"전병준"]
[{"$f":"LEFT($B225403,10)&TEXT($D225403,\"0\")&TEXT($E225403,\"0000\")&TEXT($F225403,\"0000\")","v":"4480039021200840002"},4480039021,null,2,84,2,"84-2","도",1785,null,null,null,"서울특별시은평구서오릉로21길36104동1603호(구산동갈현현대아파트)","이동우"]
[{"$f":"LEFT($B225554,10)&TEXT($D225554,\"0\")&TEXT($E225554,\"0000\")&TEXT($F225554,\"0000\")","v":"4480039022108060000"},4480039022,null,1,806,0,806,"도",377,null,null,null,"국(건설부)","국"]
[{"$f":"LEFT($B225693,10)&TEXT($D225693,\"0\")&TEXT($E225693,\"0000\")&TEXT($F225693,\"0000\")","v":"4480039024102720001"},4480039024,null,1,272,1,"272-1","임",17458,null,null,null,"충청남도홍성군홍성읍간동1길10-1","이환우"]
[{"$f":"LEFT($B225779,10)&TEXT($D225779,\"0\")&TEXT($E225779,\"0000\")&TEXT($F225779,\"0000\")","v":"4480039025105930016"},4480039025,null,1,593,16,"593-16","대",608,null,null,null,"장양리568","이완영"]
[{"$f":"LEFT($B225884,10)&TEXT($D225884,\"0\")&TEXT($E225884,\"0000\")&TEXT($F225884,\"0000\")","v":"4480039027100810002"},4480039027,null,1,81,2,"81-2","전",7850,null,null,null,"충청남도홍성군구항면구성남로912번길27-43","심숙자"]
[{"$f":"LEFT($B225986,10)&TEXT($D225986,\"0\")&TEXT($E225986,\"0000\")&TEXT($F225986,\"0000\")","v":"4480039027201130003"},4480039027,null,2,113,3,"113-3","임",4250,null,null,null,"경기도성남시수정구시민로205번길14-12(태평동)","신병철"]
[{"$f":"LEFT($B226109,10)&TEXT($D226109,\"0\")&TEXT($E226109,\"0000\")&TEXT($F226109,\"0000\")","v":"4480034029112270000"},4480034029,null,1,1227,0,1227,"도",593.20000000000005,null,null,null,"국(농림부)","국"]
[{"$f":"LEFT($B226214,10)&TEXT($D226214,\"0\")&TEXT($E226214,\"0000\")&TEXT($F226214,\"0000\")","v":"4480032030105440000"},4480032030,null,1,544,0,544,"답",3020,null,null,null,"136-2","김문관"]
[{"$f":"LEFT($B226380,10)&TEXT($D226380,\"0\")&TEXT($E226380,\"0000\")&TEXT($F226380,\"0000\")","v":"4480039032100010014"},4480039032,null,1,1,14,"1-14","도",544,null,null,null,"국(건설교통부)","국"]
[{"$f":"LEFT($B226559,10)&TEXT($D226559,\"0\")&TEXT($E226559,\"0000\")&TEXT($F226559,\"0000\")","v":"4480034030104190001"},4480034030,null,1,419,1,"419-1","전",9,null,null,null,461,"오윤규"]
[{"$f":"LEFT($B226664,10)&TEXT($D226664,\"0\")&TEXT($E226664,\"0000\")&TEXT($F226664,\"0000\")","v":"4480034029104960042"},4480034029,null,1,496,42,"496-42","임",2184,null,null,null,"충청남도보령시오천면솟재길278-12","조순덕"]
[{"$f":"LEFT($B226774,10)&TEXT($D226774,\"0\")&TEXT($E226774,\"0000\")&TEXT($F226774,\"0000\")","v":"4480025021103820007"},4480025021,null,1,382,7,"382-7","구",12,null,null,null,"303-1","전태수"]
[{"$f":"LEFT($B226889,10)&TEXT($D226889,\"0\")&TEXT($E226889,\"0000\")&TEXT($F226889,\"0000\")","v":"4480025021105750003"},4480025021,null,1,575,3,"575-3","대",118,null,null,null,"충청남도홍성군홍성읍홍성천길16","윤다현"]
[{"$f":"LEFT($B227010,10)&TEXT($D227010,\"0\")&TEXT($E227010,\"0000\")&TEXT($F227010,\"0000\")","v":"4480025022101750005"},4480025022,null,1,175,5,"175-5","전",27,null,null,null,"충청남도","국"]
[{"$f":"LEFT($B227049,10)&TEXT($D227049,\"0\")&TEXT($E227049,\"0000\")&TEXT($F227049,\"0000\")","v":"4480025022103220002"},4480025022,null,1,322,2,"322-2","대",235,null,null,null,322,"전병세"]
[{"$f":"LEFT($B227219,10)&TEXT($D227219,\"0\")&TEXT($E227219,\"0000\")&TEXT($F227219,\"0000\")","v":"4480025023102810054"},4480025023,null,1,281,54,"281-54","도",63,null,null,null,"충청남도홍성군홍성읍소향길131번길40-31","김혜지"]
[{"$f":"LEFT($B227357,10)&TEXT($D227357,\"0\")&TEXT($E227357,\"0000\")&TEXT($F227357,\"0000\")","v":"4480025024105720012"},4480025024,null,1,572,12,"572-12","임",285,null,null,null,154,"김종석"]
[{"$f":"LEFT($B227444,10)&TEXT($D227444,\"0\")&TEXT($E227444,\"0000\")&TEXT($F227444,\"0000\")","v":"4480025025100140015"},4480025025,null,1,14,15,"14-15","답",280,null,null,null,"충청남도홍성군홍성읍문화로57번길23","김건수"]
[{"$f":"LEFT($B227565,10)&TEXT($D227565,\"0\")&TEXT($E227565,\"0000\")&TEXT($F227565,\"0000\")","v":"4480025025105830002"},4480025025,null,1,583,2,"583-2","전",545,null,null,null,841,"박창배"]
[{"$f":"LEFT($B227751,10)&TEXT($D227751,\"0\")&TEXT($E227751,\"0000\")&TEXT($F227751,\"0000\")","v":"4480025026104070005"},4480025026,null,1,407,5,"407-5","도",195,null,null,null,"국(건설부)","국"]
[{"$f":"LEFT($B227774,10)&TEXT($D227774,\"0\")&TEXT($E227774,\"0000\")&TEXT($F227774,\"0000\")","v":"4480025026105300000"},4480025026,null,1,530,0,530,"대",509,null,null,null,"대전광역시서구청사로70107동202호(월평동누리아파트)","최상출"]
[{"$f":"LEFT($B227895,10)&TEXT($D227895,\"0\")&TEXT($E227895,\"0000\")&TEXT($F227895,\"0000\")","v":"4480025027106090000"},4480025027,null,1,609,0,609,"전",344,null,null,null,570,"김용관"]
[{"$f":"LEFT($B228026,10)&TEXT($D228026,\"0\")&TEXT($E228026,\"0000\")&TEXT($F228026,\"0000\")","v":"4480025029102930002"},4480025029,null,1,293,2,"293-2","도",10,null,null,null,293,"윤복용"]
[{"$f":"LEFT($B228224,10)&TEXT($D228224,\"0\")&TEXT($E228224,\"0000\")&TEXT($F228224,\"0000\")","v":"4480025030106070193"},4480025030,null,1,607,193,"607-193","도",9,null,null,null,"국(건설부)","국"]
[{"$f":"LEFT($B228345,10)&TEXT($D228345,\"0\")&TEXT($E228345,\"0000\")&TEXT($F228345,\"0000\")","v":"4480025031100170013"},4480025031,null,1,17,13,"17-13","답",2263,null,null,null,"충청남도홍성군홍성읍내용길43-34","이용재"]
[{"$f":"LEFT($B228420,10)&TEXT($D228420,\"0\")&TEXT($E228420,\"0000\")&TEXT($F228420,\"0000\")","v":"4480025031101840011"},4480025031,null,1,184,11,"184-11","전",150,null,null,null,"충청남도예산군덕산면광천중앙길92","임종흔"]
[{"$f":"LEFT($B228570,10)&TEXT($D228570,\"0\")&TEXT($E228570,\"0000\")&TEXT($F228570,\"0000\")","v":"4480025032104060001"},4480025032,null,1,406,1,"406-1","전",12,null,null,null,"국(건설부)","국"]
[{"$f":"LEFT($B228609,10)&TEXT($D228609,\"0\")&TEXT($E228609,\"0000\")&TEXT($F228609,\"0000\")","v":"4480025032200910000"},4480025032,null,2,91,0,91,"임",1686,null,null,null,"서울구로구구로동1272미래타워101-602","김규영"]
[{"$f":"LEFT($B228779,10)&TEXT($D228779,\"0\")&TEXT($E228779,\"0000\")&TEXT($F228779,\"0000\")","v":"4480025321105460028"},4480025321,null,1,546,28,"546-28","대",50,null,null,null,"충청남도홍성군광천읍광천로359번길21-16201호(거성아파트)","문현민"]
[{"$f":"LEFT($B228900,10)&TEXT($D228900,\"0\")&TEXT($E228900,\"0000\")&TEXT($F228900,\"0000\")","v":"4480025322102370010"},4480025322,null,1,237,10,"237-10","대",23,null,null,null,"홍성군","국"]
[{"$f":"LEFT($B229003,10)&TEXT($D229003,\"0\")&TEXT($E229003,\"0000\")&TEXT($F229003,\"0000\")","v":"4480025322104570004"},4480025322,null,1,457,4,"457-4","도",164,null,null,null,"국(건설교통부)","국"]
[{"$f":"LEFT($B229109,10)&TEXT($D229109,\"0\")&TEXT($E229109,\"0000\")&TEXT($F229109,\"0000\")","v":"4480025323108330000"},4480025323,null,1,833,0,833,"대",648,null,null,null,"담산리833","김기홍"]
[{"$f":"LEFT($B229230,10)&TEXT($D229230,\"0\")&TEXT($E229230,\"0000\")&TEXT($F229230,\"0000\")","v":"4480025325100460000"},4480025325,null,1,46,0,46,"전",142,null,null,null,106,"방영실"]
[{"$f":"LEFT($B229397,10)&TEXT($D229397,\"0\")&TEXT($E229397,\"0000\")&TEXT($F229397,\"0000\")","v":"4480025327200630001"},4480025327,null,2,63,1,"63-1","임",4344,null,null,null,"홍성읍오관리348-9","유철용"]
[{"$f":"LEFT($B229455,10)&TEXT($D229455,\"0\")&TEXT($E229455,\"0000\")&TEXT($F229455,\"0000\")","v":"4480025328104280002"},4480025328,null,1,428,2,"428-2","전",800,null,null,null,"인천광역시남동구만수동1042광명아파트106-307","김종덕"]
[{"$f":"LEFT($B229560,10)&TEXT($D229560,\"0\")&TEXT($E229560,\"0000\")&TEXT($F229560,\"0000\")","v":"4480025329102110000"},4480025329,null,1,211,0,211,"답",2030,null,null,null,"벽계리192","성봉현"]
[{"$f":"LEFT($B229791,10)&TEXT($D229791,\"0\")&TEXT($E229791,\"0000\")&TEXT($F229791,\"0000\")","v":"4480025331100370000"},4480025331,null,1,37,0,37,"전",175,null,null,null,76,"구병회"]
[{"$f":"LEFT($B229905,10)&TEXT($D229905,\"0\")&TEXT($E229905,\"0000\")&TEXT($F229905,\"0000\")","v":"4480025332101120000"},4480025332,null,1,112,0,112,"대",1213,null,null,null,"서울특별시성동구고산자로164107동2102호(행당동행당동한신아파트)","안은미"]
[{"$f":"LEFT($B229980,10)&TEXT($D229980,\"0\")&TEXT($E229980,\"0000\")&TEXT($F229980,\"0000\")","v":"4480025333101030001"},4480025333,null,1,103,1,"103-1","전",651,null,null,null,"대영리286","이재연"]
[{"$f":"LEFT($B230130,10)&TEXT($D230130,\"0\")&TEXT($E230130,\"0000\")&TEXT($F230130,\"0000\")","v":"4480025621100930008"},4480025621,null,1,93,8,"93-8","과",3,null,null,null,"서울특별시용산구후암동254-22","미국인마최자네트경진"]
[{"$f":"LEFT($B230235,10)&TEXT($D230235,\"0\")&TEXT($E230235,\"0000\")&TEXT($F230235,\"0000\")","v":"4480025621106810004"},4480025621,null,1,681,4,"681-4","답",2348.6999999999998,null,null,null,"충청남도홍성군홍북면홍천문화1길22","권명진"]
[{"$f":"LEFT($B230374,10)&TEXT($D230374,\"0\")&TEXT($E230374,\"0000\")&TEXT($F230374,\"0000\")","v":"4480025622104500008"},4480025622,null,1,450,8,"450-8","답",2,null,null,null,121,"전준규"]
[{"$f":"LEFT($B230460,10)&TEXT($D230460,\"0\")&TEXT($E230460,\"0000\")&TEXT($F230460,\"0000\")","v":"4480025623101370000"},4480025623,null,1,137,0,137,"전",813,null,null,null,"충청남도예산군예산읍예산리727-1평화아파트-1106","곽두순"]
[{"$f":"LEFT($B230565,10)&TEXT($D230565,\"0\")&TEXT($E230565,\"0000\")&TEXT($F230565,\"0000\")","v":"4480025624100190014"},4480025624,null,1,19,14,"19-14","답",1820,null,null,null,"307-2","최상우"]
[{"$f":"LEFT($B230649,10)&TEXT($D230649,\"0\")&TEXT($E230649,\"0000\")&TEXT($F230649,\"0000\")","v":"4480025624103310006"},4480025624,null,1,331,6,"331-6","전",2258,null,null,null,"국(기획재정부)","국"]
[{"$f":"LEFT($B230790,10)&TEXT($D230790,\"0\")&TEXT($E230790,\"0000\")&TEXT($F230790,\"0000\")","v":"4480025625104610053"},4480025625,null,1,461,53,"461-53","구",30,null,null,null,"충청남도홍성군홍성읍문화로109","충청남도개발공사"]
[{"$f":"LEFT($B230895,10)&TEXT($D230895,\"0\")&TEXT($E230895,\"0000\")&TEXT($F230895,\"0000\")","v":"4480025626100710012"},4480025626,null,1,71,12,"71-12","답",1382,null,null,null,"홍성군홍북면대동리143-2","박미숙"]
[{"$f":"LEFT($B231061,10)&TEXT($D231061,\"0\")&TEXT($E231061,\"0000\")&TEXT($F231061,\"0000\")","v":"4480025627106170020"},4480025627,null,1,617,20,"617-20","구",49,null,null,null,"경기도의왕시포일동487","한국농어촌공사"]
[{"$f":"LEFT($B231120,10)&TEXT($D231120,\"0\")&TEXT($E231120,\"0000\")&TEXT($F231120,\"0000\")","v":"4480025628101760001"},4480025628,null,1,176,1,"176-1","천",2756,null,null,null,"국(건설부)","국"]
[{"$f":"LEFT($B231345,10)&TEXT($D231345,\"0\")&TEXT($E231345,\"0000\")&TEXT($F231345,\"0000\")","v":"4480025630200530000"},4480025630,null,2,53,0,53,"임",7874,null,null,null,89,"전홍철"]
[{"$f":"LEFT($B231455,10)&TEXT($D231455,\"0\")&TEXT($E231455,\"0000\")&TEXT($F231455,\"0000\")","v":"4480025632100390004"},4480025632,null,1,39,4,"39-4","임",660,null,null,null,"서울특별시금천구탑골로5-10(시흥동)","임해용"]
[{"$f":"LEFT($B231570,10)&TEXT($D231570,\"0\")&TEXT($E231570,\"0000\")&TEXT($F231570,\"0000\")","v":"4480025633101610001"},4480025633,null,1,161,1,"161-1","전",479,null,null,null,"충청남도홍성군홍북면대인리160-3","윤백선"]
[{"$f":"LEFT($B231626,10)&TEXT($D231626,\"0\")&TEXT($E231626,\"0000\")&TEXT($F231626,\"0000\")","v":"4480025633104770001"},4480025633,null,1,477,1,"477-1","전",124,null,null,null,"서울시구로구고척동320센츄리아파트103동1001호","임훈"]
[{"$f":"LEFT($B231795,10)&TEXT($D231795,\"0\")&TEXT($E231795,\"0000\")&TEXT($F231795,\"0000\")","v":"4480032021201370000"},4480032021,null,2,137,0,137,"임",7834,null,null,null,"예산광시면하장대리46","오영환"]
[{"$f":"LEFT($B231900,10)&TEXT($D231900,\"0\")&TEXT($E231900,\"0000\")&TEXT($F231900,\"0000\")","v":"4480032022107690002"},4480032022,null,1,769,2,"769-2","대",602,null,null,null,769,"고광현"]
[{"$f":"LEFT($B232038,10)&TEXT($D232038,\"0\")&TEXT($E232038,\"0000\")&TEXT($F232038,\"0000\")","v":"4480032024102430001"},4480032024,null,1,243,1,"243-1","답",1447,null,null,null,"충청남도홍성군금마면봉수산로850번길123-25","이환분"]
[{"$f":"LEFT($B232125,10)&TEXT($D232125,\"0\")&TEXT($E232125,\"0000\")&TEXT($F232125,\"0000\")","v":"4480032025102670004"},4480032025,null,1,267,4,"267-4","대",230,null,null,null,"경기도평택시송탄2로70-1811동204호(지산동스마트빌)","김광겸"]
[{"$f":"LEFT($B232230,10)&TEXT($D232230,\"0\")&TEXT($E232230,\"0000\")&TEXT($F232230,\"0000\")","v":"4480032026103470009"},4480032026,null,1,347,9,"347-9","대",608,null,null,null,"충청남도홍성군금마면금마로324번길19","이난숙"]
[{"$f":"LEFT($B232313,10)&TEXT($D232313,\"0\")&TEXT($E232313,\"0000\")&TEXT($F232313,\"0000\")","v":"4480032027101180001"},4480032027,null,1,118,1,"118-1","전",5351,null,null,null,"388-3","한항우"]
[{"$f":"LEFT($B232455,10)&TEXT($D232455,\"0\")&TEXT($E232455,\"0000\")&TEXT($F232455,\"0000\")","v":"4480032028106260003"},4480032028,null,1,626,3,"626-3","답",1452.1,null,null,null,"충청남도홍성군홍성읍충절로983번길12","윤문헌"]
[{"$f":"LEFT($B232576,10)&TEXT($D232576,\"0\")&TEXT($E232576,\"0000\")&TEXT($F232576,\"0000\")","v":"4480032029104040013"},4480032029,null,1,404,13,"404-13","답",883,null,null,null,"224-4","김성훈"]
[{"$f":"LEFT($B232707,10)&TEXT($D232707,\"0\")&TEXT($E232707,\"0000\")&TEXT($F232707,\"0000\")","v":"4480032030103890008"},4480032030,null,1,389,8,"389-8","답",2559,null,null,null,"수원시권선구세류동1167-51","함영길"]
[{"$f":"LEFT($B232785,10)&TEXT($D232785,\"0\")&TEXT($E232785,\"0000\")&TEXT($F232785,\"0000\")","v":"4480032031102110000"},4480032031,null,1,211,0,211,"대",628,null,null,null,"서울특별시양천구신월동132-18","정홍영"]
[{"$f":"LEFT($B233015,10)&TEXT($D233015,\"0\")&TEXT($E233015,\"0000\")&TEXT($F233015,\"0000\")","v":"4480032032111850000"},4480032032,null,1,1185,0,1185,"도",61.3,null,null,null,"국(농림부)","국"]
[{"$f":"LEFT($B233130,10)&TEXT($D233130,\"0\")&TEXT($E233130,\"0000\")&TEXT($F233130,\"0000\")","v":"4480033021107020012"},4480033021,null,1,702,12,"702-12","답",274,null,null,null,"국(건설교통부)","국"]
[{"$f":"LEFT($B233235,10)&TEXT($D233235,\"0\")&TEXT($E233235,\"0000\")&TEXT($F233235,\"0000\")","v":"4480033022201080001"},4480033022,null,2,108,1,"108-1","임",298,null,null,null,"충청남도홍성군홍동면월현1길2","서광숙"]
[{"$f":"LEFT($B233290,10)&TEXT($D233290,\"0\")&TEXT($E233290,\"0000\")&TEXT($F233290,\"0000\")","v":"4480033023105280000"},4480033023,null,1,528,0,528,"답",2976.7,null,null,null,"천안시쌍용동555-2신성아파트104-805","원채숙"]
[{"$f":"LEFT($B233460,10)&TEXT($D233460,\"0\")&TEXT($E233460,\"0000\")&TEXT($F233460,\"0000\")","v":"4480033024111010004"},4480033024,null,1,1101,4,"1101-4","답",2557.5,null,null,null,"45-2","한평전"]
[{"$f":"LEFT($B233581,10)&TEXT($D233581,\"0\")&TEXT($E233581,\"0000\")&TEXT($F233581,\"0000\")","v":"4480033026103610002"},4480033026,null,1,361,2,"361-2","구",76,null,null,null,"경기도의왕시포일동487","한국농어촌공사"]
[{"$f":"LEFT($B233684,10)&TEXT($D233684,\"0\")&TEXT($E233684,\"0000\")&TEXT($F233684,\"0000\")","v":"4480033027105030001"},4480033027,null,1,503,1,"503-1","답",165,null,null,null,"홍성군","국"]
[{"$f":"LEFT($B233790,10)&TEXT($D233790,\"0\")&TEXT($E233790,\"0000\")&TEXT($F233790,\"0000\")","v":"4480033028105470000"},4480033028,null,1,547,0,547,"답",1810,null,null,null,351,"이우규"]
[{"$f":"LEFT($B233911,10)&TEXT($D233911,\"0\")&TEXT($E233911,\"0000\")&TEXT($F233911,\"0000\")","v":"4480033029110270000"},4480033029,null,1,1027,0,1027,"답",2068,null,null,null,694,"이준연"]
[{"$f":"LEFT($B234078,10)&TEXT($D234078,\"0\")&TEXT($E234078,\"0000\")&TEXT($F234078,\"0000\")","v":"4480033031102950000"},4480033031,null,1,295,0,295,"답",2126,null,null,null,"충청남도홍성군홍동면금당리284-1","유태전"]
[{"$f":"LEFT($B234136,10)&TEXT($D234136,\"0\")&TEXT($E234136,\"0000\")&TEXT($F234136,\"0000\")","v":"4480033031109530003"},4480033031,null,1,953,3,"953-3","답",2131.9,null,null,null,"충청남도홍성군홍동면충절로384번길65","윤종분"]
[{"$f":"LEFT($B234267,10)&TEXT($D234267,\"0\")&TEXT($E234267,\"0000\")&TEXT($F234267,\"0000\")","v":"4480033033101670006"},4480033033,null,1,167,6,"167-6","전",779,null,null,null,"충청남도홍성군홍동면충절로152","이정자"]
[{"$f":"LEFT($B234345,10)&TEXT($D234345,\"0\")&TEXT($E234345,\"0000\")&TEXT($F234345,\"0000\")","v":"4480033034101850009"},4480033034,null,1,185,9,"185-9","대",202,null,null,null,"147-5","이천순"]
[{"$f":"LEFT($B234466,10)&TEXT($D234466,\"0\")&TEXT($E234466,\"0000\")&TEXT($F234466,\"0000\")","v":"4480034021103170008"},4480034021,null,1,317,8,"317-8","답",1419,null,null,null,"경기도안산시상록구월피동457-13","강희돈"]
[{"$f":"LEFT($B234661,10)&TEXT($D234661,\"0\")&TEXT($E234661,\"0000\")&TEXT($F234661,\"0000\")","v":"4480034023105600003"},4480034023,null,1,560,3,"560-3","구",50,null,null,null,"국(건설교통부)","국"]
[{"$f":"LEFT($B234795,10)&TEXT($D234795,\"0\")&TEXT($E234795,\"0000\")&TEXT($F234795,\"0000\")","v":"4480034025103370003"},4480034025,null,1,337,3,"337-3","전",215,null,null,null,184,"최용봉"]
[{"$f":"LEFT($B234916,10)&TEXT($D234916,\"0\")&TEXT($E234916,\"0000\")&TEXT($F234916,\"0000\")","v":"4480034027101990000"},4480034027,null,1,199,0,199,"전",1074,null,null,null,"죽전리136","김동섭"]
[{"$f":"LEFT($B235055,10)&TEXT($D235055,\"0\")&TEXT($E235055,\"0000\")&TEXT($F235055,\"0000\")","v":"4480034029100960004"},4480034029,null,1,96,4,"96-4","도",46,null,null,null,25,"서산규태"]
[{"$f":"LEFT($B235141,10)&TEXT($D235141,\"0\")&TEXT($E235141,\"0000\")&TEXT($F235141,\"0000\")","v":"4480034029107510001"},4480034029,null,1,751,1,"751-1","도",237,null,null,null,"국(건설교통부)","국"]
[{"$f":"LEFT($B235246,10)&TEXT($D235246,\"0\")&TEXT($E235246,\"0000\")&TEXT($F235246,\"0000\")","v":"4480034030107440010"},4480034030,null,1,744,10,"744-10","답",1695,null,null,null,195,"김선문"]
[{"$f":"LEFT($B235330,10)&TEXT($D235330,\"0\")&TEXT($E235330,\"0000\")&TEXT($F235330,\"0000\")","v":"4480034031106000000"},4480034031,null,1,600,0,600,"답",1392,null,null,null,743,"박양순"]
[{"$f":"LEFT($B235471,10)&TEXT($D235471,\"0\")&TEXT($E235471,\"0000\")&TEXT($F235471,\"0000\")","v":"4480034032105620000"},4480034032,null,1,562,0,562,"전",2199,null,null,null,"충청남도홍성군홍성읍내포로146번길18-17","조환경"]
[{"$f":"LEFT($B235638,10)&TEXT($D235638,\"0\")&TEXT($E235638,\"0000\")&TEXT($F235638,\"0000\")","v":"4480034034200320000"},4480034034,null,2,32,0,32,"임",2181,null,null,null,"청양군청양면벽천리379","박성권"]
[{"$f":"LEFT($B235680,10)&TEXT($D235680,\"0\")&TEXT($E235680,\"0000\")&TEXT($F235680,\"0000\")","v":"4480034035103580000"},4480034035,null,1,358,0,358,"전",595,null,null,null,"대현리340","정상학"]
[{"$f":"LEFT($B235801,10)&TEXT($D235801,\"0\")&TEXT($E235801,\"0000\")&TEXT($F235801,\"0000\")","v":"4480034036108070001"},4480034036,null,1,807,1,"807-1","도",124,null,null,null,"국","국"]
[{"$f":"LEFT($B235913,10)&TEXT($D235913,\"0\")&TEXT($E235913,\"0000\")&TEXT($F235913,\"0000\")","v":"4480035022100160000"},4480035022,null,1,16,0,16,"답",1583,null,null,null,"충청남도홍성군은하면은하로404번길82-63","전병직"]
[{"$f":"LEFT($B236026,10)&TEXT($D236026,\"0\")&TEXT($E236026,\"0000\")&TEXT($F236026,\"0000\")","v":"4480035023103340001"},4480035023,null,1,334,1,"334-1","전",2109,null,null,null,349,"최병창"]
[{"$f":"LEFT($B236251,10)&TEXT($D236251,\"0\")&TEXT($E236251,\"0000\")&TEXT($F236251,\"0000\")","v":"4480035025201380000"},4480035025,null,2,138,0,138,"임",2678,null,null,null,"충청남도홍성군은하면구성남로381","곽호중"]
[{"$f":"LEFT($B236307,10)&TEXT($D236307,\"0\")&TEXT($E236307,\"0000\")&TEXT($F236307,\"0000\")","v":"4480035026105960004"},4480035026,null,1,596,4,"596-4","전",4278,null,null,null,"서울시구로구가리봉동149-21","박주인"]
[{"$f":"LEFT($B236476,10)&TEXT($D236476,\"0\")&TEXT($E236476,\"0000\")&TEXT($F236476,\"0000\")","v":"4480035028103610004"},4480035028,null,1,361,4,"361-4","전",1094,null,null,null,"충청남도홍성군광천읍광천로412-8","이명숙"]
[{"$f":"LEFT($B236581,10)&TEXT($D236581,\"0\")&TEXT($E236581,\"0000\")&TEXT($F236581,\"0000\")","v":"4480035030101310003"},4480035030,null,1,131,3,"131-3","대",475,null,null,null,"홍성군은하면화봉리41","신명수"]
[{"$f":"LEFT($B236719,10)&TEXT($D236719,\"0\")&TEXT($E236719,\"0000\")&TEXT($F236719,\"0000\")","v":"4480035031102120000"},4480035031,null,1,212,0,212,"전",511,null,null,null,"충청남도홍성군홍성읍충절로953번길20103동801호(신동아파밀리에아파트)","이상필"]
[{"$f":"LEFT($B236806,10)&TEXT($D236806,\"0\")&TEXT($E236806,\"0000\")&TEXT($F236806,\"0000\")","v":"4480035031108480000"},4480035031,null,1,848,0,848,"대",145,null,null,null,"장척리848","배선하"]
[{"$f":"LEFT($B236911,10)&TEXT($D236911,\"0\")&TEXT($E236911,\"0000\")&TEXT($F236911,\"0000\")","v":"4480036021104470000"},4480036021,null,1,447,0,447,"대",334,null,null,null,"경기도과천시별양로163705동302호(별양동주공아파트)","이명균"]
[{"$f":"LEFT($B236994,10)&TEXT($D236994,\"0\")&TEXT($E236994,\"0000\")&TEXT($F236994,\"0000\")","v":"4480036022103820000"},4480036022,null,1,382,0,382,"답",2483,null,null,null,"성호리557","장재성"]
[{"$f":"LEFT($B237136,10)&TEXT($D237136,\"0\")&TEXT($E237136,\"0000\")&TEXT($F237136,\"0000\")","v":"4480036023105560000"},4480036023,null,1,556,0,556,"전",149,null,null,null,"충청남도홍성군결성면성남리561","김종순"]
[{"$f":"LEFT($B237284,10)&TEXT($D237284,\"0\")&TEXT($E237284,\"0000\")&TEXT($F237284,\"0000\")","v":"4480036024104050002"},4480036024,null,1,405,2,"405-2","도",20,null,null,null,"홍성군","국"]
[{"$f":"LEFT($B237361,10)&TEXT($D237361,\"0\")&TEXT($E237361,\"0000\")&TEXT($F237361,\"0000\")","v":"4480036025100880005"},4480036025,null,1,88,5,"88-5","답",2758,null,null,null,"경기도부천시소사구범안로96번길23410동1905호(범박동부천범박힐스테이트4단지)","유영학"]
[{"$f":"LEFT($B237466,10)&TEXT($D237466,\"0\")&TEXT($E237466,\"0000\")&TEXT($F237466,\"0000\")","v":"4480036026101930002"},4480036026,null,1,193,2,"193-2","전",489,null,null,null,"충청남도홍성군결성면만해로115번길45-21","이간란"]
[{"$f":"LEFT($B237577,10)&TEXT($D237577,\"0\")&TEXT($E237577,\"0000\")&TEXT($F237577,\"0000\")","v":"4480036027104770000"},4480036027,null,1,477,0,477,"전",1157,null,null,null,"충청남도홍성군결성면교항리501","이호철"]
[{"$f":"LEFT($B237691,10)&TEXT($D237691,\"0\")&TEXT($E237691,\"0000\")&TEXT($F237691,\"0000\")","v":"4480036028102210000"},4480036028,null,1,221,0,221,"대",274,null,null,null,"경기도의정부시신곡동682동신아파트101-104","임은덕"]
[{"$f":"LEFT($B237916,10)&TEXT($D237916,\"0\")&TEXT($E237916,\"0000\")&TEXT($F237916,\"0000\")","v":"4480037021101520001"},4480037021,null,1,152,1,"152-1","답",2426,null,null,null,471,"이동규"]
[{"$f":"LEFT($B237971,10)&TEXT($D237971,\"0\")&TEXT($E237971,\"0000\")&TEXT($F237971,\"0000\")","v":"4480037021104020000"},4480037021,null,1,402,0,402,"전",1438,null,null,null,"충청남도홍성군서부면서부로655번길24-4","이광진"]
[{"$f":"LEFT($B238141,10)&TEXT($D238141,\"0\")&TEXT($E238141,\"0000\")&TEXT($F238141,\"0000\")","v":"4480037023100140004"},4480037023,null,1,14,4,"14-4","장",2163,null,null,null,"경기도군포시금정동849-1무궁화아파트125-704","이준향"]
[{"$f":"LEFT($B238262,10)&TEXT($D238262,\"0\")&TEXT($E238262,\"0000\")&TEXT($F238262,\"0000\")","v":"4480037023107100010"},4480037023,null,1,710,10,"710-10","대",715,null,null,null,"충청남도홍성군서부면궁리456-1","최한규"]
[{"$f":"LEFT($B238365,10)&TEXT($D238365,\"0\")&TEXT($E238365,\"0000\")&TEXT($F238365,\"0000\")","v":"4480037024104210000"},4480037024,null,1,421,0,421,"전",1895,null,null,null,"홍성군","국"]
[{"$f":"LEFT($B238471,10)&TEXT($D238471,\"0\")&TEXT($E238471,\"0000\")&TEXT($F238471,\"0000\")","v":"4480037025104050064"},4480037025,null,1,405,64,"405-64","답",113,null,null,null,"충청남도홍성군갈산면상촌리394","차기준"]
[{"$f":"LEFT($B238554,10)&TEXT($D238554,\"0\")&TEXT($E238554,\"0000\")&TEXT($F238554,\"0000\")","v":"4480037026104640035"},4480037026,null,1,464,35,"464-35","답",903,null,null,null,"충청남도홍성군홍성읍조양로61번길21-2301호(퍼스트빌)","가낭현"]
[{"$f":"LEFT($B238696,10)&TEXT($D238696,\"0\")&TEXT($E238696,\"0000\")&TEXT($F238696,\"0000\")","v":"4480037027103280006"},4480037027,null,1,328,6,"328-6","전",102,null,null,null,"327-1","한상재"]
[{"$f":"LEFT($B238801,10)&TEXT($D238801,\"0\")&TEXT($E238801,\"0000\")&TEXT($F238801,\"0000\")","v":"4480037028103150023"},4480037028,null,1,315,23,"315-23","답",2311,null,null,null,"충청남도홍성군서부면홍보로1508-6","이성요"]
[{"$f":"LEFT($B238948,10)&TEXT($D238948,\"0\")&TEXT($E238948,\"0000\")&TEXT($F238948,\"0000\")","v":"4480037030105420004"},4480037030,null,1,542,4,"542-4","도",227,null,null,null,"충청남도","국"]
[{"$f":"LEFT($B239026,10)&TEXT($D239026,\"0\")&TEXT($E239026,\"0000\")&TEXT($F239026,\"0000\")","v":"4480037030110950000"},4480037030,null,1,1095,0,1095,"도",9240.5,null,null,null,"국(농림부)","국"]
[{"$f":"LEFT($B239147,10)&TEXT($D239147,\"0\")&TEXT($E239147,\"0000\")&TEXT($F239147,\"0000\")","v":"4480038021100550001"},4480038021,null,1,55,1,"55-1","답",807,null,null,null,"안양시동안구비산동478-11","유철형"]
[{"$f":"LEFT($B239342,10)&TEXT($D239342,\"0\")&TEXT($E239342,\"0000\")&TEXT($F239342,\"0000\")","v":"4480038022106170003"},4480038022,null,1,617,3,"617-3","도",658,null,null,null,"국(건설부)","국"]
[{"$f":"LEFT($B239476,10)&TEXT($D239476,\"0\")&TEXT($E239476,\"0000\")&TEXT($F239476,\"0000\")","v":"4480038024101380003"},4480038024,null,1,138,3,"138-3","유",899,null,null,null,"경기도의왕시포일동487","한국농어촌공사"]
[{"$f":"LEFT($B239597,10)&TEXT($D239597,\"0\")&TEXT($E239597,\"0000\")&TEXT($F239597,\"0000\")","v":"4480038026102210006"},4480038026,null,1,221,6,"221-6","도",63,null,null,null,"홍성군","국"]
[{"$f":"LEFT($B239617,10)&TEXT($D239617,\"0\")&TEXT($E239617,\"0000\")&TEXT($F239617,\"0000\")","v":"4480038026103570003"},4480038026,null,1,357,3,"357-3","도",122,null,null,null,"국(건설부)","국"]
[{"$f":"LEFT($B239806,10)&TEXT($D239806,\"0\")&TEXT($E239806,\"0000\")&TEXT($F239806,\"0000\")","v":"4480038029104130014"},4480038029,null,1,413,14,"413-14","도",17,null,null,null,"서울시마포구망원동355-22","윤자헌"]
[{"$f":"LEFT($B239925,10)&TEXT($D239925,\"0\")&TEXT($E239925,\"0000\")&TEXT($F239925,\"0000\")","v":"4480038030108310000"},4480038030,null,1,831,0,831,"도",269.39999999999998,null,null,null,"국(농림부)","국"]
[{"$f":"LEFT($B240031,10)&TEXT($D240031,\"0\")&TEXT($E240031,\"0000\")&TEXT($F240031,\"0000\")","v":"4480038031106650000"},4480038031,null,1,665,0,665,"답",14724.2,null,null,null,"충청남도홍성군홍성읍문화로80번길32-14104동804호(경성큰마을아파트)","고태일"]
[{"$f":"LEFT($B240152,10)&TEXT($D240152,\"0\")&TEXT($E240152,\"0000\")&TEXT($F240152,\"0000\")","v":"4480038033100230002"},4480038033,null,1,23,2,"23-2","대",16,null,null,null,23,"이헌규"]
[{"$f":"LEFT($B240319,10)&TEXT($D240319,\"0\")&TEXT($E240319,\"0000\")&TEXT($F240319,\"0000\")","v":"4480038034105520004"},4480038034,null,1,552,4,"552-4","답",1379,null,null,null,"충청남도홍성군갈산면운곡2길61","이일랑"]
[{"$f":"LEFT($B240361,10)&TEXT($D240361,\"0\")&TEXT($E240361,\"0000\")&TEXT($F240361,\"0000\")","v":"4480038035101130002"},4480038035,null,1,113,2,"113-2","답",714,null,null,null,"충청남도홍성군갈산면백야로246번길29-20","박수용"]
[{"$f":"LEFT($B240482,10)&TEXT($D240482,\"0\")&TEXT($E240482,\"0000\")&TEXT($F240482,\"0000\")","v":"4480038036103810003"},4480038036,null,1,381,3,"381-3","도",304,null,null,null,"국(국토교통부)","국"]
[{"$f":"LEFT($B240594,10)&TEXT($D240594,\"0\")&TEXT($E240594,\"0000\")&TEXT($F240594,\"0000\")","v":"4480039021105430003"},4480039021,null,1,543,3,"543-3","임",369,null,null,null,"239-1","박종희"]
[{"$f":"LEFT($B240707,10)&TEXT($D240707,\"0\")&TEXT($E240707,\"0000\")&TEXT($F240707,\"0000\")","v":"4480039022106570000"},4480039022,null,1,657,0,657,"전",552,null,null,null,"지정리719-1","홍순기"]
[{"$f":"LEFT($B240812,10)&TEXT($D240812,\"0\")&TEXT($E240812,\"0000\")&TEXT($F240812,\"0000\")","v":"4480039023104480005"},4480039023,null,1,448,5,"448-5","도",69,null,null,null,"국(건설부)","국"]
[{"$f":"LEFT($B240988,10)&TEXT($D240988,\"0\")&TEXT($E240988,\"0000\")&TEXT($F240988,\"0000\")","v":"4480039026102490000"},4480039026,null,1,249,0,249,"잡",1443,null,null,null,"249-2","박양진"]
[{"$f":"LEFT($B241157,10)&TEXT($D241157,\"0\")&TEXT($E241157,\"0000\")&TEXT($F241157,\"0000\")","v":"4480034029100510002"},4480034029,null,1,51,2,"51-2","도",26,null,null,null,"국(건설부)","국"]
[{"$f":"LEFT($B241262,10)&TEXT($D241262,\"0\")&TEXT($E241262,\"0000\")&TEXT($F241262,\"0000\")","v":"4480034029110800000"},4480034029,null,1,1080,0,1080,"답",1633.8,null,null,null,"태봉리40","연산서씨무장공파문중"]
[{"$f":"LEFT($B241278,10)&TEXT($D241278,\"0\")&TEXT($E241278,\"0000\")&TEXT($F241278,\"0000\")","v":"4480034029200540000"},4480034029,null,2,54,0,54,"임",2678,null,null,null,"지정리144","김응렬"]
[{"$f":"LEFT($B241279,10)&TEXT($D241279,\"0\")&TEXT($E241279,\"0000\")&TEXT($F241279,\"0000\")","v":"4480034029200580002"},4480034029,null,2,58,2,"58-2","임",2182,null,null,null,609,"채희성"]
[{"$f":"LEFT($B241280,10)&TEXT($D241280,\"0\")&TEXT($E241280,\"0000\")&TEXT($F241280,\"0000\")","v":"4480034029200670000"},4480034029,null,2,67,0,67,"임",5157,null,null,null,"서울특별시관악구남부순환로165길32-23(신림동)","김홍열"]
[{"$f":"LEFT($B241281,10)&TEXT($D241281,\"0\")&TEXT($E241281,\"0000\")&TEXT($F241281,\"0000\")","v":"4480034029200820000"},4480034029,null,2,82,0,82,"임",3372,null,null,null,441,"서동식"]
[{"$f":"LEFT($B241282,10)&TEXT($D241282,\"0\")&TEXT($E241282,\"0000\")&TEXT($F241282,\"0000\")","v":"4480034029201180000"},4480034029,null,2,118,0,118,"임",7834,null,null,null,"경기도부천시소사구심곡본동617-11롯데아파트6-604","이충호"]
[{"$f":"LEFT($B241283,10)&TEXT($D241283,\"0\")&TEXT($E241283,\"0000\")&TEXT($F241283,\"0000\")","v":"4480034029201250004"},4480034029,null,2,125,4,"125-4","임",41256,null,null,null,"강원도철원군동송읍오지리699-7","서용국"]
[{"$f":"LEFT($B241284,10)&TEXT($D241284,\"0\")&TEXT($E241284,\"0000\")&TEXT($F241284,\"0000\")","v":"4480034029201300001"},4480034029,null,2,130,1,"130-1","임",14876,null,null,null,"충청남도홍성군구항면거북로175번길46-6","변주일"]
[{"$f":"LEFT($B241285,10)&TEXT($D241285,\"0\")&TEXT($E241285,\"0000\")&TEXT($F241285,\"0000\")","v":"4480034029201300002"},4480034029,null,2,130,2,"130-2","임",37686,null,null,null,"서울특별시광진구중곡동48-4","김태열"]
[{"$f":"LEFT($B241286,10)&TEXT($D241286,\"0\")&TEXT($E241286,\"0000\")&TEXT($F241286,\"0000\")","v":"4480034029201360002"},4480034029,null,2,136,2,"136-2","임",12335,null,null,null,"홍성읍대교리307","김상기"]
[{"$f":"LEFT($B241287,10)&TEXT($D241287,\"0\")&TEXT($E241287,\"0000\")&TEXT($F241287,\"0000\")","v":"4480039029100080008"},4480039029,null,1,8,8,"8-8","유",535,null,null,null,"경기도의왕시포일동487","한국농어촌공사"]
[{"$f":"LEFT($B241288,10)&TEXT($D241288,\"0\")&TEXT($E241288,\"0000\")&TEXT($F241288,\"0000\")","v":"4480039029100090007"},4480039029,null,1,9,7,"9-7","유",1435,null,null,null,"경기도의왕시포일동487","한국농어촌공사"]
[{"$f":"LEFT($B241289,10)&TEXT($D241289,\"0\")&TEXT($E241289,\"0000\")&TEXT($F241289,\"0000\")","v":"4480039029100130001"},4480039029,null,1,13,1,"13-1","답",3375,null,null,null,"광천읍벽계리471","서형모"]
[{"$f":"LEFT($B241290,10)&TEXT($D241290,\"0\")&TEXT($E241290,\"0000\")&TEXT($F241290,\"0000\")","v":"4480039029100250000"},4480039029,null,1,25,0,25,"전",1316,null,null,null,"경기도광주시오포읍오포로580-1516동301호(문형낙원타운하우스)","허민"]
[{"$f":"LEFT($B241291,10)&TEXT($D241291,\"0\")&TEXT($E241291,\"0000\")&TEXT($F241291,\"0000\")","v":"4480039029100270003"},4480039029,null,1,27,3,"27-3","전",76,null,null,null,83,"서제철"]
[{"$f":"LEFT($B241292,10)&TEXT($D241292,\"0\")&TEXT($E241292,\"0000\")&TEXT($F241292,\"0000\")","v":"4480039029100300001"},4480039029,null,1,30,1,"30-1","답",14,null,null,null,95,"연산서씨공덕랑공휘도자선자파종친회"]
[{"$f":"LEFT($B241293,10)&TEXT($D241293,\"0\")&TEXT($E241293,\"0000\")&TEXT($F241293,\"0000\")","v":"4480039029100480000"},4480039029,null,1,48,0,48,"전",2013,null,null,null,48,"최금종"]
[{"$f":"LEFT($B241294,10)&TEXT($D241294,\"0\")&TEXT($E241294,\"0000\")&TEXT($F241294,\"0000\")","v":"4480039029100640013"},4480039029,null,1,64,13,"64-13","도",146,null,null,null,"지정리산129","박동철"]
[{"$f":"LEFT($B241295,10)&TEXT($D241295,\"0\")&TEXT($E241295,\"0000\")&TEXT($F241295,\"0000\")","v":"4480039029100660001"},4480039029,null,1,66,1,"66-1","전",5250,null,null,null,73,"서인철"]
[{"$f":"LEFT($B241296,10)&TEXT($D241296,\"0\")&TEXT($E241296,\"0000\")&TEXT($F241296,\"0000\")","v":"4480039029100670001"},4480039029,null,1,67,1,"67-1","전",849,null,null,null,67,"서용원"]
[{"$f":"LEFT($B241297,10)&TEXT($D241297,\"0\")&TEXT($E241297,\"0000\")&TEXT($F241297,\"0000\")","v":"4480039029100680000"},4480039029,null,1,68,0,68,"전",1431,null,null,null,68,"이보순"]
[{"$f":"LEFT($B241298,10)&TEXT($D241298,\"0\")&TEXT($E241298,\"0000\")&TEXT($F241298,\"0000\")","v":"4480039029100780001"},4480039029,null,1,78,1,"78-1","전",1696,null,null,null,"아산시신동359-13","김광복"]
[{"$f":"LEFT($B241299,10)&TEXT($D241299,\"0\")&TEXT($E241299,\"0000\")&TEXT($F241299,\"0000\")","v":"4480039029100780004"},4480039029,null,1,78,4,"78-4","전",2423,null,null,null,"경기도수원시팔달구덕영대로697번길48409동203호(화서동화서주공아파트)","임성순"]
[{"$f":"LEFT($B241300,10)&TEXT($D241300,\"0\")&TEXT($E241300,\"0000\")&TEXT($F241300,\"0000\")","v":"4480039029100860000"},4480039029,null,1,86,0,86,"대",1987,null,null,null,"서울특별시구로구부일로1다길12101호(온수동우방빌라)","백남향"]
[{"$f":"LEFT($B241301,10)&TEXT($D241301,\"0\")&TEXT($E241301,\"0000\")&TEXT($F241301,\"0000\")","v":"4480039029101220000"},4480039029,null,1,122,0,122,"대",1164,null,null,null,"서울시양천구목동901목동신시가지아파트106-404","오명환"]
[{"$f":"LEFT($B241302,10)&TEXT($D241302,\"0\")&TEXT($E241302,\"0000\")&TEXT($F241302,\"0000\")","v":"4480039029101530001"},4480039029,null,1,153,1,"153-1","도",116,null,null,null,"홍성군","국"]
[{"$f":"LEFT($B241303,10)&TEXT($D241303,\"0\")&TEXT($E241303,\"0000\")&TEXT($F241303,\"0000\")","v":"4480039029101560002"},4480039029,null,1,156,2,"156-2","답",53,null,null,null,"홍성군","국"]
[{"$f":"LEFT($B241304,10)&TEXT($D241304,\"0\")&TEXT($E241304,\"0000\")&TEXT($F241304,\"0000\")","v":"4480039029101590000"},4480039029,null,1,159,0,159,"전",542,null,null,null,"충청남도홍성군구항면구항남길171번길39","서종승"]
[{"$f":"LEFT($B241305,10)&TEXT($D241305,\"0\")&TEXT($E241305,\"0000\")&TEXT($F241305,\"0000\")","v":"4480039029101610000"},4480039029,null,1,161,0,161,"전",1471,null,null,null,"인천광역시남동구선수촌로55105동2803호(구월동구월아시아드선수촌센트럴자이)","박지희"]
[{"$f":"LEFT($B241306,10)&TEXT($D241306,\"0\")&TEXT($E241306,\"0000\")&TEXT($F241306,\"0000\")","v":"4480039029101620001"},4480039029,null,1,162,1,"162-1","도",6,null,null,null,"홍성군","국"]
[{"$f":"LEFT($B241307,10)&TEXT($D241307,\"0\")&TEXT($E241307,\"0000\")&TEXT($F241307,\"0000\")","v":"4480039029102100002"},4480039029,null,1,210,2,"210-2","답",724,null,null,null,"대정리212","서종태"]
[{"$f":"LEFT($B241308,10)&TEXT($D241308,\"0\")&TEXT($E241308,\"0000\")&TEXT($F241308,\"0000\")","v":"4480039029102380002"},4480039029,null,1,238,2,"238-2","전",1008,null,null,null,238,"서계철"]
[{"$f":"LEFT($B241309,10)&TEXT($D241309,\"0\")&TEXT($E241309,\"0000\")&TEXT($F241309,\"0000\")","v":"4480039029102540000"},4480039029,null,1,254,0,254,"전",2033,null,null,null,"충청남도홍성군광천읍광천리236","서명동"]
[{"$f":"LEFT($B241310,10)&TEXT($D241310,\"0\")&TEXT($E241310,\"0000\")&TEXT($F241310,\"0000\")","v":"4480039029102730006"},4480039029,null,1,273,6,"273-6","답",2067,null,null,null,"충청남도홍성군광천읍충서로593번길29","서웅모"]
[{"$f":"LEFT($B241311,10)&TEXT($D241311,\"0\")&TEXT($E241311,\"0000\")&TEXT($F241311,\"0000\")","v":"4480039029102740002"},4480039029,null,1,274,2,"274-2","답",2508,null,null,null,"경기도수원시팔달구덕영대로697번길48409동203호(화서동화서주공아파트)","임성순"]
[{"$f":"LEFT($B241312,10)&TEXT($D241312,\"0\")&TEXT($E241312,\"0000\")&TEXT($F241312,\"0000\")","v":"4480039029102760008"},4480039029,null,1,276,8,"276-8","답",1678,null,null,null,74,"전용순"]
[{"$f":"LEFT($B241313,10)&TEXT($D241313,\"0\")&TEXT($E241313,\"0000\")&TEXT($F241313,\"0000\")","v":"4480039029102760009"},4480039029,null,1,276,9,"276-9","답",2732,null,null,null,79,"서영철"]
[{"$f":"LEFT($B241314,10)&TEXT($D241314,\"0\")&TEXT($E241314,\"0000\")&TEXT($F241314,\"0000\")","v":"4480039029102790001"},4480039029,null,1,279,1,"279-1","답",2187,null,null,null,103,"최창규"]
[{"$f":"LEFT($B241315,10)&TEXT($D241315,\"0\")&TEXT($E241315,\"0000\")&TEXT($F241315,\"0000\")","v":"4480039029102830013"},4480039029,null,1,283,13,"283-13","답",461,null,null,null,"홍성군","국"]
[{"$f":"LEFT($B241316,10)&TEXT($D241316,\"0\")&TEXT($E241316,\"0000\")&TEXT($F241316,\"0000\")","v":"4480039029102840002"},4480039029,null,1,284,2,"284-2","답",1185,null,null,null,207,"연산서씨승지공파기세문중"]
[{"$f":"LEFT($B241317,10)&TEXT($D241317,\"0\")&TEXT($E241317,\"0000\")&TEXT($F241317,\"0000\")","v":"4480039029102930000"},4480039029,null,1,293,0,293,"구",1579,null,null,null,"국(농림부)","국"]
[{"$f":"LEFT($B241318,10)&TEXT($D241318,\"0\")&TEXT($E241318,\"0000\")&TEXT($F241318,\"0000\")","v":"4480039029102980000"},4480039029,null,1,298,0,298,"구",446,null,null,null,"국(농림부)","국"]
[{"$f":"LEFT($B241319,10)&TEXT($D241319,\"0\")&TEXT($E241319,\"0000\")&TEXT($F241319,\"0000\")","v":"4480039029200120001"},4480039029,null,2,12,1,"12-1","임",6545,null,null,null,"서울서초구방배동593-100신성빌라라-101호","이영"]
[{"$f":"LEFT($B241320,10)&TEXT($D241320,\"0\")&TEXT($E241320,\"0000\")&TEXT($F241320,\"0000\")","v":"4480039029200330001"},4480039029,null,2,33,1,"33-1","도",2151,null,null,null,"홍성군","국"]
[{"$f":"LEFT($B241321,10)&TEXT($D241321,\"0\")&TEXT($E241321,\"0000\")&TEXT($F241321,\"0000\")","v":"4480039029200380003"},4480039029,null,2,38,3,"38-3","임",1772,null,null,null,"충청남도홍성군구항면구항남길171번길39","서종승"]
[{"$f":"LEFT($B241322,10)&TEXT($D241322,\"0\")&TEXT($E241322,\"0000\")&TEXT($F241322,\"0000\")","v":"4480032030100010001"},4480032030,null,1,1,1,"1-1","도",217,null,null,null,"홍성군","국"]
[{"$f":"LEFT($B241323,10)&TEXT($D241323,\"0\")&TEXT($E241323,\"0000\")&TEXT($F241323,\"0000\")","v":"4480032030100090002"},4480032030,null,1,9,2,"9-2","답",916,null,null,null,"서울특별시송파구잠실로88132동2701호(잠실동레이크팰리스)","임정자"]
[{"$f":"LEFT($B241324,10)&TEXT($D241324,\"0\")&TEXT($E241324,\"0000\")&TEXT($F241324,\"0000\")","v":"4480032030100090003"},4480032030,null,1,9,3,"9-3","전",660,null,null,null,"충청남도홍성군구항면충서로726번길181","조부식"]
[{"$f":"LEFT($B241325,10)&TEXT($D241325,\"0\")&TEXT($E241325,\"0000\")&TEXT($F241325,\"0000\")","v":"4480032030100110000"},4480032030,null,1,11,0,11,"답",814,null,null,null,"인천계양구효성동556유승아파트202-1402","엄옥자"]
[{"$f":"LEFT($B241326,10)&TEXT($D241326,\"0\")&TEXT($E241326,\"0000\")&TEXT($F241326,\"0000\")","v":"4480032030100110001"},4480032030,null,1,11,1,"11-1","도",37,null,null,null,"홍성군","국"]
[{"$f":"LEFT($B241327,10)&TEXT($D241327,\"0\")&TEXT($E241327,\"0000\")&TEXT($F241327,\"0000\")","v":"4480032030100190001"},4480032030,null,1,19,1,"19-1","도",136,null,null,null,"홍성군","국"]
[{"$f":"LEFT($B241328,10)&TEXT($D241328,\"0\")&TEXT($E241328,\"0000\")&TEXT($F241328,\"0000\")","v":"4480032030100270000"},4480032030,null,1,27,0,27,"대",539,null,null,null,"경기도성남시수정구산성대로515번길10402호(양지동한별빌리지)","이상재"]
[{"$f":"LEFT($B241329,10)&TEXT($D241329,\"0\")&TEXT($E241329,\"0000\")&TEXT($F241329,\"0000\")","v":"4480032030100410000"},4480032030,null,1,41,0,41,"전",896,null,null,null,"서울특별시송파구잠실로88132동2701호(잠실동레이크팰리스)","임정자"]
[{"$f":"LEFT($B241330,10)&TEXT($D241330,\"0\")&TEXT($E241330,\"0000\")&TEXT($F241330,\"0000\")","v":"4480032030100470000"},4480032030,null,1,47,0,47,"대",375,null,null,null,"인천광역시부평구십정동182-95대주파크빌아파트102-2005","홍분례"]
[{"$f":"LEFT($B241331,10)&TEXT($D241331,\"0\")&TEXT($E241331,\"0000\")&TEXT($F241331,\"0000\")","v":"4480032030100480005"},4480032030,null,1,48,5,"48-5","전",685,null,null,null,"서울특별시양천구목동318-330","홍순남"]
[{"$f":"LEFT($B241332,10)&TEXT($D241332,\"0\")&TEXT($E241332,\"0000\")&TEXT($F241332,\"0000\")","v":"4480032030100720000"},4480032030,null,1,72,0,72,"대",780,null,null,null,"충청남도홍성군구항면충서로726번길135","박상기"]
[{"$f":"LEFT($B241333,10)&TEXT($D241333,\"0\")&TEXT($E241333,\"0000\")&TEXT($F241333,\"0000\")","v":"4480032030100970000"},4480032030,null,1,97,0,97,"전",1513,null,null,null,"51-2","주태식"]
[{"$f":"LEFT($B241334,10)&TEXT($D241334,\"0\")&TEXT($E241334,\"0000\")&TEXT($F241334,\"0000\")","v":"4480032030101020000"},4480032030,null,1,102,0,102,"대",403,null,null,null,"서산군광산면팔중리","김숙진"]
[{"$f":"LEFT($B241335,10)&TEXT($D241335,\"0\")&TEXT($E241335,\"0000\")&TEXT($F241335,\"0000\")","v":"4480032030101040000"},4480032030,null,1,104,0,104,"전",44,null,null,null,"신곡리99","김안석"]
[{"$f":"LEFT($B241336,10)&TEXT($D241336,\"0\")&TEXT($E241336,\"0000\")&TEXT($F241336,\"0000\")","v":"4480032030101070000"},4480032030,null,1,107,0,107,"전",38,null,null,null,"서산시석림동737-6동원주택301","이경재"]
[{"$f":"LEFT($B241337,10)&TEXT($D241337,\"0\")&TEXT($E241337,\"0000\")&TEXT($F241337,\"0000\")","v":"4480032030101210004"},4480032030,null,1,121,4,"121-4","도",62,null,null,null,"홍성군","국"]
[{"$f":"LEFT($B241338,10)&TEXT($D241338,\"0\")&TEXT($E241338,\"0000\")&TEXT($F241338,\"0000\")","v":"4480032030101440002"},4480032030,null,1,144,2,"144-2","대",159,null,null,null,50,"이창재"]
[{"$f":"LEFT($B241339,10)&TEXT($D241339,\"0\")&TEXT($E241339,\"0000\")&TEXT($F241339,\"0000\")","v":"4480032030101440008"},4480032030,null,1,144,8,"144-8","전",975,null,null,null,50,"이창재"]
[{"$f":"LEFT($B241340,10)&TEXT($D241340,\"0\")&TEXT($E241340,\"0000\")&TEXT($F241340,\"0000\")","v":"4480032030101450000"},4480032030,null,1,145,0,145,"대",460,null,null,null,145,"천유두"]
[{"$f":"LEFT($B241341,10)&TEXT($D241341,\"0\")&TEXT($E241341,\"0000\")&TEXT($F241341,\"0000\")","v":"4480032030101580000"},4480032030,null,1,158,0,158,"전",658,null,null,null,"충청남도홍성군홍성읍구룡리98","이병연"]
[{"$f":"LEFT($B241342,10)&TEXT($D241342,\"0\")&TEXT($E241342,\"0000\")&TEXT($F241342,\"0000\")","v":"4480032030101590000"},4480032030,null,1,159,0,159,"전",549,null,null,null,"충청남도홍성군홍성읍구룡리98","이병연"]
[{"$f":"LEFT($B241343,10)&TEXT($D241343,\"0\")&TEXT($E241343,\"0000\")&TEXT($F241343,\"0000\")","v":"4480032030101710000"},4480032030,null,1,171,0,171,"답",1114,null,null,null,178,"이동래"]
[{"$f":"LEFT($B241344,10)&TEXT($D241344,\"0\")&TEXT($E241344,\"0000\")&TEXT($F241344,\"0000\")","v":"4480032030101860000"},4480032030,null,1,186,0,186,"전",1898,null,null,null,"광천읍광천리298-17","김광일"]
[{"$f":"LEFT($B241345,10)&TEXT($D241345,\"0\")&TEXT($E241345,\"0000\")&TEXT($F241345,\"0000\")","v":"4480032030101860003"},4480032030,null,1,186,3,"186-3","임",507,null,null,null,"서울특별시관악구난향6길35(신림동)","손송필"]
[{"$f":"LEFT($B241346,10)&TEXT($D241346,\"0\")&TEXT($E241346,\"0000\")&TEXT($F241346,\"0000\")","v":"4480032030102010001"},4480032030,null,1,201,1,"201-1","전",277,null,null,null,"충청남도홍성군구항면신곡리178-1","이동래"]
[{"$f":"LEFT($B241347,10)&TEXT($D241347,\"0\")&TEXT($E241347,\"0000\")&TEXT($F241347,\"0000\")","v":"4480032030102080000"},4480032030,null,1,208,0,208,"전",1560,null,null,null,"인천광역시계양구작전동856-10","천세봉"]
[{"$f":"LEFT($B241348,10)&TEXT($D241348,\"0\")&TEXT($E241348,\"0000\")&TEXT($F241348,\"0000\")","v":"4480032030102080003"},4480032030,null,1,208,3,"208-3","전",301,null,null,null,"경기도평택시지제2길33-18(지제동)","김양준"]
[{"$f":"LEFT($B241349,10)&TEXT($D241349,\"0\")&TEXT($E241349,\"0000\")&TEXT($F241349,\"0000\")","v":"4480032030102110001"},4480032030,null,1,211,1,"211-1","답",603,null,null,null,"서울특별시동대문구휘경로23길161층(휘경동)","박태원"]
[{"$f":"LEFT($B241350,10)&TEXT($D241350,\"0\")&TEXT($E241350,\"0000\")&TEXT($F241350,\"0000\")","v":"4480032030102730000"},4480032030,null,1,273,0,273,"전",1517,null,null,null,42,"김정규"]
[{"$f":"LEFT($B241351,10)&TEXT($D241351,\"0\")&TEXT($E241351,\"0000\")&TEXT($F241351,\"0000\")","v":"4480032030102760002"},4480032030,null,1,276,2,"276-2","철",1098,null,null,null,"국(국토교통부)","국"]
[{"$f":"LEFT($B241352,10)&TEXT($D241352,\"0\")&TEXT($E241352,\"0000\")&TEXT($F241352,\"0000\")","v":"4480032030103020003"},4480032030,null,1,302,3,"302-3","구",159,null,null,null,"경기도의왕시포일동487","한국농어촌공사"]
[{"$f":"LEFT($B241353,10)&TEXT($D241353,\"0\")&TEXT($E241353,\"0000\")&TEXT($F241353,\"0000\")","v":"4480032030103020013"},4480032030,null,1,302,13,"302-13","전",269,null,null,null,"서울시동대문구전농동10전농에스케이아파트101-602","홍종우"]
[{"$f":"LEFT($B241354,10)&TEXT($D241354,\"0\")&TEXT($E241354,\"0000\")&TEXT($F241354,\"0000\")","v":"4480032030103040006"},4480032030,null,1,304,6,"304-6","잡",25,null,null,null,"국(국토교통부)","국"]
[{"$f":"LEFT($B241355,10)&TEXT($D241355,\"0\")&TEXT($E241355,\"0000\")&TEXT($F241355,\"0000\")","v":"4480032030103050003"},4480032030,null,1,305,3,"305-3","답",74,null,null,null,"홍성군구항면지정리360","오국희"]
[{"$f":"LEFT($B241356,10)&TEXT($D241356,\"0\")&TEXT($E241356,\"0000\")&TEXT($F241356,\"0000\")","v":"4480032030103060003"},4480032030,null,1,306,3,"306-3","도",400,null,null,null,"지정리417","천화삼"]
[{"$f":"LEFT($B241357,10)&TEXT($D241357,\"0\")&TEXT($E241357,\"0000\")&TEXT($F241357,\"0000\")","v":"4480032030103060005"},4480032030,null,1,306,5,"306-5","수",50,null,null,null,"국(환경부)","국"]
[{"$f":"LEFT($B241358,10)&TEXT($D241358,\"0\")&TEXT($E241358,\"0000\")&TEXT($F241358,\"0000\")","v":"4480032030103080012"},4480032030,null,1,308,12,"308-12","도",543,null,null,null,"국(건설교통부)","국"]
[{"$f":"LEFT($B241359,10)&TEXT($D241359,\"0\")&TEXT($E241359,\"0000\")&TEXT($F241359,\"0000\")","v":"4480032030103100002"},4480032030,null,1,310,2,"310-2","도",63,null,null,null,395,"이식인"]
[{"$f":"LEFT($B241360,10)&TEXT($D241360,\"0\")&TEXT($E241360,\"0000\")&TEXT($F241360,\"0000\")","v":"4480032030103100016"},4480032030,null,1,310,16,"310-16","임",271,null,null,null,"충청남도보령시오천면영보리557","김선영"]
[{"$f":"LEFT($B241361,10)&TEXT($D241361,\"0\")&TEXT($E241361,\"0000\")&TEXT($F241361,\"0000\")","v":"4480032030103100018"},4480032030,null,1,310,18,"310-18","임",126,null,null,null,"서울특별시송파구가락로2324층동403호(방이동서울탑빌라트)","이승찬"]
[{"$f":"LEFT($B241362,10)&TEXT($D241362,\"0\")&TEXT($E241362,\"0000\")&TEXT($F241362,\"0000\")","v":"4480032030103110001"},4480032030,null,1,311,1,"311-1","전",400,null,null,null,"충청남도홍성군광천읍충서로616","천수봉"]
[{"$f":"LEFT($B241363,10)&TEXT($D241363,\"0\")&TEXT($E241363,\"0000\")&TEXT($F241363,\"0000\")","v":"4480032030103110007"},4480032030,null,1,311,7,"311-7","구",30,null,null,null,"충청남도홍성군광천읍충서로616","천수봉"]
[{"$f":"LEFT($B241364,10)&TEXT($D241364,\"0\")&TEXT($E241364,\"0000\")&TEXT($F241364,\"0000\")","v":"4480032030103120001"},4480032030,null,1,312,1,"312-1","전",50,null,null,null,47,"이학래"]
[{"$f":"LEFT($B241365,10)&TEXT($D241365,\"0\")&TEXT($E241365,\"0000\")&TEXT($F241365,\"0000\")","v":"4480032030103330010"},4480032030,null,1,333,10,"333-10","도",81,null,null,null,"국(건설부)","국"]
[{"$f":"LEFT($B241366,10)&TEXT($D241366,\"0\")&TEXT($E241366,\"0000\")&TEXT($F241366,\"0000\")","v":"4480032030103480001"},4480032030,null,1,348,1,"348-1","도",165,null,null,null,"국(기획재정부)","국"]
[{"$f":"LEFT($B241367,10)&TEXT($D241367,\"0\")&TEXT($E241367,\"0000\")&TEXT($F241367,\"0000\")","v":"4480032030103510003"},4480032030,null,1,351,3,"351-3","답",106,null,null,null,"경기도수원시장안구정자천로189번길40422동701호(정자동연꽃마을벽산아파트)","손성권"]
[{"$f":"LEFT($B241368,10)&TEXT($D241368,\"0\")&TEXT($E241368,\"0000\")&TEXT($F241368,\"0000\")","v":"4480032030103700001"},4480032030,null,1,370,1,"370-1","철",577,null,null,null,"국(국토교통부)","국"]
[{"$f":"LEFT($B241369,10)&TEXT($D241369,\"0\")&TEXT($E241369,\"0000\")&TEXT($F241369,\"0000\")","v":"4480032030103760002"},4480032030,null,1,376,2,"376-2","대",397,null,null,null,"서울시용산구청파동1가89-68","김태원"]
[{"$f":"LEFT($B241370,10)&TEXT($D241370,\"0\")&TEXT($E241370,\"0000\")&TEXT($F241370,\"0000\")","v":"4480032030103780001"},4480032030,null,1,378,1,"378-1","대",162,null,null,null,"충청남도홍성군홍북면매죽헌길518번길106","권창성"]
[{"$f":"LEFT($B241371,10)&TEXT($D241371,\"0\")&TEXT($E241371,\"0000\")&TEXT($F241371,\"0000\")","v":"4480032030103820001"},4480032030,null,1,382,1,"382-1","답",157,null,null,null,"국(기획재정부)","국"]
[{"$f":"LEFT($B241372,10)&TEXT($D241372,\"0\")&TEXT($E241372,\"0000\")&TEXT($F241372,\"0000\")","v":"4480032030103930004"},4480032030,null,1,393,4,"393-4","답",1322,null,null,null,"경기도수원시권선구매송고색로673번길11101동805호(고색동태산1차아파트)","김일수"]
[{"$f":"LEFT($B241373,10)&TEXT($D241373,\"0\")&TEXT($E241373,\"0000\")&TEXT($F241373,\"0000\")","v":"4480032030104200000"},4480032030,null,1,420,0,420,"대",459,null,null,null,420,"조정행"]
[{"$f":"LEFT($B241374,10)&TEXT($D241374,\"0\")&TEXT($E241374,\"0000\")&TEXT($F241374,\"0000\")","v":"4480032030104200004"},4480032030,null,1,420,4,"420-4","도",209,null,null,null,"국(건설부)","국"]
[{"$f":"LEFT($B241375,10)&TEXT($D241375,\"0\")&TEXT($E241375,\"0000\")&TEXT($F241375,\"0000\")","v":"4480032030104210003"},4480032030,null,1,421,3,"421-3","답",45,null,null,null,"신곡리420","조정행"]
[{"$f":"LEFT($B241376,10)&TEXT($D241376,\"0\")&TEXT($E241376,\"0000\")&TEXT($F241376,\"0000\")","v":"4480032030104230007"},4480032030,null,1,423,7,"423-7","답",99,null,null,null,"광천읍벽계리54","송호철"]
[{"$f":"LEFT($B241377,10)&TEXT($D241377,\"0\")&TEXT($E241377,\"0000\")&TEXT($F241377,\"0000\")","v":"4480032030104300002"},4480032030,null,1,430,2,"430-2","도",60,null,null,null,"경성부옥인동7","윤덕영"]
[{"$f":"LEFT($B241378,10)&TEXT($D241378,\"0\")&TEXT($E241378,\"0000\")&TEXT($F241378,\"0000\")","v":"4480032030104370004"},4480032030,null,1,437,4,"437-4","대",14,null,null,null,"홍성군","국"]
[{"$f":"LEFT($B241379,10)&TEXT($D241379,\"0\")&TEXT($E241379,\"0000\")&TEXT($F241379,\"0000\")","v":"4480032030104370005"},4480032030,null,1,437,5,"437-5","대",149,null,null,null,"홍성군","국"]
[{"$f":"LEFT($B241380,10)&TEXT($D241380,\"0\")&TEXT($E241380,\"0000\")&TEXT($F241380,\"0000\")","v":"4480032030104370006"},4480032030,null,1,437,6,"437-6","대",17,null,null,null,"홍성군","국"]
[{"$f":"LEFT($B241381,10)&TEXT($D241381,\"0\")&TEXT($E241381,\"0000\")&TEXT($F241381,\"0000\")","v":"4480032030104570001"},4480032030,null,1,457,1,"457-1","도",69,null,null,null,"국(건설부)","국"]
[{"$f":"LEFT($B241382,10)&TEXT($D241382,\"0\")&TEXT($E241382,\"0000\")&TEXT($F241382,\"0000\")","v":"4480032030104660003"},4480032030,null,1,466,3,"466-3","대",281,null,null,null,"경기도용인시기흥구동백동574호수마을월드메르디앙1606-502","조찬희"]
[{"$f":"LEFT($B241383,10)&TEXT($D241383,\"0\")&TEXT($E241383,\"0000\")&TEXT($F241383,\"0000\")","v":"4480032030104670004"},4480032030,null,1,467,4,"467-4","임",648,null,null,null,"경기도용인시기흥구동백동574호수마을월드메르디앙1606-502","조찬희"]
[{"$f":"LEFT($B241384,10)&TEXT($D241384,\"0\")&TEXT($E241384,\"0000\")&TEXT($F241384,\"0000\")","v":"4480032030104730000"},4480032030,null,1,473,0,473,"대",377,null,null,null,473,"조성기"]
[{"$f":"LEFT($B241385,10)&TEXT($D241385,\"0\")&TEXT($E241385,\"0000\")&TEXT($F241385,\"0000\")","v":"4480032030104890000"},4480032030,null,1,489,0,489,"전",390,null,null,null,"충청남도홍성군구항면충서로641번길29","한상화"]
[{"$f":"LEFT($B241386,10)&TEXT($D241386,\"0\")&TEXT($E241386,\"0000\")&TEXT($F241386,\"0000\")","v":"4480032030104940003"},4480032030,null,1,494,3,"494-3","답",89,null,null,null,"경기도의왕시포일동487","한국농어촌공사"]
[{"$f":"LEFT($B241387,10)&TEXT($D241387,\"0\")&TEXT($E241387,\"0000\")&TEXT($F241387,\"0000\")","v":"4480032030105170000"},4480032030,null,1,517,0,517,"도",238,null,null,null,"국(건설부)","국"]
[{"$f":"LEFT($B241388,10)&TEXT($D241388,\"0\")&TEXT($E241388,\"0000\")&TEXT($F241388,\"0000\")","v":"4480032030105210010"},4480032030,null,1,521,10,"521-10","도",330,null,null,null,"국(건설교통부)","국"]
[{"$f":"LEFT($B241389,10)&TEXT($D241389,\"0\")&TEXT($E241389,\"0000\")&TEXT($F241389,\"0000\")","v":"4480032030105220009"},4480032030,null,1,522,9,"522-9","철",77,null,null,null,"국(국토교통부)","국"]
[{"$f":"LEFT($B241390,10)&TEXT($D241390,\"0\")&TEXT($E241390,\"0000\")&TEXT($F241390,\"0000\")","v":"4480032030105520000"},4480032030,null,1,552,0,552,"답",3080,null,null,null,479,"복진열"]
[{"$f":"LEFT($B241391,10)&TEXT($D241391,\"0\")&TEXT($E241391,\"0000\")&TEXT($F241391,\"0000\")","v":"4480032030105640000"},4480032030,null,1,564,0,564,"답",3020,null,null,null,"서울시동대문구전농동10전농에스케이아파트101-602","홍종우"]
[{"$f":"LEFT($B241392,10)&TEXT($D241392,\"0\")&TEXT($E241392,\"0000\")&TEXT($F241392,\"0000\")","v":"4480032030105850000"},4480032030,null,1,585,0,585,"답",1105,null,null,null,"478-3","이석치"]
[{"$f":"LEFT($B241393,10)&TEXT($D241393,\"0\")&TEXT($E241393,\"0000\")&TEXT($F241393,\"0000\")","v":"4480032030105900000"},4480032030,null,1,590,0,590,"답",645,null,null,null,488,"조학일"]
[{"$f":"LEFT($B241394,10)&TEXT($D241394,\"0\")&TEXT($E241394,\"0000\")&TEXT($F241394,\"0000\")","v":"4480032030105960002"},4480032030,null,1,596,2,"596-2","수",357,null,null,null,"국(환경부)","국"]
[{"$f":"LEFT($B241395,10)&TEXT($D241395,\"0\")&TEXT($E241395,\"0000\")&TEXT($F241395,\"0000\")","v":"4480032030105990000"},4480032030,null,1,599,0,599,"답",417,null,null,null,"419-6","한경석"]
[{"$f":"LEFT($B241396,10)&TEXT($D241396,\"0\")&TEXT($E241396,\"0000\")&TEXT($F241396,\"0000\")","v":"4480032030106040000"},4480032030,null,1,604,0,604,"답",1435,null,null,null,230,"우정금"]
[{"$f":"LEFT($B241397,10)&TEXT($D241397,\"0\")&TEXT($E241397,\"0000\")&TEXT($F241397,\"0000\")","v":"4480032030106090000"},4480032030,null,1,609,0,609,"답",1818,null,null,null,"신곡리488","조학일"]
[{"$f":"LEFT($B241398,10)&TEXT($D241398,\"0\")&TEXT($E241398,\"0000\")&TEXT($F241398,\"0000\")","v":"4480032030106090002"},4480032030,null,1,609,2,"609-2","답",301,null,null,null,"국(국토교통부)","국"]
[{"$f":"LEFT($B241399,10)&TEXT($D241399,\"0\")&TEXT($E241399,\"0000\")&TEXT($F241399,\"0000\")","v":"4480032030106220000"},4480032030,null,1,622,0,622,"답",3090,null,null,null,"홍성읍고암리607-182","이포영"]
[{"$f":"LEFT($B241400,10)&TEXT($D241400,\"0\")&TEXT($E241400,\"0000\")&TEXT($F241400,\"0000\")","v":"4480032030106340000"},4480032030,null,1,634,0,634,"답",2810,null,null,null,"홍성군구항면지정리866","서갑술"]
[{"$f":"LEFT($B241401,10)&TEXT($D241401,\"0\")&TEXT($E241401,\"0000\")&TEXT($F241401,\"0000\")","v":"4480032030106870002"},4480032030,null,1,687,2,"687-2","답",2365,null,null,null,"충청남도홍성군구항면신곡리24","임문순"]
[{"$f":"LEFT($B241402,10)&TEXT($D241402,\"0\")&TEXT($E241402,\"0000\")&TEXT($F241402,\"0000\")","v":"4480032030106870007"},4480032030,null,1,687,7,"687-7","답",1272,null,null,null,"30-1","박철수"]
[{"$f":"LEFT($B241403,10)&TEXT($D241403,\"0\")&TEXT($E241403,\"0000\")&TEXT($F241403,\"0000\")","v":"4480032030106880003"},4480032030,null,1,688,3,"688-3","답",3408,null,null,null,"충청남도홍성군구항면충서로726번길183","박승수"]
[{"$f":"LEFT($B241404,10)&TEXT($D241404,\"0\")&TEXT($E241404,\"0000\")&TEXT($F241404,\"0000\")","v":"4480032030106890007"},4480032030,null,1,689,7,"689-7","답",1876,null,null,null,"전라남도나주시그린로20(빛가람동)","한국농어촌공사"]
[{"$f":"LEFT($B241405,10)&TEXT($D241405,\"0\")&TEXT($E241405,\"0000\")&TEXT($F241405,\"0000\")","v":"4480032030106940002"},4480032030,null,1,694,2,"694-2","답",2331,null,null,null,"충청북도청주시흥덕구짐대로14203동302호(복대동세원테마빌아파트)","한찬용"]
[{"$f":"LEFT($B241406,10)&TEXT($D241406,\"0\")&TEXT($E241406,\"0000\")&TEXT($F241406,\"0000\")","v":"4480032030106960001"},4480032030,null,1,696,1,"696-1","답",758,null,null,null,24,"유영태"]
[{"$f":"LEFT($B241407,10)&TEXT($D241407,\"0\")&TEXT($E241407,\"0000\")&TEXT($F241407,\"0000\")","v":"4480032030106960005"},4480032030,null,1,696,5,"696-5","답",1590,null,null,null,"충청남도아산시신창면남성길123104동1503호(아산코아루아파트)","이용건"]
[{"$f":"LEFT($B241408,10)&TEXT($D241408,\"0\")&TEXT($E241408,\"0000\")&TEXT($F241408,\"0000\")","v":"4480032030106960010"},4480032030,null,1,696,10,"696-10","답",758,null,null,null,"충청남도홍성군장곡면가송리429-1","이용돈"]
[{"$f":"LEFT($B241409,10)&TEXT($D241409,\"0\")&TEXT($E241409,\"0000\")&TEXT($F241409,\"0000\")","v":"4480032030107010010"},4480032030,null,1,701,10,"701-10","답",3523,null,null,null,"서울특별시마포구월드컵로12길41비-1호(서교동청기와아트빌)","박연창"]
[{"$f":"LEFT($B241410,10)&TEXT($D241410,\"0\")&TEXT($E241410,\"0000\")&TEXT($F241410,\"0000\")","v":"4480032030200060003"},4480032030,null,2,6,3,"6-3","임",7834,null,null,null,"경기도용인시기흥구동백동574호수마을월드메르디앙1606-502","조찬희"]
[{"$f":"LEFT($B241411,10)&TEXT($D241411,\"0\")&TEXT($E241411,\"0000\")&TEXT($F241411,\"0000\")","v":"4480032030200070003"},4480032030,null,2,7,3,"7-3","임",331,null,null,null,"463-1","유석종"]
[{"$f":"LEFT($B241412,10)&TEXT($D241412,\"0\")&TEXT($E241412,\"0000\")&TEXT($F241412,\"0000\")","v":"4480032030200070004"},4480032030,null,2,7,4,"7-4","임",552,null,null,null,"경기도평택시팽성읍농성2길21-8에이동201호(태호주택)","유정억"]
[{"$f":"LEFT($B241413,10)&TEXT($D241413,\"0\")&TEXT($E241413,\"0000\")&TEXT($F241413,\"0000\")","v":"4480032030200550001"},4480032030,null,2,55,1,"55-1","임",6514,null,null,null,59,"김철환"]
[{"$f":"LEFT($B241414,10)&TEXT($D241414,\"0\")&TEXT($E241414,\"0000\")&TEXT($F241414,\"0000\")","v":"4480032030200600003"},4480032030,null,2,60,3,"60-3","임",18663,null,null,null,"광천읍월림리363","김기호"]
[{"$f":"LEFT($B241415,10)&TEXT($D241415,\"0\")&TEXT($E241415,\"0000\")&TEXT($F241415,\"0000\")","v":"4480032030200630002"},4480032030,null,2,63,2,"63-2","임",10611,null,null,null,"광천읍매현리25","김기홍"]
[{"$f":"LEFT($B241416,10)&TEXT($D241416,\"0\")&TEXT($E241416,\"0000\")&TEXT($F241416,\"0000\")","v":"4480032030200720000"},4480032030,null,2,72,0,72,"임",17325,null,null,null,"서울특별시영등포구당산동1가186-61","한요상"]
[{"$f":"LEFT($B241417,10)&TEXT($D241417,\"0\")&TEXT($E241417,\"0000\")&TEXT($F241417,\"0000\")","v":"4480039031100130002"},4480039031,null,1,13,2,"13-2","답",1331,null,null,null,"서울시은평구수색동205-1334","장기수"]
[{"$f":"LEFT($B241418,10)&TEXT($D241418,\"0\")&TEXT($E241418,\"0000\")&TEXT($F241418,\"0000\")","v":"4480039031100240006"},4480039031,null,1,24,6,"24-6","전",3091,null,null,null,"홍동면월림리408","주종옥"]
[{"$f":"LEFT($B241419,10)&TEXT($D241419,\"0\")&TEXT($E241419,\"0000\")&TEXT($F241419,\"0000\")","v":"4480039031100260014"},4480039031,null,1,26,14,"26-14","장",7424,null,null,null,"충청남도홍성군구항면충서로966번길41-66","주식회사동신포리마"]
[{"$f":"LEFT($B241420,10)&TEXT($D241420,\"0\")&TEXT($E241420,\"0000\")&TEXT($F241420,\"0000\")","v":"4480039031100260015"},4480039031,null,1,26,15,"26-15","장",1207,null,null,null,"홍성군","국"]
[{"$f":"LEFT($B241421,10)&TEXT($D241421,\"0\")&TEXT($E241421,\"0000\")&TEXT($F241421,\"0000\")","v":"4480039031100260017"},4480039031,null,1,26,17,"26-17","장",6266,null,null,null,"충청남도홍성군구항면청광리26-17구항농공단지내","주식회사블루월드"]
[{"$f":"LEFT($B241422,10)&TEXT($D241422,\"0\")&TEXT($E241422,\"0000\")&TEXT($F241422,\"0000\")","v":"4480039031100560003"},4480039031,null,1,56,3,"56-3","철",2410,null,null,null,"국(국토교통부)","국"]
[{"$f":"LEFT($B241423,10)&TEXT($D241423,\"0\")&TEXT($E241423,\"0000\")&TEXT($F241423,\"0000\")","v":"4480039031100670014"},4480039031,null,1,67,14,"67-14","답",268,null,null,null,"경기도광명시광명로878번길8301호(광명동한신빌라)","김용석"]
[{"$f":"LEFT($B241424,10)&TEXT($D241424,\"0\")&TEXT($E241424,\"0000\")&TEXT($F241424,\"0000\")","v":"4480039031100670021"},4480039031,null,1,67,21,"67-21","답",1236,null,null,null,"마온리229","전재희"]
[{"$f":"LEFT($B241425,10)&TEXT($D241425,\"0\")&TEXT($E241425,\"0000\")&TEXT($F241425,\"0000\")","v":"4480039031100670027"},4480039031,null,1,67,27,"67-27","철",143,null,null,null,"서울특별시강남구논현로430(역삼동)","아세아시멘트주식회사"]
[{"$f":"LEFT($B241426,10)&TEXT($D241426,\"0\")&TEXT($E241426,\"0000\")&TEXT($F241426,\"0000\")","v":"4480039031100700000"},4480039031,null,1,70,0,70,"전",469,null,null,null,"충청남도천안시서북구성정동622-9","이주희"]
[{"$f":"LEFT($B241427,10)&TEXT($D241427,\"0\")&TEXT($E241427,\"0000\")&TEXT($F241427,\"0000\")","v":"4480039031100730000"},4480039031,null,1,73,0,73,"답",2539,null,null,null,"경기도안산시선부동1083군자주공아파트1012-207","전재선"]
[{"$f":"LEFT($B241428,10)&TEXT($D241428,\"0\")&TEXT($E241428,\"0000\")&TEXT($F241428,\"0000\")","v":"4480039031100830004"},4480039031,null,1,83,4,"83-4","철",761,null,null,null,"서울특별시강남구논현로430(역삼동)","아세아시멘트주식회사"]
[{"$f":"LEFT($B241429,10)&TEXT($D241429,\"0\")&TEXT($E241429,\"0000\")&TEXT($F241429,\"0000\")","v":"4480039031100840001"},4480039031,null,1,84,1,"84-1","구",98,null,null,null,"국(건설부)","국"]
[{"$f":"LEFT($B241430,10)&TEXT($D241430,\"0\")&TEXT($E241430,\"0000\")&TEXT($F241430,\"0000\")","v":"4480039031100860002"},4480039031,null,1,86,2,"86-2","답",1574,null,null,null,"충청남도홍성군홍북읍자경로17104동1105호(자경마을중흥에스클래스)","전민희"]
[{"$f":"LEFT($B241431,10)&TEXT($D241431,\"0\")&TEXT($E241431,\"0000\")&TEXT($F241431,\"0000\")","v":"4480039031101340001"},4480039031,null,1,134,1,"134-1","전",245,null,null,null,"127-1","박성모"]
[{"$f":"LEFT($B241432,10)&TEXT($D241432,\"0\")&TEXT($E241432,\"0000\")&TEXT($F241432,\"0000\")","v":"4480039031101350001"},4480039031,null,1,135,1,"135-1","전",90,null,null,null,"127-1","박성모"]
[{"$f":"LEFT($B241433,10)&TEXT($D241433,\"0\")&TEXT($E241433,\"0000\")&TEXT($F241433,\"0000\")","v":"4480039031101370000"},4480039031,null,1,137,0,137,"대",396,null,null,null,"충청남도홍성군구항면충서로896번길94-3","임정금"]
[{"$f":"LEFT($B241434,10)&TEXT($D241434,\"0\")&TEXT($E241434,\"0000\")&TEXT($F241434,\"0000\")","v":"4480039031101380002"},4480039031,null,1,138,2,"138-2","대",347,null,null,null,"평택시서정동819-8","임기순"]
[{"$f":"LEFT($B241435,10)&TEXT($D241435,\"0\")&TEXT($E241435,\"0000\")&TEXT($F241435,\"0000\")","v":"4480039031101440000"},4480039031,null,1,144,0,144,"전",324,null,null,null,"홍성읍소향리64-4","김기성"]
[{"$f":"LEFT($B241436,10)&TEXT($D241436,\"0\")&TEXT($E241436,\"0000\")&TEXT($F241436,\"0000\")","v":"4480039031101590001"},4480039031,null,1,159,1,"159-1","전",767,null,null,null,"안양시만안구박달동56-10","김선수"]
[{"$f":"LEFT($B241437,10)&TEXT($D241437,\"0\")&TEXT($E241437,\"0000\")&TEXT($F241437,\"0000\")","v":"4480039031101660000"},4480039031,null,1,166,0,166,"답",294,null,null,null,158,"김진욱"]
[{"$f":"LEFT($B241438,10)&TEXT($D241438,\"0\")&TEXT($E241438,\"0000\")&TEXT($F241438,\"0000\")","v":"4480039031101810005"},4480039031,null,1,181,5,"181-5","대",594,null,null,null,"충청남도홍성군구항면충서로872번길61","김순식"]
[{"$f":"LEFT($B241439,10)&TEXT($D241439,\"0\")&TEXT($E241439,\"0000\")&TEXT($F241439,\"0000\")","v":"4480039031101880003"},4480039031,null,1,188,3,"188-3","답",212,null,null,null,"청광리199","황승로"]
[{"$f":"LEFT($B241440,10)&TEXT($D241440,\"0\")&TEXT($E241440,\"0000\")&TEXT($F241440,\"0000\")","v":"4480039031101880007"},4480039031,null,1,188,7,"188-7","도",73,null,null,null,"충청남도천안시서북구성환읍성환12길53-4","김태현"]
[{"$f":"LEFT($B241441,10)&TEXT($D241441,\"0\")&TEXT($E241441,\"0000\")&TEXT($F241441,\"0000\")","v":"4480039031101950001"},4480039031,null,1,195,1,"195-1","임",747,null,null,null,"홍주면오관리","한태성"]
[{"$f":"LEFT($B241442,10)&TEXT($D241442,\"0\")&TEXT($E241442,\"0000\")&TEXT($F241442,\"0000\")","v":"4480039031101950003"},4480039031,null,1,195,3,"195-3","임",1739,null,null,null,"홍주면오관리","한태성"]
[{"$f":"LEFT($B241443,10)&TEXT($D241443,\"0\")&TEXT($E241443,\"0000\")&TEXT($F241443,\"0000\")","v":"4480039031102140001"},4480039031,null,1,214,1,"214-1","대",291,null,null,null,"홍동면운용리","구연호"]
[{"$f":"LEFT($B241444,10)&TEXT($D241444,\"0\")&TEXT($E241444,\"0000\")&TEXT($F241444,\"0000\")","v":"4480039031102250002"},4480039031,null,1,225,2,"225-2","답",1316,null,null,null,"청광리520-1","최창옥"]
[{"$f":"LEFT($B241445,10)&TEXT($D241445,\"0\")&TEXT($E241445,\"0000\")&TEXT($F241445,\"0000\")","v":"4480039031102290001"},4480039031,null,1,229,1,"229-1","답",1861,null,null,null,"홍성읍남장리95-3거성아파트에이동102호","조갑식"]
[{"$f":"LEFT($B241446,10)&TEXT($D241446,\"0\")&TEXT($E241446,\"0000\")&TEXT($F241446,\"0000\")","v":"4480039031102310002"},4480039031,null,1,231,2,"231-2","답",1344,null,null,null,378,"김경수"]
[{"$f":"LEFT($B241447,10)&TEXT($D241447,\"0\")&TEXT($E241447,\"0000\")&TEXT($F241447,\"0000\")","v":"4480039031102520017"},4480039031,null,1,252,17,"252-17","제",156,null,null,null,"홍성군","국"]
[{"$f":"LEFT($B241448,10)&TEXT($D241448,\"0\")&TEXT($E241448,\"0000\")&TEXT($F241448,\"0000\")","v":"4480039031102540002"},4480039031,null,1,254,2,"254-2","답",278,null,null,null,264,"심성섭"]
[{"$f":"LEFT($B241449,10)&TEXT($D241449,\"0\")&TEXT($E241449,\"0000\")&TEXT($F241449,\"0000\")","v":"4480039031102570003"},4480039031,null,1,257,3,"257-3","답",1861,null,null,null,"충청남도홍성군구항면충서로872번길8-7","김재남"]
[{"$f":"LEFT($B241450,10)&TEXT($D241450,\"0\")&TEXT($E241450,\"0000\")&TEXT($F241450,\"0000\")","v":"4480039031102800000"},4480039031,null,1,280,0,280,"전",1474,null,null,null,280,"심윤섭"]
[{"$f":"LEFT($B241451,10)&TEXT($D241451,\"0\")&TEXT($E241451,\"0000\")&TEXT($F241451,\"0000\")","v":"4480039031102830005"},4480039031,null,1,283,5,"283-5","도",181,null,null,null,"마온리209","전용희"]
[{"$f":"LEFT($B241452,10)&TEXT($D241452,\"0\")&TEXT($E241452,\"0000\")&TEXT($F241452,\"0000\")","v":"4480039031102840002"},4480039031,null,1,284,2,"284-2","답",646,null,null,null,"경기도의왕시포일동487","한국농어촌공사"]
[{"$f":"LEFT($B241453,10)&TEXT($D241453,\"0\")&TEXT($E241453,\"0000\")&TEXT($F241453,\"0000\")","v":"4480039031102840005"},4480039031,null,1,284,5,"284-5","수",208,null,null,null,"국(환경부)","국"]
[{"$f":"LEFT($B241454,10)&TEXT($D241454,\"0\")&TEXT($E241454,\"0000\")&TEXT($F241454,\"0000\")","v":"4480039031102910001"},4480039031,null,1,291,1,"291-1","도",251,null,null,null,null,"김동규"]
[{"$f":"LEFT($B241455,10)&TEXT($D241455,\"0\")&TEXT($E241455,\"0000\")&TEXT($F241455,\"0000\")","v":"4480039031102940003"},4480039031,null,1,294,3,"294-3","도",89,null,null,null,"국(건설교통부)","국"]
[{"$f":"LEFT($B241456,10)&TEXT($D241456,\"0\")&TEXT($E241456,\"0000\")&TEXT($F241456,\"0000\")","v":"4480039031103030009"},4480039031,null,1,303,9,"303-9","전",802,null,null,null,"충청남도홍성군구항면충서로849","조상욱"]
[{"$f":"LEFT($B241457,10)&TEXT($D241457,\"0\")&TEXT($E241457,\"0000\")&TEXT($F241457,\"0000\")","v":"4480039031103040000"},4480039031,null,1,304,0,304,"대",97,null,null,null,304,"김계환"]
[{"$f":"LEFT($B241458,10)&TEXT($D241458,\"0\")&TEXT($E241458,\"0000\")&TEXT($F241458,\"0000\")","v":"4480039031103110007"},4480039031,null,1,311,7,"311-7","전",420,null,null,null,"청광리306","양일남"]
[{"$f":"LEFT($B241459,10)&TEXT($D241459,\"0\")&TEXT($E241459,\"0000\")&TEXT($F241459,\"0000\")","v":"4480039031103150002"},4480039031,null,1,315,2,"315-2","대",209,null,null,null,"예산군예산읍창소리113","정갑준"]
[{"$f":"LEFT($B241460,10)&TEXT($D241460,\"0\")&TEXT($E241460,\"0000\")&TEXT($F241460,\"0000\")","v":"4480039031103200001"},4480039031,null,1,320,1,"320-1","전",575,null,null,null,"홍성읍남장리105광명주택302호","장래수"]
[{"$f":"LEFT($B241461,10)&TEXT($D241461,\"0\")&TEXT($E241461,\"0000\")&TEXT($F241461,\"0000\")","v":"4480039031103250001"},4480039031,null,1,325,1,"325-1","답",947,null,null,null,"홍성군","국"]
[{"$f":"LEFT($B241462,10)&TEXT($D241462,\"0\")&TEXT($E241462,\"0000\")&TEXT($F241462,\"0000\")","v":"4480039031103270001"},4480039031,null,1,327,1,"327-1","대",205,null,null,null,"충청남도홍성군구항면충서로877번길58","이치만"]
[{"$f":"LEFT($B241463,10)&TEXT($D241463,\"0\")&TEXT($E241463,\"0000\")&TEXT($F241463,\"0000\")","v":"4480039031103320000"},4480039031,null,1,332,0,332,"답",1250,null,null,null,514,"최창옥"]
[{"$f":"LEFT($B241464,10)&TEXT($D241464,\"0\")&TEXT($E241464,\"0000\")&TEXT($F241464,\"0000\")","v":"4480039031103320001"},4480039031,null,1,332,1,"332-1","답",300,null,null,null,"홍성군","국"]
[{"$f":"LEFT($B241465,10)&TEXT($D241465,\"0\")&TEXT($E241465,\"0000\")&TEXT($F241465,\"0000\")","v":"4480039031103330000"},4480039031,null,1,333,0,333,"답",1644,null,null,null,"540-4","김광태"]
[{"$f":"LEFT($B241466,10)&TEXT($D241466,\"0\")&TEXT($E241466,\"0000\")&TEXT($F241466,\"0000\")","v":"4480039031103340001"},4480039031,null,1,334,1,"334-1","답",1197,null,null,null,"홍성군구항면청광리540-4","김광태"]
[{"$f":"LEFT($B241467,10)&TEXT($D241467,\"0\")&TEXT($E241467,\"0000\")&TEXT($F241467,\"0000\")","v":"4480039031103350002"},4480039031,null,1,335,2,"335-2","구",86,null,null,null,"예산군광시면구례리165","정낙선"]
[{"$f":"LEFT($B241468,10)&TEXT($D241468,\"0\")&TEXT($E241468,\"0000\")&TEXT($F241468,\"0000\")","v":"4480039031103380001"},4480039031,null,1,338,1,"338-1","전",2515,null,null,null,"539-2","김영만"]
[{"$f":"LEFT($B241469,10)&TEXT($D241469,\"0\")&TEXT($E241469,\"0000\")&TEXT($F241469,\"0000\")","v":"4480039031103380002"},4480039031,null,1,338,2,"338-2","도",3,null,null,null,539,"김의준"]
[{"$f":"LEFT($B241470,10)&TEXT($D241470,\"0\")&TEXT($E241470,\"0000\")&TEXT($F241470,\"0000\")","v":"4480039031103380003"},4480039031,null,1,338,3,"338-3","도",43,null,null,null,539,"김의준"]
[{"$f":"LEFT($B241471,10)&TEXT($D241471,\"0\")&TEXT($E241471,\"0000\")&TEXT($F241471,\"0000\")","v":"4480039031103430003"},4480039031,null,1,343,3,"343-3","답",177,null,null,null,"홍성읍오관리518경성큰마을아파트103-506","조천식"]
[{"$f":"LEFT($B241472,10)&TEXT($D241472,\"0\")&TEXT($E241472,\"0000\")&TEXT($F241472,\"0000\")","v":"4480039031103530001"},4480039031,null,1,353,1,"353-1","도",36,null,null,null,"국(건설부)","국"]
[{"$f":"LEFT($B241473,10)&TEXT($D241473,\"0\")&TEXT($E241473,\"0000\")&TEXT($F241473,\"0000\")","v":"4480039031103640001"},4480039031,null,1,364,1,"364-1","도",7,null,null,null,"국(건설부)","국"]
[{"$f":"LEFT($B241474,10)&TEXT($D241474,\"0\")&TEXT($E241474,\"0000\")&TEXT($F241474,\"0000\")","v":"4480039031103690002"},4480039031,null,1,369,2,"369-2","도",79,null,null,null,"신곡리47","이용계"]
[{"$f":"LEFT($B241475,10)&TEXT($D241475,\"0\")&TEXT($E241475,\"0000\")&TEXT($F241475,\"0000\")","v":"4480039031103750003"},4480039031,null,1,375,3,"375-3","잡",616,null,null,null,"대전광역시대덕구계족로663번길231동305호(법동유원아파트)","오광조"]
[{"$f":"LEFT($B241476,10)&TEXT($D241476,\"0\")&TEXT($E241476,\"0000\")&TEXT($F241476,\"0000\")","v":"4480039031103760004"},4480039031,null,1,376,4,"376-4","전",496,null,null,null,"경기도광주시이배재로155-34204동202호(목현동위너스힐타운)","김필수"]
[{"$f":"LEFT($B241477,10)&TEXT($D241477,\"0\")&TEXT($E241477,\"0000\")&TEXT($F241477,\"0000\")","v":"4480039031103770005"},4480039031,null,1,377,5,"377-5","전",52,null,null,null,"성남시중원구성남동102-5신흥다세대302호","김필수"]
[{"$f":"LEFT($B241478,10)&TEXT($D241478,\"0\")&TEXT($E241478,\"0000\")&TEXT($F241478,\"0000\")","v":"4480039031103830001"},4480039031,null,1,383,1,"383-1","답",17,null,null,null,182,"김운룡"]
[{"$f":"LEFT($B241479,10)&TEXT($D241479,\"0\")&TEXT($E241479,\"0000\")&TEXT($F241479,\"0000\")","v":"4480039031103870012"},4480039031,null,1,387,12,"387-12","전",13,null,null,null,"국(환경부)","국"]
[{"$f":"LEFT($B241480,10)&TEXT($D241480,\"0\")&TEXT($E241480,\"0000\")&TEXT($F241480,\"0000\")","v":"4480039031103960005"},4480039031,null,1,396,5,"396-5","제",192,null,null,null,"홍성군","국"]
[{"$f":"LEFT($B241481,10)&TEXT($D241481,\"0\")&TEXT($E241481,\"0000\")&TEXT($F241481,\"0000\")","v":"4480039031104010001"},4480039031,null,1,401,1,"401-1","도",33,null,null,null,196,"김금용"]
[{"$f":"LEFT($B241482,10)&TEXT($D241482,\"0\")&TEXT($E241482,\"0000\")&TEXT($F241482,\"0000\")","v":"4480039031104040003"},4480039031,null,1,404,3,"404-3","도",119,null,null,null,207,"조한무"]
[{"$f":"LEFT($B241483,10)&TEXT($D241483,\"0\")&TEXT($E241483,\"0000\")&TEXT($F241483,\"0000\")","v":"4480039031104060002"},4480039031,null,1,406,2,"406-2","도",33,null,null,null,"홍성군","국"]
[{"$f":"LEFT($B241484,10)&TEXT($D241484,\"0\")&TEXT($E241484,\"0000\")&TEXT($F241484,\"0000\")","v":"4480039031104070004"},4480039031,null,1,407,4,"407-4","제",43,null,null,null,"홍성군","국"]
[{"$f":"LEFT($B241485,10)&TEXT($D241485,\"0\")&TEXT($E241485,\"0000\")&TEXT($F241485,\"0000\")","v":"4480039031104090001"},4480039031,null,1,409,1,"409-1","천",595,null,null,null,307,"조경식"]
[{"$f":"LEFT($B241486,10)&TEXT($D241486,\"0\")&TEXT($E241486,\"0000\")&TEXT($F241486,\"0000\")","v":"4480039031104330004"},4480039031,null,1,433,4,"433-4","임",2720,null,null,null,"국(건설부)","국"]
[{"$f":"LEFT($B241487,10)&TEXT($D241487,\"0\")&TEXT($E241487,\"0000\")&TEXT($F241487,\"0000\")","v":"4480039031104370001"},4480039031,null,1,437,1,"437-1","도",50,null,null,null,"국(건설부)","국"]
[{"$f":"LEFT($B241488,10)&TEXT($D241488,\"0\")&TEXT($E241488,\"0000\")&TEXT($F241488,\"0000\")","v":"4480039031104370004"},4480039031,null,1,437,4,"437-4","도",212,null,null,null,"국(건설부)","국"]
[{"$f":"LEFT($B241489,10)&TEXT($D241489,\"0\")&TEXT($E241489,\"0000\")&TEXT($F241489,\"0000\")","v":"4480039031104410004"},4480039031,null,1,441,4,"441-4","도",94,null,null,null,"국(건설교통부)","국"]
[{"$f":"LEFT($B241490,10)&TEXT($D241490,\"0\")&TEXT($E241490,\"0000\")&TEXT($F241490,\"0000\")","v":"4480039031104420003"},4480039031,null,1,442,3,"442-3","대",49,null,null,null,442,"김두실"]
[{"$f":"LEFT($B241491,10)&TEXT($D241491,\"0\")&TEXT($E241491,\"0000\")&TEXT($F241491,\"0000\")","v":"4480039031104530000"},4480039031,null,1,453,0,453,"답",894,null,null,null,487,"김영호"]
[{"$f":"LEFT($B241492,10)&TEXT($D241492,\"0\")&TEXT($E241492,\"0000\")&TEXT($F241492,\"0000\")","v":"4480039031104540000"},4480039031,null,1,454,0,454,"답",4555,null,null,null,487,"김영호"]
[{"$f":"LEFT($B241493,10)&TEXT($D241493,\"0\")&TEXT($E241493,\"0000\")&TEXT($F241493,\"0000\")","v":"4480039031104620003"},4480039031,null,1,462,3,"462-3","답",1527,null,null,null,"충청남도홍성군홍성읍월산리851부영아파트207-104","김광섭"]
[{"$f":"LEFT($B241494,10)&TEXT($D241494,\"0\")&TEXT($E241494,\"0000\")&TEXT($F241494,\"0000\")","v":"4480039031104680001"},4480039031,null,1,468,1,"468-1","천",47,null,null,null,"홍성군","국"]
[{"$f":"LEFT($B241495,10)&TEXT($D241495,\"0\")&TEXT($E241495,\"0000\")&TEXT($F241495,\"0000\")","v":"4480039031104690000"},4480039031,null,1,469,0,469,"천",2569,null,null,null,"홍성군","국"]
[{"$f":"LEFT($B241496,10)&TEXT($D241496,\"0\")&TEXT($E241496,\"0000\")&TEXT($F241496,\"0000\")","v":"4480039031104720000"},4480039031,null,1,472,0,472,"전",205,null,null,null,473,"장만자"]
[{"$f":"LEFT($B241497,10)&TEXT($D241497,\"0\")&TEXT($E241497,\"0000\")&TEXT($F241497,\"0000\")","v":"4480039031104730000"},4480039031,null,1,473,0,473,"전",1025,null,null,null,477,"김영원"]
[{"$f":"LEFT($B241498,10)&TEXT($D241498,\"0\")&TEXT($E241498,\"0000\")&TEXT($F241498,\"0000\")","v":"4480039031104790001"},4480039031,null,1,479,1,"479-1","전",490,null,null,null,"경기도김포시하성면석탄리680-1우진클린산업기계","오승찬"]
[{"$f":"LEFT($B241499,10)&TEXT($D241499,\"0\")&TEXT($E241499,\"0000\")&TEXT($F241499,\"0000\")","v":"4480039031104980000"},4480039031,null,1,498,0,498,"답",1814,null,null,null,"충청남도홍성군구항면충서로945번길50-10","김영승"]
[{"$f":"LEFT($B241500,10)&TEXT($D241500,\"0\")&TEXT($E241500,\"0000\")&TEXT($F241500,\"0000\")","v":"4480039031105020003"},4480039031,null,1,502,3,"502-3","천",319,null,null,null,"홍성군","국"]
[{"$f":"LEFT($B241501,10)&TEXT($D241501,\"0\")&TEXT($E241501,\"0000\")&TEXT($F241501,\"0000\")","v":"4480039031105040001"},4480039031,null,1,504,1,"504-1","천",81,null,null,null,"홍성군","국"]
[{"$f":"LEFT($B241502,10)&TEXT($D241502,\"0\")&TEXT($E241502,\"0000\")&TEXT($F241502,\"0000\")","v":"4480039031105050001"},4480039031,null,1,505,1,"505-1","전",615,null,null,null,"홍성군구항면마온리140","김경준"]
[{"$f":"LEFT($B241503,10)&TEXT($D241503,\"0\")&TEXT($E241503,\"0000\")&TEXT($F241503,\"0000\")","v":"4480039031105060006"},4480039031,null,1,506,6,"506-6","목",359,null,null,null,"충청남도홍성군구항면충서로945번길123-8","노승길"]
[{"$f":"LEFT($B241504,10)&TEXT($D241504,\"0\")&TEXT($E241504,\"0000\")&TEXT($F241504,\"0000\")","v":"4480039031105130001"},4480039031,null,1,513,1,"513-1","전",1144,null,null,null,"시흥시정왕동1886-4서해아파트204-903","김관섭"]
[{"$f":"LEFT($B241505,10)&TEXT($D241505,\"0\")&TEXT($E241505,\"0000\")&TEXT($F241505,\"0000\")","v":"4480039031105160001"},4480039031,null,1,516,1,"516-1","전",1160,null,null,null,"충청남도홍성군구항면충서로945번길105-26","송월예"]
[{"$f":"LEFT($B241506,10)&TEXT($D241506,\"0\")&TEXT($E241506,\"0000\")&TEXT($F241506,\"0000\")","v":"4480039031105180000"},4480039031,null,1,518,0,518,"답",2767,null,null,null,40,"최장영"]
[{"$f":"LEFT($B241507,10)&TEXT($D241507,\"0\")&TEXT($E241507,\"0000\")&TEXT($F241507,\"0000\")","v":"4480039031105240000"},4480039031,null,1,524,0,524,"답",2162,null,null,null,"의왕시왕곡동599원효아파트102-1603","김영돈"]
[{"$f":"LEFT($B241508,10)&TEXT($D241508,\"0\")&TEXT($E241508,\"0000\")&TEXT($F241508,\"0000\")","v":"4480039031105260001"},4480039031,null,1,526,1,"526-1","답",212,null,null,null,"인천시남동구간석동495-5금호아파트2-603","김영창"]
[{"$f":"LEFT($B241509,10)&TEXT($D241509,\"0\")&TEXT($E241509,\"0000\")&TEXT($F241509,\"0000\")","v":"4480039031105320000"},4480039031,null,1,532,0,532,"전",2995,null,null,null,"539-2","김영만"]
[{"$f":"LEFT($B241510,10)&TEXT($D241510,\"0\")&TEXT($E241510,\"0000\")&TEXT($F241510,\"0000\")","v":"4480039031105380000"},4480039031,null,1,538,0,538,"대",949,null,null,null,"충청남도홍성군구항면충서로945번길71","장연숙"]
[{"$f":"LEFT($B241511,10)&TEXT($D241511,\"0\")&TEXT($E241511,\"0000\")&TEXT($F241511,\"0000\")","v":"4480039031105380008"},4480039031,null,1,538,8,"538-8","전",655,null,null,null,"예산군광시면구례리","정낙선"]
[{"$f":"LEFT($B241512,10)&TEXT($D241512,\"0\")&TEXT($E241512,\"0000\")&TEXT($F241512,\"0000\")","v":"4480039031105400004"},4480039031,null,1,540,4,"540-4","대",135,null,null,null,"경기도수원시권선구덕영대로1217번길24106동1102호(권선동두산동아아파트)","김영희"]
[{"$f":"LEFT($B241513,10)&TEXT($D241513,\"0\")&TEXT($E241513,\"0000\")&TEXT($F241513,\"0000\")","v":"4480039031105410001"},4480039031,null,1,541,1,"541-1","전",102,null,null,null,"경기도수원시권선구덕영대로1217번길24106동1102호(권선동두산동아아파트)","김영희"]
[{"$f":"LEFT($B241514,10)&TEXT($D241514,\"0\")&TEXT($E241514,\"0000\")&TEXT($F241514,\"0000\")","v":"4480039031105460001"},4480039031,null,1,546,1,"546-1","전",258,null,null,null,"충청남도홍성군홍성읍월산로30번길38207동104호(부영아파트)","김광섭"]
[{"$f":"LEFT($B241515,10)&TEXT($D241515,\"0\")&TEXT($E241515,\"0000\")&TEXT($F241515,\"0000\")","v":"4480039031105480001"},4480039031,null,1,548,1,"548-1","답",1177,null,null,null,"경기도용인시수지구수풍로16105동206호(풍덕천동보원아파트)","서혜경"]
[{"$f":"LEFT($B241516,10)&TEXT($D241516,\"0\")&TEXT($E241516,\"0000\")&TEXT($F241516,\"0000\")","v":"4480039031105490002"},4480039031,null,1,549,2,"549-2","도",129,null,null,null,546,"이갑성"]
[{"$f":"LEFT($B241517,10)&TEXT($D241517,\"0\")&TEXT($E241517,\"0000\")&TEXT($F241517,\"0000\")","v":"4480039031105510008"},4480039031,null,1,551,8,"551-8","임",953,null,null,null,"충청남도홍성군구항면충서로945번길75-19","권문진"]
[{"$f":"LEFT($B241518,10)&TEXT($D241518,\"0\")&TEXT($E241518,\"0000\")&TEXT($F241518,\"0000\")","v":"4480039031105510014"},4480039031,null,1,551,14,"551-14","임",1167,null,null,null,"경기도고양시덕양구성사동869원당이편한세상111-203","김영식"]
[{"$f":"LEFT($B241519,10)&TEXT($D241519,\"0\")&TEXT($E241519,\"0000\")&TEXT($F241519,\"0000\")","v":"4480039031105660003"},4480039031,null,1,566,3,"566-3","전",516,null,null,null,"서울영등포구신길동433-6","김병곤"]
[{"$f":"LEFT($B241520,10)&TEXT($D241520,\"0\")&TEXT($E241520,\"0000\")&TEXT($F241520,\"0000\")","v":"4480039031105660007"},4480039031,null,1,566,7,"566-7","전",2380,null,null,null,"572-5","신인순"]
[{"$f":"LEFT($B241521,10)&TEXT($D241521,\"0\")&TEXT($E241521,\"0000\")&TEXT($F241521,\"0000\")","v":"4480039031105710001"},4480039031,null,1,571,1,"571-1","천",1719,null,null,null,"국(기획재정부)","국"]
[{"$f":"LEFT($B241522,10)&TEXT($D241522,\"0\")&TEXT($E241522,\"0000\")&TEXT($F241522,\"0000\")","v":"4480039031105720002"},4480039031,null,1,572,2,"572-2","대",126,null,null,null,"국(기획재정부)","국"]
[{"$f":"LEFT($B241523,10)&TEXT($D241523,\"0\")&TEXT($E241523,\"0000\")&TEXT($F241523,\"0000\")","v":"4480039031105730003"},4480039031,null,1,573,3,"573-3","답",605,null,null,null,"572-5","신인순"]
[{"$f":"LEFT($B241524,10)&TEXT($D241524,\"0\")&TEXT($E241524,\"0000\")&TEXT($F241524,\"0000\")","v":"4480039031105730006"},4480039031,null,1,573,6,"573-6","천",667,null,null,null,"홍성군","국"]
[{"$f":"LEFT($B241525,10)&TEXT($D241525,\"0\")&TEXT($E241525,\"0000\")&TEXT($F241525,\"0000\")","v":"4480039031105780006"},4480039031,null,1,578,6,"578-6","대",659,null,null,null,"경기도부천시삼작로428번길402층2호(원종동한강타운))","박채은"]
[{"$f":"LEFT($B241526,10)&TEXT($D241526,\"0\")&TEXT($E241526,\"0000\")&TEXT($F241526,\"0000\")","v":"4480039031105850001"},4480039031,null,1,585,1,"585-1","대",446,null,null,null,"충청남도홍성군구항면충서로877번길186","김성준"]
[{"$f":"LEFT($B241527,10)&TEXT($D241527,\"0\")&TEXT($E241527,\"0000\")&TEXT($F241527,\"0000\")","v":"4480039031105880005"},4480039031,null,1,588,5,"588-5","전",1210,null,null,null,"충청남도서산시대산읍영전4길79-15","서용길"]
[{"$f":"LEFT($B241528,10)&TEXT($D241528,\"0\")&TEXT($E241528,\"0000\")&TEXT($F241528,\"0000\")","v":"4480039031105910003"},4480039031,null,1,591,3,"591-3","답",2552,null,null,null,"산96","이치만"]
[{"$f":"LEFT($B241529,10)&TEXT($D241529,\"0\")&TEXT($E241529,\"0000\")&TEXT($F241529,\"0000\")","v":"4480039031105920002"},4480039031,null,1,592,2,"592-2","대",152,null,null,null,"고암리640","한영갑"]
[{"$f":"LEFT($B241530,10)&TEXT($D241530,\"0\")&TEXT($E241530,\"0000\")&TEXT($F241530,\"0000\")","v":"4480039031106010006"},4480039031,null,1,601,6,"601-6","천",18587,null,null,null,"국(건설교통부)","국"]
[{"$f":"LEFT($B241531,10)&TEXT($D241531,\"0\")&TEXT($E241531,\"0000\")&TEXT($F241531,\"0000\")","v":"4480039031106350000"},4480039031,null,1,635,0,635,"답",2435,null,null,null,"충청남도홍성군구항면청광리132","임인모"]
[{"$f":"LEFT($B241532,10)&TEXT($D241532,\"0\")&TEXT($E241532,\"0000\")&TEXT($F241532,\"0000\")","v":"4480039031106380000"},4480039031,null,1,638,0,638,"답",1280,null,null,null,"서울특별시금천구독산동1027-4","김희태"]
[{"$f":"LEFT($B241533,10)&TEXT($D241533,\"0\")&TEXT($E241533,\"0000\")&TEXT($F241533,\"0000\")","v":"4480039031106450000"},4480039031,null,1,645,0,645,"답",1315,null,null,null,"충청남도홍성군홍성읍홍장북로442","정개원"]
[{"$f":"LEFT($B241534,10)&TEXT($D241534,\"0\")&TEXT($E241534,\"0000\")&TEXT($F241534,\"0000\")","v":"4480039031106510000"},4480039031,null,1,651,0,651,"답",2145,null,null,null,"경기도안양시만안구박달동61-23","김선수"]
[{"$f":"LEFT($B241535,10)&TEXT($D241535,\"0\")&TEXT($E241535,\"0000\")&TEXT($F241535,\"0000\")","v":"4480039031106550005"},4480039031,null,1,655,5,"655-5","수",79,null,null,null,"국(환경부)","국"]
[{"$f":"LEFT($B241536,10)&TEXT($D241536,\"0\")&TEXT($E241536,\"0000\")&TEXT($F241536,\"0000\")","v":"4480039031106610002"},4480039031,null,1,661,2,"661-2","구",55,null,null,null,"국(농림축산식품부)","국"]
[{"$f":"LEFT($B241537,10)&TEXT($D241537,\"0\")&TEXT($E241537,\"0000\")&TEXT($F241537,\"0000\")","v":"4480039031106620001"},4480039031,null,1,662,1,"662-1","도",152,null,null,null,"국(건설부)","국"]
[{"$f":"LEFT($B241538,10)&TEXT($D241538,\"0\")&TEXT($E241538,\"0000\")&TEXT($F241538,\"0000\")","v":"4480039031106670000"},4480039031,null,1,667,0,667,"천",7705,null,null,null,"국(건설교통부)","국"]
[{"$f":"LEFT($B241539,10)&TEXT($D241539,\"0\")&TEXT($E241539,\"0000\")&TEXT($F241539,\"0000\")","v":"4480039031106810000"},4480039031,null,1,681,0,681,"답",645,null,null,null,"충청남도홍성군구항면충서로861-18","김정태"]
[{"$f":"LEFT($B241540,10)&TEXT($D241540,\"0\")&TEXT($E241540,\"0000\")&TEXT($F241540,\"0000\")","v":"4480039031106950002"},4480039031,null,1,695,2,"695-2","수",102,null,null,null,"국(환경부)","국"]
[{"$f":"LEFT($B241541,10)&TEXT($D241541,\"0\")&TEXT($E241541,\"0000\")&TEXT($F241541,\"0000\")","v":"4480039031107000000"},4480039031,null,1,700,0,700,"답",895,null,null,null,"전라북도군산시의료원로137101동405호(나운동영창아파트)","김안태"]
[{"$f":"LEFT($B241542,10)&TEXT($D241542,\"0\")&TEXT($E241542,\"0000\")&TEXT($F241542,\"0000\")","v":"4480039031200010003"},4480039031,null,2,1,3,"1-3","임",298,null,null,null,null,"정치용"]
[{"$f":"LEFT($B241543,10)&TEXT($D241543,\"0\")&TEXT($E241543,\"0000\")&TEXT($F241543,\"0000\")","v":"4480039031200060005"},4480039031,null,2,6,5,"6-5","임",8727,null,null,null,274,"심재욱"]
[{"$f":"LEFT($B241544,10)&TEXT($D241544,\"0\")&TEXT($E241544,\"0000\")&TEXT($F241544,\"0000\")","v":"4480039031200340002"},4480039031,null,2,34,2,"34-2","철",298,null,null,null,"국(국토교통부)","국"]
[{"$f":"LEFT($B241545,10)&TEXT($D241545,\"0\")&TEXT($E241545,\"0000\")&TEXT($F241545,\"0000\")","v":"4480039031200360002"},4480039031,null,2,36,2,"36-2","임",3272,null,null,null,"경상북도포항시남구지곡로294216동1001호(지곡동효자그린아파트)","김궁식"]
[{"$f":"LEFT($B241546,10)&TEXT($D241546,\"0\")&TEXT($E241546,\"0000\")&TEXT($F241546,\"0000\")","v":"4480039031200440000"},4480039031,null,2,44,0,44,"임",68727,null,null,null,"안양시동안구관양2동1462-19.4층","서태원"]
[{"$f":"LEFT($B241547,10)&TEXT($D241547,\"0\")&TEXT($E241547,\"0000\")&TEXT($F241547,\"0000\")","v":"4480039031200540001"},4480039031,null,2,54,1,"54-1","임",13388,null,null,null,"대전동구가양동20-36동경빌라비-201","최병운"]
[{"$f":"LEFT($B241548,10)&TEXT($D241548,\"0\")&TEXT($E241548,\"0000\")&TEXT($F241548,\"0000\")","v":"4480039031200760000"},4480039031,null,2,76,0,76,"임",16066,null,null,null,"홍성읍학계리616","김용기"]
[{"$f":"LEFT($B241549,10)&TEXT($D241549,\"0\")&TEXT($E241549,\"0000\")&TEXT($F241549,\"0000\")","v":"4480039031200790000"},4480039031,null,2,79,0,79,"임",389,null,null,null,"홍성군","국"]
[{"$f":"LEFT($B241550,10)&TEXT($D241550,\"0\")&TEXT($E241550,\"0000\")&TEXT($F241550,\"0000\")","v":"4480039031200890068"},4480039031,null,2,89,68,"89-68","임",1884,null,null,null,"서울특별시송파구올림픽로135263동2602호(잠실동리센츠)","최병길"]
[{"$f":"LEFT($B241551,10)&TEXT($D241551,\"0\")&TEXT($E241551,\"0000\")&TEXT($F241551,\"0000\")","v":"4480039031201430002"},4480039031,null,2,143,2,"143-2","도",99,null,null,null,"국(건설부)","국"]
[{"$f":"LEFT($B241552,10)&TEXT($D241552,\"0\")&TEXT($E241552,\"0000\")&TEXT($F241552,\"0000\")","v":"4480039031201570000"},4480039031,null,2,157,0,157,"구",1025,null,null,null,"국(건설부)","국"]
[{"$f":"LEFT($B241553,10)&TEXT($D241553,\"0\")&TEXT($E241553,\"0000\")&TEXT($F241553,\"0000\")","v":"4480039031201660000"},4480039031,null,2,166,0,166,"구",7341,null,null,null,"국(건설부)","국"]
[{"$f":"LEFT($B241554,10)&TEXT($D241554,\"0\")&TEXT($E241554,\"0000\")&TEXT($F241554,\"0000\")","v":"4480039032100010009"},4480039032,null,1,1,9,"1-9","도",493,null,null,null,"국(기획재정부)","국"]
[{"$f":"LEFT($B241555,10)&TEXT($D241555,\"0\")&TEXT($E241555,\"0000\")&TEXT($F241555,\"0000\")","v":"4480039032100110012"},4480039032,null,1,11,12,"11-12","임",6073,null,null,null,"홍성읍월산리851부영아파트205-603","장연석"]
[{"$f":"LEFT($B241556,10)&TEXT($D241556,\"0\")&TEXT($E241556,\"0000\")&TEXT($F241556,\"0000\")","v":"4480039032100110013"},4480039032,null,1,11,13,"11-13","임",3087,null,null,null,"홍북면노은리170","이광섭"]
[{"$f":"LEFT($B241557,10)&TEXT($D241557,\"0\")&TEXT($E241557,\"0000\")&TEXT($F241557,\"0000\")","v":"4480039032100110023"},4480039032,null,1,11,23,"11-23","도",4923,null,null,null,"국(건설교통부)","국"]
[{"$f":"LEFT($B241558,10)&TEXT($D241558,\"0\")&TEXT($E241558,\"0000\")&TEXT($F241558,\"0000\")","v":"4480039032100130000"},4480039032,null,1,13,0,13,"전",595,null,null,null,"충청남도홍성군홍성읍문화로72번길92110동1005호(주공그린빌)","전근진"]
[{"$f":"LEFT($B241559,10)&TEXT($D241559,\"0\")&TEXT($E241559,\"0000\")&TEXT($F241559,\"0000\")","v":"4480039032100240001"},4480039032,null,1,24,1,"24-1","전",331,null,null,null,"24-2","김성환"]
[{"$f":"LEFT($B241560,10)&TEXT($D241560,\"0\")&TEXT($E241560,\"0000\")&TEXT($F241560,\"0000\")","v":"4480039032100310002"},4480039032,null,1,31,2,"31-2","대",182,null,null,null,"예산군덕산면대치리163","경주김씨참봉공파덕산종중"]
[{"$f":"LEFT($B241561,10)&TEXT($D241561,\"0\")&TEXT($E241561,\"0000\")&TEXT($F241561,\"0000\")","v":"4480039032100330001"},4480039032,null,1,33,1,"33-1","도",30,null,null,null,"당진군합덕면신리187","박원신"]
[{"$f":"LEFT($B241562,10)&TEXT($D241562,\"0\")&TEXT($E241562,\"0000\")&TEXT($F241562,\"0000\")","v":"4480039032100340001"},4480039032,null,1,34,1,"34-1","임",17153,null,null,null,"예산군덕산면대치리163","경주김씨참봉공파덕산종중"]
[{"$f":"LEFT($B241563,10)&TEXT($D241563,\"0\")&TEXT($E241563,\"0000\")&TEXT($F241563,\"0000\")","v":"4480039032100340004"},4480039032,null,1,34,4,"34-4","도",364,null,null,null,"국(건설부)","국"]
[{"$f":"LEFT($B241564,10)&TEXT($D241564,\"0\")&TEXT($E241564,\"0000\")&TEXT($F241564,\"0000\")","v":"4480039032100360007"},4480039032,null,1,36,7,"36-7","도",33,null,null,null,"국(건설부)","국"]
[{"$f":"LEFT($B241565,10)&TEXT($D241565,\"0\")&TEXT($E241565,\"0000\")&TEXT($F241565,\"0000\")","v":"4480039032100450006"},4480039032,null,1,45,6,"45-6","임",403,null,null,null,"홍성읍대교리404-3","김창수"]
[{"$f":"LEFT($B241566,10)&TEXT($D241566,\"0\")&TEXT($E241566,\"0000\")&TEXT($F241566,\"0000\")","v":"4480039032100510001"},4480039032,null,1,51,1,"51-1","전",334,null,null,null,"홍성읍오관리445-1","김성호"]
[{"$f":"LEFT($B241567,10)&TEXT($D241567,\"0\")&TEXT($E241567,\"0000\")&TEXT($F241567,\"0000\")","v":"4480039032100520005"},4480039032,null,1,52,5,"52-5","도",811,null,null,null,"국(건설교통부)","국"]
[{"$f":"LEFT($B241568,10)&TEXT($D241568,\"0\")&TEXT($E241568,\"0000\")&TEXT($F241568,\"0000\")","v":"4480039032100530001"},4480039032,null,1,53,1,"53-1","도",111,null,null,null,"국(건설교통부)","국"]
[{"$f":"LEFT($B241569,10)&TEXT($D241569,\"0\")&TEXT($E241569,\"0000\")&TEXT($F241569,\"0000\")","v":"4480039032100540000"},4480039032,null,1,54,0,54,"전",2326,null,null,null,"246-1","이용국"]
[{"$f":"LEFT($B241570,10)&TEXT($D241570,\"0\")&TEXT($E241570,\"0000\")&TEXT($F241570,\"0000\")","v":"4480039032100560015"},4480039032,null,1,56,15,"56-15","도",13,null,null,null,"국(건설교통부)","국"]
[{"$f":"LEFT($B241571,10)&TEXT($D241571,\"0\")&TEXT($E241571,\"0000\")&TEXT($F241571,\"0000\")","v":"4480039032100620004"},4480039032,null,1,62,4,"62-4","도",13,null,null,null,252,"황일성"]
[{"$f":"LEFT($B241572,10)&TEXT($D241572,\"0\")&TEXT($E241572,\"0000\")&TEXT($F241572,\"0000\")","v":"4480039032100620008"},4480039032,null,1,62,8,"62-8","답",3,null,null,null,247,"금본석배"]
[{"$f":"LEFT($B241573,10)&TEXT($D241573,\"0\")&TEXT($E241573,\"0000\")&TEXT($F241573,\"0000\")","v":"4480039032100680002"},4480039032,null,1,68,2,"68-2","도",129,null,null,null,209,"김기태"]
[{"$f":"LEFT($B241574,10)&TEXT($D241574,\"0\")&TEXT($E241574,\"0000\")&TEXT($F241574,\"0000\")","v":"4480039032100860001"},4480039032,null,1,86,1,"86-1","도",126,null,null,null,"국(건설부)","국"]
[{"$f":"LEFT($B241575,10)&TEXT($D241575,\"0\")&TEXT($E241575,\"0000\")&TEXT($F241575,\"0000\")","v":"4480039032100920005"},4480039032,null,1,92,5,"92-5","전",318,null,null,null,246,"김국환"]
[{"$f":"LEFT($B241576,10)&TEXT($D241576,\"0\")&TEXT($E241576,\"0000\")&TEXT($F241576,\"0000\")","v":"4480039032100920006"},4480039032,null,1,92,6,"92-6","전",1216,null,null,null,"홍성군구항면마온리546","송재현"]
[{"$f":"LEFT($B241577,10)&TEXT($D241577,\"0\")&TEXT($E241577,\"0000\")&TEXT($F241577,\"0000\")","v":"4480039032101350004"},4480039032,null,1,135,4,"135-4","대",335,null,null,null,"충청남도홍성군구항면마온리139-1","김준태"]
[{"$f":"LEFT($B241578,10)&TEXT($D241578,\"0\")&TEXT($E241578,\"0000\")&TEXT($F241578,\"0000\")","v":"4480039032101540011"},4480039032,null,1,154,11,"154-11","전",889,null,null,null,"경기광주시장지동675-3","온양정씨운계공파종중"]
[{"$f":"LEFT($B241579,10)&TEXT($D241579,\"0\")&TEXT($E241579,\"0000\")&TEXT($F241579,\"0000\")","v":"4480039032101620000"},4480039032,null,1,162,0,162,"전",2770,null,null,null,170,"김명준"]
[{"$f":"LEFT($B241580,10)&TEXT($D241580,\"0\")&TEXT($E241580,\"0000\")&TEXT($F241580,\"0000\")","v":"4480039032101620002"},4480039032,null,1,162,2,"162-2","임",2562,null,null,null,172,"공병웅"]
[{"$f":"LEFT($B241581,10)&TEXT($D241581,\"0\")&TEXT($E241581,\"0000\")&TEXT($F241581,\"0000\")","v":"4480039032101680002"},4480039032,null,1,168,2,"168-2","전",2179,null,null,null,"충청남도홍성군홍성읍문화로72번길92110동1305호(주공그린빌)","임인자"]
[{"$f":"LEFT($B241582,10)&TEXT($D241582,\"0\")&TEXT($E241582,\"0000\")&TEXT($F241582,\"0000\")","v":"4480039032101720006"},4480039032,null,1,172,6,"172-6","전",533,null,null,null,"대전서구내동220-2롯데아파트113-908","전우진"]
[{"$f":"LEFT($B241583,10)&TEXT($D241583,\"0\")&TEXT($E241583,\"0000\")&TEXT($F241583,\"0000\")","v":"4480039032101750004"},4480039032,null,1,175,4,"175-4","답",393,null,null,null,"홍성군","국"]
[{"$f":"LEFT($B241584,10)&TEXT($D241584,\"0\")&TEXT($E241584,\"0000\")&TEXT($F241584,\"0000\")","v":"4480039032101810002"},4480039032,null,1,181,2,"181-2","답",2826,null,null,null,28,"도남석"]
[{"$f":"LEFT($B241585,10)&TEXT($D241585,\"0\")&TEXT($E241585,\"0000\")&TEXT($F241585,\"0000\")","v":"4480039032102000001"},4480039032,null,1,200,1,"200-1","전",204,null,null,null,"홍성군","국"]
[{"$f":"LEFT($B241586,10)&TEXT($D241586,\"0\")&TEXT($E241586,\"0000\")&TEXT($F241586,\"0000\")","v":"4480039032102080000"},4480039032,null,1,208,0,208,"대",307,null,null,null,25,"김종구"]
[{"$f":"LEFT($B241587,10)&TEXT($D241587,\"0\")&TEXT($E241587,\"0000\")&TEXT($F241587,\"0000\")","v":"4480039032102490000"},4480039032,null,1,249,0,249,"대",460,null,null,null,249,"지옥섭"]
[{"$f":"LEFT($B241588,10)&TEXT($D241588,\"0\")&TEXT($E241588,\"0000\")&TEXT($F241588,\"0000\")","v":"4480039032102500006"},4480039032,null,1,250,6,"250-6","임",8594,null,null,null,"충청남도홍성군구항면마온1길40","이호연"]
[{"$f":"LEFT($B241589,10)&TEXT($D241589,\"0\")&TEXT($E241589,\"0000\")&TEXT($F241589,\"0000\")","v":"4480039032102620000"},4480039032,null,1,262,0,262,"답",150,null,null,null,"충청남도홍성군홍성읍월산로30번길39101동202호(부영아파트)","김경숙"]
[{"$f":"LEFT($B241590,10)&TEXT($D241590,\"0\")&TEXT($E241590,\"0000\")&TEXT($F241590,\"0000\")","v":"4480039032102670021"},4480039032,null,1,267,21,"267-21","전",814,null,null,null,"충청남도홍성군홍성읍오관리788-2","조성일"]
[{"$f":"LEFT($B241591,10)&TEXT($D241591,\"0\")&TEXT($E241591,\"0000\")&TEXT($F241591,\"0000\")","v":"4480039032102730001"},4480039032,null,1,273,1,"273-1","답",3831,null,null,null,"홍성읍오관리542-4","이병석"]
[{"$f":"LEFT($B241592,10)&TEXT($D241592,\"0\")&TEXT($E241592,\"0000\")&TEXT($F241592,\"0000\")","v":"4480039032102750000"},4480039032,null,1,275,0,275,"전",314,null,null,null,279,"김주석"]
[{"$f":"LEFT($B241593,10)&TEXT($D241593,\"0\")&TEXT($E241593,\"0000\")&TEXT($F241593,\"0000\")","v":"4480039032102770003"},4480039032,null,1,277,3,"277-3","전",1233,null,null,null,"충청남도홍성군구항면충서로999번길142-45","김민정"]
[{"$f":"LEFT($B241594,10)&TEXT($D241594,\"0\")&TEXT($E241594,\"0000\")&TEXT($F241594,\"0000\")","v":"4480039032103020000"},4480039032,null,1,302,0,302,"도",17,null,null,null,"302-3","김봉수"]
[{"$f":"LEFT($B241595,10)&TEXT($D241595,\"0\")&TEXT($E241595,\"0000\")&TEXT($F241595,\"0000\")","v":"4480039032103140005"},4480039032,null,1,314,5,"314-5","답",1312,null,null,null,"충청남도보령시청소면홍도원길54","권미란"]
[{"$f":"LEFT($B241596,10)&TEXT($D241596,\"0\")&TEXT($E241596,\"0000\")&TEXT($F241596,\"0000\")","v":"4480039032103160001"},4480039032,null,1,316,1,"316-1","답",2744,null,null,null,"충청남도홍성군홍성읍문화로72번길92108동1502호(주공그린빌)","김옥연"]
[{"$f":"LEFT($B241597,10)&TEXT($D241597,\"0\")&TEXT($E241597,\"0000\")&TEXT($F241597,\"0000\")","v":"4480039032103180003"},4480039032,null,1,318,3,"318-3","답",803,null,null,null,"경기도용인시기흥구동백동656호수마을서해그랑블1109-403","황유리"]
[{"$f":"LEFT($B241598,10)&TEXT($D241598,\"0\")&TEXT($E241598,\"0000\")&TEXT($F241598,\"0000\")","v":"4480039032103230001"},4480039032,null,1,323,1,"323-1","전",2215,null,null,null,"서울특별시금천구독산로22길41(시흥동)","김경태"]
[{"$f":"LEFT($B241599,10)&TEXT($D241599,\"0\")&TEXT($E241599,\"0000\")&TEXT($F241599,\"0000\")","v":"4480039032103490000"},4480039032,null,1,349,0,349,"대",573,null,null,null,"서울특별시서초구잠원동24-9-102","김은숙"]
[{"$f":"LEFT($B241600,10)&TEXT($D241600,\"0\")&TEXT($E241600,\"0000\")&TEXT($F241600,\"0000\")","v":"4480039032103570000"},4480039032,null,1,357,0,357,"답",3542,null,null,null,"충청남도홍성군홍성읍충서로1147-4","최병하"]
[{"$f":"LEFT($B241601,10)&TEXT($D241601,\"0\")&TEXT($E241601,\"0000\")&TEXT($F241601,\"0000\")","v":"4480039032103610000"},4480039032,null,1,361,0,361,"전",1521,null,null,null,"충청남도홍성군구항면충서로999번길101-98","김구연"]
[{"$f":"LEFT($B241602,10)&TEXT($D241602,\"0\")&TEXT($E241602,\"0000\")&TEXT($F241602,\"0000\")","v":"4480039032103710002"},4480039032,null,1,371,2,"371-2","임",1898,null,null,null,"인천연수구동춘동918조흥아파트101동306호","김종현"]
[{"$f":"LEFT($B241603,10)&TEXT($D241603,\"0\")&TEXT($E241603,\"0000\")&TEXT($F241603,\"0000\")","v":"4480039032103910000"},4480039032,null,1,391,0,391,"임",655,null,null,null,"전남광주시서석동375","학교법인조선대학교"]
[{"$f":"LEFT($B241604,10)&TEXT($D241604,\"0\")&TEXT($E241604,\"0000\")&TEXT($F241604,\"0000\")","v":"4480039032104200002"},4480039032,null,1,420,2,"420-2","도",204,null,null,null,"충청남도홍성군구항면충서로999번길252","오소정"]
[{"$f":"LEFT($B241605,10)&TEXT($D241605,\"0\")&TEXT($E241605,\"0000\")&TEXT($F241605,\"0000\")","v":"4480039032104220000"},4480039032,null,1,422,0,422,"답",1653,null,null,null,446,"윤상모"]
[{"$f":"LEFT($B241606,10)&TEXT($D241606,\"0\")&TEXT($E241606,\"0000\")&TEXT($F241606,\"0000\")","v":"4480039032104250000"},4480039032,null,1,425,0,425,"전",4235,null,null,null,"홍성군홍성읍남장리95-52미성아파트에이-610","이택세"]
[{"$f":"LEFT($B241607,10)&TEXT($D241607,\"0\")&TEXT($E241607,\"0000\")&TEXT($F241607,\"0000\")","v":"4480039032104340002"},4480039032,null,1,434,2,"434-2","답",1815,null,null,null,"경기도부천시석천로1071124동403호(중동보람마을)","윤성구"]
[{"$f":"LEFT($B241608,10)&TEXT($D241608,\"0\")&TEXT($E241608,\"0000\")&TEXT($F241608,\"0000\")","v":"4480039032104350000"},4480039032,null,1,435,0,435,"답",1954,null,null,null,"충청남도홍성군홍성읍오관리529-3","이종욱"]
[{"$f":"LEFT($B241609,10)&TEXT($D241609,\"0\")&TEXT($E241609,\"0000\")&TEXT($F241609,\"0000\")","v":"4480039032104390000"},4480039032,null,1,439,0,439,"답",3491,null,null,null,432,"이종윤"]
[{"$f":"LEFT($B241610,10)&TEXT($D241610,\"0\")&TEXT($E241610,\"0000\")&TEXT($F241610,\"0000\")","v":"4480039032104400000"},4480039032,null,1,440,0,440,"답",4119,null,null,null,432,"이종길"]
[{"$f":"LEFT($B241611,10)&TEXT($D241611,\"0\")&TEXT($E241611,\"0000\")&TEXT($F241611,\"0000\")","v":"4480039032104580003"},4480039032,null,1,458,3,"458-3","답",1256,null,null,null,"충청남도홍성군구항면충서로999번길255","오태환"]
[{"$f":"LEFT($B241612,10)&TEXT($D241612,\"0\")&TEXT($E241612,\"0000\")&TEXT($F241612,\"0000\")","v":"4480039032104580007"},4480039032,null,1,458,7,"458-7","전",1733,null,null,null,"충청남도홍성군홍성읍오관리652미림청솔아파트102-407","정훈재"]
[{"$f":"LEFT($B241613,10)&TEXT($D241613,\"0\")&TEXT($E241613,\"0000\")&TEXT($F241613,\"0000\")","v":"4480039032104900002"},4480039032,null,1,490,2,"490-2","도",24,null,null,null,"국(건설교통부)","국"]
[{"$f":"LEFT($B241614,10)&TEXT($D241614,\"0\")&TEXT($E241614,\"0000\")&TEXT($F241614,\"0000\")","v":"4480039032104920002"},4480039032,null,1,492,2,"492-2","답",14,null,null,null,"마온리224","김창제"]
[{"$f":"LEFT($B241615,10)&TEXT($D241615,\"0\")&TEXT($E241615,\"0000\")&TEXT($F241615,\"0000\")","v":"4480039032104980002"},4480039032,null,1,498,2,"498-2","도",13,null,null,null,"국(건설교통부)","국"]
[{"$f":"LEFT($B241616,10)&TEXT($D241616,\"0\")&TEXT($E241616,\"0000\")&TEXT($F241616,\"0000\")","v":"4480039032105000000"},4480039032,null,1,500,0,500,"답",330,null,null,null,"홍성군구항면마온리산16-1청송아파트가-102","이세연"]
[{"$f":"LEFT($B241617,10)&TEXT($D241617,\"0\")&TEXT($E241617,\"0000\")&TEXT($F241617,\"0000\")","v":"4480039032105090001"},4480039032,null,1,509,1,"509-1","도",232,null,null,null,"국(건설부)","국"]
[{"$f":"LEFT($B241618,10)&TEXT($D241618,\"0\")&TEXT($E241618,\"0000\")&TEXT($F241618,\"0000\")","v":"4480039032105110000"},4480039032,null,1,511,0,511,"답",1671,null,null,null,"마온리253","김종구"]
[{"$f":"LEFT($B241619,10)&TEXT($D241619,\"0\")&TEXT($E241619,\"0000\")&TEXT($F241619,\"0000\")","v":"4480039032105210000"},4480039032,null,1,521,0,521,"답",1402,null,null,null,"경기도가평군설악면묵안로134-75","황현수"]
[{"$f":"LEFT($B241620,10)&TEXT($D241620,\"0\")&TEXT($E241620,\"0000\")&TEXT($F241620,\"0000\")","v":"4480039032105270000"},4480039032,null,1,527,0,527,"답",1275,null,null,null,"마온리228-4","황성렬"]
[{"$f":"LEFT($B241621,10)&TEXT($D241621,\"0\")&TEXT($E241621,\"0000\")&TEXT($F241621,\"0000\")","v":"4480039032105350001"},4480039032,null,1,535,1,"535-1","도",96,null,null,null,"국(국토해양부)","국"]
[{"$f":"LEFT($B241622,10)&TEXT($D241622,\"0\")&TEXT($E241622,\"0000\")&TEXT($F241622,\"0000\")","v":"4480039032105390000"},4480039032,null,1,539,0,539,"답",895,null,null,null,"홍성군구항면마온리223","박길자"]
[{"$f":"LEFT($B241623,10)&TEXT($D241623,\"0\")&TEXT($E241623,\"0000\")&TEXT($F241623,\"0000\")","v":"4480039032105650000"},4480039032,null,1,565,0,565,"답",2090,null,null,null,"충청남도홍성군구항면마온리252","이명옥"]
[{"$f":"LEFT($B241624,10)&TEXT($D241624,\"0\")&TEXT($E241624,\"0000\")&TEXT($F241624,\"0000\")","v":"4480039032105720002"},4480039032,null,1,572,2,"572-2","답",205,null,null,null,"국(건설부)","국"]
[{"$f":"LEFT($B241625,10)&TEXT($D241625,\"0\")&TEXT($E241625,\"0000\")&TEXT($F241625,\"0000\")","v":"4480039032105730001"},4480039032,null,1,573,1,"573-1","도",215,null,null,null,"국(건설부)","국"]
[{"$f":"LEFT($B241626,10)&TEXT($D241626,\"0\")&TEXT($E241626,\"0000\")&TEXT($F241626,\"0000\")","v":"4480039032105740000"},4480039032,null,1,574,0,574,"답",1915,null,null,null,"충청남도홍성군구항면마온1길46","전상진"]
[{"$f":"LEFT($B241627,10)&TEXT($D241627,\"0\")&TEXT($E241627,\"0000\")&TEXT($F241627,\"0000\")","v":"4480039032105830000"},4480039032,null,1,583,0,583,"답",552,null,null,null,"서울시송파구거여동187-16","조미숙"]
[{"$f":"LEFT($B241628,10)&TEXT($D241628,\"0\")&TEXT($E241628,\"0000\")&TEXT($F241628,\"0000\")","v":"4480039032106050001"},4480039032,null,1,605,1,"605-1","수",417,null,null,null,"국(환경부)","국"]
[{"$f":"LEFT($B241629,10)&TEXT($D241629,\"0\")&TEXT($E241629,\"0000\")&TEXT($F241629,\"0000\")","v":"4480039032200290002"},4480039032,null,2,29,2,"29-2","임",496,null,null,null,"충청남도홍성군홍성읍문화로80번길32-14102동701호(경성큰마을아파트)","김성자"]
[{"$f":"LEFT($B241630,10)&TEXT($D241630,\"0\")&TEXT($E241630,\"0000\")&TEXT($F241630,\"0000\")","v":"4480039032200450002"},4480039032,null,2,45,2,"45-2","임",174,null,null,null,"금마면화양리490-3","서용칠"]
[{"$f":"LEFT($B241631,10)&TEXT($D241631,\"0\")&TEXT($E241631,\"0000\")&TEXT($F241631,\"0000\")","v":"4480039032200500001"},4480039032,null,2,50,1,"50-1","임",12000,null,null,null,432,"윤종덕"]
[{"$f":"LEFT($B241632,10)&TEXT($D241632,\"0\")&TEXT($E241632,\"0000\")&TEXT($F241632,\"0000\")","v":"4480039032200790001"},4480039032,null,2,79,1,"79-1","임",9421,null,null,null,"대구광역시수성구달구벌대로2435105동403호(범어동두산위브더제니스)","허성열"]
[{"$f":"LEFT($B241633,10)&TEXT($D241633,\"0\")&TEXT($E241633,\"0000\")&TEXT($F241633,\"0000\")","v":"4480039032200860000"},4480039032,null,2,86,0,86,"임",6446,null,null,null,"서울시강서구화곡동991-12","박명호"]
[{"$f":"LEFT($B241634,10)&TEXT($D241634,\"0\")&TEXT($E241634,\"0000\")&TEXT($F241634,\"0000\")","v":"4480039032201040005"},4480039032,null,2,104,5,"104-5","임",11702,null,null,null,"고양시일산서구일산동651-1일산2차현대홈타운아파트204-1901","이건호"]
[{"$f":"LEFT($B241635,10)&TEXT($D241635,\"0\")&TEXT($E241635,\"0000\")&TEXT($F241635,\"0000\")","v":"4480039032201110002"},4480039032,null,2,111,2,"111-2","임",5202,null,null,null,"경기도용인시수지구신봉동911신봉마을자이2차아파트212-1604","정희진"]
[{"$f":"LEFT($B241636,10)&TEXT($D241636,\"0\")&TEXT($E241636,\"0000\")&TEXT($F241636,\"0000\")","v":"4480039032201140001"},4480039032,null,2,114,1,"114-1","임",865,null,null,null,"홍성군","국"]
[{"$f":"LEFT($B241637,10)&TEXT($D241637,\"0\")&TEXT($E241637,\"0000\")&TEXT($F241637,\"0000\")","v":"4480039032201190003"},4480039032,null,2,119,3,"119-3","임",1343,null,null,null,"홍성읍오관리615-1","강영태"]
[{"$f":"LEFT($B241638,10)&TEXT($D241638,\"0\")&TEXT($E241638,\"0000\")&TEXT($F241638,\"0000\")","v":"4480039032201220003"},4480039032,null,2,122,3,"122-3","임",2029,null,null,null,"171-4","김재희"]
[{"$f":"LEFT($B241639,10)&TEXT($D241639,\"0\")&TEXT($E241639,\"0000\")&TEXT($F241639,\"0000\")","v":"4480039032201310009"},4480039032,null,2,131,9,"131-9","임",2227,null,null,null,"154-10","경주김씨판윤공파소종중"]
[{"$f":"LEFT($B241640,10)&TEXT($D241640,\"0\")&TEXT($E241640,\"0000\")&TEXT($F241640,\"0000\")","v":"4480039032201320000"},4480039032,null,2,132,0,132,"임",3471,null,null,null,"154-10","경주김씨판윤공파소종중"]
[{"$f":"LEFT($B241641,10)&TEXT($D241641,\"0\")&TEXT($E241641,\"0000\")&TEXT($F241641,\"0000\")","v":"4480039027103530009"},4480039027,null,1,353,9,"353-9","도",351,null,null,null,"충청남도홍성군홍성읍충서로1301번길37-42","전용택"]
[{"$f":"LEFT($B241642,10)&TEXT($D241642,\"0\")&TEXT($E241642,\"0000\")&TEXT($F241642,\"0000\")","v":"4480039025106360005"},4480039025,null,1,636,5,"636-5","임",27,null,null,null,"경기도고양시일산동구중산동1556중산마을214-103","이석곤"]
[{"$f":"LEFT($B241643,10)&TEXT($D241643,\"0\")&TEXT($E241643,\"0000\")&TEXT($F241643,\"0000\")","v":"4480037031104110002"},4480037031,null,1,411,2,"411-2","도",323,null,null,null,"서울시중랑구면목동297-1동원비이-3","이인철"]
[{"$f":"LEFT($B241644,10)&TEXT($D241644,\"0\")&TEXT($E241644,\"0000\")&TEXT($F241644,\"0000\")","v":"4480033026108700000"},4480033026,null,1,870,0,870,"구",1304.8,null,null,null,"국(농림축산식품부)","국"]
[{"$f":"LEFT($B241645,10)&TEXT($D241645,\"0\")&TEXT($E241645,\"0000\")&TEXT($F241645,\"0000\")","v":"4480035029103570001"},4480035029,null,1,357,1,"357-1","전",595,null,null,null,343,"김광희"]
[{"$f":"LEFT($B241646,10)&TEXT($D241646,\"0\")&TEXT($E241646,\"0000\")&TEXT($F241646,\"0000\")","v":"4480033031100110003"},4480033031,null,1,11,3,"11-3","전",3508,null,null,null,"충청남도홍성군홍동면초롱산길193-40","신연순"]
[{"$f":"LEFT($B241647,10)&TEXT($D241647,\"0\")&TEXT($E241647,\"0000\")&TEXT($F241647,\"0000\")","v":"4480025625101990048"},4480025625,null,1,199,48,"199-48","전",991,null,null,null,"충청남도홍성군홍성읍오관리447-1","충청남도개발공사"]
[{"$f":"LEFT($B241648,10)&TEXT($D241648,\"0\")&TEXT($E241648,\"0000\")&TEXT($F241648,\"0000\")","v":"4480025622103730032"},4480025622,null,1,373,32,"373-32","답",391,null,null,null,"고양시일산구일산동955-2동양아파트110-1403","임현식"]
[{"$f":"LEFT($B241649,10)&TEXT($D241649,\"0\")&TEXT($E241649,\"0000\")&TEXT($F241649,\"0000\")","v":"4480035031100340005"},4480035031,null,1,34,5,"34-5","임",241,null,null,null,"경기도평택시이충동589-5부영아파트103-504","권용식"]
[{"$f":"LEFT($B241650,10)&TEXT($D241650,\"0\")&TEXT($E241650,\"0000\")&TEXT($F241650,\"0000\")","v":"4480037030100340004"},4480037030,null,1,34,4,"34-4","전",185,null,null,null,"서울시강남구도곡동963역삼럭키아파트103-107","임순환"]
[{"$f":"LEFT($B241651,10)&TEXT($D241651,\"0\")&TEXT($E241651,\"0000\")&TEXT($F241651,\"0000\")","v":"4480039027100820007"},4480039027,null,1,82,7,"82-7","전",298,null,null,null,"84-3","전묘수"]
[{"$f":"LEFT($B241652,10)&TEXT($D241652,\"0\")&TEXT($E241652,\"0000\")&TEXT($F241652,\"0000\")","v":"4480035021100090007"},4480035021,null,1,9,7,"9-7","임",50,null,null,null,"예산군신암면신택리102","김봉예"]
[{"$f":"LEFT($B241653,10)&TEXT($D241653,\"0\")&TEXT($E241653,\"0000\")&TEXT($F241653,\"0000\")","v":"4480025328100200003"},4480025328,null,1,20,3,"20-3","전",60,null,null,null,"충청남도홍성군광천읍충서로593번길34","정인호"]
[{"$f":"LEFT($B241654,10)&TEXT($D241654,\"0\")&TEXT($E241654,\"0000\")&TEXT($F241654,\"0000\")","v":"4480033026107930000"},4480033026,null,1,793,0,793,"답",1296.8,null,null,null,"충남홍성군홍성읍내포로146번길21202호(예그리나)","유동연"]
[{"$f":"LEFT($B241655,10)&TEXT($D241655,\"0\")&TEXT($E241655,\"0000\")&TEXT($F241655,\"0000\")","v":"4480035021100060007"},4480035021,null,1,6,7,"6-7","임",1644,null,null,null,"충청남도예산군예산읍신례원로238번길20","김종선"]
[{"$f":"LEFT($B241656,10)&TEXT($D241656,\"0\")&TEXT($E241656,\"0000\")&TEXT($F241656,\"0000\")","v":"4480025026101130026"},4480025026,null,1,113,26,"113-26","전",808,null,null,null,"충청남도홍성군홍성읍남장리114","박태원"]
[{"$f":"LEFT($B241657,10)&TEXT($D241657,\"0\")&TEXT($E241657,\"0000\")&TEXT($F241657,\"0000\")","v":"4480035028101140014"},4480035028,null,1,114,14,"114-14","과",1804,null,null,null,"대판리산39-2","안종철"]
[{"$f":"LEFT($B241658,10)&TEXT($D241658,\"0\")&TEXT($E241658,\"0000\")&TEXT($F241658,\"0000\")","v":"4480033029106330032"},4480033029,null,1,633,32,"633-32","도",3,null,null,null,"경기도파주시가람로116번길130710동801호(와동동가람마을7단지)","정영희"]
[{"$f":"LEFT($B241659,10)&TEXT($D241659,\"0\")&TEXT($E241659,\"0000\")&TEXT($F241659,\"0000\")","v":"4480037022100570007"},4480037022,null,1,57,7,"57-7","전",1269,null,null,null,"갈산면상촌리80-5","박재능"]
[{"$f":"LEFT($B241660,10)&TEXT($D241660,\"0\")&TEXT($E241660,\"0000\")&TEXT($F241660,\"0000\")","v":"4480025030105380029"},4480025030,null,1,538,29,"538-29","임",163,null,null,null,"충청남도홍성군홍성읍고암리117","이달세"]
[{"$f":"LEFT($B241661,10)&TEXT($D241661,\"0\")&TEXT($E241661,\"0000\")&TEXT($F241661,\"0000\")","v":"4480037030101920003"},4480037030,null,1,192,3,"192-3","답",829,null,null,null,15,"창영성씨공도공파승지공계서부종중"]
[{"$f":"LEFT($B241662,10)&TEXT($D241662,\"0\")&TEXT($E241662,\"0000\")&TEXT($F241662,\"0000\")","v":"4480025625101980004"},4480025625,null,1,198,4,"198-4","답",1726,null,null,null,"경기도성남시분당구구미동175","대한주택공사"]
[{"$f":"LEFT($B241663,10)&TEXT($D241663,\"0\")&TEXT($E241663,\"0000\")&TEXT($F241663,\"0000\")","v":"4480025625101980217"},4480025625,null,1,198,217,"198-217","구",13,null,null,null,"경기도성남시분당구정자동217","한국토지주택공사"]
[{"$f":"LEFT($B241664,10)&TEXT($D241664,\"0\")&TEXT($E241664,\"0000\")&TEXT($F241664,\"0000\")","v":"4480025625200540040"},4480025625,null,2,54,40,"54-40","임",5653,null,null,null,"경기도성남시분당구구미동175","대한주택공사"]
[{"$f":"LEFT($B241665,10)&TEXT($D241665,\"0\")&TEXT($E241665,\"0000\")&TEXT($F241665,\"0000\")","v":"4480036026103040010"},4480036026,null,1,304,10,"304-10","잡",4990,null,null,null,"충청남도홍성군결성면만해로202번길53-21","유상혁"]
[{"$f":"LEFT($B241666,10)&TEXT($D241666,\"0\")&TEXT($E241666,\"0000\")&TEXT($F241666,\"0000\")","v":"4480025625105090099"},4480025625,null,1,509,99,"509-99","전",1303,null,null,null,"충청남도홍성군홍성읍문화로109","충청남도개발공사"]
[{"$f":"LEFT($B241667,10)&TEXT($D241667,\"0\")&TEXT($E241667,\"0000\")&TEXT($F241667,\"0000\")","v":"4480025023103840036"},4480025023,null,1,384,36,"384-36","대",538,null,null,null,"월산리850부영아파트101-1211","김성창"]
[{"$f":"LEFT($B241668,10)&TEXT($D241668,\"0\")&TEXT($E241668,\"0000\")&TEXT($F241668,\"0000\")","v":"4480033025105670000"},4480033025,null,1,567,0,567,"답",1324.2,null,null,null,"충남홍성군홍동면화신리137","송화섭"]
[{"$f":"LEFT($B241669,10)&TEXT($D241669,\"0\")&TEXT($E241669,\"0000\")&TEXT($F241669,\"0000\")","v":"4480037025102830002"},4480037025,null,1,283,2,"283-2","임",714,null,null,null,"경기도양평군양서면이문리고갯길14-1201동401호(그랜드빌리지)","정현숙"]
[{"$f":"LEFT($B241670,10)&TEXT($D241670,\"0\")&TEXT($E241670,\"0000\")&TEXT($F241670,\"0000\")","v":"4480025625101980140"},4480025625,null,1,198,140,"198-140","전",2926,null,null,null,"경기도성남시분당구구미동175","대한주택공사"]
[{"$f":"LEFT($B241671,10)&TEXT($D241671,\"0\")&TEXT($E241671,\"0000\")&TEXT($F241671,\"0000\")","v":"4480039022105340006"},4480039022,null,1,534,6,"534-6","전",2973,null,null,null,"충청남도홍성군구항면구항길115번길86-53","전용운"]
[{"$f":"LEFT($B241672,10)&TEXT($D241672,\"0\")&TEXT($E241672,\"0000\")&TEXT($F241672,\"0000\")","v":"4480025625105100009"},4480025625,null,1,510,9,"510-9","구",110,null,null,null,"충청남도홍성군홍성읍문화로109","충청남도개발공사"]
[{"$f":"LEFT($B241673,10)&TEXT($D241673,\"0\")&TEXT($E241673,\"0000\")&TEXT($F241673,\"0000\")","v":"4480032026106580006"},4480032026,null,1,658,6,"658-6","전",104,null,null,null,"인천광역시계양구안남로573번길18107동501호(효성동두산아파트)","김양철"]
[{"$f":"LEFT($B241674,10)&TEXT($D241674,\"0\")&TEXT($E241674,\"0000\")&TEXT($F241674,\"0000\")","v":"4480025621105730023"},4480025621,null,1,573,23,"573-23","임",6,null,null,null,"강원도원주시일산로36번길29(일산동)","이희찬"]
[{"$f":"LEFT($B241675,10)&TEXT($D241675,\"0\")&TEXT($E241675,\"0000\")&TEXT($F241675,\"0000\")","v":"4480037031107940001"},4480037031,null,1,794,1,"794-1","답",74.900000000000006,null,null,null,426,"오학근"]
[{"$f":"LEFT($B241676,10)&TEXT($D241676,\"0\")&TEXT($E241676,\"0000\")&TEXT($F241676,\"0000\")","v":"4480038030104950003"},4480038030,null,1,495,3,"495-3","답",88,null,null,null,"홍성군","국"]
[{"$f":"LEFT($B241677,10)&TEXT($D241677,\"0\")&TEXT($E241677,\"0000\")&TEXT($F241677,\"0000\")","v":"4480025625101980098"},4480025625,null,1,198,98,"198-98","답",1638,null,null,null,"경기도성남시분당구구미동175","대한주택공사"]
[{"$f":"LEFT($B241678,10)&TEXT($D241678,\"0\")&TEXT($E241678,\"0000\")&TEXT($F241678,\"0000\")","v":"4480039025106350005"},4480039025,null,1,635,5,"635-5","임",179,null,null,null,"충청남도홍성군구항면구항서길137-55","장희군"]
[{"$f":"LEFT($B241679,10)&TEXT($D241679,\"0\")&TEXT($E241679,\"0000\")&TEXT($F241679,\"0000\")","v":"4480025030112100000"},4480025030,null,1,1210,0,1210,"도",35.799999999999997,null,null,null,"홍성군","국"]
[{"$f":"LEFT($B241680,10)&TEXT($D241680,\"0\")&TEXT($E241680,\"0000\")&TEXT($F241680,\"0000\")","v":"4480025030105690020"},4480025030,null,1,569,20,"569-20","대",2,null,null,null,"569-10","김효태"]
[{"$f":"LEFT($B241681,10)&TEXT($D241681,\"0\")&TEXT($E241681,\"0000\")&TEXT($F241681,\"0000\")","v":"4480038022101380006"},4480038022,null,1,138,6,"138-6","임",1104,null,null,null,423,"임성우"]
[{"$f":"LEFT($B241682,10)&TEXT($D241682,\"0\")&TEXT($E241682,\"0000\")&TEXT($F241682,\"0000\")","v":"4480037028103150142"},4480037028,null,1,315,142,"315-142","답",38,null,null,null,"인천광역시남구토금북로27번길17(용현동)","이경수"]
[{"$f":"LEFT($B241683,10)&TEXT($D241683,\"0\")&TEXT($E241683,\"0000\")&TEXT($F241683,\"0000\")","v":"4480025622103240006"},4480025622,null,1,324,6,"324-6","전",315,null,null,null,"봉신리289-1동진아파트104동303호","최세권"]
[{"$f":"LEFT($B241684,10)&TEXT($D241684,\"0\")&TEXT($E241684,\"0000\")&TEXT($F241684,\"0000\")","v":"4480033025105570000"},4480033025,null,1,557,0,557,"답",1885.3,null,null,null,"충남홍성군홍동면화신리137","송화섭"]
[{"$f":"LEFT($B241685,10)&TEXT($D241685,\"0\")&TEXT($E241685,\"0000\")&TEXT($F241685,\"0000\")","v":"4480033025105130000"},4480033025,null,1,513,0,513,"답",2482.6999999999998,null,null,null,"충남홍성군홍동면홍장남로409","이상성"]
[{"$f":"LEFT($B241686,10)&TEXT($D241686,\"0\")&TEXT($E241686,\"0000\")&TEXT($F241686,\"0000\")","v":"4480038036100360005"},4480038036,null,1,36,5,"36-5","도",50,null,null,null,"충청남도홍성군갈산면대사리34-11","이인숙"]
[{"$f":"LEFT($B241687,10)&TEXT($D241687,\"0\")&TEXT($E241687,\"0000\")&TEXT($F241687,\"0000\")","v":"4480025626102000017"},4480025626,null,1,200,17,"200-17","대",173,null,null,null,"홍성군","국"]
[{"$f":"LEFT($B241688,10)&TEXT($D241688,\"0\")&TEXT($E241688,\"0000\")&TEXT($F241688,\"0000\")","v":"4480037021100880014"},4480037021,null,1,88,14,"88-14","답",21,null,null,null,"서울특별시성동구마조로11길20102호(행당동)","임규태"]
[{"$f":"LEFT($B241689,10)&TEXT($D241689,\"0\")&TEXT($E241689,\"0000\")&TEXT($F241689,\"0000\")","v":"4480033034102020001"},4480033034,null,1,202,1,"202-1","전",881,null,null,null,"충청남도홍성군홍동면팔괘리291","정배옥"]
[{"$f":"LEFT($B241690,10)&TEXT($D241690,\"0\")&TEXT($E241690,\"0000\")&TEXT($F241690,\"0000\")","v":"4480025625101980069"},4480025625,null,1,198,69,"198-69","답",405,null,null,null,"경기도성남시분당구구미동175","대한주택공사"]
[{"$f":"LEFT($B241691,10)&TEXT($D241691,\"0\")&TEXT($E241691,\"0000\")&TEXT($F241691,\"0000\")","v":"4480025625200540096"},4480025625,null,2,54,96,"54-96","임",396,null,null,null,"경기도성남시분당구구미동175","대한주택공사"]
[{"$f":"LEFT($B241692,10)&TEXT($D241692,\"0\")&TEXT($E241692,\"0000\")&TEXT($F241692,\"0000\")","v":"4480037021101190005"},4480037021,null,1,119,5,"119-5","전",71,null,null,null,"259-2","유운종"]
[{"$f":"LEFT($B241693,10)&TEXT($D241693,\"0\")&TEXT($E241693,\"0000\")&TEXT($F241693,\"0000\")","v":"4480025030110930000"},4480025030,null,1,1093,0,1093,"대",291.10000000000002,null,null,null,"대전광역시유성구노은동로1111001동601호(노은동열매마을10단지아파트)","이정화"]
[{"$f":"LEFT($B241694,10)&TEXT($D241694,\"0\")&TEXT($E241694,\"0000\")&TEXT($F241694,\"0000\")","v":"4480032021103410003"},4480032021,null,1,341,3,"341-3","답",613,null,null,null,"충청남도홍성군홍성읍의사로9에이동602호(우주은하아파트)","김경숙"]
[{"$f":"LEFT($B241695,10)&TEXT($D241695,\"0\")&TEXT($E241695,\"0000\")&TEXT($F241695,\"0000\")","v":"4480025021105420022"},4480025021,null,1,542,22,"542-22","대",54,null,null,null,"홍동면금당리119","유재리"]
[{"$f":"LEFT($B241696,10)&TEXT($D241696,\"0\")&TEXT($E241696,\"0000\")&TEXT($F241696,\"0000\")","v":"4480033025105070000"},4480033025,null,1,507,0,507,"답",1114.9000000000001,null,null,null,"충남홍성군홍동면홍남동로183번길360-39","김주영"]
[{"$f":"LEFT($B241697,10)&TEXT($D241697,\"0\")&TEXT($E241697,\"0000\")&TEXT($F241697,\"0000\")","v":"4480025330101110004"},4480025330,null,1,111,4,"111-4","도",161,null,null,null,"충청남도논산시연무읍금곡길60-10","고광숙"]
[{"$f":"LEFT($B241698,10)&TEXT($D241698,\"0\")&TEXT($E241698,\"0000\")&TEXT($F241698,\"0000\")","v":"4480033026108020000"},4480033026,null,1,802,0,802,"답",3623.4,null,null,null,"충남홍성군홍동면문당길55번길48-35","이정영"]
[{"$f":"LEFT($B241699,10)&TEXT($D241699,\"0\")&TEXT($E241699,\"0000\")&TEXT($F241699,\"0000\")","v":"4480038036102390014"},4480038036,null,1,239,14,"239-14","전",30,null,null,null,"전라남도나주시그린로20(빛가람동)","한국농어촌공사"]
[{"$f":"LEFT($B241700,10)&TEXT($D241700,\"0\")&TEXT($E241700,\"0000\")&TEXT($F241700,\"0000\")","v":"4480037025102830006"},4480037025,null,1,283,6,"283-6","임",41495,null,null,null,"경기도양평군양서면이문리고갯길14-1201동401호(그랜드빌리지)","정현숙"]
[{"$f":"LEFT($B241701,10)&TEXT($D241701,\"0\")&TEXT($E241701,\"0000\")&TEXT($F241701,\"0000\")","v":"4480025625200540061"},4480025625,null,2,54,61,"54-61","임",2530,null,null,null,"경기도성남시분당구구미동175","대한주택공사"]
[{"$f":"LEFT($B241702,10)&TEXT($D241702,\"0\")&TEXT($E241702,\"0000\")&TEXT($F241702,\"0000\")","v":"4480025030111500000"},4480025030,null,1,1150,0,1150,"대",268.89999999999998,null,null,null,"충청남도홍성군홍성읍남장로46-14","박권배"]
[{"$f":"LEFT($B241703,10)&TEXT($D241703,\"0\")&TEXT($E241703,\"0000\")&TEXT($F241703,\"0000\")","v":"4480025030111280000"},4480025030,null,1,1128,0,1128,"대",420.6,null,null,null,"충청남도홍성군홍성읍월산로30번길39103동401호(부영아파트)","김경민"]
[{"$f":"LEFT($B241704,10)&TEXT($D241704,\"0\")&TEXT($E241704,\"0000\")&TEXT($F241704,\"0000\")","v":"4480025625102060005"},4480025625,null,1,206,5,"206-5","전",3074,null,null,null,"충청남도홍성군홍성읍오관리447-1","충청남도개발공사"]
[{"$f":"LEFT($B241705,10)&TEXT($D241705,\"0\")&TEXT($E241705,\"0000\")&TEXT($F241705,\"0000\")","v":"4480037021100960010"},4480037021,null,1,96,10,"96-10","대",4,null,null,null,"경기도수원시권선구구운동889청구아파트106-704","이철호"]
[{"$f":"LEFT($B241706,10)&TEXT($D241706,\"0\")&TEXT($E241706,\"0000\")&TEXT($F241706,\"0000\")","v":"4480033025105710000"},4480033025,null,1,571,0,571,"답",2897.1,null,null,null,"충남홍성군홍동면화신리91","이후창"]
[{"$f":"LEFT($B241707,10)&TEXT($D241707,\"0\")&TEXT($E241707,\"0000\")&TEXT($F241707,\"0000\")","v":"4480025625105120047"},4480025625,null,1,512,47,"512-47","과",845,null,null,null,"충청남도홍성군홍성읍오관리447-1","충청남도개발공사"]
[{"$f":"LEFT($B241708,10)&TEXT($D241708,\"0\")&TEXT($E241708,\"0000\")&TEXT($F241708,\"0000\")","v":"4480037021106970006"},4480037021,null,1,697,6,"697-6","전",936,null,null,null,698,"이진태"]
[{"$f":"LEFT($B241709,10)&TEXT($D241709,\"0\")&TEXT($E241709,\"0000\")&TEXT($F241709,\"0000\")","v":"4480025625101980198"},4480025625,null,1,198,198,"198-198","답",488,null,null,null,"경기도성남시분당구구미동175","대한주택공사"]
[{"$f":"LEFT($B241710,10)&TEXT($D241710,\"0\")&TEXT($E241710,\"0000\")&TEXT($F241710,\"0000\")","v":"4480033025105350000"},4480033025,null,1,535,0,535,"답",1895.2,null,null,null,"서울서초구방배동958-29방배타운에이-101","김주원"]
[{"$f":"LEFT($B241711,10)&TEXT($D241711,\"0\")&TEXT($E241711,\"0000\")&TEXT($F241711,\"0000\")","v":"4480033027100470009"},4480033027,null,1,47,9,"47-9","임",2967,null,null,null,"충청남도홍성군홍성읍충절로953번길20101동207호(신동아파밀리에아파트)","이상오"]
[{"$f":"LEFT($B241712,10)&TEXT($D241712,\"0\")&TEXT($E241712,\"0000\")&TEXT($F241712,\"0000\")","v":"4480033026107910000"},4480033026,null,1,791,0,791,"답",2298.6,null,null,null,"경기수원시권선구오목천동381청구2차아파트207-2103","이은희"]
[{"$f":"LEFT($B241713,10)&TEXT($D241713,\"0\")&TEXT($E241713,\"0000\")&TEXT($F241713,\"0000\")","v":"4480025625105110028"},4480025625,null,1,511,28,"511-28","임",1018,null,null,null,"충청남도홍성군홍성읍오관리447-1","충청남도개발공사"]
[{"$f":"LEFT($B241714,10)&TEXT($D241714,\"0\")&TEXT($E241714,\"0000\")&TEXT($F241714,\"0000\")","v":"4480025625101980085"},4480025625,null,1,198,85,"198-85","구",31,null,null,null,"경기도성남시분당구정자동217","한국토지주택공사"]
[{"$f":"LEFT($B241715,10)&TEXT($D241715,\"0\")&TEXT($E241715,\"0000\")&TEXT($F241715,\"0000\")","v":"4480033026108300000"},4480033026,null,1,830,0,830,"답",2868.7,null,null,null,"충남홍성군금마면충서로1901","이영숙"]
[{"$f":"LEFT($B241716,10)&TEXT($D241716,\"0\")&TEXT($E241716,\"0000\")&TEXT($F241716,\"0000\")","v":"4480025625200540039"},4480025625,null,2,54,39,"54-39","임",33521,null,null,null,"경기도성남시분당구구미동175","대한주택공사"]
[{"$f":"LEFT($B241717,10)&TEXT($D241717,\"0\")&TEXT($E241717,\"0000\")&TEXT($F241717,\"0000\")","v":"4480025625101980193"},4480025625,null,1,198,193,"198-193","전",780,null,null,null,"경기도성남시분당구구미동175","대한주택공사"]
[{"$f":"LEFT($B241718,10)&TEXT($D241718,\"0\")&TEXT($E241718,\"0000\")&TEXT($F241718,\"0000\")","v":"4480025030111920000"},4480025030,null,1,1192,0,1192,"도",2723.5,null,null,null,"홍성군","국"]
[{"$f":"LEFT($B241719,10)&TEXT($D241719,\"0\")&TEXT($E241719,\"0000\")&TEXT($F241719,\"0000\")","v":"4480025625101980135"},4480025625,null,1,198,135,"198-135","답",3008,null,null,null,"경기도성남시분당구구미동175","대한주택공사"]
[{"$f":"LEFT($B241720,10)&TEXT($D241720,\"0\")&TEXT($E241720,\"0000\")&TEXT($F241720,\"0000\")","v":"4480025030111880000"},4480025030,null,1,1188,0,1188,"도",16.2,null,null,null,"홍성군","국"]
[{"$f":"LEFT($B241721,10)&TEXT($D241721,\"0\")&TEXT($E241721,\"0000\")&TEXT($F241721,\"0000\")","v":"4480033025105050000"},4480033025,null,1,505,0,505,"답",1558.2,null,null,null,"충남홍성군홍동면화신리51-55","김용환"]
[{"$f":"LEFT($B241722,10)&TEXT($D241722,\"0\")&TEXT($E241722,\"0000\")&TEXT($F241722,\"0000\")","v":"4480037027100230003"},4480037027,null,1,23,3,"23-3","답",88,null,null,null,"서울특별시관악구봉천동1708두산아파트111-601","김완수"]
[{"$f":"LEFT($B241723,10)&TEXT($D241723,\"0\")&TEXT($E241723,\"0000\")&TEXT($F241723,\"0000\")","v":"4480025330103290006"},4480025330,null,1,329,6,"329-6","답",405,null,null,null,"부천시오정구삼정동292-7","장은석"]
[{"$f":"LEFT($B241724,10)&TEXT($D241724,\"0\")&TEXT($E241724,\"0000\")&TEXT($F241724,\"0000\")","v":"4480025324102210005"},4480025324,null,1,221,5,"221-5","임",904,null,null,null,"충청남도홍성군광천읍홍남동로64번길125","구본서"]
[{"$f":"LEFT($B241725,10)&TEXT($D241725,\"0\")&TEXT($E241725,\"0000\")&TEXT($F241725,\"0000\")","v":"4480025023102730015"},4480025023,null,1,273,15,"273-15","임",1695,null,null,null,"충청남도홍성군홍북읍자경로17114동1205호(자경마을중흥에스클래스)","송재석"]
[{"$f":"LEFT($B241726,10)&TEXT($D241726,\"0\")&TEXT($E241726,\"0000\")&TEXT($F241726,\"0000\")","v":"4480025622103620004"},4480025622,null,1,362,4,"362-4","답",195,null,null,null,"홍성읍대교리231-3","송헌식"]
[{"$f":"LEFT($B241727,10)&TEXT($D241727,\"0\")&TEXT($E241727,\"0000\")&TEXT($F241727,\"0000\")","v":"4480025332106550047"},4480025332,null,1,655,47,"655-47","임",24204,null,null,null,"충청남도홍성군홍성읍남장리112-12대우아파트101-1202","이철영"]
[{"$f":"LEFT($B241728,10)&TEXT($D241728,\"0\")&TEXT($E241728,\"0000\")&TEXT($F241728,\"0000\")","v":"4480037031105630004"},4480037031,null,1,563,4,"563-4","임",68,null,null,null,"중리297","결성장씨하공파종중"]
[{"$f":"LEFT($B241729,10)&TEXT($D241729,\"0\")&TEXT($E241729,\"0000\")&TEXT($F241729,\"0000\")","v":"4480025625105120048"},4480025625,null,1,512,48,"512-48","과",329,null,null,null,"충청남도홍성군홍성읍문화로109","충청남도개발공사"]
[{"$f":"LEFT($B241730,10)&TEXT($D241730,\"0\")&TEXT($E241730,\"0000\")&TEXT($F241730,\"0000\")","v":"4480035031106440043"},4480035031,null,1,644,43,"644-43","임",1010,null,null,null,"충청남도홍성군은하면천광로795-13","배영은"]
[{"$f":"LEFT($B241731,10)&TEXT($D241731,\"0\")&TEXT($E241731,\"0000\")&TEXT($F241731,\"0000\")","v":"4480025622103740001"},4480025622,null,1,374,1,"374-1","답",55,null,null,null,"홍성읍소향리29-2","신용학"]
[{"$f":"LEFT($B241732,10)&TEXT($D241732,\"0\")&TEXT($E241732,\"0000\")&TEXT($F241732,\"0000\")","v":"4480025030111950000"},4480025030,null,1,1195,0,1195,"도",172.1,null,null,null,"홍성군","국"]
[{"$f":"LEFT($B241733,10)&TEXT($D241733,\"0\")&TEXT($E241733,\"0000\")&TEXT($F241733,\"0000\")","v":"4480025030111590000"},4480025030,null,1,1159,0,1159,"대",264.7,null,null,null,"서울특별시노원구동일로203가길291142호(중계동브라운스톤중계)","민병국"]
[{"$f":"LEFT($B241734,10)&TEXT($D241734,\"0\")&TEXT($E241734,\"0000\")&TEXT($F241734,\"0000\")","v":"4480033033102600002"},4480033033,null,1,260,2,"260-2","임",7255,null,null,null,"경북포항시남구지곡동166-5인화아파트7동208호","이송연"]
[{"$f":"LEFT($B241735,10)&TEXT($D241735,\"0\")&TEXT($E241735,\"0000\")&TEXT($F241735,\"0000\")","v":"4480025030105610022"},4480025030,null,1,561,22,"561-22","전",1014,null,null,null,"예산군응봉면건지화리665","김관성"]
[{"$f":"LEFT($B241736,10)&TEXT($D241736,\"0\")&TEXT($E241736,\"0000\")&TEXT($F241736,\"0000\")","v":"4480025625105090135"},4480025625,null,1,509,135,"509-135","전",9537,null,null,null,"경기도성남시분당구구미동175","대한주택공사"]
[{"$f":"LEFT($B241737,10)&TEXT($D241737,\"0\")&TEXT($E241737,\"0000\")&TEXT($F241737,\"0000\")","v":"4480025625101980128"},4480025625,null,1,198,128,"198-128","임",239,null,null,null,"경기도성남시분당구구미동175","대한주택공사"]
[{"$f":"LEFT($B241738,10)&TEXT($D241738,\"0\")&TEXT($E241738,\"0000\")&TEXT($F241738,\"0000\")","v":"4480034029108450000"},4480034029,null,1,845,0,845,"답",2799.6,null,null,null,"충남홍성군장곡면지정리656","조수행"]
[{"$f":"LEFT($B241739,10)&TEXT($D241739,\"0\")&TEXT($E241739,\"0000\")&TEXT($F241739,\"0000\")","v":"4480037031105910001"},4480037031,null,1,591,1,"591-1","전",2,null,null,null,"중리594","이종복"]
[{"$f":"LEFT($B241740,10)&TEXT($D241740,\"0\")&TEXT($E241740,\"0000\")&TEXT($F241740,\"0000\")","v":"4480036021101520005"},4480036021,null,1,152,5,"152-5","주",43,null,null,null,"충청남도홍성군결성면홍남서로750","결성농업협동조합"]
[{"$f":"LEFT($B241741,10)&TEXT($D241741,\"0\")&TEXT($E241741,\"0000\")&TEXT($F241741,\"0000\")","v":"4480025625101980052"},4480025625,null,1,198,52,"198-52","답",1544,null,null,null,"경기도성남시분당구구미동175","대한주택공사"]
[{"$f":"LEFT($B241742,10)&TEXT($D241742,\"0\")&TEXT($E241742,\"0000\")&TEXT($F241742,\"0000\")","v":"4480032030101270010"},4480032030,null,1,127,10,"127-10","목",1225,null,null,null,"126-2","박상옥"]
[{"$f":"LEFT($B241743,10)&TEXT($D241743,\"0\")&TEXT($E241743,\"0000\")&TEXT($F241743,\"0000\")","v":"4480025625105090095"},4480025625,null,1,509,95,"509-95","임",628,null,null,null,"충청남도홍성군홍성읍문화로109","충청남도개발공사"]
[{"$f":"LEFT($B241744,10)&TEXT($D241744,\"0\")&TEXT($E241744,\"0000\")&TEXT($F241744,\"0000\")","v":"4480025625101980010"},4480025625,null,1,198,10,"198-10","답",2053,null,null,null,"경기도성남시분당구구미동175","대한주택공사"]
[{"$f":"LEFT($B241745,10)&TEXT($D241745,\"0\")&TEXT($E241745,\"0000\")&TEXT($F241745,\"0000\")","v":"4480025030105380027"},4480025030,null,1,538,27,"538-27","대",21,null,null,null,"538-3","이은용"]
[{"$f":"LEFT($B241746,10)&TEXT($D241746,\"0\")&TEXT($E241746,\"0000\")&TEXT($F241746,\"0000\")","v":"4480037021101240015"},4480037021,null,1,124,15,"124-15","답",76,null,null,null,721,"민병철"]
[{"$f":"LEFT($B241747,10)&TEXT($D241747,\"0\")&TEXT($E241747,\"0000\")&TEXT($F241747,\"0000\")","v":"4480037031104420004"},4480037031,null,1,442,4,"442-4","전",33,null,null,null,"충청남도홍성군서부면홍남서로375번길322","최기란"]
[{"$f":"LEFT($B241748,10)&TEXT($D241748,\"0\")&TEXT($E241748,\"0000\")&TEXT($F241748,\"0000\")","v":"4480039022105340008"},4480039022,null,1,534,8,"534-8","전",406,null,null,null,"충청남도홍성군구항면구항길115번길86-53","전용운"]
[{"$f":"LEFT($B241749,10)&TEXT($D241749,\"0\")&TEXT($E241749,\"0000\")&TEXT($F241749,\"0000\")","v":"4480032021103950010"},4480032021,null,1,395,10,"395-10","임",296,null,null,null,"서울특별시은평구갈현로7길41101호(역촌동호순빌라)","최윤희"]
[{"$f":"LEFT($B241750,10)&TEXT($D241750,\"0\")&TEXT($E241750,\"0000\")&TEXT($F241750,\"0000\")","v":"4480038032103950005"},4480038032,null,1,395,5,"395-5","전",1520,null,null,null,"경기도화성시봉담읍동화길122608동1301호(휴먼시아동화마을)","변미덕"]
[{"$f":"LEFT($B241751,10)&TEXT($D241751,\"0\")&TEXT($E241751,\"0000\")&TEXT($F241751,\"0000\")","v":"4480025021105380022"},4480025021,null,1,538,22,"538-22","전",151,null,null,null,"오관리538-6","박광웅"]
[{"$f":"LEFT($B241752,10)&TEXT($D241752,\"0\")&TEXT($E241752,\"0000\")&TEXT($F241752,\"0000\")","v":"4480025625200560004"},4480025625,null,2,56,4,"56-4","임",793,null,null,null,"충청남도홍성군홍성읍오관리447-1","충청남도개발공사"]
[{"$f":"LEFT($B241753,10)&TEXT($D241753,\"0\")&TEXT($E241753,\"0000\")&TEXT($F241753,\"0000\")","v":"4480025625101980121"},4480025625,null,1,198,121,"198-121","목",586,null,null,null,"경기도성남시분당구구미동175","대한주택공사"]
[{"$f":"LEFT($B241754,10)&TEXT($D241754,\"0\")&TEXT($E241754,\"0000\")&TEXT($F241754,\"0000\")","v":"4480038036102390012"},4480038036,null,1,239,12,"239-12","임",478,null,null,null,"전라남도나주시그린로20(빛가람동)","한국농어촌공사"]
[{"$f":"LEFT($B241755,10)&TEXT($D241755,\"0\")&TEXT($E241755,\"0000\")&TEXT($F241755,\"0000\")","v":"4480025030105610027"},4480025030,null,1,561,27,"561-27","전",7,null,null,null,"충청남도홍성군홍성읍고암리561-13","정달희"]
[{"$f":"LEFT($B241756,10)&TEXT($D241756,\"0\")&TEXT($E241756,\"0000\")&TEXT($F241756,\"0000\")","v":"4480025625200540036"},4480025625,null,2,54,36,"54-36","임",5752,null,null,null,"경기도성남시분당구구미동175","대한주택공사"]
[{"$f":"LEFT($B241757,10)&TEXT($D241757,\"0\")&TEXT($E241757,\"0000\")&TEXT($F241757,\"0000\")","v":"4480033028107160009"},4480033028,null,1,716,9,"716-9","학",124,null,null,null,"충청남도(교육감)","국"]
[{"$f":"LEFT($B241758,10)&TEXT($D241758,\"0\")&TEXT($E241758,\"0000\")&TEXT($F241758,\"0000\")","v":"4480038035100960009"},4480038035,null,1,96,9,"96-9","임",803,null,null,null,"경기도부천시길주로463번길13(춘의동)","김태우"]
[{"$f":"LEFT($B241759,10)&TEXT($D241759,\"0\")&TEXT($E241759,\"0000\")&TEXT($F241759,\"0000\")","v":"4480025022100160008"},4480025022,null,1,16,8,"16-8","전",12,null,null,null,"국(국토교통부)","국"]
[{"$f":"LEFT($B241760,10)&TEXT($D241760,\"0\")&TEXT($E241760,\"0000\")&TEXT($F241760,\"0000\")","v":"4480025625105110026"},4480025625,null,1,511,26,"511-26","임",955,null,null,null,"충청남도홍성군홍성읍문화로109","충청남도개발공사"]
[{"$f":"LEFT($B241761,10)&TEXT($D241761,\"0\")&TEXT($E241761,\"0000\")&TEXT($F241761,\"0000\")","v":"4480025625101980019"},4480025625,null,1,198,19,"198-19","전",7835,null,null,null,"경기도성남시분당구구미동175","대한주택공사"]
[{"$f":"LEFT($B241762,10)&TEXT($D241762,\"0\")&TEXT($E241762,\"0000\")&TEXT($F241762,\"0000\")","v":"4480035030109960001"},4480035030,null,1,996,1,"996-1","구",304.7,null,null,null,"국(농림부)","국"]
[{"$f":"LEFT($B241763,10)&TEXT($D241763,\"0\")&TEXT($E241763,\"0000\")&TEXT($F241763,\"0000\")","v":"4480035021101620010"},4480035021,null,1,162,10,"162-10","답",517,null,null,null,"충청남도홍성군은하면은하로249번길6-6","변옥수"]
[{"$f":"LEFT($B241764,10)&TEXT($D241764,\"0\")&TEXT($E241764,\"0000\")&TEXT($F241764,\"0000\")","v":"4480034029108350000"},4480034029,null,1,835,0,835,"답",2340,null,null,null,"서울용산구문배동24-6용산씨제이나인파크202-3005","윤재구"]
[{"$f":"LEFT($B241765,10)&TEXT($D241765,\"0\")&TEXT($E241765,\"0000\")&TEXT($F241765,\"0000\")","v":"4480037030110480004"},4480037030,null,1,1048,4,"1048-4","답",33.700000000000003,null,null,null,"충청남도당진시고대면고대로26-10가동407호(고대아파트)","성계진"]
[{"$f":"LEFT($B241766,10)&TEXT($D241766,\"0\")&TEXT($E241766,\"0000\")&TEXT($F241766,\"0000\")","v":"4480037030101510002"},4480037030,null,1,151,2,"151-2","임",3201,null,null,null,"경기도포천시소흘읍이동교리698-2","평택임씨송화공파기공종중"]
[{"$f":"LEFT($B241767,10)&TEXT($D241767,\"0\")&TEXT($E241767,\"0000\")&TEXT($F241767,\"0000\")","v":"4480025021103610044"},4480025021,null,1,361,44,"361-44","대",23,null,null,null,"충청남도홍성군홍성읍충절로1053번길30-21","박선규"]
[{"$f":"LEFT($B241768,10)&TEXT($D241768,\"0\")&TEXT($E241768,\"0000\")&TEXT($F241768,\"0000\")","v":"4480033026108130000"},4480033026,null,1,813,0,813,"답",1834.7,null,null,null,"충남홍성군홍성읍충절로953번길20104동1203호(신동아파밀리에아아파트)","이용후"]
[{"$f":"LEFT($B241769,10)&TEXT($D241769,\"0\")&TEXT($E241769,\"0000\")&TEXT($F241769,\"0000\")","v":"4480033025105480000"},4480033025,null,1,548,0,548,"답",2752.3,null,null,null,"충남홍성군홍동면화신리91","이후창"]
[{"$f":"LEFT($B241770,10)&TEXT($D241770,\"0\")&TEXT($E241770,\"0000\")&TEXT($F241770,\"0000\")","v":"4480033026108720000"},4480033026,null,1,872,0,872,"구",982.9,null,null,null,"국(농림축산식품부)","국"]
[{"$f":"LEFT($B241771,10)&TEXT($D241771,\"0\")&TEXT($E241771,\"0000\")&TEXT($F241771,\"0000\")","v":"4480037028103150143"},4480037028,null,1,315,143,"315-143","전",272,null,null,null,"충청남도홍성군서부면홍보로1597-13","박윤자"]
[{"$f":"LEFT($B241772,10)&TEXT($D241772,\"0\")&TEXT($E241772,\"0000\")&TEXT($F241772,\"0000\")","v":"4480037025101440004"},4480037025,null,1,144,4,"144-4","전",39,null,null,null,"천안시신부동199-7","김운환"]
[{"$f":"LEFT($B241773,10)&TEXT($D241773,\"0\")&TEXT($E241773,\"0000\")&TEXT($F241773,\"0000\")","v":"4480025325100380006"},4480025325,null,1,38,6,"38-6","전",18,null,null,null,"충청남도홍성군광천읍홍남동로126번길159-6","이만영"]
[{"$f":"LEFT($B241774,10)&TEXT($D241774,\"0\")&TEXT($E241774,\"0000\")&TEXT($F241774,\"0000\")","v":"4480025625101980159"},4480025625,null,1,198,159,"198-159","전",1111,null,null,null,"경기도성남시분당구구미동175","대한주택공사"]
[{"$f":"LEFT($B241775,10)&TEXT($D241775,\"0\")&TEXT($E241775,\"0000\")&TEXT($F241775,\"0000\")","v":"4480032031106610008"},4480032031,null,1,661,8,"661-8","제",417,null,null,null,"국(건설부)","국"]
[{"$f":"LEFT($B241776,10)&TEXT($D241776,\"0\")&TEXT($E241776,\"0000\")&TEXT($F241776,\"0000\")","v":"4480039032103650001"},4480039032,null,1,365,1,"365-1","답",923,null,null,null,"369-1","박영창"]
[{"$f":"LEFT($B241777,10)&TEXT($D241777,\"0\")&TEXT($E241777,\"0000\")&TEXT($F241777,\"0000\")","v":"4480036023106480005"},4480036023,null,1,648,5,"648-5","임",793,null,null,null,"경기도화성시향남읍하길로69903동403호(화성향남오색마을사랑으로부영9단지)","고정한"]

{"sheet":"간지(하천)","index":3,"n_rows":3,"n_cols":1,"rows_kept":3,"cut":false,"hidden":false,"merged":[]}
[]
[]
["월산천"]

{"sheet":"목차","index":4,"n_rows":16,"n_cols":5,"rows_kept":16,"cut":false,"hidden":false,"merged":[[0,4,2,7]]}
[null,null,null,null,"목    차"]
[]
[]
[]
[]
[]
[]
[]
[]
[]
[]
[]
[]
[null,null,null,null,"▷ 예정지"]
[null,null,null,null,"▷ 예정지 국유지"]
[null,null,null,null,"▷ 예정지 사유지"]

{"sheet":"하천구역1열","index":5,"n_rows":3,"n_cols":17,"rows_kept":3,"cut":false,"hidden":true,"merged":[]}
["월산천"]
["구역","시.군","구.면","동.리","번지","지목","지적","하천구역","주소","성명","구분1","구분2","하천명","PNU","전필지면적(m2)","본번","부번"]
[null,null,null,null,null,null,null,null,null,null,null,0]

{"sheet":"하천구역국유지1열","index":6,"n_rows":3,"n_cols":17,"rows_kept":3,"cut":false,"hidden":true,"merged":[]}
["월산천"]
["구역","시.군","구.면","동.리","번지","지목","지적","하천구역","주소","성명","구분1","구분2","하천명","PNU","전필지면적(m2)","본번","부번"]
[null,null,null,null,null,null,null,null,null,null,null,0]

{"sheet":"하천구역사유지1열","index":7,"n_rows":3,"n_cols":17,"rows_kept":3,"cut":false,"hidden":true,"merged":[]}
["월산천"]
["구역","시.군","구.면","동.리","번지","지목","지적","하천구역","주소","성명","구분1","구분2","하천명","PNU","전필지면적(m2)","본번","부번"]
[null,null,null,null,null,null,null,null,null,null,null,0]

{"sheet":"간지3","index":8,"n_rows":5,"n_cols":1,"rows_kept":5,"cut":false,"hidden":false,"merged":[[4,0,7,7]]}
[]
[]
[]
[]
["예정지"]

{"sheet":"예정지 집계","index":9,"n_rows":11,"n_cols":35,"rows_kept":11,"cut":false,"hidden":false,"merged":[[1,0,1,34],[5,1,6,1],[5,2,6,2],[5,3,6,3],[7,1,8,1],[7,2,8,2],[7,3,8,3],[3,0,4,0],[3,1,4,1],[3,2,4,2],[3,3,4,3],[3,34,4,34],[9,1,10,3],[3,5,3,33],[5,0,10,0]]}
[]
["월산천 예정지 집계표"]
[]
["하천명","시.군","구.면","읍.리","필지수(EA)","지    목    별    구    분",null,null,null,null,null,null,null,null,null,null,null,null,null,null,null,null,null,null,null,null,null,null,null,null,null,null,null,null,"계"]
[null,null,null,null,"편입면적(m2)","천","전","답","도","대","임","구","제","잡","장","목","과","묘","유","학","철","수","차","창","가","광","염","주","양","공","체","원","종","사"]
["월산천","홍성군","홍성읍","옥암리","필지수",null,1,null,2,null,null,1,null,null,null,null,null,null,null,null,null,null,null,null,null,null,null,null,null,null,null,null,null,null,4]
[null,null,null,null,"편입면적",null,24,null,60,null,null,6,null,null,null,null,null,null,null,null,null,null,null,null,null,null,null,null,null,null,null,null,null,null,90]
[null,"홍성군","홍성읍","월산리","필지수",null,6,5,5,3,1,2,null,null,null,null,null,null,null,null,null,null,null,null,null,null,null,null,null,null,null,null,null,null,22]
[null,null,null,null,"편입면적",null,187,227,680,183,262,191,null,null,null,null,null,null,null,null,null,null,null,null,null,null,null,null,null,null,null,null,null,null,1730]
[null,"합  계",null,null,"필지수",null,7,5,7,3,1,3,null,null,null,null,null,null,null,null,null,null,null,null,null,null,null,null,null,null,null,null,null,null,26]
[null,null,null,null,"편입면적",null,211,227,740,183,262,197,null,null,null,null,null,null,null,null,null,null,null,null,null,null,null,null,null,null,null,null,null,null,1820]

{"sheet":"예정지1열","index":10,"n_rows":28,"n_cols":17,"rows_kept":28,"cut":false,"hidden":true,"merged":[]}
["월산천"]
["구역","시.군","구.면","동.리","번지","지목","지적","예정지","주소","성명","구분1","구분2","하천명","PNU","전필지면적(m2)","본번","부번"]
["우안","홍성군","홍성읍","옥암리",916,"도",1365,36,"국(건설부)","국","국",1,"01-02월산천","4480025025109160000",250,267,3]
["우안","홍성군","홍성읍","옥암리",917,"구",1366,6,"국(건설부)","국","국",1,"01-02월산천","4480025025109170000",1384,267,5]
["우안","홍성군","홍성읍","옥암리","369-1","전",731,24,"충청남도홍성군홍성읍월산로43번길85-15","조상국","사",1,"01-02월산천","4480025025103690001",740,325,3]
["우안","홍성군","홍성읍","옥암리","916-1","도",83,24,"국(건설부)","국","국",1,"01-02월산천","4480025025109160001",87,347,0]
["우안","홍성군","홍성읍","월산리",266,"임",542,262,"월산리265-2","김명호","사",1,"01-02월산천","4480025024102660000",547,350,0]
["우안","홍성군","홍성읍","월산리",347,"답",955,37,"홍성군홍성읍월산리345-2","이남순","사",1,"01-02월산천","4480025024103470000",964,351,1]
["우안","홍성군","홍성읍","월산리",350,"대",790,145,"월산리351-2","김원호","사",1,"01-02월산천","4480025024103500000",802,359,1]
["우안","홍성군","홍성읍","월산리",362,"답",1960,61,"예산군고덕면석곡리105","인정식","사",1,"01-02월산천","4480025024103620000",1963,361,2]
["우안","홍성군","홍성읍","월산리",398,"답",1081,66,"홍성군 홍성읍 월산리 395","장현갑","사",1,"01-02월산천","4480025024103980000",1069,362,0]
["우안","홍성군","홍성읍","월산리",746,"전",506,50,"서울시양천구신정동311목동신시가지아파트1018-204","최완순","사",1,"01-02월산천","4480025024107460000",504,398,0]
["우안","홍성군","홍성읍","월산리",801,"도",2190,26,"국(건설교통부)","국","국",1,"01-02월산천","4480025024108010000",222,746,0]
["우안","홍성군","홍성읍","월산리",802,"구",17613,171,"국(건설교통부)","국","국",1,"01-02월산천","4480025024108020000",11509,748,2]
["우안","홍성군","홍성읍","월산리",817,"구",73,20,"국(건설부)","국","국",1,"01-02월산천","4480025024108170000",77,817,0]
["좌안","홍성군","홍성읍","월산리","265-1","대",542,9,"홍성군 홍성읍 월산리 415","김명호","사",1,"01-02월산천","4480025024102650001",573,369,1]
["좌안","홍성군","홍성읍","월산리","265-2","전",810,60,"홍성군 홍성읍 월산리 415","김명호","사",1,"01-02월산천","4480025024102650002",806,916,0]
["좌안","홍성군","홍성읍","월산리","265-3","전",635,13,"홍성군 홍성읍 월산리 415","김명호","사",1,"01-02월산천","4480025024102650003",642,916,1]
["좌안","홍성군","홍성읍","월산리","267-3","답",60,5,"대전중구태평동551버드내마을아파트217동1502호","이지은","사",1,"01-02월산천","4480025024102670003",62,917,0]
["좌안","홍성군","홍성읍","월산리","267-5","전",722,54,"충청남도홍성군홍성읍월산리267-2","이학재","사",1,"01-02월산천","4480025024102670005",725,265,1]
["좌안","홍성군","홍성읍","월산리","325-3","도",7997,508,"홍성군","국","국",1,"01-02월산천","4480025024103250003",4213,265,2]
["좌안","홍성군","홍성읍","월산리","351-1","대",1290,29,"홍성군 홍성읍 월산리 351-1","사회복지법인좋은세상","사",1,"01-02월산천","4480025024103510001",988,265,3]
["좌안","홍성군","홍성읍","월산리","359-1","도",96,87,"홍성군 홍성읍 월산리 396","김기웅","사",1,"01-02월산천","4480025024103590001",99,266,0]
["좌안","홍성군","홍성읍","월산리","361-2","답",678,58,"창원시가음정동391-12금성기숙사씨동401호","조민철","사",1,"01-02월산천","4480025024103610002",685,366,1]
["좌안","홍성군","홍성읍","월산리","366-1","전",998,8,"아산시탕정면호산리67","김종곤","사",1,"01-02월산천","4480025024103660001",657,401,1]
["좌안","홍성군","홍성읍","월산리","401-1","도",97,32,"홍성군","국","국",1,"01-02월산천","4480025024104010001",97,801,0]
["좌안","홍성군","홍성읍","월산리","748-2","전",598,2,"서울시양천구신정동311목동신시가지아파트1018-204","최완순","사",1,"01-02월산천","4480025024107480002",589,801,1]
["좌안","홍성군","홍성읍","월산리","801-1","도",429,27,"국(건설교통부)","국","국",1,"01-02월산천","4480025024108010001",397,802,0]

{"sheet":"예정지지번조서","index":11,"n_rows":15,"n_cols":21,"rows_kept":15,"cut":false,"hidden":false,"merged":[[0,11,1,11],[0,12,0,15],[0,16,1,16],[0,17,1,17],[0,18,1,18],[0,19,0,20],[0,0,1,0],[0,1,0,4],[0,5,1,5],[0,6,1,6],[0,7,1,7],[0,8,0,9]]}
["구역","토지소재지",null,null,null,"지목","지적","편입면적","소  유  자",null,null,"구역","토지소재지",null,null,null,"지목","지적","편입면적","소  유  자"]
[null,"시.군","구.면","동.리","번.지",null,null,null,"주   소","성   명",null,null,"시.군","구.면","동.리","번.지",null,null,null,"주   소","성   명"]
["좌안","홍성군","홍성읍","옥암리","369-1","전",731,24,"충청남도홍성군홍성읍월산로43번길85-15","조상국",null,"우안","홍성군","홍성읍","월산리","267-3","답",60,5,"대전중구태평동551버드내마을아파트217동1502호","이지은"]
["좌안","홍성군","홍성읍","옥암리","916","도",1365,36,"국(건설부)","국",null,"우안","홍성군","홍성읍","월산리","267-5","전",722,54,"충청남도홍성군홍성읍월산리267-2","이학재"]
["좌안","홍성군","홍성읍","옥암리","916-1","도",83,24,"국(건설부)","국",null,"우안","홍성군","홍성읍","월산리","325-3","도",7997,508,"홍성군","국"]
["좌안","홍성군","홍성읍","옥암리","917","구",1366,6,"국(건설부)","국",null,"우안","홍성군","홍성읍","월산리","347","답",955,37,"홍성군홍성읍월산리345-2","이남순"]
["좌안","홍성군","홍성읍","월산리","265-1","대",542,9,"홍성군 홍성읍 월산리 415","김명호",null,"우안","홍성군","홍성읍","월산리","350","대",790,145,"월산리351-2","김원호"]
["좌안","홍성군","홍성읍","월산리","265-2","전",810,60,"홍성군 홍성읍 월산리 415","김명호",null,"우안","홍성군","홍성읍","월산리","351-1","대",1290,29,"홍성군 홍성읍 월산리 351-1","사회복지법인좋은세상"]
["좌안","홍성군","홍성읍","월산리","265-3","전",635,13,"홍성군 홍성읍 월산리 415","김명호",null,"우안","홍성군","홍성읍","월산리","359-1","도",96,87,"홍성군 홍성읍 월산리 396","김기웅"]
["좌안","홍성군","홍성읍","월산리","266","임",542,262,"월산리265-2","김명호",null,"우안","홍성군","홍성읍","월산리","361-2","답",678,58,"창원시가음정동391-12금성기숙사씨동401호","조민철"]
["좌안","홍성군","홍성읍","월산리","366-1","전",998,8,"아산시탕정면호산리67","김종곤",null,"우안","홍성군","홍성읍","월산리","362","답",1960,61,"예산군고덕면석곡리105","인정식"]
["좌안","홍성군","홍성읍","월산리","401-1","도",97,32,"홍성군","국",null,"우안","홍성군","홍성읍","월산리","398","답",1081,66,"홍성군 홍성읍 월산리 395","장현갑"]
["좌안","홍성군","홍성읍","월산리","801","도",2190,26,"국(건설교통부)","국",null,"우안","홍성군","홍성읍","월산리","746","전",506,50,"서울시양천구신정동311목동신시가지아파트1018-204","최완순"]
["좌안","홍성군","홍성읍","월산리","801-1","도",429,27,"국(건설교통부)","국",null,"우안","홍성군","홍성읍","월산리","748-2","전",598,2,"서울시양천구신정동311목동신시가지아파트1018-204","최완순"]
["좌안","홍성군","홍성읍","월산리","802","구",17613,171,"국(건설교통부)","국",null,"우안","홍성군","홍성읍","월산리","817","구",73,20,"국(건설부)","국"]

{"sheet":"간지4","index":12,"n_rows":5,"n_cols":1,"rows_kept":5,"cut":false,"hidden":false,"merged":[[4,0,7,7]]}
[]
[]
[]
[]
["예정지 국유지"]

{"sheet":"예정지 국유지 집계","index":13,"n_rows":11,"n_cols":35,"rows_kept":11,"cut":false,"hidden":false,"merged":[[1,0,1,34],[5,1,6,1],[5,2,6,2],[5,3,6,3],[7,1,8,1],[7,2,8,2],[7,3,8,3],[3,0,4,0],[3,1,4,1],[3,2,4,2],[3,3,4,3],[3,34,4,34],[9,1,10,3],[3,5,3,33],[5,0,10,0]]}
[]
["월산천 예정지 국유지 집계표"]
[]
["하천명","시.군","구.면","읍.리","필지수(EA)","지    목    별    구    분",null,null,null,null,null,null,null,null,null,null,null,null,null,null,null,null,null,null,null,null,null,null,null,null,null,null,null,null,"계"]
[null,null,null,null,"편입면적(m2)","천","전","답","도","대","임","구","제","잡","장","목","과","묘","유","학","철","수","차","창","가","광","염","주","양","공","체","원","종","사"]
["월산천","홍성군","홍성읍","옥암리","필지수",null,null,null,2,null,null,1,null,null,null,null,null,null,null,null,null,null,null,null,null,null,null,null,null,null,null,null,null,null,3]
[null,null,null,null,"편입면적",null,null,null,60,null,null,6,null,null,null,null,null,null,null,null,null,null,null,null,null,null,null,null,null,null,null,null,null,null,66]
[null,"홍성군","홍성읍","월산리","필지수",null,null,null,4,null,null,2,null,null,null,null,null,null,null,null,null,null,null,null,null,null,null,null,null,null,null,null,null,null,6]
[null,null,null,null,"편입면적",null,null,null,593,null,null,191,null,null,null,null,null,null,null,null,null,null,null,null,null,null,null,null,null,null,null,null,null,null,784]
[null,"합  계",null,null,"필지수",null,null,null,6,null,null,3,null,null,null,null,null,null,null,null,null,null,null,null,null,null,null,null,null,null,null,null,null,null,9]
[null,null,null,null,"편입면적",null,null,null,653,null,null,197,null,null,null,null,null,null,null,null,null,null,null,null,null,null,null,null,null,null,null,null,null,null,850]

{"sheet":"예정지국유지1열","index":14,"n_rows":11,"n_cols":17,"rows_kept":11,"cut":false,"hidden":true,"merged":[]}
["월산천"]
["구역","시.군","구.면","동.리","번지","지목","지적","예정지","주소","성명","구분1","구분2","하천명","PNU","전필지면적(m2)","본번","부번"]
["우안","홍성군","홍성읍","옥암리",916,"도",1365,36,"국(건설부)","국","국",1,"01-02월산천","4480025025109160000",250,325,3]
["우안","홍성군","홍성읍","옥암리",917,"구",1366,6,"국(건설부)","국","국",1,"01-02월산천","4480025025109170000",1384,817,0]
["좌안","홍성군","홍성읍","옥암리","916-1","도",83,24,"국(건설부)","국","국",1,"01-02월산천","4480025025109160001",87,916,0]
["좌안","홍성군","홍성읍","월산리",801,"도",2190,26,"국(건설교통부)","국","국",1,"01-02월산천","4480025024108010000",222,916,1]
["좌안","홍성군","홍성읍","월산리",802,"구",17613,171,"국(건설교통부)","국","국",1,"01-02월산천","4480025024108020000",11509,917,0]
["좌안","홍성군","홍성읍","월산리",817,"구",73,20,"국(건설부)","국","국",1,"01-02월산천","4480025024108170000",77,401,1]
["좌안","홍성군","홍성읍","월산리","325-3","도",7997,508,"홍성군","국","국",1,"01-02월산천","4480025024103250003",4213,801,0]
["좌안","홍성군","홍성읍","월산리","401-1","도",97,32,"홍성군","국","국",1,"01-02월산천","4480025024104010001",97,801,1]
["좌안","홍성군","홍성읍","월산리","801-1","도",429,27,"국(건설교통부)","국","국",1,"01-02월산천","4480025024108010001",397,802,0]

{"sheet":"예정지국유지지번조서","index":15,"n_rows":9,"n_cols":21,"rows_kept":9,"cut":false,"hidden":false,"merged":[[0,11,1,11],[0,12,0,15],[0,16,1,16],[0,17,1,17],[0,18,1,18],[0,19,0,20],[0,0,1,0],[0,1,0,4],[0,5,1,5],[0,6,1,6],[0,7,1,7],[0,8,0,9]]}
["구역","토지소재지",null,null,null,"지목","지적","편입면적","소  유  자",null,null,"구역","토지소재지",null,null,null,"지목","지적","편입면적","소  유  자"]
[null,"시.군","구.면","동.리","번.지",null,null,null,"주   소","성   명",null,null,"시.군","구.면","동.리","번.지",null,null,null,"주   소","성   명"]
["좌안","홍성군","홍성읍","옥암리","916","도",1365,36,"국(건설부)","국",null,"우안","홍성군","홍성읍","월산리","325-3","도",7997,508,"홍성군","국"]
["좌안","홍성군","홍성읍","옥암리","916-1","도",83,24,"국(건설부)","국",null,"우안","홍성군","홍성읍","월산리","817","구",73,20,"국(건설부)","국"]
["좌안","홍성군","홍성읍","옥암리","917","구",1366,6,"국(건설부)","국"]
["좌안","홍성군","홍성읍","월산리","401-1","도",97,32,"홍성군","국"]
["좌안","홍성군","홍성읍","월산리","801","도",2190,26,"국(건설교통부)","국"]
["좌안","홍성군","홍성읍","월산리","801-1","도",429,27,"국(건설교통부)","국"]
["좌안","홍성군","홍성읍","월산리","802","구",17613,171,"국(건설교통부)","국"]

{"sheet":"간지5","index":16,"n_rows":5,"n_cols":1,"rows_kept":5,"cut":false,"hidden":false,"merged":[[4,0,7,7]]}
[]
[]
[]
[]
["예정지 사유지"]

{"sheet":"예정지 사유지 집계","index":17,"n_rows":11,"n_cols":35,"rows_kept":11,"cut":false,"hidden":false,"merged":[[1,0,1,34],[5,1,6,1],[5,2,6,2],[5,3,6,3],[7,1,8,1],[7,2,8,2],[7,3,8,3],[3,0,4,0],[3,1,4,1],[3,2,4,2],[3,3,4,3],[3,34,4,34],[9,1,10,3],[3,5,3,33],[5,0,10,0]]}
[]
["월산천 예정지 사유지 집계표"]
[]
["하천명","시.군","구.면","읍.리","필지수(EA)","지    목    별    구    분",null,null,null,null,null,null,null,null,null,null,null,null,null,null,null,null,null,null,null,null,null,null,null,null,null,null,null,null,"계"]
[null,null,null,null,"편입면적(m2)","천","전","답","도","대","임","구","제","잡","장","목","과","묘","유","학","철","수","차","창","가","광","염","주","양","공","체","원","종","사"]
["월산천","홍성군","홍성읍","옥암리","필지수",null,1,null,null,null,null,null,null,null,null,null,null,null,null,null,null,null,null,null,null,null,null,null,null,null,null,null,null,null,1]
[null,null,null,null,"편입면적",null,24,null,null,null,null,null,null,null,null,null,null,null,null,null,null,null,null,null,null,null,null,null,null,null,null,null,null,null,24]
[null,"홍성군","홍성읍","월산리","필지수",null,6,5,1,3,1,null,null,null,null,null,null,null,null,null,null,null,null,null,null,null,null,null,null,null,null,null,null,null,16]
[null,null,null,null,"편입면적",null,187,227,87,183,262,null,null,null,null,null,null,null,null,null,null,null,null,null,null,null,null,null,null,null,null,null,null,null,946]
[null,"합  계",null,null,"필지수",null,7,5,1,3,1,null,null,null,null,null,null,null,null,null,null,null,null,null,null,null,null,null,null,null,null,null,null,null,17]
[null,null,null,null,"편입면적",null,211,227,87,183,262,null,null,null,null,null,null,null,null,null,null,null,null,null,null,null,null,null,null,null,null,null,null,null,970]

{"sheet":"예정지사유지1열","index":18,"n_rows":19,"n_cols":17,"rows_kept":19,"cut":false,"hidden":true,"merged":[]}
["월산천"]
["구역","시.군","구.면","동.리","번지","지목","지적","예정지","주소","성명","구분1","구분2","하천명","PNU","전필지면적(m2)","본번","부번"]
["우안","홍성군","홍성읍","옥암리","369-1","전",731,24,"충청남도홍성군홍성읍월산로43번길85-15","조상국","사",1,"01-02월산천","4480025025103690001",740,267,3]
["우안","홍성군","홍성읍","월산리",266,"임",542,262,"월산리265-2","김명호","사",1,"01-02월산천","4480025024102660000",547,267,5]
["우안","홍성군","홍성읍","월산리",347,"답",955,37,"홍성군홍성읍월산리345-2","이남순","사",1,"01-02월산천","4480025024103470000",964,347,0]
["우안","홍성군","홍성읍","월산리",350,"대",790,145,"월산리351-2","김원호","사",1,"01-02월산천","4480025024103500000",802,350,0]
["우안","홍성군","홍성읍","월산리",362,"답",1960,61,"예산군고덕면석곡리105","인정식","사",1,"01-02월산천","4480025024103620000",1963,351,1]
["우안","홍성군","홍성읍","월산리",398,"답",1081,66,"홍성군 홍성읍 월산리 395","장현갑","사",1,"01-02월산천","4480025024103980000",1069,359,1]
["우안","홍성군","홍성읍","월산리",746,"전",506,50,"서울시양천구신정동311목동신시가지아파트1018-204","최완순","사",1,"01-02월산천","4480025024107460000",504,361,2]
["우안","홍성군","홍성읍","월산리","265-1","대",542,9,"홍성군 홍성읍 월산리 415","김명호","사",1,"01-02월산천","4480025024102650001",573,362,0]
["우안","홍성군","홍성읍","월산리","265-2","전",810,60,"홍성군 홍성읍 월산리 415","김명호","사",1,"01-02월산천","4480025024102650002",806,398,0]
["우안","홍성군","홍성읍","월산리","265-3","전",635,13,"홍성군 홍성읍 월산리 415","김명호","사",1,"01-02월산천","4480025024102650003",642,746,0]
["우안","홍성군","홍성읍","월산리","267-3","답",60,5,"대전중구태평동551버드내마을아파트217동1502호","이지은","사",1,"01-02월산천","4480025024102670003",62,748,2]
["좌안","홍성군","홍성읍","월산리","267-5","전",722,54,"충청남도홍성군홍성읍월산리267-2","이학재","사",1,"01-02월산천","4480025024102670005",725,369,1]
["좌안","홍성군","홍성읍","월산리","351-1","대",1290,29,"홍성군 홍성읍 월산리 351-1","사회복지법인좋은세상","사",1,"01-02월산천","4480025024103510001",988,265,1]
["좌안","홍성군","홍성읍","월산리","359-1","도",96,87,"홍성군 홍성읍 월산리 396","김기웅","사",1,"01-02월산천","4480025024103590001",99,265,2]
["좌안","홍성군","홍성읍","월산리","361-2","답",678,58,"창원시가음정동391-12금성기숙사씨동401호","조민철","사",1,"01-02월산천","4480025024103610002",685,265,3]
["좌안","홍성군","홍성읍","월산리","366-1","전",998,8,"아산시탕정면호산리67","김종곤","사",1,"01-02월산천","4480025024103660001",657,266,0]
["좌안","홍성군","홍성읍","월산리","748-2","전",598,2,"서울시양천구신정동311목동신시가지아파트1018-204","최완순","사",1,"01-02월산천","4480025024107480002",589,366,1]

{"sheet":"예정지사유지지번조서","index":19,"n_rows":13,"n_cols":21,"rows_kept":13,"cut":false,"hidden":false,"merged":[[0,11,1,11],[0,12,0,15],[0,16,1,16],[0,17,1,17],[0,18,1,18],[0,19,0,20],[0,0,1,0],[0,1,0,4],[0,5,1,5],[0,6,1,6],[0,7,1,7],[0,8,0,9]]}
["구역","토지소재지",null,null,null,"지목","지적","편입면적","소  유  자",null,null,"구역","토지소재지",null,null,null,"지목","지적","편입면적","소  유  자"]
[null,"시.군","구.면","동.리","번.지",null,null,null,"주   소","성   명",null,null,"시.군","구.면","동.리","번.지",null,null,null,"주   소","성   명"]
["좌안","홍성군","홍성읍","옥암리","369-1","전",731,24,"충청남도홍성군홍성읍월산로43번길85-15","조상국",null,"우안","홍성군","홍성읍","월산리","267-3","답",60,5,"대전중구태평동551버드내마을아파트217동1502호","이지은"]
["좌안","홍성군","홍성읍","월산리","265-1","대",542,9,"홍성군 홍성읍 월산리 415","김명호",null,"우안","홍성군","홍성읍","월산리","267-5","전",722,54,"충청남도홍성군홍성읍월산리267-2","이학재"]
["좌안","홍성군","홍성읍","월산리","265-2","전",810,60,"홍성군 홍성읍 월산리 415","김명호",null,"우안","홍성군","홍성읍","월산리","347","답",955,37,"홍성군홍성읍월산리345-2","이남순"]
["좌안","홍성군","홍성읍","월산리","265-3","전",635,13,"홍성군 홍성읍 월산리 415","김명호",null,"우안","홍성군","홍성읍","월산리","350","대",790,145,"월산리351-2","김원호"]
["좌안","홍성군","홍성읍","월산리","266","임",542,262,"월산리265-2","김명호",null,"우안","홍성군","홍성읍","월산리","351-1","대",1290,29,"홍성군 홍성읍 월산리 351-1","사회복지법인좋은세상"]
["좌안","홍성군","홍성읍","월산리","366-1","전",998,8,"아산시탕정면호산리67","김종곤",null,"우안","홍성군","홍성읍","월산리","359-1","도",96,87,"홍성군 홍성읍 월산리 396","김기웅"]
[null,null,null,null,null,null,null,null,null,null,null,"우안","홍성군","홍성읍","월산리","361-2","답",678,58,"창원시가음정동391-12금성기숙사씨동401호","조민철"]
[null,null,null,null,null,null,null,null,null,null,null,"우안","홍성군","홍성읍","월산리","362","답",1960,61,"예산군고덕면석곡리105","인정식"]
[null,null,null,null,null,null,null,null,null,null,null,"우안","홍성군","홍성읍","월산리","398","답",1081,66,"홍성군 홍성읍 월산리 395","장현갑"]
[null,null,null,null,null,null,null,null,null,null,null,"우안","홍성군","홍성읍","월산리","746","전",506,50,"서울시양천구신정동311목동신시가지아파트1018-204","최완순"]
[null,null,null,null,null,null,null,null,null,null,null,"우안","홍성군","홍성읍","월산리","748-2","전",598,2,"서울시양천구신정동311목동신시가지아파트1018-204","최완순"]

{"sheet":"기존폐천1열","index":20,"n_rows":3,"n_cols":17,"rows_kept":3,"cut":false,"hidden":true,"merged":[]}
["월산천"]
["구역","시.군","구.면","동.리","번지","지목","지적","폐천구역","주소","성명","구분1","구분2","하천명","PNU","전필지면적(m2)","본번","부번"]
[null,null,null,null,null,null,null,null,null,null,null,0]

{"sheet":"홍수관리구역1열","index":21,"n_rows":3,"n_cols":17,"rows_kept":3,"cut":false,"hidden":true,"merged":[]}
["월산천"]
["구역","시.군","구.면","동.리","번지","지목","지적","홍수관리구역","주소","성명","구분1","구분2","하천명","PNU","전필지면적(m2)","본번","부번"]
[null,null,null,null,null,null,null,null,null,null,"사",0]