{"text_format":"1","workbook":"xlsx","n_sheets":26,"sheets":["검토 시설개요","신설 계획인구 및 계획하수량","경제성검토 총괄","황소","봉곡","운곡","초곡","구야","문무","남곡","던돌마","덕남","대양","옥율","능치","도암","태화","신암","광기","무안","신안","대평","하강","월곡","월매","옥동"],"not_rendered":{"charts":0,"images":69,"macros":1,"external_links":3,"defined_names":89,"comments":0,"pivot_tables":0},"unopened":[],"bounds":{"document_bytes":16777216,"sheet_cells":100000,"rows_first":2000,"rows_last":500,"rows_between":2000,"halvings":0,"cell_chars":16384,"cell_head_chars":4096},"cells_cut":0,"cells_raw":0,"read":"whole","date_system":"1900"}

{"sheet":"검토 시설개요","index":0,"n_rows":26,"n_cols":8,"rows_kept":26,"cut":false,"hidden":false,"merged":[[1,5,1,6],[1,7,2,7],[1,0,2,0],[1,1,2,1],[1,2,2,2],[1,3,1,4]]}
["5.1 소규모 하수도 계획인구 및 계획하수량"]
["시설명","시설용량\n(㎥/일)","세대수\n(세대)","계획인구",null,"계획하수량",null,"관로연장\n(m)"]
[null,null,null,"2020년","2025년","2020년","2025년"]
["황소",{"$f":"VLOOKUP($A4,'신설 계획인구 및 계획하수량'!$A:$I,3,FALSE)","v":60},{"$f":"VLOOKUP($A4,'신설 계획인구 및 계획하수량'!$A:$I,4,FALSE)","v":108},{"$f":"VLOOKUP($A4,'신설 계획인구 및 계획하수량'!$A:$I,5,FALSE)","v":284},{"$f":"VLOOKUP($A4,'신설 계획인구 및 계획하수량'!$A:$I,6,FALSE)","v":282},{"$f":"VLOOKUP($A4,'신설 계획인구 및 계획하수량'!$A:$I,8,FALSE)","v":57},{"$f":"VLOOKUP($A4,'신설 계획인구 및 계획하수량'!$A:$I,9,FALSE)","v":56},2202]
["봉곡",{"$f":"VLOOKUP($A5,'신설 계획인구 및 계획하수량'!$A:$I,3,FALSE)","v":140},{"$f":"VLOOKUP($A5,'신설 계획인구 및 계획하수량'!$A:$I,4,FALSE)","v":311},{"$f":"VLOOKUP($A5,'신설 계획인구 및 계획하수량'!$A:$I,5,FALSE)","v":682},{"$f":"VLOOKUP($A5,'신설 계획인구 및 계획하수량'!$A:$I,6,FALSE)","v":675},{"$f":"VLOOKUP($A5,'신설 계획인구 및 계획하수량'!$A:$I,8,FALSE)","v":137},{"$f":"VLOOKUP($A5,'신설 계획인구 및 계획하수량'!$A:$I,9,FALSE)","v":135},7374]
["운곡",{"$f":"VLOOKUP($A6,'신설 계획인구 및 계획하수량'!$A:$I,3,FALSE)","v":70},{"$f":"VLOOKUP($A6,'신설 계획인구 및 계획하수량'!$A:$I,4,FALSE)","v":152},{"$f":"VLOOKUP($A6,'신설 계획인구 및 계획하수량'!$A:$I,5,FALSE)","v":312},{"$f":"VLOOKUP($A6,'신설 계획인구 및 계획하수량'!$A:$I,6,FALSE)","v":309},{"$f":"VLOOKUP($A6,'신설 계획인구 및 계획하수량'!$A:$I,8,FALSE)","v":62},{"$f":"VLOOKUP($A6,'신설 계획인구 및 계획하수량'!$A:$I,9,FALSE)","v":62},1950]
["초곡",{"$f":"VLOOKUP($A7,'신설 계획인구 및 계획하수량'!$A:$I,3,FALSE)","v":50},{"$f":"VLOOKUP($A7,'신설 계획인구 및 계획하수량'!$A:$I,4,FALSE)","v":126},{"$f":"VLOOKUP($A7,'신설 계획인구 및 계획하수량'!$A:$I,5,FALSE)","v":248},{"$f":"VLOOKUP($A7,'신설 계획인구 및 계획하수량'!$A:$I,6,FALSE)","v":245},{"$f":"VLOOKUP($A7,'신설 계획인구 및 계획하수량'!$A:$I,8,FALSE)","v":50},{"$f":"VLOOKUP($A7,'신설 계획인구 및 계획하수량'!$A:$I,9,FALSE)","v":49},1953]
["구야",{"$f":"VLOOKUP($A8,'신설 계획인구 및 계획하수량'!$A:$I,3,FALSE)","v":110},{"$f":"VLOOKUP($A8,'신설 계획인구 및 계획하수량'!$A:$I,4,FALSE)","v":242},{"$f":"VLOOKUP($A8,'신설 계획인구 및 계획하수량'!$A:$I,5,FALSE)","v":548},{"$f":"VLOOKUP($A8,'신설 계획인구 및 계획하수량'!$A:$I,6,FALSE)","v":543},{"$f":"VLOOKUP($A8,'신설 계획인구 및 계획하수량'!$A:$I,8,FALSE)","v":110},{"$f":"VLOOKUP($A8,'신설 계획인구 및 계획하수량'!$A:$I,9,FALSE)","v":109},5607]
["문무",{"$f":"VLOOKUP($A9,'신설 계획인구 및 계획하수량'!$A:$I,3,FALSE)","v":50},{"$f":"VLOOKUP($A9,'신설 계획인구 및 계획하수량'!$A:$I,4,FALSE)","v":117},{"$f":"VLOOKUP($A9,'신설 계획인구 및 계획하수량'!$A:$I,5,FALSE)","v":222},{"$f":"VLOOKUP($A9,'신설 계획인구 및 계획하수량'!$A:$I,6,FALSE)","v":220},{"$f":"VLOOKUP($A9,'신설 계획인구 및 계획하수량'!$A:$I,8,FALSE)","v":44},{"$f":"VLOOKUP($A9,'신설 계획인구 및 계획하수량'!$A:$I,9,FALSE)","v":44},2253]
["남곡",{"$f":"VLOOKUP($A10,'신설 계획인구 및 계획하수량'!$A:$I,3,FALSE)","v":50},{"$f":"VLOOKUP($A10,'신설 계획인구 및 계획하수량'!$A:$I,4,FALSE)","v":129},{"$f":"VLOOKUP($A10,'신설 계획인구 및 계획하수량'!$A:$I,5,FALSE)","v":246},{"$f":"VLOOKUP($A10,'신설 계획인구 및 계획하수량'!$A:$I,6,FALSE)","v":243},{"$f":"VLOOKUP($A10,'신설 계획인구 및 계획하수량'!$A:$I,8,FALSE)","v":49},{"$f":"VLOOKUP($A10,'신설 계획인구 및 계획하수량'!$A:$I,9,FALSE)","v":49},1407]
["던돌마",{"$f":"VLOOKUP($A11,'신설 계획인구 및 계획하수량'!$A:$I,3,FALSE)","v":70},{"$f":"VLOOKUP($A11,'신설 계획인구 및 계획하수량'!$A:$I,4,FALSE)","v":138},{"$f":"VLOOKUP($A11,'신설 계획인구 및 계획하수량'!$A:$I,5,FALSE)","v":306},{"$f":"VLOOKUP($A11,'신설 계획인구 및 계획하수량'!$A:$I,6,FALSE)","v":304},{"$f":"VLOOKUP($A11,'신설 계획인구 및 계획하수량'!$A:$I,8,FALSE)","v":61},{"$f":"VLOOKUP($A11,'신설 계획인구 및 계획하수량'!$A:$I,9,FALSE)","v":61},4027]
["덕남",{"$f":"VLOOKUP($A12,'신설 계획인구 및 계획하수량'!$A:$I,3,FALSE)","v":170},{"$f":"VLOOKUP($A12,'신설 계획인구 및 계획하수량'!$A:$I,4,FALSE)","v":408},{"$f":"VLOOKUP($A12,'신설 계획인구 및 계획하수량'!$A:$I,5,FALSE)","v":846},{"$f":"VLOOKUP($A12,'신설 계획인구 및 계획하수량'!$A:$I,6,FALSE)","v":838},{"$f":"VLOOKUP($A12,'신설 계획인구 및 계획하수량'!$A:$I,8,FALSE)","v":169},{"$f":"VLOOKUP($A12,'신설 계획인구 및 계획하수량'!$A:$I,9,FALSE)","v":167},11248]
["대양",{"$f":"VLOOKUP($A13,'신설 계획인구 및 계획하수량'!$A:$I,3,FALSE)","v":40},{"$f":"VLOOKUP($A13,'신설 계획인구 및 계획하수량'!$A:$I,4,FALSE)","v":95},{"$f":"VLOOKUP($A13,'신설 계획인구 및 계획하수량'!$A:$I,5,FALSE)","v":195},{"$f":"VLOOKUP($A13,'신설 계획인구 및 계획하수량'!$A:$I,6,FALSE)","v":194},{"$f":"VLOOKUP($A13,'신설 계획인구 및 계획하수량'!$A:$I,8,FALSE)","v":39},{"$f":"VLOOKUP($A13,'신설 계획인구 및 계획하수량'!$A:$I,9,FALSE)","v":39},2857]
["옥율",{"$f":"VLOOKUP($A14,'신설 계획인구 및 계획하수량'!$A:$I,3,FALSE)","v":50},{"$f":"VLOOKUP($A14,'신설 계획인구 및 계획하수량'!$A:$I,4,FALSE)","v":103},{"$f":"VLOOKUP($A14,'신설 계획인구 및 계획하수량'!$A:$I,5,FALSE)","v":250},{"$f":"VLOOKUP($A14,'신설 계획인구 및 계획하수량'!$A:$I,6,FALSE)","v":247},{"$f":"VLOOKUP($A14,'신설 계획인구 및 계획하수량'!$A:$I,8,FALSE)","v":50},{"$f":"VLOOKUP($A14,'신설 계획인구 및 계획하수량'!$A:$I,9,FALSE)","v":49},1865]
["능치",{"$f":"VLOOKUP($A15,'신설 계획인구 및 계획하수량'!$A:$I,3,FALSE)","v":150},{"$f":"VLOOKUP($A15,'신설 계획인구 및 계획하수량'!$A:$I,4,FALSE)","v":374},{"$f":"VLOOKUP($A15,'신설 계획인구 및 계획하수량'!$A:$I,5,FALSE)","v":760},{"$f":"VLOOKUP($A15,'신설 계획인구 및 계획하수량'!$A:$I,6,FALSE)","v":754},{"$f":"VLOOKUP($A15,'신설 계획인구 및 계획하수량'!$A:$I,8,FALSE)","v":153},{"$f":"VLOOKUP($A15,'신설 계획인구 및 계획하수량'!$A:$I,9,FALSE)","v":150},9019]
["도암",{"$f":"VLOOKUP($A16,'신설 계획인구 및 계획하수량'!$A:$I,3,FALSE)","v":130},{"$f":"VLOOKUP($A16,'신설 계획인구 및 계획하수량'!$A:$I,4,FALSE)","v":299},{"$f":"VLOOKUP($A16,'신설 계획인구 및 계획하수량'!$A:$I,5,FALSE)","v":626},{"$f":"VLOOKUP($A16,'신설 계획인구 및 계획하수량'!$A:$I,6,FALSE)","v":621},{"$f":"VLOOKUP($A16,'신설 계획인구 및 계획하수량'!$A:$I,8,FALSE)","v":124},{"$f":"VLOOKUP($A16,'신설 계획인구 및 계획하수량'!$A:$I,9,FALSE)","v":124},7917]
["태화",{"$f":"VLOOKUP($A17,'신설 계획인구 및 계획하수량'!$A:$I,3,FALSE)","v":90},{"$f":"VLOOKUP($A17,'신설 계획인구 및 계획하수량'!$A:$I,4,FALSE)","v":177},{"$f":"VLOOKUP($A17,'신설 계획인구 및 계획하수량'!$A:$I,5,FALSE)","v":425},{"$f":"VLOOKUP($A17,'신설 계획인구 및 계획하수량'!$A:$I,6,FALSE)","v":420},{"$f":"VLOOKUP($A17,'신설 계획인구 및 계획하수량'!$A:$I,8,FALSE)","v":85},{"$f":"VLOOKUP($A17,'신설 계획인구 및 계획하수량'!$A:$I,9,FALSE)","v":85},4862]
["신암",{"$f":"VLOOKUP($A18,'신설 계획인구 및 계획하수량'!$A:$I,3,FALSE)","v":90},{"$f":"VLOOKUP($A18,'신설 계획인구 및 계획하수량'!$A:$I,4,FALSE)","v":202},{"$f":"VLOOKUP($A18,'신설 계획인구 및 계획하수량'!$A:$I,5,FALSE)","v":416},{"$f":"VLOOKUP($A18,'신설 계획인구 및 계획하수량'!$A:$I,6,FALSE)","v":414},{"$f":"VLOOKUP($A18,'신설 계획인구 및 계획하수량'!$A:$I,8,FALSE)","v":83},{"$f":"VLOOKUP($A18,'신설 계획인구 및 계획하수량'!$A:$I,9,FALSE)","v":82},5419]
["광기",{"$f":"VLOOKUP($A19,'신설 계획인구 및 계획하수량'!$A:$I,3,FALSE)","v":110},{"$f":"VLOOKUP($A19,'신설 계획인구 및 계획하수량'!$A:$I,4,FALSE)","v":215},{"$f":"VLOOKUP($A19,'신설 계획인구 및 계획하수량'!$A:$I,5,FALSE)","v":510},{"$f":"VLOOKUP($A19,'신설 계획인구 및 계획하수량'!$A:$I,6,FALSE)","v":505},{"$f":"VLOOKUP($A19,'신설 계획인구 및 계획하수량'!$A:$I,8,FALSE)","v":102},{"$f":"VLOOKUP($A19,'신설 계획인구 및 계획하수량'!$A:$I,9,FALSE)","v":101},5415]
["무안",{"$f":"VLOOKUP($A20,'신설 계획인구 및 계획하수량'!$A:$I,3,FALSE)","v":50},{"$f":"VLOOKUP($A20,'신설 계획인구 및 계획하수량'!$A:$I,4,FALSE)","v":106},{"$f":"VLOOKUP($A20,'신설 계획인구 및 계획하수량'!$A:$I,5,FALSE)","v":243},{"$f":"VLOOKUP($A20,'신설 계획인구 및 계획하수량'!$A:$I,6,FALSE)","v":242},{"$f":"VLOOKUP($A20,'신설 계획인구 및 계획하수량'!$A:$I,8,FALSE)","v":48},{"$f":"VLOOKUP($A20,'신설 계획인구 및 계획하수량'!$A:$I,9,FALSE)","v":48},3219]
["신안",{"$f":"VLOOKUP($A21,'신설 계획인구 및 계획하수량'!$A:$I,3,FALSE)","v":110},{"$f":"VLOOKUP($A21,'신설 계획인구 및 계획하수량'!$A:$I,4,FALSE)","v":239},{"$f":"VLOOKUP($A21,'신설 계획인구 및 계획하수량'!$A:$I,5,FALSE)","v":554},{"$f":"VLOOKUP($A21,'신설 계획인구 및 계획하수량'!$A:$I,6,FALSE)","v":553},{"$f":"VLOOKUP($A21,'신설 계획인구 및 계획하수량'!$A:$I,8,FALSE)","v":109},{"$f":"VLOOKUP($A21,'신설 계획인구 및 계획하수량'!$A:$I,9,FALSE)","v":109},5920]
["대평",{"$f":"VLOOKUP($A22,'신설 계획인구 및 계획하수량'!$A:$I,3,FALSE)","v":60},{"$f":"VLOOKUP($A22,'신설 계획인구 및 계획하수량'!$A:$I,4,FALSE)","v":139},{"$f":"VLOOKUP($A22,'신설 계획인구 및 계획하수량'!$A:$I,5,FALSE)","v":299},{"$f":"VLOOKUP($A22,'신설 계획인구 및 계획하수량'!$A:$I,6,FALSE)","v":295},{"$f":"VLOOKUP($A22,'신설 계획인구 및 계획하수량'!$A:$I,8,FALSE)","v":60},{"$f":"VLOOKUP($A22,'신설 계획인구 및 계획하수량'!$A:$I,9,FALSE)","v":59},3260]
["하강",{"$f":"VLOOKUP($A23,'신설 계획인구 및 계획하수량'!$A:$I,3,FALSE)","v":120},{"$f":"VLOOKUP($A23,'신설 계획인구 및 계획하수량'!$A:$I,4,FALSE)","v":266},{"$f":"VLOOKUP($A23,'신설 계획인구 및 계획하수량'!$A:$I,5,FALSE)","v":585},{"$f":"VLOOKUP($A23,'신설 계획인구 및 계획하수량'!$A:$I,6,FALSE)","v":581},{"$f":"VLOOKUP($A23,'신설 계획인구 및 계획하수량'!$A:$I,8,FALSE)","v":117},{"$f":"VLOOKUP($A23,'신설 계획인구 및 계획하수량'!$A:$I,9,FALSE)","v":116},8049]
["월곡",{"$f":"VLOOKUP($A24,'신설 계획인구 및 계획하수량'!$A:$I,3,FALSE)","v":40},{"$f":"VLOOKUP($A24,'신설 계획인구 및 계획하수량'!$A:$I,4,FALSE)","v":74},{"$f":"VLOOKUP($A24,'신설 계획인구 및 계획하수량'!$A:$I,5,FALSE)","v":156},{"$f":"VLOOKUP($A24,'신설 계획인구 및 계획하수량'!$A:$I,6,FALSE)","v":154},{"$f":"VLOOKUP($A24,'신설 계획인구 및 계획하수량'!$A:$I,8,FALSE)","v":31},{"$f":"VLOOKUP($A24,'신설 계획인구 및 계획하수량'!$A:$I,9,FALSE)","v":31},1472]
["월매",{"$f":"VLOOKUP($A25,'신설 계획인구 및 계획하수량'!$A:$I,3,FALSE)","v":40},{"$f":"VLOOKUP($A25,'신설 계획인구 및 계획하수량'!$A:$I,4,FALSE)","v":101},{"$f":"VLOOKUP($A25,'신설 계획인구 및 계획하수량'!$A:$I,5,FALSE)","v":189},{"$f":"VLOOKUP($A25,'신설 계획인구 및 계획하수량'!$A:$I,6,FALSE)","v":187},{"$f":"VLOOKUP($A25,'신설 계획인구 및 계획하수량'!$A:$I,8,FALSE)","v":37},{"$f":"VLOOKUP($A25,'신설 계획인구 및 계획하수량'!$A:$I,9,FALSE)","v":37},4000]
["옥동",{"$f":"VLOOKUP($A26,'신설 계획인구 및 계획하수량'!$A:$I,3,FALSE)","v":60},{"$f":"VLOOKUP($A26,'신설 계획인구 및 계획하수량'!$A:$I,4,FALSE)","v":180},{"$f":"VLOOKUP($A26,'신설 계획인구 및 계획하수량'!$A:$I,5,FALSE)","v":288},{"$f":"VLOOKUP($A26,'신설 계획인구 및 계획하수량'!$A:$I,6,FALSE)","v":285},{"$f":"VLOOKUP($A26,'신설 계획인구 및 계획하수량'!$A:$I,8,FALSE)","v":58},{"$f":"VLOOKUP($A26,'신설 계획인구 및 계획하수량'!$A:$I,9,FALSE)","v":58},5816]

{"sheet":"신설 계획인구 및 계획하수량","index":1,"n_rows":96,"n_cols":9,"rows_kept":96,"cut":false,"hidden":false,"merged":[[1,4,1,5],[1,6,2,6],[1,7,1,8],[1,0,2,0],[1,1,2,1],[1,2,2,2],[1,3,2,3]]}
["5.2 소규모 하수도 대상마을 계획인구 및 계획하수량"]
["시설명","마을명","시설용량\n(㎥/일)","세대수\n(세대)","계획인구(인)",null,"생활오수\n원단위\n(Lpcd)","계획하수량(㎥/일)"]
[null,null,null,null,"2020년","2025년",null,"2020년","2025년"]
["황소","고삽",{"$f":"ROUNDUP(I4,-1)","v":60},{"$f":"VLOOKUP($B4,[3]계획인구!$C$1:$AA$65536,12,FALSE)","v":108},{"$f":"VLOOKUP($B4,[3]계획인구!$C$1:$AA$65536,22,FALSE)","v":284},{"$f":"VLOOKUP($B4,[3]계획인구!$C$1:$AA$65536,23,FALSE)","v":282},200,{"$f":"ROUND(E4*$G4/1000,0)","v":57},{"$f":"ROUND(F4*$G4/1000,0)","v":56}]
["봉곡","소  계",{"$f":"ROUNDUP(I5,-1)","v":140},{"$f":"SUM(D6:D9)","v":311},{"$f":"SUM(E6:E9)","v":682},675,null,{"$f":"SUM(H6:H9)","v":137},135]
[null,"씰미",null,{"$f":"VLOOKUP($B6,[3]계획인구!$C$1:$AA$65536,12,FALSE)","v":124},{"$f":"VLOOKUP($B6,[3]계획인구!$C$1:$AA$65536,22,FALSE)","v":264},{"$f":"VLOOKUP($B6,[3]계획인구!$C$1:$AA$65536,23,FALSE)","v":262},200,{"$f":"ROUND(E6*$G6/1000,0)","v":53},{"$f":"ROUND(F6*$G6/1000,0)","v":52}]
[null,"숲페",null,{"$f":"VLOOKUP($B7,[3]계획인구!$C$1:$AA$65536,12,FALSE)","v":19},{"$f":"VLOOKUP($B7,[3]계획인구!$C$1:$AA$65536,22,FALSE)","v":30},{"$f":"VLOOKUP($B7,[3]계획인구!$C$1:$AA$65536,23,FALSE)","v":29},200,6,6]
[null,"샙띠",null,{"$f":"VLOOKUP($B8,[3]계획인구!$C$1:$AA$65536,12,FALSE)","v":158},{"$f":"VLOOKUP($B8,[3]계획인구!$C$1:$AA$65536,22,FALSE)","v":364},{"$f":"VLOOKUP($B8,[3]계획인구!$C$1:$AA$65536,23,FALSE)","v":360},200,{"$f":"ROUND(E8*$G8/1000,0)","v":73},{"$f":"ROUND(F8*$G8/1000,0)","v":72}]
[null,"우봉골",null,{"$f":"VLOOKUP($B9,[3]계획인구!$C$1:$AA$65536,12,FALSE)","v":10},{"$f":"VLOOKUP($B9,[3]계획인구!$C$1:$AA$65536,22,FALSE)","v":24},{"$f":"VLOOKUP($B9,[3]계획인구!$C$1:$AA$65536,23,FALSE)","v":24},200,5,5]
["운곡","등골",{"$f":"ROUNDUP(I10,-1)","v":70},{"$f":"VLOOKUP($B10,[3]계획인구!$C$1:$AA$65536,12,FALSE)","v":152},{"$f":"VLOOKUP($B10,[3]계획인구!$C$1:$AA$65536,22,FALSE)","v":312},{"$f":"VLOOKUP($B10,[3]계획인구!$C$1:$AA$65536,23,FALSE)","v":309},200,{"$f":"ROUND(E10*$G10/1000,0)","v":62},{"$f":"ROUND(F10*$G10/1000,0)","v":62}]
["초곡","초실",50,{"$f":"VLOOKUP($B11,[3]계획인구!$C$1:$AA$65536,12,FALSE)","v":126},{"$f":"VLOOKUP($B11,[3]계획인구!$C$1:$AA$65536,22,FALSE)","v":248},{"$f":"VLOOKUP($B11,[3]계획인구!$C$1:$AA$65536,23,FALSE)","v":245},200,50,49]
["구야","소  계",{"$f":"ROUNDUP(I12,-1)","v":110},{"$f":"SUM(D13:D14)","v":242},{"$f":"SUM(E13:E14)","v":548},543,null,{"$f":"SUM(H13:H14)","v":110},109]
[null,"나아골",null,{"$f":"VLOOKUP($B13,[3]계획인구!$C$1:$AA$65536,12,FALSE)","v":122},{"$f":"VLOOKUP($B13,[3]계획인구!$C$1:$AA$65536,22,FALSE)","v":293},{"$f":"VLOOKUP($B13,[3]계획인구!$C$1:$AA$65536,23,FALSE)","v":290},200,{"$f":"ROUND(E13*$G13/1000,0)","v":59},{"$f":"ROUND(F13*$G13/1000,0)","v":58}]
[null,"구례실",null,{"$f":"VLOOKUP($B14,[3]계획인구!$C$1:$AA$65536,12,FALSE)","v":120},{"$f":"VLOOKUP($B14,[3]계획인구!$C$1:$AA$65536,22,FALSE)","v":255},{"$f":"VLOOKUP($B14,[3]계획인구!$C$1:$AA$65536,23,FALSE)","v":253},200,51,51]
["문무","여무",50,{"$f":"VLOOKUP($B15,[3]계획인구!$C$1:$AA$65536,12,FALSE)","v":117},{"$f":"VLOOKUP($B15,[3]계획인구!$C$1:$AA$65536,22,FALSE)","v":222},{"$f":"VLOOKUP($B15,[3]계획인구!$C$1:$AA$65536,23,FALSE)","v":220},200,{"$f":"ROUND(E15*$G15/1000,0)","v":44},44]
["남곡","남실",50,{"$f":"VLOOKUP($B16,[3]계획인구!$C$1:$AA$65536,12,FALSE)","v":129},{"$f":"VLOOKUP($B16,[3]계획인구!$C$1:$AA$65536,22,FALSE)","v":246},{"$f":"VLOOKUP($B16,[3]계획인구!$C$1:$AA$65536,23,FALSE)","v":243},200,49,49]
["던돌마","소  계",70,{"$f":"SUM(D18:D19)","v":138},306,304,null,61,61]
[null,"가매실",null,{"$f":"VLOOKUP($B18,[3]계획인구!$C$1:$AA$65536,12,FALSE)","v":47},{"$f":"VLOOKUP($B18,[3]계획인구!$C$1:$AA$65536,22,FALSE)","v":121},{"$f":"VLOOKUP($B18,[3]계획인구!$C$1:$AA$65536,23,FALSE)","v":120},200,{"$f":"ROUND(E18*$G18/1000,0)","v":24},{"$f":"ROUND(F18*$G18/1000,0)","v":24}]
[null,"삼봉",null,{"$f":"VLOOKUP($B19,[3]계획인구!$C$1:$AA$65536,12,FALSE)","v":91},{"$f":"VLOOKUP($B19,[3]계획인구!$C$1:$AA$65536,22,FALSE)","v":185},{"$f":"VLOOKUP($B19,[3]계획인구!$C$1:$AA$65536,23,FALSE)","v":184},200,{"$f":"ROUND(E19*$G19/1000,0)","v":37},{"$f":"ROUND(F19*$G19/1000,0)","v":37}]
["덕남","소  계",{"$f":"ROUNDUP(I20,-1)","v":170},{"$f":"SUM(D21:D27)","v":408},{"$f":"SUM(E21:E27)","v":846},838,null,{"$f":"SUM(H21:H27)","v":169},167]
[null,"신풍",null,{"$f":"VLOOKUP($B21,[3]계획인구!$C$1:$AA$65536,12,FALSE)","v":90},{"$f":"VLOOKUP($B21,[3]계획인구!$C$1:$AA$65536,22,FALSE)","v":188},{"$f":"VLOOKUP($B21,[3]계획인구!$C$1:$AA$65536,23,FALSE)","v":186},200,{"$f":"ROUND(E21*$G21/1000,0)","v":38},{"$f":"ROUND(F21*$G21/1000,0)","v":37}]
[null,"시술",null,{"$f":"VLOOKUP($B22,[3]계획인구!$C$1:$AA$65536,12,FALSE)","v":94},{"$f":"VLOOKUP($B22,[3]계획인구!$C$1:$AA$65536,22,FALSE)","v":183},{"$f":"VLOOKUP($B22,[3]계획인구!$C$1:$AA$65536,23,FALSE)","v":182},200,{"$f":"ROUND(E22*$G22/1000,0)","v":37},{"$f":"ROUND(F22*$G22/1000,0)","v":36}]
[null,"안마",null,{"$f":"VLOOKUP($B23,[3]계획인구!$C$1:$AA$65536,12,FALSE)","v":61},{"$f":"VLOOKUP($B23,[3]계획인구!$C$1:$AA$65536,22,FALSE)","v":126},{"$f":"VLOOKUP($B23,[3]계획인구!$C$1:$AA$65536,23,FALSE)","v":125},200,{"$f":"ROUND(E23*$G23/1000,0)","v":25},25]
[null,"완동",null,{"$f":"VLOOKUP($B24,[3]계획인구!$C$1:$AA$65536,12,FALSE)","v":56},{"$f":"VLOOKUP($B24,[3]계획인구!$C$1:$AA$65536,22,FALSE)","v":126},{"$f":"VLOOKUP($B24,[3]계획인구!$C$1:$AA$65536,23,FALSE)","v":125},200,25,25]
[null,"북성",null,{"$f":"VLOOKUP($B25,[3]계획인구!$C$1:$AA$65536,12,FALSE)","v":27},{"$f":"VLOOKUP($B25,[3]계획인구!$C$1:$AA$65536,22,FALSE)","v":54},{"$f":"VLOOKUP($B25,[3]계획인구!$C$1:$AA$65536,23,FALSE)","v":53},200,11,11]
[null,"명천",null,{"$f":"VLOOKUP($B26,[3]계획인구!$C$1:$AA$65536,12,FALSE)","v":54},{"$f":"VLOOKUP($B26,[3]계획인구!$C$1:$AA$65536,22,FALSE)","v":117},{"$f":"VLOOKUP($B26,[3]계획인구!$C$1:$AA$65536,23,FALSE)","v":116},200,23,23]
[null,"명창",null,{"$f":"VLOOKUP($B27,[3]계획인구!$C$1:$AA$65536,12,FALSE)","v":26},{"$f":"VLOOKUP($B27,[3]계획인구!$C$1:$AA$65536,22,FALSE)","v":52},{"$f":"VLOOKUP($B27,[3]계획인구!$C$1:$AA$65536,23,FALSE)","v":51},200,10,10]
["대양","소  계",{"$f":"ROUNDUP(I28,-1)","v":40},{"$f":"SUM(D29:D30)","v":95},{"$f":"SUM(E29:E30)","v":195},194,null,{"$f":"SUM(H29:H30)","v":39},39]
[null,"대양",null,{"$f":"VLOOKUP($B29,[3]계획인구!$C$1:$AA$65536,12,FALSE)","v":51},{"$f":"VLOOKUP($B29,[3]계획인구!$C$1:$AA$65536,22,FALSE)","v":109},{"$f":"VLOOKUP($B29,[3]계획인구!$C$1:$AA$65536,23,FALSE)","v":108},200,{"$f":"ROUND(E29*$G29/1000,0)","v":22},22]
[null,"천동",null,{"$f":"VLOOKUP($B30,[3]계획인구!$C$1:$AA$65536,12,FALSE)","v":44},{"$f":"VLOOKUP($B30,[3]계획인구!$C$1:$AA$65536,22,FALSE)","v":86},{"$f":"VLOOKUP($B30,[3]계획인구!$C$1:$AA$65536,23,FALSE)","v":86},200,17,17]
["옥율","노리기",{"$f":"ROUNDUP(I31,-1)","v":50},{"$f":"VLOOKUP($B31,[3]계획인구!$C$1:$AA$65536,12,FALSE)","v":103},{"$f":"VLOOKUP($B31,[3]계획인구!$C$1:$AA$65536,22,FALSE)","v":250},{"$f":"VLOOKUP($B31,[3]계획인구!$C$1:$AA$65536,23,FALSE)","v":247},200,50,49]
["능치","소  계",{"$f":"ROUNDUP(I32,-1)","v":150},{"$f":"SUM(D33:D36)","v":374},{"$f":"SUM(E33:E36)","v":760},{"$f":"SUM(F33:F36)","v":754},null,{"$f":"SUM(H33:H36)","v":153},{"$f":"SUM(I33:I36)","v":150}]
[null,"능청",null,{"$f":"VLOOKUP($B33,[3]계획인구!$C$1:$AA$65536,12,FALSE)","v":25},{"$f":"VLOOKUP($B33,[3]계획인구!$C$1:$AA$65536,22,FALSE)","v":61},{"$f":"VLOOKUP($B33,[3]계획인구!$C$1:$AA$65536,23,FALSE)","v":61},200,{"$f":"ROUND(E33*$G33/1000,0)","v":12},12]
[null,"도치랑",null,{"$f":"VLOOKUP($B34,[3]계획인구!$C$1:$AA$65536,12,FALSE)","v":73},{"$f":"VLOOKUP($B34,[3]계획인구!$C$1:$AA$65536,22,FALSE)","v":118},{"$f":"VLOOKUP($B34,[3]계획인구!$C$1:$AA$65536,23,FALSE)","v":117},200,24,23]
[null,"용문산",null,{"$f":"VLOOKUP($B35,[3]계획인구!$C$1:$AA$65536,12,FALSE)","v":136},{"$f":"VLOOKUP($B35,[3]계획인구!$C$1:$AA$65536,22,FALSE)","v":218},{"$f":"VLOOKUP($B35,[3]계획인구!$C$1:$AA$65536,23,FALSE)","v":216},200,44,43]
[null,"능점",null,{"$f":"VLOOKUP($B36,[3]계획인구!$C$1:$AA$65536,12,FALSE)","v":140},{"$f":"VLOOKUP($B36,[3]계획인구!$C$1:$AA$65536,22,FALSE)","v":363},{"$f":"VLOOKUP($B36,[3]계획인구!$C$1:$AA$65536,23,FALSE)","v":360},200,73,72]
["도암","소  계",{"$f":"ROUNDUP(I37,-1)","v":130},{"$f":"SUM(D38:D43)","v":299},{"$f":"SUM(E38:E43)","v":626},{"$f":"SUM(F38:F43)","v":621},null,{"$f":"SUM(H38:H43)","v":124},{"$f":"SUM(I38:I43)","v":124}]
[null,"구사리",null,{"$f":"VLOOKUP($B38,[3]계획인구!$C$1:$AA$65536,12,FALSE)","v":68},{"$f":"VLOOKUP($B38,[3]계획인구!$C$1:$AA$65536,22,FALSE)","v":134},{"$f":"VLOOKUP($B38,[3]계획인구!$C$1:$AA$65536,23,FALSE)","v":133},200,{"$f":"ROUND(E38*$G38/1000,0)","v":27},27]
[null,"본리(어모)",null,{"$f":"VLOOKUP($B39,[3]계획인구!$C$1:$AA$65536,12,FALSE)","v":45},{"$f":"VLOOKUP($B39,[3]계획인구!$C$1:$AA$65536,22,FALSE)","v":110},{"$f":"VLOOKUP($B39,[3]계획인구!$C$1:$AA$65536,23,FALSE)","v":109},200,22,22]
[null,"신기",null,{"$f":"VLOOKUP($B40,[3]계획인구!$C$1:$AA$65536,12,FALSE)","v":27},{"$f":"VLOOKUP($B40,[3]계획인구!$C$1:$AA$65536,22,FALSE)","v":62},{"$f":"VLOOKUP($B40,[3]계획인구!$C$1:$AA$65536,23,FALSE)","v":62},200,12,12]
[null,"은석",null,{"$f":"VLOOKUP($B41,[3]계획인구!$C$1:$AA$65536,12,FALSE)","v":38},{"$f":"VLOOKUP($B41,[3]계획인구!$C$1:$AA$65536,22,FALSE)","v":76},{"$f":"VLOOKUP($B41,[3]계획인구!$C$1:$AA$65536,23,FALSE)","v":75},200,15,15]
[null,"봉황",null,{"$f":"VLOOKUP($B42,[3]계획인구!$C$1:$AA$65536,12,FALSE)","v":43},{"$f":"VLOOKUP($B42,[3]계획인구!$C$1:$AA$65536,22,FALSE)","v":77},{"$f":"VLOOKUP($B42,[3]계획인구!$C$1:$AA$65536,23,FALSE)","v":76},200,15,15]
[null,"동리",null,{"$f":"VLOOKUP($B43,[3]계획인구!$C$1:$AA$65536,12,FALSE)","v":78},{"$f":"VLOOKUP($B43,[3]계획인구!$C$1:$AA$65536,22,FALSE)","v":167},{"$f":"VLOOKUP($B43,[3]계획인구!$C$1:$AA$65536,23,FALSE)","v":166},200,33,33]
["태화","소  계",{"$f":"ROUNDUP(I44,-1)","v":90},{"$f":"SUM(D45:D48)","v":177},{"$f":"SUM(E45:E48)","v":425},420,null,85,85]
[null,"평촌",null,{"$f":"VLOOKUP($B45,[3]계획인구!$C$1:$AA$65536,12,FALSE)","v":48},{"$f":"VLOOKUP($B45,[3]계획인구!$C$1:$AA$65536,22,FALSE)","v":125},{"$f":"VLOOKUP($B45,[3]계획인구!$C$1:$AA$65536,23,FALSE)","v":124},200,{"$f":"ROUND(E45*$G45/1000,0)","v":25},25]
[null,"창촌",null,{"$f":"VLOOKUP($B46,[3]계획인구!$C$1:$AA$65536,12,FALSE)","v":50},{"$f":"VLOOKUP($B46,[3]계획인구!$C$1:$AA$65536,22,FALSE)","v":130},{"$f":"VLOOKUP($B46,[3]계획인구!$C$1:$AA$65536,23,FALSE)","v":128},200,26,26]
[null,"중리",null,{"$f":"VLOOKUP($B47,[3]계획인구!$C$1:$AA$65536,12,FALSE)","v":42},{"$f":"VLOOKUP($B47,[3]계획인구!$C$1:$AA$65536,22,FALSE)","v":96},{"$f":"VLOOKUP($B47,[3]계획인구!$C$1:$AA$65536,23,FALSE)","v":95},200,19,19]
[null,"상리",null,{"$f":"VLOOKUP($B48,[3]계획인구!$C$1:$AA$65536,12,FALSE)","v":37},{"$f":"VLOOKUP($B48,[3]계획인구!$C$1:$AA$65536,22,FALSE)","v":74},{"$f":"VLOOKUP($B48,[3]계획인구!$C$1:$AA$65536,23,FALSE)","v":73},200,15,15]
["신암","소  계",{"$f":"ROUNDUP(I49,-1)","v":90},{"$f":"SUM(D50:D54)","v":202},{"$f":"SUM(E50:E54)","v":416},414,null,83,82]
[null,"신촌(봉산)",null,{"$f":"VLOOKUP($B50,[3]계획인구!$C$1:$AA$65536,12,FALSE)","v":85},{"$f":"VLOOKUP($B50,[3]계획인구!$C$1:$AA$65536,22,FALSE)","v":178},{"$f":"VLOOKUP($B50,[3]계획인구!$C$1:$AA$65536,23,FALSE)","v":177},200,{"$f":"ROUND(E50*$G50/1000,0)","v":36},35]
[null,"고도암",null,{"$f":"VLOOKUP($B51,[3]계획인구!$C$1:$AA$65536,12,FALSE)","v":31},{"$f":"VLOOKUP($B51,[3]계획인구!$C$1:$AA$65536,22,FALSE)","v":65},{"$f":"VLOOKUP($B51,[3]계획인구!$C$1:$AA$65536,23,FALSE)","v":65},200,13,13]
[null,"외가성",null,{"$f":"VLOOKUP($B52,[3]계획인구!$C$1:$AA$65536,12,FALSE)","v":40},{"$f":"VLOOKUP($B52,[3]계획인구!$C$1:$AA$65536,22,FALSE)","v":75},{"$f":"VLOOKUP($B52,[3]계획인구!$C$1:$AA$65536,23,FALSE)","v":74},200,15,15]
[null,"내가성",null,{"$f":"VLOOKUP($B53,[3]계획인구!$C$1:$AA$65536,12,FALSE)","v":13},{"$f":"VLOOKUP($B53,[3]계획인구!$C$1:$AA$65536,22,FALSE)","v":37},{"$f":"VLOOKUP($B53,[3]계획인구!$C$1:$AA$65536,23,FALSE)","v":37},200,7,7]
[null,"신기(봉산)",null,{"$f":"VLOOKUP($B54,[3]계획인구!$C$1:$AA$65536,12,FALSE)","v":33},{"$f":"VLOOKUP($B54,[3]계획인구!$C$1:$AA$65536,22,FALSE)","v":61},{"$f":"VLOOKUP($B54,[3]계획인구!$C$1:$AA$65536,23,FALSE)","v":61},200,12,12]
["광기","소  계",{"$f":"ROUNDUP(I55,-1)","v":110},{"$f":"SUM(D56:D57)","v":215},{"$f":"SUM(E56:E57)","v":510},505,null,{"$f":"SUM(H56:H57)","v":102},101]
[null,"기동",null,{"$f":"VLOOKUP($B56,[3]계획인구!$C$1:$AA$65536,12,FALSE)","v":126},{"$f":"VLOOKUP($B56,[3]계획인구!$C$1:$AA$65536,22,FALSE)","v":291},{"$f":"VLOOKUP($B56,[3]계획인구!$C$1:$AA$65536,23,FALSE)","v":288},200,{"$f":"ROUND(E56*$G56/1000,0)","v":58},{"$f":"ROUND(F56*$G56/1000,0)","v":58}]
[null,"내동",null,{"$f":"VLOOKUP($B57,[3]계획인구!$C$1:$AA$65536,12,FALSE)","v":89},{"$f":"VLOOKUP($B57,[3]계획인구!$C$1:$AA$65536,22,FALSE)","v":219},{"$f":"VLOOKUP($B57,[3]계획인구!$C$1:$AA$65536,23,FALSE)","v":217},200,44,43]
["무안","소  계",{"$f":"ROUNDUP(I58,-1)","v":50},{"$f":"SUM(D59:D63)","v":106},{"$f":"SUM(E59:E63)","v":243},{"$f":"SUM(F59:F63)","v":242},null,{"$f":"SUM(H59:H63)","v":48},{"$f":"SUM(I59:I63)","v":48}]
[null,"외안",null,{"$f":"VLOOKUP($B59,[3]계획인구!$C$1:$AA$65536,12,FALSE)","v":50},{"$f":"VLOOKUP($B59,[3]계획인구!$C$1:$AA$65536,22,FALSE)","v":114},{"$f":"VLOOKUP($B59,[3]계획인구!$C$1:$AA$65536,23,FALSE)","v":113},200,{"$f":"ROUND(E59*$G59/1000,0)","v":23},23]
[null,"기산",null,{"$f":"VLOOKUP($B60,[3]계획인구!$C$1:$AA$65536,12,FALSE)","v":5},{"$f":"VLOOKUP($B60,[3]계획인구!$C$1:$AA$65536,22,FALSE)","v":12},{"$f":"VLOOKUP($B60,[3]계획인구!$C$1:$AA$65536,23,FALSE)","v":12},200,2,2]
[null,"삼거리",null,{"$f":"VLOOKUP($B61,[3]계획인구!$C$1:$AA$65536,12,FALSE)","v":18},{"$f":"VLOOKUP($B61,[3]계획인구!$C$1:$AA$65536,22,FALSE)","v":40},{"$f":"VLOOKUP($B61,[3]계획인구!$C$1:$AA$65536,23,FALSE)","v":40},200,8,8]
[null,"무릉",null,{"$f":"VLOOKUP($B62,[3]계획인구!$C$1:$AA$65536,12,FALSE)","v":26},{"$f":"VLOOKUP($B62,[3]계획인구!$C$1:$AA$65536,22,FALSE)","v":60},{"$f":"VLOOKUP($B62,[3]계획인구!$C$1:$AA$65536,23,FALSE)","v":60},200,12,12]
[null,"통정",null,{"$f":"VLOOKUP($B63,[3]계획인구!$C$1:$AA$65536,12,FALSE)","v":7},{"$f":"VLOOKUP($B63,[3]계획인구!$C$1:$AA$65536,22,FALSE)","v":17},{"$f":"VLOOKUP($B63,[3]계획인구!$C$1:$AA$65536,23,FALSE)","v":17},200,3,3]
["신안","소  계",{"$f":"ROUNDUP(I64,-1)","v":110},{"$f":"SUM(D65:D73)","v":239},{"$f":"SUM(E65:E73)","v":554},553,null,109,109]
[null,"죽정",null,{"$f":"VLOOKUP($B65,[3]계획인구!$C$1:$AA$65536,12,FALSE)","v":31},{"$f":"VLOOKUP($B65,[3]계획인구!$C$1:$AA$65536,22,FALSE)","v":86},{"$f":"VLOOKUP($B65,[3]계획인구!$C$1:$AA$65536,23,FALSE)","v":86},200,{"$f":"ROUND(E65*$G65/1000,0)","v":17},{"$f":"ROUND(F65*$G65/1000,0)","v":17}]
[null,"중동",null,{"$f":"VLOOKUP($B66,[3]계획인구!$C$1:$AA$65536,12,FALSE)","v":41},{"$f":"VLOOKUP($B66,[3]계획인구!$C$1:$AA$65536,22,FALSE)","v":87},{"$f":"VLOOKUP($B66,[3]계획인구!$C$1:$AA$65536,23,FALSE)","v":87},200,17,17]
[null,"뒤지골",null,{"$f":"VLOOKUP($B67,[3]계획인구!$C$1:$AA$65536,12,FALSE)","v":21},{"$f":"VLOOKUP($B67,[3]계획인구!$C$1:$AA$65536,22,FALSE)","v":37},{"$f":"VLOOKUP($B67,[3]계획인구!$C$1:$AA$65536,23,FALSE)","v":37},200,7,7]
[null,"안사래",null,{"$f":"VLOOKUP($B68,[3]계획인구!$C$1:$AA$65536,12,FALSE)","v":41},{"$f":"VLOOKUP($B68,[3]계획인구!$C$1:$AA$65536,22,FALSE)","v":94},{"$f":"VLOOKUP($B68,[3]계획인구!$C$1:$AA$65536,23,FALSE)","v":93},200,19,19]
[null,"밭새래",null,{"$f":"VLOOKUP($B69,[3]계획인구!$C$1:$AA$65536,12,FALSE)","v":33},{"$f":"VLOOKUP($B69,[3]계획인구!$C$1:$AA$65536,22,FALSE)","v":86},{"$f":"VLOOKUP($B69,[3]계획인구!$C$1:$AA$65536,23,FALSE)","v":86},200,17,17]
[null,"저먹골",null,{"$f":"VLOOKUP($B70,[3]계획인구!$C$1:$AA$65536,12,FALSE)","v":10},{"$f":"VLOOKUP($B70,[3]계획인구!$C$1:$AA$65536,22,FALSE)","v":27},{"$f":"VLOOKUP($B70,[3]계획인구!$C$1:$AA$65536,23,FALSE)","v":27},200,5,5]
[null,"안서동",null,{"$f":"VLOOKUP($B71,[3]계획인구!$C$1:$AA$65536,12,FALSE)","v":3},{"$f":"VLOOKUP($B71,[3]계획인구!$C$1:$AA$65536,22,FALSE)","v":7},{"$f":"VLOOKUP($B71,[3]계획인구!$C$1:$AA$65536,23,FALSE)","v":7},200,1,1]
[null,"지동",null,{"$f":"VLOOKUP($B72,[3]계획인구!$C$1:$AA$65536,12,FALSE)","v":38},{"$f":"VLOOKUP($B72,[3]계획인구!$C$1:$AA$65536,22,FALSE)","v":84},{"$f":"VLOOKUP($B72,[3]계획인구!$C$1:$AA$65536,23,FALSE)","v":84},200,17,17]
[null,"새터(조마)",null,{"$f":"VLOOKUP($B73,[3]계획인구!$C$1:$AA$65536,12,FALSE)","v":21},{"$f":"VLOOKUP($B73,[3]계획인구!$C$1:$AA$65536,22,FALSE)","v":46},{"$f":"VLOOKUP($B73,[3]계획인구!$C$1:$AA$65536,23,FALSE)","v":46},200,9,9]
["대평","소  계",{"$f":"ROUNDUP(I74,-1)","v":60},{"$f":"SUM(D75:D77)","v":139},{"$f":"SUM(E75:E77)","v":299},295,null,60,59]
[null,"성궁",null,{"$f":"VLOOKUP($B75,[3]계획인구!$C$1:$AA$65536,12,FALSE)","v":41},{"$f":"VLOOKUP($B75,[3]계획인구!$C$1:$AA$65536,22,FALSE)","v":107},{"$f":"VLOOKUP($B75,[3]계획인구!$C$1:$AA$65536,23,FALSE)","v":107},200,{"$f":"ROUND(E75*$G75/1000,0)","v":21},21]
[null,"가곡",null,{"$f":"VLOOKUP($B76,[3]계획인구!$C$1:$AA$65536,12,FALSE)","v":18},{"$f":"VLOOKUP($B76,[3]계획인구!$C$1:$AA$65536,22,FALSE)","v":48},{"$f":"VLOOKUP($B76,[3]계획인구!$C$1:$AA$65536,23,FALSE)","v":48},200,10,10]
[null,"대평",null,{"$f":"VLOOKUP($B77,[3]계획인구!$C$1:$AA$65536,12,FALSE)","v":80},{"$f":"VLOOKUP($B77,[3]계획인구!$C$1:$AA$65536,22,FALSE)","v":144},{"$f":"VLOOKUP($B77,[3]계획인구!$C$1:$AA$65536,23,FALSE)","v":140},200,29,28]
["하강","소  계",{"$f":"ROUNDUP(I78,-1)","v":120},{"$f":"SUM(D79:D86)","v":266},{"$f":"SUM(E79:E86)","v":585},581,null,117,116]
[null,"모리이",null,{"$f":"VLOOKUP($B79,[3]계획인구!$C$1:$AA$65536,12,FALSE)","v":28},{"$f":"VLOOKUP($B79,[3]계획인구!$C$1:$AA$65536,22,FALSE)","v":65},{"$f":"VLOOKUP($B79,[3]계획인구!$C$1:$AA$65536,23,FALSE)","v":65},200,{"$f":"ROUND(E79*$G79/1000,0)","v":13},{"$f":"ROUND(F79*$G79/1000,0)","v":13}]
[null,"강성",null,{"$f":"VLOOKUP($B80,[3]계획인구!$C$1:$AA$65536,12,FALSE)","v":34},{"$f":"VLOOKUP($B80,[3]계획인구!$C$1:$AA$65536,22,FALSE)","v":61},{"$f":"VLOOKUP($B80,[3]계획인구!$C$1:$AA$65536,23,FALSE)","v":61},200,12,12]
[null,"서당마",null,{"$f":"VLOOKUP($B81,[3]계획인구!$C$1:$AA$65536,12,FALSE)","v":31},{"$f":"VLOOKUP($B81,[3]계획인구!$C$1:$AA$65536,22,FALSE)","v":56},{"$f":"VLOOKUP($B81,[3]계획인구!$C$1:$AA$65536,23,FALSE)","v":55},200,11,11]
[null,"관동",null,{"$f":"VLOOKUP($B82,[3]계획인구!$C$1:$AA$65536,12,FALSE)","v":29},{"$f":"VLOOKUP($B82,[3]계획인구!$C$1:$AA$65536,22,FALSE)","v":79},{"$f":"VLOOKUP($B82,[3]계획인구!$C$1:$AA$65536,23,FALSE)","v":78},200,16,16]
[null,"황각",null,{"$f":"VLOOKUP($B83,[3]계획인구!$C$1:$AA$65536,12,FALSE)","v":79},{"$f":"VLOOKUP($B83,[3]계획인구!$C$1:$AA$65536,22,FALSE)","v":183},{"$f":"VLOOKUP($B83,[3]계획인구!$C$1:$AA$65536,23,FALSE)","v":182},200,37,36]
[null,"냉수정",null,{"$f":"VLOOKUP($B84,[3]계획인구!$C$1:$AA$65536,12,FALSE)","v":11},{"$f":"VLOOKUP($B84,[3]계획인구!$C$1:$AA$65536,22,FALSE)","v":24},{"$f":"VLOOKUP($B84,[3]계획인구!$C$1:$AA$65536,23,FALSE)","v":24},200,5,5]
[null,"양지마",null,{"$f":"VLOOKUP($B85,[3]계획인구!$C$1:$AA$65536,12,FALSE)","v":11},{"$f":"VLOOKUP($B85,[3]계획인구!$C$1:$AA$65536,22,FALSE)","v":21},{"$f":"VLOOKUP($B85,[3]계획인구!$C$1:$AA$65536,23,FALSE)","v":21},200,4,4]
[null,"모산(구성)",null,{"$f":"VLOOKUP($B86,[3]계획인구!$C$1:$AA$65536,12,FALSE)","v":43},{"$f":"VLOOKUP($B86,[3]계획인구!$C$1:$AA$65536,22,FALSE)","v":96},{"$f":"VLOOKUP($B86,[3]계획인구!$C$1:$AA$65536,23,FALSE)","v":95},200,19,19]
["월곡","다레실",{"$f":"ROUNDUP(I87,-1)","v":40},{"$f":"VLOOKUP($B87,[3]계획인구!$C$1:$AA$65536,12,FALSE)","v":74},{"$f":"VLOOKUP($B87,[3]계획인구!$C$1:$AA$65536,22,FALSE)","v":156},{"$f":"VLOOKUP($B87,[3]계획인구!$C$1:$AA$65536,23,FALSE)","v":154},200,{"$f":"ROUND(E87*$G87/1000,0)","v":31},{"$f":"ROUND(F87*$G87/1000,0)","v":31}]
["월매","소  계",40,{"$f":"SUM(D89:D91)","v":101},{"$f":"SUM(E89:E91)","v":189},187,null,{"$f":"SUM(H89:H91)","v":37},37]
[null,"화전",null,{"$f":"VLOOKUP($B89,[3]계획인구!$C$1:$AA$65536,12,FALSE)","v":40},{"$f":"VLOOKUP($B89,[3]계획인구!$C$1:$AA$65536,22,FALSE)","v":76},{"$f":"VLOOKUP($B89,[3]계획인구!$C$1:$AA$65536,23,FALSE)","v":75},200,{"$f":"ROUND(E89*$G89/1000,0)","v":15},15]
[null,"광신원",null,{"$f":"VLOOKUP($B90,[3]계획인구!$C$1:$AA$65536,12,FALSE)","v":39},{"$f":"VLOOKUP($B90,[3]계획인구!$C$1:$AA$65536,22,FALSE)","v":72},{"$f":"VLOOKUP($B90,[3]계획인구!$C$1:$AA$65536,23,FALSE)","v":71},200,14,14]
[null,"달매",null,{"$f":"VLOOKUP($B91,[3]계획인구!$C$1:$AA$65536,12,FALSE)","v":22},{"$f":"VLOOKUP($B91,[3]계획인구!$C$1:$AA$65536,22,FALSE)","v":41},{"$f":"VLOOKUP($B91,[3]계획인구!$C$1:$AA$65536,23,FALSE)","v":41},200,8,8]
["옥동","소  계",{"$f":"ROUNDUP(I92,-1)","v":60},{"$f":"SUM(D93:D96)","v":180},{"$f":"SUM(E93:E96)","v":288},{"$f":"SUM(F93:F96)","v":285},null,{"$f":"SUM(H93:H96)","v":58},{"$f":"SUM(I93:I96)","v":58}]
[null,"금포",null,{"$f":"VLOOKUP($B93,[3]계획인구!$C$1:$AA$65536,12,FALSE)","v":32},{"$f":"VLOOKUP($B93,[3]계획인구!$C$1:$AA$65536,22,FALSE)","v":35},{"$f":"VLOOKUP($B93,[3]계획인구!$C$1:$AA$65536,23,FALSE)","v":34},200,{"$f":"ROUND(E93*$G93/1000,0)","v":7},7]
[null,"원황정",null,{"$f":"VLOOKUP($B94,[3]계획인구!$C$1:$AA$65536,12,FALSE)","v":55},{"$f":"VLOOKUP($B94,[3]계획인구!$C$1:$AA$65536,22,FALSE)","v":83},{"$f":"VLOOKUP($B94,[3]계획인구!$C$1:$AA$65536,23,FALSE)","v":83},200,17,17]
[null,"옥동",null,{"$f":"VLOOKUP($B95,[3]계획인구!$C$1:$AA$65536,12,FALSE)","v":81},{"$f":"VLOOKUP($B95,[3]계획인구!$C$1:$AA$65536,22,FALSE)","v":151},{"$f":"VLOOKUP($B95,[3]계획인구!$C$1:$AA$65536,23,FALSE)","v":149},200,30,30]
[null,"지소",null,{"$f":"VLOOKUP($B96,[3]계획인구!$C$1:$AA$65536,12,FALSE)","v":12},{"$f":"VLOOKUP($B96,[3]계획인구!$C$1:$AA$65536,22,FALSE)","v":19},{"$f":"VLOOKUP($B96,[3]계획인구!$C$1:$AA$65536,23,FALSE)","v":19},200,4,4]

{"sheet":"경제성검토 총괄","index":2,"n_rows":96,"n_cols":7,"rows_kept":96,"cut":false,"hidden":false,"merged":[[1,0,3,0],[1,1,3,1],[1,2,1,5],[1,6,3,6],[2,2,2,3],[2,4,2,5],[15,2,15,3],[15,4,15,5],[10,2,10,3],[10,4,10,5],[11,2,11,3],[11,4,11,5],[4,0,7,0],[6,2,6,3],[6,4,6,5],[7,2,7,3],[7,4,7,5],[8,0,11,0],[12,0,15,0],[14,2,14,3],[14,4,14,5],[20,0,23,0],[22,2,22,3],[22,4,22,5],[23,2,23,3],[23,4,23,5],[27,2,27,3],[27,4,27,5],[16,0,19,0],[19,2,19,3],[19,4,19,5],[18,2,18,3],[18,4,18,5],[30,2,30,3],[30,4,30,5],[24,0,27,0],[26,2,26,3],[26,4,26,5],[28,0,31,0],[31,2,31,3],[31,4,31,5],[34,2,34,3],[34,4,34,5],[35,2,35,3],[35,4,35,5],[36,0,39,0],[38,2,38,3],[38,4,38,5],[39,2,39,3],[39,4,39,5],[32,0,35,0],[58,2,58,3],[58,4,58,5],[52,0,55,0],[54,2,54,3],[54,4,54,5],[56,0,59,0],[59,2,59,3],[59,4,59,5],[46,4,46,5],[48,0,51,0],[50,2,50,3],[50,4,50,5],[51,2,51,3],[51,4,51,5],[47,2,47,3],[47,4,47,5],[67,2,67,3],[67,4,67,5],[55,2,55,3],[55,4,55,5],[60,0,63,0],[62,2,62,3],[62,4,62,5],[63,2,63,3],[63,4,63,5],[64,0,67,0],[66,2,66,3],[66,4,66,5],[40,0,43,0],[42,2,42,3],[42,4,42,5],[43,2,43,3],[43,4,43,5],[44,0,47,0],[46,2,46,3],[76,6,79,6],[80,6,83,6],[68,0,71,0],[70,2,70,3],[70,4,70,5],[71,2,71,3],[71,4,71,5],[72,0,75,0],[74,2,74,3],[74,4,74,5],[75,2,75,3],[75,4,75,5],[68,6,71,6],[72,6,75,6],[76,0,79,0],[78,2,78,3],[78,4,78,5],[79,2,79,3],[79,4,79,5],[80,0,83,0],[82,2,82,3],[82,4,82,5],[83,2,83,3],[83,4,83,5],[92,0,95,0],[94,2,94,3],[94,4,94,5],[95,2,95,3],[95,4,95,5],[92,6,95,6],[84,0,87,0],[86,2,86,3],[86,4,86,5],[87,2,87,3],[87,4,87,5],[88,0,91,0],[90,2,90,3],[90,4,90,5],[91,2,91,3],[91,4,91,5],[84,6,87,6],[88,6,91,6],[40,6,43,6],[44,6,47,6],[48,6,51,6],[52,6,55,6],[56,6,59,6],[60,6,63,6],[64,6,67,6],[4,6,7,6],[8,6,11,6],[12,6,15,6],[16,6,19,6],[20,6,23,6],[24,6,27,6],[28,6,31,6],[32,6,35,6],[36,6,39,6]]}
["5.3 소규모 하수도 경제성 평가결과"]
["시설명","구 분","처리 비용 (현재가치) (단위: 백만원)",null,null,null,"비 고"]
[null,null,"개별처리",null,"집합처리"]
[null,null,"건설비","유지관리비","건설비","유지관리비"]
["황소","처리시설",{"$f":"황소!$B$49","v":1069.955078125},{"$f":"황소!$C$49","v":2056.630615234375},{"$f":"황소!$D$49","v":978.8519287109375},{"$f":"황소!$E$49","v":278.17498779296875}]
[null,"관거",null,null,{"$f":"황소!$D$50","v":1253.044189453125},{"$f":"황소!$E$50","v":194.73255920410156}]
[null,"합계",{"$f":"SUM(C5:D6)","v":3126.585693359375},null,{"$f":"SUM(E5:F6)","v":2704.8036651611328}]
[null,"경제성평가",{"$f":"IF($C7>$E7,\"-\",\"◎\")","v":"-"},null,{"$f":"IF($C7<$E7,\"-\",\"◎\")","v":"◎"}]
["봉곡","처리시설",{"$f":"봉곡!$B$49","v":3081.074462890625},{"$f":"봉곡!$C$49","v":5922.33447265625},{"$f":"봉곡!$D$49","v":2048.4521484375},{"$f":"봉곡!$E$49","v":758.81640625}]
[null,"관거",null,null,{"$f":"봉곡!$D$50","v":3451.39208984375},{"$f":"봉곡!$E$50","v":652.11529541015625}]
[null,"합계",{"$f":"SUM(C9:D10)","v":9003.408935546875},null,{"$f":"SUM(E9:F10)","v":6910.7759399414062}]
[null,"경제성평가",{"$f":"IF($C11>$E11,\"-\",\"◎\")","v":"-"},null,{"$f":"IF($C11<$E11,\"-\",\"◎\")","v":"◎"}]
["운곡","처리시설",{"$f":"운곡!$B$49","v":1505.8626708984375},{"$f":"운곡!$C$49","v":2894.517333984375},{"$f":"운곡!$D$49","v":1242.6353759765625},{"$f":"운곡!$E$49","v":384.71475219726562}]
[null,"관거",null,null,{"$f":"운곡!$D$50","v":1145.93212890625},{"$f":"운곡!$E$50","v":172.44709777832031}]
[null,"합계",{"$f":"SUM(C13:D14)","v":4400.3800048828125},null,{"$f":"SUM(E13:F14)","v":2945.7293548583984}]
[null,"경제성평가",{"$f":"IF($C15>$E15,\"-\",\"◎\")","v":"-"},null,{"$f":"IF($C15<$E15,\"-\",\"◎\")","v":"◎"}]
["초곡","처리시설",{"$f":"초곡!$B$49","v":1248.2808837890625},{"$f":"초곡!$C$49","v":2399.40234375},{"$f":"초곡!$D$49","v":1090.082275390625},{"$f":"초곡!$E$49","v":321.98617553710937}]
[null,"관거",null,null,{"$f":"초곡!$D$50","v":1147.207275390625},{"$f":"초곡!$E$50","v":172.71240234375}]
[null,"합계",{"$f":"SUM(C17:D18)","v":3647.6832275390625},null,{"$f":"SUM(E17:F18)","v":2731.9881286621094}]
[null,"경제성평가",{"$f":"IF($C19>$E19,\"-\",\"◎\")","v":"-"},null,{"$f":"IF($C19<$E19,\"-\",\"◎\")","v":"◎"}]
["구야","처리시설",{"$f":"구야!$B$49","v":2397.491943359375},{"$f":"구야!$C$49","v":4608.3759765625},{"$f":"구야!$D$49","v":1719.334716796875},{"$f":"구야!$E$49","v":598.09429931640625}]
[null,"관거",null,null,{"$f":"구야!$D$50","v":2700.332275390625},{"$f":"구야!$E$50","v":495.85171508789062}]
[null,"합계",{"$f":"SUM(C21:D22)","v":7005.867919921875},null,{"$f":"SUM(E21:F22)","v":5513.6130065917969}]
[null,"경제성평가",{"$f":"IF($C23>$E23,\"-\",\"◎\")","v":"-"},null,{"$f":"IF($C23<$E23,\"-\",\"◎\")","v":"◎"}]
["문무","처리시설",{"$f":"문무!$B$49","v":1159.117919921875},{"$f":"문무!$C$49","v":2228.0166015625},{"$f":"문무!$D$49","v":1035.1134033203125},{"$f":"문무!$E$49","v":300.123779296875}]
[null,"관거",null,null,{"$f":"문무!$D$50","v":1274.7216796875},{"$f":"문무!$E$50","v":199.24272155761719}]
[null,"합계",{"$f":"SUM(C25:D26)","v":3387.134521484375},null,{"$f":"SUM(E25:F26)","v":2809.2015838623047}]
[null,"경제성평가",{"$f":"IF($C27>$E27,\"-\",\"◎\")","v":"-"},null,{"$f":"IF($C27<$E27,\"-\",\"◎\")","v":"◎"}]
["남곡","처리시설",{"$f":"남곡!$B$49","v":1278.0018310546875},{"$f":"남곡!$C$49","v":2456.531005859375},{"$f":"남곡!$D$49","v":1108.13916015625},{"$f":"남곡!$E$49","v":329.255615234375}]
[null,"관거",null,null,{"$f":"남곡!$D$50","v":915.131103515625},{"$f":"남곡!$E$50","v":124.42721557617187}]
[null,"합계",{"$f":"SUM(C29:D30)","v":3734.5328369140625},null,{"$f":"SUM(E29:F30)","v":2476.9530944824219}]
[null,"경제성평가",{"$f":"IF($C31>$E31,\"-\",\"◎\")","v":"-"},null,{"$f":"IF($C31<$E31,\"-\",\"◎\")","v":"◎"}]
["던돌마","처리시설",{"$f":"던돌마!$B$49","v":1367.164794921875},{"$f":"던돌마!$C$49","v":2627.9169921875},{"$f":"던돌마!$D$49","v":1161.566650390625},{"$f":"던돌마!$E$49","v":351.01275634765625}]
[null,"관거",null,null,{"$f":"던돌마!$D$50","v":2028.756591796875},{"$f":"던돌마!$E$50","v":356.1253662109375}]
[null,"합계",{"$f":"SUM(C33:D34)","v":3995.081787109375},null,{"$f":"SUM(E33:F34)","v":3897.4613647460937}]
[null,"경제성평가",{"$f":"IF($C35>$E35,\"-\",\"◎\")","v":"-"},null,{"$f":"IF($C35<$E35,\"-\",\"◎\")","v":"◎"}]
["덕남","처리시설",{"$f":"덕남!$B$49","v":4042.052490234375},{"$f":"덕남!$C$49","v":7769.49365234375},{"$f":"덕남!$D$49","v":2475.959228515625},{"$f":"덕남!$E$49","v":981.74798583984375}]
[null,"관거",null,null,{"$f":"덕남!$D$50","v":5098.02734375},{"$f":"덕남!$E$50","v":994.710205078125}]
[null,"합계",{"$f":"SUM(C37:D38)","v":11811.546142578125},null,{"$f":"SUM(E37:F38)","v":9550.4447631835937}]
[null,"경제성평가",{"$f":"IF($C39>$E39,\"-\",\"◎\")","v":"-"},null,{"$f":"IF($C39<$E39,\"-\",\"◎\")","v":"◎"}]
["대양","처리시설",{"$f":"대양!$B$49","v":941.1641845703125},{"$f":"대양!$C$49","v":1809.0732421875},{"$f":"대양!$D$49","v":895.008544921875},{"$f":"대양!$E$49","v":246.30305480957031}]
[null,"관거",null,null,{"$f":"대양!$D$50","v":1531.4505615234375},{"$f":"대양!$E$50","v":252.6571044921875}]
[null,"합계",{"$f":"SUM(C41:D42)","v":2750.2374267578125},null,{"$f":"SUM(E41:F42)","v":2925.4192657470703}]
[null,"경제성평가",{"$f":"IF($C43>$E43,\"-\",\"◎\")","v":"◎"},null,{"$f":"IF($C43<$E43,\"-\",\"◎\")","v":"-"}]
["옥율","처리시설",{"$f":"옥율!$B$49","v":1020.4201049804687},{"$f":"옥율!$C$49","v":1961.416259765625},{"$f":"옥율!$D$49","v":946.98583984375},{"$f":"옥율!$E$49","v":265.94119262695312}]
[null,"관거",null,null,{"$f":"옥율!$D$50","v":1109.8031005859375},{"$f":"옥율!$E$50","v":164.93016052246094}]
[null,"합계",{"$f":"SUM(C45:D46)","v":2981.8363647460937},null,{"$f":"SUM(E45:F46)","v":2487.6602935791016}]
[null,"경제성평가",{"$f":"IF($C47>$E47,\"-\",\"◎\")","v":"-"},null,{"$f":"IF($C47<$E47,\"-\",\"◎\")","v":"◎"}]
["능치","처리시설",{"$f":"능치!$B$49","v":3705.21484375},{"$f":"능치!$C$49","v":7122.0361328125},{"$f":"능치!$D$49","v":2330.01904296875},{"$f":"능치!$E$49","v":903.9537353515625}]
[null,"관거",null,null,{"$f":"능치!$D$50","v":4150.595703125},{"$f":"능치!$E$50","v":797.58990478515625}]
[null,"합계",{"$f":"SUM(C49:D50)","v":10827.2509765625},null,{"$f":"SUM(E49:F50)","v":8182.1583862304687}]
[null,"경제성평가",{"$f":"IF($C51>$E51,\"-\",\"◎\")","v":"-"},null,{"$f":"IF($C51<$E51,\"-\",\"◎\")","v":"◎"}]
["도암","처리시설",{"$f":"도암!$B$49","v":2962.1904296875},{"$f":"도암!$C$49","v":5693.8203125},{"$f":"도암!$D$49","v":1992.939697265625},{"$f":"도암!$E$49","v":731.008544921875}]
[null,"관거",null,null,{"$f":"도암!$D$50","v":3682.19287109375},{"$f":"도암!$E$50","v":700.13519287109375}]
[null,"합계",{"$f":"SUM(C53:D54)","v":8656.0107421875},null,{"$f":"SUM(E53:F54)","v":7106.2763061523437}]
[null,"경제성평가",{"$f":"IF($C55>$E55,\"-\",\"◎\")","v":"-"},null,{"$f":"IF($C55<$E55,\"-\",\"◎\")","v":"◎"}]
["태화","처리시설",{"$f":"태화!$B$49","v":1753.537353515625},{"$f":"태화!$C$49","v":3370.589111328125},{"$f":"태화!$D$49","v":1382.023681640625},{"$f":"태화!$E$49","v":444.51116943359375}]
[null,"관거",null,null,{"$f":"태화!$D$50","v":2383.671630859375},{"$f":"태화!$E$50","v":429.96810913085937}]
[null,"합계",{"$f":"SUM(C57:D58)","v":5124.12646484375},null,{"$f":"SUM(E57:F58)","v":4640.1745910644531}]
[null,"경제성평가",{"$f":"IF($C59>$E59,\"-\",\"◎\")","v":"-"},null,{"$f":"IF($C59<$E59,\"-\",\"◎\")","v":"◎"}]
["신암","처리시설",{"$f":"신암!$B$49","v":2001.212158203125},{"$f":"신암!$C$49","v":3846.6611328125},{"$f":"신암!$D$49","v":1515.5731201171875},{"$f":"신암!$E$49","v":503.875244140625}]
[null,"관거",null,null,{"$f":"신암!$D$50","v":2620.42333984375},{"$f":"신암!$E$50","v":479.22604370117187}]
[null,"합계",{"$f":"SUM(C61:D62)","v":5847.873291015625},null,{"$f":"SUM(E61:F62)","v":5119.0977478027344}]
[null,"경제성평가",{"$f":"IF($C63>$E63,\"-\",\"◎\")","v":"-"},null,{"$f":"IF($C63<$E63,\"-\",\"◎\")","v":"◎"}]
["광기","처리시설",{"$f":"광기!$B$49","v":2130.003173828125},{"$f":"광기!$C$49","v":4094.218505859375},{"$f":"광기!$D$49","v":1583.02978515625},{"$f":"광기!$E$49","v":534.59295654296875}]
[null,"관거",null,null,{"$f":"광기!$D$50","v":2618.72314453125},{"$f":"광기!$E$50","v":478.87234497070312}]
[null,"합계",{"$f":"SUM(C65:D66)","v":6224.2216796875},null,{"$f":"SUM(E65:F66)","v":5215.2182312011719}]
[null,"경제성평가",{"$f":"IF($C67>$E67,\"-\",\"◎\")","v":"-"},null,{"$f":"IF($C67<$E67,\"-\",\"◎\")","v":"◎"}]
["무안","처리시설",{"$f":"무안!$B$49","v":1050.14111328125},{"$f":"무안!$C$49","v":2018.544921875},{"$f":"무안!$D$49","v":966.16015625},{"$f":"무안!$E$49","v":273.28506469726562}]
[null,"관거",null,null,{"$f":"무안!$D$50","v":1685.31787109375},{"$f":"무안!$E$50","v":284.67034912109375}]
[null,"합계",{"$f":"SUM(C69:D70)","v":3068.68603515625},null,{"$f":"SUM(E69:F70)","v":3209.4334411621094}]
[null,"경제성평가",{"$f":"IF($C71>$E71,\"-\",\"◎\")","v":"◎"},null,{"$f":"IF($C71<$E71,\"-\",\"◎\")","v":"-"}]
["신안","처리시설",{"$f":"신안!$B$49","v":2367.77099609375},{"$f":"신안!$C$49","v":4551.24755859375},{"$f":"신안!$D$49","v":1704.42529296875},{"$f":"신안!$E$49","v":591.05731201171875}]
[null,"관거",null,null,{"$f":"신안!$D$50","v":2833.372314453125},{"$f":"신안!$E$50","v":523.53167724609375}]
[null,"합계",{"$f":"SUM(C73:D74)","v":6919.0185546875},null,{"$f":"SUM(E73:F74)","v":5652.3865966796875}]
[null,"경제성평가",{"$f":"IF($C75>$E75,\"-\",\"◎\")","v":"-"},null,{"$f":"IF($C75<$E75,\"-\",\"◎\")","v":"◎"}]
["대평","처리시설",{"$f":"대평!$B$49","v":1377.07177734375},{"$f":"대평!$C$49","v":2646.9599609375},{"$f":"대평!$D$49","v":1167.4371337890625},{"$f":"대평!$E$49","v":353.4256591796875}]
[null,"관거",null,null,{"$f":"대평!$D$50","v":1702.744873046875},{"$f":"대평!$E$50","v":288.29617309570312}]
[null,"합계",{"$f":"SUM(C77:D78)","v":4024.03173828125},null,{"$f":"SUM(E77:F78)","v":3511.9038391113281}]
[null,"경제성평가",{"$f":"IF($C79>$E79,\"-\",\"◎\")","v":"-"},null,{"$f":"IF($C79<$E79,\"-\",\"◎\")","v":"◎"}]
["하강","처리시설",{"$f":"하강!$B$49","v":2635.259765625},{"$f":"하강!$C$49","v":5065.4052734375},{"$f":"하강!$D$49","v":1836.6776123046875},{"$f":"하강!$E$49","v":654.234375}]
[null,"관거",null,null,{"$f":"하강!$D$50","v":3738.29931640625},{"$f":"하강!$E$50","v":711.80853271484375}]
[null,"합계",{"$f":"SUM(C81:D82)","v":7700.6650390625},null,{"$f":"SUM(E81:F82)","v":6941.0198364257812}]
[null,"경제성평가",{"$f":"IF($C83>$E83,\"-\",\"◎\")","v":"-"},null,{"$f":"IF($C83<$E83,\"-\",\"◎\")","v":"◎"}]
["월곡","처리시설",{"$f":"월곡!$B$49","v":733.11737060546875},{"$f":"월곡!$C$49","v":1409.1728515625},{"$f":"월곡!$D$49","v":751.7581787109375},{"$f":"월곡!$E$49","v":194.32679748535156}]
[null,"관거",null,null,{"$f":"월곡!$D$50","v":942.75927734375},{"$f":"월곡!$E$50","v":130.17544555664062}]
[null,"합계",{"$f":"SUM(C85:D86)","v":2142.2902221679687},null,{"$f":"SUM(E85:F86)","v":2019.0196990966797}]
[null,"경제성평가",{"$f":"IF($C87>$E87,\"-\",\"◎\")","v":"-"},null,{"$f":"IF($C87<$E87,\"-\",\"◎\")","v":"◎"}]
["월매","처리시설",{"$f":"월매!$B$49","v":1000.6060791015625},{"$f":"월매!$C$49","v":1923.33056640625},{"$f":"월매!$D$49","v":934.109375},{"$f":"월매!$E$49","v":261.03921508789062}]
[null,"관거",null,null,{"$f":"월매!$D$50","v":2017.2802734375},{"$f":"월매!$E$50","v":353.73764038085937}]
[null,"합계",{"$f":"SUM(C89:D90)","v":2923.9366455078125},null,{"$f":"SUM(E89:F90)","v":3566.16650390625}]
[null,"경제성평가",{"$f":"IF($C91>$E91,\"-\",\"◎\")","v":"◎"},null,{"$f":"IF($C91<$E91,\"-\",\"◎\")","v":"-"}]
["옥동","처리시설",{"$f":"옥동!$B$49","v":1783.258544921875},{"$f":"옥동!$C$49","v":3427.7177734375},{"$f":"옥동!$D$49","v":1398.3369140625},{"$f":"옥동!$E$49","v":451.65643310546875}]
[null,"관거",null,null,{"$f":"옥동!$D$50","v":2789.167236328125},{"$f":"옥동!$E$50","v":514.33453369140625}]
[null,"합계",{"$f":"SUM(C93:D94)","v":5210.976318359375},null,{"$f":"SUM(E93:F94)","v":5153.4951171875}]
[null,"경제성평가",{"$f":"IF($C95>$E95,\"-\",\"◎\")","v":"-"},null,{"$f":"IF($C95<$E95,\"-\",\"◎\")","v":"◎"}]

{"sheet":"황소","index":3,"n_rows":54,"n_cols":11,"rows_kept":54,"cut":false,"hidden":false,"merged":[[19,0,19,6],[0,0,0,6],[1,0,1,6],[2,0,2,6],[4,0,4,6],[6,0,6,6],[8,0,8,6],[10,0,10,6],[12,0,12,6],[13,0,13,6],[15,0,15,6],[17,0,17,6],[41,0,41,2],[21,0,21,6],[23,0,23,6],[24,0,24,6],[25,0,25,6],[27,0,27,6],[29,0,29,6],[31,0,31,6],[33,0,33,6],[35,0,35,6],[37,0,37,6],[39,0,39,6],[51,1,51,4],[52,1,52,4],[53,1,53,4],[45,0,47,0],[45,1,45,4],[46,1,46,2],[46,3,46,4],[50,1,50,2],[50,3,50,4]]}
["경제성 평가 일반 - 집합처리와 개별처리의 비교",null,null,null,null,null,null,null,"황소"]
["개요: 하수처리구역 설정 시 처리구역으로 설정하여 집합처리하는 것과, 처리구역으로 설정하지 않고 개별처리하는 것이 어느 것이 더 경제적인가? "]
["※아래 질문에 대한 답을 오른쪽 노란 칸에 적어 주십시오. 질문에 대한 답을 하실 수 없는 경우에는 파란색 빈칸에 있는 숫자를 노란색 칸에 적어 주십시오"]
[]
["1. 하수처리구역의 목표 BOD를 선택해 주십시오."]
[]
["2. 대상지역의 예상 가구수는 몇 가구입니까?",null,null,null,null,null,null,null,{"$f":"VLOOKUP($I$1,'검토 시설개요'!$A:$H,3,FALSE)","v":108}]
[]
["3. 대상지역에 집합처리시설을 건설할 경우 필요한 하수관거거리는 몇 미터입니까?",null,null,null,null,null,null,null,{"$f":"VLOOKUP($I$1,'검토 시설개요'!$A:$H,8,FALSE)","v":2202}]
[]
["4. 계획 중인 집합처리시설의 건설비는 얼마입니까? (단위: 백만원)",null,null,null,null,null,null,null,{"$f":"K11","v":555.4160957552325},null,{"$f":"30.184*(0.6*I7)^0.6982","v":555.4160957552325}]
[]
["5. 위 건설비 중 기계 및 전기시설의 비중은 얼마입니까?",null,null,null,null,null,null,null,{"$f":"K13","v":0.5},null,0.5]
["   (나머지는 건축비, 단지조성비 등 구조물 비용입니다)",null,null,null,null,null,null,null," "]
[]
["6. 계획 중인 집합처리시설의 연간 유지관리비는 얼마입니까? (단위: 백만원)",null,null,null,null,null,null,null,{"$f":"K16","v":9.4366553166068066},null,{"$f":"0.1803*(0.6*I7)^0.9488","v":9.4366553166068066}]
[]
["7. 계획 중인 집합처리시설 기계 및 전기시설의 내구연한은 얼마입니까? (단위: 년)",null,null,null,null,null,null,null,{"$f":"K18","v":15},null,15]
[]
["8. 계획 중인 집합처리시설  구조물의 내구연한은 얼마입니까? (단위: 년)",null,null,null,null,null,null,null,{"$f":"K20","v":50},null,50]
[]
["9. 대상지역에 개인하수처리시설(1톤/일)을 설치할 경우 건설비는 얼마입니까? (단위: 백만원)",null,null,null,null,null,null,null,{"$f":"K22","v":4.16},null,4.16]
[]
["10. 개인하수처리시설 건설비 중 기계 및 전기시설의 비중은 얼마입니까?",null,null,null,null,null,null,null,{"$f":"K24","v":0.5},null,0.5]
["   (나머지는 건축비 등 구조물 비용입니다)"]
["11. 개인하수처리시설의 연간 유지관리비는 어느 정도입니까? (단위: 백만원)",null,null,null,null,null,null,null,{"$f":"K26","v":0.64600000000000002},null,0.64600000000000002]
[]
["12. 개인하수처리시설 기계 및 전기시설의 내구연한은 얼마입니까? (단위: 년)",null,null,null,null,null,null,null,{"$f":"K28","v":10},null,10]
[]
["13. 개인하수처리시설 구조물의 내구연한은 얼마입니까? (단위: 년)",null,null,null,null,null,null,null,{"$f":"K30","v":30},null,30]
[]
["14. 집합처리 시 하수관거의 총 건설비는 얼마입니까? (단위: 백만원)",null,null,null,null,null,null,null,{"$f":"K32","v":905.9226000000001},null,{"$f":"229.248+0.3073*I9","v":905.9226000000001}]
[]
["15. 하수관거의 연간 유지관리비는 얼마입니까? (단위: 백만원)",null,null,null,null,null,null,null,{"$f":"K34","v":6.6059999999999999},null,{"$f":"0.003*I9","v":6.6059999999999999}]
[]
["16. 하수관거의 내구연한은 얼마입니까? (단위: 년)",null,null,null,null,null,null,null,{"$f":"K36","v":40},null,40]
[]
["17. 할인율은 얼마입니까? (단위: %)",null,null,null,null,null,null,null,5.5,null,5.5]
[]
["18. 향후 50년간 물가상승률은 어느정도로 예상합니까? (단위: %)",null,null,null,null,null,null,null,{"$f":"K40","v":3},null,3]
[]
[]
[]
[]
[]
["구 분","처리 비용 (현재가치) (단위: 백만원)"]
[null,"개별처리",null,"집합처리"]
[null,"건설비","유지관리비","건설비","유지관리비"]
["처리시설",1069.955078125,2056.630615234375,978.8519287109375,278.17498779296875]
["관거",null,null,1253.044189453125,194.73255920410156]
["합계",3126.585693359375,null,2704.8037109375]
["총기준관거거리(m)",3023.4150390625]
["기준관거거리(m)",27.994583129882813]
["경제성 평가","집합처리"]

{"sheet":"봉곡","index":4,"n_rows":54,"n_cols":11,"rows_kept":54,"cut":false,"hidden":false,"merged":[[19,0,19,6],[0,0,0,6],[1,0,1,6],[2,0,2,6],[4,0,4,6],[6,0,6,6],[8,0,8,6],[10,0,10,6],[12,0,12,6],[13,0,13,6],[15,0,15,6],[17,0,17,6],[41,0,41,2],[21,0,21,6],[23,0,23,6],[24,0,24,6],[25,0,25,6],[27,0,27,6],[29,0,29,6],[31,0,31,6],[33,0,33,6],[35,0,35,6],[37,0,37,6],[39,0,39,6],[51,1,51,4],[52,1,52,4],[53,1,53,4],[45,0,47,0],[45,1,45,4],[46,1,46,2],[46,3,46,4],[50,1,50,2],[50,3,50,4]]}
["경제성 평가 일반 - 집합처리와 개별처리의 비교",null,null,null,null,null,null,null,"봉곡"]
["개요: 하수처리구역 설정 시 처리구역으로 설정하여 집합처리하는 것과, 처리구역으로 설정하지 않고 개별처리하는 것이 어느 것이 더 경제적인가? "]
["※아래 질문에 대한 답을 오른쪽 노란 칸에 적어 주십시오. 질문에 대한 답을 하실 수 없는 경우에는 파란색 빈칸에 있는 숫자를 노란색 칸에 적어 주십시오"]
[]
["1. 하수처리구역의 목표 BOD를 선택해 주십시오."]
[]
["2. 대상지역의 예상 가구수는 몇 가구입니까?",null,null,null,null,null,null,null,{"$f":"VLOOKUP($I$1,'검토 시설개요'!$A:$H,3,FALSE)","v":311}]
[]
["3. 대상지역에 집합처리시설을 건설할 경우 필요한 하수관거거리는 몇 미터입니까?",null,null,null,null,null,null,null,{"$f":"VLOOKUP($I$1,'검토 시설개요'!$A:$H,8,FALSE)","v":7374}]
[]
["4. 계획 중인 집합처리시설의 건설비는 얼마입니까? (단위: 백만원)",null,null,null,null,null,null,null,{"$f":"K11","v":1162.3242502273442},null,{"$f":"30.184*(0.6*I7)^0.6982","v":1162.3242502273442}]
[]
["5. 위 건설비 중 기계 및 전기시설의 비중은 얼마입니까?",null,null,null,null,null,null,null,{"$f":"K13","v":0.5},null,0.5]
["   (나머지는 건축비, 단지조성비 등 구조물 비용입니다)",null,null,null,null,null,null,null," "]
[]
["6. 계획 중인 집합처리시설의 연간 유지관리비는 얼마입니까? (단위: 백만원)",null,null,null,null,null,null,null,{"$f":"K16","v":25.741668322810497},null,{"$f":"0.1803*(0.6*I7)^0.9488","v":25.741668322810497}]
[]
["7. 계획 중인 집합처리시설 기계 및 전기시설의 내구연한은 얼마입니까? (단위: 년)",null,null,null,null,null,null,null,{"$f":"K18","v":15},null,15]
[]
["8. 계획 중인 집합처리시설  구조물의 내구연한은 얼마입니까? (단위: 년)",null,null,null,null,null,null,null,{"$f":"K20","v":50},null,50]
[]
["9. 대상지역에 개인하수처리시설(1톤/일)을 설치할 경우 건설비는 얼마입니까? (단위: 백만원)",null,null,null,null,null,null,null,{"$f":"K22","v":4.16},null,4.16]
[]
["10. 개인하수처리시설 건설비 중 기계 및 전기시설의 비중은 얼마입니까?",null,null,null,null,null,null,null,{"$f":"K24","v":0.5},null,0.5]
["   (나머지는 건축비 등 구조물 비용입니다)"]
["11. 개인하수처리시설의 연간 유지관리비는 어느 정도입니까? (단위: 백만원)",null,null,null,null,null,null,null,{"$f":"K26","v":0.64600000000000002},null,0.64600000000000002]
[]
["12. 개인하수처리시설 기계 및 전기시설의 내구연한은 얼마입니까? (단위: 년)",null,null,null,null,null,null,null,{"$f":"K28","v":10},null,10]
[]
["13. 개인하수처리시설 구조물의 내구연한은 얼마입니까? (단위: 년)",null,null,null,null,null,null,null,{"$f":"K30","v":30},null,30]
[]
["14. 집합처리 시 하수관거의 총 건설비는 얼마입니까? (단위: 백만원)",null,null,null,null,null,null,null,{"$f":"K32","v":2495.2782000000002},null,{"$f":"229.248+0.3073*I9","v":2495.2782000000002}]
[]
["15. 하수관거의 연간 유지관리비는 얼마입니까? (단위: 백만원)",null,null,null,null,null,null,null,{"$f":"K34","v":22.122},null,{"$f":"0.003*I9","v":22.122}]
[]
["16. 하수관거의 내구연한은 얼마입니까? (단위: 년)",null,null,null,null,null,null,null,{"$f":"K36","v":40},null,40]
[]
["17. 할인율은 얼마입니까? (단위: %)",null,null,null,null,null,null,null,5.5,null,5.5]
[]
["18. 향후 50년간 물가상승률은 어느정도로 예상합니까? (단위: %)",null,null,null,null,null,null,null,{"$f":"K40","v":3},null,3]
[]
[]
[]
[]
[]
["구 분","처리 비용 (현재가치) (단위: 백만원)"]
[null,"개별처리",null,"집합처리"]
[null,"건설비","유지관리비","건설비","유지관리비"]
["처리시설",3081.074462890625,5922.33447265625,2048.4521484375,758.81640625]
["관거",null,null,3451.39208984375,652.11529541015625]
["합계",9003.4091796875,null,6910.77587890625]
["총기준관거거리(m)",11449.3759765625]
["기준관거거리(m)",36.814712524414063]
["경제성 평가","집합처리"]

{"sheet":"운곡","index":5,"n_rows":54,"n_cols":11,"rows_kept":54,"cut":false,"hidden":false,"merged":[[19,0,19,6],[0,0,0,6],[1,0,1,6],[2,0,2,6],[4,0,4,6],[6,0,6,6],[8,0,8,6],[10,0,10,6],[12,0,12,6],[13,0,13,6],[15,0,15,6],[17,0,17,6],[41,0,41,2],[21,0,21,6],[23,0,23,6],[24,0,24,6],[25,0,25,6],[27,0,27,6],[29,0,29,6],[31,0,31,6],[33,0,33,6],[35,0,35,6],[37,0,37,6],[39,0,39,6],[51,1,51,4],[52,1,52,4],[53,1,53,4],[45,0,47,0],[45,1,45,4],[46,1,46,2],[46,3,46,4],[50,1,50,2],[50,3,50,4]]}
["경제성 평가 일반 - 집합처리와 개별처리의 비교",null,null,null,null,null,null,null,"운곡"]
["개요: 하수처리구역 설정 시 처리구역으로 설정하여 집합처리하는 것과, 처리구역으로 설정하지 않고 개별처리하는 것이 어느 것이 더 경제적인가? "]
["※아래 질문에 대한 답을 오른쪽 노란 칸에 적어 주십시오. 질문에 대한 답을 하실 수 없는 경우에는 파란색 빈칸에 있는 숫자를 노란색 칸에 적어 주십시오"]
[]
["1. 하수처리구역의 목표 BOD를 선택해 주십시오."]
[]
["2. 대상지역의 예상 가구수는 몇 가구입니까?",null,null,null,null,null,null,null,{"$f":"VLOOKUP($I$1,'검토 시설개요'!$A:$H,3,FALSE)","v":152}]
[]
["3. 대상지역에 집합처리시설을 건설할 경우 필요한 하수관거거리는 몇 미터입니까?",null,null,null,null,null,null,null,{"$f":"VLOOKUP($I$1,'검토 시설개요'!$A:$H,8,FALSE)","v":1950}]
[]
["4. 계획 중인 집합처리시설의 건설비는 얼마입니까? (단위: 백만원)",null,null,null,null,null,null,null,{"$f":"K11","v":705.0910277149153},null,{"$f":"30.184*(0.6*I7)^0.6982","v":705.0910277149153}]
[]
["5. 위 건설비 중 기계 및 전기시설의 비중은 얼마입니까?",null,null,null,null,null,null,null,{"$f":"K13","v":0.5},null,0.5]
["   (나머지는 건축비, 단지조성비 등 구조물 비용입니다)",null,null,null,null,null,null,null," "]
[]
["6. 계획 중인 집합처리시설의 연간 유지관리비는 얼마입니까? (단위: 백만원)",null,null,null,null,null,null,null,{"$f":"K16","v":13.050850937438986},null,{"$f":"0.1803*(0.6*I7)^0.9488","v":13.050850937438986}]
[]
["7. 계획 중인 집합처리시설 기계 및 전기시설의 내구연한은 얼마입니까? (단위: 년)",null,null,null,null,null,null,null,{"$f":"K18","v":15},null,15]
[]
["8. 계획 중인 집합처리시설  구조물의 내구연한은 얼마입니까? (단위: 년)",null,null,null,null,null,null,null,{"$f":"K20","v":50},null,50]
[]
["9. 대상지역에 개인하수처리시설(1톤/일)을 설치할 경우 건설비는 얼마입니까? (단위: 백만원)",null,null,null,null,null,null,null,{"$f":"K22","v":4.16},null,4.16]
[]
["10. 개인하수처리시설 건설비 중 기계 및 전기시설의 비중은 얼마입니까?",null,null,null,null,null,null,null,{"$f":"K24","v":0.5},null,0.5]
["   (나머지는 건축비 등 구조물 비용입니다)"]
["11. 개인하수처리시설의 연간 유지관리비는 어느 정도입니까? (단위: 백만원)",null,null,null,null,null,null,null,{"$f":"K26","v":0.64600000000000002},null,0.64600000000000002]
[]
["12. 개인하수처리시설 기계 및 전기시설의 내구연한은 얼마입니까? (단위: 년)",null,null,null,null,null,null,null,{"$f":"K28","v":10},null,10]
[]
["13. 개인하수처리시설 구조물의 내구연한은 얼마입니까? (단위: 년)",null,null,null,null,null,null,null,{"$f":"K30","v":30},null,30]
[]
["14. 집합처리 시 하수관거의 총 건설비는 얼마입니까? (단위: 백만원)",null,null,null,null,null,null,null,{"$f":"K32","v":828.48299999999995},null,{"$f":"229.248+0.3073*I9","v":828.48299999999995}]
[]
["15. 하수관거의 연간 유지관리비는 얼마입니까? (단위: 백만원)",null,null,null,null,null,null,null,{"$f":"K34","v":5.8500000000000005},null,{"$f":"0.003*I9","v":5.8500000000000005}]
[]
["16. 하수관거의 내구연한은 얼마입니까? (단위: 년)",null,null,null,null,null,null,null,{"$f":"K36","v":40},null,40]
[]
["17. 할인율은 얼마입니까? (단위: %)",null,null,null,null,null,null,null,5.5,null,5.5]
[]
["18. 향후 50년간 물가상승률은 어느정도로 예상합니까? (단위: %)",null,null,null,null,null,null,null,{"$f":"K40","v":3},null,3]
[]
[]
[]
[]
[]
["구 분","처리 비용 (현재가치) (단위: 백만원)"]
[null,"개별처리",null,"집합처리"]
[null,"건설비","유지관리비","건설비","유지관리비"]
["처리시설",1505.8626708984375,2894.517333984375,1242.6353759765625,384.71475219726562]
["관거",null,null,1145.93212890625,172.44709777832031]
["합계",4400.3798828125,null,2945.729248046875]
["총기준관거거리(m)",4782.91259765625]
["기준관거거리(m)",31.466529846191406]
["경제성 평가","집합처리"]

{"sheet":"초곡","index":6,"n_rows":54,"n_cols":11,"rows_kept":54,"cut":false,"hidden":false,"merged":[[19,0,19,6],[0,0,0,6],[1,0,1,6],[2,0,2,6],[4,0,4,6],[6,0,6,6],[8,0,8,6],[10,0,10,6],[12,0,12,6],[13,0,13,6],[15,0,15,6],[17,0,17,6],[41,0,41,2],[21,0,21,6],[23,0,23,6],[24,0,24,6],[25,0,25,6],[27,0,27,6],[29,0,29,6],[31,0,31,6],[33,0,33,6],[35,0,35,6],[37,0,37,6],[39,0,39,6],[51,1,51,4],[52,1,52,4],[53,1,53,4],[45,0,47,0],[45,1,45,4],[46,1,46,2],[46,3,46,4],[50,1,50,2],[50,3,50,4]]}
["경제성 평가 일반 - 집합처리와 개별처리의 비교",null,null,null,null,null,null,null,"초곡"]
["개요: 하수처리구역 설정 시 처리구역으로 설정하여 집합처리하는 것과, 처리구역으로 설정하지 않고 개별처리하는 것이 어느 것이 더 경제적인가? "]
["※아래 질문에 대한 답을 오른쪽 노란 칸에 적어 주십시오. 질문에 대한 답을 하실 수 없는 경우에는 파란색 빈칸에 있는 숫자를 노란색 칸에 적어 주십시오"]
[]
["1. 하수처리구역의 목표 BOD를 선택해 주십시오."]
[]
["2. 대상지역의 예상 가구수는 몇 가구입니까?",null,null,null,null,null,null,null,{"$f":"VLOOKUP($I$1,'검토 시설개요'!$A:$H,3,FALSE)","v":126}]
[]
["3. 대상지역에 집합처리시설을 건설할 경우 필요한 하수관거거리는 몇 미터입니까?",null,null,null,null,null,null,null,{"$f":"VLOOKUP($I$1,'검토 시설개요'!$A:$H,8,FALSE)","v":1953}]
[]
["4. 계획 중인 집합처리시설의 건설비는 얼마입니까? (단위: 백만원)",null,null,null,null,null,null,null,{"$f":"K11","v":618.52991617659495},null,{"$f":"30.184*(0.6*I7)^0.6982","v":618.52991617659495}]
[]
["5. 위 건설비 중 기계 및 전기시설의 비중은 얼마입니까?",null,null,null,null,null,null,null,{"$f":"K13","v":0.5},null,0.5]
["   (나머지는 건축비, 단지조성비 등 구조물 비용입니다)",null,null,null,null,null,null,null," "]
[]
["6. 계획 중인 집합처리시설의 연간 유지관리비는 얼마입니까? (단위: 백만원)",null,null,null,null,null,null,null,{"$f":"K16","v":10.922881102176802},null,{"$f":"0.1803*(0.6*I7)^0.9488","v":10.922881102176802}]
[]
["7. 계획 중인 집합처리시설 기계 및 전기시설의 내구연한은 얼마입니까? (단위: 년)",null,null,null,null,null,null,null,{"$f":"K18","v":15},null,15]
[]
["8. 계획 중인 집합처리시설  구조물의 내구연한은 얼마입니까? (단위: 년)",null,null,null,null,null,null,null,{"$f":"K20","v":50},null,50]
[]
["9. 대상지역에 개인하수처리시설(1톤/일)을 설치할 경우 건설비는 얼마입니까? (단위: 백만원)",null,null,null,null,null,null,null,{"$f":"K22","v":4.16},null,4.16]
[]
["10. 개인하수처리시설 건설비 중 기계 및 전기시설의 비중은 얼마입니까?",null,null,null,null,null,null,null,{"$f":"K24","v":0.5},null,0.5]
["   (나머지는 건축비 등 구조물 비용입니다)"]
["11. 개인하수처리시설의 연간 유지관리비는 어느 정도입니까? (단위: 백만원)",null,null,null,null,null,null,null,{"$f":"K26","v":0.64600000000000002},null,0.64600000000000002]
[]
["12. 개인하수처리시설 기계 및 전기시설의 내구연한은 얼마입니까? (단위: 년)",null,null,null,null,null,null,null,{"$f":"K28","v":10},null,10]
[]
["13. 개인하수처리시설 구조물의 내구연한은 얼마입니까? (단위: 년)",null,null,null,null,null,null,null,{"$f":"K30","v":30},null,30]
[]
["14. 집합처리 시 하수관거의 총 건설비는 얼마입니까? (단위: 백만원)",null,null,null,null,null,null,null,{"$f":"K32","v":829.4049},null,{"$f":"229.248+0.3073*I9","v":829.4049}]
[]
["15. 하수관거의 연간 유지관리비는 얼마입니까? (단위: 백만원)",null,null,null,null,null,null,null,{"$f":"K34","v":5.859},null,{"$f":"0.003*I9","v":5.859}]
[]
["16. 하수관거의 내구연한은 얼마입니까? (단위: 년)",null,null,null,null,null,null,null,{"$f":"K36","v":40},null,40]
[]
["17. 할인율은 얼마입니까? (단위: %)",null,null,null,null,null,null,null,5.5,null,5.5]
[]
["18. 향후 50년간 물가상승률은 어느정도로 예상합니까? (단위: %)",null,null,null,null,null,null,null,{"$f":"K40","v":3},null,3]
[]
[]
[]
[]
[]
["구 분","처리 비용 (현재가치) (단위: 백만원)"]
[null,"개별처리",null,"집합처리"]
[null,"건설비","유지관리비","건설비","유지관리비"]
["처리시설",1248.2808837890625,2399.40234375,1090.082275390625,321.98617553710937]
["관거",null,null,1147.207275390625,172.71240234375]
["합계",3647.68310546875,null,2731.988037109375]
["총기준관거거리(m)",3736.30419921875]
["기준관거거리(m)",29.653207778930664]
["경제성 평가","집합처리"]

{"sheet":"구야","index":7,"n_rows":54,"n_cols":11,"rows_kept":54,"cut":false,"hidden":false,"merged":[[19,0,19,6],[0,0,0,6],[1,0,1,6],[2,0,2,6],[4,0,4,6],[6,0,6,6],[8,0,8,6],[10,0,10,6],[12,0,12,6],[13,0,13,6],[15,0,15,6],[17,0,17,6],[41,0,41,2],[21,0,21,6],[23,0,23,6],[24,0,24,6],[25,0,25,6],[27,0,27,6],[29,0,29,6],[31,0,31,6],[33,0,33,6],[35,0,35,6],[37,0,37,6],[39,0,39,6],[51,1,51,4],[52,1,52,4],[53,1,53,4],[45,0,47,0],[45,1,45,4],[46,1,46,2],[46,3,46,4],[50,1,50,2],[50,3,50,4]]}
["경제성 평가 일반 - 집합처리와 개별처리의 비교",null,null,null,null,null,null,null,"구야"]
["개요: 하수처리구역 설정 시 처리구역으로 설정하여 집합처리하는 것과, 처리구역으로 설정하지 않고 개별처리하는 것이 어느 것이 더 경제적인가? "]
["※아래 질문에 대한 답을 오른쪽 노란 칸에 적어 주십시오. 질문에 대한 답을 하실 수 없는 경우에는 파란색 빈칸에 있는 숫자를 노란색 칸에 적어 주십시오"]
[]
["1. 하수처리구역의 목표 BOD를 선택해 주십시오."]
[]
["2. 대상지역의 예상 가구수는 몇 가구입니까?",null,null,null,null,null,null,null,{"$f":"VLOOKUP($I$1,'검토 시설개요'!$A:$H,3,FALSE)","v":242}]
[]
["3. 대상지역에 집합처리시설을 건설할 경우 필요한 하수관거거리는 몇 미터입니까?",null,null,null,null,null,null,null,{"$f":"VLOOKUP($I$1,'검토 시설개요'!$A:$H,8,FALSE)","v":5607}]
[]
["4. 계획 중인 집합처리시설의 건설비는 얼마입니까? (단위: 백만원)",null,null,null,null,null,null,null,{"$f":"K11","v":975.57774311980074},null,{"$f":"30.184*(0.6*I7)^0.6982","v":975.57774311980074}]
[]
["5. 위 건설비 중 기계 및 전기시설의 비중은 얼마입니까?",null,null,null,null,null,null,null,{"$f":"K13","v":0.5},null,0.5]
["   (나머지는 건축비, 단지조성비 등 구조물 비용입니다)",null,null,null,null,null,null,null," "]
[]
["6. 계획 중인 집합처리시설의 연간 유지관리비는 얼마입니까? (단위: 백만원)",null,null,null,null,null,null,null,{"$f":"K16","v":20.289420934457251},null,{"$f":"0.1803*(0.6*I7)^0.9488","v":20.289420934457251}]
[]
["7. 계획 중인 집합처리시설 기계 및 전기시설의 내구연한은 얼마입니까? (단위: 년)",null,null,null,null,null,null,null,{"$f":"K18","v":15},null,15]
[]
["8. 계획 중인 집합처리시설  구조물의 내구연한은 얼마입니까? (단위: 년)",null,null,null,null,null,null,null,{"$f":"K20","v":50},null,50]
[]
["9. 대상지역에 개인하수처리시설(1톤/일)을 설치할 경우 건설비는 얼마입니까? (단위: 백만원)",null,null,null,null,null,null,null,{"$f":"K22","v":4.16},null,4.16]
[]
["10. 개인하수처리시설 건설비 중 기계 및 전기시설의 비중은 얼마입니까?",null,null,null,null,null,null,null,{"$f":"K24","v":0.5},null,0.5]
["   (나머지는 건축비 등 구조물 비용입니다)"]
["11. 개인하수처리시설의 연간 유지관리비는 어느 정도입니까? (단위: 백만원)",null,null,null,null,null,null,null,{"$f":"K26","v":0.64600000000000002},null,0.64600000000000002]
[]
["12. 개인하수처리시설 기계 및 전기시설의 내구연한은 얼마입니까? (단위: 년)",null,null,null,null,null,null,null,{"$f":"K28","v":10},null,10]
[]
["13. 개인하수처리시설 구조물의 내구연한은 얼마입니까? (단위: 년)",null,null,null,null,null,null,null,{"$f":"K30","v":30},null,30]
[]
["14. 집합처리 시 하수관거의 총 건설비는 얼마입니까? (단위: 백만원)",null,null,null,null,null,null,null,{"$f":"K32","v":1952.2791000000002},null,{"$f":"229.248+0.3073*I9","v":1952.2791000000002}]
[]
["15. 하수관거의 연간 유지관리비는 얼마입니까? (단위: 백만원)",null,null,null,null,null,null,null,{"$f":"K34","v":16.821000000000002},null,{"$f":"0.003*I9","v":16.821000000000002}]
[]
["16. 하수관거의 내구연한은 얼마입니까? (단위: 년)",null,null,null,null,null,null,null,{"$f":"K36","v":40},null,40]
[]
["17. 할인율은 얼마입니까? (단위: %)",null,null,null,null,null,null,null,5.5,null,5.5]
[]
["18. 향후 50년간 물가상승률은 어느정도로 예상합니까? (단위: %)",null,null,null,null,null,null,null,{"$f":"K40","v":3},null,3]
[]
[]
[]
[]
[]
["구 분","처리 비용 (현재가치) (단위: 백만원)"]
[null,"개별처리",null,"집합처리"]
[null,"건설비","유지관리비","건설비","유지관리비"]
["처리시설",2397.491943359375,4608.3759765625,1719.334716796875,598.09429931640625]
["관거",null,null,2700.332275390625,495.85171508789062]
["합계",7005.8681640625,null,5513.61279296875]
["총기준관거거리(m)",8513.146484375]
["기준관거거리(m)",35.178291320800781]
["경제성 평가","집합처리"]

{"sheet":"문무","index":8,"n_rows":54,"n_cols":11,"rows_kept":54,"cut":false,"hidden":false,"merged":[[19,0,19,6],[0,0,0,6],[1,0,1,6],[2,0,2,6],[4,0,4,6],[6,0,6,6],[8,0,8,6],[10,0,10,6],[12,0,12,6],[13,0,13,6],[15,0,15,6],[17,0,17,6],[41,0,41,2],[21,0,21,6],[23,0,23,6],[24,0,24,6],[25,0,25,6],[27,0,27,6],[29,0,29,6],[31,0,31,6],[33,0,33,6],[35,0,35,6],[37,0,37,6],[39,0,39,6],[51,1,51,4],[52,1,52,4],[53,1,53,4],[45,0,47,0],[45,1,45,4],[46,1,46,2],[46,3,46,4],[50,1,50,2],[50,3,50,4]]}
["경제성 평가 일반 - 집합처리와 개별처리의 비교",null,null,null,null,null,null,null,"문무"]
["개요: 하수처리구역 설정 시 처리구역으로 설정하여 집합처리하는 것과, 처리구역으로 설정하지 않고 개별처리하는 것이 어느 것이 더 경제적인가? "]
["※아래 질문에 대한 답을 오른쪽 노란 칸에 적어 주십시오. 질문에 대한 답을 하실 수 없는 경우에는 파란색 빈칸에 있는 숫자를 노란색 칸에 적어 주십시오"]
[]
["1. 하수처리구역의 목표 BOD를 선택해 주십시오."]
[]
["2. 대상지역의 예상 가구수는 몇 가구입니까?",null,null,null,null,null,null,null,{"$f":"VLOOKUP($I$1,'검토 시설개요'!$A:$H,3,FALSE)","v":117}]
[]
["3. 대상지역에 집합처리시설을 건설할 경우 필요한 하수관거거리는 몇 미터입니까?",null,null,null,null,null,null,null,{"$f":"VLOOKUP($I$1,'검토 시설개요'!$A:$H,8,FALSE)","v":2253}]
[]
["4. 계획 중인 집합처리시설의 건설비는 얼마입니까? (단위: 백만원)",null,null,null,null,null,null,null,{"$f":"K11","v":587.33970922154367},null,{"$f":"30.184*(0.6*I7)^0.6982","v":587.33970922154367}]
[]
["5. 위 건설비 중 기계 및 전기시설의 비중은 얼마입니까?",null,null,null,null,null,null,null,{"$f":"K13","v":0.5},null,0.5]
["   (나머지는 건축비, 단지조성비 등 구조물 비용입니다)",null,null,null,null,null,null,null," "]
[]
["6. 계획 중인 집합처리시설의 연간 유지관리비는 얼마입니까? (단위: 백만원)",null,null,null,null,null,null,null,{"$f":"K16","v":10.181233051957724},null,{"$f":"0.1803*(0.6*I7)^0.9488","v":10.181233051957724}]
[]
["7. 계획 중인 집합처리시설 기계 및 전기시설의 내구연한은 얼마입니까? (단위: 년)",null,null,null,null,null,null,null,{"$f":"K18","v":15},null,15]
[]
["8. 계획 중인 집합처리시설  구조물의 내구연한은 얼마입니까? (단위: 년)",null,null,null,null,null,null,null,{"$f":"K20","v":50},null,50]
[]
["9. 대상지역에 개인하수처리시설(1톤/일)을 설치할 경우 건설비는 얼마입니까? (단위: 백만원)",null,null,null,null,null,null,null,{"$f":"K22","v":4.16},null,4.16]
[]
["10. 개인하수처리시설 건설비 중 기계 및 전기시설의 비중은 얼마입니까?",null,null,null,null,null,null,null,{"$f":"K24","v":0.5},null,0.5]
["   (나머지는 건축비 등 구조물 비용입니다)"]
["11. 개인하수처리시설의 연간 유지관리비는 어느 정도입니까? (단위: 백만원)",null,null,null,null,null,null,null,{"$f":"K26","v":0.64600000000000002},null,0.64600000000000002]
[]
["12. 개인하수처리시설 기계 및 전기시설의 내구연한은 얼마입니까? (단위: 년)",null,null,null,null,null,null,null,{"$f":"K28","v":10},null,10]
[]
["13. 개인하수처리시설 구조물의 내구연한은 얼마입니까? (단위: 년)",null,null,null,null,null,null,null,{"$f":"K30","v":30},null,30]
[]
["14. 집합처리 시 하수관거의 총 건설비는 얼마입니까? (단위: 백만원)",null,null,null,null,null,null,null,{"$f":"K32","v":921.59490000000005},null,{"$f":"229.248+0.3073*I9","v":921.59490000000005}]
[]
["15. 하수관거의 연간 유지관리비는 얼마입니까? (단위: 백만원)",null,null,null,null,null,null,null,{"$f":"K34","v":6.7590000000000003},null,{"$f":"0.003*I9","v":6.7590000000000003}]
[]
["16. 하수관거의 내구연한은 얼마입니까? (단위: 년)",null,null,null,null,null,null,null,{"$f":"K36","v":40},null,40]
[]
["17. 할인율은 얼마입니까? (단위: %)",null,null,null,null,null,null,null,5.5,null,5.5]
[]
["18. 향후 50년간 물가상승률은 어느정도로 예상합니까? (단위: %)",null,null,null,null,null,null,null,{"$f":"K40","v":3},null,3]
[]
[]
[]
[]
[]
["구 분","처리 비용 (현재가치) (단위: 백만원)"]
[null,"개별처리",null,"집합처리"]
[null,"건설비","유지관리비","건설비","유지관리비"]
["처리시설",1159.117919921875,2228.0166015625,1035.1134033203125,300.123779296875]
["관거",null,null,1274.7216796875,199.24272155761719]
["합계",3387.134521484375,null,2809.20166015625]
["총기준관거거리(m)",3378.51708984375]
["기준관거거리(m)",28.876214981079102]
["경제성 평가","집합처리"]

{"sheet":"남곡","index":9,"n_rows":54,"n_cols":11,"rows_kept":54,"cut":false,"hidden":false,"merged":[[19,0,19,6],[0,0,0,6],[1,0,1,6],[2,0,2,6],[4,0,4,6],[6,0,6,6],[8,0,8,6],[10,0,10,6],[12,0,12,6],[13,0,13,6],[15,0,15,6],[17,0,17,6],[41,0,41,2],[21,0,21,6],[23,0,23,6],[24,0,24,6],[25,0,25,6],[27,0,27,6],[29,0,29,6],[31,0,31,6],[33,0,33,6],[35,0,35,6],[37,0,37,6],[39,0,39,6],[51,1,51,4],[52,1,52,4],[53,1,53,4],[45,0,47,0],[45,1,45,4],[46,1,46,2],[46,3,46,4],[50,1,50,2],[50,3,50,4]]}
["경제성 평가 일반 - 집합처리와 개별처리의 비교",null,null,null,null,null,null,null,"남곡"]
["개요: 하수처리구역 설정 시 처리구역으로 설정하여 집합처리하는 것과, 처리구역으로 설정하지 않고 개별처리하는 것이 어느 것이 더 경제적인가? "]
["※아래 질문에 대한 답을 오른쪽 노란 칸에 적어 주십시오. 질문에 대한 답을 하실 수 없는 경우에는 파란색 빈칸에 있는 숫자를 노란색 칸에 적어 주십시오"]
[]
["1. 하수처리구역의 목표 BOD를 선택해 주십시오."]
[]
["2. 대상지역의 예상 가구수는 몇 가구입니까?",null,null,null,null,null,null,null,{"$f":"VLOOKUP($I$1,'검토 시설개요'!$A:$H,3,FALSE)","v":129}]
[]
["3. 대상지역에 집합처리시설을 건설할 경우 필요한 하수관거거리는 몇 미터입니까?",null,null,null,null,null,null,null,{"$f":"VLOOKUP($I$1,'검토 시설개요'!$A:$H,8,FALSE)","v":1407}]
[]
["4. 계획 중인 집합처리시설의 건설비는 얼마입니까? (단위: 백만원)",null,null,null,null,null,null,null,{"$f":"K11","v":628.77567330458896},null,{"$f":"30.184*(0.6*I7)^0.6982","v":628.77567330458896}]
[]
["5. 위 건설비 중 기계 및 전기시설의 비중은 얼마입니까?",null,null,null,null,null,null,null,{"$f":"K13","v":0.5},null,0.5]
["   (나머지는 건축비, 단지조성비 등 구조물 비용입니다)",null,null,null,null,null,null,null," "]
[]
["6. 계획 중인 집합처리시설의 연간 유지관리비는 얼마입니까? (단위: 백만원)",null,null,null,null,null,null,null,{"$f":"K16","v":11.169485025446464},null,{"$f":"0.1803*(0.6*I7)^0.9488","v":11.169485025446464}]
[]
["7. 계획 중인 집합처리시설 기계 및 전기시설의 내구연한은 얼마입니까? (단위: 년)",null,null,null,null,null,null,null,{"$f":"K18","v":15},null,15]
[]
["8. 계획 중인 집합처리시설  구조물의 내구연한은 얼마입니까? (단위: 년)",null,null,null,null,null,null,null,{"$f":"K20","v":50},null,50]
[]
["9. 대상지역에 개인하수처리시설(1톤/일)을 설치할 경우 건설비는 얼마입니까? (단위: 백만원)",null,null,null,null,null,null,null,{"$f":"K22","v":4.16},null,4.16]
[]
["10. 개인하수처리시설 건설비 중 기계 및 전기시설의 비중은 얼마입니까?",null,null,null,null,null,null,null,{"$f":"K24","v":0.5},null,0.5]
["   (나머지는 건축비 등 구조물 비용입니다)"]
["11. 개인하수처리시설의 연간 유지관리비는 어느 정도입니까? (단위: 백만원)",null,null,null,null,null,null,null,{"$f":"K26","v":0.64600000000000002},null,0.64600000000000002]
[]
["12. 개인하수처리시설 기계 및 전기시설의 내구연한은 얼마입니까? (단위: 년)",null,null,null,null,null,null,null,{"$f":"K28","v":10},null,10]
[]
["13. 개인하수처리시설 구조물의 내구연한은 얼마입니까? (단위: 년)",null,null,null,null,null,null,null,{"$f":"K30","v":30},null,30]
[]
["14. 집합처리 시 하수관거의 총 건설비는 얼마입니까? (단위: 백만원)",null,null,null,null,null,null,null,{"$f":"K32","v":661.6191},null,{"$f":"229.248+0.3073*I9","v":661.6191}]
[]
["15. 하수관거의 연간 유지관리비는 얼마입니까? (단위: 백만원)",null,null,null,null,null,null,null,{"$f":"K34","v":4.2210000000000001},null,{"$f":"0.003*I9","v":4.2210000000000001}]
[]
["16. 하수관거의 내구연한은 얼마입니까? (단위: 년)",null,null,null,null,null,null,null,{"$f":"K36","v":40},null,40]
[]
["17. 할인율은 얼마입니까? (단위: %)",null,null,null,null,null,null,null,5.5,null,5.5]
[]
["18. 향후 50년간 물가상승률은 어느정도로 예상합니까? (단위: %)",null,null,null,null,null,null,null,{"$f":"K40","v":3},null,3]
[]
[]
[]
[]
[]
["구 분","처리 비용 (현재가치) (단위: 백만원)"]
[null,"개별처리",null,"집합처리"]
[null,"건설비","유지관리비","건설비","유지관리비"]
["처리시설",1278.0018310546875,2456.531005859375,1108.13916015625,329.255615234375]
["관거",null,null,915.131103515625,124.42721557617187]
["합계",3734.53271484375,null,2476.953125]
["총기준관거거리(m)",3856.120361328125]
["기준관거거리(m)",29.892406463623047]
["경제성 평가","집합처리"]

{"sheet":"던돌마","index":10,"n_rows":54,"n_cols":11,"rows_kept":54,"cut":false,"hidden":false,"merged":[[19,0,19,6],[0,0,0,6],[1,0,1,6],[2,0,2,6],[4,0,4,6],[6,0,6,6],[8,0,8,6],[10,0,10,6],[12,0,12,6],[13,0,13,6],[15,0,15,6],[17,0,17,6],[41,0,41,2],[21,0,21,6],[23,0,23,6],[24,0,24,6],[25,0,25,6],[27,0,27,6],[29,0,29,6],[31,0,31,6],[33,0,33,6],[35,0,35,6],[37,0,37,6],[39,0,39,6],[51,1,51,4],[52,1,52,4],[53,1,53,4],[45,0,47,0],[45,1,45,4],[46,1,46,2],[46,3,46,4],[50,1,50,2],[50,3,50,4]]}
["경제성 평가 일반 - 집합처리와 개별처리의 비교",null,null,null,null,null,null,null,"던돌마"]
["개요: 하수처리구역 설정 시 처리구역으로 설정하여 집합처리하는 것과, 처리구역으로 설정하지 않고 개별처리하는 것이 어느 것이 더 경제적인가? "]
["※아래 질문에 대한 답을 오른쪽 노란 칸에 적어 주십시오. 질문에 대한 답을 하실 수 없는 경우에는 파란색 빈칸에 있는 숫자를 노란색 칸에 적어 주십시오"]
[]
["1. 하수처리구역의 목표 BOD를 선택해 주십시오."]
[]
["2. 대상지역의 예상 가구수는 몇 가구입니까?",null,null,null,null,null,null,null,{"$f":"VLOOKUP($I$1,'검토 시설개요'!$A:$H,3,FALSE)","v":138}]
[]
["3. 대상지역에 집합처리시설을 건설할 경우 필요한 하수관거거리는 몇 미터입니까?",null,null,null,null,null,null,null,{"$f":"VLOOKUP($I$1,'검토 시설개요'!$A:$H,8,FALSE)","v":4027}]
[]
["4. 계획 중인 집합처리시설의 건설비는 얼마입니까? (단위: 백만원)",null,null,null,null,null,null,null,{"$f":"K11","v":659.09129141318249},null,{"$f":"30.184*(0.6*I7)^0.6982","v":659.09129141318249}]
[]
["5. 위 건설비 중 기계 및 전기시설의 비중은 얼마입니까?",null,null,null,null,null,null,null,{"$f":"K13","v":0.5},null,0.5]
["   (나머지는 건축비, 단지조성비 등 구조물 비용입니다)",null,null,null,null,null,null,null," "]
[]
["6. 계획 중인 집합처리시설의 연간 유지관리비는 얼마입니까? (단위: 백만원)",null,null,null,null,null,null,null,{"$f":"K16","v":11.907563612204932},null,{"$f":"0.1803*(0.6*I7)^0.9488","v":11.907563612204932}]
[]
["7. 계획 중인 집합처리시설 기계 및 전기시설의 내구연한은 얼마입니까? (단위: 년)",null,null,null,null,null,null,null,{"$f":"K18","v":15},null,15]
[]
["8. 계획 중인 집합처리시설  구조물의 내구연한은 얼마입니까? (단위: 년)",null,null,null,null,null,null,null,{"$f":"K20","v":50},null,50]
[]
["9. 대상지역에 개인하수처리시설(1톤/일)을 설치할 경우 건설비는 얼마입니까? (단위: 백만원)",null,null,null,null,null,null,null,{"$f":"K22","v":4.16},null,4.16]
[]
["10. 개인하수처리시설 건설비 중 기계 및 전기시설의 비중은 얼마입니까?",null,null,null,null,null,null,null,{"$f":"K24","v":0.5},null,0.5]
["   (나머지는 건축비 등 구조물 비용입니다)"]
["11. 개인하수처리시설의 연간 유지관리비는 어느 정도입니까? (단위: 백만원)",null,null,null,null,null,null,null,{"$f":"K26","v":0.64600000000000002},null,0.64600000000000002]
[]
["12. 개인하수처리시설 기계 및 전기시설의 내구연한은 얼마입니까? (단위: 년)",null,null,null,null,null,null,null,{"$f":"K28","v":10},null,10]
[]
["13. 개인하수처리시설 구조물의 내구연한은 얼마입니까? (단위: 년)",null,null,null,null,null,null,null,{"$f":"K30","v":30},null,30]
[]
["14. 집합처리 시 하수관거의 총 건설비는 얼마입니까? (단위: 백만원)",null,null,null,null,null,null,null,{"$f":"K32","v":1466.7451000000001},null,{"$f":"229.248+0.3073*I9","v":1466.7451000000001}]
[]
["15. 하수관거의 연간 유지관리비는 얼마입니까? (단위: 백만원)",null,null,null,null,null,null,null,{"$f":"K34","v":12.081},null,{"$f":"0.003*I9","v":12.081}]
[]
["16. 하수관거의 내구연한은 얼마입니까? (단위: 년)",null,null,null,null,null,null,null,{"$f":"K36","v":40},null,40]
[]
["17. 할인율은 얼마입니까? (단위: %)",null,null,null,null,null,null,null,5.5,null,5.5]
[]
["18. 향후 50년간 물가상승률은 어느정도로 예상합니까? (단위: %)",null,null,null,null,null,null,null,{"$f":"K40","v":3},null,3]
[]
[]
[]
[]
[]
["구 분","처리 비용 (현재가치) (단위: 백만원)"]
[null,"개별처리",null,"집합처리"]
[null,"건설비","유지관리비","건설비","유지관리비"]
["처리시설",1367.164794921875,2627.9169921875,1161.566650390625,351.01275634765625]
["관거",null,null,2028.756591796875,356.1253662109375]
["합계",3995.081787109375,null,3897.46142578125]
["총기준관거거리(m)",4217.1142578125]
["기준관거거리(m)",30.558799743652344]
["경제성 평가","집합처리"]

{"sheet":"덕남","index":11,"n_rows":54,"n_cols":11,"rows_kept":54,"cut":false,"hidden":false,"merged":[[19,0,19,6],[0,0,0,6],[1,0,1,6],[2,0,2,6],[4,0,4,6],[6,0,6,6],[8,0,8,6],[10,0,10,6],[12,0,12,6],[13,0,13,6],[15,0,15,6],[17,0,17,6],[41,0,41,2],[21,0,21,6],[23,0,23,6],[24,0,24,6],[25,0,25,6],[27,0,27,6],[29,0,29,6],[31,0,31,6],[33,0,33,6],[35,0,35,6],[37,0,37,6],[39,0,39,6],[51,1,51,4],[52,1,52,4],[53,1,53,4],[45,0,47,0],[45,1,45,4],[46,1,46,2],[46,3,46,4],[50,1,50,2],[50,3,50,4]]}
["경제성 평가 일반 - 집합처리와 개별처리의 비교",null,null,null,null,null,null,null,"덕남"]
["개요: 하수처리구역 설정 시 처리구역으로 설정하여 집합처리하는 것과, 처리구역으로 설정하지 않고 개별처리하는 것이 어느 것이 더 경제적인가? "]
["※아래 질문에 대한 답을 오른쪽 노란 칸에 적어 주십시오. 질문에 대한 답을 하실 수 없는 경우에는 파란색 빈칸에 있는 숫자를 노란색 칸에 적어 주십시오"]
[]
["1. 하수처리구역의 목표 BOD를 선택해 주십시오."]
[]
["2. 대상지역의 예상 가구수는 몇 가구입니까?",null,null,null,null,null,null,null,{"$f":"VLOOKUP($I$1,'검토 시설개요'!$A:$H,3,FALSE)","v":408}]
[]
["3. 대상지역에 집합처리시설을 건설할 경우 필요한 하수관거거리는 몇 미터입니까?",null,null,null,null,null,null,null,{"$f":"VLOOKUP($I$1,'검토 시설개요'!$A:$H,8,FALSE)","v":11248}]
[]
["4. 계획 중인 집합처리시설의 건설비는 얼마입니까? (단위: 백만원)",null,null,null,null,null,null,null,{"$f":"K11","v":1404.8984103003179},null,{"$f":"30.184*(0.6*I7)^0.6982","v":1404.8984103003179}]
[]
["5. 위 건설비 중 기계 및 전기시설의 비중은 얼마입니까?",null,null,null,null,null,null,null,{"$f":"K13","v":0.5},null,0.5]
["   (나머지는 건축비, 단지조성비 등 구조물 비용입니다)",null,null,null,null,null,null,null," "]
[]
["6. 계획 중인 집합처리시설의 연간 유지관리비는 얼마입니까? (단위: 백만원)",null,null,null,null,null,null,null,{"$f":"K16","v":33.304275910793784},null,{"$f":"0.1803*(0.6*I7)^0.9488","v":33.304275910793784}]
[]
["7. 계획 중인 집합처리시설 기계 및 전기시설의 내구연한은 얼마입니까? (단위: 년)",null,null,null,null,null,null,null,{"$f":"K18","v":15},null,15]
[]
["8. 계획 중인 집합처리시설  구조물의 내구연한은 얼마입니까? (단위: 년)",null,null,null,null,null,null,null,{"$f":"K20","v":50},null,50]
[]
["9. 대상지역에 개인하수처리시설(1톤/일)을 설치할 경우 건설비는 얼마입니까? (단위: 백만원)",null,null,null,null,null,null,null,{"$f":"K22","v":4.16},null,4.16]
[]
["10. 개인하수처리시설 건설비 중 기계 및 전기시설의 비중은 얼마입니까?",null,null,null,null,null,null,null,{"$f":"K24","v":0.5},null,0.5]
["   (나머지는 건축비 등 구조물 비용입니다)"]
["11. 개인하수처리시설의 연간 유지관리비는 어느 정도입니까? (단위: 백만원)",null,null,null,null,null,null,null,{"$f":"K26","v":0.64600000000000002},null,0.64600000000000002]
[]
["12. 개인하수처리시설 기계 및 전기시설의 내구연한은 얼마입니까? (단위: 년)",null,null,null,null,null,null,null,{"$f":"K28","v":10},null,10]
[]
["13. 개인하수처리시설 구조물의 내구연한은 얼마입니까? (단위: 년)",null,null,null,null,null,null,null,{"$f":"K30","v":30},null,30]
[]
["14. 집합처리 시 하수관거의 총 건설비는 얼마입니까? (단위: 백만원)",null,null,null,null,null,null,null,{"$f":"K32","v":3685.7584000000002},null,{"$f":"229.248+0.3073*I9","v":3685.7584000000002}]
[]
["15. 하수관거의 연간 유지관리비는 얼마입니까? (단위: 백만원)",null,null,null,null,null,null,null,{"$f":"K34","v":33.744},null,{"$f":"0.003*I9","v":33.744}]
[]
["16. 하수관거의 내구연한은 얼마입니까? (단위: 년)",null,null,null,null,null,null,null,{"$f":"K36","v":40},null,40]
[]
["17. 할인율은 얼마입니까? (단위: %)",null,null,null,null,null,null,null,5.5,null,5.5]
[]
["18. 향후 50년간 물가상승률은 어느정도로 예상합니까? (단위: %)",null,null,null,null,null,null,null,{"$f":"K40","v":3},null,3]
[]
[]
[]
[]
[]
["구 분","처리 비용 (현재가치) (단위: 백만원)"]
[null,"개별처리",null,"집합처리"]
[null,"건설비","유지관리비","건설비","유지관리비"]
["처리시설",4042.052490234375,7769.49365234375,2475.959228515625,981.74798583984375]
["관거",null,null,5098.02734375,994.710205078125]
["합계",11811.5458984375,null,9550.4443359375]
["총기준관거거리(m)",15651.46484375]
["기준관거거리(m)",38.361434936523438]
["경제성 평가","집합처리"]

{"sheet":"대양","index":12,"n_rows":54,"n_cols":11,"rows_kept":54,"cut":false,"hidden":false,"merged":[[19,0,19,6],[0,0,0,6],[1,0,1,6],[2,0,2,6],[4,0,4,6],[6,0,6,6],[8,0,8,6],[10,0,10,6],[12,0,12,6],[13,0,13,6],[15,0,15,6],[17,0,17,6],[41,0,41,2],[21,0,21,6],[23,0,23,6],[24,0,24,6],[25,0,25,6],[27,0,27,6],[29,0,29,6],[31,0,31,6],[33,0,33,6],[35,0,35,6],[37,0,37,6],[39,0,39,6],[51,1,51,4],[52,1,52,4],[53,1,53,4],[45,0,47,0],[45,1,45,4],[46,1,46,2],[46,3,46,4],[50,1,50,2],[50,3,50,4]]}
["경제성 평가 일반 - 집합처리와 개별처리의 비교",null,null,null,null,null,null,null,"대양"]
["개요: 하수처리구역 설정 시 처리구역으로 설정하여 집합처리하는 것과, 처리구역으로 설정하지 않고 개별처리하는 것이 어느 것이 더 경제적인가? "]
["※아래 질문에 대한 답을 오른쪽 노란 칸에 적어 주십시오. 질문에 대한 답을 하실 수 없는 경우에는 파란색 빈칸에 있는 숫자를 노란색 칸에 적어 주십시오"]
[]
["1. 하수처리구역의 목표 BOD를 선택해 주십시오."]
[]
["2. 대상지역의 예상 가구수는 몇 가구입니까?",null,null,null,null,null,null,null,{"$f":"VLOOKUP($I$1,'검토 시설개요'!$A:$H,3,FALSE)","v":95}]
[]
["3. 대상지역에 집합처리시설을 건설할 경우 필요한 하수관거거리는 몇 미터입니까?",null,null,null,null,null,null,null,{"$f":"VLOOKUP($I$1,'검토 시설개요'!$A:$H,8,FALSE)","v":2857}]
[]
["4. 계획 중인 집합처리시설의 건설비는 얼마입니까? (단위: 백만원)",null,null,null,null,null,null,null,{"$f":"K11","v":507.8420011606911},null,{"$f":"30.184*(0.6*I7)^0.6982","v":507.8420011606911}]
[]
["5. 위 건설비 중 기계 및 전기시설의 비중은 얼마입니까?",null,null,null,null,null,null,null,{"$f":"K13","v":0.5},null,0.5]
["   (나머지는 건축비, 단지조성비 등 구조물 비용입니다)",null,null,null,null,null,null,null," "]
[]
["6. 계획 중인 집합처리시설의 연간 유지관리비는 얼마입니까? (단위: 백만원)",null,null,null,null,null,null,null,{"$f":"K16","v":8.3554489437667527},null,{"$f":"0.1803*(0.6*I7)^0.9488","v":8.3554489437667527}]
[]
["7. 계획 중인 집합처리시설 기계 및 전기시설의 내구연한은 얼마입니까? (단위: 년)",null,null,null,null,null,null,null,{"$f":"K18","v":15},null,15]
[]
["8. 계획 중인 집합처리시설  구조물의 내구연한은 얼마입니까? (단위: 년)",null,null,null,null,null,null,null,{"$f":"K20","v":50},null,50]
[]
["9. 대상지역에 개인하수처리시설(1톤/일)을 설치할 경우 건설비는 얼마입니까? (단위: 백만원)",null,null,null,null,null,null,null,{"$f":"K22","v":4.16},null,4.16]
[]
["10. 개인하수처리시설 건설비 중 기계 및 전기시설의 비중은 얼마입니까?",null,null,null,null,null,null,null,{"$f":"K24","v":0.5},null,0.5]
["   (나머지는 건축비 등 구조물 비용입니다)"]
["11. 개인하수처리시설의 연간 유지관리비는 어느 정도입니까? (단위: 백만원)",null,null,null,null,null,null,null,{"$f":"K26","v":0.64600000000000002},null,0.64600000000000002]
[]
["12. 개인하수처리시설 기계 및 전기시설의 내구연한은 얼마입니까? (단위: 년)",null,null,null,null,null,null,null,{"$f":"K28","v":10},null,10]
[]
["13. 개인하수처리시설 구조물의 내구연한은 얼마입니까? (단위: 년)",null,null,null,null,null,null,null,{"$f":"K30","v":30},null,30]
[]
["14. 집합처리 시 하수관거의 총 건설비는 얼마입니까? (단위: 백만원)",null,null,null,null,null,null,null,{"$f":"K32","v":1107.2041000000002},null,{"$f":"229.248+0.3073*I9","v":1107.2041000000002}]
[]
["15. 하수관거의 연간 유지관리비는 얼마입니까? (단위: 백만원)",null,null,null,null,null,null,null,{"$f":"K34","v":8.5709999999999997},null,{"$f":"0.003*I9","v":8.5709999999999997}]
[]
["16. 하수관거의 내구연한은 얼마입니까? (단위: 년)",null,null,null,null,null,null,null,{"$f":"K36","v":40},null,40]
[]
["17. 할인율은 얼마입니까? (단위: %)",null,null,null,null,null,null,null,5.5,null,5.5]
[]
["18. 향후 50년간 물가상승률은 어느정도로 예상합니까? (단위: %)",null,null,null,null,null,null,null,{"$f":"K40","v":3},null,3]
[]
[]
[]
[]
[]
["구 분","처리 비용 (현재가치) (단위: 백만원)"]
[null,"개별처리",null,"집합처리"]
[null,"건설비","유지관리비","건설비","유지관리비"]
["처리시설",941.1641845703125,1809.0732421875,895.008544921875,246.30305480957031]
["관거",null,null,1531.4505615234375,252.6571044921875]
["합계",2750.2373046875,null,2925.419189453125]
["총기준관거거리(m)",2515.835693359375]
["기준관거거리(m)",26.482481002807617]
["경제성 평가","개별처리"]

{"sheet":"옥율","index":13,"n_rows":54,"n_cols":11,"rows_kept":54,"cut":false,"hidden":false,"merged":[[19,0,19,6],[0,0,0,6],[1,0,1,6],[2,0,2,6],[4,0,4,6],[6,0,6,6],[8,0,8,6],[10,0,10,6],[12,0,12,6],[13,0,13,6],[15,0,15,6],[17,0,17,6],[41,0,41,2],[21,0,21,6],[23,0,23,6],[24,0,24,6],[25,0,25,6],[27,0,27,6],[29,0,29,6],[31,0,31,6],[33,0,33,6],[35,0,35,6],[37,0,37,6],[39,0,39,6],[51,1,51,4],[52,1,52,4],[53,1,53,4],[45,0,47,0],[45,1,45,4],[46,1,46,2],[46,3,46,4],[50,1,50,2],[50,3,50,4]]}
["경제성 평가 일반 - 집합처리와 개별처리의 비교",null,null,null,null,null,null,null,"옥율"]
["개요: 하수처리구역 설정 시 처리구역으로 설정하여 집합처리하는 것과, 처리구역으로 설정하지 않고 개별처리하는 것이 어느 것이 더 경제적인가? "]
["※아래 질문에 대한 답을 오른쪽 노란 칸에 적어 주십시오. 질문에 대한 답을 하실 수 없는 경우에는 파란색 빈칸에 있는 숫자를 노란색 칸에 적어 주십시오"]
[]
["1. 하수처리구역의 목표 BOD를 선택해 주십시오."]
[]
["2. 대상지역의 예상 가구수는 몇 가구입니까?",null,null,null,null,null,null,null,{"$f":"VLOOKUP($I$1,'검토 시설개요'!$A:$H,3,FALSE)","v":103}]
[]
["3. 대상지역에 집합처리시설을 건설할 경우 필요한 하수관거거리는 몇 미터입니까?",null,null,null,null,null,null,null,{"$f":"VLOOKUP($I$1,'검토 시설개요'!$A:$H,8,FALSE)","v":1865}]
[]
["4. 계획 중인 집합처리시설의 건설비는 얼마입니까? (단위: 백만원)",null,null,null,null,null,null,null,{"$f":"K11","v":537.33477195502098},null,{"$f":"30.184*(0.6*I7)^0.6982","v":537.33477195502098}]
[]
["5. 위 건설비 중 기계 및 전기시설의 비중은 얼마입니까?",null,null,null,null,null,null,null,{"$f":"K13","v":0.5},null,0.5]
["   (나머지는 건축비, 단지조성비 등 구조물 비용입니다)",null,null,null,null,null,null,null," "]
[]
["6. 계획 중인 집합처리시설의 연간 유지관리비는 얼마입니까? (단위: 백만원)",null,null,null,null,null,null,null,{"$f":"K16","v":9.0216420542349951},null,{"$f":"0.1803*(0.6*I7)^0.9488","v":9.0216420542349951}]
[]
["7. 계획 중인 집합처리시설 기계 및 전기시설의 내구연한은 얼마입니까? (단위: 년)",null,null,null,null,null,null,null,{"$f":"K18","v":15},null,15]
[]
["8. 계획 중인 집합처리시설  구조물의 내구연한은 얼마입니까? (단위: 년)",null,null,null,null,null,null,null,{"$f":"K20","v":50},null,50]
[]
["9. 대상지역에 개인하수처리시설(1톤/일)을 설치할 경우 건설비는 얼마입니까? (단위: 백만원)",null,null,null,null,null,null,null,{"$f":"K22","v":4.16},null,4.16]
[]
["10. 개인하수처리시설 건설비 중 기계 및 전기시설의 비중은 얼마입니까?",null,null,null,null,null,null,null,{"$f":"K24","v":0.5},null,0.5]
["   (나머지는 건축비 등 구조물 비용입니다)"]
["11. 개인하수처리시설의 연간 유지관리비는 어느 정도입니까? (단위: 백만원)",null,null,null,null,null,null,null,{"$f":"K26","v":0.64600000000000002},null,0.64600000000000002]
[]
["12. 개인하수처리시설 기계 및 전기시설의 내구연한은 얼마입니까? (단위: 년)",null,null,null,null,null,null,null,{"$f":"K28","v":10},null,10]
[]
["13. 개인하수처리시설 구조물의 내구연한은 얼마입니까? (단위: 년)",null,null,null,null,null,null,null,{"$f":"K30","v":30},null,30]
[]
["14. 집합처리 시 하수관거의 총 건설비는 얼마입니까? (단위: 백만원)",null,null,null,null,null,null,null,{"$f":"K32","v":802.36249999999995},null,{"$f":"229.248+0.3073*I9","v":802.36249999999995}]
[]
["15. 하수관거의 연간 유지관리비는 얼마입니까? (단위: 백만원)",null,null,null,null,null,null,null,{"$f":"K34","v":5.5949999999999998},null,{"$f":"0.003*I9","v":5.5949999999999998}]
[]
["16. 하수관거의 내구연한은 얼마입니까? (단위: 년)",null,null,null,null,null,null,null,{"$f":"K36","v":40},null,40]
[]
["17. 할인율은 얼마입니까? (단위: %)",null,null,null,null,null,null,null,5.5,null,5.5]
[]
["18. 향후 50년간 물가상승률은 어느정도로 예상합니까? (단위: %)",null,null,null,null,null,null,null,{"$f":"K40","v":3},null,3]
[]
[]
[]
[]
[]
["구 분","처리 비용 (현재가치) (단위: 백만원)"]
[null,"개별처리",null,"집합처리"]
[null,"건설비","유지관리비","건설비","유지관리비"]
["처리시설",1020.4201049804687,1961.416259765625,946.98583984375,265.94119262695312]
["관거",null,null,1109.8031005859375,164.93016052246094]
["합계",2981.83642578125,null,2487.660400390625]
["총기준관거거리(m)",2827.4013671875]
["기준관거거리(m)",27.450498580932617]
["경제성 평가","집합처리"]

{"sheet":"능치","index":14,"n_rows":54,"n_cols":11,"rows_kept":54,"cut":false,"hidden":false,"merged":[[19,0,19,6],[0,0,0,6],[1,0,1,6],[2,0,2,6],[4,0,4,6],[6,0,6,6],[8,0,8,6],[10,0,10,6],[12,0,12,6],[13,0,13,6],[15,0,15,6],[17,0,17,6],[41,0,41,2],[21,0,21,6],[23,0,23,6],[24,0,24,6],[25,0,25,6],[27,0,27,6],[29,0,29,6],[31,0,31,6],[33,0,33,6],[35,0,35,6],[37,0,37,6],[39,0,39,6],[51,1,51,4],[52,1,52,4],[53,1,53,4],[45,0,47,0],[45,1,45,4],[46,1,46,2],[46,3,46,4],[50,1,50,2],[50,3,50,4]]}
["경제성 평가 일반 - 집합처리와 개별처리의 비교",null,null,null,null,null,null,null,"능치"]
["개요: 하수처리구역 설정 시 처리구역으로 설정하여 집합처리하는 것과, 처리구역으로 설정하지 않고 개별처리하는 것이 어느 것이 더 경제적인가? "]
["※아래 질문에 대한 답을 오른쪽 노란 칸에 적어 주십시오. 질문에 대한 답을 하실 수 없는 경우에는 파란색 빈칸에 있는 숫자를 노란색 칸에 적어 주십시오"]
[]
["1. 하수처리구역의 목표 BOD를 선택해 주십시오."]
[]
["2. 대상지역의 예상 가구수는 몇 가구입니까?",null,null,null,null,null,null,null,{"$f":"VLOOKUP($I$1,'검토 시설개요'!$A:$H,3,FALSE)","v":374}]
[]
["3. 대상지역에 집합처리시설을 건설할 경우 필요한 하수관거거리는 몇 미터입니까?",null,null,null,null,null,null,null,{"$f":"VLOOKUP($I$1,'검토 시설개요'!$A:$H,8,FALSE)","v":9019}]
[]
["4. 계획 중인 집합처리시설의 건설비는 얼마입니까? (단위: 백만원)",null,null,null,null,null,null,null,{"$f":"K11","v":1322.0897793965478},null,{"$f":"30.184*(0.6*I7)^0.6982","v":1322.0897793965478}]
[]
["5. 위 건설비 중 기계 및 전기시설의 비중은 얼마입니까?",null,null,null,null,null,null,null,{"$f":"K13","v":0.5},null,0.5]
["   (나머지는 건축비, 단지조성비 등 구조물 비용입니다)",null,null,null,null,null,null,null," "]
[]
["6. 계획 중인 집합처리시설의 연간 유지관리비는 얼마입니까? (단위: 백만원)",null,null,null,null,null,null,null,{"$f":"K16","v":30.665228789564281},null,{"$f":"0.1803*(0.6*I7)^0.9488","v":30.665228789564281}]
[]
["7. 계획 중인 집합처리시설 기계 및 전기시설의 내구연한은 얼마입니까? (단위: 년)",null,null,null,null,null,null,null,{"$f":"K18","v":15},null,15]
[]
["8. 계획 중인 집합처리시설  구조물의 내구연한은 얼마입니까? (단위: 년)",null,null,null,null,null,null,null,{"$f":"K20","v":50},null,50]
[]
["9. 대상지역에 개인하수처리시설(1톤/일)을 설치할 경우 건설비는 얼마입니까? (단위: 백만원)",null,null,null,null,null,null,null,{"$f":"K22","v":4.16},null,4.16]
[]
["10. 개인하수처리시설 건설비 중 기계 및 전기시설의 비중은 얼마입니까?",null,null,null,null,null,null,null,{"$f":"K24","v":0.5},null,0.5]
["   (나머지는 건축비 등 구조물 비용입니다)"]
["11. 개인하수처리시설의 연간 유지관리비는 어느 정도입니까? (단위: 백만원)",null,null,null,null,null,null,null,{"$f":"K26","v":0.64600000000000002},null,0.64600000000000002]
[]
["12. 개인하수처리시설 기계 및 전기시설의 내구연한은 얼마입니까? (단위: 년)",null,null,null,null,null,null,null,{"$f":"K28","v":10},null,10]
[]
["13. 개인하수처리시설 구조물의 내구연한은 얼마입니까? (단위: 년)",null,null,null,null,null,null,null,{"$f":"K30","v":30},null,30]
[]
["14. 집합처리 시 하수관거의 총 건설비는 얼마입니까? (단위: 백만원)",null,null,null,null,null,null,null,{"$f":"K32","v":3000.7867000000001},null,{"$f":"229.248+0.3073*I9","v":3000.7867000000001}]
[]
["15. 하수관거의 연간 유지관리비는 얼마입니까? (단위: 백만원)",null,null,null,null,null,null,null,{"$f":"K34","v":27.057000000000002},null,{"$f":"0.003*I9","v":27.057000000000002}]
[]
["16. 하수관거의 내구연한은 얼마입니까? (단위: 년)",null,null,null,null,null,null,null,{"$f":"K36","v":40},null,40]
[]
["17. 할인율은 얼마입니까? (단위: %)",null,null,null,null,null,null,null,5.5,null,5.5]
[]
["18. 향후 50년간 물가상승률은 어느정도로 예상합니까? (단위: %)",null,null,null,null,null,null,null,{"$f":"K40","v":3},null,3]
[]
[]
[]
[]
[]
["구 분","처리 비용 (현재가치) (단위: 백만원)"]
[null,"개별처리",null,"집합처리"]
[null,"건설비","유지관리비","건설비","유지관리비"]
["처리시설",3705.21484375,7122.0361328125,2330.01904296875,903.9537353515625]
["관거",null,null,4150.595703125,797.58990478515625]
["합계",10827.2509765625,null,8182.158203125]
["총기준관거거리(m)",14170.283203125]
["기준관거거리(m)",37.888458251953125]
["경제성 평가","집합처리"]

{"sheet":"도암","index":15,"n_rows":54,"n_cols":11,"rows_kept":54,"cut":false,"hidden":false,"merged":[[19,0,19,6],[0,0,0,6],[1,0,1,6],[2,0,2,6],[4,0,4,6],[6,0,6,6],[8,0,8,6],[10,0,10,6],[12,0,12,6],[13,0,13,6],[15,0,15,6],[17,0,17,6],[41,0,41,2],[21,0,21,6],[23,0,23,6],[24,0,24,6],[25,0,25,6],[27,0,27,6],[29,0,29,6],[31,0,31,6],[33,0,33,6],[35,0,35,6],[37,0,37,6],[39,0,39,6],[51,1,51,4],[52,1,52,4],[53,1,53,4],[45,0,47,0],[45,1,45,4],[46,1,46,2],[46,3,46,4],[50,1,50,2],[50,3,50,4]]}
["경제성 평가 일반 - 집합처리와 개별처리의 비교",null,null,null,null,null,null,null,"도암"]
["개요: 하수처리구역 설정 시 처리구역으로 설정하여 집합처리하는 것과, 처리구역으로 설정하지 않고 개별처리하는 것이 어느 것이 더 경제적인가? "]
["※아래 질문에 대한 답을 오른쪽 노란 칸에 적어 주십시오. 질문에 대한 답을 하실 수 없는 경우에는 파란색 빈칸에 있는 숫자를 노란색 칸에 적어 주십시오"]
[]
["1. 하수처리구역의 목표 BOD를 선택해 주십시오."]
[]
["2. 대상지역의 예상 가구수는 몇 가구입니까?",null,null,null,null,null,null,null,{"$f":"VLOOKUP($I$1,'검토 시설개요'!$A:$H,3,FALSE)","v":299}]
[]
["3. 대상지역에 집합처리시설을 건설할 경우 필요한 하수관거거리는 몇 미터입니까?",null,null,null,null,null,null,null,{"$f":"VLOOKUP($I$1,'검토 시설개요'!$A:$H,8,FALSE)","v":7917}]
[]
["4. 계획 중인 집합처리시설의 건설비는 얼마입니까? (단위: 백만원)",null,null,null,null,null,null,null,{"$f":"K11","v":1130.8255668521458},null,{"$f":"30.184*(0.6*I7)^0.6982","v":1130.8255668521458}]
[]
["5. 위 건설비 중 기계 및 전기시설의 비중은 얼마입니까?",null,null,null,null,null,null,null,{"$f":"K13","v":0.5},null,0.5]
["   (나머지는 건축비, 단지조성비 등 구조물 비용입니다)",null,null,null,null,null,null,null," "]
[]
["6. 계획 중인 집합처리시설의 연간 유지관리비는 얼마입니까? (단위: 백만원)",null,null,null,null,null,null,null,{"$f":"K16","v":24.798331230918194},null,{"$f":"0.1803*(0.6*I7)^0.9488","v":24.798331230918194}]
[]
["7. 계획 중인 집합처리시설 기계 및 전기시설의 내구연한은 얼마입니까? (단위: 년)",null,null,null,null,null,null,null,{"$f":"K18","v":15},null,15]
[]
["8. 계획 중인 집합처리시설  구조물의 내구연한은 얼마입니까? (단위: 년)",null,null,null,null,null,null,null,{"$f":"K20","v":50},null,50]
[]
["9. 대상지역에 개인하수처리시설(1톤/일)을 설치할 경우 건설비는 얼마입니까? (단위: 백만원)",null,null,null,null,null,null,null,{"$f":"K22","v":4.16},null,4.16]
[]
["10. 개인하수처리시설 건설비 중 기계 및 전기시설의 비중은 얼마입니까?",null,null,null,null,null,null,null,{"$f":"K24","v":0.5},null,0.5]
["   (나머지는 건축비 등 구조물 비용입니다)"]
["11. 개인하수처리시설의 연간 유지관리비는 어느 정도입니까? (단위: 백만원)",null,null,null,null,null,null,null,{"$f":"K26","v":0.64600000000000002},null,0.64600000000000002]
[]
["12. 개인하수처리시설 기계 및 전기시설의 내구연한은 얼마입니까? (단위: 년)",null,null,null,null,null,null,null,{"$f":"K28","v":10},null,10]
[]
["13. 개인하수처리시설 구조물의 내구연한은 얼마입니까? (단위: 년)",null,null,null,null,null,null,null,{"$f":"K30","v":30},null,30]
[]
["14. 집합처리 시 하수관거의 총 건설비는 얼마입니까? (단위: 백만원)",null,null,null,null,null,null,null,{"$f":"K32","v":2662.1421},null,{"$f":"229.248+0.3073*I9","v":2662.1421}]
[]
["15. 하수관거의 연간 유지관리비는 얼마입니까? (단위: 백만원)",null,null,null,null,null,null,null,{"$f":"K34","v":23.751000000000001},null,{"$f":"0.003*I9","v":23.751000000000001}]
[]
["16. 하수관거의 내구연한은 얼마입니까? (단위: 년)",null,null,null,null,null,null,null,{"$f":"K36","v":40},null,40]
[]
["17. 할인율은 얼마입니까? (단위: %)",null,null,null,null,null,null,null,5.5,null,5.5]
[]
["18. 향후 50년간 물가상승률은 어느정도로 예상합니까? (단위: %)",null,null,null,null,null,null,null,{"$f":"K40","v":3},null,3]
[]
[]
[]
[]
[]
["구 분","처리 비용 (현재가치) (단위: 백만원)"]
[null,"개별처리",null,"집합처리"]
[null,"건설비","유지관리비","건설비","유지관리비"]
["처리시설",2962.1904296875,5693.8203125,1992.939697265625,731.008544921875]
["관거",null,null,3682.19287109375,700.13519287109375]
["합계",8656.0107421875,null,7106.2763671875]
["총기준관거거리(m)",10935.0869140625]
["기준관거거리(m)",36.572196960449219]
["경제성 평가","집합처리"]

{"sheet":"태화","index":16,"n_rows":54,"n_cols":11,"rows_kept":54,"cut":false,"hidden":false,"merged":[[19,0,19,6],[0,0,0,6],[1,0,1,6],[2,0,2,6],[4,0,4,6],[6,0,6,6],[8,0,8,6],[10,0,10,6],[12,0,12,6],[13,0,13,6],[15,0,15,6],[17,0,17,6],[41,0,41,2],[21,0,21,6],[23,0,23,6],[24,0,24,6],[25,0,25,6],[27,0,27,6],[29,0,29,6],[31,0,31,6],[33,0,33,6],[35,0,35,6],[37,0,37,6],[39,0,39,6],[51,1,51,4],[52,1,52,4],[53,1,53,4],[45,0,47,0],[45,1,45,4],[46,1,46,2],[46,3,46,4],[50,1,50,2],[50,3,50,4]]}
["경제성 평가 일반 - 집합처리와 개별처리의 비교",null,null,null,null,null,null,null,"태화"]
["개요: 하수처리구역 설정 시 처리구역으로 설정하여 집합처리하는 것과, 처리구역으로 설정하지 않고 개별처리하는 것이 어느 것이 더 경제적인가? "]
["※아래 질문에 대한 답을 오른쪽 노란 칸에 적어 주십시오. 질문에 대한 답을 하실 수 없는 경우에는 파란색 빈칸에 있는 숫자를 노란색 칸에 적어 주십시오"]
[]
["1. 하수처리구역의 목표 BOD를 선택해 주십시오."]
[]
["2. 대상지역의 예상 가구수는 몇 가구입니까?",null,null,null,null,null,null,null,{"$f":"VLOOKUP($I$1,'검토 시설개요'!$A:$H,3,FALSE)","v":177}]
[]
["3. 대상지역에 집합처리시설을 건설할 경우 필요한 하수관거거리는 몇 미터입니까?",null,null,null,null,null,null,null,{"$f":"VLOOKUP($I$1,'검토 시설개요'!$A:$H,8,FALSE)","v":4862}]
[]
["4. 계획 중인 집합처리시설의 건설비는 얼마입니까? (단위: 백만원)",null,null,null,null,null,null,null,{"$f":"K11","v":784.18210913075461},null,{"$f":"30.184*(0.6*I7)^0.6982","v":784.18210913075461}]
[]
["5. 위 건설비 중 기계 및 전기시설의 비중은 얼마입니까?",null,null,null,null,null,null,null,{"$f":"K13","v":0.5},null,0.5]
["   (나머지는 건축비, 단지조성비 등 구조물 비용입니다)",null,null,null,null,null,null,null," "]
[]
["6. 계획 중인 집합처리시설의 연간 유지관리비는 얼마입니까? (단위: 백만원)",null,null,null,null,null,null,null,{"$f":"K16","v":15.079351620449012},null,{"$f":"0.1803*(0.6*I7)^0.9488","v":15.079351620449012}]
[]
["7. 계획 중인 집합처리시설 기계 및 전기시설의 내구연한은 얼마입니까? (단위: 년)",null,null,null,null,null,null,null,{"$f":"K18","v":15},null,15]
[]
["8. 계획 중인 집합처리시설  구조물의 내구연한은 얼마입니까? (단위: 년)",null,null,null,null,null,null,null,{"$f":"K20","v":50},null,50]
[]
["9. 대상지역에 개인하수처리시설(1톤/일)을 설치할 경우 건설비는 얼마입니까? (단위: 백만원)",null,null,null,null,null,null,null,{"$f":"K22","v":4.16},null,4.16]
[]
["10. 개인하수처리시설 건설비 중 기계 및 전기시설의 비중은 얼마입니까?",null,null,null,null,null,null,null,{"$f":"K24","v":0.5},null,0.5]
["   (나머지는 건축비 등 구조물 비용입니다)"]
["11. 개인하수처리시설의 연간 유지관리비는 어느 정도입니까? (단위: 백만원)",null,null,null,null,null,null,null,{"$f":"K26","v":0.64600000000000002},null,0.64600000000000002]
[]
["12. 개인하수처리시설 기계 및 전기시설의 내구연한은 얼마입니까? (단위: 년)",null,null,null,null,null,null,null,{"$f":"K28","v":10},null,10]
[]
["13. 개인하수처리시설 구조물의 내구연한은 얼마입니까? (단위: 년)",null,null,null,null,null,null,null,{"$f":"K30","v":30},null,30]
[]
["14. 집합처리 시 하수관거의 총 건설비는 얼마입니까? (단위: 백만원)",null,null,null,null,null,null,null,{"$f":"K32","v":1723.3406000000002},null,{"$f":"229.248+0.3073*I9","v":1723.3406000000002}]
[]
["15. 하수관거의 연간 유지관리비는 얼마입니까? (단위: 백만원)",null,null,null,null,null,null,null,{"$f":"K34","v":14.586},null,{"$f":"0.003*I9","v":14.586}]
[]
["16. 하수관거의 내구연한은 얼마입니까? (단위: 년)",null,null,null,null,null,null,null,{"$f":"K36","v":40},null,40]
[]
["17. 할인율은 얼마입니까? (단위: %)",null,null,null,null,null,null,null,5.5,null,5.5]
[]
["18. 향후 50년간 물가상승률은 어느정도로 예상합니까? (단위: %)",null,null,null,null,null,null,null,{"$f":"K40","v":3},null,3]
[]
[]
[]
[]
[]
["구 분","처리 비용 (현재가치) (단위: 백만원)"]
[null,"개별처리",null,"집합처리"]
[null,"건설비","유지관리비","건설비","유지관리비"]
["처리시설",1753.537353515625,3370.589111328125,1382.023681640625,444.51116943359375]
["관거",null,null,2383.671630859375,429.96810913085937]
["합계",5124.12646484375,null,4640.1748046875]
["총기준관거거리(m)",5804.48974609375]
["기준관거거리(m)",32.793727874755859]
["경제성 평가","집합처리"]

{"sheet":"신암","index":17,"n_rows":54,"n_cols":11,"rows_kept":54,"cut":false,"hidden":false,"merged":[[19,0,19,6],[0,0,0,6],[1,0,1,6],[2,0,2,6],[4,0,4,6],[6,0,6,6],[8,0,8,6],[10,0,10,6],[12,0,12,6],[13,0,13,6],[15,0,15,6],[17,0,17,6],[41,0,41,2],[21,0,21,6],[23,0,23,6],[24,0,24,6],[25,0,25,6],[27,0,27,6],[29,0,29,6],[31,0,31,6],[33,0,33,6],[35,0,35,6],[37,0,37,6],[39,0,39,6],[51,1,51,4],[52,1,52,4],[53,1,53,4],[45,0,47,0],[45,1,45,4],[46,1,46,2],[46,3,46,4],[50,1,50,2],[50,3,50,4]]}
["경제성 평가 일반 - 집합처리와 개별처리의 비교",null,null,null,null,null,null,null,"신암"]
["개요: 하수처리구역 설정 시 처리구역으로 설정하여 집합처리하는 것과, 처리구역으로 설정하지 않고 개별처리하는 것이 어느 것이 더 경제적인가? "]
["※아래 질문에 대한 답을 오른쪽 노란 칸에 적어 주십시오. 질문에 대한 답을 하실 수 없는 경우에는 파란색 빈칸에 있는 숫자를 노란색 칸에 적어 주십시오"]
[]
["1. 하수처리구역의 목표 BOD를 선택해 주십시오."]
[]
["2. 대상지역의 예상 가구수는 몇 가구입니까?",null,null,null,null,null,null,null,{"$f":"VLOOKUP($I$1,'검토 시설개요'!$A:$H,3,FALSE)","v":202}]
[]
["3. 대상지역에 집합처리시설을 건설할 경우 필요한 하수관거거리는 몇 미터입니까?",null,null,null,null,null,null,null,{"$f":"VLOOKUP($I$1,'검토 시설개요'!$A:$H,8,FALSE)","v":5419}]
[]
["4. 계획 중인 집합처리시설의 건설비는 얼마입니까? (단위: 백만원)",null,null,null,null,null,null,null,{"$f":"K11","v":859.96013925863906},null,{"$f":"30.184*(0.6*I7)^0.6982","v":859.96013925863906}]
[]
["5. 위 건설비 중 기계 및 전기시설의 비중은 얼마입니까?",null,null,null,null,null,null,null,{"$f":"K13","v":0.5},null,0.5]
["   (나머지는 건축비, 단지조성비 등 구조물 비용입니다)",null,null,null,null,null,null,null," "]
[]
["6. 계획 중인 집합처리시설의 연간 유지관리비는 얼마입니까? (단위: 백만원)",null,null,null,null,null,null,null,{"$f":"K16","v":17.093185762914793},null,{"$f":"0.1803*(0.6*I7)^0.9488","v":17.093185762914793}]
[]
["7. 계획 중인 집합처리시설 기계 및 전기시설의 내구연한은 얼마입니까? (단위: 년)",null,null,null,null,null,null,null,{"$f":"K18","v":15},null,15]
[]
["8. 계획 중인 집합처리시설  구조물의 내구연한은 얼마입니까? (단위: 년)",null,null,null,null,null,null,null,{"$f":"K20","v":50},null,50]
[]
["9. 대상지역에 개인하수처리시설(1톤/일)을 설치할 경우 건설비는 얼마입니까? (단위: 백만원)",null,null,null,null,null,null,null,{"$f":"K22","v":4.16},null,4.16]
[]
["10. 개인하수처리시설 건설비 중 기계 및 전기시설의 비중은 얼마입니까?",null,null,null,null,null,null,null,{"$f":"K24","v":0.5},null,0.5]
["   (나머지는 건축비 등 구조물 비용입니다)"]
["11. 개인하수처리시설의 연간 유지관리비는 어느 정도입니까? (단위: 백만원)",null,null,null,null,null,null,null,{"$f":"K26","v":0.64600000000000002},null,0.64600000000000002]
[]
["12. 개인하수처리시설 기계 및 전기시설의 내구연한은 얼마입니까? (단위: 년)",null,null,null,null,null,null,null,{"$f":"K28","v":10},null,10]
[]
["13. 개인하수처리시설 구조물의 내구연한은 얼마입니까? (단위: 년)",null,null,null,null,null,null,null,{"$f":"K30","v":30},null,30]
[]
["14. 집합처리 시 하수관거의 총 건설비는 얼마입니까? (단위: 백만원)",null,null,null,null,null,null,null,{"$f":"K32","v":1894.5067000000001},null,{"$f":"229.248+0.3073*I9","v":1894.5067000000001}]
[]
["15. 하수관거의 연간 유지관리비는 얼마입니까? (단위: 백만원)",null,null,null,null,null,null,null,{"$f":"K34","v":16.257000000000001},null,{"$f":"0.003*I9","v":16.257000000000001}]
[]
["16. 하수관거의 내구연한은 얼마입니까? (단위: 년)",null,null,null,null,null,null,null,{"$f":"K36","v":40},null,40]
[]
["17. 할인율은 얼마입니까? (단위: %)",null,null,null,null,null,null,null,5.5,null,5.5]
[]
["18. 향후 50년간 물가상승률은 어느정도로 예상합니까? (단위: %)",null,null,null,null,null,null,null,{"$f":"K40","v":3},null,3]
[]
[]
[]
[]
[]
["구 분","처리 비용 (현재가치) (단위: 백만원)"]
[null,"개별처리",null,"집합처리"]
[null,"건설비","유지관리비","건설비","유지관리비"]
["처리시설",2001.212158203125,3846.6611328125,1515.5731201171875,503.875244140625]
["관거",null,null,2620.42333984375,479.22604370117187]
["합계",5847.873046875,null,5119.09765625]
["총기준관거거리(m)",6838.28076171875]
["기준관거거리(m)",33.852874755859375]
["경제성 평가","집합처리"]

{"sheet":"광기","index":18,"n_rows":54,"n_cols":11,"rows_kept":54,"cut":false,"hidden":false,"merged":[[19,0,19,6],[0,0,0,6],[1,0,1,6],[2,0,2,6],[4,0,4,6],[6,0,6,6],[8,0,8,6],[10,0,10,6],[12,0,12,6],[13,0,13,6],[15,0,15,6],[17,0,17,6],[41,0,41,2],[21,0,21,6],[23,0,23,6],[24,0,24,6],[25,0,25,6],[27,0,27,6],[29,0,29,6],[31,0,31,6],[33,0,33,6],[35,0,35,6],[37,0,37,6],[39,0,39,6],[51,1,51,4],[52,1,52,4],[53,1,53,4],[45,0,47,0],[45,1,45,4],[46,1,46,2],[46,3,46,4],[50,1,50,2],[50,3,50,4]]}
["경제성 평가 일반 - 집합처리와 개별처리의 비교",null,null,null,null,null,null,null,"광기"]
["개요: 하수처리구역 설정 시 처리구역으로 설정하여 집합처리하는 것과, 처리구역으로 설정하지 않고 개별처리하는 것이 어느 것이 더 경제적인가? "]
["※아래 질문에 대한 답을 오른쪽 노란 칸에 적어 주십시오. 질문에 대한 답을 하실 수 없는 경우에는 파란색 빈칸에 있는 숫자를 노란색 칸에 적어 주십시오"]
[]
["1. 하수처리구역의 목표 BOD를 선택해 주십시오."]
[]
["2. 대상지역의 예상 가구수는 몇 가구입니까?",null,null,null,null,null,null,null,{"$f":"VLOOKUP($I$1,'검토 시설개요'!$A:$H,3,FALSE)","v":215}]
[]
["3. 대상지역에 집합처리시설을 건설할 경우 필요한 하수관거거리는 몇 미터입니까?",null,null,null,null,null,null,null,{"$f":"VLOOKUP($I$1,'검토 시설개요'!$A:$H,8,FALSE)","v":5415}]
[]
["4. 계획 중인 집합처리시설의 건설비는 얼마입니까? (단위: 백만원)",null,null,null,null,null,null,null,{"$f":"K11","v":898.2361467507186},null,{"$f":"30.184*(0.6*I7)^0.6982","v":898.2361467507186}]
[]
["5. 위 건설비 중 기계 및 전기시설의 비중은 얼마입니까?",null,null,null,null,null,null,null,{"$f":"K13","v":0.5},null,0.5]
["   (나머지는 건축비, 단지조성비 등 구조물 비용입니다)",null,null,null,null,null,null,null," "]
[]
["6. 계획 중인 집합처리시설의 연간 유지관리비는 얼마입니까? (단위: 백만원)",null,null,null,null,null,null,null,{"$f":"K16","v":18.135237347910721},null,{"$f":"0.1803*(0.6*I7)^0.9488","v":18.135237347910721}]
[]
["7. 계획 중인 집합처리시설 기계 및 전기시설의 내구연한은 얼마입니까? (단위: 년)",null,null,null,null,null,null,null,{"$f":"K18","v":15},null,15]
[]
["8. 계획 중인 집합처리시설  구조물의 내구연한은 얼마입니까? (단위: 년)",null,null,null,null,null,null,null,{"$f":"K20","v":50},null,50]
[]
["9. 대상지역에 개인하수처리시설(1톤/일)을 설치할 경우 건설비는 얼마입니까? (단위: 백만원)",null,null,null,null,null,null,null,{"$f":"K22","v":4.16},null,4.16]
[]
["10. 개인하수처리시설 건설비 중 기계 및 전기시설의 비중은 얼마입니까?",null,null,null,null,null,null,null,{"$f":"K24","v":0.5},null,0.5]
["   (나머지는 건축비 등 구조물 비용입니다)"]
["11. 개인하수처리시설의 연간 유지관리비는 어느 정도입니까? (단위: 백만원)",null,null,null,null,null,null,null,{"$f":"K26","v":0.64600000000000002},null,0.64600000000000002]
[]
["12. 개인하수처리시설 기계 및 전기시설의 내구연한은 얼마입니까? (단위: 년)",null,null,null,null,null,null,null,{"$f":"K28","v":10},null,10]
[]
["13. 개인하수처리시설 구조물의 내구연한은 얼마입니까? (단위: 년)",null,null,null,null,null,null,null,{"$f":"K30","v":30},null,30]
[]
["14. 집합처리 시 하수관거의 총 건설비는 얼마입니까? (단위: 백만원)",null,null,null,null,null,null,null,{"$f":"K32","v":1893.2775000000001},null,{"$f":"229.248+0.3073*I9","v":1893.2775000000001}]
[]
["15. 하수관거의 연간 유지관리비는 얼마입니까? (단위: 백만원)",null,null,null,null,null,null,null,{"$f":"K34","v":16.245000000000001},null,{"$f":"0.003*I9","v":16.245000000000001}]
[]
["16. 하수관거의 내구연한은 얼마입니까? (단위: 년)",null,null,null,null,null,null,null,{"$f":"K36","v":40},null,40]
[]
["17. 할인율은 얼마입니까? (단위: %)",null,null,null,null,null,null,null,5.5,null,5.5]
[]
["18. 향후 50년간 물가상승률은 어느정도로 예상합니까? (단위: %)",null,null,null,null,null,null,null,{"$f":"K40","v":3},null,3]
[]
[]
[]
[]
[]
["구 분","처리 비용 (현재가치) (단위: 백만원)"]
[null,"개별처리",null,"집합처리"]
[null,"건설비","유지관리비","건설비","유지관리비"]
["처리시설",2130.003173828125,4094.218505859375,1583.02978515625,534.59295654296875]
["관거",null,null,2618.72314453125,478.87234497070312]
["합계",6224.2216796875,null,5215.21826171875]
["총기준관거거리(m)",7380.021484375]
["기준관거거리(m)",34.325679779052734]
["경제성 평가","집합처리"]

{"sheet":"무안","index":19,"n_rows":54,"n_cols":11,"rows_kept":54,"cut":false,"hidden":false,"merged":[[19,0,19,6],[0,0,0,6],[1,0,1,6],[2,0,2,6],[4,0,4,6],[6,0,6,6],[8,0,8,6],[10,0,10,6],[12,0,12,6],[13,0,13,6],[15,0,15,6],[17,0,17,6],[41,0,41,2],[21,0,21,6],[23,0,23,6],[24,0,24,6],[25,0,25,6],[27,0,27,6],[29,0,29,6],[31,0,31,6],[33,0,33,6],[35,0,35,6],[37,0,37,6],[39,0,39,6],[51,1,51,4],[52,1,52,4],[53,1,53,4],[45,0,47,0],[45,1,45,4],[46,1,46,2],[46,3,46,4],[50,1,50,2],[50,3,50,4]]}
["경제성 평가 일반 - 집합처리와 개별처리의 비교",null,null,null,null,null,null,null,"무안"]
["개요: 하수처리구역 설정 시 처리구역으로 설정하여 집합처리하는 것과, 처리구역으로 설정하지 않고 개별처리하는 것이 어느 것이 더 경제적인가? "]
["※아래 질문에 대한 답을 오른쪽 노란 칸에 적어 주십시오. 질문에 대한 답을 하실 수 없는 경우에는 파란색 빈칸에 있는 숫자를 노란색 칸에 적어 주십시오"]
[]
["1. 하수처리구역의 목표 BOD를 선택해 주십시오."]
[]
["2. 대상지역의 예상 가구수는 몇 가구입니까?",null,null,null,null,null,null,null,{"$f":"VLOOKUP($I$1,'검토 시설개요'!$A:$H,3,FALSE)","v":106}]
[]
["3. 대상지역에 집합처리시설을 건설할 경우 필요한 하수관거거리는 몇 미터입니까?",null,null,null,null,null,null,null,{"$f":"VLOOKUP($I$1,'검토 시설개요'!$A:$H,8,FALSE)","v":3219}]
[]
["4. 계획 중인 집합처리시설의 건설비는 얼마입니까? (단위: 백만원)",null,null,null,null,null,null,null,{"$f":"K11","v":548.21454053393916},null,{"$f":"30.184*(0.6*I7)^0.6982","v":548.21454053393916}]
[]
["5. 위 건설비 중 기계 및 전기시설의 비중은 얼마입니까?",null,null,null,null,null,null,null,{"$f":"K13","v":0.5},null,0.5]
["   (나머지는 건축비, 단지조성비 등 구조물 비용입니다)",null,null,null,null,null,null,null," "]
[]
["6. 계획 중인 집합처리시설의 연간 유지관리비는 얼마입니까? (단위: 백만원)",null,null,null,null,null,null,null,{"$f":"K16","v":9.2707706685815445},null,{"$f":"0.1803*(0.6*I7)^0.9488","v":9.2707706685815445}]
[]
["7. 계획 중인 집합처리시설 기계 및 전기시설의 내구연한은 얼마입니까? (단위: 년)",null,null,null,null,null,null,null,{"$f":"K18","v":15},null,15]
[]
["8. 계획 중인 집합처리시설  구조물의 내구연한은 얼마입니까? (단위: 년)",null,null,null,null,null,null,null,{"$f":"K20","v":50},null,50]
[]
["9. 대상지역에 개인하수처리시설(1톤/일)을 설치할 경우 건설비는 얼마입니까? (단위: 백만원)",null,null,null,null,null,null,null,{"$f":"K22","v":4.16},null,4.16]
[]
["10. 개인하수처리시설 건설비 중 기계 및 전기시설의 비중은 얼마입니까?",null,null,null,null,null,null,null,{"$f":"K24","v":0.5},null,0.5]
["   (나머지는 건축비 등 구조물 비용입니다)"]
["11. 개인하수처리시설의 연간 유지관리비는 어느 정도입니까? (단위: 백만원)",null,null,null,null,null,null,null,{"$f":"K26","v":0.64600000000000002},null,0.64600000000000002]
[]
["12. 개인하수처리시설 기계 및 전기시설의 내구연한은 얼마입니까? (단위: 년)",null,null,null,null,null,null,null,{"$f":"K28","v":10},null,10]
[]
["13. 개인하수처리시설 구조물의 내구연한은 얼마입니까? (단위: 년)",null,null,null,null,null,null,null,{"$f":"K30","v":30},null,30]
[]
["14. 집합처리 시 하수관거의 총 건설비는 얼마입니까? (단위: 백만원)",null,null,null,null,null,null,null,{"$f":"K32","v":1218.4467},null,{"$f":"229.248+0.3073*I9","v":1218.4467}]
[]
["15. 하수관거의 연간 유지관리비는 얼마입니까? (단위: 백만원)",null,null,null,null,null,null,null,{"$f":"K34","v":9.657},null,{"$f":"0.003*I9","v":9.657}]
[]
["16. 하수관거의 내구연한은 얼마입니까? (단위: 년)",null,null,null,null,null,null,null,{"$f":"K36","v":40},null,40]
[]
["17. 할인율은 얼마입니까? (단위: %)",null,null,null,null,null,null,null,5.5,null,5.5]
[]
["18. 향후 50년간 물가상승률은 어느정도로 예상합니까? (단위: %)",null,null,null,null,null,null,null,{"$f":"K40","v":3},null,3]
[]
[]
[]
[]
[]
["구 분","처리 비용 (현재가치) (단위: 백만원)"]
[null,"개별처리",null,"집합처리"]
[null,"건설비","유지관리비","건설비","유지관리비"]
["처리시설",1050.14111328125,2018.544921875,966.16015625,273.28506469726562]
["관거",null,null,1685.31787109375,284.67034912109375]
["합계",3068.68603515625,null,3209.433349609375]
["총기준관거거리(m)",2944.896240234375]
["기준관거거리(m)",27.782039642333984]
["경제성 평가","개별처리"]

{"sheet":"신안","index":20,"n_rows":54,"n_cols":11,"rows_kept":54,"cut":false,"hidden":false,"merged":[[19,0,19,6],[0,0,0,6],[1,0,1,6],[2,0,2,6],[4,0,4,6],[6,0,6,6],[8,0,8,6],[10,0,10,6],[12,0,12,6],[13,0,13,6],[15,0,15,6],[17,0,17,6],[41,0,41,2],[21,0,21,6],[23,0,23,6],[24,0,24,6],[25,0,25,6],[27,0,27,6],[29,0,29,6],[31,0,31,6],[33,0,33,6],[35,0,35,6],[37,0,37,6],[39,0,39,6],[51,1,51,4],[52,1,52,4],[53,1,53,4],[45,0,47,0],[45,1,45,4],[46,1,46,2],[46,3,46,4],[50,1,50,2],[50,3,50,4]]}
["경제성 평가 일반 - 집합처리와 개별처리의 비교",null,null,null,null,null,null,null,"신안"]
["개요: 하수처리구역 설정 시 처리구역으로 설정하여 집합처리하는 것과, 처리구역으로 설정하지 않고 개별처리하는 것이 어느 것이 더 경제적인가? "]
["※아래 질문에 대한 답을 오른쪽 노란 칸에 적어 주십시오. 질문에 대한 답을 하실 수 없는 경우에는 파란색 빈칸에 있는 숫자를 노란색 칸에 적어 주십시오"]
[]
["1. 하수처리구역의 목표 BOD를 선택해 주십시오."]
[]
["2. 대상지역의 예상 가구수는 몇 가구입니까?",null,null,null,null,null,null,null,{"$f":"VLOOKUP($I$1,'검토 시설개요'!$A:$H,3,FALSE)","v":239}]
[]
["3. 대상지역에 집합처리시설을 건설할 경우 필요한 하수관거거리는 몇 미터입니까?",null,null,null,null,null,null,null,{"$f":"VLOOKUP($I$1,'검토 시설개요'!$A:$H,8,FALSE)","v":5920}]
[]
["4. 계획 중인 집합처리시설의 건설비는 얼마입니까? (단위: 백만원)",null,null,null,null,null,null,null,{"$f":"K11","v":967.11787351187866},null,{"$f":"30.184*(0.6*I7)^0.6982","v":967.11787351187866}]
[]
["5. 위 건설비 중 기계 및 전기시설의 비중은 얼마입니까?",null,null,null,null,null,null,null,{"$f":"K13","v":0.5},null,0.5]
["   (나머지는 건축비, 단지조성비 등 구조물 비용입니다)",null,null,null,null,null,null,null," "]
[]
["6. 계획 중인 집합처리시설의 연간 유지관리비는 얼마입니까? (단위: 백만원)",null,null,null,null,null,null,null,{"$f":"K16","v":20.050701034801243},null,{"$f":"0.1803*(0.6*I7)^0.9488","v":20.050701034801243}]
[]
["7. 계획 중인 집합처리시설 기계 및 전기시설의 내구연한은 얼마입니까? (단위: 년)",null,null,null,null,null,null,null,{"$f":"K18","v":15},null,15]
[]
["8. 계획 중인 집합처리시설  구조물의 내구연한은 얼마입니까? (단위: 년)",null,null,null,null,null,null,null,{"$f":"K20","v":50},null,50]
[]
["9. 대상지역에 개인하수처리시설(1톤/일)을 설치할 경우 건설비는 얼마입니까? (단위: 백만원)",null,null,null,null,null,null,null,{"$f":"K22","v":4.16},null,4.16]
[]
["10. 개인하수처리시설 건설비 중 기계 및 전기시설의 비중은 얼마입니까?",null,null,null,null,null,null,null,{"$f":"K24","v":0.5},null,0.5]
["   (나머지는 건축비 등 구조물 비용입니다)"]
["11. 개인하수처리시설의 연간 유지관리비는 어느 정도입니까? (단위: 백만원)",null,null,null,null,null,null,null,{"$f":"K26","v":0.64600000000000002},null,0.64600000000000002]
[]
["12. 개인하수처리시설 기계 및 전기시설의 내구연한은 얼마입니까? (단위: 년)",null,null,null,null,null,null,null,{"$f":"K28","v":10},null,10]
[]
["13. 개인하수처리시설 구조물의 내구연한은 얼마입니까? (단위: 년)",null,null,null,null,null,null,null,{"$f":"K30","v":30},null,30]
[]
["14. 집합처리 시 하수관거의 총 건설비는 얼마입니까? (단위: 백만원)",null,null,null,null,null,null,null,{"$f":"K32","v":2048.4639999999999},null,{"$f":"229.248+0.3073*I9","v":2048.4639999999999}]
[]
["15. 하수관거의 연간 유지관리비는 얼마입니까? (단위: 백만원)",null,null,null,null,null,null,null,{"$f":"K34","v":17.760000000000002},null,{"$f":"0.003*I9","v":17.760000000000002}]
[]
["16. 하수관거의 내구연한은 얼마입니까? (단위: 년)",null,null,null,null,null,null,null,{"$f":"K36","v":40},null,40]
[]
["17. 할인율은 얼마입니까? (단위: %)",null,null,null,null,null,null,null,5.5,null,5.5]
[]
["18. 향후 50년간 물가상승률은 어느정도로 예상합니까? (단위: %)",null,null,null,null,null,null,null,{"$f":"K40","v":3},null,3]
[]
[]
[]
[]
[]
["구 분","처리 비용 (현재가치) (단위: 백만원)"]
[null,"개별처리",null,"집합처리"]
[null,"건설비","유지관리비","건설비","유지관리비"]
["처리시설",2367.77099609375,4551.24755859375,1704.42529296875,591.05731201171875]
["관거",null,null,2833.372314453125,523.53167724609375]
["합계",6919.0185546875,null,5652.38671875]
["총기준관거거리(m)",8386.7490234375]
["기준관거거리(m)",35.090999603271484]
["경제성 평가","집합처리"]

{"sheet":"대평","index":21,"n_rows":54,"n_cols":11,"rows_kept":54,"cut":false,"hidden":false,"merged":[[19,0,19,6],[0,0,0,6],[1,0,1,6],[2,0,2,6],[4,0,4,6],[6,0,6,6],[8,0,8,6],[10,0,10,6],[12,0,12,6],[13,0,13,6],[15,0,15,6],[17,0,17,6],[41,0,41,2],[21,0,21,6],[23,0,23,6],[24,0,24,6],[25,0,25,6],[27,0,27,6],[29,0,29,6],[31,0,31,6],[33,0,33,6],[35,0,35,6],[37,0,37,6],[39,0,39,6],[51,1,51,4],[52,1,52,4],[53,1,53,4],[45,0,47,0],[45,1,45,4],[46,1,46,2],[46,3,46,4],[50,1,50,2],[50,3,50,4]]}
["경제성 평가 일반 - 집합처리와 개별처리의 비교",null,null,null,null,null,null,null,"대평"]
["개요: 하수처리구역 설정 시 처리구역으로 설정하여 집합처리하는 것과, 처리구역으로 설정하지 않고 개별처리하는 것이 어느 것이 더 경제적인가? "]
["※아래 질문에 대한 답을 오른쪽 노란 칸에 적어 주십시오. 질문에 대한 답을 하실 수 없는 경우에는 파란색 빈칸에 있는 숫자를 노란색 칸에 적어 주십시오"]
[]
["1. 하수처리구역의 목표 BOD를 선택해 주십시오."]
[]
["2. 대상지역의 예상 가구수는 몇 가구입니까?",null,null,null,null,null,null,null,{"$f":"VLOOKUP($I$1,'검토 시설개요'!$A:$H,3,FALSE)","v":139}]
[]
["3. 대상지역에 집합처리시설을 건설할 경우 필요한 하수관거거리는 몇 미터입니까?",null,null,null,null,null,null,null,{"$f":"VLOOKUP($I$1,'검토 시설개요'!$A:$H,8,FALSE)","v":3260}]
[]
["4. 계획 중인 집합처리시설의 건설비는 얼마입니까? (단위: 백만원)",null,null,null,null,null,null,null,{"$f":"K11","v":662.42227634962023},null,{"$f":"30.184*(0.6*I7)^0.6982","v":662.42227634962023}]
[]
["5. 위 건설비 중 기계 및 전기시설의 비중은 얼마입니까?",null,null,null,null,null,null,null,{"$f":"K13","v":0.5},null,0.5]
["   (나머지는 건축비, 단지조성비 등 구조물 비용입니다)",null,null,null,null,null,null,null," "]
[]
["6. 계획 중인 집합처리시설의 연간 유지관리비는 얼마입니까? (단위: 백만원)",null,null,null,null,null,null,null,{"$f":"K16","v":11.989417277534972},null,{"$f":"0.1803*(0.6*I7)^0.9488","v":11.989417277534972}]
[]
["7. 계획 중인 집합처리시설 기계 및 전기시설의 내구연한은 얼마입니까? (단위: 년)",null,null,null,null,null,null,null,{"$f":"K18","v":15},null,15]
[]
["8. 계획 중인 집합처리시설  구조물의 내구연한은 얼마입니까? (단위: 년)",null,null,null,null,null,null,null,{"$f":"K20","v":50},null,50]
[]
["9. 대상지역에 개인하수처리시설(1톤/일)을 설치할 경우 건설비는 얼마입니까? (단위: 백만원)",null,null,null,null,null,null,null,{"$f":"K22","v":4.16},null,4.16]
[]
["10. 개인하수처리시설 건설비 중 기계 및 전기시설의 비중은 얼마입니까?",null,null,null,null,null,null,null,{"$f":"K24","v":0.5},null,0.5]
["   (나머지는 건축비 등 구조물 비용입니다)"]
["11. 개인하수처리시설의 연간 유지관리비는 어느 정도입니까? (단위: 백만원)",null,null,null,null,null,null,null,{"$f":"K26","v":0.64600000000000002},null,0.64600000000000002]
[]
["12. 개인하수처리시설 기계 및 전기시설의 내구연한은 얼마입니까? (단위: 년)",null,null,null,null,null,null,null,{"$f":"K28","v":10},null,10]
[]
["13. 개인하수처리시설 구조물의 내구연한은 얼마입니까? (단위: 년)",null,null,null,null,null,null,null,{"$f":"K30","v":30},null,30]
[]
["14. 집합처리 시 하수관거의 총 건설비는 얼마입니까? (단위: 백만원)",null,null,null,null,null,null,null,{"$f":"K32","v":1231.046},null,{"$f":"229.248+0.3073*I9","v":1231.046}]
[]
["15. 하수관거의 연간 유지관리비는 얼마입니까? (단위: 백만원)",null,null,null,null,null,null,null,{"$f":"K34","v":9.7799999999999994},null,{"$f":"0.003*I9","v":9.7799999999999994}]
[]
["16. 하수관거의 내구연한은 얼마입니까? (단위: 년)",null,null,null,null,null,null,null,{"$f":"K36","v":40},null,40]
[]
["17. 할인율은 얼마입니까? (단위: %)",null,null,null,null,null,null,null,5.5,null,5.5]
[]
["18. 향후 50년간 물가상승률은 어느정도로 예상합니까? (단위: %)",null,null,null,null,null,null,null,{"$f":"K40","v":3},null,3]
[]
[]
[]
[]
[]
["구 분","처리 비용 (현재가치) (단위: 백만원)"]
[null,"개별처리",null,"집합처리"]
[null,"건설비","유지관리비","건설비","유지관리비"]
["처리시설",1377.07177734375,2646.9599609375,1167.4371337890625,353.4256591796875]
["관거",null,null,1702.744873046875,288.29617309570312]
["합계",4024.03173828125,null,3511.90380859375]
["총기준관거거리(m)",4257.3623046875]
["기준관거거리(m)",30.628505706787109]
["경제성 평가","집합처리"]

{"sheet":"하강","index":22,"n_rows":54,"n_cols":11,"rows_kept":54,"cut":false,"hidden":false,"merged":[[19,0,19,6],[0,0,0,6],[1,0,1,6],[2,0,2,6],[4,0,4,6],[6,0,6,6],[8,0,8,6],[10,0,10,6],[12,0,12,6],[13,0,13,6],[15,0,15,6],[17,0,17,6],[41,0,41,2],[21,0,21,6],[23,0,23,6],[24,0,24,6],[25,0,25,6],[27,0,27,6],[29,0,29,6],[31,0,31,6],[33,0,33,6],[35,0,35,6],[37,0,37,6],[39,0,39,6],[51,1,51,4],[52,1,52,4],[53,1,53,4],[45,0,47,0],[45,1,45,4],[46,1,46,2],[46,3,46,4],[50,1,50,2],[50,3,50,4]]}
["경제성 평가 일반 - 집합처리와 개별처리의 비교",null,null,null,null,null,null,null,"하강"]
["개요: 하수처리구역 설정 시 처리구역으로 설정하여 집합처리하는 것과, 처리구역으로 설정하지 않고 개별처리하는 것이 어느 것이 더 경제적인가? "]
["※아래 질문에 대한 답을 오른쪽 노란 칸에 적어 주십시오. 질문에 대한 답을 하실 수 없는 경우에는 파란색 빈칸에 있는 숫자를 노란색 칸에 적어 주십시오"]
[]
["1. 하수처리구역의 목표 BOD를 선택해 주십시오."]
[]
["2. 대상지역의 예상 가구수는 몇 가구입니까?",null,null,null,null,null,null,null,{"$f":"VLOOKUP($I$1,'검토 시설개요'!$A:$H,3,FALSE)","v":266}]
[]
["3. 대상지역에 집합처리시설을 건설할 경우 필요한 하수관거거리는 몇 미터입니까?",null,null,null,null,null,null,null,{"$f":"VLOOKUP($I$1,'검토 시설개요'!$A:$H,8,FALSE)","v":8049}]
[]
["4. 계획 중인 집합처리시설의 건설비는 얼마입니까? (단위: 백만원)",null,null,null,null,null,null,null,{"$f":"K11","v":1042.1598890627708},null,{"$f":"30.184*(0.6*I7)^0.6982","v":1042.1598890627708}]
[]
["5. 위 건설비 중 기계 및 전기시설의 비중은 얼마입니까?",null,null,null,null,null,null,null,{"$f":"K13","v":0.5},null,0.5]
["   (나머지는 건축비, 단지조성비 등 구조물 비용입니다)",null,null,null,null,null,null,null," "]
[]
["6. 계획 중인 집합처리시설의 연간 유지관리비는 얼마입니까? (단위: 백만원)",null,null,null,null,null,null,null,{"$f":"K16","v":22.193884926442774},null,{"$f":"0.1803*(0.6*I7)^0.9488","v":22.193884926442774}]
[]
["7. 계획 중인 집합처리시설 기계 및 전기시설의 내구연한은 얼마입니까? (단위: 년)",null,null,null,null,null,null,null,{"$f":"K18","v":15},null,15]
[]
["8. 계획 중인 집합처리시설  구조물의 내구연한은 얼마입니까? (단위: 년)",null,null,null,null,null,null,null,{"$f":"K20","v":50},null,50]
[]
["9. 대상지역에 개인하수처리시설(1톤/일)을 설치할 경우 건설비는 얼마입니까? (단위: 백만원)",null,null,null,null,null,null,null,{"$f":"K22","v":4.16},null,4.16]
[]
["10. 개인하수처리시설 건설비 중 기계 및 전기시설의 비중은 얼마입니까?",null,null,null,null,null,null,null,{"$f":"K24","v":0.5},null,0.5]
["   (나머지는 건축비 등 구조물 비용입니다)"]
["11. 개인하수처리시설의 연간 유지관리비는 어느 정도입니까? (단위: 백만원)",null,null,null,null,null,null,null,{"$f":"K26","v":0.64600000000000002},null,0.64600000000000002]
[]
["12. 개인하수처리시설 기계 및 전기시설의 내구연한은 얼마입니까? (단위: 년)",null,null,null,null,null,null,null,{"$f":"K28","v":10},null,10]
[]
["13. 개인하수처리시설 구조물의 내구연한은 얼마입니까? (단위: 년)",null,null,null,null,null,null,null,{"$f":"K30","v":30},null,30]
[]
["14. 집합처리 시 하수관거의 총 건설비는 얼마입니까? (단위: 백만원)",null,null,null,null,null,null,null,{"$f":"K32","v":2702.7057},null,{"$f":"229.248+0.3073*I9","v":2702.7057}]
[]
["15. 하수관거의 연간 유지관리비는 얼마입니까? (단위: 백만원)",null,null,null,null,null,null,null,{"$f":"K34","v":24.147000000000002},null,{"$f":"0.003*I9","v":24.147000000000002}]
[]
["16. 하수관거의 내구연한은 얼마입니까? (단위: 년)",null,null,null,null,null,null,null,{"$f":"K36","v":40},null,40]
[]
["17. 할인율은 얼마입니까? (단위: %)",null,null,null,null,null,null,null,5.5,null,5.5]
[]
["18. 향후 50년간 물가상승률은 어느정도로 예상합니까? (단위: %)",null,null,null,null,null,null,null,{"$f":"K40","v":3},null,3]
[]
[]
[]
[]
[]
["구 분","처리 비용 (현재가치) (단위: 백만원)"]
[null,"개별처리",null,"집합처리"]
[null,"건설비","유지관리비","건설비","유지관리비"]
["처리시설",2635.259765625,5065.4052734375,1836.6776123046875,654.234375]
["관거",null,null,3738.29931640625,711.80853271484375]
["합계",7700.6650390625,null,6941.02001953125]
["총기준관거거리(m)",9528.3994140625]
["기준관거거리(m)",35.821048736572266]
["경제성 평가","집합처리"]

{"sheet":"월곡","index":23,"n_rows":54,"n_cols":11,"rows_kept":54,"cut":false,"hidden":false,"merged":[[19,0,19,6],[0,0,0,6],[1,0,1,6],[2,0,2,6],[4,0,4,6],[6,0,6,6],[8,0,8,6],[10,0,10,6],[12,0,12,6],[13,0,13,6],[15,0,15,6],[17,0,17,6],[41,0,41,2],[21,0,21,6],[23,0,23,6],[24,0,24,6],[25,0,25,6],[27,0,27,6],[29,0,29,6],[31,0,31,6],[33,0,33,6],[35,0,35,6],[37,0,37,6],[39,0,39,6],[51,1,51,4],[52,1,52,4],[53,1,53,4],[45,0,47,0],[45,1,45,4],[46,1,46,2],[46,3,46,4],[50,1,50,2],[50,3,50,4]]}
["경제성 평가 일반 - 집합처리와 개별처리의 비교",null,null,null,null,null,null,null,"월곡"]
["개요: 하수처리구역 설정 시 처리구역으로 설정하여 집합처리하는 것과, 처리구역으로 설정하지 않고 개별처리하는 것이 어느 것이 더 경제적인가? "]
["※아래 질문에 대한 답을 오른쪽 노란 칸에 적어 주십시오. 질문에 대한 답을 하실 수 없는 경우에는 파란색 빈칸에 있는 숫자를 노란색 칸에 적어 주십시오"]
[]
["1. 하수처리구역의 목표 BOD를 선택해 주십시오."]
[]
["2. 대상지역의 예상 가구수는 몇 가구입니까?",null,null,null,null,null,null,null,{"$f":"VLOOKUP($I$1,'검토 시설개요'!$A:$H,3,FALSE)","v":74}]
[]
["3. 대상지역에 집합처리시설을 건설할 경우 필요한 하수관거거리는 몇 미터입니까?",null,null,null,null,null,null,null,{"$f":"VLOOKUP($I$1,'검토 시설개요'!$A:$H,8,FALSE)","v":1472}]
[]
["4. 계획 중인 집합처리시설의 건설비는 얼마입니까? (단위: 백만원)",null,null,null,null,null,null,null,{"$f":"K11","v":426.55946391397697},null,{"$f":"30.184*(0.6*I7)^0.6982","v":426.55946391397697}]
[]
["5. 위 건설비 중 기계 및 전기시설의 비중은 얼마입니까?",null,null,null,null,null,null,null,{"$f":"K13","v":0.5},null,0.5]
["   (나머지는 건축비, 단지조성비 등 구조물 비용입니다)",null,null,null,null,null,null,null," "]
[]
["6. 계획 중인 집합처리시설의 연간 유지관리비는 얼마입니까? (단위: 백만원)",null,null,null,null,null,null,null,{"$f":"K16","v":6.5922351225264686},null,{"$f":"0.1803*(0.6*I7)^0.9488","v":6.5922351225264686}]
[]
["7. 계획 중인 집합처리시설 기계 및 전기시설의 내구연한은 얼마입니까? (단위: 년)",null,null,null,null,null,null,null,{"$f":"K18","v":15},null,15]
[]
["8. 계획 중인 집합처리시설  구조물의 내구연한은 얼마입니까? (단위: 년)",null,null,null,null,null,null,null,{"$f":"K20","v":50},null,50]
[]
["9. 대상지역에 개인하수처리시설(1톤/일)을 설치할 경우 건설비는 얼마입니까? (단위: 백만원)",null,null,null,null,null,null,null,{"$f":"K22","v":4.16},null,4.16]
[]
["10. 개인하수처리시설 건설비 중 기계 및 전기시설의 비중은 얼마입니까?",null,null,null,null,null,null,null,{"$f":"K24","v":0.5},null,0.5]
["   (나머지는 건축비 등 구조물 비용입니다)"]
["11. 개인하수처리시설의 연간 유지관리비는 어느 정도입니까? (단위: 백만원)",null,null,null,null,null,null,null,{"$f":"K26","v":0.64600000000000002},null,0.64600000000000002]
[]
["12. 개인하수처리시설 기계 및 전기시설의 내구연한은 얼마입니까? (단위: 년)",null,null,null,null,null,null,null,{"$f":"K28","v":10},null,10]
[]
["13. 개인하수처리시설 구조물의 내구연한은 얼마입니까? (단위: 년)",null,null,null,null,null,null,null,{"$f":"K30","v":30},null,30]
[]
["14. 집합처리 시 하수관거의 총 건설비는 얼마입니까? (단위: 백만원)",null,null,null,null,null,null,null,{"$f":"K32","v":681.59360000000004},null,{"$f":"229.248+0.3073*I9","v":681.59360000000004}]
[]
["15. 하수관거의 연간 유지관리비는 얼마입니까? (단위: 백만원)",null,null,null,null,null,null,null,{"$f":"K34","v":4.4160000000000004},null,{"$f":"0.003*I9","v":4.4160000000000004}]
[]
["16. 하수관거의 내구연한은 얼마입니까? (단위: 년)",null,null,null,null,null,null,null,{"$f":"K36","v":40},null,40]
[]
["17. 할인율은 얼마입니까? (단위: %)",null,null,null,null,null,null,null,5.5,null,5.5]
[]
["18. 향후 50년간 물가상승률은 어느정도로 예상합니까? (단위: %)",null,null,null,null,null,null,null,{"$f":"K40","v":3},null,3]
[]
[]
[]
[]
[]
["구 분","처리 비용 (현재가치) (단위: 백만원)"]
[null,"개별처리",null,"집합처리"]
[null,"건설비","유지관리비","건설비","유지관리비"]
["처리시설",733.11737060546875,1409.1728515625,751.7581787109375,194.32679748535156]
["관거",null,null,942.75927734375,130.17544555664062]
["합계",2142.290283203125,null,2019.0196533203125]
["총기준관거거리(m)",1712.0677490234375]
["기준관거거리(m)",23.136051177978516]
["경제성 평가","집합처리"]

{"sheet":"월매","index":24,"n_rows":54,"n_cols":11,"rows_kept":54,"cut":false,"hidden":false,"merged":[[19,0,19,6],[0,0,0,6],[1,0,1,6],[2,0,2,6],[4,0,4,6],[6,0,6,6],[8,0,8,6],[10,0,10,6],[12,0,12,6],[13,0,13,6],[15,0,15,6],[17,0,17,6],[41,0,41,2],[21,0,21,6],[23,0,23,6],[24,0,24,6],[25,0,25,6],[27,0,27,6],[29,0,29,6],[31,0,31,6],[33,0,33,6],[35,0,35,6],[37,0,37,6],[39,0,39,6],[51,1,51,4],[52,1,52,4],[53,1,53,4],[45,0,47,0],[45,1,45,4],[46,1,46,2],[46,3,46,4],[50,1,50,2],[50,3,50,4]]}
["경제성 평가 일반 - 집합처리와 개별처리의 비교",null,null,null,null,null,null,null,"월매"]
["개요: 하수처리구역 설정 시 처리구역으로 설정하여 집합처리하는 것과, 처리구역으로 설정하지 않고 개별처리하는 것이 어느 것이 더 경제적인가? "]
["※아래 질문에 대한 답을 오른쪽 노란 칸에 적어 주십시오. 질문에 대한 답을 하실 수 없는 경우에는 파란색 빈칸에 있는 숫자를 노란색 칸에 적어 주십시오"]
[]
["1. 하수처리구역의 목표 BOD를 선택해 주십시오."]
[]
["2. 대상지역의 예상 가구수는 몇 가구입니까?",null,null,null,null,null,null,null,{"$f":"VLOOKUP($I$1,'검토 시설개요'!$A:$H,3,FALSE)","v":101}]
[]
["3. 대상지역에 집합처리시설을 건설할 경우 필요한 하수관거거리는 몇 미터입니까?",null,null,null,null,null,null,null,{"$f":"VLOOKUP($I$1,'검토 시설개요'!$A:$H,8,FALSE)","v":4000}]
[]
["4. 계획 중인 집합처리시설의 건설비는 얼마입니까? (단위: 백만원)",null,null,null,null,null,null,null,{"$f":"K11","v":530.02844610767806},null,{"$f":"30.184*(0.6*I7)^0.6982","v":530.02844610767806}]
[]
["5. 위 건설비 중 기계 및 전기시설의 비중은 얼마입니까?",null,null,null,null,null,null,null,{"$f":"K13","v":0.5},null,0.5]
["   (나머지는 건축비, 단지조성비 등 구조물 비용입니다)",null,null,null,null,null,null,null," "]
[]
["6. 계획 중인 집합처리시설의 연간 유지관리비는 얼마입니까? (단위: 백만원)",null,null,null,null,null,null,null,{"$f":"K16","v":8.8553504395049512},null,{"$f":"0.1803*(0.6*I7)^0.9488","v":8.8553504395049512}]
[]
["7. 계획 중인 집합처리시설 기계 및 전기시설의 내구연한은 얼마입니까? (단위: 년)",null,null,null,null,null,null,null,{"$f":"K18","v":15},null,15]
[]
["8. 계획 중인 집합처리시설  구조물의 내구연한은 얼마입니까? (단위: 년)",null,null,null,null,null,null,null,{"$f":"K20","v":50},null,50]
[]
["9. 대상지역에 개인하수처리시설(1톤/일)을 설치할 경우 건설비는 얼마입니까? (단위: 백만원)",null,null,null,null,null,null,null,{"$f":"K22","v":4.16},null,4.16]
[]
["10. 개인하수처리시설 건설비 중 기계 및 전기시설의 비중은 얼마입니까?",null,null,null,null,null,null,null,{"$f":"K24","v":0.5},null,0.5]
["   (나머지는 건축비 등 구조물 비용입니다)"]
["11. 개인하수처리시설의 연간 유지관리비는 어느 정도입니까? (단위: 백만원)",null,null,null,null,null,null,null,{"$f":"K26","v":0.64600000000000002},null,0.64600000000000002]
[]
["12. 개인하수처리시설 기계 및 전기시설의 내구연한은 얼마입니까? (단위: 년)",null,null,null,null,null,null,null,{"$f":"K28","v":10},null,10]
[]
["13. 개인하수처리시설 구조물의 내구연한은 얼마입니까? (단위: 년)",null,null,null,null,null,null,null,{"$f":"K30","v":30},null,30]
[]
["14. 집합처리 시 하수관거의 총 건설비는 얼마입니까? (단위: 백만원)",null,null,null,null,null,null,null,{"$f":"K32","v":1458.4480000000001},null,{"$f":"229.248+0.3073*I9","v":1458.4480000000001}]
[]
["15. 하수관거의 연간 유지관리비는 얼마입니까? (단위: 백만원)",null,null,null,null,null,null,null,{"$f":"K34","v":12},null,{"$f":"0.003*I9","v":12}]
[]
["16. 하수관거의 내구연한은 얼마입니까? (단위: 년)",null,null,null,null,null,null,null,{"$f":"K36","v":40},null,40]
[]
["17. 할인율은 얼마입니까? (단위: %)",null,null,null,null,null,null,null,5.5,null,5.5]
[]
["18. 향후 50년간 물가상승률은 어느정도로 예상합니까? (단위: %)",null,null,null,null,null,null,null,{"$f":"K40","v":3},null,3]
[]
[]
[]
[]
[]
["구 분","처리 비용 (현재가치) (단위: 백만원)"]
[null,"개별처리",null,"집합처리"]
[null,"건설비","유지관리비","건설비","유지관리비"]
["처리시설",1000.6060791015625,1923.33056640625,934.109375,261.03921508789062]
["관거",null,null,2017.2802734375,353.73764038085937]
["합계",2923.9365234375,null,3566.16650390625]
["총기준관거거리(m)",2749.265869140625]
["기준관거거리(m)",27.220453262329102]
["경제성 평가","개별처리"]

{"sheet":"옥동","index":25,"n_rows":54,"n_cols":11,"rows_kept":54,"cut":false,"hidden":false,"merged":[[19,0,19,6],[0,0,0,6],[1,0,1,6],[2,0,2,6],[4,0,4,6],[6,0,6,6],[8,0,8,6],[10,0,10,6],[12,0,12,6],[13,0,13,6],[15,0,15,6],[17,0,17,6],[41,0,41,2],[21,0,21,6],[23,0,23,6],[24,0,24,6],[25,0,25,6],[27,0,27,6],[29,0,29,6],[31,0,31,6],[33,0,33,6],[35,0,35,6],[37,0,37,6],[39,0,39,6],[51,1,51,4],[52,1,52,4],[53,1,53,4],[45,0,47,0],[45,1,45,4],[46,1,46,2],[46,3,46,4],[50,1,50,2],[50,3,50,4]]}
["경제성 평가 일반 - 집합처리와 개별처리의 비교",null,null,null,null,null,null,null,"옥동"]
["개요: 하수처리구역 설정 시 처리구역으로 설정하여 집합처리하는 것과, 처리구역으로 설정하지 않고 개별처리하는 것이 어느 것이 더 경제적인가? "]
["※아래 질문에 대한 답을 오른쪽 노란 칸에 적어 주십시오. 질문에 대한 답을 하실 수 없는 경우에는 파란색 빈칸에 있는 숫자를 노란색 칸에 적어 주십시오"]
[]
["1. 하수처리구역의 목표 BOD를 선택해 주십시오."]
[]
["2. 대상지역의 예상 가구수는 몇 가구입니까?",null,null,null,null,null,null,null,{"$f":"VLOOKUP($I$1,'검토 시설개요'!$A:$H,3,FALSE)","v":180}]
[]
["3. 대상지역에 집합처리시설을 건설할 경우 필요한 하수관거거리는 몇 미터입니까?",null,null,null,null,null,null,null,{"$f":"VLOOKUP($I$1,'검토 시설개요'!$A:$H,8,FALSE)","v":5816}]
[]
["4. 계획 중인 집합처리시설의 건설비는 얼마입니까? (단위: 백만원)",null,null,null,null,null,null,null,{"$f":"K11","v":793.43847873840389},null,{"$f":"30.184*(0.6*I7)^0.6982","v":793.43847873840389}]
[]
["5. 위 건설비 중 기계 및 전기시설의 비중은 얼마입니까?",null,null,null,null,null,null,null,{"$f":"K13","v":0.5},null,0.5]
["   (나머지는 건축비, 단지조성비 등 구조물 비용입니다)",null,null,null,null,null,null,null," "]
[]
["6. 계획 중인 집합처리시설의 연간 유지관리비는 얼마입니까? (단위: 백만원)",null,null,null,null,null,null,null,{"$f":"K16","v":15.321743441815267},null,{"$f":"0.1803*(0.6*I7)^0.9488","v":15.321743441815267}]
[]
["7. 계획 중인 집합처리시설 기계 및 전기시설의 내구연한은 얼마입니까? (단위: 년)",null,null,null,null,null,null,null,{"$f":"K18","v":15},null,15]
[]
["8. 계획 중인 집합처리시설  구조물의 내구연한은 얼마입니까? (단위: 년)",null,null,null,null,null,null,null,{"$f":"K20","v":50},null,50]
[]
["9. 대상지역에 개인하수처리시설(1톤/일)을 설치할 경우 건설비는 얼마입니까? (단위: 백만원)",null,null,null,null,null,null,null,{"$f":"K22","v":4.16},null,4.16]
[]
["10. 개인하수처리시설 건설비 중 기계 및 전기시설의 비중은 얼마입니까?",null,null,null,null,null,null,null,{"$f":"K24","v":0.5},null,0.5]
["   (나머지는 건축비 등 구조물 비용입니다)"]
["11. 개인하수처리시설의 연간 유지관리비는 어느 정도입니까? (단위: 백만원)",null,null,null,null,null,null,null,{"$f":"K26","v":0.64600000000000002},null,0.64600000000000002]
[]
["12. 개인하수처리시설 기계 및 전기시설의 내구연한은 얼마입니까? (단위: 년)",null,null,null,null,null,null,null,{"$f":"K28","v":10},null,10]
[]
["13. 개인하수처리시설 구조물의 내구연한은 얼마입니까? (단위: 년)",null,null,null,null,null,null,null,{"$f":"K30","v":30},null,30]
[]
["14. 집합처리 시 하수관거의 총 건설비는 얼마입니까? (단위: 백만원)",null,null,null,null,null,null,null,{"$f":"K32","v":2016.5048000000002},null,{"$f":"229.248+0.3073*I9","v":2016.5048000000002}]
[]
["15. 하수관거의 연간 유지관리비는 얼마입니까? (단위: 백만원)",null,null,null,null,null,null,null,{"$f":"K34","v":17.448},null,{"$f":"0.003*I9","v":17.448}]
[]
["16. 하수관거의 내구연한은 얼마입니까? (단위: 년)",null,null,null,null,null,null,null,{"$f":"K36","v":40},null,40]
[]
["17. 할인율은 얼마입니까? (단위: %)",null,null,null,null,null,null,null,5.5,null,5.5]
[]
["18. 향후 50년간 물가상승률은 어느정도로 예상합니까? (단위: %)",null,null,null,null,null,null,null,{"$f":"K40","v":3},null,3]
[]
[]
[]
[]
[]
["구 분","처리 비용 (현재가치) (단위: 백만원)"]
[null,"개별처리",null,"집합처리"]
[null,"건설비","유지관리비","건설비","유지관리비"]
["처리시설",1783.258544921875,3427.7177734375,1398.3369140625,451.65643310546875]
["관거",null,null,2789.167236328125,514.33453369140625]
["합계",5210.9765625,null,5153.4951171875]
["총기준관거거리(m)",5927.94384765625]
["기준관거거리(m)",32.933021545410156]
["경제성 평가","집합처리"]